Workbook

Sheet TCD
A3: Étiquettes de lignes | B3: Date | C3: Critère 1 | D3: Bénéficiaire | E3: Somme de Montant
A4: A | B4: 2000 | C4: 1 | D4: Client 1 | E4: 342
A5: A | B5: 2000 | C5: 1 | D5: Client 2 | E5: 388
A6: A | B6: 2000 | C6: 2 | D6: Client 2 | E6: 247
A7: A | B7: 2001 | C7: 2 | D7: Client 3 | E7: 902
A8: A | B8: 2002 | C8: 2 | D8: Client 1 | E8: 336
A9: A | B9: 2002 | C9: 2 | D9: Client 4 | E9: 457
A10: B | B10: 2000 | C10: 1 | D10: Client 1 | E10: 458
A11: B | B11: 2000 | C11: 1 | D11: Client 3 | E11: 264
A12: B | B12: 2001 | C12: 2 | D12: Client 2 | E12: 109
A13: B | B13: 2001 | C13: 2 | D13: Client 3 | E13: 103
A14: B | B14: 2001 | C14: 2 | D14: Client 4 | E14: 825
A15: B | B15: 2002 | C15: 2 | D15: Client 3 | E15: 235
... A19: C | B19: 2002 | C19: 2 | D19: Client 2 | E19: 123
A20: Total général | E20: 5794

Sheet Données
A1: Lieu | B1: Date | C1: Critère 1 | D1: Bénéficiaire | E1: Montant
A2: A | B2: 2000 | C2: 1 | D2: Client 1 | E2: 45
A3: A | B3: 2000 | C3: 1 | D3: Client 1 | E3: 297
A4: A | B4: 2000 | C4: 1 | D4: Client 2 | E4: 388
A5: A | B5: 2000 | C5: 2 | D5: Client 2 | E5: 247
A6: A | B6: 2001 | C6: 2 | D6: Client 3 | E6: 498
A7: A | B7: 2001 | C7: 2 | D7: Client 3 | E7: 404
A8: A | B8: 2002 | C8: 2 | D8: Client 4 | E8: 457
A9: A | B9: 2002 | C9: 2 | D9: Client 1 | E9: 336
A10: B | B10: 2000 | C10: 1 | D10: Client 1 | E10: 458
A11: B | B11: 2000 | C11: 1 | D11: Client 3 | E11: 264
A12: B | B12: 2001 | C12: 2 | D12: Client 2 | E12: 109
A13: B | B13: 2001 | C13: 2 | D13: Client 4 | E13: 376
... A23: C | B23: 2002 | C23: 2 | D23: Client 2 | E23: 111

Sheet Extraction
A1: Lieu | B1: Date | C1: Critère 1 | D1: Bénéficiaire | E1: Montant
A2: A | B2: 2000 | C2: 1 | D2: {=IFERROR(INDEX(Données!D$2:D$23,MATCH(A2&B2&C2,Données!A$2:A$23&Données!B$2:B$23&Données!C$2:C$23,0)),"")} -> Client 1 | E2: =SUMIFS(Données!$E$2:$E$23,Données!$A$2:$A$23,A2,Données!$B$2:$B$23,B2,Données!$C$2:$C$23,C2) -> 730
A3: A | B3: 2001 | C3: 1 | D3: {=IFERROR(INDEX(Données!D$2:D$23,MATCH(A3&B3&C3,Données!A$2:A$23&Données!B$2:B$23&Données!C$2:C$23,0)),"")} | E3: =SUMIFS(Données!$E$2:$E$23,Données!$A$2:$A$23,A3,Données!$B$2:$B$23,B3,Données!$C$2:$C$23,C3) -> 0
A4: A | B4: 2002 | C4: 1 | D4: {=IFERROR(INDEX(Données!D$2:D$23,MATCH(A4&B4&C4,Données!A$2:A$23&Données!B$2:B$23&Données!C$2:C$23,0)),"")} | E4: =SUMIFS(Données!$E$2:$E$23,Données!$A$2:$A$23,A4,Données!$B$2:$B$23,B4,Données!$C$2:$C$23,C4) -> 0
A5: A | B5: 2000 | C5: 2 | D5: {=IFERROR(INDEX(Données!D$2:D$23,MATCH(A5&B5&C5,Données!A$2:A$23&Données!B$2:B$23&Données!C$2:C$23,0)),"")} -> Client 2 | E5: =SUMIFS(Données!$E$2:$E$23,Données!$A$2:$A$23,A5,Données!$B$2:$B$23,B5,Données!$C$2:$C$23,C5) -> 247
A6: A | B6: 2001 | C6: 2 | D6: {=IFERROR(INDEX(Données!D$2:D$23,MATCH(A6&B6&C6,Données!A$2:A$23&Données!B$2:B$23&Données!C$2:C$23,0)),"")} -> Client 3 | E6: =SUMIFS(Données!$E$2:$E$23,Données!$A$2:$A$23,A6,Données!$B$2:$B$23,B6,Données!$C$2:$C$23,C6) -> 902
A7: A | B7: 2002 | C7: 2 | D7: {=IFERROR(INDEX(Données!D$2:D$23,MATCH(A7&B7&C7,Données!A$2:A$23&Données!B$2:B$23&Données!C$2:C$23,0)),"")} -> Client 4 | E7: =SUMIFS(Données!$E$2:$E$23,Données!$A$2:$A$23,A7,Données!$B$2:$B$23,B7,Données!$C$2:$C$23,C7) -> 793
A8: B | B8: 2000 | C8: 1 | D8: {=IFERROR(INDEX(Données!D$2:D$23,MATCH(A8&B8&C8,Données!A$2:A$23&Données!B$2:B$23&Données!C$2:C$23,0)),"")} -> Client 1 | E8: =SUMIFS(Données!$E$2:$E$23,Données!$A$2:$A$23,A8,Données!$B$2:$B$23,B8,Données!$C$2:$C$23,C8) -> 722
A9: B | B9: 2001 | C9: 1 | D9: {=IFERROR(INDEX(Données!D$2:D$23,MATCH(A9&B9&C9,Données!A$2:A$23&Données!B$2:B$23&Données!C$2:C$23,0)),"")} | E9: =SUMIFS(Données!$E$2:$E$23,Données!$A$2:$A$23,A9,Données!$B$2:$B$23,B9,Données!$C$2:$C$23,C9) -> 0
A10: B | B10: 2002 | C10: 1 | D10: {=IFERROR(INDEX(Données!D$2:D$23,MATCH(A10&B10&C10,Données!A$2:A$23&Données!B$2:B$23&Données!C$2:C$23,0)),"")} | E10: =SUMIFS(Données!$E$2:$E$23,Données!$A$2:$A$23,A10,Données!$B$2:$B$23,B10,Données!$C$2:$C$23,C10) -> 0
A11: B | B11: 2000 | C11: 2 | D11: {=IFERROR(INDEX(Données!D$2:D$23,MATCH(A11&B11&C11,Données!A$2:A$23&Données!B$2:B$23&Données!C$2:C$23,0)),"")} | E11: =SUMIFS(Données!$E$2:$E$23,Données!$A$2:$A$23,A11,Données!$B$2:$B$23,B11,Données!$C$2:$C$23,C11) -> 0
A12: B | B12: 2001 | C12: 2 | D12: {=IFERROR(INDEX(Données!D$2:D$23,MATCH(A12&B12&C12,Données!A$2:A$23&Données!B$2:B$23&Données!C$2:C$23,0)),"")} -> Client 2 | E12: =SUMIFS(Données!$E$2:$E$23,Données!$A$2:$A$23,A12,Données!$B$2:$B$23,B12,Données!$C$2:$C$23,C12) -> 1037
A13: B | B13: 2002 | C13: 2 | D13: {=IFERROR(INDEX(Données!D$2:D$23,MATCH(A13&B13&C13,Données!A$2:A$23&Données!B$2:B$23&Données!C$2:C$23,0)),"")} -> Client 3 | E13: =SUMIFS(Données!$E$2:$E$23,Données!$A$2:$A$23,A13,Données!$B$2:$B$23,B13,Données!$C$2:$C$23,C13) -> 235
... A19: C | B19: 2002 | C19: 2 | D19: {=IFERROR(INDEX(Données!D$2:D$23,MATCH(A19&B19&C19,Données!A$2:A$23&Données!B$2:B$23&Données!C$2:C$23,0)),"")} -> Client 2 | E19: =SUMIFS(Données!$E$2:$E$23,Données!$A$2:$A$23,A19,Données!$B$2:$B$23,B19,Données!$C$2:$C$23,C19) -> 123
