Workbook

Sheet Feuil1
A1: a | B1: 5 | C1: 8 | D1: 9
A2: b | B2: 2 | C2: 2 | D2: 2
A3: a | B3: 2 | C3: 4 | D3: 4
A4: c | B4: 1 | C4: 5 | D4: 5
A5: b | B5: 3 | C5: 6 | D5: 1
A6: e | B6: 4 | C6: 1 | D6: 8
A7: r | B7: 8 | C7: 2 | D7: 1
A8: t | B8: 2 | C8: 3 | D8: 2
A9: c | B9: 3 | C9: 4 | D9: 3
A10: d | B10: 5 | C10: 2 | D10: 4
A11: e | B11: 4 | C11: 3 | D11: 4
A12: b | B12: 2 | C12: 4 | D12: 4
A13: a | B13: 4 | C13: 7 | D13: 7
A41: z

Sheet Feuil2
A1: a | B1: {=IFERROR(INDEX(Feuil1!$B$1:$B$13,SMALL(IF(Feuil1!$A$1:$A$13=$A1,ROW(INDIRECT("1:"&ROWS(Feuil1!$A$1:$A$13)))),COLUMN()-1)),"")} -> 5 | C1: {=IFERROR(INDEX(Feuil1!$B$1:$B$13,SMALL(IF(Feuil1!$A$1:$A$13=$A1,ROW(INDIRECT("1:"&ROWS(Feuil1!$A$1:$A$13)))),COLUMN()-1)),"")} -> 2 | D1: {=IFERROR(INDEX(Feuil1!$B$1:$B$13,SMALL(IF(Feuil1!$A$1:$A$13=$A1,ROW(INDIRECT("1:"&ROWS(Feuil1!$A$1:$A$13)))),COLUMN()-1)),"")} -> 4 | E1: {=IFERROR(INDEX(Feuil1!$B$1:$B$13,SMALL(IF(Feuil1!$A$1:$A$13=$A1,ROW(INDIRECT("1:"&ROWS(Feuil1!$A$1:$A$13)))),COLUMN()-1)),"")} | F1: {=IFERROR(INDEX(Feuil1!$B$1:$B$13,SMALL(IF(Feuil1!$A$1:$A$13=$A1,ROW(INDIRECT("1:"&ROWS(Feuil1!$A$1:$A$13)))),COLUMN()-1)),"")} | G1: {=IFERROR(INDEX(Feuil1!$B$1:$B$13,SMALL(IF(Feuil1!$A$1:$A$13=$A1,ROW(INDIRECT("1:"&ROWS(Feuil1!$A$1:$A$13)))),COLUMN()-1)),"")} | H1: {=IFERROR(INDEX(Feuil1!$B$1:$B$13,SMALL(IF(Feuil1!$A$1:$A$13=$A1,ROW(INDIRECT("1:"&ROWS(Feuil1!$A$1:$A$13)))),COLUMN()-1)),"")}
A2: b | B2: {=IFERROR(INDEX(Feuil1!$B$1:$B$13,SMALL(IF(Feuil1!$A$1:$A$13=$A2,ROW(INDIRECT("1:"&ROWS(Feuil1!$A$1:$A$13)))),COLUMN()-1)),"")} -> 2 | C2: {=IFERROR(INDEX(Feuil1!$B$1:$B$13,SMALL(IF(Feuil1!$A$1:$A$13=$A2,ROW(INDIRECT("1:"&ROWS(Feuil1!$A$1:$A$13)))),COLUMN()-1)),"")} -> 3 | D2: {=IFERROR(INDEX(Feuil1!$B$1:$B$13,SMALL(IF(Feuil1!$A$1:$A$13=$A2,ROW(INDIRECT("1:"&ROWS(Feuil1!$A$1:$A$13)))),COLUMN()-1)),"")} -> 2 | E2: {=IFERROR(INDEX(Feuil1!$B$1:$B$13,SMALL(IF(Feuil1!$A$1:$A$13=$A2,ROW(INDIRECT("1:"&ROWS(Feuil1!$A$1:$A$13)))),COLUMN()-1)),"")} | F2: {=IFERROR(INDEX(Feuil1!$B$1:$B$13,SMALL(IF(Feuil1!$A$1:$A$13=$A2,ROW(INDIRECT("1:"&ROWS(Feuil1!$A$1:$A$13)))),COLUMN()-1)),"")} | G2: {=IFERROR(INDEX(Feuil1!$B$1:$B$13,SMALL(IF(Feuil1!$A$1:$A$13=$A2,ROW(INDIRECT("1:"&ROWS(Feuil1!$A$1:$A$13)))),COLUMN()-1)),"")} | H2: {=IFERROR(INDEX(Feuil1!$B$1:$B$13,SMALL(IF(Feuil1!$A$1:$A$13=$A2,ROW(INDIRECT("1:"&ROWS(Feuil1!$A$1:$A$13)))),COLUMN()-1)),"")}
A3: c | B3: {=IFERROR(INDEX(Feuil1!$B$1:$B$13,SMALL(IF(Feuil1!$A$1:$A$13=$A3,ROW(INDIRECT("1:"&ROWS(Feuil1!$A$1:$A$13)))),COLUMN()-1)),"")} -> 1 | C3: {=IFERROR(INDEX(Feuil1!$B$1:$B$13,SMALL(IF(Feuil1!$A$1:$A$13=$A3,ROW(INDIRECT("1:"&ROWS(Feuil1!$A$1:$A$13)))),COLUMN()-1)),"")} -> 3 | D3: {=IFERROR(INDEX(Feuil1!$B$1:$B$13,SMALL(IF(Feuil1!$A$1:$A$13=$A3,ROW(INDIRECT("1:"&ROWS(Feuil1!$A$1:$A$13)))),COLUMN()-1)),"")} | E3: {=IFERROR(INDEX(Feuil1!$B$1:$B$13,SMALL(IF(Feuil1!$A$1:$A$13=$A3,ROW(INDIRECT("1:"&ROWS(Feuil1!$A$1:$A$13)))),COLUMN()-1)),"")} | F3: {=IFERROR(INDEX(Feuil1!$B$1:$B$13,SMALL(IF(Feuil1!$A$1:$A$13=$A3,ROW(INDIRECT("1:"&ROWS(Feuil1!$A$1:$A$13)))),COLUMN()-1)),"")} | G3: {=IFERROR(INDEX(Feuil1!$B$1:$B$13,SMALL(IF(Feuil1!$A$1:$A$13=$A3,ROW(INDIRECT("1:"&ROWS(Feuil1!$A$1:$A$13)))),COLUMN()-1)),"")} | H3: {=IFERROR(INDEX(Feuil1!$B$1:$B$13,SMALL(IF(Feuil1!$A$1:$A$13=$A3,ROW(INDIRECT("1:"&ROWS(Feuil1!$A$1:$A$13)))),COLUMN()-1)),"")}
A4: d | B4: {=IFERROR(INDEX(Feuil1!$B$1:$B$13,SMALL(IF(Feuil1!$A$1:$A$13=$A4,ROW(INDIRECT("1:"&ROWS(Feuil1!$A$1:$A$13)))),COLUMN()-1)),"")} -> 5 | C4: {=IFERROR(INDEX(Feuil1!$B$1:$B$13,SMALL(IF(Feuil1!$A$1:$A$13=$A4,ROW(INDIRECT("1:"&ROWS(Feuil1!$A$1:$A$13)))),COLUMN()-1)),"")} | D4: {=IFERROR(INDEX(Feuil1!$B$1:$B$13,SMALL(IF(Feuil1!$A$1:$A$13=$A4,ROW(INDIRECT("1:"&ROWS(Feuil1!$A$1:$A$13)))),COLUMN()-1)),"")} | E4: {=IFERROR(INDEX(Feuil1!$B$1:$B$13,SMALL(IF(Feuil1!$A$1:$A$13=$A4,ROW(INDIRECT("1:"&ROWS(Feuil1!$A$1:$A$13)))),COLUMN()-1)),"")} | F4: {=IFERROR(INDEX(Feuil1!$B$1:$B$13,SMALL(IF(Feuil1!$A$1:$A$13=$A4,ROW(INDIRECT("1:"&ROWS(Feuil1!$A$1:$A$13)))),COLUMN()-1)),"")} | G4: {=IFERROR(INDEX(Feuil1!$B$1:$B$13,SMALL(IF(Feuil1!$A$1:$A$13=$A4,ROW(INDIRECT("1:"&ROWS(Feuil1!$A$1:$A$13)))),COLUMN()-1)),"")} | H4: {=IFERROR(INDEX(Feuil1!$B$1:$B$13,SMALL(IF(Feuil1!$A$1:$A$13=$A4,ROW(INDIRECT("1:"&ROWS(Feuil1!$A$1:$A$13)))),COLUMN()-1)),"")}
A5: e | B5: {=IFERROR(INDEX(Feuil1!$B$1:$B$13,SMALL(IF(Feuil1!$A$1:$A$13=$A5,ROW(INDIRECT("1:"&ROWS(Feuil1!$A$1:$A$13)))),COLUMN()-1)),"")} -> 4 | C5: {=IFERROR(INDEX(Feuil1!$B$1:$B$13,SMALL(IF(Feuil1!$A$1:$A$13=$A5,ROW(INDIRECT("1:"&ROWS(Feuil1!$A$1:$A$13)))),COLUMN()-1)),"")} -> 4 | D5: {=IFERROR(INDEX(Feuil1!$B$1:$B$13,SMALL(IF(Feuil1!$A$1:$A$13=$A5,ROW(INDIRECT("1:"&ROWS(Feuil1!$A$1:$A$13)))),COLUMN()-1)),"")} | E5: {=IFERROR(INDEX(Feuil1!$B$1:$B$13,SMALL(IF(Feuil1!$A$1:$A$13=$A5,ROW(INDIRECT("1:"&ROWS(Feuil1!$A$1:$A$13)))),COLUMN()-1)),"")} | F5: {=IFERROR(INDEX(Feuil1!$B$1:$B$13,SMALL(IF(Feuil1!$A$1:$A$13=$A5,ROW(INDIRECT("1:"&ROWS(Feuil1!$A$1:$A$13)))),COLUMN()-1)),"")} | G5: {=IFERROR(INDEX(Feuil1!$B$1:$B$13,SMALL(IF(Feuil1!$A$1:$A$13=$A5,ROW(INDIRECT("1:"&ROWS(Feuil1!$A$1:$A$13)))),COLUMN()-1)),"")} | H5: {=IFERROR(INDEX(Feuil1!$B$1:$B$13,SMALL(IF(Feuil1!$A$1:$A$13=$A5,ROW(INDIRECT("1:"&ROWS(Feuil1!$A$1:$A$13)))),COLUMN()-1)),"")}
A6: f | B6: {=IFERROR(INDEX(Feuil1!$B$1:$B$13,SMALL(IF(Feuil1!$A$1:$A$13=$A6,ROW(INDIRECT("1:"&ROWS(Feuil1!$A$1:$A$13)))),COLUMN()-1)),"")} | C6: {=IFERROR(INDEX(Feuil1!$B$1:$B$13,SMALL(IF(Feuil1!$A$1:$A$13=$A6,ROW(INDIRECT("1:"&ROWS(Feuil1!$A$1:$A$13)))),COLUMN()-1)),"")} | D6: {=IFERROR(INDEX(Feuil1!$B$1:$B$13,SMALL(IF(Feuil1!$A$1:$A$13=$A6,ROW(INDIRECT("1:"&ROWS(Feuil1!$A$1:$A$13)))),COLUMN()-1)),"")} | E6: {=IFERROR(INDEX(Feuil1!$B$1:$B$13,SMALL(IF(Feuil1!$A$1:$A$13=$A6,ROW(INDIRECT("1:"&ROWS(Feuil1!$A$1:$A$13)))),COLUMN()-1)),"")} | F6: {=IFERROR(INDEX(Feuil1!$B$1:$B$13,SMALL(IF(Feuil1!$A$1:$A$13=$A6,ROW(INDIRECT("1:"&ROWS(Feuil1!$A$1:$A$13)))),COLUMN()-1)),"")} | G6: {=IFERROR(INDEX(Feuil1!$B$1:$B$13,SMALL(IF(Feuil1!$A$1:$A$13=$A6,ROW(INDIRECT("1:"&ROWS(Feuil1!$A$1:$A$13)))),COLUMN()-1)),"")} | H6: {=IFERROR(INDEX(Feuil1!$B$1:$B$13,SMALL(IF(Feuil1!$A$1:$A$13=$A6,ROW(INDIRECT("1:"&ROWS(Feuil1!$A$1:$A$13)))),COLUMN()-1)),"")}
A7: g | B7: {=IFERROR(INDEX(Feuil1!$B$1:$B$13,SMALL(IF(Feuil1!$A$1:$A$13=$A7,ROW(INDIRECT("1:"&ROWS(Feuil1!$A$1:$A$13)))),COLUMN()-1)),"")} | C7: {=IFERROR(INDEX(Feuil1!$B$1:$B$13,SMALL(IF(Feuil1!$A$1:$A$13=$A7,ROW(INDIRECT("1:"&ROWS(Feuil1!$A$1:$A$13)))),COLUMN()-1)),"")} | D7: {=IFERROR(INDEX(Feuil1!$B$1:$B$13,SMALL(IF(Feuil1!$A$1:$A$13=$A7,ROW(INDIRECT("1:"&ROWS(Feuil1!$A$1:$A$13)))),COLUMN()-1)),"")} | E7: {=IFERROR(INDEX(Feuil1!$B$1:$B$13,SMALL(IF(Feuil1!$A$1:$A$13=$A7,ROW(INDIRECT("1:"&ROWS(Feuil1!$A$1:$A$13)))),COLUMN()-1)),"")} | F7: {=IFERROR(INDEX(Feuil1!$B$1:$B$13,SMALL(IF(Feuil1!$A$1:$A$13=$A7,ROW(INDIRECT("1:"&ROWS(Feuil1!$A$1:$A$13)))),COLUMN()-1)),"")} | G7: {=IFERROR(INDEX(Feuil1!$B$1:$B$13,SMALL(IF(Feuil1!$A$1:$A$13=$A7,ROW(INDIRECT("1:"&ROWS(Feuil1!$A$1:$A$13)))),COLUMN()-1)),"")} | H7: {=IFERROR(INDEX(Feuil1!$B$1:$B$13,SMALL(IF(Feuil1!$A$1:$A$13=$A7,ROW(INDIRECT("1:"&ROWS(Feuil1!$A$1:$A$13)))),COLUMN()-1)),"")}
A8: h | B8: {=IFERROR(INDEX(Feuil1!$B$1:$B$13,SMALL(IF(Feuil1!$A$1:$A$13=$A8,ROW(INDIRECT("1:"&ROWS(Feuil1!$A$1:$A$13)))),COLUMN()-1)),"")} | C8: {=IFERROR(INDEX(Feuil1!$B$1:$B$13,SMALL(IF(Feuil1!$A$1:$A$13=$A8,ROW(INDIRECT("1:"&ROWS(Feuil1!$A$1:$A$13)))),COLUMN()-1)),"")} | D8: {=IFERROR(INDEX(Feuil1!$B$1:$B$13,SMALL(IF(Feuil1!$A$1:$A$13=$A8,ROW(INDIRECT("1:"&ROWS(Feuil1!$A$1:$A$13)))),COLUMN()-1)),"")} | E8: {=IFERROR(INDEX(Feuil1!$B$1:$B$13,SMALL(IF(Feuil1!$A$1:$A$13=$A8,ROW(INDIRECT("1:"&ROWS(Feuil1!$A$1:$A$13)))),COLUMN()-1)),"")} | F8: {=IFERROR(INDEX(Feuil1!$B$1:$B$13,SMALL(IF(Feuil1!$A$1:$A$13=$A8,ROW(INDIRECT("1:"&ROWS(Feuil1!$A$1:$A$13)))),COLUMN()-1)),"")} | G8: {=IFERROR(INDEX(Feuil1!$B$1:$B$13,SMALL(IF(Feuil1!$A$1:$A$13=$A8,ROW(INDIRECT("1:"&ROWS(Feuil1!$A$1:$A$13)))),COLUMN()-1)),"")} | H8: {=IFERROR(INDEX(Feuil1!$B$1:$B$13,SMALL(IF(Feuil1!$A$1:$A$13=$A8,ROW(INDIRECT("1:"&ROWS(Feuil1!$A$1:$A$13)))),COLUMN()-1)),"")}
A9: i | B9: {=IFERROR(INDEX(Feuil1!$B$1:$B$13,SMALL(IF(Feuil1!$A$1:$A$13=$A9,ROW(INDIRECT("1:"&ROWS(Feuil1!$A$1:$A$13)))),COLUMN()-1)),"")} | C9: {=IFERROR(INDEX(Feuil1!$B$1:$B$13,SMALL(IF(Feuil1!$A$1:$A$13=$A9,ROW(INDIRECT("1:"&ROWS(Feuil1!$A$1:$A$13)))),COLUMN()-1)),"")} | D9: {=IFERROR(INDEX(Feuil1!$B$1:$B$13,SMALL(IF(Feuil1!$A$1:$A$13=$A9,ROW(INDIRECT("1:"&ROWS(Feuil1!$A$1:$A$13)))),COLUMN()-1)),"")} | E9: {=IFERROR(INDEX(Feuil1!$B$1:$B$13,SMALL(IF(Feuil1!$A$1:$A$13=$A9,ROW(INDIRECT("1:"&ROWS(Feuil1!$A$1:$A$13)))),COLUMN()-1)),"")} | F9: {=IFERROR(INDEX(Feuil1!$B$1:$B$13,SMALL(IF(Feuil1!$A$1:$A$13=$A9,ROW(INDIRECT("1:"&ROWS(Feuil1!$A$1:$A$13)))),COLUMN()-1)),"")} | G9: {=IFERROR(INDEX(Feuil1!$B$1:$B$13,SMALL(IF(Feuil1!$A$1:$A$13=$A9,ROW(INDIRECT("1:"&ROWS(Feuil1!$A$1:$A$13)))),COLUMN()-1)),"")} | H9: {=IFERROR(INDEX(Feuil1!$B$1:$B$13,SMALL(IF(Feuil1!$A$1:$A$13=$A9,ROW(INDIRECT("1:"&ROWS(Feuil1!$A$1:$A$13)))),COLUMN()-1)),"")}
A10: j | B10: {=IFERROR(INDEX(Feuil1!$B$1:$B$13,SMALL(IF(Feuil1!$A$1:$A$13=$A10,ROW(INDIRECT("1:"&ROWS(Feuil1!$A$1:$A$13)))),COLUMN()-1)),"")} | C10: {=IFERROR(INDEX(Feuil1!$B$1:$B$13,SMALL(IF(Feuil1!$A$1:$A$13=$A10,ROW(INDIRECT("1:"&ROWS(Feuil1!$A$1:$A$13)))),COLUMN()-1)),"")} | D10: {=IFERROR(INDEX(Feuil1!$B$1:$B$13,SMALL(IF(Feuil1!$A$1:$A$13=$A10,ROW(INDIRECT("1:"&ROWS(Feuil1!$A$1:$A$13)))),COLUMN()-1)),"")} | E10: {=IFERROR(INDEX(Feuil1!$B$1:$B$13,SMALL(IF(Feuil1!$A$1:$A$13=$A10,ROW(INDIRECT("1:"&ROWS(Feuil1!$A$1:$A$13)))),COLUMN()-1)),"")} | F10: {=IFERROR(INDEX(Feuil1!$B$1:$B$13,SMALL(IF(Feuil1!$A$1:$A$13=$A10,ROW(INDIRECT("1:"&ROWS(Feuil1!$A$1:$A$13)))),COLUMN()-1)),"")} | G10: {=IFERROR(INDEX(Feuil1!$B$1:$B$13,SMALL(IF(Feuil1!$A$1:$A$13=$A10,ROW(INDIRECT("1:"&ROWS(Feuil1!$A$1:$A$13)))),COLUMN()-1)),"")} | H10: {=IFERROR(INDEX(Feuil1!$B$1:$B$13,SMALL(IF(Feuil1!$A$1:$A$13=$A10,ROW(INDIRECT("1:"&ROWS(Feuil1!$A$1:$A$13)))),COLUMN()-1)),"")}
A11: k | B11: {=IFERROR(INDEX(Feuil1!$B$1:$B$13,SMALL(IF(Feuil1!$A$1:$A$13=$A11,ROW(INDIRECT("1:"&ROWS(Feuil1!$A$1:$A$13)))),COLUMN()-1)),"")} | C11: {=IFERROR(INDEX(Feuil1!$B$1:$B$13,SMALL(IF(Feuil1!$A$1:$A$13=$A11,ROW(INDIRECT("1:"&ROWS(Feuil1!$A$1:$A$13)))),COLUMN()-1)),"")} | D11: {=IFERROR(INDEX(Feuil1!$B$1:$B$13,SMALL(IF(Feuil1!$A$1:$A$13=$A11,ROW(INDIRECT("1:"&ROWS(Feuil1!$A$1:$A$13)))),COLUMN()-1)),"")} | E11: {=IFERROR(INDEX(Feuil1!$B$1:$B$13,SMALL(IF(Feuil1!$A$1:$A$13=$A11,ROW(INDIRECT("1:"&ROWS(Feuil1!$A$1:$A$13)))),COLUMN()-1)),"")} | F11: {=IFERROR(INDEX(Feuil1!$B$1:$B$13,SMALL(IF(Feuil1!$A$1:$A$13=$A11,ROW(INDIRECT("1:"&ROWS(Feuil1!$A$1:$A$13)))),COLUMN()-1)),"")} | G11: {=IFERROR(INDEX(Feuil1!$B$1:$B$13,SMALL(IF(Feuil1!$A$1:$A$13=$A11,ROW(INDIRECT("1:"&ROWS(Feuil1!$A$1:$A$13)))),COLUMN()-1)),"")} | H11: {=IFERROR(INDEX(Feuil1!$B$1:$B$13,SMALL(IF(Feuil1!$A$1:$A$13=$A11,ROW(INDIRECT("1:"&ROWS(Feuil1!$A$1:$A$13)))),COLUMN()-1)),"")}
A12: l | B12: {=IFERROR(INDEX(Feuil1!$B$1:$B$13,SMALL(IF(Feuil1!$A$1:$A$13=$A12,ROW(INDIRECT("1:"&ROWS(Feuil1!$A$1:$A$13)))),COLUMN()-1)),"")} | C12: {=IFERROR(INDEX(Feuil1!$B$1:$B$13,SMALL(IF(Feuil1!$A$1:$A$13=$A12,ROW(INDIRECT("1:"&ROWS(Feuil1!$A$1:$A$13)))),COLUMN()-1)),"")} | D12: {=IFERROR(INDEX(Feuil1!$B$1:$B$13,SMALL(IF(Feuil1!$A$1:$A$13=$A12,ROW(INDIRECT("1:"&ROWS(Feuil1!$A$1:$A$13)))),COLUMN()-1)),"")} | E12: {=IFERROR(INDEX(Feuil1!$B$1:$B$13,SMALL(IF(Feuil1!$A$1:$A$13=$A12,ROW(INDIRECT("1:"&ROWS(Feuil1!$A$1:$A$13)))),COLUMN()-1)),"")} | F12: {=IFERROR(INDEX(Feuil1!$B$1:$B$13,SMALL(IF(Feuil1!$A$1:$A$13=$A12,ROW(INDIRECT("1:"&ROWS(Feuil1!$A$1:$A$13)))),COLUMN()-1)),"")} | G12: {=IFERROR(INDEX(Feuil1!$B$1:$B$13,SMALL(IF(Feuil1!$A$1:$A$13=$A12,ROW(INDIRECT("1:"&ROWS(Feuil1!$A$1:$A$13)))),COLUMN()-1)),"")} | H12: {=IFERROR(INDEX(Feuil1!$B$1:$B$13,SMALL(IF(Feuil1!$A$1:$A$13=$A12,ROW(INDIRECT("1:"&ROWS(Feuil1!$A$1:$A$13)))),COLUMN()-1)),"")}
... A26: z | B26: {=IFERROR(INDEX(Feuil1!$B$1:$B$13,SMALL(IF(Feuil1!$A$1:$A$13=$A26,ROW(INDIRECT("1:"&ROWS(Feuil1!$A$1:$A$13)))),COLUMN()-1)),"")} | C26: {=IFERROR(INDEX(Feuil1!$B$1:$B$13,SMALL(IF(Feuil1!$A$1:$A$13=$A26,ROW(INDIRECT("1:"&ROWS(Feuil1!$A$1:$A$13)))),COLUMN()-1)),"")} | D26: {=IFERROR(INDEX(Feuil1!$B$1:$B$13,SMALL(IF(Feuil1!$A$1:$A$13=$A26,ROW(INDIRECT("1:"&ROWS(Feuil1!$A$1:$A$13)))),COLUMN()-1)),"")} | E26: {=IFERROR(INDEX(Feuil1!$B$1:$B$13,SMALL(IF(Feuil1!$A$1:$A$13=$A26,ROW(INDIRECT("1:"&ROWS(Feuil1!$A$1:$A$13)))),COLUMN()-1)),"")} | F26: {=IFERROR(INDEX(Feuil1!$B$1:$B$13,SMALL(IF(Feuil1!$A$1:$A$13=$A26,ROW(INDIRECT("1:"&ROWS(Feuil1!$A$1:$A$13)))),COLUMN()-1)),"")} | G26: {=IFERROR(INDEX(Feuil1!$B$1:$B$13,SMALL(IF(Feuil1!$A$1:$A$13=$A26,ROW(INDIRECT("1:"&ROWS(Feuil1!$A$1:$A$13)))),COLUMN()-1)),"")} | H26: {=IFERROR(INDEX(Feuil1!$B$1:$B$13,SMALL(IF(Feuil1!$A$1:$A$13=$A26,ROW(INDIRECT("1:"&ROWS(Feuil1!$A$1:$A$13)))),COLUMN()-1)),"")}

Sheet Feuil3
A1: a | B1: {=IFERROR(INDEX(Feuil1!$C$1:$C$13,SMALL(IF(Feuil1!$A$1:$A$13=$A1,ROW(INDIRECT("1:"&ROWS(Feuil1!$A$1:$A$13)))),COLUMN()-1)),"")} -> 8 | C1: {=IFERROR(INDEX(Feuil1!$C$1:$C$13,SMALL(IF(Feuil1!$A$1:$A$13=$A1,ROW(INDIRECT("1:"&ROWS(Feuil1!$A$1:$A$13)))),COLUMN()-1)),"")} -> 4 | D1: {=IFERROR(INDEX(Feuil1!$C$1:$C$13,SMALL(IF(Feuil1!$A$1:$A$13=$A1,ROW(INDIRECT("1:"&ROWS(Feuil1!$A$1:$A$13)))),COLUMN()-1)),"")} -> 7 | E1: {=IFERROR(INDEX(Feuil1!$C$1:$C$13,SMALL(IF(Feuil1!$A$1:$A$13=$A1,ROW(INDIRECT("1:"&ROWS(Feuil1!$A$1:$A$13)))),COLUMN()-1)),"")} | F1: {=IFERROR(INDEX(Feuil1!$C$1:$C$13,SMALL(IF(Feuil1!$A$1:$A$13=$A1,ROW(INDIRECT("1:"&ROWS(Feuil1!$A$1:$A$13)))),COLUMN()-1)),"")} | G1: {=IFERROR(INDEX(Feuil1!$C$1:$C$13,SMALL(IF(Feuil1!$A$1:$A$13=$A1,ROW(INDIRECT("1:"&ROWS(Feuil1!$A$1:$A$13)))),COLUMN()-1)),"")} | H1: {=IFERROR(INDEX(Feuil1!$C$1:$C$13,SMALL(IF(Feuil1!$A$1:$A$13=$A1,ROW(INDIRECT("1:"&ROWS(Feuil1!$A$1:$A$13)))),COLUMN()-1)),"")}
A2: b | B2: {=IFERROR(INDEX(Feuil1!$C$1:$C$13,SMALL(IF(Feuil1!$A$1:$A$13=$A2,ROW(INDIRECT("1:"&ROWS(Feuil1!$A$1:$A$13)))),COLUMN()-1)),"")} -> 2 | C2: {=IFERROR(INDEX(Feuil1!$C$1:$C$13,SMALL(IF(Feuil1!$A$1:$A$13=$A2,ROW(INDIRECT("1:"&ROWS(Feuil1!$A$1:$A$13)))),COLUMN()-1)),"")} -> 6 | D2: {=IFERROR(INDEX(Feuil1!$C$1:$C$13,SMALL(IF(Feuil1!$A$1:$A$13=$A2,ROW(INDIRECT("1:"&ROWS(Feuil1!$A$1:$A$13)))),COLUMN()-1)),"")} -> 4 | E2: {=IFERROR(INDEX(Feuil1!$C$1:$C$13,SMALL(IF(Feuil1!$A$1:$A$13=$A2,ROW(INDIRECT("1:"&ROWS(Feuil1!$A$1:$A$13)))),COLUMN()-1)),"")} | F2: {=IFERROR(INDEX(Feuil1!$C$1:$C$13,SMALL(IF(Feuil1!$A$1:$A$13=$A2,ROW(INDIRECT("1:"&ROWS(Feuil1!$A$1:$A$13)))),COLUMN()-1)),"")} | G2: {=IFERROR(INDEX(Feuil1!$C$1:$C$13,SMALL(IF(Feuil1!$A$1:$A$13=$A2,ROW(INDIRECT("1:"&ROWS(Feuil1!$A$1:$A$13)))),COLUMN()-1)),"")} | H2: {=IFERROR(INDEX(Feuil1!$C$1:$C$13,SMALL(IF(Feuil1!$A$1:$A$13=$A2,ROW(INDIRECT("1:"&ROWS(Feuil1!$A$1:$A$13)))),COLUMN()-1)),"")}
A3: c | B3: {=IFERROR(INDEX(Feuil1!$C$1:$C$13,SMALL(IF(Feuil1!$A$1:$A$13=$A3,ROW(INDIRECT("1:"&ROWS(Feuil1!$A$1:$A$13)))),COLUMN()-1)),"")} -> 5 | C3: {=IFERROR(INDEX(Feuil1!$C$1:$C$13,SMALL(IF(Feuil1!$A$1:$A$13=$A3,ROW(INDIRECT("1:"&ROWS(Feuil1!$A$1:$A$13)))),COLUMN()-1)),"")} -> 4 | D3: {=IFERROR(INDEX(Feuil1!$C$1:$C$13,SMALL(IF(Feuil1!$A$1:$A$13=$A3,ROW(INDIRECT("1:"&ROWS(Feuil1!$A$1:$A$13)))),COLUMN()-1)),"")} | E3: {=IFERROR(INDEX(Feuil1!$C$1:$C$13,SMALL(IF(Feuil1!$A$1:$A$13=$A3,ROW(INDIRECT("1:"&ROWS(Feuil1!$A$1:$A$13)))),COLUMN()-1)),"")} | F3: {=IFERROR(INDEX(Feuil1!$C$1:$C$13,SMALL(IF(Feuil1!$A$1:$A$13=$A3,ROW(INDIRECT("1:"&ROWS(Feuil1!$A$1:$A$13)))),COLUMN()-1)),"")} | G3: {=IFERROR(INDEX(Feuil1!$C$1:$C$13,SMALL(IF(Feuil1!$A$1:$A$13=$A3,ROW(INDIRECT("1:"&ROWS(Feuil1!$A$1:$A$13)))),COLUMN()-1)),"")} | H3: {=IFERROR(INDEX(Feuil1!$C$1:$C$13,SMALL(IF(Feuil1!$A$1:$A$13=$A3,ROW(INDIRECT("1:"&ROWS(Feuil1!$A$1:$A$13)))),COLUMN()-1)),"")}
A4: d | B4: {=IFERROR(INDEX(Feuil1!$C$1:$C$13,SMALL(IF(Feuil1!$A$1:$A$13=$A4,ROW(INDIRECT("1:"&ROWS(Feuil1!$A$1:$A$13)))),COLUMN()-1)),"")} -> 2 | C4: {=IFERROR(INDEX(Feuil1!$C$1:$C$13,SMALL(IF(Feuil1!$A$1:$A$13=$A4,ROW(INDIRECT("1:"&ROWS(Feuil1!$A$1:$A$13)))),COLUMN()-1)),"")} | D4: {=IFERROR(INDEX(Feuil1!$C$1:$C$13,SMALL(IF(Feuil1!$A$1:$A$13=$A4,ROW(INDIRECT("1:"&ROWS(Feuil1!$A$1:$A$13)))),COLUMN()-1)),"")} | E4: {=IFERROR(INDEX(Feuil1!$C$1:$C$13,SMALL(IF(Feuil1!$A$1:$A$13=$A4,ROW(INDIRECT("1:"&ROWS(Feuil1!$A$1:$A$13)))),COLUMN()-1)),"")} | F4: {=IFERROR(INDEX(Feuil1!$C$1:$C$13,SMALL(IF(Feuil1!$A$1:$A$13=$A4,ROW(INDIRECT("1:"&ROWS(Feuil1!$A$1:$A$13)))),COLUMN()-1)),"")} | G4: {=IFERROR(INDEX(Feuil1!$C$1:$C$13,SMALL(IF(Feuil1!$A$1:$A$13=$A4,ROW(INDIRECT("1:"&ROWS(Feuil1!$A$1:$A$13)))),COLUMN()-1)),"")} | H4: {=IFERROR(INDEX(Feuil1!$C$1:$C$13,SMALL(IF(Feuil1!$A$1:$A$13=$A4,ROW(INDIRECT("1:"&ROWS(Feuil1!$A$1:$A$13)))),COLUMN()-1)),"")}
A5: e | B5: {=IFERROR(INDEX(Feuil1!$C$1:$C$13,SMALL(IF(Feuil1!$A$1:$A$13=$A5,ROW(INDIRECT("1:"&ROWS(Feuil1!$A$1:$A$13)))),COLUMN()-1)),"")} -> 1 | C5: {=IFERROR(INDEX(Feuil1!$C$1:$C$13,SMALL(IF(Feuil1!$A$1:$A$13=$A5,ROW(INDIRECT("1:"&ROWS(Feuil1!$A$1:$A$13)))),COLUMN()-1)),"")} -> 3 | D5: {=IFERROR(INDEX(Feuil1!$C$1:$C$13,SMALL(IF(Feuil1!$A$1:$A$13=$A5,ROW(INDIRECT("1:"&ROWS(Feuil1!$A$1:$A$13)))),COLUMN()-1)),"")} | E5: {=IFERROR(INDEX(Feuil1!$C$1:$C$13,SMALL(IF(Feuil1!$A$1:$A$13=$A5,ROW(INDIRECT("1:"&ROWS(Feuil1!$A$1:$A$13)))),COLUMN()-1)),"")} | F5: {=IFERROR(INDEX(Feuil1!$C$1:$C$13,SMALL(IF(Feuil1!$A$1:$A$13=$A5,ROW(INDIRECT("1:"&ROWS(Feuil1!$A$1:$A$13)))),COLUMN()-1)),"")} | G5: {=IFERROR(INDEX(Feuil1!$C$1:$C$13,SMALL(IF(Feuil1!$A$1:$A$13=$A5,ROW(INDIRECT("1:"&ROWS(Feuil1!$A$1:$A$13)))),COLUMN()-1)),"")} | H5: {=IFERROR(INDEX(Feuil1!$C$1:$C$13,SMALL(IF(Feuil1!$A$1:$A$13=$A5,ROW(INDIRECT("1:"&ROWS(Feuil1!$A$1:$A$13)))),COLUMN()-1)),"")}
A6: f | B6: {=IFERROR(INDEX(Feuil1!$C$1:$C$13,SMALL(IF(Feuil1!$A$1:$A$13=$A6,ROW(INDIRECT("1:"&ROWS(Feuil1!$A$1:$A$13)))),COLUMN()-1)),"")} | C6: {=IFERROR(INDEX(Feuil1!$C$1:$C$13,SMALL(IF(Feuil1!$A$1:$A$13=$A6,ROW(INDIRECT("1:"&ROWS(Feuil1!$A$1:$A$13)))),COLUMN()-1)),"")} | D6: {=IFERROR(INDEX(Feuil1!$C$1:$C$13,SMALL(IF(Feuil1!$A$1:$A$13=$A6,ROW(INDIRECT("1:"&ROWS(Feuil1!$A$1:$A$13)))),COLUMN()-1)),"")} | E6: {=IFERROR(INDEX(Feuil1!$C$1:$C$13,SMALL(IF(Feuil1!$A$1:$A$13=$A6,ROW(INDIRECT("1:"&ROWS(Feuil1!$A$1:$A$13)))),COLUMN()-1)),"")} | F6: {=IFERROR(INDEX(Feuil1!$C$1:$C$13,SMALL(IF(Feuil1!$A$1:$A$13=$A6,ROW(INDIRECT("1:"&ROWS(Feuil1!$A$1:$A$13)))),COLUMN()-1)),"")} | G6: {=IFERROR(INDEX(Feuil1!$C$1:$C$13,SMALL(IF(Feuil1!$A$1:$A$13=$A6,ROW(INDIRECT("1:"&ROWS(Feuil1!$A$1:$A$13)))),COLUMN()-1)),"")} | H6: {=IFERROR(INDEX(Feuil1!$C$1:$C$13,SMALL(IF(Feuil1!$A$1:$A$13=$A6,ROW(INDIRECT("1:"&ROWS(Feuil1!$A$1:$A$13)))),COLUMN()-1)),"")}
A7: g | B7: {=IFERROR(INDEX(Feuil1!$C$1:$C$13,SMALL(IF(Feuil1!$A$1:$A$13=$A7,ROW(INDIRECT("1:"&ROWS(Feuil1!$A$1:$A$13)))),COLUMN()-1)),"")} | C7: {=IFERROR(INDEX(Feuil1!$C$1:$C$13,SMALL(IF(Feuil1!$A$1:$A$13=$A7,ROW(INDIRECT("1:"&ROWS(Feuil1!$A$1:$A$13)))),COLUMN()-1)),"")} | D7: {=IFERROR(INDEX(Feuil1!$C$1:$C$13,SMALL(IF(Feuil1!$A$1:$A$13=$A7,ROW(INDIRECT("1:"&ROWS(Feuil1!$A$1:$A$13)))),COLUMN()-1)),"")} | E7: {=IFERROR(INDEX(Feuil1!$C$1:$C$13,SMALL(IF(Feuil1!$A$1:$A$13=$A7,ROW(INDIRECT("1:"&ROWS(Feuil1!$A$1:$A$13)))),COLUMN()-1)),"")} | F7: {=IFERROR(INDEX(Feuil1!$C$1:$C$13,SMALL(IF(Feuil1!$A$1:$A$13=$A7,ROW(INDIRECT("1:"&ROWS(Feuil1!$A$1:$A$13)))),COLUMN()-1)),"")} | G7: {=IFERROR(INDEX(Feuil1!$C$1:$C$13,SMALL(IF(Feuil1!$A$1:$A$13=$A7,ROW(INDIRECT("1:"&ROWS(Feuil1!$A$1:$A$13)))),COLUMN()-1)),"")} | H7: {=IFERROR(INDEX(Feuil1!$C$1:$C$13,SMALL(IF(Feuil1!$A$1:$A$13=$A7,ROW(INDIRECT("1:"&ROWS(Feuil1!$A$1:$A$13)))),COLUMN()-1)),"")}
A8: h | B8: {=IFERROR(INDEX(Feuil1!$C$1:$C$13,SMALL(IF(Feuil1!$A$1:$A$13=$A8,ROW(INDIRECT("1:"&ROWS(Feuil1!$A$1:$A$13)))),COLUMN()-1)),"")} | C8: {=IFERROR(INDEX(Feuil1!$C$1:$C$13,SMALL(IF(Feuil1!$A$1:$A$13=$A8,ROW(INDIRECT("1:"&ROWS(Feuil1!$A$1:$A$13)))),COLUMN()-1)),"")} | D8: {=IFERROR(INDEX(Feuil1!$C$1:$C$13,SMALL(IF(Feuil1!$A$1:$A$13=$A8,ROW(INDIRECT("1:"&ROWS(Feuil1!$A$1:$A$13)))),COLUMN()-1)),"")} | E8: {=IFERROR(INDEX(Feuil1!$C$1:$C$13,SMALL(IF(Feuil1!$A$1:$A$13=$A8,ROW(INDIRECT("1:"&ROWS(Feuil1!$A$1:$A$13)))),COLUMN()-1)),"")} | F8: {=IFERROR(INDEX(Feuil1!$C$1:$C$13,SMALL(IF(Feuil1!$A$1:$A$13=$A8,ROW(INDIRECT("1:"&ROWS(Feuil1!$A$1:$A$13)))),COLUMN()-1)),"")} | G8: {=IFERROR(INDEX(Feuil1!$C$1:$C$13,SMALL(IF(Feuil1!$A$1:$A$13=$A8,ROW(INDIRECT("1:"&ROWS(Feuil1!$A$1:$A$13)))),COLUMN()-1)),"")} | H8: {=IFERROR(INDEX(Feuil1!$C$1:$C$13,SMALL(IF(Feuil1!$A$1:$A$13=$A8,ROW(INDIRECT("1:"&ROWS(Feuil1!$A$1:$A$13)))),COLUMN()-1)),"")}
A9: i | B9: {=IFERROR(INDEX(Feuil1!$C$1:$C$13,SMALL(IF(Feuil1!$A$1:$A$13=$A9,ROW(INDIRECT("1:"&ROWS(Feuil1!$A$1:$A$13)))),COLUMN()-1)),"")} | C9: {=IFERROR(INDEX(Feuil1!$C$1:$C$13,SMALL(IF(Feuil1!$A$1:$A$13=$A9,ROW(INDIRECT("1:"&ROWS(Feuil1!$A$1:$A$13)))),COLUMN()-1)),"")} | D9: {=IFERROR(INDEX(Feuil1!$C$1:$C$13,SMALL(IF(Feuil1!$A$1:$A$13=$A9,ROW(INDIRECT("1:"&ROWS(Feuil1!$A$1:$A$13)))),COLUMN()-1)),"")} | E9: {=IFERROR(INDEX(Feuil1!$C$1:$C$13,SMALL(IF(Feuil1!$A$1:$A$13=$A9,ROW(INDIRECT("1:"&ROWS(Feuil1!$A$1:$A$13)))),COLUMN()-1)),"")} | F9: {=IFERROR(INDEX(Feuil1!$C$1:$C$13,SMALL(IF(Feuil1!$A$1:$A$13=$A9,ROW(INDIRECT("1:"&ROWS(Feuil1!$A$1:$A$13)))),COLUMN()-1)),"")} | G9: {=IFERROR(INDEX(Feuil1!$C$1:$C$13,SMALL(IF(Feuil1!$A$1:$A$13=$A9,ROW(INDIRECT("1:"&ROWS(Feuil1!$A$1:$A$13)))),COLUMN()-1)),"")} | H9: {=IFERROR(INDEX(Feuil1!$C$1:$C$13,SMALL(IF(Feuil1!$A$1:$A$13=$A9,ROW(INDIRECT("1:"&ROWS(Feuil1!$A$1:$A$13)))),COLUMN()-1)),"")}
A10: j | B10: {=IFERROR(INDEX(Feuil1!$C$1:$C$13,SMALL(IF(Feuil1!$A$1:$A$13=$A10,ROW(INDIRECT("1:"&ROWS(Feuil1!$A$1:$A$13)))),COLUMN()-1)),"")} | C10: {=IFERROR(INDEX(Feuil1!$C$1:$C$13,SMALL(IF(Feuil1!$A$1:$A$13=$A10,ROW(INDIRECT("1:"&ROWS(Feuil1!$A$1:$A$13)))),COLUMN()-1)),"")} | D10: {=IFERROR(INDEX(Feuil1!$C$1:$C$13,SMALL(IF(Feuil1!$A$1:$A$13=$A10,ROW(INDIRECT("1:"&ROWS(Feuil1!$A$1:$A$13)))),COLUMN()-1)),"")} | E10: {=IFERROR(INDEX(Feuil1!$C$1:$C$13,SMALL(IF(Feuil1!$A$1:$A$13=$A10,ROW(INDIRECT("1:"&ROWS(Feuil1!$A$1:$A$13)))),COLUMN()-1)),"")} | F10: {=IFERROR(INDEX(Feuil1!$C$1:$C$13,SMALL(IF(Feuil1!$A$1:$A$13=$A10,ROW(INDIRECT("1:"&ROWS(Feuil1!$A$1:$A$13)))),COLUMN()-1)),"")} | G10: {=IFERROR(INDEX(Feuil1!$C$1:$C$13,SMALL(IF(Feuil1!$A$1:$A$13=$A10,ROW(INDIRECT("1:"&ROWS(Feuil1!$A$1:$A$13)))),COLUMN()-1)),"")} | H10: {=IFERROR(INDEX(Feuil1!$C$1:$C$13,SMALL(IF(Feuil1!$A$1:$A$13=$A10,ROW(INDIRECT("1:"&ROWS(Feuil1!$A$1:$A$13)))),COLUMN()-1)),"")}
A11: k | B11: {=IFERROR(INDEX(Feuil1!$C$1:$C$13,SMALL(IF(Feuil1!$A$1:$A$13=$A11,ROW(INDIRECT("1:"&ROWS(Feuil1!$A$1:$A$13)))),COLUMN()-1)),"")} | C11: {=IFERROR(INDEX(Feuil1!$C$1:$C$13,SMALL(IF(Feuil1!$A$1:$A$13=$A11,ROW(INDIRECT("1:"&ROWS(Feuil1!$A$1:$A$13)))),COLUMN()-1)),"")} | D11: {=IFERROR(INDEX(Feuil1!$C$1:$C$13,SMALL(IF(Feuil1!$A$1:$A$13=$A11,ROW(INDIRECT("1:"&ROWS(Feuil1!$A$1:$A$13)))),COLUMN()-1)),"")} | E11: {=IFERROR(INDEX(Feuil1!$C$1:$C$13,SMALL(IF(Feuil1!$A$1:$A$13=$A11,ROW(INDIRECT("1:"&ROWS(Feuil1!$A$1:$A$13)))),COLUMN()-1)),"")} | F11: {=IFERROR(INDEX(Feuil1!$C$1:$C$13,SMALL(IF(Feuil1!$A$1:$A$13=$A11,ROW(INDIRECT("1:"&ROWS(Feuil1!$A$1:$A$13)))),COLUMN()-1)),"")} | G11: {=IFERROR(INDEX(Feuil1!$C$1:$C$13,SMALL(IF(Feuil1!$A$1:$A$13=$A11,ROW(INDIRECT("1:"&ROWS(Feuil1!$A$1:$A$13)))),COLUMN()-1)),"")} | H11: {=IFERROR(INDEX(Feuil1!$C$1:$C$13,SMALL(IF(Feuil1!$A$1:$A$13=$A11,ROW(INDIRECT("1:"&ROWS(Feuil1!$A$1:$A$13)))),COLUMN()-1)),"")}
A12: l | B12: {=IFERROR(INDEX(Feuil1!$C$1:$C$13,SMALL(IF(Feuil1!$A$1:$A$13=$A12,ROW(INDIRECT("1:"&ROWS(Feuil1!$A$1:$A$13)))),COLUMN()-1)),"")} | C12: {=IFERROR(INDEX(Feuil1!$C$1:$C$13,SMALL(IF(Feuil1!$A$1:$A$13=$A12,ROW(INDIRECT("1:"&ROWS(Feuil1!$A$1:$A$13)))),COLUMN()-1)),"")} | D12: {=IFERROR(INDEX(Feuil1!$C$1:$C$13,SMALL(IF(Feuil1!$A$1:$A$13=$A12,ROW(INDIRECT("1:"&ROWS(Feuil1!$A$1:$A$13)))),COLUMN()-1)),"")} | E12: {=IFERROR(INDEX(Feuil1!$C$1:$C$13,SMALL(IF(Feuil1!$A$1:$A$13=$A12,ROW(INDIRECT("1:"&ROWS(Feuil1!$A$1:$A$13)))),COLUMN()-1)),"")} | F12: {=IFERROR(INDEX(Feuil1!$C$1:$C$13,SMALL(IF(Feuil1!$A$1:$A$13=$A12,ROW(INDIRECT("1:"&ROWS(Feuil1!$A$1:$A$13)))),COLUMN()-1)),"")} | G12: {=IFERROR(INDEX(Feuil1!$C$1:$C$13,SMALL(IF(Feuil1!$A$1:$A$13=$A12,ROW(INDIRECT("1:"&ROWS(Feuil1!$A$1:$A$13)))),COLUMN()-1)),"")} | H12: {=IFERROR(INDEX(Feuil1!$C$1:$C$13,SMALL(IF(Feuil1!$A$1:$A$13=$A12,ROW(INDIRECT("1:"&ROWS(Feuil1!$A$1:$A$13)))),COLUMN()-1)),"")}
... A26: z | B26: {=IFERROR(INDEX(Feuil1!$C$1:$C$13,SMALL(IF(Feuil1!$A$1:$A$13=$A26,ROW(INDIRECT("1:"&ROWS(Feuil1!$A$1:$A$13)))),COLUMN()-1)),"")} | C26: {=IFERROR(INDEX(Feuil1!$C$1:$C$13,SMALL(IF(Feuil1!$A$1:$A$13=$A26,ROW(INDIRECT("1:"&ROWS(Feuil1!$A$1:$A$13)))),COLUMN()-1)),"")} | D26: {=IFERROR(INDEX(Feuil1!$C$1:$C$13,SMALL(IF(Feuil1!$A$1:$A$13=$A26,ROW(INDIRECT("1:"&ROWS(Feuil1!$A$1:$A$13)))),COLUMN()-1)),"")} | E26: {=IFERROR(INDEX(Feuil1!$C$1:$C$13,SMALL(IF(Feuil1!$A$1:$A$13=$A26,ROW(INDIRECT("1:"&ROWS(Feuil1!$A$1:$A$13)))),COLUMN()-1)),"")} | F26: {=IFERROR(INDEX(Feuil1!$C$1:$C$13,SMALL(IF(Feuil1!$A$1:$A$13=$A26,ROW(INDIRECT("1:"&ROWS(Feuil1!$A$1:$A$13)))),COLUMN()-1)),"")} | G26: {=IFERROR(INDEX(Feuil1!$C$1:$C$13,SMALL(IF(Feuil1!$A$1:$A$13=$A26,ROW(INDIRECT("1:"&ROWS(Feuil1!$A$1:$A$13)))),COLUMN()-1)),"")} | H26: {=IFERROR(INDEX(Feuil1!$C$1:$C$13,SMALL(IF(Feuil1!$A$1:$A$13=$A26,ROW(INDIRECT("1:"&ROWS(Feuil1!$A$1:$A$13)))),COLUMN()-1)),"")}

Sheet Feuil4
A1: a | B1: {=IFERROR(INDEX(Feuil1!$D$1:$D$13,SMALL(IF(Feuil1!$A$1:$A$13=$A1,ROW(INDIRECT("1:"&ROWS(Feuil1!$A$1:$A$13)))),COLUMN()-1)),"")} -> 9 | C1: {=IFERROR(INDEX(Feuil1!$D$1:$D$13,SMALL(IF(Feuil1!$A$1:$A$13=$A1,ROW(INDIRECT("1:"&ROWS(Feuil1!$A$1:$A$13)))),COLUMN()-1)),"")} -> 4 | D1: {=IFERROR(INDEX(Feuil1!$D$1:$D$13,SMALL(IF(Feuil1!$A$1:$A$13=$A1,ROW(INDIRECT("1:"&ROWS(Feuil1!$A$1:$A$13)))),COLUMN()-1)),"")} -> 7 | E1: {=IFERROR(INDEX(Feuil1!$D$1:$D$13,SMALL(IF(Feuil1!$A$1:$A$13=$A1,ROW(INDIRECT("1:"&ROWS(Feuil1!$A$1:$A$13)))),COLUMN()-1)),"")} | F1: {=IFERROR(INDEX(Feuil1!$D$1:$D$13,SMALL(IF(Feuil1!$A$1:$A$13=$A1,ROW(INDIRECT("1:"&ROWS(Feuil1!$A$1:$A$13)))),COLUMN()-1)),"")} | G1: {=IFERROR(INDEX(Feuil1!$D$1:$D$13,SMALL(IF(Feuil1!$A$1:$A$13=$A1,ROW(INDIRECT("1:"&ROWS(Feuil1!$A$1:$A$13)))),COLUMN()-1)),"")} | H1: {=IFERROR(INDEX(Feuil1!$D$1:$D$13,SMALL(IF(Feuil1!$A$1:$A$13=$A1,ROW(INDIRECT("1:"&ROWS(Feuil1!$A$1:$A$13)))),COLUMN()-1)),"")}
A2: b | B2: {=IFERROR(INDEX(Feuil1!$D$1:$D$13,SMALL(IF(Feuil1!$A$1:$A$13=$A2,ROW(INDIRECT("1:"&ROWS(Feuil1!$A$1:$A$13)))),COLUMN()-1)),"")} -> 2 | C2: {=IFERROR(INDEX(Feuil1!$D$1:$D$13,SMALL(IF(Feuil1!$A$1:$A$13=$A2,ROW(INDIRECT("1:"&ROWS(Feuil1!$A$1:$A$13)))),COLUMN()-1)),"")} -> 1 | D2: {=IFERROR(INDEX(Feuil1!$D$1:$D$13,SMALL(IF(Feuil1!$A$1:$A$13=$A2,ROW(INDIRECT("1:"&ROWS(Feuil1!$A$1:$A$13)))),COLUMN()-1)),"")} -> 4 | E2: {=IFERROR(INDEX(Feuil1!$D$1:$D$13,SMALL(IF(Feuil1!$A$1:$A$13=$A2,ROW(INDIRECT("1:"&ROWS(Feuil1!$A$1:$A$13)))),COLUMN()-1)),"")} | F2: {=IFERROR(INDEX(Feuil1!$D$1:$D$13,SMALL(IF(Feuil1!$A$1:$A$13=$A2,ROW(INDIRECT("1:"&ROWS(Feuil1!$A$1:$A$13)))),COLUMN()-1)),"")} | G2: {=IFERROR(INDEX(Feuil1!$D$1:$D$13,SMALL(IF(Feuil1!$A$1:$A$13=$A2,ROW(INDIRECT("1:"&ROWS(Feuil1!$A$1:$A$13)))),COLUMN()-1)),"")} | H2: {=IFERROR(INDEX(Feuil1!$D$1:$D$13,SMALL(IF(Feuil1!$A$1:$A$13=$A2,ROW(INDIRECT("1:"&ROWS(Feuil1!$A$1:$A$13)))),COLUMN()-1)),"")}
A3: c | B3: {=IFERROR(INDEX(Feuil1!$D$1:$D$13,SMALL(IF(Feuil1!$A$1:$A$13=$A3,ROW(INDIRECT("1:"&ROWS(Feuil1!$A$1:$A$13)))),COLUMN()-1)),"")} -> 5 | C3: {=IFERROR(INDEX(Feuil1!$D$1:$D$13,SMALL(IF(Feuil1!$A$1:$A$13=$A3,ROW(INDIRECT("1:"&ROWS(Feuil1!$A$1:$A$13)))),COLUMN()-1)),"")} -> 3 | D3: {=IFERROR(INDEX(Feuil1!$D$1:$D$13,SMALL(IF(Feuil1!$A$1:$A$13=$A3,ROW(INDIRECT("1:"&ROWS(Feuil1!$A$1:$A$13)))),COLUMN()-1)),"")} | E3: {=IFERROR(INDEX(Feuil1!$D$1:$D$13,SMALL(IF(Feuil1!$A$1:$A$13=$A3,ROW(INDIRECT("1:"&ROWS(Feuil1!$A$1:$A$13)))),COLUMN()-1)),"")} | F3: {=IFERROR(INDEX(Feuil1!$D$1:$D$13,SMALL(IF(Feuil1!$A$1:$A$13=$A3,ROW(INDIRECT("1:"&ROWS(Feuil1!$A$1:$A$13)))),COLUMN()-1)),"")} | G3: {=IFERROR(INDEX(Feuil1!$D$1:$D$13,SMALL(IF(Feuil1!$A$1:$A$13=$A3,ROW(INDIRECT("1:"&ROWS(Feuil1!$A$1:$A$13)))),COLUMN()-1)),"")} | H3: {=IFERROR(INDEX(Feuil1!$D$1:$D$13,SMALL(IF(Feuil1!$A$1:$A$13=$A3,ROW(INDIRECT("1:"&ROWS(Feuil1!$A$1:$A$13)))),COLUMN()-1)),"")}
A4: d | B4: {=IFERROR(INDEX(Feuil1!$D$1:$D$13,SMALL(IF(Feuil1!$A$1:$A$13=$A4,ROW(INDIRECT("1:"&ROWS(Feuil1!$A$1:$A$13)))),COLUMN()-1)),"")} -> 4 | C4: {=IFERROR(INDEX(Feuil1!$D$1:$D$13,SMALL(IF(Feuil1!$A$1:$A$13=$A4,ROW(INDIRECT("1:"&ROWS(Feuil1!$A$1:$A$13)))),COLUMN()-1)),"")} | D4: {=IFERROR(INDEX(Feuil1!$D$1:$D$13,SMALL(IF(Feuil1!$A$1:$A$13=$A4,ROW(INDIRECT("1:"&ROWS(Feuil1!$A$1:$A$13)))),COLUMN()-1)),"")} | E4: {=IFERROR(INDEX(Feuil1!$D$1:$D$13,SMALL(IF(Feuil1!$A$1:$A$13=$A4,ROW(INDIRECT("1:"&ROWS(Feuil1!$A$1:$A$13)))),COLUMN()-1)),"")} | F4: {=IFERROR(INDEX(Feuil1!$D$1:$D$13,SMALL(IF(Feuil1!$A$1:$A$13=$A4,ROW(INDIRECT("1:"&ROWS(Feuil1!$A$1:$A$13)))),COLUMN()-1)),"")} | G4: {=IFERROR(INDEX(Feuil1!$D$1:$D$13,SMALL(IF(Feuil1!$A$1:$A$13=$A4,ROW(INDIRECT("1:"&ROWS(Feuil1!$A$1:$A$13)))),COLUMN()-1)),"")} | H4: {=IFERROR(INDEX(Feuil1!$D$1:$D$13,SMALL(IF(Feuil1!$A$1:$A$13=$A4,ROW(INDIRECT("1:"&ROWS(Feuil1!$A$1:$A$13)))),COLUMN()-1)),"")}
A5: e | B5: {=IFERROR(INDEX(Feuil1!$D$1:$D$13,SMALL(IF(Feuil1!$A$1:$A$13=$A5,ROW(INDIRECT("1:"&ROWS(Feuil1!$A$1:$A$13)))),COLUMN()-1)),"")} -> 8 | C5: {=IFERROR(INDEX(Feuil1!$D$1:$D$13,SMALL(IF(Feuil1!$A$1:$A$13=$A5,ROW(INDIRECT("1:"&ROWS(Feuil1!$A$1:$A$13)))),COLUMN()-1)),"")} -> 4 | D5: {=IFERROR(INDEX(Feuil1!$D$1:$D$13,SMALL(IF(Feuil1!$A$1:$A$13=$A5,ROW(INDIRECT("1:"&ROWS(Feuil1!$A$1:$A$13)))),COLUMN()-1)),"")} | E5: {=IFERROR(INDEX(Feuil1!$D$1:$D$13,SMALL(IF(Feuil1!$A$1:$A$13=$A5,ROW(INDIRECT("1:"&ROWS(Feuil1!$A$1:$A$13)))),COLUMN()-1)),"")} | F5: {=IFERROR(INDEX(Feuil1!$D$1:$D$13,SMALL(IF(Feuil1!$A$1:$A$13=$A5,ROW(INDIRECT("1:"&ROWS(Feuil1!$A$1:$A$13)))),COLUMN()-1)),"")} | G5: {=IFERROR(INDEX(Feuil1!$D$1:$D$13,SMALL(IF(Feuil1!$A$1:$A$13=$A5,ROW(INDIRECT("1:"&ROWS(Feuil1!$A$1:$A$13)))),COLUMN()-1)),"")} | H5: {=IFERROR(INDEX(Feuil1!$D$1:$D$13,SMALL(IF(Feuil1!$A$1:$A$13=$A5,ROW(INDIRECT("1:"&ROWS(Feuil1!$A$1:$A$13)))),COLUMN()-1)),"")}
A6: f | B6: {=IFERROR(INDEX(Feuil1!$D$1:$D$13,SMALL(IF(Feuil1!$A$1:$A$13=$A6,ROW(INDIRECT("1:"&ROWS(Feuil1!$A$1:$A$13)))),COLUMN()-1)),"")} | C6: {=IFERROR(INDEX(Feuil1!$D$1:$D$13,SMALL(IF(Feuil1!$A$1:$A$13=$A6,ROW(INDIRECT("1:"&ROWS(Feuil1!$A$1:$A$13)))),COLUMN()-1)),"")} | D6: {=IFERROR(INDEX(Feuil1!$D$1:$D$13,SMALL(IF(Feuil1!$A$1:$A$13=$A6,ROW(INDIRECT("1:"&ROWS(Feuil1!$A$1:$A$13)))),COLUMN()-1)),"")} | E6: {=IFERROR(INDEX(Feuil1!$D$1:$D$13,SMALL(IF(Feuil1!$A$1:$A$13=$A6,ROW(INDIRECT("1:"&ROWS(Feuil1!$A$1:$A$13)))),COLUMN()-1)),"")} | F6: {=IFERROR(INDEX(Feuil1!$D$1:$D$13,SMALL(IF(Feuil1!$A$1:$A$13=$A6,ROW(INDIRECT("1:"&ROWS(Feuil1!$A$1:$A$13)))),COLUMN()-1)),"")} | G6: {=IFERROR(INDEX(Feuil1!$D$1:$D$13,SMALL(IF(Feuil1!$A$1:$A$13=$A6,ROW(INDIRECT("1:"&ROWS(Feuil1!$A$1:$A$13)))),COLUMN()-1)),"")} | H6: {=IFERROR(INDEX(Feuil1!$D$1:$D$13,SMALL(IF(Feuil1!$A$1:$A$13=$A6,ROW(INDIRECT("1:"&ROWS(Feuil1!$A$1:$A$13)))),COLUMN()-1)),"")}
A7: g | B7: {=IFERROR(INDEX(Feuil1!$D$1:$D$13,SMALL(IF(Feuil1!$A$1:$A$13=$A7,ROW(INDIRECT("1:"&ROWS(Feuil1!$A$1:$A$13)))),COLUMN()-1)),"")} | C7: {=IFERROR(INDEX(Feuil1!$D$1:$D$13,SMALL(IF(Feuil1!$A$1:$A$13=$A7,ROW(INDIRECT("1:"&ROWS(Feuil1!$A$1:$A$13)))),COLUMN()-1)),"")} | D7: {=IFERROR(INDEX(Feuil1!$D$1:$D$13,SMALL(IF(Feuil1!$A$1:$A$13=$A7,ROW(INDIRECT("1:"&ROWS(Feuil1!$A$1:$A$13)))),COLUMN()-1)),"")} | E7: {=IFERROR(INDEX(Feuil1!$D$1:$D$13,SMALL(IF(Feuil1!$A$1:$A$13=$A7,ROW(INDIRECT("1:"&ROWS(Feuil1!$A$1:$A$13)))),COLUMN()-1)),"")} | F7: {=IFERROR(INDEX(Feuil1!$D$1:$D$13,SMALL(IF(Feuil1!$A$1:$A$13=$A7,ROW(INDIRECT("1:"&ROWS(Feuil1!$A$1:$A$13)))),COLUMN()-1)),"")} | G7: {=IFERROR(INDEX(Feuil1!$D$1:$D$13,SMALL(IF(Feuil1!$A$1:$A$13=$A7,ROW(INDIRECT("1:"&ROWS(Feuil1!$A$1:$A$13)))),COLUMN()-1)),"")} | H7: {=IFERROR(INDEX(Feuil1!$D$1:$D$13,SMALL(IF(Feuil1!$A$1:$A$13=$A7,ROW(INDIRECT("1:"&ROWS(Feuil1!$A$1:$A$13)))),COLUMN()-1)),"")}
A8: h | B8: {=IFERROR(INDEX(Feuil1!$D$1:$D$13,SMALL(IF(Feuil1!$A$1:$A$13=$A8,ROW(INDIRECT("1:"&ROWS(Feuil1!$A$1:$A$13)))),COLUMN()-1)),"")} | C8: {=IFERROR(INDEX(Feuil1!$D$1:$D$13,SMALL(IF(Feuil1!$A$1:$A$13=$A8,ROW(INDIRECT("1:"&ROWS(Feuil1!$A$1:$A$13)))),COLUMN()-1)),"")} | D8: {=IFERROR(INDEX(Feuil1!$D$1:$D$13,SMALL(IF(Feuil1!$A$1:$A$13=$A8,ROW(INDIRECT("1:"&ROWS(Feuil1!$A$1:$A$13)))),COLUMN()-1)),"")} | E8: {=IFERROR(INDEX(Feuil1!$D$1:$D$13,SMALL(IF(Feuil1!$A$1:$A$13=$A8,ROW(INDIRECT("1:"&ROWS(Feuil1!$A$1:$A$13)))),COLUMN()-1)),"")} | F8: {=IFERROR(INDEX(Feuil1!$D$1:$D$13,SMALL(IF(Feuil1!$A$1:$A$13=$A8,ROW(INDIRECT("1:"&ROWS(Feuil1!$A$1:$A$13)))),COLUMN()-1)),"")} | G8: {=IFERROR(INDEX(Feuil1!$D$1:$D$13,SMALL(IF(Feuil1!$A$1:$A$13=$A8,ROW(INDIRECT("1:"&ROWS(Feuil1!$A$1:$A$13)))),COLUMN()-1)),"")} | H8: {=IFERROR(INDEX(Feuil1!$D$1:$D$13,SMALL(IF(Feuil1!$A$1:$A$13=$A8,ROW(INDIRECT("1:"&ROWS(Feuil1!$A$1:$A$13)))),COLUMN()-1)),"")}
A9: i | B9: {=IFERROR(INDEX(Feuil1!$D$1:$D$13,SMALL(IF(Feuil1!$A$1:$A$13=$A9,ROW(INDIRECT("1:"&ROWS(Feuil1!$A$1:$A$13)))),COLUMN()-1)),"")} | C9: {=IFERROR(INDEX(Feuil1!$D$1:$D$13,SMALL(IF(Feuil1!$A$1:$A$13=$A9,ROW(INDIRECT("1:"&ROWS(Feuil1!$A$1:$A$13)))),COLUMN()-1)),"")} | D9: {=IFERROR(INDEX(Feuil1!$D$1:$D$13,SMALL(IF(Feuil1!$A$1:$A$13=$A9,ROW(INDIRECT("1:"&ROWS(Feuil1!$A$1:$A$13)))),COLUMN()-1)),"")} | E9: {=IFERROR(INDEX(Feuil1!$D$1:$D$13,SMALL(IF(Feuil1!$A$1:$A$13=$A9,ROW(INDIRECT("1:"&ROWS(Feuil1!$A$1:$A$13)))),COLUMN()-1)),"")} | F9: {=IFERROR(INDEX(Feuil1!$D$1:$D$13,SMALL(IF(Feuil1!$A$1:$A$13=$A9,ROW(INDIRECT("1:"&ROWS(Feuil1!$A$1:$A$13)))),COLUMN()-1)),"")} | G9: {=IFERROR(INDEX(Feuil1!$D$1:$D$13,SMALL(IF(Feuil1!$A$1:$A$13=$A9,ROW(INDIRECT("1:"&ROWS(Feuil1!$A$1:$A$13)))),COLUMN()-1)),"")} | H9: {=IFERROR(INDEX(Feuil1!$D$1:$D$13,SMALL(IF(Feuil1!$A$1:$A$13=$A9,ROW(INDIRECT("1:"&ROWS(Feuil1!$A$1:$A$13)))),COLUMN()-1)),"")}
A10: j | B10: {=IFERROR(INDEX(Feuil1!$D$1:$D$13,SMALL(IF(Feuil1!$A$1:$A$13=$A10,ROW(INDIRECT("1:"&ROWS(Feuil1!$A$1:$A$13)))),COLUMN()-1)),"")} | C10: {=IFERROR(INDEX(Feuil1!$D$1:$D$13,SMALL(IF(Feuil1!$A$1:$A$13=$A10,ROW(INDIRECT("1:"&ROWS(Feuil1!$A$1:$A$13)))),COLUMN()-1)),"")} | D10: {=IFERROR(INDEX(Feuil1!$D$1:$D$13,SMALL(IF(Feuil1!$A$1:$A$13=$A10,ROW(INDIRECT("1:"&ROWS(Feuil1!$A$1:$A$13)))),COLUMN()-1)),"")} | E10: {=IFERROR(INDEX(Feuil1!$D$1:$D$13,SMALL(IF(Feuil1!$A$1:$A$13=$A10,ROW(INDIRECT("1:"&ROWS(Feuil1!$A$1:$A$13)))),COLUMN()-1)),"")} | F10: {=IFERROR(INDEX(Feuil1!$D$1:$D$13,SMALL(IF(Feuil1!$A$1:$A$13=$A10,ROW(INDIRECT("1:"&ROWS(Feuil1!$A$1:$A$13)))),COLUMN()-1)),"")} | G10: {=IFERROR(INDEX(Feuil1!$D$1:$D$13,SMALL(IF(Feuil1!$A$1:$A$13=$A10,ROW(INDIRECT("1:"&ROWS(Feuil1!$A$1:$A$13)))),COLUMN()-1)),"")} | H10: {=IFERROR(INDEX(Feuil1!$D$1:$D$13,SMALL(IF(Feuil1!$A$1:$A$13=$A10,ROW(INDIRECT("1:"&ROWS(Feuil1!$A$1:$A$13)))),COLUMN()-1)),"")}
A11: k | B11: {=IFERROR(INDEX(Feuil1!$D$1:$D$13,SMALL(IF(Feuil1!$A$1:$A$13=$A11,ROW(INDIRECT("1:"&ROWS(Feuil1!$A$1:$A$13)))),COLUMN()-1)),"")} | C11: {=IFERROR(INDEX(Feuil1!$D$1:$D$13,SMALL(IF(Feuil1!$A$1:$A$13=$A11,ROW(INDIRECT("1:"&ROWS(Feuil1!$A$1:$A$13)))),COLUMN()-1)),"")} | D11: {=IFERROR(INDEX(Feuil1!$D$1:$D$13,SMALL(IF(Feuil1!$A$1:$A$13=$A11,ROW(INDIRECT("1:"&ROWS(Feuil1!$A$1:$A$13)))),COLUMN()-1)),"")} | E11: {=IFERROR(INDEX(Feuil1!$D$1:$D$13,SMALL(IF(Feuil1!$A$1:$A$13=$A11,ROW(INDIRECT("1:"&ROWS(Feuil1!$A$1:$A$13)))),COLUMN()-1)),"")} | F11: {=IFERROR(INDEX(Feuil1!$D$1:$D$13,SMALL(IF(Feuil1!$A$1:$A$13=$A11,ROW(INDIRECT("1:"&ROWS(Feuil1!$A$1:$A$13)))),COLUMN()-1)),"")} | G11: {=IFERROR(INDEX(Feuil1!$D$1:$D$13,SMALL(IF(Feuil1!$A$1:$A$13=$A11,ROW(INDIRECT("1:"&ROWS(Feuil1!$A$1:$A$13)))),COLUMN()-1)),"")} | H11: {=IFERROR(INDEX(Feuil1!$D$1:$D$13,SMALL(IF(Feuil1!$A$1:$A$13=$A11,ROW(INDIRECT("1:"&ROWS(Feuil1!$A$1:$A$13)))),COLUMN()-1)),"")}
A12: l | B12: {=IFERROR(INDEX(Feuil1!$D$1:$D$13,SMALL(IF(Feuil1!$A$1:$A$13=$A12,ROW(INDIRECT("1:"&ROWS(Feuil1!$A$1:$A$13)))),COLUMN()-1)),"")} | C12: {=IFERROR(INDEX(Feuil1!$D$1:$D$13,SMALL(IF(Feuil1!$A$1:$A$13=$A12,ROW(INDIRECT("1:"&ROWS(Feuil1!$A$1:$A$13)))),COLUMN()-1)),"")} | D12: {=IFERROR(INDEX(Feuil1!$D$1:$D$13,SMALL(IF(Feuil1!$A$1:$A$13=$A12,ROW(INDIRECT("1:"&ROWS(Feuil1!$A$1:$A$13)))),COLUMN()-1)),"")} | E12: {=IFERROR(INDEX(Feuil1!$D$1:$D$13,SMALL(IF(Feuil1!$A$1:$A$13=$A12,ROW(INDIRECT("1:"&ROWS(Feuil1!$A$1:$A$13)))),COLUMN()-1)),"")} | F12: {=IFERROR(INDEX(Feuil1!$D$1:$D$13,SMALL(IF(Feuil1!$A$1:$A$13=$A12,ROW(INDIRECT("1:"&ROWS(Feuil1!$A$1:$A$13)))),COLUMN()-1)),"")} | G12: {=IFERROR(INDEX(Feuil1!$D$1:$D$13,SMALL(IF(Feuil1!$A$1:$A$13=$A12,ROW(INDIRECT("1:"&ROWS(Feuil1!$A$1:$A$13)))),COLUMN()-1)),"")} | H12: {=IFERROR(INDEX(Feuil1!$D$1:$D$13,SMALL(IF(Feuil1!$A$1:$A$13=$A12,ROW(INDIRECT("1:"&ROWS(Feuil1!$A$1:$A$13)))),COLUMN()-1)),"")}
... A25: y | B25: {=IFERROR(INDEX(Feuil1!$D$1:$D$13,SMALL(IF(Feuil1!$A$1:$A$13=$A25,ROW(INDIRECT("1:"&ROWS(Feuil1!$A$1:$A$13)))),COLUMN()-1)),"")} | C25: {=IFERROR(INDEX(Feuil1!$D$1:$D$13,SMALL(IF(Feuil1!$A$1:$A$13=$A25,ROW(INDIRECT("1:"&ROWS(Feuil1!$A$1:$A$13)))),COLUMN()-1)),"")} | D25: {=IFERROR(INDEX(Feuil1!$D$1:$D$13,SMALL(IF(Feuil1!$A$1:$A$13=$A25,ROW(INDIRECT("1:"&ROWS(Feuil1!$A$1:$A$13)))),COLUMN()-1)),"")} | E25: {=IFERROR(INDEX(Feuil1!$D$1:$D$13,SMALL(IF(Feuil1!$A$1:$A$13=$A25,ROW(INDIRECT("1:"&ROWS(Feuil1!$A$1:$A$13)))),COLUMN()-1)),"")} | F25: {=IFERROR(INDEX(Feuil1!$D$1:$D$13,SMALL(IF(Feuil1!$A$1:$A$13=$A25,ROW(INDIRECT("1:"&ROWS(Feuil1!$A$1:$A$13)))),COLUMN()-1)),"")} | G25: {=IFERROR(INDEX(Feuil1!$D$1:$D$13,SMALL(IF(Feuil1!$A$1:$A$13=$A25,ROW(INDIRECT("1:"&ROWS(Feuil1!$A$1:$A$13)))),COLUMN()-1)),"")} | H25: {=IFERROR(INDEX(Feuil1!$D$1:$D$13,SMALL(IF(Feuil1!$A$1:$A$13=$A25,ROW(INDIRECT("1:"&ROWS(Feuil1!$A$1:$A$13)))),COLUMN()-1)),"")}
