Workbook

Sheet LISTE DES INSCRITS
A8: CATEGORIE 1
A9: Insc | C9: n° | E9: Noms et Prénoms
B10: =IF(A10="","",C10) | C10: =ROWS($10:10) -> 1 | E10: A
B11: =IF(A11="","",C11) | C11: =ROWS($10:11) -> 2 | E11: B
B12: =IF(A12="","",C12) | C12: =ROWS($10:12) -> 3 | E12: C
A13: x | B13: =IF(A13="","",C13) -> 4 | C13: =ROWS($10:13) -> 4 | E13: D
B14: =IF(A14="","",C14) | C14: =ROWS($10:14) -> 5 | E14: E
A15: x | B15: =IF(A15="","",C15) -> 6 | C15: =ROWS($10:15) -> 6 | E15: F
A16: x | B16: =IF(A16="","",C16) -> 7 | C16: =ROWS($10:16) -> 7 | E16: G
B17: =IF(A17="","",C17) | C17: =ROWS($10:17) -> 8 | E17: H
B18: =IF(A18="","",C18) | C18: =ROWS($10:18) -> 9 | E18: I
B19: =IF(A19="","",C19) | C19: =ROWS($10:19) -> 10 | E19: J
A20: x | B20: =IF(A20="","",C20) -> 11 | C20: =ROWS($10:20) -> 11 | E20: K
B21: =IF(A21="","",C21) | C21: =ROWS($10:21) -> 12 | E21: L
B22: =IF(A22="","",C22) | C22: =ROWS($10:22) -> 13 | E22: M
B23: =IF(A23="","",C23) | C23: =ROWS($10:23) -> 14 | E23: N
B24: =IF(A24="","",C24) | C24: =ROWS($10:24) -> 15 | E24: O
B25: =IF(A25="","",C25) | C25: =ROWS($10:25) -> 16 | E25: P
A28: CATEGORIE 2
A29: Insc | E29: Noms et Prénoms
B30: =IF(A30="","",C30) | C30: =ROWS($30:30) -> 1 | E30: A
A31: x | B31: =IF(A31="","",C31) -> 2 | C31: =ROWS($30:31) -> 2 | E31: B
B32: =IF(A32="","",C32) | C32: =ROWS($30:32) -> 3 | E32: C
A33: x | B33: =IF(A33="","",C33) -> 4 | C33: =ROWS($30:33) -> 4 | E33: D
A34: x | B34: =IF(A34="","",C34) -> 5 | C34: =ROWS($30:34) -> 5 | E34: E
B35: =IF(A35="","",C35) | C35: =ROWS($30:35) -> 6 | E35: F
A36: x | B36: =IF(A36="","",C36) -> 7 | C36: =ROWS($30:36) -> 7 | E36: G
A37: x | B37: =IF(A37="","",C37) -> 8 | C37: =ROWS($30:37) -> 8 | E37: H
B38: =IF(A38="","",C38) | C38: =ROWS($30:38) -> 9 | E38: I
B39: =IF(A39="","",C39) | C39: =ROWS($30:39) -> 10 | E39: J
A40: x | B40: =IF(A40="","",C40) -> 11 | C40: =ROWS($30:40) -> 11 | E40: K
A41: x | B41: =IF(A41="","",C41) -> 12 | C41: =ROWS($30:41) -> 12 | E41: L
A42: x | B42: =IF(A42="","",C42) -> 13 | C42: =ROWS($30:42) -> 13 | E42: M
B43: =IF(A43="","",C43) | C43: =ROWS($30:43) -> 14 | E43: N
A44: x | B44: =IF(A44="","",C44) -> 15 | C44: =ROWS($30:44) -> 15 | E44: O
B45: =IF(A45="","",C45) | C45: =ROWS($30:45) -> 16 | E45: P

Sheet LISTE DES DEPARTS
C8: CATEGORIE 1 | F8: CATEGORIE 2
C9: n° | D9: Noms et Prénoms | F9: n° | G9: Noms et Prénoms
A10: 1 | C10: =IFERROR(SMALL('LISTE DES INSCRITS'!B$10:B$25,ROWS($10:10)),"") -> 4 | D10: =IF(C10="","",OFFSET('LISTE DES INSCRITS'!E$9,C10,)) -> D | F10: =IFERROR(SMALL('LISTE DES INSCRITS'!B$30:B$45,ROWS($10:10)),"") -> 2 | G10: =IF(F10="","",OFFSET('LISTE DES INSCRITS'!E$29,F10,)) -> B
A11: 2 | C11: =IFERROR(SMALL('LISTE DES INSCRITS'!B$10:B$25,ROWS($10:11)),"") -> 6 | D11: =IF(C11="","",OFFSET('LISTE DES INSCRITS'!E$9,C11,)) -> F | F11: =IFERROR(SMALL('LISTE DES INSCRITS'!B$30:B$45,ROWS($10:11)),"") -> 4 | G11: =IF(F11="","",OFFSET('LISTE DES INSCRITS'!E$29,F11,)) -> D
A12: 3 | C12: =IFERROR(SMALL('LISTE DES INSCRITS'!B$10:B$25,ROWS($10:12)),"") -> 7 | D12: =IF(C12="","",OFFSET('LISTE DES INSCRITS'!E$9,C12,)) -> G | F12: =IFERROR(SMALL('LISTE DES INSCRITS'!B$30:B$45,ROWS($10:12)),"") -> 5 | G12: =IF(F12="","",OFFSET('LISTE DES INSCRITS'!E$29,F12,)) -> E
A13: 4 | C13: =IFERROR(SMALL('LISTE DES INSCRITS'!B$10:B$25,ROWS($10:13)),"") -> 11 | D13: =IF(C13="","",OFFSET('LISTE DES INSCRITS'!E$9,C13,)) -> K | F13: =IFERROR(SMALL('LISTE DES INSCRITS'!B$30:B$45,ROWS($10:13)),"") -> 7 | G13: =IF(F13="","",OFFSET('LISTE DES INSCRITS'!E$29,F13,)) -> G
A14: 5 | C14: =IFERROR(SMALL('LISTE DES INSCRITS'!B$10:B$25,ROWS($10:14)),"") | D14: =IF(C14="","",OFFSET('LISTE DES INSCRITS'!E$9,C14,)) | F14: =IFERROR(SMALL('LISTE DES INSCRITS'!B$30:B$45,ROWS($10:14)),"") -> 8 | G14: =IF(F14="","",OFFSET('LISTE DES INSCRITS'!E$29,F14,)) -> H
A15: 6 | C15: =IFERROR(SMALL('LISTE DES INSCRITS'!B$10:B$25,ROWS($10:15)),"") | D15: =IF(C15="","",OFFSET('LISTE DES INSCRITS'!E$9,C15,)) | F15: =IFERROR(SMALL('LISTE DES INSCRITS'!B$30:B$45,ROWS($10:15)),"") -> 11 | G15: =IF(F15="","",OFFSET('LISTE DES INSCRITS'!E$29,F15,)) -> K
A16: 7 | C16: =IFERROR(SMALL('LISTE DES INSCRITS'!B$10:B$25,ROWS($10:16)),"") | D16: =IF(C16="","",OFFSET('LISTE DES INSCRITS'!E$9,C16,)) | F16: =IFERROR(SMALL('LISTE DES INSCRITS'!B$30:B$45,ROWS($10:16)),"") -> 12 | G16: =IF(F16="","",OFFSET('LISTE DES INSCRITS'!E$29,F16,)) -> L
A17: 8 | C17: =IFERROR(SMALL('LISTE DES INSCRITS'!B$10:B$25,ROWS($10:17)),"") | D17: =IF(C17="","",OFFSET('LISTE DES INSCRITS'!E$9,C17,)) | F17: =IFERROR(SMALL('LISTE DES INSCRITS'!B$30:B$45,ROWS($10:17)),"") -> 13 | G17: =IF(F17="","",OFFSET('LISTE DES INSCRITS'!E$29,F17,)) -> M
A18: 9 | C18: =IFERROR(SMALL('LISTE DES INSCRITS'!B$10:B$25,ROWS($10:18)),"") | D18: =IF(C18="","",OFFSET('LISTE DES INSCRITS'!E$9,C18,)) | F18: =IFERROR(SMALL('LISTE DES INSCRITS'!B$30:B$45,ROWS($10:18)),"") -> 15 | G18: =IF(F18="","",OFFSET('LISTE DES INSCRITS'!E$29,F18,)) -> O
A19: 10 | C19: =IFERROR(SMALL('LISTE DES INSCRITS'!B$10:B$25,ROWS($10:19)),"") | D19: =IF(C19="","",OFFSET('LISTE DES INSCRITS'!E$9,C19,)) | F19: =IFERROR(SMALL('LISTE DES INSCRITS'!B$30:B$45,ROWS($10:19)),"") | G19: =IF(F19="","",OFFSET('LISTE DES INSCRITS'!E$29,F19,))
A20: 11 | C20: =IFERROR(SMALL('LISTE DES INSCRITS'!B$10:B$25,ROWS($10:20)),"") | D20: =IF(C20="","",OFFSET('LISTE DES INSCRITS'!E$9,C20,)) | F20: =IFERROR(SMALL('LISTE DES INSCRITS'!B$30:B$45,ROWS($10:20)),"") | G20: =IF(F20="","",OFFSET('LISTE DES INSCRITS'!E$29,F20,))
A21: 12 | C21: =IFERROR(SMALL('LISTE DES INSCRITS'!B$10:B$25,ROWS($10:21)),"") | D21: =IF(C21="","",OFFSET('LISTE DES INSCRITS'!E$9,C21,)) | F21: =IFERROR(SMALL('LISTE DES INSCRITS'!B$30:B$45,ROWS($10:21)),"") | G21: =IF(F21="","",OFFSET('LISTE DES INSCRITS'!E$29,F21,))
A22: 13 | C22: =IFERROR(SMALL('LISTE DES INSCRITS'!B$10:B$25,ROWS($10:22)),"") | D22: =IF(C22="","",OFFSET('LISTE DES INSCRITS'!E$9,C22,)) | F22: =IFERROR(SMALL('LISTE DES INSCRITS'!B$30:B$45,ROWS($10:22)),"") | G22: =IF(F22="","",OFFSET('LISTE DES INSCRITS'!E$29,F22,))
A23: 14 | C23: =IFERROR(SMALL('LISTE DES INSCRITS'!B$10:B$25,ROWS($10:23)),"") | D23: =IF(C23="","",OFFSET('LISTE DES INSCRITS'!E$9,C23,)) | F23: =IFERROR(SMALL('LISTE DES INSCRITS'!B$30:B$45,ROWS($10:23)),"") | G23: =IF(F23="","",OFFSET('LISTE DES INSCRITS'!E$29,F23,))
A24: 15 | C24: =IFERROR(SMALL('LISTE DES INSCRITS'!B$10:B$25,ROWS($10:24)),"") | D24: =IF(C24="","",OFFSET('LISTE DES INSCRITS'!E$9,C24,)) | F24: =IFERROR(SMALL('LISTE DES INSCRITS'!B$30:B$45,ROWS($10:24)),"") | G24: =IF(F24="","",OFFSET('LISTE DES INSCRITS'!E$29,F24,))
A25: 16 | C25: =IFERROR(SMALL('LISTE DES INSCRITS'!B$10:B$25,ROWS($10:25)),"") | D25: =IF(C25="","",OFFSET('LISTE DES INSCRITS'!E$9,C25,)) | F25: =IFERROR(SMALL('LISTE DES INSCRITS'!B$30:B$45,ROWS($10:25)),"") | G25: =IF(F25="","",OFFSET('LISTE DES INSCRITS'!E$29,F25,))
A26: 17 | C26: =IFERROR(SMALL('LISTE DES INSCRITS'!B$10:B$25,ROWS($10:26)),"") | D26: =IF(C26="","",OFFSET('LISTE DES INSCRITS'!E$9,C26,)) | F26: =IFERROR(SMALL('LISTE DES INSCRITS'!B$30:B$45,ROWS($10:26)),"") | G26: =IF(F26="","",OFFSET('LISTE DES INSCRITS'!E$29,F26,))
