Workbook
Name Col_Name: OFFSET(week_1!$A$2,,,COUNTA(week_1!$A:$A)-1)
Name Col_Ref: OFFSET(Col_Name,,1)

Sheet week_1
A1: Name | B1: REF | C1: Task
A2: Bruce Wayne | B2: 140805-000186 | C2: RIL
A3: Bruce Wayne | B3: 140805-000186 | C3: RPN
A4: Bruce Wayne | B4: 140813-000981 | C4: SBE
A5: Bruce Wayne | B5: 140813-000981 | C5: SBE
A6: Clark Kent | B6: 140815-001580 | C6: SBE
A7: Clark Kent | B7: 140716-001545 | C7: RPN
A8: Clark Kent | B8: 140813-002073 | C8: NOC
A9: Tony Stark | B9: 140810-003776 | C9: NOC
A10: Steve Rogers | B10: 140810-002006 | C10: SBE
A11: Steve Rogers | B11: 140810-002006 | C11: SBE
A12: Steve Rogers | B12: 140810-002006 | C12: RPN
... A19: Bruce Banner | B19: 140728-001054 | C19: RIL

Sheet weekly_data
A1: Name | B1: REF nb | C1: Tasks total minus NOC | D1: NOC tasks nb | E1: Status
A2: Billy Batson | C2: =COUNTIFS(week_1!$A$2:$A$40,$A2,week_1!$C$2:$C$40,"<>"&"noc") -> 1 | D2: =COUNTIFS(week_1!$A$2:$A$40,$A2,week_1!$C$2:$C$40,"noc") -> 1 | E2: =IF(B2="","",IF(B2>1,"OK",""))
A3: Bruce Banner | C3: =COUNTIFS(week_1!$A$2:$A$40,$A3,week_1!$C$2:$C$40,"<>"&"noc") -> 1 | D3: =COUNTIFS(week_1!$A$2:$A$40,$A3,week_1!$C$2:$C$40,"noc") -> 0 | E3: =IF(B3="","",IF(B3>1,"OK",""))
A4: Bruce Wayne | C4: =COUNTIFS(week_1!$A$2:$A$40,$A4,week_1!$C$2:$C$40,"<>"&"noc") -> 5 | D4: =COUNTIFS(week_1!$A$2:$A$40,$A4,week_1!$C$2:$C$40,"noc") -> 0 | E4: =IF(B4="","",IF(B4>1,"OK",""))
A5: Clark Kent | C5: =COUNTIFS(week_1!$A$2:$A$40,$A5,week_1!$C$2:$C$40,"<>"&"noc") -> 2 | D5: =COUNTIFS(week_1!$A$2:$A$40,$A5,week_1!$C$2:$C$40,"noc") -> 2 | E5: =IF(B5="","",IF(B5>1,"OK",""))
A6: Diana Prince | C6: =COUNTIFS(week_1!$A$2:$A$40,$A6,week_1!$C$2:$C$40,"<>"&"noc") -> 0 | D6: =COUNTIFS(week_1!$A$2:$A$40,$A6,week_1!$C$2:$C$40,"noc") -> 0 | E6: =IF(B6="","",IF(B6>1,"OK",""))
A7: Dinah Drake | C7: =COUNTIFS(week_1!$A$2:$A$40,$A7,week_1!$C$2:$C$40,"<>"&"noc") -> 1 | D7: =COUNTIFS(week_1!$A$2:$A$40,$A7,week_1!$C$2:$C$40,"noc") -> 1 | E7: =IF(B7="","",IF(B7>1,"OK",""))
A8: Peter Parker | C8: =COUNTIFS(week_1!$A$2:$A$40,$A8,week_1!$C$2:$C$40,"<>"&"noc") -> 0 | D8: =COUNTIFS(week_1!$A$2:$A$40,$A8,week_1!$C$2:$C$40,"noc") -> 0 | E8: =IF(B8="","",IF(B8>1,"OK",""))
A9: Selena Kyle | C9: =COUNTIFS(week_1!$A$2:$A$40,$A9,week_1!$C$2:$C$40,"<>"&"noc") -> 0 | D9: =COUNTIFS(week_1!$A$2:$A$40,$A9,week_1!$C$2:$C$40,"noc") -> 0 | E9: =IF(B9="","",IF(B9>1,"OK",""))
A10: Steve Rogers | C10: =COUNTIFS(week_1!$A$2:$A$40,$A10,week_1!$C$2:$C$40,"<>"&"noc") -> 3 | D10: =COUNTIFS(week_1!$A$2:$A$40,$A10,week_1!$C$2:$C$40,"noc") -> 0 | E10: =IF(B10="","",IF(B10>1,"OK",""))
A11: Tony Stark | C11: =COUNTIFS(week_1!$A$2:$A$40,$A11,week_1!$C$2:$C$40,"<>"&"noc") -> 0 | D11: =COUNTIFS(week_1!$A$2:$A$40,$A11,week_1!$C$2:$C$40,"noc") -> 1 | E11: =IF(B11="","",IF(B11>1,"OK","")) | G11: C'est parce qu'il y a une reference en commun entre 2 noms
A15: Names | B15: Ref NB | C15: Ref NB | E15: Ref NB
A16: {=IFERROR(INDEX(Col_Name,MATCH(SMALL(IF(MATCH(Col_Name,Col_Name,0)=ROW(INDIRECT("1:"&ROWS(Col_Name))),COUNTIF(Col_Name,"<"&Col_Name)),ROW(INDIRECT("1:"&ROWS(Col_Name)))),COUNTIF(Col_Name,"<"&Col_Name),0)),"")} -> Billy Batson | B16: {=FREQUENCY(IF(FREQUENCY(MATCH(Col_Ref,Col_Ref,0),ROW(INDIRECT("1:"&ROWS(Col_Ref)))),MATCH(Col_Name,A16:A29,0)),ROW(INDIRECT("1:"&ROWS(Col_Ref))))} -> 1 | C16: {=COUNT(1/FREQUENCY(IF(Col_Name=A16,MATCH(Col_Ref,Col_Ref,0)),ROW(INDIRECT("1:"&ROWS(Col_Ref)))))} -> 2 | E16: {=FREQUENCY(IF(FREQUENCY(MATCH(Col_Name&Col_Ref,Col_Name&Col_Ref,0),ROW(INDIRECT("1:"&ROWS(Col_Ref)))),MATCH(Col_Name,A16:A29,0)),ROW(INDIRECT("1:"&ROWS(Col_Ref))))} -> 2 | G16: Il faut nous dire plus, pour le cas où il y une référence en commun entre 2 noms, est ce qu'il faut la prendre en compte pour les 2, ou bien la compter pour le nom avec lequel il apparait pour la première fois.
A17: Bruce Banner | B17: 1 | C17: {=COUNT(1/FREQUENCY(IF(Col_Name=A17,MATCH(Col_Ref,Col_Ref,0)),ROW(INDIRECT("1:"&ROWS(Col_Ref)))))} -> 1 | E17: 1
A18: Bruce Wayne | B18: 3 | C18: {=COUNT(1/FREQUENCY(IF(Col_Name=A18,MATCH(Col_Ref,Col_Ref,0)),ROW(INDIRECT("1:"&ROWS(Col_Ref)))))} -> 3 | E18: 3
A19: Clark Kent | B19: 4 | C19: {=COUNT(1/FREQUENCY(IF(Col_Name=A19,MATCH(Col_Ref,Col_Ref,0)),ROW(INDIRECT("1:"&ROWS(Col_Ref)))))} -> 4 | E19: 4
A20: Dinah Drake | B20: 2 | C20: {=COUNT(1/FREQUENCY(IF(Col_Name=A20,MATCH(Col_Ref,Col_Ref,0)),ROW(INDIRECT("1:"&ROWS(Col_Ref)))))} -> 2 | E20: 2
A21: Steve Rogers | B21: 1 | C21: {=COUNT(1/FREQUENCY(IF(Col_Name=A21,MATCH(Col_Ref,Col_Ref,0)),ROW(INDIRECT("1:"&ROWS(Col_Ref)))))} -> 1 | E21: 1
A22: Tony Stark | B22: 1 | C22: {=COUNT(1/FREQUENCY(IF(Col_Name=A22,MATCH(Col_Ref,Col_Ref,0)),ROW(INDIRECT("1:"&ROWS(Col_Ref)))))} -> 1 | E22: 1
B23: 0 | C23: {=COUNT(1/FREQUENCY(IF(Col_Name=A23,MATCH(Col_Ref,Col_Ref,0)),ROW(INDIRECT("1:"&ROWS(Col_Ref)))))} -> 0 | E23: 0
B24: 0 | C24: {=COUNT(1/FREQUENCY(IF(Col_Name=A24,MATCH(Col_Ref,Col_Ref,0)),ROW(INDIRECT("1:"&ROWS(Col_Ref)))))} -> 0 | E24: 0
B25: 0 | C25: {=COUNT(1/FREQUENCY(IF(Col_Name=A25,MATCH(Col_Ref,Col_Ref,0)),ROW(INDIRECT("1:"&ROWS(Col_Ref)))))} -> 0 | E25: 0
B26: 0 | C26: {=COUNT(1/FREQUENCY(IF(Col_Name=A26,MATCH(Col_Ref,Col_Ref,0)),ROW(INDIRECT("1:"&ROWS(Col_Ref)))))} -> 0 | E26: 0
B27: 0 | C27: {=COUNT(1/FREQUENCY(IF(Col_Name=A27,MATCH(Col_Ref,Col_Ref,0)),ROW(INDIRECT("1:"&ROWS(Col_Ref)))))} -> 0 | E27: 0
B28: 0 | C28: {=COUNT(1/FREQUENCY(IF(Col_Name=A28,MATCH(Col_Ref,Col_Ref,0)),ROW(INDIRECT("1:"&ROWS(Col_Ref)))))} -> 0 | E28: 0
B29: 0 | C29: {=COUNT(1/FREQUENCY(IF(Col_Name=A29,MATCH(Col_Ref,Col_Ref,0)),ROW(INDIRECT("1:"&ROWS(Col_Ref)))))} -> 0 | E29: 0
F30: Voir gestionnaire de noms
F31: Col_Name | G31: =DECALER(week_1!$A$2;;;NBVAL(week_1!$A:$A)-1)
F32: Col_Ref | G32: =DECALER(Col_Name;;1)
G34: Formule matricielle à valider par Ctrl+Shift+Enter sur toute la plage
G35: Formule matricielle à valider par Ctrl+Shift+Enter sur toute la plage
G36: Formule matricielle à valider par Ctrl+Shift+Enter sur toute la plage
G37: Formule matricielle à valider par Ctrl+Shift+Enter et à tirer vers le bas
