Workbook
Name Acc: OFFSET([1]options!$B$3,,,COUNTA([1]options!$A$1:$A$65536)-1)
Name ColAcc: [1]options!$B$1:$B$65536
Name Vehic: OFFSET([1]options!$A$3,,,COUNTA([1]options!$A$1:$A$65536)-1)

Sheet CDV
A1: SITES | B1: Temps Vol | D1: Date
A2: Breitenbach | B2: 0.022256944 | C2: 2 | D2: aout | E2: 2011
A3: Breitenbach | B3: 0.0097222222 | C3: 2 | D3: aout | E3: 2011
A4: Breitenbach | B4: 0.0062847222 | C4: 2 | D4: aout | E4: 2011
A5: Breitenbach | B5: 0.012939815 | C5: 17 | D5: aout | E5: 2011
A6: Breitenbach | B6: 0.0085300926 | C6: 17 | D6: aout | E6: 2011
A7: Breitenbach | B7: 0.0090509259 | C7: 20 | D7: aout | E7: 2011
A8: Breitenbach | B8: 0.0062731481 | C8: 20 | D8: aout | E8: 2011
A9: Breitenbach | B9: 0.005775463 | C9: 21 | D9: aout | E9: 2011
A10: Treh | B10: 0.024814815 | C10: 28 | D10: aout | E10: 2011
A11: Treh | B11: 0.01693287 | C11: 28 | D11: aout | E11: 2011
A12: Treh | B12: 0.006724537 | C12: 28 | D12: aout | E12: 2011
A13: Breitenbach | B13: 0.0075578704 | C13: 3 | D13: septembre | E13: 2011
... A261: Montmin | B261: 0.052083333 | C261: 22 | D261: Août | E261: 2016

Sheet Liste des sites
A1: SITES | B1: Nb de VOLS | C1: Temps de VOL en 2011 | D1: Temps de VOL en 2012 | E1: Temps de VOL en 2013 | F1: Temps de VOL en 2014 | G1: Temps de VOL en 2015 | H1: Temps de VOL en 2016
A2: Aiguebelette | B2: =COUNTIF(CDV!$A$2:$A$309,'Liste des sites'!A2) -> 1 | C2: =SUMIFS(CDV!$B:$B,CDV!$A:$A,$A2,CDV!$E:$E,2010+COLUMNS($C:C)) -> 0 | D2: =SUMIFS(CDV!$B:$B,CDV!$A:$A,$A2,CDV!$E:$E,2010+COLUMNS($C:D)) -> 0 | E2: =SUMIFS(CDV!$B:$B,CDV!$A:$A,$A2,CDV!$E:$E,2010+COLUMNS($C:E)) -> 0 | F2: =SUMIFS(CDV!$B:$B,CDV!$A:$A,$A2,CDV!$E:$E,2010+COLUMNS($C:F)) -> 0.059027778 | G2: =SUMIFS(CDV!$B:$B,CDV!$A:$A,$A2,CDV!$E:$E,2010+COLUMNS($C:G)) -> 0 | H2: =SUMIFS(CDV!$B:$B,CDV!$A:$A,$A2,CDV!$E:$E,2010+COLUMNS($C:H)) -> 0
A3: Altenberg | B3: =COUNTIF(CDV!$A$2:$A$309,'Liste des sites'!A3) -> 4 | C3: =SUMIFS(CDV!$B:$B,CDV!$A:$A,$A3,CDV!$E:$E,2010+COLUMNS($C:C)) -> 0 | D3: =SUMIFS(CDV!$B:$B,CDV!$A:$A,$A3,CDV!$E:$E,2010+COLUMNS($C:D)) -> 0.015671296 | E3: =SUMIFS(CDV!$B:$B,CDV!$A:$A,$A3,CDV!$E:$E,2010+COLUMNS($C:E)) -> 0.14423611 | F3: =SUMIFS(CDV!$B:$B,CDV!$A:$A,$A3,CDV!$E:$E,2010+COLUMNS($C:F)) -> 0 | G3: =SUMIFS(CDV!$B:$B,CDV!$A:$A,$A3,CDV!$E:$E,2010+COLUMNS($C:G)) -> 0 | H3: =SUMIFS(CDV!$B:$B,CDV!$A:$A,$A3,CDV!$E:$E,2010+COLUMNS($C:H)) -> 0
A4: Andelsbuch | B4: =COUNTIF(CDV!$A$2:$A$309,'Liste des sites'!A4) -> 2 | C4: =SUMIFS(CDV!$B:$B,CDV!$A:$A,$A4,CDV!$E:$E,2010+COLUMNS($C:C)) -> 0 | D4: =SUMIFS(CDV!$B:$B,CDV!$A:$A,$A4,CDV!$E:$E,2010+COLUMNS($C:D)) -> 0 | E4: =SUMIFS(CDV!$B:$B,CDV!$A:$A,$A4,CDV!$E:$E,2010+COLUMNS($C:E)) -> 0.043668981 | F4: =SUMIFS(CDV!$B:$B,CDV!$A:$A,$A4,CDV!$E:$E,2010+COLUMNS($C:F)) -> 0 | G4: =SUMIFS(CDV!$B:$B,CDV!$A:$A,$A4,CDV!$E:$E,2010+COLUMNS($C:G)) -> 0 | H4: =SUMIFS(CDV!$B:$B,CDV!$A:$A,$A4,CDV!$E:$E,2010+COLUMNS($C:H)) -> 0
A5: Belmont | B5: =COUNTIF(CDV!$A$2:$A$309,'Liste des sites'!A5) -> 1 | C5: =SUMIFS(CDV!$B:$B,CDV!$A:$A,$A5,CDV!$E:$E,2010+COLUMNS($C:C)) -> 0 | D5: =SUMIFS(CDV!$B:$B,CDV!$A:$A,$A5,CDV!$E:$E,2010+COLUMNS($C:D)) -> 0.00069444444 | E5: =SUMIFS(CDV!$B:$B,CDV!$A:$A,$A5,CDV!$E:$E,2010+COLUMNS($C:E)) -> 0 | F5: =SUMIFS(CDV!$B:$B,CDV!$A:$A,$A5,CDV!$E:$E,2010+COLUMNS($C:F)) -> 0 | G5: =SUMIFS(CDV!$B:$B,CDV!$A:$A,$A5,CDV!$E:$E,2010+COLUMNS($C:G)) -> 0 | H5: =SUMIFS(CDV!$B:$B,CDV!$A:$A,$A5,CDV!$E:$E,2010+COLUMNS($C:H)) -> 0
A6: Breitenbach | B6: =COUNTIF(CDV!$A$2:$A$309,'Liste des sites'!A6) -> 98 | C6: =SUMIFS(CDV!$B:$B,CDV!$A:$A,$A6,CDV!$E:$E,2010+COLUMNS($C:C)) -> 0.26549769 | D6: =SUMIFS(CDV!$B:$B,CDV!$A:$A,$A6,CDV!$E:$E,2010+COLUMNS($C:D)) -> 0.42771991 | E6: =SUMIFS(CDV!$B:$B,CDV!$A:$A,$A6,CDV!$E:$E,2010+COLUMNS($C:E)) -> 0.24792824 | F6: =SUMIFS(CDV!$B:$B,CDV!$A:$A,$A6,CDV!$E:$E,2010+COLUMNS($C:F)) -> 0.32708333 | G6: =SUMIFS(CDV!$B:$B,CDV!$A:$A,$A6,CDV!$E:$E,2010+COLUMNS($C:G)) -> 0.15763889 | H6: =SUMIFS(CDV!$B:$B,CDV!$A:$A,$A6,CDV!$E:$E,2010+COLUMNS($C:H)) -> 0.29791667
A7: Breitenbach Ouest | B7: =COUNTIF(CDV!$A$2:$A$309,'Liste des sites'!A7) -> 1 | C7: =SUMIFS(CDV!$B:$B,CDV!$A:$A,$A7,CDV!$E:$E,2010+COLUMNS($C:C)) -> 0.0042013889 | D7: =SUMIFS(CDV!$B:$B,CDV!$A:$A,$A7,CDV!$E:$E,2010+COLUMNS($C:D)) -> 0 | E7: =SUMIFS(CDV!$B:$B,CDV!$A:$A,$A7,CDV!$E:$E,2010+COLUMNS($C:E)) -> 0 | F7: =SUMIFS(CDV!$B:$B,CDV!$A:$A,$A7,CDV!$E:$E,2010+COLUMNS($C:F)) -> 0 | G7: =SUMIFS(CDV!$B:$B,CDV!$A:$A,$A7,CDV!$E:$E,2010+COLUMNS($C:G)) -> 0 | H7: =SUMIFS(CDV!$B:$B,CDV!$A:$A,$A7,CDV!$E:$E,2010+COLUMNS($C:H)) -> 0
A8: Drumont | B8: =COUNTIF(CDV!$A$2:$A$309,'Liste des sites'!A8) -> 5 | C8: =SUMIFS(CDV!$B:$B,CDV!$A:$A,$A8,CDV!$E:$E,2010+COLUMNS($C:C)) -> 0 | D8: =SUMIFS(CDV!$B:$B,CDV!$A:$A,$A8,CDV!$E:$E,2010+COLUMNS($C:D)) -> 0.10336806 | E8: =SUMIFS(CDV!$B:$B,CDV!$A:$A,$A8,CDV!$E:$E,2010+COLUMNS($C:E)) -> 0 | F8: =SUMIFS(CDV!$B:$B,CDV!$A:$A,$A8,CDV!$E:$E,2010+COLUMNS($C:F)) -> 0 | G8: =SUMIFS(CDV!$B:$B,CDV!$A:$A,$A8,CDV!$E:$E,2010+COLUMNS($C:G)) -> 0 | H8: =SUMIFS(CDV!$B:$B,CDV!$A:$A,$A8,CDV!$E:$E,2010+COLUMNS($C:H)) -> 0
A9: Gaschney | B9: =COUNTIF(CDV!$A$2:$A$309,'Liste des sites'!A9) -> 3 | C9: =SUMIFS(CDV!$B:$B,CDV!$A:$A,$A9,CDV!$E:$E,2010+COLUMNS($C:C)) -> 0 | D9: =SUMIFS(CDV!$B:$B,CDV!$A:$A,$A9,CDV!$E:$E,2010+COLUMNS($C:D)) -> 0.016956019 | E9: =SUMIFS(CDV!$B:$B,CDV!$A:$A,$A9,CDV!$E:$E,2010+COLUMNS($C:E)) -> 0.037071759 | F9: =SUMIFS(CDV!$B:$B,CDV!$A:$A,$A9,CDV!$E:$E,2010+COLUMNS($C:F)) -> 0 | G9: =SUMIFS(CDV!$B:$B,CDV!$A:$A,$A9,CDV!$E:$E,2010+COLUMNS($C:G)) -> 0 | H9: =SUMIFS(CDV!$B:$B,CDV!$A:$A,$A9,CDV!$E:$E,2010+COLUMNS($C:H)) -> 0
A10: Grand Bornand | B10: =COUNTIF(CDV!$A$2:$A$309,'Liste des sites'!A10) -> 3 | C10: =SUMIFS(CDV!$B:$B,CDV!$A:$A,$A10,CDV!$E:$E,2010+COLUMNS($C:C)) -> 0 | D10: =SUMIFS(CDV!$B:$B,CDV!$A:$A,$A10,CDV!$E:$E,2010+COLUMNS($C:D)) -> 0 | E10: =SUMIFS(CDV!$B:$B,CDV!$A:$A,$A10,CDV!$E:$E,2010+COLUMNS($C:E)) -> 0 | F10: =SUMIFS(CDV!$B:$B,CDV!$A:$A,$A10,CDV!$E:$E,2010+COLUMNS($C:F)) -> 0.011805556 | G10: =SUMIFS(CDV!$B:$B,CDV!$A:$A,$A10,CDV!$E:$E,2010+COLUMNS($C:G)) -> 0 | H10: =SUMIFS(CDV!$B:$B,CDV!$A:$A,$A10,CDV!$E:$E,2010+COLUMNS($C:H)) -> 0.15625
A11: Kandel | B11: =COUNTIF(CDV!$A$2:$A$309,'Liste des sites'!A11) -> 4 | C11: =SUMIFS(CDV!$B:$B,CDV!$A:$A,$A11,CDV!$E:$E,2010+COLUMNS($C:C)) -> 0 | D11: =SUMIFS(CDV!$B:$B,CDV!$A:$A,$A11,CDV!$E:$E,2010+COLUMNS($C:D)) -> 0.045740741 | E11: =SUMIFS(CDV!$B:$B,CDV!$A:$A,$A11,CDV!$E:$E,2010+COLUMNS($C:E)) -> 0 | F11: =SUMIFS(CDV!$B:$B,CDV!$A:$A,$A11,CDV!$E:$E,2010+COLUMNS($C:F)) -> 0 | G11: =SUMIFS(CDV!$B:$B,CDV!$A:$A,$A11,CDV!$E:$E,2010+COLUMNS($C:G)) -> 0.01875 | H11: =SUMIFS(CDV!$B:$B,CDV!$A:$A,$A11,CDV!$E:$E,2010+COLUMNS($C:H)) -> 0.065972222
A12: La Clusaz | B12: =COUNTIF(CDV!$A$2:$A$309,'Liste des sites'!A12) -> 4 | C12: =SUMIFS(CDV!$B:$B,CDV!$A:$A,$A12,CDV!$E:$E,2010+COLUMNS($C:C)) -> 0 | D12: =SUMIFS(CDV!$B:$B,CDV!$A:$A,$A12,CDV!$E:$E,2010+COLUMNS($C:D)) -> 0 | E12: =SUMIFS(CDV!$B:$B,CDV!$A:$A,$A12,CDV!$E:$E,2010+COLUMNS($C:E)) -> 0 | F12: =SUMIFS(CDV!$B:$B,CDV!$A:$A,$A12,CDV!$E:$E,2010+COLUMNS($C:F)) -> 0 | G12: =SUMIFS(CDV!$B:$B,CDV!$A:$A,$A12,CDV!$E:$E,2010+COLUMNS($C:G)) -> 0.079166667 | H12: =SUMIFS(CDV!$B:$B,CDV!$A:$A,$A12,CDV!$E:$E,2010+COLUMNS($C:H)) -> 0.098611111
A13: Marlens | B13: =COUNTIF(CDV!$A$2:$A$309,'Liste des sites'!A13) -> 4 | C13: =SUMIFS(CDV!$B:$B,CDV!$A:$A,$A13,CDV!$E:$E,2010+COLUMNS($C:C)) -> 0 | D13: =SUMIFS(CDV!$B:$B,CDV!$A:$A,$A13,CDV!$E:$E,2010+COLUMNS($C:D)) -> 0 | E13: =SUMIFS(CDV!$B:$B,CDV!$A:$A,$A13,CDV!$E:$E,2010+COLUMNS($C:E)) -> 0 | F13: =SUMIFS(CDV!$B:$B,CDV!$A:$A,$A13,CDV!$E:$E,2010+COLUMNS($C:F)) -> 0.036805556 | G13: =SUMIFS(CDV!$B:$B,CDV!$A:$A,$A13,CDV!$E:$E,2010+COLUMNS($C:G)) -> 0.029861111 | H13: =SUMIFS(CDV!$B:$B,CDV!$A:$A,$A13,CDV!$E:$E,2010+COLUMNS($C:H)) -> 0.089583333
... A28: Treh déco Sud | B28: =COUNTIF(CDV!$A$2:$A$309,'Liste des sites'!A28) -> 5 | C28: =SUMIFS(CDV!$B:$B,CDV!$A:$A,$A28,CDV!$E:$E,2010+COLUMNS($C:C)) -> 0 | D28: =SUMIFS(CDV!$B:$B,CDV!$A:$A,$A28,CDV!$E:$E,2010+COLUMNS($C:D)) -> 0.066099537 | E28: =SUMIFS(CDV!$B:$B,CDV!$A:$A,$A28,CDV!$E:$E,2010+COLUMNS($C:E)) -> 0 | F28: =SUMIFS(CDV!$B:$B,CDV!$A:$A,$A28,CDV!$E:$E,2010+COLUMNS($C:F)) -> 0 | G28: =SUMIFS(CDV!$B:$B,CDV!$A:$A,$A28,CDV!$E:$E,2010+COLUMNS($C:G)) -> 0.10208333 | H28: =SUMIFS(CDV!$B:$B,CDV!$A:$A,$A28,CDV!$E:$E,2010+COLUMNS($C:H)) -> 0
B29: =SUM(B2:B28) -> 260 | C29: =SUM(C2:C28) -> 0.47680556 | D29: =SUM(D2:D28) -> 0.899375 | E29: =SUM(E2:E28) -> 1.3116088 | F29: =SUM(F2:F28) -> 1.3694444 | G29: =SUM(G2:G28) -> 1.3909722 | H29: =SUM(H2:H28) -> 1.2368056
A51: Janvier
A52: Février
A53: Mars
A54: Avril
A55: Mai
A56: Juin
A57: Juillet
A58: Août
A59: Septembre
A60: Octobre
A61: Novembre
A62: Décembre
