Workbook

Sheet Feuil1
A1: TRIMESTRE | B1: AGENCE | G1: Q1 | H1: Q2 | I1: Q3 | J1: Q4
A2: Q1-2020 | B2: HOPE ESTATE | F2: {=IFERROR(OFFSET(B$1,MATCH(0,COUNTIF(F$1:F1,Tableau1[AGENCE]),0),),"")} -> HOPE ESTATE | G2: =IF($F2="","",COUNTIFS($A:$A,G$1&"*",$B:$B,$F2)) -> 2 | H2: =IF($F2="","",COUNTIFS($A:$A,H$1&"*",$B:$B,$F2)) -> 0 | I2: =IF($F2="","",COUNTIFS($A:$A,I$1&"*",$B:$B,$F2)) -> 0 | J2: =IF($F2="","",COUNTIFS($A:$A,J$1&"*",$B:$B,$F2)) -> 0
A3: Q1-2021 | B3: ST BARTH | F3: {=IFERROR(OFFSET(B$1,MATCH(0,COUNTIF(F$1:F2,Tableau1[AGENCE]),0),),"")} -> ST BARTH | G3: =IF($F3="","",COUNTIFS($A:$A,G$1&"*",$B:$B,$F3)) -> 1 | H3: =IF($F3="","",COUNTIFS($A:$A,H$1&"*",$B:$B,$F3)) -> 0 | I3: =IF($F3="","",COUNTIFS($A:$A,I$1&"*",$B:$B,$F3)) -> 1 | J3: =IF($F3="","",COUNTIFS($A:$A,J$1&"*",$B:$B,$F3)) -> 0
A4: Q1-2021 | B4: PAP | F4: {=IFERROR(OFFSET(B$1,MATCH(0,COUNTIF(F$1:F3,Tableau1[AGENCE]),0),),"")} -> PAP | G4: =IF($F4="","",COUNTIFS($A:$A,G$1&"*",$B:$B,$F4)) -> 2 | H4: =IF($F4="","",COUNTIFS($A:$A,H$1&"*",$B:$B,$F4)) -> 1 | I4: =IF($F4="","",COUNTIFS($A:$A,I$1&"*",$B:$B,$F4)) -> 1 | J4: =IF($F4="","",COUNTIFS($A:$A,J$1&"*",$B:$B,$F4)) -> 0
A5: Q2-2021 | B5: PAP | F5: {=IFERROR(OFFSET(B$1,MATCH(0,COUNTIF(F$1:F4,Tableau1[AGENCE]),0),),"")} -> CHANZY | G5: =IF($F5="","",COUNTIFS($A:$A,G$1&"*",$B:$B,$F5)) -> 0 | H5: =IF($F5="","",COUNTIFS($A:$A,H$1&"*",$B:$B,$F5)) -> 0 | I5: =IF($F5="","",COUNTIFS($A:$A,I$1&"*",$B:$B,$F5)) -> 2 | J5: =IF($F5="","",COUNTIFS($A:$A,J$1&"*",$B:$B,$F5)) -> 0
A6: Q1-2021 | B6: PAP | F6: {=IFERROR(OFFSET(B$1,MATCH(0,COUNTIF(F$1:F5,Tableau1[AGENCE]),0),),"")} | G6: =IF($F6="","",COUNTIFS($A:$A,G$1&"*",$B:$B,$F6)) | H6: =IF($F6="","",COUNTIFS($A:$A,H$1&"*",$B:$B,$F6)) | I6: =IF($F6="","",COUNTIFS($A:$A,I$1&"*",$B:$B,$F6)) | J6: =IF($F6="","",COUNTIFS($A:$A,J$1&"*",$B:$B,$F6))
A7: Q3-2021 | B7: ST BARTH | F7: {=IFERROR(OFFSET(B$1,MATCH(0,COUNTIF(F$1:F6,Tableau1[AGENCE]),0),),"")} | G7: =IF($F7="","",COUNTIFS($A:$A,G$1&"*",$B:$B,$F7)) | H7: =IF($F7="","",COUNTIFS($A:$A,H$1&"*",$B:$B,$F7)) | I7: =IF($F7="","",COUNTIFS($A:$A,I$1&"*",$B:$B,$F7)) | J7: =IF($F7="","",COUNTIFS($A:$A,J$1&"*",$B:$B,$F7))
A8: Q1-2021 | B8: HOPE ESTATE | F8: {=IFERROR(OFFSET(B$1,MATCH(0,COUNTIF(F$1:F7,Tableau1[AGENCE]),0),),"")} | G8: =IF($F8="","",COUNTIFS($A:$A,G$1&"*",$B:$B,$F8)) | H8: =IF($F8="","",COUNTIFS($A:$A,H$1&"*",$B:$B,$F8)) | I8: =IF($F8="","",COUNTIFS($A:$A,I$1&"*",$B:$B,$F8)) | J8: =IF($F8="","",COUNTIFS($A:$A,J$1&"*",$B:$B,$F8))
A9: Q3-2021 | B9: PAP | F9: {=IFERROR(OFFSET(B$1,MATCH(0,COUNTIF(F$1:F8,Tableau1[AGENCE]),0),),"")} | G9: =IF($F9="","",COUNTIFS($A:$A,G$1&"*",$B:$B,$F9)) | H9: =IF($F9="","",COUNTIFS($A:$A,H$1&"*",$B:$B,$F9)) | I9: =IF($F9="","",COUNTIFS($A:$A,I$1&"*",$B:$B,$F9)) | J9: =IF($F9="","",COUNTIFS($A:$A,J$1&"*",$B:$B,$F9))
A10: Q3-2021 | B10: CHANZY | F10: {=IFERROR(OFFSET(B$1,MATCH(0,COUNTIF(F$1:F9,Tableau1[AGENCE]),0),),"")} | G10: =IF($F10="","",COUNTIFS($A:$A,G$1&"*",$B:$B,$F10)) | H10: =IF($F10="","",COUNTIFS($A:$A,H$1&"*",$B:$B,$F10)) | I10: =IF($F10="","",COUNTIFS($A:$A,I$1&"*",$B:$B,$F10)) | J10: =IF($F10="","",COUNTIFS($A:$A,J$1&"*",$B:$B,$F10))
A11: Q3-2021 | B11: CHANZY | F11: {=IFERROR(OFFSET(B$1,MATCH(0,COUNTIF(F$1:F10,Tableau1[AGENCE]),0),),"")} | G11: =IF($F11="","",COUNTIFS($A:$A,G$1&"*",$B:$B,$F11)) | H11: =IF($F11="","",COUNTIFS($A:$A,H$1&"*",$B:$B,$F11)) | I11: =IF($F11="","",COUNTIFS($A:$A,I$1&"*",$B:$B,$F11)) | J11: =IF($F11="","",COUNTIFS($A:$A,J$1&"*",$B:$B,$F11))
G13: Formule matricielle à valider par CTrl+Maj+Entrée et à tirer vers le bas
G14: Formule classique à tirer vers le bas et vers la droite

Sheet TCD
A1: Nombre de AGENCE
A2: Étiquettes de lignes | B2: Q1 | C2: Q2 | D2: Q3
A3: CHANZY | D3: 2
A4: HOPE ESTATE | B4: 2
A5: PAP | B5: 2 | C5: 1 | D5: 1
A6: ST BARTH | B6: 1 | D6: 1

Sheet Feuil2
B1: Q1 | C1: Q2 | D1: Q3 | E1: Q4
A2: {=IFERROR(OFFSET(Feuil1!B$1,MATCH(0,COUNTIF(A$1:A1,Tableau1[AGENCE]),0),),"")} -> HOPE ESTATE | B2: =IF($A2="","",COUNTIFS(Feuil1!$A:$A,B$1&"*",Feuil1!$B:$B,$A2)) -> 2 | C2: =IF($A2="","",COUNTIFS(Feuil1!$A:$A,C$1&"*",Feuil1!$B:$B,$A2)) -> 0 | D2: =IF($A2="","",COUNTIFS(Feuil1!$A:$A,D$1&"*",Feuil1!$B:$B,$A2)) -> 0 | E2: =IF($A2="","",COUNTIFS(Feuil1!$A:$A,E$1&"*",Feuil1!$B:$B,$A2)) -> 0
A3: {=IFERROR(OFFSET(Feuil1!B$1,MATCH(0,COUNTIF(A$1:A2,Tableau1[AGENCE]),0),),"")} -> ST BARTH | B3: =IF($A3="","",COUNTIFS(Feuil1!$A:$A,B$1&"*",Feuil1!$B:$B,$A3)) -> 1 | C3: =IF($A3="","",COUNTIFS(Feuil1!$A:$A,C$1&"*",Feuil1!$B:$B,$A3)) -> 0 | D3: =IF($A3="","",COUNTIFS(Feuil1!$A:$A,D$1&"*",Feuil1!$B:$B,$A3)) -> 1 | E3: =IF($A3="","",COUNTIFS(Feuil1!$A:$A,E$1&"*",Feuil1!$B:$B,$A3)) -> 0
A4: {=IFERROR(OFFSET(Feuil1!B$1,MATCH(0,COUNTIF(A$1:A3,Tableau1[AGENCE]),0),),"")} -> PAP | B4: =IF($A4="","",COUNTIFS(Feuil1!$A:$A,B$1&"*",Feuil1!$B:$B,$A4)) -> 2 | C4: =IF($A4="","",COUNTIFS(Feuil1!$A:$A,C$1&"*",Feuil1!$B:$B,$A4)) -> 1 | D4: =IF($A4="","",COUNTIFS(Feuil1!$A:$A,D$1&"*",Feuil1!$B:$B,$A4)) -> 1 | E4: =IF($A4="","",COUNTIFS(Feuil1!$A:$A,E$1&"*",Feuil1!$B:$B,$A4)) -> 0
A5: {=IFERROR(OFFSET(Feuil1!B$1,MATCH(0,COUNTIF(A$1:A4,Tableau1[AGENCE]),0),),"")} -> CHANZY | B5: =IF($A5="","",COUNTIFS(Feuil1!$A:$A,B$1&"*",Feuil1!$B:$B,$A5)) -> 0 | C5: =IF($A5="","",COUNTIFS(Feuil1!$A:$A,C$1&"*",Feuil1!$B:$B,$A5)) -> 0 | D5: =IF($A5="","",COUNTIFS(Feuil1!$A:$A,D$1&"*",Feuil1!$B:$B,$A5)) -> 2 | E5: =IF($A5="","",COUNTIFS(Feuil1!$A:$A,E$1&"*",Feuil1!$B:$B,$A5)) -> 0
A6: {=IFERROR(OFFSET(Feuil1!B$1,MATCH(0,COUNTIF(A$1:A5,Tableau1[AGENCE]),0),),"")} | B6: =IF($A6="","",COUNTIFS(Feuil1!$A:$A,B$1&"*",Feuil1!$B:$B,$A6)) | C6: =IF($A6="","",COUNTIFS(Feuil1!$A:$A,C$1&"*",Feuil1!$B:$B,$A6)) | D6: =IF($A6="","",COUNTIFS(Feuil1!$A:$A,D$1&"*",Feuil1!$B:$B,$A6)) | E6: =IF($A6="","",COUNTIFS(Feuil1!$A:$A,E$1&"*",Feuil1!$B:$B,$A6))
A7: {=IFERROR(OFFSET(Feuil1!B$1,MATCH(0,COUNTIF(A$1:A6,Tableau1[AGENCE]),0),),"")} | B7: =IF($A7="","",COUNTIFS(Feuil1!$A:$A,B$1&"*",Feuil1!$B:$B,$A7)) | C7: =IF($A7="","",COUNTIFS(Feuil1!$A:$A,C$1&"*",Feuil1!$B:$B,$A7)) | D7: =IF($A7="","",COUNTIFS(Feuil1!$A:$A,D$1&"*",Feuil1!$B:$B,$A7)) | E7: =IF($A7="","",COUNTIFS(Feuil1!$A:$A,E$1&"*",Feuil1!$B:$B,$A7))
A8: {=IFERROR(OFFSET(Feuil1!B$1,MATCH(0,COUNTIF(A$1:A7,Tableau1[AGENCE]),0),),"")} | B8: =IF($A8="","",COUNTIFS(Feuil1!$A:$A,B$1&"*",Feuil1!$B:$B,$A8)) | C8: =IF($A8="","",COUNTIFS(Feuil1!$A:$A,C$1&"*",Feuil1!$B:$B,$A8)) | D8: =IF($A8="","",COUNTIFS(Feuil1!$A:$A,D$1&"*",Feuil1!$B:$B,$A8)) | E8: =IF($A8="","",COUNTIFS(Feuil1!$A:$A,E$1&"*",Feuil1!$B:$B,$A8))
A9: {=IFERROR(OFFSET(Feuil1!B$1,MATCH(0,COUNTIF(A$1:A8,Tableau1[AGENCE]),0),),"")} | B9: =IF($A9="","",COUNTIFS(Feuil1!$A:$A,B$1&"*",Feuil1!$B:$B,$A9)) | C9: =IF($A9="","",COUNTIFS(Feuil1!$A:$A,C$1&"*",Feuil1!$B:$B,$A9)) | D9: =IF($A9="","",COUNTIFS(Feuil1!$A:$A,D$1&"*",Feuil1!$B:$B,$A9)) | E9: =IF($A9="","",COUNTIFS(Feuil1!$A:$A,E$1&"*",Feuil1!$B:$B,$A9))
A10: {=IFERROR(OFFSET(Feuil1!B$1,MATCH(0,COUNTIF(A$1:A9,Tableau1[AGENCE]),0),),"")} | B10: =IF($A10="","",COUNTIFS(Feuil1!$A:$A,B$1&"*",Feuil1!$B:$B,$A10)) | C10: =IF($A10="","",COUNTIFS(Feuil1!$A:$A,C$1&"*",Feuil1!$B:$B,$A10)) | D10: =IF($A10="","",COUNTIFS(Feuil1!$A:$A,D$1&"*",Feuil1!$B:$B,$A10)) | E10: =IF($A10="","",COUNTIFS(Feuil1!$A:$A,E$1&"*",Feuil1!$B:$B,$A10))
A11: {=IFERROR(OFFSET(Feuil1!B$1,MATCH(0,COUNTIF(A$1:A10,Tableau1[AGENCE]),0),),"")} | B11: =IF($A11="","",COUNTIFS(Feuil1!$A:$A,B$1&"*",Feuil1!$B:$B,$A11)) | C11: =IF($A11="","",COUNTIFS(Feuil1!$A:$A,C$1&"*",Feuil1!$B:$B,$A11)) | D11: =IF($A11="","",COUNTIFS(Feuil1!$A:$A,D$1&"*",Feuil1!$B:$B,$A11)) | E11: =IF($A11="","",COUNTIFS(Feuil1!$A:$A,E$1&"*",Feuil1!$B:$B,$A11))
A12: {=IFERROR(OFFSET(Feuil1!B$1,MATCH(0,COUNTIF(A$1:A11,Tableau1[AGENCE]),0),),"")} | B12: =IF($A12="","",COUNTIFS(Feuil1!$A:$A,B$1&"*",Feuil1!$B:$B,$A12)) | C12: =IF($A12="","",COUNTIFS(Feuil1!$A:$A,C$1&"*",Feuil1!$B:$B,$A12)) | D12: =IF($A12="","",COUNTIFS(Feuil1!$A:$A,D$1&"*",Feuil1!$B:$B,$A12)) | E12: =IF($A12="","",COUNTIFS(Feuil1!$A:$A,E$1&"*",Feuil1!$B:$B,$A12))
A13: {=IFERROR(OFFSET(Feuil1!B$1,MATCH(0,COUNTIF(A$1:A12,Tableau1[AGENCE]),0),),"")} | B13: =IF($A13="","",COUNTIFS(Feuil1!$A:$A,B$1&"*",Feuil1!$B:$B,$A13)) | C13: =IF($A13="","",COUNTIFS(Feuil1!$A:$A,C$1&"*",Feuil1!$B:$B,$A13)) | D13: =IF($A13="","",COUNTIFS(Feuil1!$A:$A,D$1&"*",Feuil1!$B:$B,$A13)) | E13: =IF($A13="","",COUNTIFS(Feuil1!$A:$A,E$1&"*",Feuil1!$B:$B,$A13))
A14: {=IFERROR(OFFSET(Feuil1!B$1,MATCH(0,COUNTIF(A$1:A13,Tableau1[AGENCE]),0),),"")} | B14: =IF($A14="","",COUNTIFS(Feuil1!$A:$A,B$1&"*",Feuil1!$B:$B,$A14)) | C14: =IF($A14="","",COUNTIFS(Feuil1!$A:$A,C$1&"*",Feuil1!$B:$B,$A14)) | D14: =IF($A14="","",COUNTIFS(Feuil1!$A:$A,D$1&"*",Feuil1!$B:$B,$A14)) | E14: =IF($A14="","",COUNTIFS(Feuil1!$A:$A,E$1&"*",Feuil1!$B:$B,$A14))
