Workbook

Sheet Rapport d'activité
E4: Rapport d'activité
E6: Code prestation | F6: Libellé prestation | G6: Prix unitaire | H6: R ou NR
E7: =IFERROR(INDEX('Lot Plomberie sanitaire'!A$5:A$55,MATCH(F7,'Lot Plomberie sanitaire'!B$5:B$55,0)),"") | G7: =IFERROR(VLOOKUP($E7,'Lot Plomberie sanitaire'!$A$5:$D$55,COLUMNS($E:G),0),"") | H7: =IFERROR(VLOOKUP($E7,'Lot Plomberie sanitaire'!$A$5:$D$55,COLUMNS($E:H),0),"")
E8: =IFERROR(INDEX('Lot Plomberie sanitaire'!A$5:A$55,MATCH(F8,'Lot Plomberie sanitaire'!B$5:B$55,0)),"") | G8: =IFERROR(VLOOKUP($E8,'Lot Plomberie sanitaire'!$A$5:$D$55,COLUMNS($E:G),0),"") | H8: =IFERROR(VLOOKUP($E8,'Lot Plomberie sanitaire'!$A$5:$D$55,COLUMNS($E:H),0),"")
E9: =IFERROR(INDEX('Lot Plomberie sanitaire'!A$5:A$55,MATCH(F9,'Lot Plomberie sanitaire'!B$5:B$55,0)),"") -> 065 | F9: Dépose d'une installation de gaz d'un logement | G9: =IFERROR(VLOOKUP($E9,'Lot Plomberie sanitaire'!$A$5:$D$55,COLUMNS($E:G),0),"") -> 60 | H9: =IFERROR(VLOOKUP($E9,'Lot Plomberie sanitaire'!$A$5:$D$55,COLUMNS($E:H),0),"") -> 0
E10: =IFERROR(INDEX('Lot Plomberie sanitaire'!A$5:A$55,MATCH(F10,'Lot Plomberie sanitaire'!B$5:B$55,0)),"") | G10: =IFERROR(VLOOKUP($E10,'Lot Plomberie sanitaire'!$A$5:$D$55,COLUMNS($E:G),0),"") | H10: =IFERROR(VLOOKUP($E10,'Lot Plomberie sanitaire'!$A$5:$D$55,COLUMNS($E:H),0),"")
E11: =IFERROR(INDEX('Lot Plomberie sanitaire'!A$5:A$55,MATCH(F11,'Lot Plomberie sanitaire'!B$5:B$55,0)),"") -> 002 | F11: Dégorgement WC hors urgence | G11: =IFERROR(VLOOKUP($E11,'Lot Plomberie sanitaire'!$A$5:$D$55,COLUMNS($E:G),0),"") -> 72 | H11: =IFERROR(VLOOKUP($E11,'Lot Plomberie sanitaire'!$A$5:$D$55,COLUMNS($E:H),0),"") -> R
E12: =IFERROR(INDEX('Lot Plomberie sanitaire'!A$5:A$55,MATCH(F12,'Lot Plomberie sanitaire'!B$5:B$55,0)),"") | G12: =IFERROR(VLOOKUP($E12,'Lot Plomberie sanitaire'!$A$5:$D$55,COLUMNS($E:G),0),"") | H12: =IFERROR(VLOOKUP($E12,'Lot Plomberie sanitaire'!$A$5:$D$55,COLUMNS($E:H),0),"")
E13: =IFERROR(INDEX('Lot Plomberie sanitaire'!A$5:A$55,MATCH(F13,'Lot Plomberie sanitaire'!B$5:B$55,0)),"") | G13: =IFERROR(VLOOKUP($E13,'Lot Plomberie sanitaire'!$A$5:$D$55,COLUMNS($E:G),0),"") | H13: =IFERROR(VLOOKUP($E13,'Lot Plomberie sanitaire'!$A$5:$D$55,COLUMNS($E:H),0),"")
E14: =IFERROR(INDEX('Lot Plomberie sanitaire'!A$5:A$55,MATCH(F14,'Lot Plomberie sanitaire'!B$5:B$55,0)),"") -> 003 | F14: Réfection du joint d’étanchéité des appareils sanitaires d'un logement | G14: =IFERROR(VLOOKUP($E14,'Lot Plomberie sanitaire'!$A$5:$D$55,COLUMNS($E:G),0),"") -> 35 | H14: =IFERROR(VLOOKUP($E14,'Lot Plomberie sanitaire'!$A$5:$D$55,COLUMNS($E:H),0),"") -> R
E15: =IFERROR(INDEX('Lot Plomberie sanitaire'!A$5:A$55,MATCH(F15,'Lot Plomberie sanitaire'!B$5:B$55,0)),"") | G15: =IFERROR(VLOOKUP($E15,'Lot Plomberie sanitaire'!$A$5:$D$55,COLUMNS($E:G),0),"") | H15: =IFERROR(VLOOKUP($E15,'Lot Plomberie sanitaire'!$A$5:$D$55,COLUMNS($E:H),0),"")
E16: =IFERROR(INDEX('Lot Plomberie sanitaire'!A$5:A$55,MATCH(F16,'Lot Plomberie sanitaire'!B$5:B$55,0)),"") | G16: =IFERROR(VLOOKUP($E16,'Lot Plomberie sanitaire'!$A$5:$D$55,COLUMNS($E:G),0),"") | H16: =IFERROR(VLOOKUP($E16,'Lot Plomberie sanitaire'!$A$5:$D$55,COLUMNS($E:H),0),"")
E17: =IFERROR(INDEX('Lot Plomberie sanitaire'!A$5:A$55,MATCH(F17,'Lot Plomberie sanitaire'!B$5:B$55,0)),"") | G17: =IFERROR(VLOOKUP($E17,'Lot Plomberie sanitaire'!$A$5:$D$55,COLUMNS($E:G),0),"") | H17: =IFERROR(VLOOKUP($E17,'Lot Plomberie sanitaire'!$A$5:$D$55,COLUMNS($E:H),0),"")
E18: =IFERROR(INDEX('Lot Plomberie sanitaire'!A$5:A$55,MATCH(F18,'Lot Plomberie sanitaire'!B$5:B$55,0)),"") -> 001 | F18: Dégorgement siphon et canalisation hors urgence | G18: =IFERROR(VLOOKUP($E18,'Lot Plomberie sanitaire'!$A$5:$D$55,COLUMNS($E:G),0),"") -> 59 | H18: =IFERROR(VLOOKUP($E18,'Lot Plomberie sanitaire'!$A$5:$D$55,COLUMNS($E:H),0),"") -> R
E19: =IFERROR(INDEX('Lot Plomberie sanitaire'!A$5:A$55,MATCH(F19,'Lot Plomberie sanitaire'!B$5:B$55,0)),"") | G19: =IFERROR(VLOOKUP($E19,'Lot Plomberie sanitaire'!$A$5:$D$55,COLUMNS($E:G),0),"") | H19: =IFERROR(VLOOKUP($E19,'Lot Plomberie sanitaire'!$A$5:$D$55,COLUMNS($E:H),0),"")
E20: =IFERROR(INDEX('Lot Plomberie sanitaire'!A$5:A$55,MATCH(F20,'Lot Plomberie sanitaire'!B$5:B$55,0)),"") | G20: =IFERROR(VLOOKUP($E20,'Lot Plomberie sanitaire'!$A$5:$D$55,COLUMNS($E:G),0),"") | H20: =IFERROR(VLOOKUP($E20,'Lot Plomberie sanitaire'!$A$5:$D$55,COLUMNS($E:H),0),"")
E21: =IFERROR(INDEX('Lot Plomberie sanitaire'!A$5:A$55,MATCH(F21,'Lot Plomberie sanitaire'!B$5:B$55,0)),"") -> 030 | F21: Remplacement alimentation / évacuation simple pour MLL ou MLV | G21: =IFERROR(VLOOKUP($E21,'Lot Plomberie sanitaire'!$A$5:$D$55,COLUMNS($E:G),0),"") -> 95 | H21: =IFERROR(VLOOKUP($E21,'Lot Plomberie sanitaire'!$A$5:$D$55,COLUMNS($E:H),0),"") -> NR
E22: =IFERROR(INDEX('Lot Plomberie sanitaire'!A$5:A$55,MATCH(F22,'Lot Plomberie sanitaire'!B$5:B$55,0)),"") | G22: =IFERROR(VLOOKUP($E22,'Lot Plomberie sanitaire'!$A$5:$D$55,COLUMNS($E:G),0),"") | H22: =IFERROR(VLOOKUP($E22,'Lot Plomberie sanitaire'!$A$5:$D$55,COLUMNS($E:H),0),"")
E23: =IFERROR(INDEX('Lot Plomberie sanitaire'!A$5:A$55,MATCH(F23,'Lot Plomberie sanitaire'!B$5:B$55,0)),"") | G23: =IFERROR(VLOOKUP($E23,'Lot Plomberie sanitaire'!$A$5:$D$55,COLUMNS($E:G),0),"") | H23: =IFERROR(VLOOKUP($E23,'Lot Plomberie sanitaire'!$A$5:$D$55,COLUMNS($E:H),0),"")
E24: =IFERROR(INDEX('Lot Plomberie sanitaire'!A$5:A$55,MATCH(F24,'Lot Plomberie sanitaire'!B$5:B$55,0)),"") | G24: =IFERROR(VLOOKUP($E24,'Lot Plomberie sanitaire'!$A$5:$D$55,COLUMNS($E:G),0),"") | H24: =IFERROR(VLOOKUP($E24,'Lot Plomberie sanitaire'!$A$5:$D$55,COLUMNS($E:H),0),"")
E25: =IFERROR(INDEX('Lot Plomberie sanitaire'!A$5:A$55,MATCH(F25,'Lot Plomberie sanitaire'!B$5:B$55,0)),"") | G25: =IFERROR(VLOOKUP($E25,'Lot Plomberie sanitaire'!$A$5:$D$55,COLUMNS($E:G),0),"") | H25: =IFERROR(VLOOKUP($E25,'Lot Plomberie sanitaire'!$A$5:$D$55,COLUMNS($E:H),0),"")
E26: =IFERROR(INDEX('Lot Plomberie sanitaire'!A$5:A$55,MATCH(F26,'Lot Plomberie sanitaire'!B$5:B$55,0)),"") | G26: =IFERROR(VLOOKUP($E26,'Lot Plomberie sanitaire'!$A$5:$D$55,COLUMNS($E:G),0),"") | H26: =IFERROR(VLOOKUP($E26,'Lot Plomberie sanitaire'!$A$5:$D$55,COLUMNS($E:H),0),"")
F29: Informations à récupérer

Sheet Lot Plomberie sanitaire
A3: Lot Plomberie Sanitaire
A4: Code prestation | B4: Libellé prestation | C4: Prix unitaire | D4: R ou NR
B5: REVISION / CURAGE / NETTOYAGE | G5: informations à récupérer
A6: 001 | B6: Dégorgement siphon et canalisation hors urgence | C6: 59 | D6: R
A7: 002 | B7: Dégorgement WC hors urgence | C7: 72 | D7: R
A8: 003 | B8: Réfection du joint d’étanchéité des appareils sanitaires d'un logement | C8: 35 | D8: R
A9: 004 | B9: Dépose d'une installation non-conforme | C9: 45 | D9: NR
A10: 006 | B10: Réparation d'une fuite sur robinetterie EN L'ABSENCE DE CONTRAT ROBINETERIE | C10: 56 | D10: NR
A11: 007 | B11: Remplacement d'un bouchon de vidage pour tout appareil | C11: 10 | D11: NR
A12: 008 | B12: Remplacement d'un vidage avec bonde et tringlerie pour tout appareil | C12: 45 | D12: NR
A13: 009 | B13: Remplacement d'un vidage évier (ou lavabo) simple ou double | C13: 29 | D13: NR
A14: 010 | B14: Remplacement d'un vidage baignoire | C14: 69 | D14: NR
A15: 011 | B15: Remplacement d'un mousseur sur robinet EN L'ABSENCE DE CONTRAT ROBINETERIE | C15: 13 | D15: NR
A16: 012 | B16: Remplacement d'un croisillon sur robinet EN L'ABSENCE DE CONTRAT ROBINETERIE | C16: 15 | D16: NR
A17: 014 | B17: Remplacement d'une tête de robinet EN L'ABSENCE DE CONTRAT ROBINETERIE | C17: 30 | D17: NR
A18: 015 | B18: Refixation ou scellement d’appareil sanitaire | C18: 48
B19: ALIMENTATION / EVACUATION
A20: 020 | B20: Remplace canalisation cuivre d'alimentation EF-EC PARTIE COMMUNE inférieur à 2 ml | C20: 35 | D20: R
A21: 021 | B21: Réparation d'une fuite sur canalisation cuivre d’alimentation EF – EC | C21: 30 | D21: NR
A22: 024 | B22: Remplaçement canalisation d'évacuation PVC EU,EV diam. <50 mm inférieur à 2 ml | C22: 28 | D22: NR
A23: 026 | B23: Réparation fuite sur canalisation évacuation PVC EU, EV ts diamètres | C23: 30 | D23: NR
A24: 030 | B24: Remplacement alimentation / évacuation simple pour MLL ou MLV | C24: 95 | D24: NR
A25: 031 | B25: Remplacement alimentation / évacuation double pour MLL ou MLV | C25: 145 | D25: NR
A26: 032 | B26: Remplacement d'un robinet de puisage PARTIE COMMUNE | C26: 60 | D26: NR
A27: 033 | B27: Remplaçement du robinet d'isolement en logement à l'identique | C27: 55 | D27: R
A28: 035 | B28: Fourniture et pose d'un anti-bélier | C28: 70 | D28: NR
A29: 039 | B29: Remplace robinet à siège d'isol. par vanne1/4 de tour tout diam | C29: 100 | D29: NR
A30: 041 | B30: F&P ou remplaçement d'une coquille isolante sur canalisation | C30: 14 | D30: R
A31: 047 | B31: Remplacement de tampon de dégorgement sur chute PVC ou fonte | C31: 29 | D31: NR
B32: GAZ
A33: 065 | B33: Dépose d'une installation de gaz d'un logement | C33: 60
A34: 066 | B34: F&pose bouchon obturateur pour sortie ROAI en laiton y compris joints | C34: 9
B35: PLOMBERIE – APPAREILS SANITAIRES – ROBINETTERIE
A36: 070 | B36: remplaçement d'un col de cygne ou bec d'évier EN L'ABSENCE DE CONTRAT ROBINETERIE | C36: 34 | D36: R
A37: 080 | B37: remplaçement d'un siphon en PVC pour évier 1 bac | C37: 25 | D37: NR
A38: 081 | B38: remplaçement d'un siphon en PVC pour évier 2 bacs | C38: 35 | D38: NR
A39: 082 | B39: réfection du joint d'étanchéité sur évier | C39: 12 | D39: NR
A40: 098 | B40: remplacement d'un siphon en PVC de baignoire | C40: 48 | D40: NR
A41: 099 | B41: remplacement d'un siphon en PVC de douche avec accès trappe | C41: 56 | D41: NR
A42: 105 | B42: Baignoire / douche réfection du joint d'étanchéité | C42: 17 | D42: NR
...
