Workbook
Name Client: Client!$A$1:$J$11
Name Numéro_Client: Client!$A$2:$A$12
Name Numéro_Prospect: INDEX(Prospect,,1)
Name Offre: 'Offre commerciale'!$A$1:$D$220
Name Prospect: OFFSET(Prospect!$A$2,,,COUNTA(Prospect!$A:$A)-1,10)
Name Taux_tva: tva+TVA!$A$2:$A$91
Name tva: TVA!$A$2:$A$10

Sheet Devis
F2: DEVIS
F4: Date : | G4: =TODAY() -> 42621 | H4: N° | I4: =CONCATENATE("D",YEAR(NOW()),"0",MONTH(NOW()),DAY(NOW()),"-",1) -> D2016098-1
G7: Prospect | H7: PR10
G8: =VLOOKUP(H7,Prospect,2,0)&""
G9: =VLOOKUP(H7,Prospect,3,0)&" "&VLOOKUP(H7,Prospect,4,0)&" "&VLOOKUP(H7,Prospect,5,0)&"" -> Mme / Mr Patrick CROSNIER
G10: =VLOOKUP(H7,Prospect,6,0)&"" -> 4 av Félicité de Lamennais
G11: =VLOOKUP(H7,Prospect,7,0)&" "&VLOOKUP(H7,Prospect,8,0)&"" -> 35190 TINTENIAC
G12: =VLOOKUP(H7,Prospect,9,0)&"" -> 02.99.68.04.71
G13: =VLOOKUP(H7,Prospect,10,0)&""
C15: Adresse d'intervention : | F15: Mr et Mme : | G15: =G9 -> Mme / Mr Patrick CROSNIER
F16: Rue :
F17: N° Appt : | G17: XXX
A18: Devis valable 3 Mois soit jusqu'au | D18: =TODAY()+90 -> 42711 | F18: CP : | G18: 35000 ST GREGOIRE
F19: tel : | G19: XXXXXXXXXX
A21: Réf | B21: Prestations | D21: M²/Ml/Rlx | E21: Prix Unit | F21: Taux TVA | G21: Total HT | H21: TVA | I21: Total TTC
B22: Travaux de peinture et revêtement de sol dans l'entrée
B23: =IFERROR(VLOOKUP(A23,Offre,2,FALSE),"") | E23: =IFERROR(VLOOKUP(A23,Offre,3,FALSE),"") | G23: =IFERROR(D23*E23,"") | H23: =IFERROR(G23*F23,"") | I23: =IFERROR(G23+H23,"")
B24: =IFERROR(VLOOKUP(A24,Offre,2,FALSE),"") | E24: =IFERROR(VLOOKUP(A24,Offre,3,FALSE),"") | G24: =IFERROR(D24*E24,"") | H24: =IFERROR(G24*F24,"") | I24: =IFERROR(G24+H24,"")
B25: =IFERROR(VLOOKUP(A25,Offre,2,FALSE),"") | E25: =IFERROR(VLOOKUP(A25,Offre,3,FALSE),"") | G25: =IFERROR(D25*E25,"") | H25: =IFERROR(G25*F25,"") | I25: =IFERROR(G25+H25,"")
B26: =IFERROR(VLOOKUP(A26,Offre,2,FALSE),"") | E26: =IFERROR(VLOOKUP(A26,Offre,3,FALSE),"") | G26: =IFERROR(D26*E26,"") | H26: =IFERROR(G26*F26,"") | I26: =IFERROR(G26+H26,"")
B27: =IFERROR(VLOOKUP(A27,Offre,2,FALSE),"") | E27: =IFERROR(VLOOKUP(A27,Offre,3,FALSE),"") | G27: =IFERROR(D27*E27,"") | H27: =IFERROR(G27*F27,"") | I27: =IFERROR(G27+H27,"")
B28: =IFERROR(VLOOKUP(A28,Offre,2,FALSE),"") | E28: =IFERROR(VLOOKUP(A28,Offre,3,FALSE),"") | G28: =IFERROR(D28*E28,"") | H28: =IFERROR(G28*F28,"") | I28: =IFERROR(G28+H28,"")
B29: =IFERROR(VLOOKUP(A29,Offre,2,FALSE),"") | E29: =IFERROR(VLOOKUP(A29,Offre,3,FALSE),"") | G29: =IFERROR(D29*E29,"") | H29: =IFERROR(G29*F29,"") | I29: =IFERROR(G29+H29,"")
B30: =IFERROR(VLOOKUP(A30,Offre,2,FALSE),"") | E30: =IFERROR(VLOOKUP(A30,Offre,3,FALSE),"") | G30: =IFERROR(D30*E30,"") | H30: =IFERROR(G30*F30,"") | I30: =IFERROR(G30+H30,"")
B31: =IFERROR(VLOOKUP(A31,Offre,2,FALSE),"") | E31: =IFERROR(VLOOKUP(A31,Offre,3,FALSE),"") | G31: =IFERROR(D31*E31,"") | H31: =IFERROR(G31*F31,"") | I31: =IFERROR(G31+H31,"")
B32: Bon pour accord le : | D32: ___/____/_______ | H32: Total HT | I32: =SUM(G23:G31) -> 0
G33: Total TVA | I33: =SUM(H23:H31) -> 0
B34: Signature du client | H34: Total TTC | I34: =SUM(I32:I33) -> 0
B35: Cachet de l'entreprise | G35: Demande d'acompte 30% | I35: =I34*0.3 -> 0
H37: Suite page | I37: 2/2
A39: Réf | B39: Prestations | D39: M²/Ml/Rlx | E39: Prix Unit | F39: Taux TVA | G39: Total HT | H39: TVA | I39: Total TTC
B40: =IFERROR(VLOOKUP(A40,Offre,2,FALSE),"") | E40: =IFERROR(VLOOKUP(A40,Offre,3,FALSE),"") | G40: =IFERROR(D40*E40,"") | H40: =IFERROR(G40*F40,"") | I40: =IFERROR(G40+H40,"")
B41: =IFERROR(VLOOKUP(A41,Offre,2,FALSE),"") | E41: =IFERROR(VLOOKUP(A41,Offre,3,FALSE),"") | G41: =IFERROR(D41*E41,"") | H41: =IFERROR(G41*F41,"") | I41: =IFERROR(G41+H41,"")
B42: =IFERROR(VLOOKUP(A42,Offre,2,FALSE),"") | E42: =IFERROR(VLOOKUP(A42,Offre,3,FALSE),"") | G42: =IFERROR(D42*E42,"") | H42: =IFERROR(G42*F42,"") | I42: =IFERROR(G42+H42,"")
B43: =IFERROR(VLOOKUP(A43,Offre,2,FALSE),"") | E43: =IFERROR(VLOOKUP(A43,Offre,3,FALSE),"") | G43: =IFERROR(D43*E43,"") | H43: =IFERROR(G43*F43,"") | I43: =IFERROR(G43+H43,"")
B44: =IFERROR(VLOOKUP(A44,Offre,2,FALSE),"") | E44: =IFERROR(VLOOKUP(A44,Offre,3,FALSE),"") | G44: =IFERROR(D44*E44,"") | H44: =IFERROR(G44*F44,"") | I44: =IFERROR(G44+H44,"")
B45: =IFERROR(VLOOKUP(A45,Offre,2,FALSE),"") | E45: =IFERROR(VLOOKUP(A45,Offre,3,FALSE),"") | G45: =IFERROR(D45*E45,"") | H45: =IFERROR(G45*F45,"") | I45: =IFERROR(G45+H45,"")
B46: =IFERROR(VLOOKUP(A46,Offre,2,FALSE),"") | E46: =IFERROR(VLOOKUP(A46,Offre,3,FALSE),"") | G46: =IFERROR(D46*E46,"") | H46: =IFERROR(G46*F46,"") | I46: =IFERROR(G46+H46,"")
B47: =IFERROR(VLOOKUP(A47,Offre,2,FALSE),"") | E47: =IFERROR(VLOOKUP(A47,Offre,3,FALSE),"") | G47: =IFERROR(D47*E47,"") | H47: =IFERROR(G47*F47,"") | I47: =IFERROR(G47+H47,"")
B48: =IFERROR(VLOOKUP(A48,Offre,2,FALSE),"") | E48: =IFERROR(VLOOKUP(A48,Offre,3,FALSE),"") | G48: =IFERROR(D48*E48,"") | H48: =IFERROR(G48*F48,"") | I48: =IFERROR(G48+H48,"")
...

Sheet Facture
F2: FACTURE
H3: N° de facture | I3: F2016000
F4: Date : | G4: =TODAY() -> 42621 | H4: N° de devis | I4: =Devis!I4 -> D2016098-1
G7: Client | H7: CL10
G8: =CONCATENATE(VLOOKUP(H7,Client,2)) -> #N/A
G9: =CONCATENATE(VLOOKUP(H7,Client,3)," ",CONCATENATE(VLOOKUP(H7,Client,4)," ",CONCATENATE(VLOOKUP(H7,Client,5)))) -> #N/A
G10: =VLOOKUP(H7,Client,6) -> #N/A
G11: =CONCATENATE(VLOOKUP(H7,Client,7)," ",CONCATENATE(VLOOKUP(H7,Client,8))) -> #N/A
G12: =VLOOKUP(H7,Client,10) -> #N/A
C14: Adresse d'intervention : | F14: Mr et Mme : | G14: =Devis!G15 -> Mme / Mr Patrick CROSNIER
F15: Rue : | G15: =Devis!G16 -> 0
A16: Mode de paiement | F16: N° Appt : | G16: =Devis!G17 -> XXX
F17: CP : | G17: =Devis!G18 -> 35000 ST GREGOIRE
A19: Réf | B19: Prestations | D19: M² | E19: Prix Unit | F19: Taux TVA | G19: Total HT | H19: TVA | I19: Total TTC
B20: Travaux de peinture et revêtement de sol dans l'entrée
A21: =Devis!A23 -> 0 | B21: =IFERROR(VLOOKUP(A21,Offre,2,FALSE),"") | D21: =Devis!D23 -> 0 | E21: =IFERROR(VLOOKUP(A21,Offre,3,FALSE),"") | F21: =Devis!F23 -> 0 | G21: =IFERROR(D21*E21,"") | H21: =IFERROR(G21*F21,"") | I21: =IFERROR(G21+H21,"")
A22: =Devis!A24 -> 0 | B22: =VLOOKUP(A22,Offre,2) -> #N/A | D22: =Devis!D24 -> 0 | E22: =VLOOKUP(A22,Offre,3) -> #N/A | F22: 0.2 | G22: =D22*E22 -> #N/A | H22: =G22*F22 -> #N/A | I22: =G22+H22 -> #N/A
B23: Sols | E23: =IFERROR(VLOOKUP(A23,Offre,3,FALSE),"")
A24: =Devis!A25 -> 0 | B24: =VLOOKUP(A24,Offre,2) -> #N/A | D24: =Devis!D25 -> 0 | E24: =VLOOKUP(A24,Offre,3) -> #N/A | F24: 0.2 | G24: =D24*E24 -> #N/A | H24: =G24*F24 -> #N/A | I24: =G24+H24 -> #N/A
A25: =Devis!A26 -> 0 | B25: =VLOOKUP(A25,Offre,2) -> #N/A | D25: =Devis!D26 -> 0 | E25: =VLOOKUP(A25,Offre,3) -> #N/A | F25: 1.2 | G25: =D25*E25 -> #N/A | H25: =G25*F25 -> #N/A | I25: =G25+H25 -> #N/A
A26: =Devis!A27 -> 0 | B26: =VLOOKUP(A26,Offre,2) -> #N/A | D26: =Devis!D27 -> 0 | E26: =VLOOKUP(A26,Offre,3) -> #N/A | F26: 2.2 | G26: =D26*E26 -> #N/A | H26: =G26*F26 -> #N/A | I26: =G26+H26 -> #N/A
A27: =Devis!A28 -> 0 | B27: =VLOOKUP(A27,Offre,2) -> #N/A | D27: =Devis!D28 -> 0 | E27: =VLOOKUP(A27,Offre,3) -> #N/A | F27: 3.2 | G27: =D27*E27 -> #N/A | H27: =G27*F27 -> #N/A | I27: =G27+H27 -> #N/A
A28: =Devis!#REF! -> #REF! | B28: =VLOOKUP(A28,Offre,2) -> #REF! | D28: =Devis!#REF! -> #REF! | E28: =VLOOKUP(A28,Offre,3) -> #REF! | F28: 4.2 | G28: =D28*E28 -> #REF! | H28: =G28*F28 -> #REF! | I28: =G28+H28 -> #REF!
A29: =Devis!#REF! -> #REF! | B29: =VLOOKUP(A29,Offre,2) -> #REF! | D29: =Devis!#REF! -> #REF! | E29: =VLOOKUP(A29,Offre,3) -> #REF! | F29: 5.2 | G29: =D29*E29 -> #REF! | H29: =G29*F29 -> #REF! | I29: =G29+H29 -> #REF!
A30: =Devis!#REF! -> #REF! | B30: =VLOOKUP(A30,Offre,2) -> #REF! | D30: =Devis!#REF! -> #REF! | E30: =VLOOKUP(A30,Offre,3) -> #REF! | F30: 6.2 | G30: =D30*E30 -> #REF! | H30: =G30*F30 -> #REF! | I30: =G30+H30 -> #REF!
A31: =Devis!#REF! -> #REF! | B31: =VLOOKUP(A31,Offre,2) -> #REF! | D31: =Devis!#REF! -> #REF! | E31: =VLOOKUP(A31,Offre,3) -> #REF! | F31: 7.2 | G31: =D31*E31 -> #REF! | H31: =G31*F31 -> #REF! | I31: =G31+H31 -> #REF!
B35: Toute somme non payée à sa date d'exigibilité produira de plein droit des intérêts de retard équivalents au triple du taux d'intérêts légal de l'année en cours ainsi que le paiement d'une somme de 40€ due au titre des frais de recouvrement.
H38: Total HT | I38: =SUM(G21:G31) -> #N/A
C39: Date limite de paiement | E39: =TODAY()+30 -> 42651 | G39: Total TVA | I39: =SUM(H21:H31) -> #N/A
G40: Acompte reçu 30% | I40: =Devis!I35 -> 0
G41: Reste à régler TTC | I41: =Devis!I34-Devis!I35 -> 0

Sheet Fiches de chantier
F2: Fiche de Chantier
F4: Date devis : | G4: =TODAY() -> 42621 | H4: N° | J4: =CONCATENATE("GM",YEAR(NOW()),"0",MONTH(NOW()),DAY(NOW()),"-",1) -> GM2016098-1
I7: Adresse d'intervention :
F8: =Devis!G8 | I8: Nom : | J8: =Devis!G15 -> Mme / Mr Patrick CROSNIER
F9: =Devis!G9 -> Mme / Mr Patrick CROSNIER | I9: Rue : | J9: =Devis!G16 -> 0
F10: =Devis!G10 -> 4 av Félicité de Lamennais | I10: N° Appt : | J10: =Devis!G17 -> XXX
F11: =Devis!G11 -> 35190 TINTENIAC | I11: CP : | J11: =Devis!G18 -> 35000 ST GREGOIRE
F12: =Devis!G12 -> 02.99.68.04.71 | I12: Tel : | J12: =Devis!G19 -> XXXXXXXXXX
F13: =Devis!G13
A14: Nom du ou des techniciens: | H14: temps estimé maxi en H | J14: =SUM(H19:H29)/60 -> #N/A
G15: Date de début de chantier :
G16: Date de fin de chantier :
A17: Réf | B17: Prestations | D17: M² | E17: Préparation du matériel | F17: Clés a récupérer | G17: Clés rendues | H17: Temps estimé en minute | I17: Temps passé | J17: Observations
B18: Travaux de peinture et revêtement de sol dans l'entrée
A19: =Devis!A23 -> 0 | B19: =VLOOKUP(A19,Offre,2) -> #N/A | D19: =Devis!D23 -> 0 | H19: =VLOOKUP(A19,Offre,4)*D19 -> #N/A
A20: =Devis!A24 -> 0 | B20: =VLOOKUP(A20,Offre,2) -> #N/A | D20: =Devis!D24 -> 0 | H20: =VLOOKUP(A20,Offre,4)*D20 -> #N/A
B21: Sols
A22: =Devis!A25 -> 0 | B22: =VLOOKUP(A22,Offre,2) -> #N/A | D22: =Devis!D25 -> 0 | H22: =VLOOKUP(A22,Offre,4)*D22 -> #N/A
A23: =Devis!A26 -> 0 | B23: =VLOOKUP(A23,Offre,2) -> #N/A | D23: =Devis!D26 -> 0 | H23: =VLOOKUP(A23,Offre,4)*D23 -> #N/A
A24: =Devis!A27 -> 0 | B24: =VLOOKUP(A24,Offre,2) -> #N/A | D24: =Devis!D27 -> 0 | H24: =VLOOKUP(A24,Offre,4)*D24 -> #N/A
A25: =Devis!A28 -> 0 | B25: =VLOOKUP(A25,Offre,2) -> #N/A | D25: =Devis!D28 -> 0 | H25: =VLOOKUP(A25,Offre,4)*D25 -> #N/A
A26: =Devis!#REF! -> #REF! | B26: =VLOOKUP(A26,Offre,2) -> #REF! | D26: =Devis!#REF! -> #REF! | H26: =VLOOKUP(A26,Offre,4)*D26 -> #REF!
A27: =Devis!#REF! -> #REF! | B27: =VLOOKUP(A27,Offre,2) -> #REF! | D27: =Devis!#REF! -> #REF! | H27: =VLOOKUP(A27,Offre,4)*D27 -> #REF!
A28: =Devis!#REF! -> #REF! | B28: =VLOOKUP(A28,Offre,2) -> #REF! | D28: =Devis!#REF! -> #REF! | H28: =VLOOKUP(A28,Offre,4)*D28 -> #REF!
A29: =Devis!#REF! -> #REF! | B29: =VLOOKUP(A29,Offre,2) -> #REF! | D29: =Devis!#REF! -> #REF! | H29: =VLOOKUP(A29,Offre,4)*D29 -> #REF!

Sheet Offre commerciale
A1: référence | B1: désignation | C1: prix € | D1: temps/m² ou ml
B2: PEINTURE
A3: 1 | B3: Préparation des murs, rebouchage, ponçage, 1 couche d'impression, 2 couches de patine blanche choisie par le client | C3: 19 | D3: 4
A4: 2 | B4: Préparation des murs, rebouchage, ponçage, 1 couche d'impression, 2 couches de patine blanche satin choisie par le client | C4: 17.5 | D4: 4
A5: 3 | B5: Préparation des murs, rebouchage, ponçage, 1 couche d'impression, 2 couches de patine couleur standard choisie par le client | C5: 26 | D5: 4
A6: 4 | B6: Préparation des murs, rebouchage, ponçage, 1 couche d'impression, 2 couches de patine couleur spécifique choisie par le client | C6: 35 | D6: 4
A7: 5 | B7: Peinture sur plafond, après égrainage ou ponçage, 2 couches de peinture | C7: 9 | D7: 6
A8: 6 | B8: Décapage de porte bois, rebouchage, impression | C8: 40 | D8: 45
A9: 7 | B9: Lessivage, 2 couches de peinture choisie par le client | C9: 52 | D9: 20
A10: 8 | B10: Lessivage, 2 couches de lasure | C10: 35 | D10: 20
A11: 9 | B11: Lessivage de porte avec peinture satiné | C11: 50 | D11: 40
A12: 10
A13: 11 | B13: Bâchage de mur, protection du sol pour peinture en plafond | C13: 30 | D13: 1
A14: 12 | B14: Grattage enduisage, 1 peinture humidité l'ensemble | C14: 30 | D14: 12
A15: 13 | B15: Décapage bois, enduisage, 2 couches de peinure | C15: 60 | D15: 30
A16: 14
A17: 15
A18: 16
A19: 17
A20: 18
A21: 19
A22: 20
A23: 21
A24: 22
A25: 23
A26: 24
A27: 25
... A30: 28
A31: 29 | B31: REVÊTEMENT MURAUX
A32: 30 | B32: Démolition manuelle de faïence posées | C32: 12 | D32: 5
A33: 31 | B33: Pose de carreaux de faïence 350*210 avec joint | C33: 47 | D33: 25
A34: 32 | B34: Dépose de papier peint | C34: 9 | D34: 4
A35: 33 | B35: Préparation des murs, rebouchage, ponçage | C35: 11 | D35: 2
A36: 34 | B36: Pose de papier peint choix du client | C36: 21 | D36: 4
A37: 35 | B37: Pose de frise avec découpe choix du client | C37: 22 | D37: 3
A38: 36 | B38: Pose de corniche polyuréthane choix du client | C38: 25 | D38: 5
A39: 37 | B39: Revêtement décoratif à base de fibres cellulose & résistante, Fibrophone M1 | C39: 21 | D39: 4
A40: 38 | B40: Fourniture et pose de panneaux isolation thermique + pose de toile | C40: 47.3 | D40: 30
A41: 39 | B41: Dépose de tissu, préparation et pose du papier peint | C41: 19 | D41: 30
A42: 40 | B42: Fourniture du papuer peint choisi par le client | C42: 25 | D42: 5
...

Sheet Prospect
A1: Numéro Prospect | B1: Agence | C1: Civilité | D1: Prénom | E1: Nom | F1: adresse | G1: CP | H1: ville | I1: téléphone | J1: Email | K1: PR0
A2: PR1 | B2: KERMAREC | C2: Mr | D2: Franck | E2: MONNIER | F2: 3, impasse de kerlande | G2: 35150 | H2: CHANTELOUP | I2: 06.17.74.56.33 | J2: monnierfranck@orange.fr
A3: PR2 | B3: BLOT | C3: Mme | D3: Béatrice | E3: MOY | F3: 3, impasse de kerlande | G3: 35151 | H3: CHANTELOUP | I3: 06.17.74.56.34 | J3: moy.béatrice@orange.fr
A4: PR3
A5: PR4 | B5: BIZEUL IMMOBILIER | C5: Mr | D5: Christophe | E5: BIZEUL | F5: 74 chaussée du Sillon | G5: 35400 | H5: ST MALO | I5: 06.07.17.43.84 | J5: chistophe@bizeul.biz
A6: PR5 | C6: Mme | D6: Roselyne | E6: BEAUVALLET | F6: 7 D'aumène de la cote noir | G6: 92500 | H6: REUIL MALMAISON
A7: PR6 | B7: BARON IMMOBILIER | F7: 12 Place du bas des Lices | G7: 35000 | H7: RENNES
A8: PR7 | C8: Mr | D8: Christian | E8: DANIEL
A9: PR8 | B9: LA FRANCAISE IMMOBILIERE | C9: Mme | D9: Laurence | E9: CARRET | H9: ST GREGOIRE
A10: PR9 | C10: Mme / Mr | D10: René | E10: ROUX | F10: 26 Rue Julien Geoffroy | G10: 35000 | H10: RENNES | I10: 06.85.39.48.05 / 06.62.27.58.30
A11: PR10 | C11: Mme / Mr | D11: Patrick | E11: CROSNIER | F11: 4 av Félicité de Lamennais | G11: 35190 | H11: TINTENIAC | I11: 02.99.68.04.71
A12: PR11
A13: PR12
A14: PR13
A15: PR14
A16: PR15
A17: PR16
A18: PR17
A19: PR18
A20: PR19
A21: PR20
A22: PR21
A23: PR22
... A101: PR100

Sheet Fiche Prospect
G2: Date :
F4: Fiche de renseignements
F7: Prospect :
F8: Adresse :
F9: Code Postal :
F10: Ville :
A13: Professionnel | F13: Particulier
A16: Responsable et interlocuteur : | F16: Responsable et interlocuteur :
A17: Tél : | F17: Tél :
A18: Portable : | F18: Portable :
A19: Mail : | F19: Mail :
A20: Service comptabilité
A21: Tél : | F21: Maison :
A22: Portable : | F22: Appartement :
A23: Mail : | F23: Nombre de pièce :
A24: Service Commercial
A25: Tél : | F25: Faire un diagnostic :
A26: Portable : | F26: Programmer :
A27: Mail :
F28: Faire un devis :
A29: Nombre de logements gérés : | F29: Programmer :
A30: CA :
A31: Remise de carte de viste : | F31: Remise de carte de viste :
A32: Remise de la plaquette : | F32: Remise de la plaquette :
A33: Prospect a relancer : | F33: Prospect a relancer :
A34: Première impression : | F34: Première impression :
A36: Observations : | F36: Observations :

Sheet Client
A1: Numéro Client | B1: Agence | C1: Civilité | D1: Prénom | E1: Nom | F1: adresse | G1: CP | H1: ville | I1: téléphone | J1: Email
A2: CL1 | B2: KERMAREC | C2: Mr | D2: Franck | E2: MONNIER | F2: 3, impasse de kerlande | G2: 35150 | H2: CHANTELOUP | I2: 06.17.74.56.33 | J2: monnierfranck@orange.fr
A3: CL2 | B3: BLOT | C3: Mme | D3: Béatrice | E3: MOY | F3: 3, impasse de kerlande | G3: 35151 | H3: CHANTELOUP | I3: 06.17.74.56.34 | J3: moy.béatrice@orange.fr
A4: CL3 | B4: KERMAREC | C4: Mr | D4: Franck | E4: MONNIER | F4: 3, impasse de kerlande | G4: 35150 | H4: CHANTELOUP | I4: 06.17.74.56.33 | J4: monnierfranck@orange.fr
A5: CL4 | B5: BIZEUL IMMOBILIER | C5: Mr | D5: Christophe | E5: BIZEUL | F5: 74 chaussée du Sillon | G5: 35400 | H5: ST MALO | I5: 06.07.17.43.84 | J5: chistophe@bizeul.biz
A6: CL5 | C6: Mme | D6: Roselyne | E6: BEAUVALLET | F6: 7 D'aumène de la cote noir | G6: 92500 | H6: REUIL MALMAISON
A7: CL6 | B7: BARON IMMOBILIER | F7: 12 Place du bas des Lices | G7: 35000 | H7: RENNES
A8: CL7 | C8: Mr | D8: Christian | E8: DANIEL
A9: CL8 | B9: LA FRANCAISE IMMOBILIERE | C9: Mme | D9: Laurence | E9: CARRET | H9: ST GREGOIRE
A10: CL9 | C10: Mme / Mr | D10: René | E10: ROUX | F10: 26 Rue Julien Geoffroy | G10: 35000 | H10: RENNES | I10: 06.85.39.48.05 / 06.62.27.58.30
A11: CL10 | C11: Mme / Mr | D11: Patrick | E11: CROSNIER | F11: 4 av Félicité de Lamennais | G11: 35190 | H11: TINTENIAC | I11: 02.99.68.04.71
A12: CL11
A13: CL12
A14: CL13
A15: CL14
A16: CL15
A17: CL16
A18: CL17
A19: CL18
A20: CL19
A21: CL20
A22: CL21
A23: CL22
... A101: CL100

Sheet TVA
A2: 0.2 | B2: TVA à 20% :Le taux de TVA par défaut en 2015 est de 20%. Il concerne par défaut tous les produits et services, sauf les exceptions suivantes :
A3: 0.1 | B3: TVA à 10% :On applique des taux de TVA différents dans certains domaines, comme la restauration où le taux en vigueur est de 10%. On retrouve le même taux de 10% pour les produits et services suivants :• Services d’aide à la personne • Prestations d’hébergement et de transport • Produits agricoles sans transformation • Médicaments non remboursés • Travaux et réparation pour les logements ayant plus de deux ans
A4: 0.055 | B4: TVA à 5,5% :• Restauration scolaire • Produits alimentaires de première nécessité • Eau et boissons sans alcool • Équipements pour personnes handicapées • Travaux d’amélioration énergétique des logements de plus de 2 ans • Abonnements aux réseaux de fourniture d’énergie comme le gaz et l’électricité
