Workbook
Name Col_CodeEtape: OFFSET(Col_NoDemande,,3)
Name Col_Dates: OFFSET(Col_NoDemande,,8)
Name Col_NoDemande: OFFSET(Feuil2!$B$2,,,COUNT(Feuil2!$B:$B))

Sheet Feuil2
A1: NO_ETAPE_REEL | B1: NO_DEMANDE | C1: CODE_CAT_ETAPE | D1: DESCR_CAT_ETAPE | E1: CODE_ETAPE_STAND | F1: DESCR_ABREG_ETAPE_STAND | G1: CODE_ETAT_ETAPE_REEL | H1: DESCR_CODE_ETAT_ETAPE_REEL | I1: Année | J1: DATE_DEB_ETAPE_REEL | K1: DATE_FIN_ETAPE_REEL | L1: DATE_ECH_ETAPE_REEL | M1: DESCR_REM_ETAPE_REEL | N1: CODE_USAGER_RESP | O1: Col_Date_MAX_GRISIP | P1: Col_Date_INSPVI | U1: CODE_ETAPE_STAND
A2: 13514873 | B2: 3001423010 | C2: PS | D2: Plan salubrité | E2: INSPSU | F2: Inspection suite à l'avis | G2: C | H2: Complet | I2: 2019 | J2: 43741 | K2: 43741 | N2: USKOUMA | O2: {=IF(J2=MAX(IF((E$2:E$240="GRISIG")*(B$2:B$240=B2),J$2:J$240)),J2,"")} | P2: {=IF(O2="","",IFERROR(LARGE(IF((B$2:B$240=B2)*(E$2:E$240="INSPVI")*(J$2:J$240<=O2),J$2:J$240),1),""))} | U2: INSPSU
A3: 13678830 | B3: 3001517496 | C3: PS | D3: Plan salubrité | E3: INSPVI | F3: Visite insp. effect pour avis | G3: C | H3: Complet | I3: 2019 | J3: 43739 | K3: 43739 | M3: Blitz express | N3: UBOUCP4 | O3: {=IF(J3=MAX(IF((E$2:E$240="GRISIG")*(B$2:B$240=B3),J$2:J$240)),J3,"")} | P3: {=IF(O3="","",IFERROR(LARGE(IF((B$2:B$240=B3)*(E$2:E$240="INSPVI")*(J$2:J$240<=O3),J$2:J$240),1),""))} | U3: INSPVI
A4: 13678858 | B4: 3001517574 | C4: PS | D4: Plan salubrité | E4: INSPVI | F4: Visite insp. effect pour avis | G4: C | H4: Complet | I4: 2019 | J4: 43739 | K4: 43739 | M4: Blitz express | N4: UBOUCP4 | O4: {=IF(J4=MAX(IF((E$2:E$240="GRISIG")*(B$2:B$240=B4),J$2:J$240)),J4,"")} | P4: {=IF(O4="","",IFERROR(LARGE(IF((B$2:B$240=B4)*(E$2:E$240="INSPVI")*(J$2:J$240<=O4),J$2:J$240),1),""))} | U4: GRISIG
A5: 13678861 | B5: 3001517794 | C5: PS | D5: Plan salubrité | E5: INSPVI | F5: Visite insp. effect pour avis | G5: C | H5: Complet | I5: 2019 | J5: 43739 | K5: 43739 | M5: Blitz express | N5: UBOUCP4 | O5: {=IF(J5=MAX(IF((E$2:E$240="GRISIG")*(B$2:B$240=B5),J$2:J$240)),J5,"")} | P5: {=IF(O5="","",IFERROR(LARGE(IF((B$2:B$240=B5)*(E$2:E$240="INSPVI")*(J$2:J$240<=O5),J$2:J$240),1),""))} | U5: INSPAV
A6: 13678870 | B6: 3001517675 | C6: PS | D6: Plan salubrité | E6: INSPVI | F6: Visite insp. effect pour avis | G6: C | H6: Complet | I6: 2019 | J6: 43739 | K6: 43739 | M6: Blitz express | N6: UBOUCP4 | O6: {=IF(J6=MAX(IF((E$2:E$240="GRISIG")*(B$2:B$240=B6),J$2:J$240)),J6,"")} | P6: {=IF(O6="","",IFERROR(LARGE(IF((B$2:B$240=B6)*(E$2:E$240="INSPVI")*(J$2:J$240<=O6),J$2:J$240),1),""))} | U6: INSPCH
A7: 13679630 | B7: 3001517794 | C7: PS | D7: Plan salubrité | E7: INSPVI | F7: Visite insp. effect pour avis | G7: C | H7: Complet | I7: 2019 | J7: 43739 | K7: 43739 | M7: Blitz express | N7: UQUIRPI | O7: {=IF(J7=MAX(IF((E$2:E$240="GRISIG")*(B$2:B$240=B7),J$2:J$240)),J7,"")} | P7: {=IF(O7="","",IFERROR(LARGE(IF((B$2:B$240=B7)*(E$2:E$240="INSPVI")*(J$2:J$240<=O7),J$2:J$240),1),""))}
A8: 13679715 | B8: 3001517675 | C8: PS | D8: Plan salubrité | E8: INSPVI | F8: Visite insp. effect pour avis | G8: C | H8: Complet | I8: 2019 | J8: 43739 | K8: 43739 | M8: Blitz express | N8: UQUIRPI | O8: {=IF(J8=MAX(IF((E$2:E$240="GRISIG")*(B$2:B$240=B8),J$2:J$240)),J8,"")} | P8: {=IF(O8="","",IFERROR(LARGE(IF((B$2:B$240=B8)*(E$2:E$240="INSPVI")*(J$2:J$240<=O8),J$2:J$240),1),""))}
A9: 13679739 | B9: 3001517496 | C9: PS | D9: Plan salubrité | E9: INSPVI | F9: Visite insp. effect pour avis | G9: C | H9: Complet | I9: 2019 | J9: 43740 | K9: 43740 | M9: Blitz express | N9: UELYANA | O9: {=IF(J9=MAX(IF((E$2:E$240="GRISIG")*(B$2:B$240=B9),J$2:J$240)),J9,"")} | P9: {=IF(O9="","",IFERROR(LARGE(IF((B$2:B$240=B9)*(E$2:E$240="INSPVI")*(J$2:J$240<=O9),J$2:J$240),1),""))}
A10: 13679745 | B10: 3001517574 | C10: PS | D10: Plan salubrité | E10: INSPVI | F10: Visite insp. effect pour avis | G10: C | H10: Complet | I10: 2019 | J10: 43740 | K10: 43740 | M10: Blitz express | N10: UELYANA | O10: {=IF(J10=MAX(IF((E$2:E$240="GRISIG")*(B$2:B$240=B10),J$2:J$240)),J10,"")} | P10: {=IF(O10="","",IFERROR(LARGE(IF((B$2:B$240=B10)*(E$2:E$240="INSPVI")*(J$2:J$240<=O10),J$2:J$240),1),""))}
A11: 13679795 | B11: 3001517675 | C11: PS | D11: Plan salubrité | E11: INSPVI | F11: Visite insp. effect pour avis | G11: C | H11: Complet | I11: 2019 | J11: 43739 | K11: 43739 | M11: Blitz express | N11: UELYANA | O11: {=IF(J11=MAX(IF((E$2:E$240="GRISIG")*(B$2:B$240=B11),J$2:J$240)),J11,"")} | P11: {=IF(O11="","",IFERROR(LARGE(IF((B$2:B$240=B11)*(E$2:E$240="INSPVI")*(J$2:J$240<=O11),J$2:J$240),1),""))}
A12: 13679836 | B12: 3001517794 | C12: PS | D12: Plan salubrité | E12: INSPVI | F12: Visite insp. effect pour avis | G12: C | H12: Complet | I12: 2019 | J12: 43739 | K12: 43739 | M12: Blitz express | N12: UELYANA | O12: {=IF(J12=MAX(IF((E$2:E$240="GRISIG")*(B$2:B$240=B12),J$2:J$240)),J12,"")} | P12: {=IF(O12="","",IFERROR(LARGE(IF((B$2:B$240=B12)*(E$2:E$240="INSPVI")*(J$2:J$240<=O12),J$2:J$240),1),""))}
A13: 13680141 | B13: 3001517574 | C13: PS | D13: Plan salubrité | E13: INSPVI | F13: Visite insp. effect pour avis | G13: C | H13: Complet | I13: 2019 | J13: 43739 | K13: 43739 | M13: Blitz express | N13: UKEBILY | O13: {=IF(J13=MAX(IF((E$2:E$240="GRISIG")*(B$2:B$240=B13),J$2:J$240)),J13,"")} | P13: {=IF(O13="","",IFERROR(LARGE(IF((B$2:B$240=B13)*(E$2:E$240="INSPVI")*(J$2:J$240<=O13),J$2:J$240),1),""))}
A14: 13680183 | B14: 3001517496 | C14: PS | D14: Plan salubrité | E14: INSPVI | F14: Visite insp. effect pour avis | G14: C | H14: Complet | I14: 2019 | J14: 43739 | K14: 43739 | M14: Blitz express | N14: UKEBILY | O14: {=IF(J14=MAX(IF((E$2:E$240="GRISIG")*(B$2:B$240=B14),J$2:J$240)),J14,"")} | P14: {=IF(O14="","",IFERROR(LARGE(IF((B$2:B$240=B14)*(E$2:E$240="INSPVI")*(J$2:J$240<=O14),J$2:J$240),1),""))}
A15: 13680205 | B15: 3001517675 | C15: PS | D15: Plan salubrité | E15: INSPVI | F15: Visite insp. effect pour avis | G15: C | H15: Complet | I15: 2019 | J15: 43739 | K15: 43739 | M15: Blitz express | N15: UKEBILY | O15: {=IF(J15=MAX(IF((E$2:E$240="GRISIG")*(B$2:B$240=B15),J$2:J$240)),J15,"")} | P15: {=IF(O15="","",IFERROR(LARGE(IF((B$2:B$240=B15)*(E$2:E$240="INSPVI")*(J$2:J$240<=O15),J$2:J$240),1),""))}
A16: 13680216 | B16: 3001517794 | C16: PS | D16: Plan salubrité | E16: INSPVI | F16: Visite insp. effect pour avis | G16: C | H16: Complet | I16: 2019 | J16: 43739 | K16: 43739 | M16: Blitz express | N16: UKEBILY | O16: {=IF(J16=MAX(IF((E$2:E$240="GRISIG")*(B$2:B$240=B16),J$2:J$240)),J16,"")} | P16: {=IF(O16="","",IFERROR(LARGE(IF((B$2:B$240=B16)*(E$2:E$240="INSPVI")*(J$2:J$240<=O16),J$2:J$240),1),""))}
A17: 13680540 | B17: 3001517794 | C17: PS | D17: Plan salubrité | E17: INSPVI | F17: Visite insp. effect pour avis | G17: C | H17: Complet | I17: 2019 | J17: 43739 | K17: 43739 | M17: Blitz expresse | N17: USKOUMA | O17: {=IF(J17=MAX(IF((E$2:E$240="GRISIG")*(B$2:B$240=B17),J$2:J$240)),J17,"")} | P17: {=IF(O17="","",IFERROR(LARGE(IF((B$2:B$240=B17)*(E$2:E$240="INSPVI")*(J$2:J$240<=O17),J$2:J$240),1),""))}
A18: 13680544 | B18: 3001517574 | C18: PS | D18: Plan salubrité | E18: INSPVI | F18: Visite insp. effect pour avis | G18: C | H18: Complet | I18: 2019 | J18: 43739 | K18: 43739 | M18: Blitz express | N18: UMARC3R | O18: {=IF(J18=MAX(IF((E$2:E$240="GRISIG")*(B$2:B$240=B18),J$2:J$240)),J18,"")} | P18: {=IF(O18="","",IFERROR(LARGE(IF((B$2:B$240=B18)*(E$2:E$240="INSPVI")*(J$2:J$240<=O18),J$2:J$240),1),""))}
A19: 13680610 | B19: 3001517675 | C19: PS | D19: Plan salubrité | E19: INSPVI | F19: Visite insp. effect pour avis | G19: C | H19: Complet | I19: 2019 | J19: 43739 | K19: 43739 | M19: Blitz express | N19: USKOUMA | O19: {=IF(J19=MAX(IF((E$2:E$240="GRISIG")*(B$2:B$240=B19),J$2:J$240)),J19,"")} | P19: {=IF(O19="","",IFERROR(LARGE(IF((B$2:B$240=B19)*(E$2:E$240="INSPVI")*(J$2:J$240<=O19),J$2:J$240),1),""))}
A20: 13680630 | B20: 3001517574 | C20: PS | D20: Plan salubrité | E20: INSPVI | F20: Visite insp. effect pour avis | G20: C | H20: Complet | I20: 2019 | J20: 43739 | K20: 43739 | N20: USKOUMA | O20: {=IF(J20=MAX(IF((E$2:E$240="GRISIG")*(B$2:B$240=B20),J$2:J$240)),J20,"")} | P20: {=IF(O20="","",IFERROR(LARGE(IF((B$2:B$240=B20)*(E$2:E$240="INSPVI")*(J$2:J$240<=O20),J$2:J$240),1),""))}
A21: 13680638 | B21: 3001517574 | C21: PS | D21: Plan salubrité | E21: INSPVI | F21: Visite insp. effect pour avis | G21: C | H21: Complet | I21: 2019 | J21: 43739 | K21: 43739 | M21: Blitz express | N21: UQUIRPI | O21: {=IF(J21=MAX(IF((E$2:E$240="GRISIG")*(B$2:B$240=B21),J$2:J$240)),J21,"")} | P21: {=IF(O21="","",IFERROR(LARGE(IF((B$2:B$240=B21)*(E$2:E$240="INSPVI")*(J$2:J$240<=O21),J$2:J$240),1),""))}
A22: 13681242 | B22: 3001517496 | C22: PS | D22: Plan salubrité | E22: INSPVI | F22: Visite insp. effect pour avis | G22: C | H22: Complet | I22: 2019 | J22: 43739 | K22: 43739 | M22: Blitz express | N22: ULANG6B | O22: {=IF(J22=MAX(IF((E$2:E$240="GRISIG")*(B$2:B$240=B22),J$2:J$240)),J22,"")} | P22: {=IF(O22="","",IFERROR(LARGE(IF((B$2:B$240=B22)*(E$2:E$240="INSPVI")*(J$2:J$240<=O22),J$2:J$240),1),""))}
A23: 13681249 | B23: 3001517574 | C23: PS | D23: Plan salubrité | E23: INSPVI | F23: Visite insp. effect pour avis | G23: C | H23: Complet | I23: 2019 | J23: 43739 | K23: 43739 | M23: Blitz express | N23: ULANG6B | O23: {=IF(J23=MAX(IF((E$2:E$240="GRISIG")*(B$2:B$240=B23),J$2:J$240)),J23,"")} | P23: {=IF(O23="","",IFERROR(LARGE(IF((B$2:B$240=B23)*(E$2:E$240="INSPVI")*(J$2:J$240<=O23),J$2:J$240),1),""))}
A24: 13681253 | B24: 3001517675 | C24: PS | D24: Plan salubrité | E24: INSPVI | F24: Visite insp. effect pour avis | G24: C | H24: Complet | I24: 2019 | J24: 43739 | K24: 43739 | M24: Blitz express | N24: ULANG6B | O24: {=IF(J24=MAX(IF((E$2:E$240="GRISIG")*(B$2:B$240=B24),J$2:J$240)),J24,"")} | P24: {=IF(O24="","",IFERROR(LARGE(IF((B$2:B$240=B24)*(E$2:E$240="INSPVI")*(J$2:J$240<=O24),J$2:J$240),1),""))}
A25: 13681261 | B25: 3001517794 | C25: PS | D25: Plan salubrité | E25: INSPVI | F25: Visite insp. effect pour avis | G25: C | H25: Complet | I25: 2019 | J25: 43739 | K25: 43739 | M25: Blitz express | N25: ULANG6B | O25: {=IF(J25=MAX(IF((E$2:E$240="GRISIG")*(B$2:B$240=B25),J$2:J$240)),J25,"")} | P25: {=IF(O25="","",IFERROR(LARGE(IF((B$2:B$240=B25)*(E$2:E$240="INSPVI")*(J$2:J$240<=O25),J$2:J$240),1),""))}
A26: 13681426 | B26: 3001517794 | C26: PS | D26: Plan salubrité | E26: INSPVI | F26: Visite insp. effect pour avis | G26: C | H26: Complet | I26: 2019 | J26: 43739 | K26: 43739 | M26: Blitz express | N26: UWUJIAN | O26: {=IF(J26=MAX(IF((E$2:E$240="GRISIG")*(B$2:B$240=B26),J$2:J$240)),J26,"")} | P26: {=IF(O26="","",IFERROR(LARGE(IF((B$2:B$240=B26)*(E$2:E$240="INSPVI")*(J$2:J$240<=O26),J$2:J$240),1),""))}
A27: 13681947 | B27: 3001517496 | C27: PS | D27: Plan salubrité | E27: INSPVI | F27: Visite insp. effect pour avis | G27: C | H27: Complet | I27: 2019 | J27: 43739 | K27: 43739 | M27: Blitz express | N27: USKOUMA | O27: {=IF(J27=MAX(IF((E$2:E$240="GRISIG")*(B$2:B$240=B27),J$2:J$240)),J27,"")} | P27: {=IF(O27="","",IFERROR(LARGE(IF((B$2:B$240=B27)*(E$2:E$240="INSPVI")*(J$2:J$240<=O27),J$2:J$240),1),""))}
A28: 13682032 | B28: 3001517675 | C28: PS | D28: Plan salubrité | E28: INSPVI | F28: Visite insp. effect pour avis | G28: C | H28: Complet | I28: 2019 | J28: 43739 | K28: 43739 | M28: Blitz express | N28: UWUJIAN | O28: {=IF(J28=MAX(IF((E$2:E$240="GRISIG")*(B$2:B$240=B28),J$2:J$240)),J28,"")} | P28: {=IF(O28="","",IFERROR(LARGE(IF((B$2:B$240=B28)*(E$2:E$240="INSPVI")*(J$2:J$240<=O28),J$2:J$240),1),""))}
A29: 13683399 | B29: 3001472737 | C29: PS | D29: Plan salubrité | E29: INSPSU | F29: Inspection suite à l'avis | G29: C | H29: Complet | I29: 2019 | J29: 43741 | K29: 43746 | M29: rdv | N29: UBAZISO | O29: {=IF(J29=MAX(IF((E$2:E$240="GRISIG")*(B$2:B$240=B29),J$2:J$240)),J29,"")} | P29: {=IF(O29="","",IFERROR(LARGE(IF((B$2:B$240=B29)*(E$2:E$240="INSPVI")*(J$2:J$240<=O29),J$2:J$240),1),""))}
A30: 13683723 | B30: 3001468728 | C30: PS | D30: Plan salubrité | E30: INSPSU | F30: Inspection suite à l'avis | G30: C | H30: Complet | I30: 2019 | J30: 43741 | K30: 43741 | N30: UQUIRPI | O30: {=IF(J30=MAX(IF((E$2:E$240="GRISIG")*(B$2:B$240=B30),J$2:J$240)),J30,"")} | P30: {=IF(O30="","",IFERROR(LARGE(IF((B$2:B$240=B30)*(E$2:E$240="INSPVI")*(J$2:J$240<=O30),J$2:J$240),1),""))}
A31: 13683903 | B31: 3001484316 | C31: PS | D31: Plan salubrité | E31: INSPSU | F31: Inspection suite à l'avis | I31: 2019 | J31: 43741 | M31: appel | N31: UBAZISO | O31: {=IF(J31=MAX(IF((E$2:E$240="GRISIG")*(B$2:B$240=B31),J$2:J$240)),J31,"")} | P31: {=IF(O31="","",IFERROR(LARGE(IF((B$2:B$240=B31)*(E$2:E$240="INSPVI")*(J$2:J$240<=O31),J$2:J$240),1),""))}
A32: 13684749 | B32: 3001517496 | C32: PS | D32: Plan salubrité | E32: INSPVI | F32: Visite insp. effect pour avis | G32: C | H32: Complet | I32: 2019 | J32: 43741 | K32: 43741 | M32: Blitz express | N32: ULANG5Z | O32: {=IF(J32=MAX(IF((E$2:E$240="GRISIG")*(B$2:B$240=B32),J$2:J$240)),J32,"")} | P32: {=IF(O32="","",IFERROR(LARGE(IF((B$2:B$240=B32)*(E$2:E$240="INSPVI")*(J$2:J$240<=O32),J$2:J$240),1),""))}
A33: 13684754 | B33: 3001517574 | C33: PS | D33: Plan salubrité | E33: INSPVI | F33: Visite insp. effect pour avis | G33: C | H33: Complet | I33: 2019 | J33: 43741 | K33: 43741 | M33: Blitz express | N33: ULANG5Z | O33: {=IF(J33=MAX(IF((E$2:E$240="GRISIG")*(B$2:B$240=B33),J$2:J$240)),J33,"")} | P33: {=IF(O33="","",IFERROR(LARGE(IF((B$2:B$240=B33)*(E$2:E$240="INSPVI")*(J$2:J$240<=O33),J$2:J$240),1),""))}
A34: 13684757 | B34: 3001517675 | C34: PS | D34: Plan salubrité | E34: INSPVI | F34: Visite insp. effect pour avis | G34: C | H34: Complet | I34: 2019 | J34: 43741 | K34: 43741 | M34: Blitz express | N34: ULANG5Z | O34: {=IF(J34=MAX(IF((E$2:E$240="GRISIG")*(B$2:B$240=B34),J$2:J$240)),J34,"")} | P34: {=IF(O34="","",IFERROR(LARGE(IF((B$2:B$240=B34)*(E$2:E$240="INSPVI")*(J$2:J$240<=O34),J$2:J$240),1),""))}
A35: 13684758 | B35: 3001517794 | C35: PS | D35: Plan salubrité | E35: INSPVI | F35: Visite insp. effect pour avis | G35: C | H35: Complet | I35: 2019 | J35: 43741 | K35: 43741 | M35: Blitz express | N35: ULANG5Z | O35: {=IF(J35=MAX(IF((E$2:E$240="GRISIG")*(B$2:B$240=B35),J$2:J$240)),J35,"")} | P35: {=IF(O35="","",IFERROR(LARGE(IF((B$2:B$240=B35)*(E$2:E$240="INSPVI")*(J$2:J$240<=O35),J$2:J$240),1),""))}
A36: 13685348 | B36: 3001473276 | C36: PS | D36: Plan salubrité | E36: INSPVI | F36: Visite insp. effect pour avis | G36: C | H36: Complet | I36: 2019 | J36: 43741 | K36: 43741 | M36: Insp. initiale | N36: UBOUCP4 | O36: {=IF(J36=MAX(IF((E$2:E$240="GRISIG")*(B$2:B$240=B36),J$2:J$240)),J36,"")} | P36: {=IF(O36="","",IFERROR(LARGE(IF((B$2:B$240=B36)*(E$2:E$240="INSPVI")*(J$2:J$240<=O36),J$2:J$240),1),""))}
A37: 13685354 | B37: 3001473308 | C37: PS | D37: Plan salubrité | E37: INSPVI | F37: Visite insp. effect pour avis | G37: C | H37: Complet | I37: 2019 | J37: 43741 | K37: 43741 | M37: Insp. initiale | N37: UBOUCP4 | O37: {=IF(J37=MAX(IF((E$2:E$240="GRISIG")*(B$2:B$240=B37),J$2:J$240)),J37,"")} | P37: {=IF(O37="","",IFERROR(LARGE(IF((B$2:B$240=B37)*(E$2:E$240="INSPVI")*(J$2:J$240<=O37),J$2:J$240),1),""))}
A38: 13685441 | B38: 3001473322 | C38: PS | D38: Plan salubrité | E38: INSPVI | F38: Visite insp. effect pour avis | G38: C | H38: Complet | I38: 2019 | J38: 43741 | K38: 43741 | M38: Insp. initiale | N38: UBOUCP4 | O38: {=IF(J38=MAX(IF((E$2:E$240="GRISIG")*(B$2:B$240=B38),J$2:J$240)),J38,"")} | P38: {=IF(O38="","",IFERROR(LARGE(IF((B$2:B$240=B38)*(E$2:E$240="INSPVI")*(J$2:J$240<=O38),J$2:J$240),1),""))}
A39: 13686048 | B39: 3001458454 | C39: PS | D39: Plan salubrité | E39: INSPSU | F39: Inspection suite à l'avis | G39: C | H39: Complet | I39: 2019 | J39: 43741 | K39: 43741 | M39: Suivi | N39: ULANG6B | O39: {=IF(J39=MAX(IF((E$2:E$240="GRISIG")*(B$2:B$240=B39),J$2:J$240)),J39,"")} | P39: {=IF(O39="","",IFERROR(LARGE(IF((B$2:B$240=B39)*(E$2:E$240="INSPVI")*(J$2:J$240<=O39),J$2:J$240),1),""))}
A40: 13686749 | B40: 3001458852 | C40: PS | D40: Plan salubrité | E40: INSPSU | F40: Inspection suite à l'avis | G40: C | H40: Complet | I40: 2019 | J40: 43741 | K40: 43741 | M40: Insp. suivi | N40: ULANG5Z | O40: {=IF(J40=MAX(IF((E$2:E$240="GRISIG")*(B$2:B$240=B40),J$2:J$240)),J40,"")} | P40: {=IF(O40="","",IFERROR(LARGE(IF((B$2:B$240=B40)*(E$2:E$240="INSPVI")*(J$2:J$240<=O40),J$2:J$240),1),""))}
A41: 13686787 | B41: 3001446696 | C41: PS | D41: Plan salubrité | E41: INSPSU | F41: Inspection suite à l'avis | G41: C | H41: Complet | I41: 2019 | J41: 43741 | K41: 43741 | M41: Insp. suivi | N41: ULANG5Z | O41: {=IF(J41=MAX(IF((E$2:E$240="GRISIG")*(B$2:B$240=B41),J$2:J$240)),J41,"")} | P41: {=IF(O41="","",IFERROR(LARGE(IF((B$2:B$240=B41)*(E$2:E$240="INSPVI")*(J$2:J$240<=O41),J$2:J$240),1),""))}
A42: 13688445 | B42: 3001421976 | C42: PS | D42: Plan salubrité | E42: INSPSU | F42: Inspection suite à l'avis | G42: C | H42: Complet | I42: 2019 | J42: 43742 | K42: 43742 | M42: suivi - 44% | N42: UPENAGE | O42: {=IF(J42=MAX(IF((E$2:E$240="GRISIG")*(B$2:B$240=B42),J$2:J$240)),J42,"")} | P42: {=IF(O42="","",IFERROR(LARGE(IF((B$2:B$240=B42)*(E$2:E$240="INSPVI")*(J$2:J$240<=O42),J$2:J$240),1),""))}
A43: 13689387 | B43: 3001469394 | C43: PS | D43: Plan salubrité | E43: INSPSU | F43: Inspection suite à l'avis | G43: C | H43: Complet | I43: 2019 | J43: 43742 | K43: 43742 | M43: Insp. suivi | N43: ULANG5Z | O43: {=IF(J43=MAX(IF((E$2:E$240="GRISIG")*(B$2:B$240=B43),J$2:J$240)),J43,"")} | P43: {=IF(O43="","",IFERROR(LARGE(IF((B$2:B$240=B43)*(E$2:E$240="INSPVI")*(J$2:J$240<=O43),J$2:J$240),1),""))}
... A45: 13689491 | B45: 3000974216 | C45: PS | D45: Plan salubrité | E45: INSPSU | F45: Inspection suite à l'avis | G45: C | H45: Complet | I45: 2019 | J45: 43742 | K45: 43742 | M45: Insp extermina | N45: ULANG5Z | O45: {=IF(J45=MAX(IF((E$2:E$240="GRISIG")*(B$2:B$240=B45),J$2:J$240)),J45,"")} | P45: {=IF(O45="","",IFERROR(LARGE(IF((B$2:B$240=B45)*(E$2:E$240="INSPVI")*(J$2:J$240<=O45),J$2:J$240),1),""))}
A46: 13689494 | B46: 3001517794 | C46: PS | D46: Plan salubrité | E46: INSPVI | F46: Visite insp. effect pour avis | I46: 2019 | J46: 43742 | M46: Blitz express | N46: UBAZISO | O46: {=IF(J46=MAX(IF((E$2:E$240="GRISIG")*(B$2:B$240=B46),J$2:J$240)),J46,"")} | P46: {=IF(O46="","",IFERROR(LARGE(IF((B$2:B$240=B46)*(E$2:E$240="INSPVI")*(J$2:J$240<=O46),J$2:J$240),1),""))}
A47: 13689585 | B47: 3001517675 | C47: PS | D47: Plan salubrité | E47: INSPVI | F47: Visite insp. effect pour avis | I47: 2019 | J47: 43742 | M47: Blitz express | N47: UBAZISO | O47: {=IF(J47=MAX(IF((E$2:E$240="GRISIG")*(B$2:B$240=B47),J$2:J$240)),J47,"")} | P47: {=IF(O47="","",IFERROR(LARGE(IF((B$2:B$240=B47)*(E$2:E$240="INSPVI")*(J$2:J$240<=O47),J$2:J$240),1),""))}
A48: 13689910 | B48: 3001517574 | C48: PS | D48: Plan salubrité | E48: INSPVI | F48: Visite insp. effect pour avis | G48: C | H48: Complet | I48: 2019 | J48: 43739 | K48: 43739 | M48: Blitz express | N48: UWUJIAN | O48: {=IF(J48=MAX(IF((E$2:E$240="GRISIG")*(B$2:B$240=B48),J$2:J$240)),J48,"")} | P48: {=IF(O48="","",IFERROR(LARGE(IF((B$2:B$240=B48)*(E$2:E$240="INSPVI")*(J$2:J$240<=O48),J$2:J$240),1),""))}
A49: 13690971 | B49: 3001517574 | C49: PS | D49: Plan salubrité | E49: INSPVI | F49: Visite insp. effect pour avis | I49: 2019 | J49: 43745 | M49: Blitz express | N49: UBAZISO | O49: {=IF(J49=MAX(IF((E$2:E$240="GRISIG")*(B$2:B$240=B49),J$2:J$240)),J49,"")} | P49: {=IF(O49="","",IFERROR(LARGE(IF((B$2:B$240=B49)*(E$2:E$240="INSPVI")*(J$2:J$240<=O49),J$2:J$240),1),""))}
A50: 13691204 | B50: 3001458348 | C50: PS | D50: Plan salubrité | E50: INSPSU | F50: Inspection suite à l'avis | G50: C | H50: Complet | I50: 2019 | J50: 43742 | K50: 43742 | M50: Taux avanc.46 % | N50: UKEBILY | O50: {=IF(J50=MAX(IF((E$2:E$240="GRISIG")*(B$2:B$240=B50),J$2:J$240)),J50,"")} | P50: {=IF(O50="","",IFERROR(LARGE(IF((B$2:B$240=B50)*(E$2:E$240="INSPVI")*(J$2:J$240<=O50),J$2:J$240),1),""))}
A51: 13691205 | B51: 3001485395 | C51: PS | D51: Plan salubrité | E51: INSPSU | F51: Inspection suite à l'avis | G51: C | H51: Complet | I51: 2019 | J51: 43745 | K51: 43745 | M51: Mini-Blitz | N51: ULEMA63 | O51: {=IF(J51=MAX(IF((E$2:E$240="GRISIG")*(B$2:B$240=B51),J$2:J$240)),J51,"")} | P51: {=IF(O51="","",IFERROR(LARGE(IF((B$2:B$240=B51)*(E$2:E$240="INSPVI")*(J$2:J$240<=O51),J$2:J$240),1),""))}
A52: 13691512 | B52: 3001457828 | C52: PS | D52: Plan salubrité | E52: INSPSU | F52: Inspection suite à l'avis | G52: C | H52: Complet | I52: 2019 | J52: 43742 | K52: 43742 | M52: Taux avanc 59% | N52: UKEBILY | O52: {=IF(J52=MAX(IF((E$2:E$240="GRISIG")*(B$2:B$240=B52),J$2:J$240)),J52,"")} | P52: {=IF(O52="","",IFERROR(LARGE(IF((B$2:B$240=B52)*(E$2:E$240="INSPVI")*(J$2:J$240<=O52),J$2:J$240),1),""))}
A53: 13692910 | B53: 3001517496 | C53: PS | D53: Plan salubrité | E53: INSPVI | F53: Visite insp. effect pour avis | I53: 2019 | J53: 43739 | M53: Blitz express | N53: UBAZISO | O53: {=IF(J53=MAX(IF((E$2:E$240="GRISIG")*(B$2:B$240=B53),J$2:J$240)),J53,"")} | P53: {=IF(O53="","",IFERROR(LARGE(IF((B$2:B$240=B53)*(E$2:E$240="INSPVI")*(J$2:J$240<=O53),J$2:J$240),1),""))}
A54: 13693288 | B54: 3001474632 | C54: PS | D54: Plan salubrité | E54: INSPSU | F54: Inspection suite à l'avis | I54: 2019 | J54: 43745 | M54: #410 | N54: UBAZISO | O54: {=IF(J54=MAX(IF((E$2:E$240="GRISIG")*(B$2:B$240=B54),J$2:J$240)),J54,"")} | P54: {=IF(O54="","",IFERROR(LARGE(IF((B$2:B$240=B54)*(E$2:E$240="INSPVI")*(J$2:J$240<=O54),J$2:J$240),1),""))}
A55: 13693744 | B55: 3000169190 | C55: PS | D55: Plan salubrité | E55: INSPSU | F55: Inspection suite à l'avis | G55: C | H55: Complet | I55: 2019 | J55: 43745 | K55: 43745 | M55: Insp. suivi | N55: UBOUCP4 | O55: {=IF(J55=MAX(IF((E$2:E$240="GRISIG")*(B$2:B$240=B55),J$2:J$240)),J55,"")} | P55: {=IF(O55="","",IFERROR(LARGE(IF((B$2:B$240=B55)*(E$2:E$240="INSPVI")*(J$2:J$240<=O55),J$2:J$240),1),""))}
A56: 13693834 | B56: 3001458729 | C56: PS | D56: Plan salubrité | E56: INSPSU | F56: Inspection suite à l'avis | G56: C | H56: Complet | I56: 2019 | J56: 43745 | K56: 43745 | M56: Insp. suivi 1/2 | N56: UBOUCP4 | O56: {=IF(J56=MAX(IF((E$2:E$240="GRISIG")*(B$2:B$240=B56),J$2:J$240)),J56,"")} | P56: {=IF(O56="","",IFERROR(LARGE(IF((B$2:B$240=B56)*(E$2:E$240="INSPVI")*(J$2:J$240<=O56),J$2:J$240),1),""))}
A57: 13694014 | B57: 3001474613 | C57: PS | D57: Plan salubrité | E57: INSPSU | F57: Inspection suite à l'avis | G57: C | H57: Complet | I57: 2019 | J57: 43745 | K57: 43760 | M57: #22 | N57: UBAZISO | O57: {=IF(J57=MAX(IF((E$2:E$240="GRISIG")*(B$2:B$240=B57),J$2:J$240)),J57,"")} | P57: {=IF(O57="","",IFERROR(LARGE(IF((B$2:B$240=B57)*(E$2:E$240="INSPVI")*(J$2:J$240<=O57),J$2:J$240),1),""))}
A58: 13694120 | B58: 3001458729 | C58: PS | D58: Plan salubrité | E58: INSPSU | F58: Inspection suite à l'avis | G58: C | H58: Complet | I58: 2019 | J58: 43745 | K58: 43745 | M58: Insp. suivi 2/2 | N58: UBOUCP4 | O58: {=IF(J58=MAX(IF((E$2:E$240="GRISIG")*(B$2:B$240=B58),J$2:J$240)),J58,"")} | P58: {=IF(O58="","",IFERROR(LARGE(IF((B$2:B$240=B58)*(E$2:E$240="INSPVI")*(J$2:J$240<=O58),J$2:J$240),1),""))}
A59: 13694466 | B59: 3001446767 | C59: PS | D59: Plan salubrité | E59: INSPSU | F59: Inspection suite à l'avis | I59: 2019 | J59: 43742 | M59: exterieur+int | N59: UBAZISO | O59: {=IF(J59=MAX(IF((E$2:E$240="GRISIG")*(B$2:B$240=B59),J$2:J$240)),J59,"")} | P59: {=IF(O59="","",IFERROR(LARGE(IF((B$2:B$240=B59)*(E$2:E$240="INSPVI")*(J$2:J$240<=O59),J$2:J$240),1),""))}
A60: 13695204 | B60: 3001517496 | C60: PS | D60: Plan salubrité | E60: INSPVI | F60: Visite insp. effect pour avis | G60: C | H60: Complet | I60: 2019 | J60: 43739 | K60: 43739 | M60: Blitz express | N60: UPENAGE | O60: {=IF(J60=MAX(IF((E$2:E$240="GRISIG")*(B$2:B$240=B60),J$2:J$240)),J60,"")} | P60: {=IF(O60="","",IFERROR(LARGE(IF((B$2:B$240=B60)*(E$2:E$240="INSPVI")*(J$2:J$240<=O60),J$2:J$240),1),""))}
A61: 13696822 | B61: 3001485395 | C61: PS | D61: Plan salubrité | E61: INSPVI | F61: Visite insp. effect pour avis | G61: C | H61: Complet | I61: 2019 | J61: 43746 | K61: 43746 | M61: Mini-Blitz | N61: UARTIES | O61: {=IF(J61=MAX(IF((E$2:E$240="GRISIG")*(B$2:B$240=B61),J$2:J$240)),J61,"")} | P61: {=IF(O61="","",IFERROR(LARGE(IF((B$2:B$240=B61)*(E$2:E$240="INSPVI")*(J$2:J$240<=O61),J$2:J$240),1),""))}
A62: 13696978 | B62: 3001517496 | C62: PS | D62: Plan salubrité | E62: INSPVI | F62: Visite insp. effect pour avis | G62: C | H62: Complet | I62: 2019 | J62: 43739 | K62: 43739 | M62: Blitz express | N62: UWUJIAN | O62: {=IF(J62=MAX(IF((E$2:E$240="GRISIG")*(B$2:B$240=B62),J$2:J$240)),J62,"")} | P62: {=IF(O62="","",IFERROR(LARGE(IF((B$2:B$240=B62)*(E$2:E$240="INSPVI")*(J$2:J$240<=O62),J$2:J$240),1),""))}
A63: 13697091 | B63: 3001557175 | C63: PS | D63: Plan salubrité | E63: INSPSU | F63: Inspection suite à l'avis | G63: C | H63: Complet | I63: 2019 | J63: 43746 | K63: 43746 | M63: Suivi | N63: ULANG6B | O63: {=IF(J63=MAX(IF((E$2:E$240="GRISIG")*(B$2:B$240=B63),J$2:J$240)),J63,"")} | P63: {=IF(O63="","",IFERROR(LARGE(IF((B$2:B$240=B63)*(E$2:E$240="INSPVI")*(J$2:J$240<=O63),J$2:J$240),1),""))}
A64: 13697960 | B64: 3001472737 | C64: PS | D64: Plan salubrité | E64: INSPSU | F64: Inspection suite à l'avis | G64: C | H64: Complet | I64: 2019 | J64: 43746 | K64: 43746 | M64: 4063A | N64: UBAZISO | O64: {=IF(J64=MAX(IF((E$2:E$240="GRISIG")*(B$2:B$240=B64),J$2:J$240)),J64,"")} | P64: {=IF(O64="","",IFERROR(LARGE(IF((B$2:B$240=B64)*(E$2:E$240="INSPVI")*(J$2:J$240<=O64),J$2:J$240),1),""))}
A65: 13698184 | B65: 3001517675 | C65: PS | D65: Plan salubrité | E65: INSPVI | F65: Visite insp. effect pour avis | G65: C | H65: Complet | I65: 2019 | J65: 43739 | K65: 43739 | M65: Blitz express | N65: UMARC3R | O65: {=IF(J65=MAX(IF((E$2:E$240="GRISIG")*(B$2:B$240=B65),J$2:J$240)),J65,"")} | P65: {=IF(O65="","",IFERROR(LARGE(IF((B$2:B$240=B65)*(E$2:E$240="INSPVI")*(J$2:J$240<=O65),J$2:J$240),1),""))}
A66: 13698564 | B66: 3001299140 | C66: PS | D66: Plan salubrité | E66: INSPSU | F66: Inspection suite à l'avis | I66: 2019 | J66: 43746 | M66: punaise de lit | N66: UBAZISO | O66: {=IF(J66=MAX(IF((E$2:E$240="GRISIG")*(B$2:B$240=B66),J$2:J$240)),J66,"")} | P66: {=IF(O66="","",IFERROR(LARGE(IF((B$2:B$240=B66)*(E$2:E$240="INSPVI")*(J$2:J$240<=O66),J$2:J$240),1),""))}
A67: 13698646 | B67: 3001517675 | C67: PS | D67: Plan salubrité | E67: INSPVI | F67: Visite insp. effect pour avis | G67: C | H67: Complet | I67: 2019 | J67: 43739 | K67: 43739 | M67: Blitz express | N67: UPENAGE | O67: {=IF(J67=MAX(IF((E$2:E$240="GRISIG")*(B$2:B$240=B67),J$2:J$240)),J67,"")} | P67: {=IF(O67="","",IFERROR(LARGE(IF((B$2:B$240=B67)*(E$2:E$240="INSPVI")*(J$2:J$240<=O67),J$2:J$240),1),""))}
A68: 13699186 | B68: 3001517794 | C68: PS | D68: Plan salubrité | E68: INSPVI | F68: Visite insp. effect pour avis | G68: C | H68: Complet | I68: 2019 | J68: 43739 | K68: 43739 | M68: Blitz express | N68: UPENAGE | O68: {=IF(J68=MAX(IF((E$2:E$240="GRISIG")*(B$2:B$240=B68),J$2:J$240)),J68,"")} | P68: {=IF(O68="","",IFERROR(LARGE(IF((B$2:B$240=B68)*(E$2:E$240="INSPVI")*(J$2:J$240<=O68),J$2:J$240),1),""))}
A69: 13699219 | B69: 3001404615 | C69: PS | D69: Plan salubrité | E69: INSPSU | F69: Inspection suite à l'avis | G69: C | H69: Complet | I69: 2019 | J69: 43746 | K69: 43746 | M69: Rencontre | N69: UBOUCP4 | O69: {=IF(J69=MAX(IF((E$2:E$240="GRISIG")*(B$2:B$240=B69),J$2:J$240)),J69,"")} | P69: {=IF(O69="","",IFERROR(LARGE(IF((B$2:B$240=B69)*(E$2:E$240="INSPVI")*(J$2:J$240<=O69),J$2:J$240),1),""))}
A70: 13699434 | B70: 3001517574 | C70: PS | D70: Plan salubrité | E70: INSPVI | F70: Visite insp. effect pour avis | G70: C | H70: Complet | I70: 2019 | J70: 43739 | K70: 43739 | M70: Blitz express | N70: UPENAGE | O70: {=IF(J70=MAX(IF((E$2:E$240="GRISIG")*(B$2:B$240=B70),J$2:J$240)),J70,"")} | P70: {=IF(O70="","",IFERROR(LARGE(IF((B$2:B$240=B70)*(E$2:E$240="INSPVI")*(J$2:J$240<=O70),J$2:J$240),1),""))}
A71: 13699449 | B71: 3001517794 | C71: PS | D71: Plan salubrité | E71: INSPVI | F71: Visite insp. effect pour avis | G71: C | H71: Complet | I71: 2019 | J71: 43739 | K71: 43739 | M71: Blitz express | N71: UMARC3R | O71: {=IF(J71=MAX(IF((E$2:E$240="GRISIG")*(B$2:B$240=B71),J$2:J$240)),J71,"")} | P71: {=IF(O71="","",IFERROR(LARGE(IF((B$2:B$240=B71)*(E$2:E$240="INSPVI")*(J$2:J$240<=O71),J$2:J$240),1),""))}
A72: 13699481 | B72: 3001516658 | C72: PS | D72: Plan salubrité | E72: INSPSU | F72: Inspection suite à l'avis | G72: C | H72: Complet | I72: 2019 | J72: 43746 | K72: 43746 | M72: Taux avanc.23% | N72: UKEBILY | O72: {=IF(J72=MAX(IF((E$2:E$240="GRISIG")*(B$2:B$240=B72),J$2:J$240)),J72,"")} | P72: {=IF(O72="","",IFERROR(LARGE(IF((B$2:B$240=B72)*(E$2:E$240="INSPVI")*(J$2:J$240<=O72),J$2:J$240),1),""))}
A73: 13699693 | B73: 3001537573 | C73: PS | D73: Plan salubrité | E73: GRISIG | F73: Signification de la grille | I73: 2019 | J73: 43747 | N73: ULAPLDI | O73: {=IF(J73=MAX(IF((E$2:E$240="GRISIG")*(B$2:B$240=B73),J$2:J$240)),J73,"")} -> 43747 | P73: {=IF(O73="","",IFERROR(LARGE(IF((B$2:B$240=B73)*(E$2:E$240="INSPVI")*(J$2:J$240<=O73),J$2:J$240),1),""))}
A74: 13700153 | B74: 3001466229 | C74: PS | D74: Plan salubrité | E74: INSPSU | F74: Inspection suite à l'avis | G74: C | H74: Complet | I74: 2019 | J74: 43747 | K74: 43747 | M74: Suivi extermina | N74: ULANG5Z | O74: {=IF(J74=MAX(IF((E$2:E$240="GRISIG")*(B$2:B$240=B74),J$2:J$240)),J74,"")} | P74: {=IF(O74="","",IFERROR(LARGE(IF((B$2:B$240=B74)*(E$2:E$240="INSPVI")*(J$2:J$240<=O74),J$2:J$240),1),""))}
A75: 13700454 | B75: 3001646639 | C75: PS | D75: Plan salubrité | E75: INSPVI | F75: Visite insp. effect pour avis | G75: C | H75: Complet | I75: 2019 | J75: 43747 | K75: 43747 | N75: UELYANA | O75: {=IF(J75=MAX(IF((E$2:E$240="GRISIG")*(B$2:B$240=B75),J$2:J$240)),J75,"")} | P75: {=IF(O75="","",IFERROR(LARGE(IF((B$2:B$240=B75)*(E$2:E$240="INSPVI")*(J$2:J$240<=O75),J$2:J$240),1),""))}
A76: 13700897 | B76: 3001478373 | C76: PS | D76: Plan salubrité | E76: INSPSU | F76: Inspection suite à l'avis | I76: 2019 | J76: 43741 | M76: Extermination | N76: UMEDIJO | O76: {=IF(J76=MAX(IF((E$2:E$240="GRISIG")*(B$2:B$240=B76),J$2:J$240)),J76,"")} | P76: {=IF(O76="","",IFERROR(LARGE(IF((B$2:B$240=B76)*(E$2:E$240="INSPVI")*(J$2:J$240<=O76),J$2:J$240),1),""))}
A77: 13702089 | B77: 3001452001 | C77: PS | D77: Plan salubrité | E77: INSPSU | F77: Inspection suite à l'avis | I77: 2019 | J77: 43747 | M77: Suivi | N77: UMEDIJO | O77: {=IF(J77=MAX(IF((E$2:E$240="GRISIG")*(B$2:B$240=B77),J$2:J$240)),J77,"")} | P77: {=IF(O77="","",IFERROR(LARGE(IF((B$2:B$240=B77)*(E$2:E$240="INSPVI")*(J$2:J$240<=O77),J$2:J$240),1),""))}
A78: 13702253 | B78: 3000709518 | C78: PS | D78: Plan salubrité | E78: INSPSU | F78: Inspection suite à l'avis | G78: C | H78: Complet | I78: 2019 | J78: 43745 | K78: 43761 | M78: Insp. suivi | N78: UMEDIJO | O78: {=IF(J78=MAX(IF((E$2:E$240="GRISIG")*(B$2:B$240=B78),J$2:J$240)),J78,"")} | P78: {=IF(O78="","",IFERROR(LARGE(IF((B$2:B$240=B78)*(E$2:E$240="INSPVI")*(J$2:J$240<=O78),J$2:J$240),1),""))}
A79: 13702274 | B79: 3000709521 | C79: PS | D79: Plan salubrité | E79: INSPSU | F79: Inspection suite à l'avis | I79: 2019 | J79: 43745 | M79: insp Suivi | N79: UMEDIJO | O79: {=IF(J79=MAX(IF((E$2:E$240="GRISIG")*(B$2:B$240=B79),J$2:J$240)),J79,"")} | P79: {=IF(O79="","",IFERROR(LARGE(IF((B$2:B$240=B79)*(E$2:E$240="INSPVI")*(J$2:J$240<=O79),J$2:J$240),1),""))}
A80: 13702524 | B80: 3001404615 | C80: PS | D80: Plan salubrité | E80: INSPVI | F80: Visite insp. effect pour avis | G80: C | H80: Complet | I80: 2019 | J80: 43747 | K80: 43747 | M80: Insp. init. 1/2 | N80: UBOUCP4 | O80: {=IF(J80=MAX(IF((E$2:E$240="GRISIG")*(B$2:B$240=B80),J$2:J$240)),J80,"")} | P80: {=IF(O80="","",IFERROR(LARGE(IF((B$2:B$240=B80)*(E$2:E$240="INSPVI")*(J$2:J$240<=O80),J$2:J$240),1),""))}
A81: 13702596 | B81: 3001404615 | C81: PS | D81: Plan salubrité | E81: INSPVI | F81: Visite insp. effect pour avis | G81: C | H81: Complet | I81: 2019 | J81: 43747 | K81: 43747 | M81: Insp. init. 2/2 | N81: UBOUCP4 | O81: {=IF(J81=MAX(IF((E$2:E$240="GRISIG")*(B$2:B$240=B81),J$2:J$240)),J81,"")} | P81: {=IF(O81="","",IFERROR(LARGE(IF((B$2:B$240=B81)*(E$2:E$240="INSPVI")*(J$2:J$240<=O81),J$2:J$240),1),""))}
A82: 13702621 | B82: 3001517496 | C82: PS | D82: Plan salubrité | E82: INSPVI | F82: Visite insp. effect pour avis | G82: C | H82: Complet | I82: 2019 | J82: 43739 | K82: 43739 | M82: Blitz express | N82: UMARC3R | O82: {=IF(J82=MAX(IF((E$2:E$240="GRISIG")*(B$2:B$240=B82),J$2:J$240)),J82,"")} | P82: {=IF(O82="","",IFERROR(LARGE(IF((B$2:B$240=B82)*(E$2:E$240="INSPVI")*(J$2:J$240<=O82),J$2:J$240),1),""))}
A83: 13702913 | B83: 3001477655 | C83: PS | D83: Plan salubrité | E83: INSPVI | F83: Visite insp. effect pour avis | G83: C | H83: Complet | I83: 2019 | J83: 43747 | K83: 43747 | M83: Insp. extermina | N83: ULANG5Z | O83: {=IF(J83=MAX(IF((E$2:E$240="GRISIG")*(B$2:B$240=B83),J$2:J$240)),J83,"")} | P83: {=IF(O83="","",IFERROR(LARGE(IF((B$2:B$240=B83)*(E$2:E$240="INSPVI")*(J$2:J$240<=O83),J$2:J$240),1),""))}
A84: 13703140 | B84: 3001517794 | C84: PS | D84: Plan salubrité | E84: INSPVI | F84: Visite insp. effect pour avis | G84: C | H84: Complet | I84: 2019 | J84: 43739 | K84: 43739 | M84: BLitz express | N84: UARTIES | O84: {=IF(J84=MAX(IF((E$2:E$240="GRISIG")*(B$2:B$240=B84),J$2:J$240)),J84,"")} | P84: {=IF(O84="","",IFERROR(LARGE(IF((B$2:B$240=B84)*(E$2:E$240="INSPVI")*(J$2:J$240<=O84),J$2:J$240),1),""))}
A85: 13703404 | B85: 3001301354 | C85: PS | D85: Plan salubrité | E85: INSPSU | F85: Inspection suite à l'avis | G85: C | H85: Complet | I85: 2019 | J85: 43748 | K85: 43748 | N85: UQUIRPI | O85: {=IF(J85=MAX(IF((E$2:E$240="GRISIG")*(B$2:B$240=B85),J$2:J$240)),J85,"")} | P85: {=IF(O85="","",IFERROR(LARGE(IF((B$2:B$240=B85)*(E$2:E$240="INSPVI")*(J$2:J$240<=O85),J$2:J$240),1),""))}
A86: 13704102 | B86: 3001404617 | C86: PS | D86: Plan salubrité | E86: INSPSU | F86: Inspection suite à l'avis | G86: C | H86: Complet | I86: 2019 | J86: 43747 | K86: 43747 | N86: UQUIRPI | O86: {=IF(J86=MAX(IF((E$2:E$240="GRISIG")*(B$2:B$240=B86),J$2:J$240)),J86,"")} | P86: {=IF(O86="","",IFERROR(LARGE(IF((B$2:B$240=B86)*(E$2:E$240="INSPVI")*(J$2:J$240<=O86),J$2:J$240),1),""))}
A87: 13704490 | B87: 3001484316 | C87: PS | D87: Plan salubrité | E87: INSPSU | F87: Inspection suite à l'avis | I87: 2019 | J87: 43748 | M87: #14 | N87: UBAZISO | O87: {=IF(J87=MAX(IF((E$2:E$240="GRISIG")*(B$2:B$240=B87),J$2:J$240)),J87,"")} | P87: {=IF(O87="","",IFERROR(LARGE(IF((B$2:B$240=B87)*(E$2:E$240="INSPVI")*(J$2:J$240<=O87),J$2:J$240),1),""))}
A88: 13705456 | B88: 3001468915 | C88: PS | D88: Plan salubrité | E88: INSPSU | F88: Inspection suite à l'avis | G88: C | H88: Complet | I88: 2019 | J88: 43748 | K88: 43748 | M88: Suivi | N88: ULANG6B | O88: {=IF(J88=MAX(IF((E$2:E$240="GRISIG")*(B$2:B$240=B88),J$2:J$240)),J88,"")} | P88: {=IF(O88="","",IFERROR(LARGE(IF((B$2:B$240=B88)*(E$2:E$240="INSPVI")*(J$2:J$240<=O88),J$2:J$240),1),""))}
A89: 13707020 | B89: 3001605624 | C89: PS | D89: Plan salubrité | E89: INSPSU | F89: Inspection suite à l'avis | G89: C | H89: Complet | I89: 2019 | J89: 43748 | K89: 43748 | M89: Insp. suivi | N89: ULANG5Z | O89: {=IF(J89=MAX(IF((E$2:E$240="GRISIG")*(B$2:B$240=B89),J$2:J$240)),J89,"")} | P89: {=IF(O89="","",IFERROR(LARGE(IF((B$2:B$240=B89)*(E$2:E$240="INSPVI")*(J$2:J$240<=O89),J$2:J$240),1),""))}
A90: 13707401 | B90: 3001478088 | C90: PS | D90: Plan salubrité | E90: INSPSU | F90: Inspection suite à l'avis | G90: C | H90: Complet | I90: 2019 | J90: 43749 | K90: 43749 | N90: UELYANA | O90: {=IF(J90=MAX(IF((E$2:E$240="GRISIG")*(B$2:B$240=B90),J$2:J$240)),J90,"")} | P90: {=IF(O90="","",IFERROR(LARGE(IF((B$2:B$240=B90)*(E$2:E$240="INSPVI")*(J$2:J$240<=O90),J$2:J$240),1),""))}
A91: 13707553 | B91: 3001472795 | C91: PS | D91: Plan salubrité | E91: GRISIG | F91: Signification de la grille | I91: 2019 | J91: 43748 | N91: ULAPLDI | O91: {=IF(J91=MAX(IF((E$2:E$240="GRISIG")*(B$2:B$240=B91),J$2:J$240)),J91,"")} -> 43748 | P91: {=IF(O91="","",IFERROR(LARGE(IF((B$2:B$240=B91)*(E$2:E$240="INSPVI")*(J$2:J$240<=O91),J$2:J$240),1),""))}
A92: 13709097 | B92: 3000832706 | C92: PS | D92: Plan salubrité | E92: INSPVI | F92: Visite insp. effect pour avis | I92: 2019 | J92: 43749 | M92: #18 | N92: UARTIES | O92: {=IF(J92=MAX(IF((E$2:E$240="GRISIG")*(B$2:B$240=B92),J$2:J$240)),J92,"")} | P92: {=IF(O92="","",IFERROR(LARGE(IF((B$2:B$240=B92)*(E$2:E$240="INSPVI")*(J$2:J$240<=O92),J$2:J$240),1),""))}
A93: 13709724 | B93: 3001633449 | C93: PS | D93: Plan salubrité | E93: INSPVI | F93: Visite insp. effect pour avis | G93: C | H93: Complet | I93: 2019 | J93: 43746 | K93: 43749 | N93: ULEMA63 | O93: {=IF(J93=MAX(IF((E$2:E$240="GRISIG")*(B$2:B$240=B93),J$2:J$240)),J93,"")} | P93: {=IF(O93="","",IFERROR(LARGE(IF((B$2:B$240=B93)*(E$2:E$240="INSPVI")*(J$2:J$240<=O93),J$2:J$240),1),""))}
A94: 13710329 | B94: 3001421752 | C94: PS | D94: Plan salubrité | E94: INSPSU | F94: Inspection suite à l'avis | G94: C | H94: Complet | I94: 2019 | J94: 43749 | K94: 43749 | N94: UELYANA | O94: {=IF(J94=MAX(IF((E$2:E$240="GRISIG")*(B$2:B$240=B94),J$2:J$240)),J94,"")} | P94: {=IF(O94="","",IFERROR(LARGE(IF((B$2:B$240=B94)*(E$2:E$240="INSPVI")*(J$2:J$240<=O94),J$2:J$240),1),""))}
A95: 13710364 | B95: 3001473276 | C95: PS | D95: Plan salubrité | E95: INSPVI | F95: Visite insp. effect pour avis | G95: C | H95: Complet | I95: 2019 | J95: 43749 | K95: 43749 | M95: Insp. initiale | N95: UBOUCP4 | O95: {=IF(J95=MAX(IF((E$2:E$240="GRISIG")*(B$2:B$240=B95),J$2:J$240)),J95,"")} | P95: {=IF(O95="","",IFERROR(LARGE(IF((B$2:B$240=B95)*(E$2:E$240="INSPVI")*(J$2:J$240<=O95),J$2:J$240),1),""))}
A96: 13710394 | B96: 3001473308 | C96: PS | D96: Plan salubrité | E96: INSPVI | F96: Visite insp. effect pour avis | G96: C | H96: Complet | I96: 2019 | J96: 43749 | K96: 43749 | M96: Insp. initiale | N96: UBOUCP4 | O96: {=IF(J96=MAX(IF((E$2:E$240="GRISIG")*(B$2:B$240=B96),J$2:J$240)),J96,"")} | P96: {=IF(O96="","",IFERROR(LARGE(IF((B$2:B$240=B96)*(E$2:E$240="INSPVI")*(J$2:J$240<=O96),J$2:J$240),1),""))}
A97: 13710397 | B97: 3001473322 | C97: PS | D97: Plan salubrité | E97: INSPVI | F97: Visite insp. effect pour avis | G97: C | H97: Complet | I97: 2019 | J97: 43749 | K97: 43749 | M97: Insp. initiale | N97: UBOUCP4 | O97: {=IF(J97=MAX(IF((E$2:E$240="GRISIG")*(B$2:B$240=B97),J$2:J$240)),J97,"")} | P97: {=IF(O97="","",IFERROR(LARGE(IF((B$2:B$240=B97)*(E$2:E$240="INSPVI")*(J$2:J$240<=O97),J$2:J$240),1),""))}
A98: 13713904 | B98: 3001647369 | C98: PS | D98: Plan salubrité | E98: INSPVI | F98: Visite insp. effect pour avis | G98: C | H98: Complet | I98: 2019 | J98: 43753 | K98: 43753 | M98: Blitz | N98: UBOUCP4 | O98: {=IF(J98=MAX(IF((E$2:E$240="GRISIG")*(B$2:B$240=B98),J$2:J$240)),J98,"")} | P98: {=IF(O98="","",IFERROR(LARGE(IF((B$2:B$240=B98)*(E$2:E$240="INSPVI")*(J$2:J$240<=O98),J$2:J$240),1),""))}
A99: 13713952 | B99: 3001647369 | C99: PS | D99: Plan salubrité | E99: INSPVI | F99: Visite insp. effect pour avis | G99: C | H99: Complet | I99: 2019 | J99: 43753 | K99: 43753 | M99: Blitz | N99: USKOUMA | O99: {=IF(J99=MAX(IF((E$2:E$240="GRISIG")*(B$2:B$240=B99),J$2:J$240)),J99,"")} | P99: {=IF(O99="","",IFERROR(LARGE(IF((B$2:B$240=B99)*(E$2:E$240="INSPVI")*(J$2:J$240<=O99),J$2:J$240),1),""))}
A100: 13714445 | B100: 3001647369 | C100: PS | D100: Plan salubrité | E100: INSPVI | F100: Visite insp. effect pour avis | G100: C | H100: Complet | I100: 2019 | J100: 43753 | K100: 43753 | M100: Blitz | N100: UARTIES | O100: {=IF(J100=MAX(IF((E$2:E$240="GRISIG")*(B$2:B$240=B100),J$2:J$240)),J100,"")} | P100: {=IF(O100="","",IFERROR(LARGE(IF((B$2:B$240=B100)*(E$2:E$240="INSPVI")*(J$2:J$240<=O100),J$2:J$240),1),""))}
A101: 13714899 | B101: 3001647369 | C101: PS | D101: Plan salubrité | E101: INSPVI | F101: Visite insp. effect pour avis | G101: C | H101: Complet | I101: 2019 | J101: 43753 | K101: 43753 | M101: Blitz | N101: UKEBILY | O101: {=IF(J101=MAX(IF((E$2:E$240="GRISIG")*(B$2:B$240=B101),J$2:J$240)),J101,"")} | P101: {=IF(O101="","",IFERROR(LARGE(IF((B$2:B$240=B101)*(E$2:E$240="INSPVI")*(J$2:J$240<=O101),J$2:J$240),1),""))}
...

Sheet Calcul
B1: No_Commande | C1: GRISIP ++ | D1: INSPVI -- | E1: DifférenceEnJours
B2: {=IFERROR(SMALL(IF((Feuil2!O$2:O$240<>"")*(Feuil2!P$2:P$240<>""),Feuil2!B$2:B$240),ROWS($2:2)),"")} -> 3001517794 | C2: {=IFERROR(SMALL(IF((Feuil2!B$2:B$240=B2)*(Feuil2!O$2:O$240<>"")*(Feuil2!P$2:P$240<>""),Feuil2!O$2:O$240),1),"")} -> 43756 | D2: {=IFERROR(SMALL(IF((Feuil2!B$2:B$240=B2)*(Feuil2!O$2:O$240<>"")*(Feuil2!P$2:P$240<>""),Feuil2!P$2:P$240),1),"")} -> 43742 | E2: =IF(B2="","",C2-D2+1) -> 15
B3: {=IFERROR(SMALL(IF((Feuil2!O$2:O$240<>"")*(Feuil2!P$2:P$240<>""),Feuil2!B$2:B$240),ROWS($2:3)),"")} -> 3001633449 | C3: {=IFERROR(SMALL(IF((Feuil2!B$2:B$240=B3)*(Feuil2!O$2:O$240<>"")*(Feuil2!P$2:P$240<>""),Feuil2!O$2:O$240),1),"")} -> 43768 | D3: {=IFERROR(SMALL(IF((Feuil2!B$2:B$240=B3)*(Feuil2!O$2:O$240<>"")*(Feuil2!P$2:P$240<>""),Feuil2!P$2:P$240),1),"")} -> 43746 | E3: =IF(B3="","",C3-D3+1) -> 23
B4: {=IFERROR(SMALL(IF((Feuil2!O$2:O$240<>"")*(Feuil2!P$2:P$240<>""),Feuil2!B$2:B$240),ROWS($2:4)),"")} -> 3001652995 | C4: {=IFERROR(SMALL(IF((Feuil2!B$2:B$240=B4)*(Feuil2!O$2:O$240<>"")*(Feuil2!P$2:P$240<>""),Feuil2!O$2:O$240),1),"")} -> 43769 | D4: {=IFERROR(SMALL(IF((Feuil2!B$2:B$240=B4)*(Feuil2!O$2:O$240<>"")*(Feuil2!P$2:P$240<>""),Feuil2!P$2:P$240),1),"")} -> 43755 | E4: =IF(B4="","",C4-D4+1) -> 15
B5: {=IFERROR(SMALL(IF((Feuil2!O$2:O$240<>"")*(Feuil2!P$2:P$240<>""),Feuil2!B$2:B$240),ROWS($2:5)),"")} | C5: {=IFERROR(SMALL(IF((Feuil2!B$2:B$240=B5)*(Feuil2!O$2:O$240<>"")*(Feuil2!P$2:P$240<>""),Feuil2!O$2:O$240),1),"")} | D5: {=IFERROR(SMALL(IF((Feuil2!B$2:B$240=B5)*(Feuil2!O$2:O$240<>"")*(Feuil2!P$2:P$240<>""),Feuil2!P$2:P$240),1),"")} | E5: =IF(B5="","",C5-D5+1)
B6: {=IFERROR(SMALL(IF((Feuil2!O$2:O$240<>"")*(Feuil2!P$2:P$240<>""),Feuil2!B$2:B$240),ROWS($2:6)),"")} | C6: {=IFERROR(SMALL(IF((Feuil2!B$2:B$240=B6)*(Feuil2!O$2:O$240<>"")*(Feuil2!P$2:P$240<>""),Feuil2!O$2:O$240),1),"")} | D6: {=IFERROR(SMALL(IF((Feuil2!B$2:B$240=B6)*(Feuil2!O$2:O$240<>"")*(Feuil2!P$2:P$240<>""),Feuil2!P$2:P$240),1),"")} | E6: =IF(B6="","",C6-D6+1)
B7: {=IFERROR(SMALL(IF((Feuil2!O$2:O$240<>"")*(Feuil2!P$2:P$240<>""),Feuil2!B$2:B$240),ROWS($2:7)),"")} | C7: {=IFERROR(SMALL(IF((Feuil2!B$2:B$240=B7)*(Feuil2!O$2:O$240<>"")*(Feuil2!P$2:P$240<>""),Feuil2!O$2:O$240),1),"")} | D7: {=IFERROR(SMALL(IF((Feuil2!B$2:B$240=B7)*(Feuil2!O$2:O$240<>"")*(Feuil2!P$2:P$240<>""),Feuil2!P$2:P$240),1),"")} | E7: =IF(B7="","",C7-D7+1)
B8: {=IFERROR(SMALL(IF((Feuil2!O$2:O$240<>"")*(Feuil2!P$2:P$240<>""),Feuil2!B$2:B$240),ROWS($2:8)),"")} | C8: {=IFERROR(SMALL(IF((Feuil2!B$2:B$240=B8)*(Feuil2!O$2:O$240<>"")*(Feuil2!P$2:P$240<>""),Feuil2!O$2:O$240),1),"")} | D8: {=IFERROR(SMALL(IF((Feuil2!B$2:B$240=B8)*(Feuil2!O$2:O$240<>"")*(Feuil2!P$2:P$240<>""),Feuil2!P$2:P$240),1),"")} | E8: =IF(B8="","",C8-D8+1)
B9: {=IFERROR(SMALL(IF((Feuil2!O$2:O$240<>"")*(Feuil2!P$2:P$240<>""),Feuil2!B$2:B$240),ROWS($2:9)),"")} | C9: {=IFERROR(SMALL(IF((Feuil2!B$2:B$240=B9)*(Feuil2!O$2:O$240<>"")*(Feuil2!P$2:P$240<>""),Feuil2!O$2:O$240),1),"")} | D9: {=IFERROR(SMALL(IF((Feuil2!B$2:B$240=B9)*(Feuil2!O$2:O$240<>"")*(Feuil2!P$2:P$240<>""),Feuil2!P$2:P$240),1),"")} | E9: =IF(B9="","",C9-D9+1)
B10: {=IFERROR(SMALL(IF((Feuil2!O$2:O$240<>"")*(Feuil2!P$2:P$240<>""),Feuil2!B$2:B$240),ROWS($2:10)),"")} | C10: {=IFERROR(SMALL(IF((Feuil2!B$2:B$240=B10)*(Feuil2!O$2:O$240<>"")*(Feuil2!P$2:P$240<>""),Feuil2!O$2:O$240),1),"")} | D10: {=IFERROR(SMALL(IF((Feuil2!B$2:B$240=B10)*(Feuil2!O$2:O$240<>"")*(Feuil2!P$2:P$240<>""),Feuil2!P$2:P$240),1),"")} | E10: =IF(B10="","",C10-D10+1)
B11: {=IFERROR(SMALL(IF((Feuil2!O$2:O$240<>"")*(Feuil2!P$2:P$240<>""),Feuil2!B$2:B$240),ROWS($2:11)),"")} | C11: {=IFERROR(SMALL(IF((Feuil2!B$2:B$240=B11)*(Feuil2!O$2:O$240<>"")*(Feuil2!P$2:P$240<>""),Feuil2!O$2:O$240),1),"")} | D11: {=IFERROR(SMALL(IF((Feuil2!B$2:B$240=B11)*(Feuil2!O$2:O$240<>"")*(Feuil2!P$2:P$240<>""),Feuil2!P$2:P$240),1),"")} | E11: =IF(B11="","",C11-D11+1)
B12: {=IFERROR(SMALL(IF((Feuil2!O$2:O$240<>"")*(Feuil2!P$2:P$240<>""),Feuil2!B$2:B$240),ROWS($2:12)),"")} | C12: {=IFERROR(SMALL(IF((Feuil2!B$2:B$240=B12)*(Feuil2!O$2:O$240<>"")*(Feuil2!P$2:P$240<>""),Feuil2!O$2:O$240),1),"")} | D12: {=IFERROR(SMALL(IF((Feuil2!B$2:B$240=B12)*(Feuil2!O$2:O$240<>"")*(Feuil2!P$2:P$240<>""),Feuil2!P$2:P$240),1),"")} | E12: =IF(B12="","",C12-D12+1)
B13: {=IFERROR(SMALL(IF((Feuil2!O$2:O$240<>"")*(Feuil2!P$2:P$240<>""),Feuil2!B$2:B$240),ROWS($2:13)),"")} | C13: {=IFERROR(SMALL(IF((Feuil2!B$2:B$240=B13)*(Feuil2!O$2:O$240<>"")*(Feuil2!P$2:P$240<>""),Feuil2!O$2:O$240),1),"")} | D13: {=IFERROR(SMALL(IF((Feuil2!B$2:B$240=B13)*(Feuil2!O$2:O$240<>"")*(Feuil2!P$2:P$240<>""),Feuil2!P$2:P$240),1),"")} | E13: =IF(B13="","",C13-D13+1)
B14: {=IFERROR(SMALL(IF((Feuil2!O$2:O$240<>"")*(Feuil2!P$2:P$240<>""),Feuil2!B$2:B$240),ROWS($2:14)),"")} | C14: {=IFERROR(SMALL(IF((Feuil2!B$2:B$240=B14)*(Feuil2!O$2:O$240<>"")*(Feuil2!P$2:P$240<>""),Feuil2!O$2:O$240),1),"")} | D14: {=IFERROR(SMALL(IF((Feuil2!B$2:B$240=B14)*(Feuil2!O$2:O$240<>"")*(Feuil2!P$2:P$240<>""),Feuil2!P$2:P$240),1),"")} | E14: =IF(B14="","",C14-D14+1)
B15: {=IFERROR(SMALL(IF((Feuil2!O$2:O$240<>"")*(Feuil2!P$2:P$240<>""),Feuil2!B$2:B$240),ROWS($2:15)),"")} | C15: {=IFERROR(SMALL(IF((Feuil2!B$2:B$240=B15)*(Feuil2!O$2:O$240<>"")*(Feuil2!P$2:P$240<>""),Feuil2!O$2:O$240),1),"")} | D15: {=IFERROR(SMALL(IF((Feuil2!B$2:B$240=B15)*(Feuil2!O$2:O$240<>"")*(Feuil2!P$2:P$240<>""),Feuil2!P$2:P$240),1),"")} | E15: =IF(B15="","",C15-D15+1)
B16: {=IFERROR(SMALL(IF((Feuil2!O$2:O$240<>"")*(Feuil2!P$2:P$240<>""),Feuil2!B$2:B$240),ROWS($2:16)),"")} | C16: {=IFERROR(SMALL(IF((Feuil2!B$2:B$240=B16)*(Feuil2!O$2:O$240<>"")*(Feuil2!P$2:P$240<>""),Feuil2!O$2:O$240),1),"")} | D16: {=IFERROR(SMALL(IF((Feuil2!B$2:B$240=B16)*(Feuil2!O$2:O$240<>"")*(Feuil2!P$2:P$240<>""),Feuil2!P$2:P$240),1),"")} | E16: =IF(B16="","",C16-D16+1)
B17: {=IFERROR(SMALL(IF((Feuil2!O$2:O$240<>"")*(Feuil2!P$2:P$240<>""),Feuil2!B$2:B$240),ROWS($2:17)),"")} | C17: {=IFERROR(SMALL(IF((Feuil2!B$2:B$240=B17)*(Feuil2!O$2:O$240<>"")*(Feuil2!P$2:P$240<>""),Feuil2!O$2:O$240),1),"")} | D17: {=IFERROR(SMALL(IF((Feuil2!B$2:B$240=B17)*(Feuil2!O$2:O$240<>"")*(Feuil2!P$2:P$240<>""),Feuil2!P$2:P$240),1),"")} | E17: =IF(B17="","",C17-D17+1)
B18: {=IFERROR(SMALL(IF((Feuil2!O$2:O$240<>"")*(Feuil2!P$2:P$240<>""),Feuil2!B$2:B$240),ROWS($2:18)),"")} | C18: {=IFERROR(SMALL(IF((Feuil2!B$2:B$240=B18)*(Feuil2!O$2:O$240<>"")*(Feuil2!P$2:P$240<>""),Feuil2!O$2:O$240),1),"")} | D18: {=IFERROR(SMALL(IF((Feuil2!B$2:B$240=B18)*(Feuil2!O$2:O$240<>"")*(Feuil2!P$2:P$240<>""),Feuil2!P$2:P$240),1),"")} | E18: =IF(B18="","",C18-D18+1)
B19: {=IFERROR(SMALL(IF((Feuil2!O$2:O$240<>"")*(Feuil2!P$2:P$240<>""),Feuil2!B$2:B$240),ROWS($2:19)),"")} | C19: {=IFERROR(SMALL(IF((Feuil2!B$2:B$240=B19)*(Feuil2!O$2:O$240<>"")*(Feuil2!P$2:P$240<>""),Feuil2!O$2:O$240),1),"")} | D19: {=IFERROR(SMALL(IF((Feuil2!B$2:B$240=B19)*(Feuil2!O$2:O$240<>"")*(Feuil2!P$2:P$240<>""),Feuil2!P$2:P$240),1),"")} | E19: =IF(B19="","",C19-D19+1)
B20: {=IFERROR(SMALL(IF((Feuil2!O$2:O$240<>"")*(Feuil2!P$2:P$240<>""),Feuil2!B$2:B$240),ROWS($2:20)),"")} | C20: {=IFERROR(SMALL(IF((Feuil2!B$2:B$240=B20)*(Feuil2!O$2:O$240<>"")*(Feuil2!P$2:P$240<>""),Feuil2!O$2:O$240),1),"")} | D20: {=IFERROR(SMALL(IF((Feuil2!B$2:B$240=B20)*(Feuil2!O$2:O$240<>"")*(Feuil2!P$2:P$240<>""),Feuil2!P$2:P$240),1),"")} | E20: =IF(B20="","",C20-D20+1)
B21: {=IFERROR(SMALL(IF((Feuil2!O$2:O$240<>"")*(Feuil2!P$2:P$240<>""),Feuil2!B$2:B$240),ROWS($2:21)),"")} | C21: {=IFERROR(SMALL(IF((Feuil2!B$2:B$240=B21)*(Feuil2!O$2:O$240<>"")*(Feuil2!P$2:P$240<>""),Feuil2!O$2:O$240),1),"")} | D21: {=IFERROR(SMALL(IF((Feuil2!B$2:B$240=B21)*(Feuil2!O$2:O$240<>"")*(Feuil2!P$2:P$240<>""),Feuil2!P$2:P$240),1),"")} | E21: =IF(B21="","",C21-D21+1)
B22: {=IFERROR(SMALL(IF((Feuil2!O$2:O$240<>"")*(Feuil2!P$2:P$240<>""),Feuil2!B$2:B$240),ROWS($2:22)),"")} | C22: {=IFERROR(SMALL(IF((Feuil2!B$2:B$240=B22)*(Feuil2!O$2:O$240<>"")*(Feuil2!P$2:P$240<>""),Feuil2!O$2:O$240),1),"")} | D22: {=IFERROR(SMALL(IF((Feuil2!B$2:B$240=B22)*(Feuil2!O$2:O$240<>"")*(Feuil2!P$2:P$240<>""),Feuil2!P$2:P$240),1),"")} | E22: =IF(B22="","",C22-D22+1)
