Workbook
Name Col_CodeEtape: OFFSET(Col_NoDemande,,3)
Name Col_Dates: OFFSET(Col_NoDemande,,8)
Name Col_NoDemande: OFFSET(Feuil2!$B$2,,,COUNT(Feuil2!$B:$B))

Sheet Feuil2
A1: NO_ETAPE_REEL | B1: NO_DEMANDE | C1: CODE_CAT_ETAPE | D1: DESCR_CAT_ETAPE | E1: CODE_ETAPE_STAND | F1: DESCR_ABREG_ETAPE_STAND | G1: CODE_ETAT_ETAPE_REEL | H1: DESCR_CODE_ETAT_ETAPE_REEL | I1: Année | J1: DATE_DEB_ETAPE_REEL | K1: DATE_FIN_ETAPE_REEL | L1: DATE_ECH_ETAPE_REEL | M1: DESCR_REM_ETAPE_REEL | N1: CODE_USAGER_RESP | O1: Col_Date_MAX_GRISIP | P1: Col_Date_INSPVI | U1: CODE_ETAPE_STAND
A2: 13514873 | B2: 3001423010 | C2: PS | D2: Plan salubrité | E2: INSPSU | F2: Inspection suite à l'avis | G2: C | H2: Complet | I2: 2019 | J2: 43741 | K2: 43741 | N2: USKOUMA | O2: {=IF(J2=MAX(IF((E$2:E$240="GRISIG")*(B$2:B$240=B2),J$2:J$240)),J2,"")} | P2: {=IF(O2="","",IFERROR(LARGE(IF((B$2:B$240=B2)*(E$2:E$240="INSPVI")*(J$2:J$240<=O2),J$2:J$240),1),""))} | U2: INSPSU
A3: 13678830 | B3: 3001517496 | C3: PS | D3: Plan salubrité | E3: INSPVI | F3: Visite insp. effect pour avis | G3: C | H3: Complet | I3: 2019 | J3: 43739 | K3: 43739 | M3: Blitz express | N3: UBOUCP4 | O3: {=IF(J3=MAX(IF((E$2:E$240="GRISIG")*(B$2:B$240=B3),J$2:J$240)),J3,"")} | P3: {=IF(O3="","",IFERROR(LARGE(IF((B$2:B$240=B3)*(E$2:E$240="INSPVI")*(J$2:J$240<=O3),J$2:J$240),1),""))} | U3: INSPVI
A4: 13678858 | B4: 3001517574 | C4: PS | D4: Plan salubrité | E4: INSPVI | F4: Visite insp. effect pour avis | G4: C | H4: Complet | I4: 2019 | J4: 43739 | K4: 43739 | M4: Blitz express | N4: UBOUCP4 | O4: {=IF(J4=MAX(IF((E$2:E$240="GRISIG")*(B$2:B$240=B4),J$2:J$240)),J4,"")} | P4: {=IF(O4="","",IFERROR(LARGE(IF((B$2:B$240=B4)*(E$2:E$240="INSPVI")*(J$2:J$240<=O4),J$2:J$240),1),""))} | U4: GRISIG
A5: 13678861 | B5: 3001517794 | C5: PS | D5: Plan salubrité | E5: INSPVI | F5: Visite insp. effect pour avis | G5: C | H5: Complet | I5: 2019 | J5: 43739 | K5: 43739 | M5: Blitz express | N5: UBOUCP4 | O5: {=IF(J5=MAX(IF((E$2:E$240="GRISIG")*(B$2:B$240=B5),J$2:J$240)),J5,"")} | P5: {=IF(O5="","",IFERROR(LARGE(IF((B$2:B$240=B5)*(E$2:E$240="INSPVI")*(J$2:J$240<=O5),J$2:J$240),1),""))} | U5: INSPAV
A6: 13678870 | B6: 3001517675 | C6: PS | D6: Plan salubrité | E6: INSPVI | F6: Visite insp. effect pour avis | G6: C | H6: Complet | I6: 2019 | J6: 43739 | K6: 43739 | M6: Blitz express | N6: UBOUCP4 | O6: {=IF(J6=MAX(IF((E$2:E$240="GRISIG")*(B$2:B$240=B6),J$2:J$240)),J6,"")} | P6: {=IF(O6="","",IFERROR(LARGE(IF((B$2:B$240=B6)*(E$2:E$240="INSPVI")*(J$2:J$240<=O6),J$2:J$240),1),""))} | U6: INSPCH
A7: 13679630 | B7: 3001517794 | C7: PS | D7: Plan salubrité | E7: INSPVI | F7: Visite insp. effect pour avis | G7: C | H7: Complet | I7: 2019 | J7: 43739 | K7: 43739 | M7: Blitz express | N7: UQUIRPI | O7: {=IF(J7=MAX(IF((E$2:E$240="GRISIG")*(B$2:B$240=B7),J$2:J$240)),J7,"")} | P7: {=IF(O7="","",IFERROR(LARGE(IF((B$2:B$240=B7)*(E$2:E$240="INSPVI")*(J$2:J$240<=O7),J$2:J$240),1),""))}
A8: 13679715 | B8: 3001517675 | C8: PS | D8: Plan salubrité | E8: INSPVI | F8: Visite insp. effect pour avis | G8: C | H8: Complet | I8: 2019 | J8: 43739 | K8: 43739 | M8: Blitz express | N8: UQUIRPI | O8: {=IF(J8=MAX(IF((E$2:E$240="GRISIG")*(B$2:B$240=B8),J$2:J$240)),J8,"")} | P8: {=IF(O8="","",IFERROR(LARGE(IF((B$2:B$240=B8)*(E$2:E$240="INSPVI")*(J$2:J$240<=O8),J$2:J$240),1),""))}
A9: 13679739 | B9: 3001517496 | C9: PS | D9: Plan salubrité | E9: INSPVI | F9: Visite insp. effect pour avis | G9: C | H9: Complet | I9: 2019 | J9: 43740 | K9: 43740 | M9: Blitz express | N9: UELYANA | O9: {=IF(J9=MAX(IF((E$2:E$240="GRISIG")*(B$2:B$240=B9),J$2:J$240)),J9,"")} | P9: {=IF(O9="","",IFERROR(LARGE(IF((B$2:B$240=B9)*(E$2:E$240="INSPVI")*(J$2:J$240<=O9),J$2:J$240),1),""))}
A10: 13679745 | B10: 3001517574 | C10: PS | D10: Plan salubrité | E10: INSPVI | F10: Visite insp. effect pour avis | G10: C | H10: Complet | I10: 2019 | J10: 43740 | K10: 43740 | M10: Blitz express | N10: UELYANA | O10: {=IF(J10=MAX(IF((E$2:E$240="GRISIG")*(B$2:B$240=B10),J$2:J$240)),J10,"")} | P10: {=IF(O10="","",IFERROR(LARGE(IF((B$2:B$240=B10)*(E$2:E$240="INSPVI")*(J$2:J$240<=O10),J$2:J$240),1),""))}
A11: 13679795 | B11: 3001517675 | C11: PS | D11: Plan salubrité | E11: INSPVI | F11: Visite insp. effect pour avis | G11: C | H11: Complet | I11: 2019 | J11: 43739 | K11: 43739 | M11: Blitz express | N11: UELYANA | O11: {=IF(J11=MAX(IF((E$2:E$240="GRISIG")*(B$2:B$240=B11),J$2:J$240)),J11,"")} | P11: {=IF(O11="","",IFERROR(LARGE(IF((B$2:B$240=B11)*(E$2:E$240="INSPVI")*(J$2:J$240<=O11),J$2:J$240),1),""))}
A12: 13679836 | B12: 3001517794 | C12: PS | D12: Plan salubrité | E12: INSPVI | F12: Visite insp. effect pour avis | G12: C | H12: Complet | I12: 2019 | J12: 43739 | K12: 43739 | M12: Blitz express | N12: UELYANA | O12: {=IF(J12=MAX(IF((E$2:E$240="GRISIG")*(B$2:B$240=B12),J$2:J$240)),J12,"")} | P12: {=IF(O12="","",IFERROR(LARGE(IF((B$2:B$240=B12)*(E$2:E$240="INSPVI")*(J$2:J$240<=O12),J$2:J$240),1),""))}
A13: 13680141 | B13: 3001517574 | C13: PS | D13: Plan salubrité | E13: INSPVI | F13: Visite insp. effect pour avis | G13: C | H13: Complet | I13: 2019 | J13: 43739 | K13: 43739 | M13: Blitz express | N13: UKEBILY | O13: {=IF(J13=MAX(IF((E$2:E$240="GRISIG")*(B$2:B$240=B13),J$2:J$240)),J13,"")} | P13: {=IF(O13="","",IFERROR(LARGE(IF((B$2:B$240=B13)*(E$2:E$240="INSPVI")*(J$2:J$240<=O13),J$2:J$240),1),""))}
A14: 13680183 | B14: 3001517496 | C14: PS | D14: Plan salubrité | E14: INSPVI | F14: Visite insp. effect pour avis | G14: C | H14: Complet | I14: 2019 | J14: 43739 | K14: 43739 | M14: Blitz express | N14: UKEBILY | O14: {=IF(J14=MAX(IF((E$2:E$240="GRISIG")*(B$2:B$240=B14),J$2:J$240)),J14,"")} | P14: {=IF(O14="","",IFERROR(LARGE(IF((B$2:B$240=B14)*(E$2:E$240="INSPVI")*(J$2:J$240<=O14),J$2:J$240),1),""))}
A15: 13680205 | B15: 3001517675 | C15: PS | D15: Plan salubrité | E15: INSPVI | F15: Visite insp. effect pour avis | G15: C | H15: Complet | I15: 2019 | J15: 43739 | K15: 43739 | M15: Blitz express | N15: UKEBILY | O15: {=IF(J15=MAX(IF((E$2:E$240="GRISIG")*(B$2:B$240=B15),J$2:J$240)),J15,"")} | P15: {=IF(O15="","",IFERROR(LARGE(IF((B$2:B$240=B15)*(E$2:E$240="INSPVI")*(J$2:J$240<=O15),J$2:J$240),1),""))}
A16: 13680216 | B16: 3001517794 | C16: PS | D16: Plan salubrité | E16: INSPVI | F16: Visite insp. effect pour avis | G16: C | H16: Complet | I16: 2019 | J16: 43739 | K16: 43739 | M16: Blitz express | N16: UKEBILY | O16: {=IF(J16=MAX(IF((E$2:E$240="GRISIG")*(B$2:B$240=B16),J$2:J$240)),J16,"")} | P16: {=IF(O16="","",IFERROR(LARGE(IF((B$2:B$240=B16)*(E$2:E$240="INSPVI")*(J$2:J$240<=O16),J$2:J$240),1),""))}
A17: 13680540 | B17: 3001517794 | C17: PS | D17: Plan salubrité | E17: INSPVI | F17: Visite insp. effect pour avis | G17: C | H17: Complet | I17: 2019 | J17: 43739 | K17: 43739 | M17: Blitz expresse | N17: USKOUMA | O17: {=IF(J17=MAX(IF((E$2:E$240="GRISIG")*(B$2:B$240=B17),J$2:J$240)),J17,"")} | P17: {=IF(O17="","",IFERROR(LARGE(IF((B$2:B$240=B17)*(E$2:E$240="INSPVI")*(J$2:J$240<=O17),J$2:J$240),1),""))}
A18: 13680544 | B18: 3001517574 | C18: PS | D18: Plan salubrité | E18: INSPVI | F18: Visite insp. effect pour avis | G18: C | H18: Complet | I18: 2019 | J18: 43739 | K18: 43739 | M18: Blitz express | N18: UMARC3R | O18: {=IF(J18=MAX(IF((E$2:E$240="GRISIG")*(B$2:B$240=B18),J$2:J$240)),J18,"")} | P18: {=IF(O18="","",IFERROR(LARGE(IF((B$2:B$240=B18)*(E$2:E$240="INSPVI")*(J$2:J$240<=O18),J$2:J$240),1),""))}
A19: 13680610 | B19: 3001517675 | C19: PS | D19: Plan salubrité | E19: INSPVI | F19: Visite insp. effect pour avis | G19: C | H19: Complet | I19: 2019 | J19: 43739 | K19: 43739 | M19: Blitz express | N19: USKOUMA | O19: {=IF(J19=MAX(IF((E$2:E$240="GRISIG")*(B$2:B$240=B19),J$2:J$240)),J19,"")} | P19: {=IF(O19="","",IFERROR(LARGE(IF((B$2:B$240=B19)*(E$2:E$240="INSPVI")*(J$2:J$240<=O19),J$2:J$240),1),""))}
A20: 13680630 | B20: 3001517574 | C20: PS | D20: Plan salubrité | E20: INSPVI | F20: Visite insp. effect pour avis | G20: C | H20: Complet | I20: 2019 | J20: 43739 | K20: 43739 | N20: USKOUMA | O20: {=IF(J20=MAX(IF((E$2:E$240="GRISIG")*(B$2:B$240=B20),J$2:J$240)),J20,"")} | P20: {=IF(O20="","",IFERROR(LARGE(IF((B$2:B$240=B20)*(E$2:E$240="INSPVI")*(J$2:J$240<=O20),J$2:J$240),1),""))}
A21: 13680638 | B21: 3001517574 | C21: PS | D21: Plan salubrité | E21: INSPVI | F21: Visite insp. effect pour avis | G21: C | H21: Complet | I21: 2019 | J21: 43739 | K21: 43739 | M21: Blitz express | N21: UQUIRPI | O21: {=IF(J21=MAX(IF((E$2:E$240="GRISIG")*(B$2:B$240=B21),J$2:J$240)),J21,"")} | P21: {=IF(O21="","",IFERROR(LARGE(IF((B$2:B$240=B21)*(E$2:E$240="INSPVI")*(J$2:J$240<=O21),J$2:J$240),1),""))}
A22: 13681242 | B22: 3001517496 | C22: PS | D22: Plan salubrité | E22: INSPVI | F22: Visite insp. effect pour avis | G22: C | H22: Complet | I22: 2019 | J22: 43739 | K22: 43739 | M22: Blitz express | N22: ULANG6B | O22: {=IF(J22=MAX(IF((E$2:E$240="GRISIG")*(B$2:B$240=B22),J$2:J$240)),J22,"")} | P22: {=IF(O22="","",IFERROR(LARGE(IF((B$2:B$240=B22)*(E$2:E$240="INSPVI")*(J$2:J$240<=O22),J$2:J$240),1),""))}
A23: 13681249 | B23: 3001517574 | C23: PS | D23: Plan salubrité | E23: INSPVI | F23: Visite insp. effect pour avis | G23: C | H23: Complet | I23: 2019 | J23: 43739 | K23: 43739 | M23: Blitz express | N23: ULANG6B | O23: {=IF(J23=MAX(IF((E$2:E$240="GRISIG")*(B$2:B$240=B23),J$2:J$240)),J23,"")} | P23: {=IF(O23="","",IFERROR(LARGE(IF((B$2:B$240=B23)*(E$2:E$240="INSPVI")*(J$2:J$240<=O23),J$2:J$240),1),""))}
A24: 13681253 | B24: 3001517675 | C24: PS | D24: Plan salubrité | E24: INSPVI | F24: Visite insp. effect pour avis | G24: C | H24: Complet | I24: 2019 | J24: 43739 | K24: 43739 | M24: Blitz express | N24: ULANG6B | O24: {=IF(J24=MAX(IF((E$2:E$240="GRISIG")*(B$2:B$240=B24),J$2:J$240)),J24,"")} | P24: {=IF(O24="","",IFERROR(LARGE(IF((B$2:B$240=B24)*(E$2:E$240="INSPVI")*(J$2:J$240<=O24),J$2:J$240),1),""))}
A25: 13681261 | B25: 3001517794 | C25: PS | D25: Plan salubrité | E25: INSPVI | F25: Visite insp. effect pour avis | G25: C | H25: Complet | I25: 2019 | J25: 43739 | K25: 43739 | M25: Blitz express | N25: ULANG6B | O25: {=IF(J25=MAX(IF((E$2:E$240="GRISIG")*(B$2:B$240=B25),J$2:J$240)),J25,"")} | P25: {=IF(O25="","",IFERROR(LARGE(IF((B$2:B$240=B25)*(E$2:E$240="INSPVI")*(J$2:J$240<=O25),J$2:J$240),1),""))}
A26: 13681426 | B26: 3001517794 | C26: PS | D26: Plan salubrité | E26: INSPVI | F26: Visite insp. effect pour avis | G26: C | H26: Complet | I26: 2019 | J26: 43739 | K26: 43739 | M26: Blitz express | N26: UWUJIAN | O26: {=IF(J26=MAX(IF((E$2:E$240="GRISIG")*(B$2:B$240=B26),J$2:J$240)),J26,"")} | P26: {=IF(O26="","",IFERROR(LARGE(IF((B$2:B$240=B26)*(E$2:E$240="INSPVI")*(J$2:J$240<=O26),J$2:J$240),1),""))}
A27: 13681947 | B27: 3001517496 | C27: PS | D27: Plan salubrité | E27: INSPVI | F27: Visite insp. effect pour avis | G27: C | H27: Complet | I27: 2019 | J27: 43739 | K27: 43739 | M27: Blitz express | N27: USKOUMA | O27: {=IF(J27=MAX(IF((E$2:E$240="GRISIG")*(B$2:B$240=B27),J$2:J$240)),J27,"")} | P27: {=IF(O27="","",IFERROR(LARGE(IF((B$2:B$240=B27)*(E$2:E$240="INSPVI")*(J$2:J$240<=O27),J$2:J$240),1),""))}
A28: 13682032 | B28: 3001517675 | C28: PS | D28: Plan salubrité | E28: INSPVI | F28: Visite insp. effect pour avis | G28: C | H28: Complet | I28: 2019 | J28: 43739 | K28: 43739 | M28: Blitz express | N28: UWUJIAN | O28: {=IF(J28=MAX(IF((E$2:E$240="GRISIG")*(B$2:B$240=B28),J$2:J$240)),J28,"")} | P28: {=IF(O28="","",IFERROR(LARGE(IF((B$2:B$240=B28)*(E$2:E$240="INSPVI")*(J$2:J$240<=O28),J$2:J$240),1),""))}
A29: 13683399 | B29: 3001472737 | C29: PS | D29: Plan salubrité | E29: INSPSU | F29: Inspection suite à l'avis | G29: C | H29: Complet | I29: 2019 | J29: 43741 | K29: 43746 | M29: rdv | N29: UBAZISO | O29: {=IF(J29=MAX(IF((E$2:E$240="GRISIG")*(B$2:B$240=B29),J$2:J$240)),J29,"")} | P29: {=IF(O29="","",IFERROR(LARGE(IF((B$2:B$240=B29)*(E$2:E$240="INSPVI")*(J$2:J$240<=O29),J$2:J$240),1),""))}
A30: 13683723 | B30: 3001468728 | C30: PS | D30: Plan salubrité | E30: INSPSU | F30: Inspection suite à l'avis | G30: C | H30: Complet | I30: 2019 | J30: 43741 | K30: 43741 | N30: UQUIRPI | O30: {=IF(J30=MAX(IF((E$2:E$240="GRISIG")*(B$2:B$240=B30),J$2:J$240)),J30,"")} | P30: {=IF(O30="","",IFERROR(LARGE(IF((B$2:B$240=B30)*(E$2:E$240="INSPVI")*(J$2:J$240<=O30),J$2:J$240),1),""))}
A31: 13683903 | B31: 3001484316 | C31: PS | D31: Plan salubrité | E31: INSPSU | F31: Inspection suite à l'avis | I31: 2019 | J31: 43741 | M31: appel | N31: UBAZISO | O31: {=IF(J31=MAX(IF((E$2:E$240="GRISIG")*(B$2:B$240=B31),J$2:J$240)),J31,"")} | P31: {=IF(O31="","",IFERROR(LARGE(IF((B$2:B$240=B31)*(E$2:E$240="INSPVI")*(J$2:J$240<=O31),J$2:J$240),1),""))}
A32: 13684749 | B32: 3001517496 | C32: PS | D32: Plan salubrité | E32: INSPVI | F32: Visite insp. effect pour avis | G32: C | H32: Complet | I32: 2019 | J32: 43741 | K32: 43741 | M32: Blitz express | N32: ULANG5Z | O32: {=IF(J32=MAX(IF((E$2:E$240="GRISIG")*(B$2:B$240=B32),J$2:J$240)),J32,"")} | P32: {=IF(O32="","",IFERROR(LARGE(IF((B$2:B$240=B32)*(E$2:E$240="INSPVI")*(J$2:J$240<=O32),J$2:J$240),1),""))}
A33: 13684754 | B33: 3001517574 | C33: PS | D33: Plan salubrité | E33: INSPVI | F33: Visite insp. effect pour avis | G33: C | H33: Complet | I33: 2019 | J33: 43741 | K33: 43741 | M33: Blitz express | N33: ULANG5Z | O33: {=IF(J33=MAX(IF((E$2:E$240="GRISIG")*(B$2:B$240=B33),J$2:J$240)),J33,"")} | P33: {=IF(O33="","",IFERROR(LARGE(IF((B$2:B$240=B33)*(E$2:E$240="INSPVI")*(J$2:J$240<=O33),J$2:J$240),1),""))}
A34: 13684757 | B34: 3001517675 | C34: PS | D34: Plan salubrité | E34: INSPVI | F34: Visite insp. effect pour avis | G34: C | H34: Complet | I34: 2019 | J34: 43741 | K34: 43741 | M34: Blitz express | N34: ULANG5Z | O34: {=IF(J34=MAX(IF((E$2:E$240="GRISIG")*(B$2:B$240=B34),J$2:J$240)),J34,"")} | P34: {=IF(O34="","",IFERROR(LARGE(IF((B$2:B$240=B34)*(E$2:E$240="INSPVI")*(J$2:J$240<=O34),J$2:J$240),1),""))}
A35: 13684758 | B35: 3001517794 | C35: PS | D35: Plan salubrité | E35: INSPVI | F35: Visite insp. effect pour avis | G35: C | H35: Complet | I35: 2019 | J35: 43741 | K35: 43741 | M35: Blitz express | N35: ULANG5Z | O35: {=IF(J35=MAX(IF((E$2:E$240="GRISIG")*(B$2:B$240=B35),J$2:J$240)),J35,"")} | P35: {=IF(O35="","",IFERROR(LARGE(IF((B$2:B$240=B35)*(E$2:E$240="INSPVI")*(J$2:J$240<=O35),J$2:J$240),1),""))}
A36: 13685348 | B36: 3001473276 | C36: PS | D36: Plan salubrité | E36: INSPVI | F36: Visite insp. effect pour avis | G36: C | H36: Complet | I36: 2019 | J36: 43741 | K36: 43741 | M36: Insp. initiale | N36: UBOUCP4 | O36: {=IF(J36=MAX(IF((E$2:E$240="GRISIG")*(B$2:B$240=B36),J$2:J$240)),J36,"")} | P36: {=IF(O36="","",IFERROR(LARGE(IF((B$2:B$240=B36)*(E$2:E$240="INSPVI")*(J$2:J$240<=O36),J$2:J$240),1),""))}
A37: 13685354 | B37: 3001473308 | C37: PS | D37: Plan salubrité | E37: INSPVI | F37: Visite insp. effect pour avis | G37: C | H37: Complet | I37: 2019 | J37: 43741 | K37: 43741 | M37: Insp. initiale | N37: UBOUCP4 | O37: {=IF(J37=MAX(IF((E$2:E$240="GRISIG")*(B$2:B$240=B37),J$2:J$240)),J37,"")} | P37: {=IF(O37="","",IFERROR(LARGE(IF((B$2:B$240=B37)*(E$2:E$240="INSPVI")*(J$2:J$240<=O37),J$2:J$240),1),""))}
A38: 13685441 | B38: 3001473322 | C38: PS | D38: Plan salubrité | E38: INSPVI | F38: Visite insp. effect pour avis | G38: C | H38: Complet | I38: 2019 | J38: 43741 | K38: 43741 | M38: Insp. initiale | N38: UBOUCP4 | O38: {=IF(J38=MAX(IF((E$2:E$240="GRISIG")*(B$2:B$240=B38),J$2:J$240)),J38,"")} | P38: {=IF(O38="","",IFERROR(LARGE(IF((B$2:B$240=B38)*(E$2:E$240="INSPVI")*(J$2:J$240<=O38),J$2:J$240),1),""))}
A39: 13686048 | B39: 3001458454 | C39: PS | D39: Plan salubrité | E39: INSPSU | F39: Inspection suite à l'avis | G39: C | H39: Complet | I39: 2019 | J39: 43741 | K39: 43741 | M39: Suivi | N39: ULANG6B | O39: {=IF(J39=MAX(IF((E$2:E$240="GRISIG")*(B$2:B$240=B39),J$2:J$240)),J39,"")} | P39: {=IF(O39="","",IFERROR(LARGE(IF((B$2:B$240=B39)*(E$2:E$240="INSPVI")*(J$2:J$240<=O39),J$2:J$240),1),""))}
A40: 13686749 | B40: 3001458852 | C40: PS | D40: Plan salubrité | E40: INSPSU | F40: Inspection suite à l'avis | G40: C | H40: Complet | I40: 2019 | J40: 43741 | K40: 43741 | M40: Insp. suivi | N40: ULANG5Z | O40: {=IF(J40=MAX(IF((E$2:E$240="GRISIG")*(B$2:B$240=B40),J$2:J$240)),J40,"")} | P40: {=IF(O40="","",IFERROR(LARGE(IF((B$2:B$240=B40)*(E$2:E$240="INSPVI")*(J$2:J$240<=O40),J$2:J$240),1),""))}
...

Sheet Calcul
B1: No_Commande | C1: GRISIP ++ | D1: INSPVI -- | E1: DifférenceEnJours
B2: {=IFERROR(SMALL(IF((Feuil2!O$2:O$240<>"")*(Feuil2!P$2:P$240<>""),Feuil2!B$2:B$240),ROWS($2:2)),"")} -> 3001517794 | C2: {=IFERROR(SMALL(IF((Feuil2!B$2:B$240=B2)*(Feuil2!O$2:O$240<>"")*(Feuil2!P$2:P$240<>""),Feuil2!O$2:O$240),1),"")} -> 43756 | D2: {=IFERROR(SMALL(IF((Feuil2!B$2:B$240=B2)*(Feuil2!O$2:O$240<>"")*(Feuil2!P$2:P$240<>""),Feuil2!P$2:P$240),1),"")} -> 43742 | E2: =IF(B2="","",C2-D2+1) -> 15
B3: {=IFERROR(SMALL(IF((Feuil2!O$2:O$240<>"")*(Feuil2!P$2:P$240<>""),Feuil2!B$2:B$240),ROWS($2:3)),"")} -> 3001633449 | C3: {=IFERROR(SMALL(IF((Feuil2!B$2:B$240=B3)*(Feuil2!O$2:O$240<>"")*(Feuil2!P$2:P$240<>""),Feuil2!O$2:O$240),1),"")} -> 43768 | D3: {=IFERROR(SMALL(IF((Feuil2!B$2:B$240=B3)*(Feuil2!O$2:O$240<>"")*(Feuil2!P$2:P$240<>""),Feuil2!P$2:P$240),1),"")} -> 43746 | E3: =IF(B3="","",C3-D3+1) -> 23
B4: {=IFERROR(SMALL(IF((Feuil2!O$2:O$240<>"")*(Feuil2!P$2:P$240<>""),Feuil2!B$2:B$240),ROWS($2:4)),"")} -> 3001652995 | C4: {=IFERROR(SMALL(IF((Feuil2!B$2:B$240=B4)*(Feuil2!O$2:O$240<>"")*(Feuil2!P$2:P$240<>""),Feuil2!O$2:O$240),1),"")} -> 43769 | D4: {=IFERROR(SMALL(IF((Feuil2!B$2:B$240=B4)*(Feuil2!O$2:O$240<>"")*(Feuil2!P$2:P$240<>""),Feuil2!P$2:P$240),1),"")} -> 43755 | E4: =IF(B4="","",C4-D4+1) -> 15
B5: {=IFERROR(SMALL(IF((Feuil2!O$2:O$240<>"")*(Feuil2!P$2:P$240<>""),Feuil2!B$2:B$240),ROWS($2:5)),"")} | C5: {=IFERROR(SMALL(IF((Feuil2!B$2:B$240=B5)*(Feuil2!O$2:O$240<>"")*(Feuil2!P$2:P$240<>""),Feuil2!O$2:O$240),1),"")} | D5: {=IFERROR(SMALL(IF((Feuil2!B$2:B$240=B5)*(Feuil2!O$2:O$240<>"")*(Feuil2!P$2:P$240<>""),Feuil2!P$2:P$240),1),"")} | E5: =IF(B5="","",C5-D5+1)
B6: {=IFERROR(SMALL(IF((Feuil2!O$2:O$240<>"")*(Feuil2!P$2:P$240<>""),Feuil2!B$2:B$240),ROWS($2:6)),"")} | C6: {=IFERROR(SMALL(IF((Feuil2!B$2:B$240=B6)*(Feuil2!O$2:O$240<>"")*(Feuil2!P$2:P$240<>""),Feuil2!O$2:O$240),1),"")} | D6: {=IFERROR(SMALL(IF((Feuil2!B$2:B$240=B6)*(Feuil2!O$2:O$240<>"")*(Feuil2!P$2:P$240<>""),Feuil2!P$2:P$240),1),"")} | E6: =IF(B6="","",C6-D6+1)
B7: {=IFERROR(SMALL(IF((Feuil2!O$2:O$240<>"")*(Feuil2!P$2:P$240<>""),Feuil2!B$2:B$240),ROWS($2:7)),"")} | C7: {=IFERROR(SMALL(IF((Feuil2!B$2:B$240=B7)*(Feuil2!O$2:O$240<>"")*(Feuil2!P$2:P$240<>""),Feuil2!O$2:O$240),1),"")} | D7: {=IFERROR(SMALL(IF((Feuil2!B$2:B$240=B7)*(Feuil2!O$2:O$240<>"")*(Feuil2!P$2:P$240<>""),Feuil2!P$2:P$240),1),"")} | E7: =IF(B7="","",C7-D7+1)
B8: {=IFERROR(SMALL(IF((Feuil2!O$2:O$240<>"")*(Feuil2!P$2:P$240<>""),Feuil2!B$2:B$240),ROWS($2:8)),"")} | C8: {=IFERROR(SMALL(IF((Feuil2!B$2:B$240=B8)*(Feuil2!O$2:O$240<>"")*(Feuil2!P$2:P$240<>""),Feuil2!O$2:O$240),1),"")} | D8: {=IFERROR(SMALL(IF((Feuil2!B$2:B$240=B8)*(Feuil2!O$2:O$240<>"")*(Feuil2!P$2:P$240<>""),Feuil2!P$2:P$240),1),"")} | E8: =IF(B8="","",C8-D8+1)
B9: {=IFERROR(SMALL(IF((Feuil2!O$2:O$240<>"")*(Feuil2!P$2:P$240<>""),Feuil2!B$2:B$240),ROWS($2:9)),"")} | C9: {=IFERROR(SMALL(IF((Feuil2!B$2:B$240=B9)*(Feuil2!O$2:O$240<>"")*(Feuil2!P$2:P$240<>""),Feuil2!O$2:O$240),1),"")} | D9: {=IFERROR(SMALL(IF((Feuil2!B$2:B$240=B9)*(Feuil2!O$2:O$240<>"")*(Feuil2!P$2:P$240<>""),Feuil2!P$2:P$240),1),"")} | E9: =IF(B9="","",C9-D9+1)
B10: {=IFERROR(SMALL(IF((Feuil2!O$2:O$240<>"")*(Feuil2!P$2:P$240<>""),Feuil2!B$2:B$240),ROWS($2:10)),"")} | C10: {=IFERROR(SMALL(IF((Feuil2!B$2:B$240=B10)*(Feuil2!O$2:O$240<>"")*(Feuil2!P$2:P$240<>""),Feuil2!O$2:O$240),1),"")} | D10: {=IFERROR(SMALL(IF((Feuil2!B$2:B$240=B10)*(Feuil2!O$2:O$240<>"")*(Feuil2!P$2:P$240<>""),Feuil2!P$2:P$240),1),"")} | E10: =IF(B10="","",C10-D10+1)
B11: {=IFERROR(SMALL(IF((Feuil2!O$2:O$240<>"")*(Feuil2!P$2:P$240<>""),Feuil2!B$2:B$240),ROWS($2:11)),"")} | C11: {=IFERROR(SMALL(IF((Feuil2!B$2:B$240=B11)*(Feuil2!O$2:O$240<>"")*(Feuil2!P$2:P$240<>""),Feuil2!O$2:O$240),1),"")} | D11: {=IFERROR(SMALL(IF((Feuil2!B$2:B$240=B11)*(Feuil2!O$2:O$240<>"")*(Feuil2!P$2:P$240<>""),Feuil2!P$2:P$240),1),"")} | E11: =IF(B11="","",C11-D11+1)
B12: {=IFERROR(SMALL(IF((Feuil2!O$2:O$240<>"")*(Feuil2!P$2:P$240<>""),Feuil2!B$2:B$240),ROWS($2:12)),"")} | C12: {=IFERROR(SMALL(IF((Feuil2!B$2:B$240=B12)*(Feuil2!O$2:O$240<>"")*(Feuil2!P$2:P$240<>""),Feuil2!O$2:O$240),1),"")} | D12: {=IFERROR(SMALL(IF((Feuil2!B$2:B$240=B12)*(Feuil2!O$2:O$240<>"")*(Feuil2!P$2:P$240<>""),Feuil2!P$2:P$240),1),"")} | E12: =IF(B12="","",C12-D12+1)
B13: {=IFERROR(SMALL(IF((Feuil2!O$2:O$240<>"")*(Feuil2!P$2:P$240<>""),Feuil2!B$2:B$240),ROWS($2:13)),"")} | C13: {=IFERROR(SMALL(IF((Feuil2!B$2:B$240=B13)*(Feuil2!O$2:O$240<>"")*(Feuil2!P$2:P$240<>""),Feuil2!O$2:O$240),1),"")} | D13: {=IFERROR(SMALL(IF((Feuil2!B$2:B$240=B13)*(Feuil2!O$2:O$240<>"")*(Feuil2!P$2:P$240<>""),Feuil2!P$2:P$240),1),"")} | E13: =IF(B13="","",C13-D13+1)
B14: {=IFERROR(SMALL(IF((Feuil2!O$2:O$240<>"")*(Feuil2!P$2:P$240<>""),Feuil2!B$2:B$240),ROWS($2:14)),"")} | C14: {=IFERROR(SMALL(IF((Feuil2!B$2:B$240=B14)*(Feuil2!O$2:O$240<>"")*(Feuil2!P$2:P$240<>""),Feuil2!O$2:O$240),1),"")} | D14: {=IFERROR(SMALL(IF((Feuil2!B$2:B$240=B14)*(Feuil2!O$2:O$240<>"")*(Feuil2!P$2:P$240<>""),Feuil2!P$2:P$240),1),"")} | E14: =IF(B14="","",C14-D14+1)
B15: {=IFERROR(SMALL(IF((Feuil2!O$2:O$240<>"")*(Feuil2!P$2:P$240<>""),Feuil2!B$2:B$240),ROWS($2:15)),"")} | C15: {=IFERROR(SMALL(IF((Feuil2!B$2:B$240=B15)*(Feuil2!O$2:O$240<>"")*(Feuil2!P$2:P$240<>""),Feuil2!O$2:O$240),1),"")} | D15: {=IFERROR(SMALL(IF((Feuil2!B$2:B$240=B15)*(Feuil2!O$2:O$240<>"")*(Feuil2!P$2:P$240<>""),Feuil2!P$2:P$240),1),"")} | E15: =IF(B15="","",C15-D15+1)
B16: {=IFERROR(SMALL(IF((Feuil2!O$2:O$240<>"")*(Feuil2!P$2:P$240<>""),Feuil2!B$2:B$240),ROWS($2:16)),"")} | C16: {=IFERROR(SMALL(IF((Feuil2!B$2:B$240=B16)*(Feuil2!O$2:O$240<>"")*(Feuil2!P$2:P$240<>""),Feuil2!O$2:O$240),1),"")} | D16: {=IFERROR(SMALL(IF((Feuil2!B$2:B$240=B16)*(Feuil2!O$2:O$240<>"")*(Feuil2!P$2:P$240<>""),Feuil2!P$2:P$240),1),"")} | E16: =IF(B16="","",C16-D16+1)
B17: {=IFERROR(SMALL(IF((Feuil2!O$2:O$240<>"")*(Feuil2!P$2:P$240<>""),Feuil2!B$2:B$240),ROWS($2:17)),"")} | C17: {=IFERROR(SMALL(IF((Feuil2!B$2:B$240=B17)*(Feuil2!O$2:O$240<>"")*(Feuil2!P$2:P$240<>""),Feuil2!O$2:O$240),1),"")} | D17: {=IFERROR(SMALL(IF((Feuil2!B$2:B$240=B17)*(Feuil2!O$2:O$240<>"")*(Feuil2!P$2:P$240<>""),Feuil2!P$2:P$240),1),"")} | E17: =IF(B17="","",C17-D17+1)
B18: {=IFERROR(SMALL(IF((Feuil2!O$2:O$240<>"")*(Feuil2!P$2:P$240<>""),Feuil2!B$2:B$240),ROWS($2:18)),"")} | C18: {=IFERROR(SMALL(IF((Feuil2!B$2:B$240=B18)*(Feuil2!O$2:O$240<>"")*(Feuil2!P$2:P$240<>""),Feuil2!O$2:O$240),1),"")} | D18: {=IFERROR(SMALL(IF((Feuil2!B$2:B$240=B18)*(Feuil2!O$2:O$240<>"")*(Feuil2!P$2:P$240<>""),Feuil2!P$2:P$240),1),"")} | E18: =IF(B18="","",C18-D18+1)
B19: {=IFERROR(SMALL(IF((Feuil2!O$2:O$240<>"")*(Feuil2!P$2:P$240<>""),Feuil2!B$2:B$240),ROWS($2:19)),"")} | C19: {=IFERROR(SMALL(IF((Feuil2!B$2:B$240=B19)*(Feuil2!O$2:O$240<>"")*(Feuil2!P$2:P$240<>""),Feuil2!O$2:O$240),1),"")} | D19: {=IFERROR(SMALL(IF((Feuil2!B$2:B$240=B19)*(Feuil2!O$2:O$240<>"")*(Feuil2!P$2:P$240<>""),Feuil2!P$2:P$240),1),"")} | E19: =IF(B19="","",C19-D19+1)
B20: {=IFERROR(SMALL(IF((Feuil2!O$2:O$240<>"")*(Feuil2!P$2:P$240<>""),Feuil2!B$2:B$240),ROWS($2:20)),"")} | C20: {=IFERROR(SMALL(IF((Feuil2!B$2:B$240=B20)*(Feuil2!O$2:O$240<>"")*(Feuil2!P$2:P$240<>""),Feuil2!O$2:O$240),1),"")} | D20: {=IFERROR(SMALL(IF((Feuil2!B$2:B$240=B20)*(Feuil2!O$2:O$240<>"")*(Feuil2!P$2:P$240<>""),Feuil2!P$2:P$240),1),"")} | E20: =IF(B20="","",C20-D20+1)
B21: {=IFERROR(SMALL(IF((Feuil2!O$2:O$240<>"")*(Feuil2!P$2:P$240<>""),Feuil2!B$2:B$240),ROWS($2:21)),"")} | C21: {=IFERROR(SMALL(IF((Feuil2!B$2:B$240=B21)*(Feuil2!O$2:O$240<>"")*(Feuil2!P$2:P$240<>""),Feuil2!O$2:O$240),1),"")} | D21: {=IFERROR(SMALL(IF((Feuil2!B$2:B$240=B21)*(Feuil2!O$2:O$240<>"")*(Feuil2!P$2:P$240<>""),Feuil2!P$2:P$240),1),"")} | E21: =IF(B21="","",C21-D21+1)
B22: {=IFERROR(SMALL(IF((Feuil2!O$2:O$240<>"")*(Feuil2!P$2:P$240<>""),Feuil2!B$2:B$240),ROWS($2:22)),"")} | C22: {=IFERROR(SMALL(IF((Feuil2!B$2:B$240=B22)*(Feuil2!O$2:O$240<>"")*(Feuil2!P$2:P$240<>""),Feuil2!O$2:O$240),1),"")} | D22: {=IFERROR(SMALL(IF((Feuil2!B$2:B$240=B22)*(Feuil2!O$2:O$240<>"")*(Feuil2!P$2:P$240<>""),Feuil2!P$2:P$240),1),"")} | E22: =IF(B22="","",C22-D22+1)
