Workbook

Sheet Art & Décoration
A1: Art & Décoration | B1: Achat | C1: Semaine 01 | D1: Semaine 02 | E1: Semaine 03 | F1: Semaine 04 | G1: Semaine 05 | H1: Semaine 06 | I1: Semaine 07 | J1: Semaine 08 | K1: Semaine 09 | L1: Semaine 10 | M1: Semaine 11 | N1: Semaine 12 | O1: Semaine 13 | P1: Semaine 14 | Q1: Semaine 15 | R1: Semaine 16 | S1: Semaine 17 | T1: Semaine 18 | U1: Semaine 19 | V1: Semaine 20 | W1: Semaine 21 | X1: Semaine 22 | Y1: Semaine 23 | Z1: Semaine 24 | AA1: Semaine 25 | AB1: Semaine 26 | AC1: Semaine 27 | AD1: Semaine 28 | AE1: Semaine 29 | AF1: Semaine 30 | AG1: Semaine 31 | AH1: Semaine 32 | AI1: Semaine 33 | AJ1: Semaine 34 | AK1: Semaine 35 | AL1: Semaine 36 | AM1: Semaine 37 | AN1: Semaine 38 | AO1: Semaine 39 | AP1: Semaine 40 | AQ1: Semaine 41 | AR1: Semaine 42 | AS1: Semaine 43 | AT1: Semaine 44 | AU1: Semaine 45 | AV1: Semaine 46 | AW1: Semaine 47 | AX1: Semaine 48 | AY1: Semaine 49 | AZ1: Semaine 50 | BA1: Semaine 51 | BB1: Semaine 52 | BC1: Total
C2: Unités | D2: Unités | E2: Unités | F2: Unités | G2: Unités | H2: Unités | I2: Unités | J2: Unités | K2: Unités | L2: Unités | M2: Unités | N2: Unités | O2: Unités | P2: Unités | Q2: Unités | R2: Unités | S2: Unités | T2: Unités | U2: Unités | V2: Unités | W2: Unités | X2: Unités | Y2: Unités | Z2: Unités | AA2: Unités | AB2: Unités | AC2: Unités | AD2: Unités | AE2: Unités | AF2: Unités | AG2: Unités | AH2: Unités | AI2: Unités | AJ2: Unités | AK2: Unités | AL2: Unités | AM2: Unités | AN2: Unités | AO2: Unités | AP2: Unités | AQ2: Unités | AR2: Unités | AS2: Unités | AT2: Unités | AU2: Unités | AV2: Unités | AW2: Unités | AX2: Unités | AY2: Unités | AZ2: Unités | BA2: Unités | BB2: Unités
B3: Art & Décoration édition 475 | R3: 14 | S3: 17 | T3: 25 | U3: 13 | V3: 15 | W3: 13 | X3: 5 | Y3: 6 | Z3: 10 | AA3: 10 | AB3: 17 | AC3: 6 | AD3: 12 | AE3: 6 | AF3: 7 | AG3: 14 | AH3: 13 | AI3: 5 | AJ3: 6 | AK3: 3 | AL3: 5 | AM3: 4 | AN3: 7 | AO3: 10 | AP3: 3 | AQ3: 5 | AR3: 4 | AS3: 2 | AT3: 2 | BC3: =SUM(Q3:BB3) -> 259
B4: Art & Décoration édition 476 | R4: 7 | S4: 5 | T4: 15 | U4: 9 | V4: 10 | W4: 10 | X4: 5 | Y4: 5 | Z4: 8 | AA4: 7 | AB4: 4 | AC4: 5 | AD4: 7 | AE4: 9 | AF4: 10 | AH4: 8 | AI4: 3 | AJ4: 8 | AK4: 3 | AL4: 2 | AM4: 1 | AN4: 3 | AO4: 3 | AP4: 2 | AQ4: 4 | AS4: 1 | AT4: 5 | BC4: =SUM(Q4:BB4) -> 159
B5: Art & Décoration édition 477 | R5: 9 | S5: 15 | T5: 8 | U5: 8 | V5: 15 | W5: 8 | X5: 4 | Y5: 12 | Z5: 12 | AA5: 14 | AB5: 10 | AC5: 10 | AD5: 5 | AE5: 9 | AF5: 12 | AG5: 1 | AH5: 12 | AI5: 4 | AJ5: 4 | AK5: 7 | AL5: 5 | AM5: 2 | AN5: 4 | AO5: 6 | AP5: 1 | AQ5: 2 | AR5: 4 | AS5: 2 | AT5: 3 | BC5: =SUM(Q5:BB5) -> 208
B6: Art & Décoration édition 478 | R6: 43 | S6: 60 | T6: 14 | U6: 11 | V6: 18 | W6: 8 | X6: 10 | Y6: 10 | Z6: 19 | AA6: 9 | AB6: 18 | AC6: 13 | AD6: 11 | AE6: 11 | AF6: 12 | AG6: 16 | AH6: 7 | AI6: 8 | AJ6: 7 | AK6: 10 | AL6: 6 | AM6: 7 | AN6: 8 | AO6: 4 | AP6: 4 | AQ6: 7 | AR6: 2 | AS6: 4 | AT6: 2 | BC6: =SUM(Q6:BB6) -> 359
B7: Art & Décoration édition 479 | V7: 72 | W7: 65 | X7: 50 | Y7: 52 | Z7: 43 | AA7: 52 | AB7: 23 | AC7: 16 | AD7: 12 | AE7: 17 | AF7: 17 | AG7: 7 | AH7: 18 | AI7: 9 | AJ7: 5 | AK7: 10 | AL7: 7 | AM7: 4 | AN7: 7 | AO7: 2 | AP7: 6 | AQ7: 5 | AR7: 2 | AS7: 1 | AT7: 5 | BC7: =SUM(Q7:BB7) -> 507
B8: Art & Décoration édition 480 | AB8: 73 | AC8: 46 | AD8: 59 | AE8: 30 | AF8: 37 | AG8: 32 | AH8: 44 | AI8: 10 | AJ8: 5 | AK8: 5 | AL8: 8 | AM8: 7 | AN8: 5 | AO8: 6 | AP8: 2 | AQ8: 4 | AS8: 1 | AT8: 3 | BC8: =SUM(Q8:BB8) -> 377
B9: Art & Décoration édition 481 | AI9: 95 | AJ9: 56 | AK9: 56 | AL9: 51 | AM9: 29 | AN9: 52 | AO9: 31 | AP9: 10 | AQ9: 17 | AR9: 7 | AS9: 6 | AT9: 7 | BC9: =SUM(Q9:BB9) -> 417
B10: Art & Décoration édition 482 | AO10: 66 | AP10: 88 | AQ10: 62 | AR10: 48 | AS10: 36 | AT10: 28 | BC10: =SUM(Q10:BB10) -> 328
B11: Abonnement Annuel Art & Décoration | Q11: 1 | R11: 20 | S11: 16 | T11: 52 | U11: 38 | V11: 27 | W11: 21 | X11: 13 | Y11: 13 | Z11: 21 | AA11: 11 | AB11: 15 | AC11: 12 | AD11: 15 | AE11: 19 | AF11: 18 | AG11: 12 | AH11: 13 | AI11: 18 | AJ11: 18 | AK11: 8 | AL11: 16 | AM11: 13 | AN11: 15 | AO11: 21 | AP11: 17 | AQ11: 19 | AR11: 14 | AS11: 12 | AT11: 7 | BC11: =SUM(Q11:BB11) -> 515
B12: Total | C12: =SUM(C11:C11) -> 0 | D12: =SUM(D11:D11) -> 0 | E12: =SUM(E11:E11) -> 0 | F12: =SUM(F11:F11) -> 0 | G12: =SUM(G11:G11) -> 0 | H12: =SUM(H11:H11) -> 0 | I12: =SUM(I11:I11) -> 0 | J12: =SUM(J11:J11) -> 0 | ... Q12: =SUM(Q11:Q11) -> 1 | R12: =SUM(R3:R11) -> 93 | S12: =SUM(S3:S11) -> 113 | T12: =SUM(T3:T11) -> 114 | U12: =SUM(U3:U11) -> 79 | V12: =SUM(V3:V11) -> 157 | W12: =SUM(W3:W11) -> 125 | X12: =SUM(X3:X11) -> 87 | Y12: =SUM(Y3:Y11) -> 98 | ... BC12: =SUM(BC3:BC11) -> 3129

Sheet CA Estimé Art & Décoration
A1: Art & Décoration | B1: Achat | C1: Reversion unitaire Moyenne en euros | D1: Nouvelle Reversion unitaire Moyenne en euros | E1: Semaine 01 | F1: Semaine 02 | G1: Semaine 03 | H1: Semaine 04 | I1: Semaine 05 | J1: Semaine 06 | K1: Semaine 07 | L1: Semaine 08 | M1: Semaine 09 | N1: Semaine 10 | O1: Semaine 11 | P1: Semaine 12 | Q1: Semaine 13 | R1: Semaine 14 | S1: Semaine 15 | T1: Semaine 16 | U1: Semaine 17 | V1: Semaine 18 | W1: Semaine 19 | X1: Semaine 20 | Y1: Semaine 21 | Z1: Semaine 22 | AA1: Semaine 23 | AB1: Semaine 24 | AC1: Semaine 25 | AD1: Semaine 26 | AE1: Semaine 27 | AF1: Semaine 28 | AG1: Semaine 29 | AH1: Semaine 30 | AI1: Semaine 31 | AJ1: Semaine 32 | AK1: Semaine 33 | AL1: Semaine 34 | AM1: Semaine 35 | AN1: Semaine 36 | AO1: Semaine 37 | AP1: Semaine 38 | AQ1: Semaine 39 | AR1: Semaine 40 | AS1: Semaine 41 | AT1: Semaine 42 | AU1: Semaine 43 | AV1: Semaine 44 | AW1: Semaine 45 | AX1: Semaine 46 | AY1: Semaine 47 | AZ1: Semaine 48 | BA1: Semaine 49 | BB1: Semaine 50 | BC1: Semaine 51 | BD1: Semaine 52 | BE1: Total
E2: CA Estimé | F2: CA Estimé | G2: CA Estimé | H2: CA Estimé | I2: CA Estimé | J2: CA Estimé | K2: CA Estimé | L2: CA Estimé | M2: CA Estimé | N2: CA Estimé | O2: CA Estimé | P2: CA Estimé | Q2: CA Estimé | R2: CA Estimé | S2: CA Estimé | T2: CA Estimé | U2: CA Estimé | V2: CA Estimé | W2: CA Estimé | X2: CA Estimé | Y2: CA Estimé | Z2: CA Estimé | AA2: CA Estimé | AB2: CA Estimé | AC2: CA Estimé | AD2: CA Estimé | AE2: CA Estimé | AF2: CA Estimé | AG2: CA Estimé | AH2: CA Estimé | AI2: CA Estimé | AJ2: CA Estimé | AK2: CA Estimé | AL2: CA Estimé | AM2: CA Estimé | AN2: CA Estimé | AO2: CA Estimé | AP2: CA Estimé | AQ2: CA Estimé | AR2: CA Estimé | AS2: CA Estimé | AT2: CA Estimé | AU2: CA Estimé | AV2: CA Estimé | AW2: CA Estimé | AX2: CA Estimé | AY2: CA Estimé | AZ2: CA Estimé | BA2: CA Estimé | BB2: CA Estimé | BC2: CA Estimé | BD2: CA Estimé
B3: Art & Décoration édition 475 | C3: 2.43 | D3: 2.73 | S3: =$C3*'Art & Décoration'!Q3 -> 0 | T3: =$C3*'Art & Décoration'!R3 -> 34.02 | U3: =$C3*'Art & Décoration'!S3 -> 41.31 | V3: =$C3*'Art & Décoration'!T3 -> 60.75 | W3: =$C3*'Art & Décoration'!U3 -> 31.59 | X3: =$C3*'Art & Décoration'!V3 -> 36.45 | Y3: =$C3*'Art & Décoration'!W3 -> 31.59 | Z3: =$C3*'Art & Décoration'!X3 -> 12.15 | ... AU3: =$C3*'Art & Décoration'!AS3 -> 4.86 | AV3: =$D3*'Art & Décoration'!AT3 -> 5.46 | AW3: =$D3*'Art & Décoration'!AU3 -> 0 | AX3: =$C3*'Art & Décoration'!AV3 -> 0 | AY3: =$C3*'Art & Décoration'!AW3 -> 0 | AZ3: =$C3*'Art & Décoration'!AX3 -> 0 | BA3: =$C3*'Art & Décoration'!AY3 -> 0 | BB3: =$C3*'Art & Décoration'!AZ3 -> 0 | BC3: =$C3*'Art & Décoration'!BA3 -> 0 | BD3: =$C3*'Art & Décoration'!BB3 -> 0 | BE3: =SUM(S3:BD3) -> 629.97
B4: Art & Décoration édition 476 | C4: 2.43 | D4: 2.73 | S4: =$C4*'Art & Décoration'!Q4 -> 0 | T4: =$C4*'Art & Décoration'!R4 -> 17.01 | U4: =$C4*'Art & Décoration'!S4 -> 12.15 | V4: =$C4*'Art & Décoration'!T4 -> 36.45 | W4: =$C4*'Art & Décoration'!U4 -> 21.87 | X4: =$C4*'Art & Décoration'!V4 -> 24.3 | Y4: =$C4*'Art & Décoration'!W4 -> 24.3 | Z4: =$C4*'Art & Décoration'!X4 -> 12.15 | ... AU4: =$C4*'Art & Décoration'!AS4 -> 2.43 | AV4: =$D4*'Art & Décoration'!AT4 -> 13.65 | AW4: =$D4*'Art & Décoration'!AU4 -> 0 | AX4: =$C4*'Art & Décoration'!AV4 -> 0 | AY4: =$C4*'Art & Décoration'!AW4 -> 0 | AZ4: =$C4*'Art & Décoration'!AX4 -> 0 | BA4: =$C4*'Art & Décoration'!AY4 -> 0 | BB4: =$C4*'Art & Décoration'!AZ4 -> 0 | BC4: =$C4*'Art & Décoration'!BA4 -> 0 | BD4: =$C4*'Art & Décoration'!BB4 -> 0 | BE4: =SUM(S4:BD4) -> 387.87
B5: Art & Décoration édition 477 | C5: 2.43 | D5: 2.73 | S5: =$C5*'Art & Décoration'!Q5 -> 0 | T5: =$C5*'Art & Décoration'!R5 -> 21.87 | U5: =$C5*'Art & Décoration'!S5 -> 36.45 | V5: =$C5*'Art & Décoration'!T5 -> 19.44 | W5: =$C5*'Art & Décoration'!U5 -> 19.44 | X5: =$C5*'Art & Décoration'!V5 -> 36.45 | Y5: =$C5*'Art & Décoration'!W5 -> 19.44 | Z5: =$C5*'Art & Décoration'!X5 -> 9.72 | ... AU5: =$C5*'Art & Décoration'!AS5 -> 4.86 | AV5: =$D5*'Art & Décoration'!AT5 -> 8.19 | AW5: =$D5*'Art & Décoration'!AU5 -> 0 | AX5: =$C5*'Art & Décoration'!AV5 -> 0 | AY5: =$C5*'Art & Décoration'!AW5 -> 0 | AZ5: =$C5*'Art & Décoration'!AX5 -> 0 | BA5: =$C5*'Art & Décoration'!AY5 -> 0 | BB5: =$C5*'Art & Décoration'!AZ5 -> 0 | BC5: =$C5*'Art & Décoration'!BA5 -> 0 | BD5: =$C5*'Art & Décoration'!BB5 -> 0 | BE5: =SUM(S5:BD5) -> 506.34
B6: Art & Décoration édition 478 | C6: 2.43 | D6: 2.73 | S6: =$C6*'Art & Décoration'!Q6 -> 0 | T6: =$C6*'Art & Décoration'!R6 -> 104.49 | U6: =$C6*'Art & Décoration'!S6 -> 145.8 | V6: =$C6*'Art & Décoration'!T6 -> 34.02 | W6: =$C6*'Art & Décoration'!U6 -> 26.73 | X6: =$C6*'Art & Décoration'!V6 -> 43.74 | Y6: =$C6*'Art & Décoration'!W6 -> 19.44 | Z6: =$C6*'Art & Décoration'!X6 -> 24.3 | ... AU6: =$C6*'Art & Décoration'!AS6 -> 9.72 | AV6: =$D6*'Art & Décoration'!AT6 -> 5.46 | AW6: =$D6*'Art & Décoration'!AU6 -> 0 | AX6: =$C6*'Art & Décoration'!AV6 -> 0 | AY6: =$C6*'Art & Décoration'!AW6 -> 0 | AZ6: =$C6*'Art & Décoration'!AX6 -> 0 | BA6: =$C6*'Art & Décoration'!AY6 -> 0 | BB6: =$C6*'Art & Décoration'!AZ6 -> 0 | BC6: =$C6*'Art & Décoration'!BA6 -> 0 | BD6: =$C6*'Art & Décoration'!BB6 -> 0 | BE6: =SUM(S6:BD6) -> 872.97
B7: Art & Décoration édition 479 | C7: 2.43 | D7: 2.73 | S7: =$C7*'Art & Décoration'!Q7 -> 0 | T7: =$C7*'Art & Décoration'!R7 -> 0 | U7: =$C7*'Art & Décoration'!S7 -> 0 | V7: =$C7*'Art & Décoration'!T7 -> 0 | W7: =$C7*'Art & Décoration'!U7 -> 0 | X7: =$C7*'Art & Décoration'!V7 -> 174.96 | Y7: =$C7*'Art & Décoration'!W7 -> 157.95 | Z7: =$C7*'Art & Décoration'!X7 -> 121.5 | ... AU7: =$C7*'Art & Décoration'!AS7 -> 2.43 | AV7: =$D7*'Art & Décoration'!AT7 -> 13.65 | AW7: =$D7*'Art & Décoration'!AU7 -> 0 | AX7: =$C7*'Art & Décoration'!AV7 -> 0 | AY7: =$C7*'Art & Décoration'!AW7 -> 0 | AZ7: =$C7*'Art & Décoration'!AX7 -> 0 | BA7: =$C7*'Art & Décoration'!AY7 -> 0 | BB7: =$C7*'Art & Décoration'!AZ7 -> 0 | BC7: =$C7*'Art & Décoration'!BA7 -> 0 | BD7: =$C7*'Art & Décoration'!BB7 -> 0 | BE7: =SUM(S7:BD7) -> 1233.51
B8: Art & Décoration édition 480 | C8: 2.43 | D8: 2.73 | E8: 2.43 | F8: 2.43 | G8: 2.43 | H8: 2.43 | I8: 2.43 | J8: 2.43 | K8: 2.43 | L8: 2.43 | M8: 2.43 | N8: 2.43 | O8: 2.43 | P8: 2.43 | Q8: 2.43 | R8: 2.43 | S8: =$C8*'Art & Décoration'!Q8 -> 0 | T8: =$C8*'Art & Décoration'!R8 -> 0 | U8: =$C8*'Art & Décoration'!S8 -> 0 | V8: =$C8*'Art & Décoration'!T8 -> 0 | W8: =$C8*'Art & Décoration'!U8 -> 0 | X8: =$C8*'Art & Décoration'!V8 -> 0 | Y8: =$C8*'Art & Décoration'!W8 -> 0 | Z8: =$C8*'Art & Décoration'!X8 -> 0 | ... AU8: =$C8*'Art & Décoration'!AS8 -> 2.43 | AV8: =$D8*'Art & Décoration'!AT8 -> 8.19 | AW8: =$D8*'Art & Décoration'!AU8 -> 0 | AX8: =$C8*'Art & Décoration'!AV8 -> 0 | AY8: =$C8*'Art & Décoration'!AW8 -> 0 | AZ8: =$C8*'Art & Décoration'!AX8 -> 0 | BA8: =$C8*'Art & Décoration'!AY8 -> 0 | BB8: =$C8*'Art & Décoration'!AZ8 -> 0 | BC8: =$C8*'Art & Décoration'!BA8 -> 0 | BD8: =$C8*'Art & Décoration'!BB8 -> 0 | BE8: =SUM(S8:BD8) -> 917.01
B9: Art & Décoration édition 481 | C9: 2.43 | D9: 2.73 | S9: =$C9*'Art & Décoration'!Q9 -> 0 | T9: =$C9*'Art & Décoration'!R9 -> 0 | U9: =$C9*'Art & Décoration'!S9 -> 0 | V9: =$C9*'Art & Décoration'!T9 -> 0 | W9: =$C9*'Art & Décoration'!U9 -> 0 | X9: =$C9*'Art & Décoration'!V9 -> 0 | Y9: =$C9*'Art & Décoration'!W9 -> 0 | Z9: =$C9*'Art & Décoration'!X9 -> 0 | ... AU9: =$C9*'Art & Décoration'!AS9 -> 14.58 | AV9: =$D9*'Art & Décoration'!AT9 -> 19.11 | AW9: =$D9*'Art & Décoration'!AU9 -> 0 | AX9: =$C9*'Art & Décoration'!AV9 -> 0 | AY9: =$C9*'Art & Décoration'!AW9 -> 0 | AZ9: =$C9*'Art & Décoration'!AX9 -> 0 | BA9: =$C9*'Art & Décoration'!AY9 -> 0 | BB9: =$C9*'Art & Décoration'!AZ9 -> 0 | BC9: =$C9*'Art & Décoration'!BA9 -> 0 | BD9: =$C9*'Art & Décoration'!BB9 -> 0 | BE9: =SUM(S9:BD9) -> 1015.41
B10: Art & Décoration édition 482 | C10: 2.43 | D10: 2.73 | S10: =$C10*'Art & Décoration'!Q10 -> 0 | T10: =$C10*'Art & Décoration'!R10 -> 0 | U10: =$C10*'Art & Décoration'!S10 -> 0 | V10: =$C10*'Art & Décoration'!T10 -> 0 | W10: =$C10*'Art & Décoration'!U10 -> 0 | X10: =$C10*'Art & Décoration'!V10 -> 0 | Y10: =$C10*'Art & Décoration'!W10 -> 0 | Z10: =$C10*'Art & Décoration'!X10 -> 0 | ... AU10: =$C10*'Art & Décoration'!AS10 -> 87.48 | AV10: =$D10*'Art & Décoration'!AT10 -> 76.44 | AW10: =$D10*'Art & Décoration'!AU10 -> 0 | AX10: =$C10*'Art & Décoration'!AV10 -> 0 | AY10: =$C10*'Art & Décoration'!AW10 -> 0 | AZ10: =$C10*'Art & Décoration'!AX10 -> 0 | BA10: =$C10*'Art & Décoration'!AY10 -> 0 | BB10: =$C10*'Art & Décoration'!AZ10 -> 0 | BC10: =$C10*'Art & Décoration'!BA10 -> 0 | BD10: =$C10*'Art & Décoration'!BB10 -> 0 | BE10: =SUM(S10:BD10) -> 805.44
B11: Abonnement Annuel Art & Décoration | C11: 12.17 | D11: 13.39 | E11: =$C11*'Art & Décoration'!C11 -> 0 | F11: =$C11*'Art & Décoration'!D11 -> 0 | G11: =$C11*'Art & Décoration'!E11 -> 0 | H11: =$C11*'Art & Décoration'!F11 -> 0 | I11: =$C11*'Art & Décoration'!G11 -> 0 | J11: =$C11*'Art & Décoration'!H11 -> 0 | K11: =$C11*'Art & Décoration'!I11 -> 0 | L11: =$C11*'Art & Décoration'!J11 -> 0 | ... AU11: =$C11*'Art & Décoration'!AS11 -> 146.04 | AV11: =$D11*'Art & Décoration'!AT11 -> 93.73 | AW11: =$D11*'Art & Décoration'!AU11 -> 0 | AX11: =$C11*'Art & Décoration'!AV11 -> 0 | AY11: =$C11*'Art & Décoration'!AW11 -> 0 | AZ11: =$C11*'Art & Décoration'!AX11 -> 0 | BA11: =$C11*'Art & Décoration'!AY11 -> 0 | BB11: =$C11*'Art & Décoration'!AZ11 -> 0 | BC11: =$C11*'Art & Décoration'!BA11 -> 0 | BD11: =$C11*'Art & Décoration'!BB11 -> 0 | BE11: =SUM(S11:BD11) -> 6276.09
B12: Total | E12: =SUM(E11:E11) -> 0 | F12: =SUM(F11:F11) -> 0 | G12: =SUM(G11:G11) -> 0 | H12: =SUM(H11:H11) -> 0 | I12: =SUM(I11:I11) -> 0 | J12: =SUM(J11:J11) -> 0 | K12: =SUM(K11:K11) -> 0 | L12: =SUM(L11:L11) -> 0 | ... R12: =SUM(R11:R11) -> 0 | S12: =SUM(S3:S11) -> 12.17 | T12: =SUM(T3:T11) -> 420.79 | U12: =SUM(U3:U11) -> 430.43 | V12: =SUM(V3:V11) -> 783.5 | W12: =SUM(W3:W11) -> 562.09 | X12: =SUM(X3:X11) -> 644.49 | Y12: =SUM(Y3:Y11) -> 508.29 | Z12: =SUM(Z3:Z11) -> 338.03 | ... BE12: =SUM(BE3:BE11) -> 12644.61
S15: Semaine 15 | T15: Semaine 16 | U15: Semaine 17 | V15: Semaine 18 | W15: Semaine 19 | X15: Semaine 20 | Y15: Semaine 21 | Z15: Semaine 22 | AA15: Semaine 23 | AB15: Semaine 24 | AC15: Semaine 25 | AD15: Semaine 26 | AE15: Semaine 27 | AF15: Semaine 28 | AG15: Semaine 29 | AH15: Semaine 30 | AI15: Semaine 31 | AJ15: Semaine 32 | AK15: Semaine 33 | AL15: Semaine 34 | AM15: Semaine 35 | AN15: Semaine 36 | AO15: Semaine 37 | AP15: Semaine 38 | AQ15: Semaine 39 | AR15: Semaine 40 | AS15: Semaine 41 | AT15: Semaine 42 | AU15: Semaine 43 | AV15: Semaine 44 | AW15: Semaine 45 | AX15: Semaine 46 | AY15: Semaine 47 | AZ15: Semaine 48 | BA15: Semaine 49 | BB15: Semaine 50 | BC15: Semaine 51 | BD15: Semaine 52 | BE15: Total
D16: Total revenus achats à l'acte | S16: =SUM(S3:S8) -> 0 | T16: =SUM(T3:T8) -> 177.39 | U16: =SUM(U3:U8) -> 235.71 | V16: =SUM(V3:V8) -> 150.66 | W16: =SUM(W3:W8) -> 99.63 | X16: =SUM(X3:X8) -> 315.9 | Y16: =SUM(Y3:Y8) -> 252.72 | Z16: =SUM(Z3:Z8) -> 179.82 | ... AJ16: =SUM(AJ3:AJ8) -> 247.86 | AK16: =SUM(AK3:AK9) -> 325.62 | AL16: =SUM(AL3:AL9) -> 221.13 | AM16: =SUM(AM3:AM9) -> 228.42 | AN16: =SUM(AN3:AN9) -> 204.12 | AO16: =SUM(AO3:AO9) -> 131.22 | AP16: =SUM(AP3:AP9) -> 208.98 | AQ16: =SUM(AQ3:AQ10) -> 311.04 | AR16: =SUM(AR3:AR10) -> 281.88 | AS16: =SUM(AS3:AS10) -> 257.58 | AT16: =SUM(AT3:AT10) -> 162.81 | AU16: =SUM(AU3:AU10) -> 128.79 | AV16: =SUM(AV3:AV10) -> 150.15 | AW16: =SUM(AW3:AW10) -> 0 | AX16: =SUM(AX3:AX9) -> 0 | AY16: =SUM(AY3:AY9) -> 0 | AZ16: =SUM(AZ3:AZ9) -> 0 | BA16: =SUM(BA3:BA9) -> 0 | BB16: =SUM(BB3:BB9) -> 0 | BC16: =SUM(BC3:BC9) -> 0 | BD16: =SUM(BD3:BD9) -> 0 | BE16: =SUM(S16:BD16) -> 6368.52
D17: Total revenus abonnements (à l'année) | S17: =SUM(S11) -> 12.17 | T17: =SUM(T11) -> 243.4 | U17: =SUM(U11) -> 194.72 | V17: =SUM(V11) -> 632.84 | W17: =SUM(W11) -> 462.46 | X17: =SUM(X11) -> 328.59 | Y17: =SUM(Y11) -> 255.57 | Z17: =SUM(Z11) -> 158.21 | ... BD17: =SUM(BD11) -> 0 | BE17: =SUM(S17:BD17) -> 6276.09
D18: Total | S18: =SUM(S16:S17) -> 12.17 | T18: =SUM(T16:T17) -> 420.79 | U18: =SUM(U16:U17) -> 430.43 | V18: =SUM(V16:V17) -> 783.5 | W18: =SUM(W16:W17) -> 562.09 | X18: =SUM(X16:X17) -> 644.49 | Y18: =SUM(Y16:Y17) -> 508.29 | Z18: =SUM(Z16:Z17) -> 338.03 | ... BE18: =SUM(BE16:BE17) -> 12644.61
S20: Semaine 15 | T20: Semaine 16 | U20: Semaine 17 | V20: Semaine 18 | W20: Semaine 19 | X20: Semaine 20 | Y20: Semaine 21 | Z20: Semaine 22 | AA20: Semaine 23 | AB20: Semaine 24 | AC20: Semaine 25 | AD20: Semaine 26 | AE20: Semaine 27 | AF20: Semaine 28 | AG20: Semaine 29 | AH20: Semaine 30 | AI20: Semaine 31 | AJ20: Semaine 32 | AK20: Semaine 33 | AL20: Semaine 34 | AM20: Semaine 35 | AN20: Semaine 36 | AO20: Semaine 37 | AP20: Semaine 38 | AQ20: Semaine 39 | AR20: Semaine 40 | AS20: Semaine 41 | AT20: Semaine 42 | AU20: Semaine 43 | AV20: Semaine 44 | AW20: Semaine 45 | AX20: Semaine 46 | AY20: Semaine 47 | AZ20: Semaine 48 | BA20: Semaine 49 | BB20: Semaine 50 | BC20: Semaine 51 | BD20: Semaine 52
D21: Revenus cumulés Achats à l'acte | S21: =S16 -> 0 | T21: =T16+S16 -> 177.39 | U21: =U16+T16+S16 -> 413.1 | V21: =V16+U16+T16+S16 -> 563.76 | W21: =W16+V16+U16+T16+S16 -> 663.39 | X21: =X16+W16+V16+U16+T16+S16 -> 979.29 | Y21: =Y16+X16+W16+V16+U16+T16+S16 -> 1232.01 | Z21: =Z16+Y16+X16+W16+V16+U16+T16+S16 -> 1411.83 | AA21: =AA16+Z16+Y16+X16+W16+V16+U16+T16+S16 -> 1618.38 | AB21: =AB16+AA16+Z16+Y16+X16+W16+V16+U16+T16+S16 -> 1841.94 | AC21: =AC16+AB16+AA16+Z16+Y16+X16+W16+V16+U16+T16+S16 -> 2065.5 | AD21: =AD16+AC16+AB16+AA16+Z16+Y16+X16+W16+V16+U16+T16+S16 -> 2417.85 | AE21: =AD21+AE16 -> 2651.13 | AF21: =AE21+AF16 -> 2908.71 | AG21: =AF21+AG16 -> 3107.97 | AH21: =AG21+AH16 -> 3338.82 | AI21: =AH21+AI16 -> 3508.92 | AJ21: =AI21+AJ16 -> 3756.78 | AK21: =AJ21+AK16 -> 4082.4 | AL21: =AK21+AL16 -> 4303.53 | ... AW21: =AV21+AW16 -> 6368.52
D22: Revenus Cumulés Abonnements (à l'année) | S22: =S17 -> 12.17 | T22: =T17+S17 -> 255.57 | U22: =U17+T17+S17 -> 450.29 | V22: =V17+U17+T17+S17 -> 1083.13 | W22: =W17+V17+U17+T17+S17 -> 1545.59 | X22: =X17+W17+V17+U17+T17+S17 -> 1874.18 | Y22: =Y17+X17+W17+V17+U17+T17+S17 -> 2129.75 | Z22: =Z17+Y17+X17+W17+V17+U17+T17+S17 -> 2287.96 | AA22: =AA17+Z17+Y17+X17+W17+V17+U17+T17+S17 -> 2446.17 | AB22: =AB17+AA17+Z17+Y17+X17+W17+V17+U17+T17+S17 -> 2701.74 | AC22: =AC17+AB17+AA17+Z17+Y17+X17+W17+V17+U17+T17+S17 -> 2835.61 | AD22: =AD17+AC17+AB17+AA17+Z17+Y17+X17+W17+V17+U17+T17+S17 -> 3018.16 | AE22: =AD22+AE17 -> 3164.2 | AF22: =AE22+AF17 -> 3346.75 | AG22: =AF22+AG17 -> 3577.98 | AH22: =AG22+AH17 -> 3797.04 | AI22: =AH22+AI17 -> 3943.08 | AJ22: =AI22+AJ17 -> 4101.29 | AK22: =AJ22+AK17 -> 4320.35 | AL22: =AK22+AL17 -> 4539.41 | ... AW22: =AV22+AW17 -> 6276.09
D23: Total revenus Cumulés | S23: =SUM(S21:S22) -> 12.17 | T23: =SUM(T21:T22) -> 432.96 | U23: =SUM(U21:U22) -> 863.39 | V23: =SUM(V21:V22) -> 1646.89 | W23: =SUM(W21:W22) -> 2208.98 | X23: =SUM(X21:X22) -> 2853.47 | Y23: =SUM(Y21:Y22) -> 3361.76 | Z23: =SUM(Z21:Z22) -> 3699.79 | ... BD23: =SUM(BD21:BD22) -> 0

Sheet Auto Moto
A1: Auto Moto | B1: Achat | C1: Semaine 01 | D1: Semaine 02 | E1: Semaine 03 | F1: Semaine 04 | G1: Semaine 05 | H1: Semaine 06 | I1: Semaine 07 | J1: Semaine 08 | K1: Semaine 09 | L1: Semaine 10 | M1: Semaine 11 | N1: Semaine 12 | O1: Semaine 13 | P1: Semaine 14 | Q1: Semaine 15 | R1: Semaine 16 | S1: Semaine 17 | T1: Semaine 18 | U1: Semaine 19 | V1: Semaine 20 | W1: Semaine 21 | X1: Semaine 22 | Y1: Semaine 23 | Z1: Semaine 24 | AA1: Semaine 25 | AB1: Semaine 26 | AC1: Semaine 27 | AD1: Semaine 28 | AE1: Semaine 29 | AF1: Semaine 30 | AG1: Semaine 31 | AH1: Semaine 32 | AI1: Semaine 33 | AJ1: Semaine 34 | AK1: Semaine 35 | AL1: Semaine 36 | AM1: Semaine 37 | AN1: Semaine 38 | AO1: Semaine 39 | AP1: Semaine 40 | AQ1: Semaine 41 | AR1: Semaine 42 | AS1: Semaine 43 | AT1: Semaine 44 | AU1: Semaine 45 | AV1: Semaine 46 | AW1: Semaine 47 | AX1: Semaine 48 | AY1: Semaine 49 | AZ1: Semaine 50 | BA1: Semaine 51 | BB1: Semaine 52 | BC1: Total
C2: Unités | D2: Unités | E2: Unités | F2: Unités | G2: Unités | H2: Unités | I2: Unités | J2: Unités | K2: Unités | L2: Unités | M2: Unités | N2: Unités | O2: Unités | P2: Unités | Q2: Unités | R2: Unités | S2: Unités | T2: Unités | U2: Unités | V2: Unités | W2: Unités | X2: Unités | Y2: Unités | Z2: Unités | AA2: Unités | AB2: Unités | AC2: Unités | AD2: Unités | AE2: Unités | AF2: Unités | AG2: Unités | AH2: Unités | AI2: Unités | AJ2: Unités | AK2: Unités | AL2: Unités | AM2: Unités | AN2: Unités | AO2: Unités | AP2: Unités | AQ2: Unités | AR2: Unités | AS2: Unités | AT2: Unités | AU2: Unités | AV2: Unités | AW2: Unités | AX2: Unités | AY2: Unités | AZ2: Unités | BA2: Unités | BB2: Unités
B3: Auto Moto édition 196 | Q3: 10 | R3: 25 | S3: 38 | T3: 27 | U3: 18 | V3: 12 | W3: 15 | X3: 16 | Y3: 21 | Z3: 12 | AA3: 8 | AB3: 10 | AC3: 5 | AD3: 11 | AE3: 11 | AF3: 5 | AG3: 5 | AH3: 4 | AI3: 4 | AJ3: 9 | AK3: 6 | AL3: 5 | AM3: 7 | AN3: 11 | AO3: 7 | AP3: 11 | AQ3: 2 | AR3: 11 | AS3: 8 | AT3: 6 | BC3: =SUM(Q3:BB3) -> 340
B4: Auto Moto édition 197 | Q4: 23 | R4: 26 | S4: 45 | T4: 28 | U4: 14 | V4: 18 | W4: 15 | X4: 12 | Y4: 17 | Z4: 15 | AA4: 11 | AB4: 8 | AC4: 13 | AD4: 13 | AE4: 12 | AF4: 5 | AG4: 12 | AH4: 10 | AI4: 12 | AJ4: 5 | AK4: 8 | AL4: 9 | AM4: 6 | AN4: 13 | AO4: 10 | AP4: 9 | AQ4: 11 | AR4: 9 | AS4: 4 | AT4: 9 | BC4: =SUM(Q4:BB4) -> 402
B5: Auto Moto édition 198 | Q5: 57 | R5: 16 | S5: 39 | T5: 38 | U5: 22 | V5: 19 | W5: 11 | X5: 13 | Y5: 12 | Z5: 11 | AA5: 8 | AB5: 11 | AC5: 5 | AD5: 3 | AE5: 4 | AF5: 4 | AG5: 4 | AH5: 9 | AI5: 2 | AJ5: 1 | AK5: 4 | AL5: 6 | AM5: 5 | AN5: 13 | AO5: 8 | AP5: 3 | AQ5: 7 | AR5: 3 | AS5: 2 | AT5: 2 | BC5: =SUM(Q5:BB5) -> 342
B6: Auto Moto édition 199 | Q6: 30 | R6: 181 | S6: 229 | T6: 168 | U6: 99 | V6: 50 | W6: 44 | X6: 35 | Y6: 43 | Z6: 32 | AA6: 15 | AB6: 16 | AC6: 17 | AD6: 14 | AE6: 17 | AF6: 19 | AG6: 11 | AH6: 12 | AI6: 7 | AJ6: 9 | AK6: 9 | AL6: 10 | AM6: 11 | AN6: 12 | AO6: 12 | AP6: 15 | AQ6: 9 | AR6: 12 | AS6: 15 | AT6: 8 | BC6: =SUM(Q6:BB6) -> 1161
B7: Auto Moto édition 200 | U7: 130 | V7: 151 | W7: 124 | X7: 142 | Y7: 116 | Z7: 60 | AA7: 23 | AB7: 13 | AC7: 20 | AD7: 12 | AE7: 21 | AF7: 8 | AG7: 15 | AH7: 10 | AI7: 7 | AJ7: 4 | AK7: 3 | AL7: 8 | AM7: 3 | AN7: 9 | AO7: 5 | AP7: 7 | AQ7: 5 | AR7: 5 | AS7: 4 | AT7: 3 | BC7: =SUM(Q7:BB7) -> 908
B8: Auto Moto édition 201 | Z8: 191 | AA8: 133 | AB8: 115 | AC8: 95 | AD8: 106 | AE8: 71 | AF8: 55 | AG8: 69 | AH8: 77 | AI8: 47 | AJ8: 28 | AK8: 23 | AL8: 13 | AM8: 19 | AN8: 37 | AO8: 39 | AP8: 16 | AQ8: 12 | AR8: 5 | AS8: 7 | AT8: 6 | BC8: =SUM(Q8:BB8) -> 1164
B9: Auto Moto édition 203 | AI9: 221 | AJ9: 90 | AK9: 84 | AL9: 68 | AM9: 76 | AN9: 151 | AO9: 114 | AP9: 23 | AQ9: 13 | AR9: 7 | AS9: 8 | AT9: 5 | BC9: =SUM(Q9:BB9) -> 860
B10: Auto Moto édition 204 | AO10: 353 | AP10: 310 | AQ10: 223 | AR10: 91 | AS10: 42 | AT10: 25 | BC10: =SUM(Q10:BB10) -> 1044
B11: Auto Moto édition 205 | AR11: 236 | AS11: 178 | AT11: 161 | BC11: =SUM(Q11:BB11) -> 575
B12: Abonnement 6 Mois Auto Moto | Q12: 15 | R12: 19 | S12: 24 | T12: 20 | U12: 27 | V12: 21 | W12: 12 | X12: 19 | Y12: 24 | Z12: 28 | AA12: 21 | AB12: 25 | AC12: 17 | AD12: 31 | AE12: 6 | AF12: 11 | AG12: 15 | AH12: 19 | AI12: 21 | AJ12: 14 | AK12: 12 | AL12: 20 | AM12: 7 | AN12: 25 | AO12: 34 | AP12: 22 | AQ12: 31 | AR12: 33 | AS12: 30 | AT12: 18 | BC12: =SUM(Q12:BB12) -> 621
B13: Abonnement Annuel Auto Moto | Q13: 17 | R13: 32 | S13: 55 | T13: 44 | U13: 38 | V13: 33 | W13: 28 | X13: 39 | Y13: 24 | Z13: 39 | AA13: 31 | AB13: 25 | AC13: 18 | AD13: 23 | AE13: 16 | AF13: 17 | AG13: 16 | AH13: 16 | AI13: 24 | AJ13: 13 | AK13: 19 | AL13: 16 | AM13: 17 | AN13: 44 | AO13: 52 | AP13: 36 | AQ13: 17 | AR13: 33 | AS13: 22 | AT13: 4 | BC13: =SUM(Q13:BB13) -> 808
B14: Total | C14: =SUM(C3:C13) -> 0 | D14: =SUM(D3:D13) -> 0 | E14: =SUM(E3:E13) -> 0 | F14: =SUM(F3:F13) -> 0 | G14: =SUM(G3:G13) -> 0 | H14: =SUM(H3:H13) -> 0 | I14: =SUM(I3:I13) -> 0 | J14: =SUM(J3:J13) -> 0 | ... BC14: =SUM(BC3:BC13) -> 8225

Sheet CA Estimé Auto Moto
A1: Auto Moto | B1: Achat | C1: Reversion unitaire Moyenne en euros | D1: Nouvelle Reversion unitaire Moyenne en euros | E1: Semaine 02 | F1: Semaine 03 | G1: Semaine 04 | H1: Semaine 05 | I1: Semaine 06 | J1: Semaine 07 | K1: Semaine 08 | L1: Semaine 09 | M1: Semaine 10 | N1: Semaine 11 | O1: Semaine 12 | P1: Semaine 13 | Q1: Semaine 14 | R1: Semaine 15 | S1: Semaine 16 | T1: Semaine 17 | U1: Semaine 18 | V1: Semaine 19 | W1: Semaine 20 | X1: Semaine 21 | Y1: Semaine 22 | Z1: Semaine 23 | AA1: Semaine 24 | AB1: Semaine 25 | AC1: Semaine 26 | AD1: Semaine 27 | AE1: Semaine 28 | AF1: Semaine 29 | AG1: Semaine 30 | AH1: Semaine 31 | AI1: Semaine 32 | AJ1: Semaine 33 | AK1: Semaine 34 | AL1: Semaine 35 | AM1: Semaine 36 | AN1: Semaine 37 | AO1: Semaine 38 | AP1: Semaine 39 | AQ1: Semaine 40 | AR1: Semaine 41 | AS1: Semaine 42 | AT1: Semaine 43 | AU1: Semaine 44 | AV1: Semaine 45 | AW1: Semaine 46 | AX1: Semaine 47 | AY1: Semaine 48 | AZ1: Semaine 49 | BA1: Semaine 50 | BB1: Semaine 51 | BC1: Semaine 52 | BD1: Total
D2: CA Estimé | E2: CA Estimé | F2: CA Estimé | G2: CA Estimé | H2: CA Estimé | I2: CA Estimé | J2: CA Estimé | K2: CA Estimé | L2: CA Estimé | M2: CA Estimé | N2: CA Estimé | O2: CA Estimé | P2: CA Estimé | Q2: CA Estimé | R2: CA Estimé | S2: CA Estimé | T2: CA Estimé | U2: CA Estimé | V2: CA Estimé | W2: CA Estimé | X2: CA Estimé | Y2: CA Estimé | Z2: CA Estimé | AA2: CA Estimé | AB2: CA Estimé | AC2: CA Estimé | AD2: CA Estimé | AE2: CA Estimé | AF2: CA Estimé | AG2: CA Estimé | AH2: CA Estimé | AI2: CA Estimé | AJ2: CA Estimé | AK2: CA Estimé | AL2: CA Estimé | AM2: CA Estimé | AN2: CA Estimé | AO2: CA Estimé | AP2: CA Estimé | AQ2: CA Estimé | AR2: CA Estimé | AS2: CA Estimé | AT2: CA Estimé | AU2: CA Estimé | AV2: CA Estimé | AW2: CA Estimé | AX2: CA Estimé | AY2: CA Estimé | AZ2: CA Estimé | BA2: CA Estimé | BB2: CA Estimé | BC2: CA Estimé
B3: Auto Moto édition 196 | C3: 1.45 | D3: 1.64 | E3: =$C3*'[1]Auto Moto'!D3 -> 0 | F3: =$C3*'[1]Auto Moto'!E3 -> 0 | G3: =$C3*'[1]Auto Moto'!F3 -> 0 | H3: =$C3*'[1]Auto Moto'!G3 -> 0 | I3: =$C3*'[1]Auto Moto'!H3 -> 0 | J3: =$C3*'[1]Auto Moto'!I3 -> 0 | K3: =$C3*'[1]Auto Moto'!J3 -> 0 | L3: =$C3*'[1]Auto Moto'!K3 -> 0 | ... Q3: =$C3*'[1]Auto Moto'!P3 -> 0 | R3: =$C3*'Auto Moto'!Q3 -> 14.5 | S3: =$C3*'Auto Moto'!R3 -> 36.25 | T3: =$C3*'Auto Moto'!S3 -> 55.1 | U3: =$C3*'Auto Moto'!T3 -> 39.15 | V3: =$C3*'Auto Moto'!U3 -> 26.1 | W3: =$C3*'Auto Moto'!V3 -> 17.4 | X3: =$C3*'Auto Moto'!W3 -> 21.75 | Y3: =$C3*'Auto Moto'!X3 -> 23.2 | ... AT3: =$C3*'Auto Moto'!AS3 -> 11.6 | AU3: =$D3*'Auto Moto'!AT3 -> 9.84 | AV3: =$D3*'Auto Moto'!AU3 -> 0 | AW3: =$C3*'Auto Moto'!AV3 -> 0 | AX3: =$C3*'Auto Moto'!AW3 -> 0 | AY3: =$C3*'Auto Moto'!AX3 -> 0 | AZ3: =$C3*'Auto Moto'!AY3 -> 0 | BA3: =$C3*'Auto Moto'!AZ3 -> 0 | BB3: =$C3*'Auto Moto'!BA3 -> 0 | BC3: =$C3*'Auto Moto'!BB3 -> 0 | BD3: =SUM(R3:BC3) -> 494.14
B4: Auto Moto édition 197 | C4: 1.45 | D4: 1.64 | E4: =$C4*'[1]Auto Moto'!D4 -> 0 | F4: =$C4*'[1]Auto Moto'!E4 -> 0 | G4: =$C4*'[1]Auto Moto'!F4 -> 0 | H4: =$C4*'[1]Auto Moto'!G4 -> 0 | I4: =$C4*'[1]Auto Moto'!H4 -> 0 | J4: =$C4*'[1]Auto Moto'!I4 -> 0 | K4: =$C4*'[1]Auto Moto'!J4 -> 0 | L4: =$C4*'[1]Auto Moto'!K4 -> 0 | ... Q4: =$C4*'[1]Auto Moto'!P4 -> 0 | R4: =$C4*'Auto Moto'!Q4 -> 33.35 | S4: =$C4*'Auto Moto'!R4 -> 37.7 | T4: =$C4*'Auto Moto'!S4 -> 65.25 | U4: =$C4*'Auto Moto'!T4 -> 40.6 | V4: =$C4*'Auto Moto'!U4 -> 20.3 | W4: =$C4*'Auto Moto'!V4 -> 26.1 | X4: =$C4*'Auto Moto'!W4 -> 21.75 | Y4: =$C4*'Auto Moto'!X4 -> 17.4 | ... AT4: =$C4*'Auto Moto'!AS4 -> 5.8 | AU4: =$D4*'Auto Moto'!AT4 -> 14.76 | AV4: =$D4*'Auto Moto'!AU4 -> 0 | AW4: =$C4*'Auto Moto'!AV4 -> 0 | AX4: =$C4*'Auto Moto'!AW4 -> 0 | AY4: =$C4*'Auto Moto'!AX4 -> 0 | AZ4: =$C4*'Auto Moto'!AY4 -> 0 | BA4: =$C4*'Auto Moto'!AZ4 -> 0 | BB4: =$C4*'Auto Moto'!BA4 -> 0 | BC4: =$C4*'Auto Moto'!BB4 -> 0 | BD4: =SUM(R4:BC4) -> 584.61
B5: Auto Moto édition 198 | C5: 1.45 | D5: 1.64 | E5: =$C5*'[1]Auto Moto'!D5 -> 0 | F5: =$C5*'[1]Auto Moto'!E5 -> 0 | G5: =$C5*'[1]Auto Moto'!F5 -> 0 | H5: =$C5*'[1]Auto Moto'!G5 -> 0 | I5: =$C5*'[1]Auto Moto'!H5 -> 0 | J5: =$C5*'[1]Auto Moto'!I5 -> 0 | K5: =$C5*'[1]Auto Moto'!J5 -> 0 | L5: =$C5*'[1]Auto Moto'!K5 -> 0 | ... Q5: =$C5*'[1]Auto Moto'!P5 -> 0 | R5: =$C5*'Auto Moto'!Q5 -> 82.65 | S5: =$C5*'Auto Moto'!R5 -> 23.2 | T5: =$C5*'Auto Moto'!S5 -> 56.55 | U5: =$C5*'Auto Moto'!T5 -> 55.1 | V5: =$C5*'Auto Moto'!U5 -> 31.9 | W5: =$C5*'Auto Moto'!V5 -> 27.55 | X5: =$C5*'Auto Moto'!W5 -> 15.95 | Y5: =$C5*'Auto Moto'!X5 -> 18.85 | ... AT5: =$C5*'Auto Moto'!AS5 -> 2.9 | AU5: =$D5*'Auto Moto'!AT5 -> 3.28 | AV5: =$D5*'Auto Moto'!AU5 -> 0 | AW5: =$C5*'Auto Moto'!AV5 -> 0 | AX5: =$C5*'Auto Moto'!AW5 -> 0 | AY5: =$C5*'Auto Moto'!AX5 -> 0 | AZ5: =$C5*'Auto Moto'!AY5 -> 0 | BA5: =$C5*'Auto Moto'!AZ5 -> 0 | BB5: =$C5*'Auto Moto'!BA5 -> 0 | BC5: =$C5*'Auto Moto'!BB5 -> 0 | BD5: =SUM(R5:BC5) -> 496.28
B6: Auto Moto édition 199 | C6: 1.45 | D6: 1.64 | E6: =$C6*'[1]Auto Moto'!D6 -> 0 | F6: =$C6*'[1]Auto Moto'!E6 -> 0 | G6: =$C6*'[1]Auto Moto'!F6 -> 0 | H6: =$C6*'[1]Auto Moto'!G6 -> 0 | I6: =$C6*'[1]Auto Moto'!H6 -> 0 | J6: =$C6*'[1]Auto Moto'!I6 -> 0 | K6: =$C6*'[1]Auto Moto'!J6 -> 0 | L6: =$C6*'[1]Auto Moto'!K6 -> 0 | ... Q6: =$C6*'[1]Auto Moto'!P6 -> 0 | R6: =$C6*'Auto Moto'!Q6 -> 43.5 | S6: =$C6*'Auto Moto'!R6 -> 262.45 | T6: =$C6*'Auto Moto'!S6 -> 332.05 | U6: =$C6*'Auto Moto'!T6 -> 243.6 | V6: =$C6*'Auto Moto'!U6 -> 143.55 | W6: =$C6*'Auto Moto'!V6 -> 72.5 | X6: =$C6*'Auto Moto'!W6 -> 63.8 | Y6: =$C6*'Auto Moto'!X6 -> 50.75 | ... AT6: =$C6*'Auto Moto'!AS6 -> 21.75 | AU6: =$D6*'Auto Moto'!AT6 -> 13.12 | AV6: =$D6*'Auto Moto'!AU6 -> 0 | AW6: =$C6*'Auto Moto'!AV6 -> 0 | AX6: =$C6*'Auto Moto'!AW6 -> 0 | AY6: =$C6*'Auto Moto'!AX6 -> 0 | AZ6: =$C6*'Auto Moto'!AY6 -> 0 | BA6: =$C6*'Auto Moto'!AZ6 -> 0 | BB6: =$C6*'Auto Moto'!BA6 -> 0 | BC6: =$C6*'Auto Moto'!BB6 -> 0 | BD6: =SUM(R6:BC6) -> 1684.97
B7: Auto Moto édition 200 | C7: 1.45 | D7: 1.64 | R7: =$C7*'Auto Moto'!Q7 -> 0 | S7: =$C7*'Auto Moto'!R7 -> 0 | T7: =$C7*'Auto Moto'!S7 -> 0 | U7: =$C7*'Auto Moto'!T7 -> 0 | V7: =$C7*'Auto Moto'!U7 -> 188.5 | W7: =$C7*'Auto Moto'!V7 -> 218.95 | X7: =$C7*'Auto Moto'!W7 -> 179.8 | Y7: =$C7*'Auto Moto'!X7 -> 205.9 | ... AT7: =$C7*'Auto Moto'!AS7 -> 5.8 | AU7: =$D7*'Auto Moto'!AT7 -> 4.92 | AV7: =$D7*'Auto Moto'!AU7 -> 0 | AW7: =$C7*'Auto Moto'!AV7 -> 0 | AX7: =$C7*'Auto Moto'!AW7 -> 0 | AY7: =$C7*'Auto Moto'!AX7 -> 0 | AZ7: =$C7*'Auto Moto'!AY7 -> 0 | BA7: =$C7*'Auto Moto'!AZ7 -> 0 | BB7: =$C7*'Auto Moto'!BA7 -> 0 | BC7: =$C7*'Auto Moto'!BB7 -> 0 | BD7: =SUM(R7:BC7) -> 1317.17
B8: Auto Moto édition 201 | C8: 1.45 | D8: 2.73 | R8: =$C8*'Auto Moto'!Q8 -> 0 | S8: =$C8*'Auto Moto'!R8 -> 0 | T8: =$C8*'Auto Moto'!S8 -> 0 | U8: =$C8*'Auto Moto'!T8 -> 0 | V8: =$C8*'Auto Moto'!U8 -> 0 | W8: =$C8*'Auto Moto'!V8 -> 0 | X8: =$C8*'Auto Moto'!W8 -> 0 | Y8: =$C8*'Auto Moto'!X8 -> 0 | ... AT8: =$C8*'Auto Moto'!AS8 -> 10.15 | AU8: =$D8*'Auto Moto'!AT8 -> 16.38 | AV8: =$D8*'Auto Moto'!AU8 -> 0 | AW8: =$C8*'Auto Moto'!AV8 -> 0 | AX8: =$C8*'Auto Moto'!AW8 -> 0 | AY8: =$C8*'Auto Moto'!AX8 -> 0 | AZ8: =$C8*'Auto Moto'!AY8 -> 0 | BA8: =$C8*'Auto Moto'!AZ8 -> 0 | BB8: =$C8*'Auto Moto'!BA8 -> 0 | BC8: =$C8*'Auto Moto'!BB8 -> 0 | BD8: =SUM(R8:BC8) -> 1695.48
B9: Auto Moto édition 203 | C9: 1.45 | D9: 1.64 | R9: =$C9*'Auto Moto'!Q9 -> 0 | S9: =$C9*'Auto Moto'!R9 -> 0 | T9: =$C9*'Auto Moto'!S9 -> 0 | U9: =$C9*'Auto Moto'!T9 -> 0 | V9: =$C9*'Auto Moto'!U9 -> 0 | W9: =$C9*'Auto Moto'!V9 -> 0 | X9: =$C9*'Auto Moto'!W9 -> 0 | Y9: =$C9*'Auto Moto'!X9 -> 0 | ... AT9: =$C9*'Auto Moto'!AS9 -> 11.6 | AU9: =$D9*'Auto Moto'!AT9 -> 8.2 | AV9: =$D9*'Auto Moto'!AU9 -> 0 | AW9: =$C9*'Auto Moto'!AV9 -> 0 | AX9: =$C9*'Auto Moto'!AW9 -> 0 | AY9: =$C9*'Auto Moto'!AX9 -> 0 | AZ9: =$C9*'Auto Moto'!AY9 -> 0 | BA9: =$C9*'Auto Moto'!AZ9 -> 0 | BB9: =$C9*'Auto Moto'!BA9 -> 0 | BC9: =$C9*'Auto Moto'!BB9 -> 0 | BD9: =SUM(R9:BC9) -> 1247.95
B10: Auto Moto édition 204 | C10: 1.45 | D10: 2.19 | R10: =$C10*'Auto Moto'!Q10 -> 0 | S10: =$C10*'Auto Moto'!R10 -> 0 | T10: =$C10*'Auto Moto'!S10 -> 0 | U10: =$C10*'Auto Moto'!T10 -> 0 | V10: =$C10*'Auto Moto'!U10 -> 0 | W10: =$C10*'Auto Moto'!V10 -> 0 | X10: =$C10*'Auto Moto'!W10 -> 0 | Y10: =$C10*'Auto Moto'!X10 -> 0 | ... AT10: =$C10*'Auto Moto'!AS10 -> 60.9 | AU10: =$D10*'Auto Moto'!AT10 -> 54.75 | AV10: =$D10*'Auto Moto'!AU10 -> 0 | AW10: =$C10*'Auto Moto'!AV10 -> 0 | AX10: =$C10*'Auto Moto'!AW10 -> 0 | AY10: =$C10*'Auto Moto'!AX10 -> 0 | AZ10: =$C10*'Auto Moto'!AY10 -> 0 | BA10: =$C10*'Auto Moto'!AZ10 -> 0 | BB10: =$C10*'Auto Moto'!BA10 -> 0 | BC10: =$C10*'Auto Moto'!BB10 -> 0 | BD10: =SUM(R10:BC10) -> 1532.3
B11: Auto Moto édition 205 | C11: 1.45 | D11: 1.64 | R11: =$C11*'Auto Moto'!Q11 -> 0 | S11: =$C11*'Auto Moto'!R11 -> 0 | T11: =$C11*'Auto Moto'!S11 -> 0 | U11: =$C11*'Auto Moto'!T11 -> 0 | V11: =$C11*'Auto Moto'!U11 -> 0 | W11: =$C11*'Auto Moto'!V11 -> 0 | X11: =$C11*'Auto Moto'!W11 -> 0 | Y11: =$C11*'Auto Moto'!X11 -> 0 | ... AT11: =$C11*'Auto Moto'!AS11 -> 258.1 | AU11: =$D11*'Auto Moto'!AT11 -> 264.04 | AV11: =$D11*'Auto Moto'!AU11 -> 0 | AW11: =$C11*'Auto Moto'!AV11 -> 0 | AX11: =$C11*'Auto Moto'!AW11 -> 0 | AY11: =$C11*'Auto Moto'!AX11 -> 0 | AZ11: =$C11*'Auto Moto'!AY11 -> 0 | BA11: =$C11*'Auto Moto'!AZ11 -> 0 | BB11: =$C11*'Auto Moto'!BA11 -> 0 | BC11: =$C11*'Auto Moto'!BB11 -> 0 | BD11: =SUM(R11:BC11) -> 864.34
B12: Abonnement 6 Mois Auto Moto | C12: 6.08 | D12: 6.69 | E12: =$C12*'[1]Auto Moto'!D10 -> 0 | F12: =$C12*'[1]Auto Moto'!E10 -> 0 | G12: =$C12*'[1]Auto Moto'!F10 -> 0 | H12: =$C12*'[1]Auto Moto'!G10 -> 0 | I12: =$C12*'[1]Auto Moto'!H10 -> 0 | J12: =$C12*'[1]Auto Moto'!I10 -> 0 | K12: =$C12*'[1]Auto Moto'!J10 -> 0 | L12: =$C12*'[1]Auto Moto'!K10 -> 0 | ... Q12: =$C12*'[1]Auto Moto'!P10 -> 0 | R12: =$C12*'Auto Moto'!Q12 -> 91.2 | S12: =$C12*'Auto Moto'!R12 -> 115.52 | T12: =$C12*'Auto Moto'!S12 -> 145.92 | U12: =$C12*'Auto Moto'!T12 -> 121.6 | V12: =$C12*'Auto Moto'!U12 -> 164.16 | W12: =$C12*'Auto Moto'!V12 -> 127.68 | X12: =$C12*'Auto Moto'!W12 -> 72.96 | Y12: =$C12*'Auto Moto'!X12 -> 115.52 | ... AT12: =$C12*'Auto Moto'!AS12 -> 182.4 | AU12: =$D12*'Auto Moto'!AT12 -> 120.42 | AV12: =$D12*'Auto Moto'!AU12 -> 0 | AW12: =$C12*'Auto Moto'!AV12 -> 0 | AX12: =$C12*'Auto Moto'!AW12 -> 0 | AY12: =$C12*'Auto Moto'!AX12 -> 0 | AZ12: =$C12*'Auto Moto'!AY12 -> 0 | BA12: =$C12*'Auto Moto'!AZ12 -> 0 | BB12: =$C12*'Auto Moto'!BA12 -> 0 | BC12: =$C12*'Auto Moto'!BB12 -> 0 | BD12: =SUM(R12:BC12) -> 3786.66
B13: Abonnement Annuel Auto Moto | C13: 10.35 | D13: 11.56 | E13: =$C13*'[1]Auto Moto'!D11 -> 0 | F13: =$C13*'[1]Auto Moto'!E11 -> 0 | G13: =$C13*'[1]Auto Moto'!F11 -> 0 | H13: =$C13*'[1]Auto Moto'!G11 -> 0 | I13: =$C13*'[1]Auto Moto'!H11 -> 0 | J13: =$C13*'[1]Auto Moto'!I11 -> 0 | K13: =$C13*'[1]Auto Moto'!J11 -> 0 | L13: =$C13*'[1]Auto Moto'!K11 -> 0 | ... Q13: =$C13*'[1]Auto Moto'!P11 -> 0 | R13: =$C13*'Auto Moto'!Q13 -> 175.95 | S13: =$C13*'Auto Moto'!R13 -> 331.2 | T13: =$C13*'Auto Moto'!S13 -> 569.25 | U13: =$C13*'Auto Moto'!T13 -> 455.4 | V13: =$C13*'Auto Moto'!U13 -> 393.3 | W13: =$C13*'Auto Moto'!V13 -> 341.55 | X13: =$C13*'Auto Moto'!W13 -> 289.8 | Y13: =$C13*'Auto Moto'!X13 -> 403.65 | ... AT13: =$C13*'Auto Moto'!AS13 -> 227.7 | AU13: =$D13*'Auto Moto'!AT13 -> 46.24 | AV13: =$D13*'Auto Moto'!AU13 -> 0 | AW13: =$C13*'Auto Moto'!AV13 -> 0 | AX13: =$C13*'Auto Moto'!AW13 -> 0 | AY13: =$C13*'Auto Moto'!AX13 -> 0 | AZ13: =$C13*'Auto Moto'!AY13 -> 0 | BA13: =$C13*'Auto Moto'!AZ13 -> 0 | BB13: =$C13*'Auto Moto'!BA13 -> 0 | BC13: =$C13*'Auto Moto'!BB13 -> 0 | BD13: =SUM(R13:BC13) -> 8367.64
B14: Total | E14: =SUM(E3:E13) -> 0 | F14: =SUM(F3:F13) -> 0 | G14: =SUM(G3:G13) -> 0 | H14: =SUM(H3:H13) -> 0 | I14: =SUM(I3:I13) -> 0 | J14: =SUM(J3:J13) -> 0 | K14: =SUM(K3:K13) -> 0 | L14: =SUM(L3:L13) -> 0 | ... BD14: =SUM(BD3:BD13) -> 22071.54
R18: Semaine 15 | S18: Semaine 16 | T18: Semaine 17 | U18: Semaine 18 | V18: Semaine 19 | W18: Semaine 20 | X18: Semaine 21 | Y18: Semaine 22 | Z18: Semaine 23 | AA18: Semaine 24 | AB18: Semaine 25 | AC18: Semaine 26 | AD18: Semaine 27 | AE18: Semaine 28 | AF18: Semaine 29 | AG18: Semaine 30 | AH18: Semaine 31 | AI18: Semaine 32 | AJ18: Semaine 33 | AK18: Semaine 34 | AL18: Semaine 35 | AM18: Semaine 36 | AN18: Semaine 37 | AO18: Semaine 38 | AP18: Semaine 39 | AQ18: Semaine 40 | AR18: Semaine 41 | AS18: Semaine 42 | AT18: Semaine 43 | AU18: Semaine 44 | AV18: Semaine 45 | AW18: Semaine 46 | AX18: Semaine 47 | AY18: Semaine 48 | AZ18: Semaine 49 | BA18: Semaine 50 | BB18: Semaine 51 | BC18: Semaine 52 | BD18: Total
D19: Total revenus achats à l'acte | R19: =SUM(R3:R8) -> 174 | S19: =SUM(S3:S8) -> 359.6 | T19: =SUM(T3:T8) -> 508.95 | U19: =SUM(U3:U8) -> 378.45 | V19: =SUM(V3:V8) -> 410.35 | W19: =SUM(W3:W8) -> 362.5 | X19: =SUM(X3:X8) -> 303.05 | Y19: =SUM(Y3:Y8) -> 316.1 | ... AI19: =SUM(AI3:AI8) -> 176.9 | AJ19: =SUM(AJ3:AJ9) -> 435 | AK19: =SUM(AK3:AK9) -> 211.7 | AL19: =SUM(AL3:AL9) -> 198.65 | AM19: =SUM(AM3:AM9) -> 172.55 | AN19: =SUM(AN3:AN9) -> 184.15 | AO19: =SUM(AO3:AO9) -> 356.7 | AP19: =SUM(AP3:AP10) -> 794.6 | AQ19: =SUM(AQ3:AQ10) -> 571.3 | AR19: =SUM(AR3:AR10) -> 408.9 | AS19: =SUM(AS3:AS11) -> 549.55 | AT19: =SUM(AT3:AT11) -> 388.6 | AU19: =SUM(AU3:AU11) -> 389.29 | AV19: =SUM(AV3:AV11) -> 0 | AW19: =SUM(AW3:AW9) -> 0 | AX19: =SUM(AX3:AX9) -> 0 | AY19: =SUM(AY3:AY9) -> 0 | AZ19: =SUM(AZ3:AZ9) -> 0 | BA19: =SUM(BA3:BA9) -> 0 | BB19: =SUM(BB3:BB9) -> 0 | BC19: =SUM(BC3:BC9) -> 0 | BD19: =SUM(R19:BC19) -> 9917.24
D20: Total revenus abonnements 6 mois | R20: =R12 -> 91.2 | S20: =S12 -> 115.52 | T20: =T12 -> 145.92 | U20: =U12 -> 121.6 | V20: =V12 -> 164.16 | W20: =W12 -> 127.68 | X20: =X12 -> 72.96 | Y20: =Y12 -> 115.52 | ... BC20: =BC12 -> 0 | BD20: =SUM(R20:BC20) -> 3786.66
D21: Total revenus abonnements 1 an | R21: =R13 -> 175.95 | S21: =S13 -> 331.2 | T21: =T13 -> 569.25 | U21: =U13 -> 455.4 | V21: =V13 -> 393.3 | W21: =W13 -> 341.55 | X21: =X13 -> 289.8 | Y21: =Y13 -> 403.65 | ... BC21: =BC13 -> 0 | BD21: =SUM(R21:BC21) -> 8367.64
D22: Total revenus abonnement | R22: =R20+R21 -> 267.15 | S22: =S20+S21 -> 446.72 | T22: =T20+T21 -> 715.17 | U22: =U20+U21 -> 577 | V22: =V20+V21 -> 557.46 | W22: =W20+W21 -> 469.23 | X22: =X20+X21 -> 362.76 | Y22: =Y20+Y21 -> 519.17 | ... BC22: =BC20+BC21 -> 0 | BD22: =SUM(R22:BC22) -> 12154.3
D23: Total | R23: =SUM(R19+R22) -> 441.15 | S23: =SUM(S19+S22) -> 806.32 | T23: =SUM(T19+T22) -> 1224.12 | U23: =SUM(U19+U22) -> 955.45 | V23: =SUM(V19+V22) -> 967.81 | W23: =SUM(W19+W22) -> 831.73 | X23: =SUM(X19+X22) -> 665.81 | Y23: =SUM(Y19+Y22) -> 835.27 | ... AV23: =SUM(AV19+AV22) -> 0 | AW23: =SUM(AW19:AW20) -> 0 | AX23: =SUM(AX19:AX20) -> 0 | AY23: =SUM(AY19:AY20) -> 0 | AZ23: =SUM(AZ19:AZ20) -> 0 | BA23: =SUM(BA19:BA20) -> 0 | BB23: =SUM(BB19:BB20) -> 0 | BC23: =SUM(BC19:BC20) -> 0 | BD23: =BD19+BD22 -> 22071.54
R25: Semaine 15 | S25: Semaine 16 | T25: Semaine 17 | U25: Semaine 18 | V25: Semaine 19 | W25: Semaine 20 | X25: Semaine 21 | Y25: Semaine 22 | Z25: Semaine 23 | AA25: Semaine 24 | AB25: Semaine 25 | AC25: Semaine 26 | AD25: Semaine 27 | AE25: Semaine 28 | AF25: Semaine 29 | AG25: Semaine 30 | AH25: Semaine 31 | AI25: Semaine 32 | AJ25: Semaine 33 | AK25: Semaine 34 | AL25: Semaine 35 | AM25: Semaine 36 | AN25: Semaine 37 | AO25: Semaine 38 | AP25: Semaine 39 | AQ25: Semaine 40 | AR25: Semaine 41 | AS25: Semaine 42 | AT25: Semaine 43 | AU25: Semaine 44 | AV25: Semaine 45 | AW25: Semaine 46 | AX25: Semaine 47 | AY25: Semaine 48 | AZ25: Semaine 49 | BA25: Semaine 50 | BB25: Semaine 51 | BC25: Semaine 52
D26: Revenus cumulés Achats à l'acte | R26: =R19 -> 174 | S26: =S19+R19 -> 533.6 | T26: =T19+S19+R19 -> 1042.55 | U26: =U19+T19+S19+R19 -> 1421 | V26: =V19+U19+T19+S19+R19 -> 1831.35 | W26: =W19+V19+U19+T19+S19+R19 -> 2193.85 | X26: =X19+W19+V19+U19+T19+S19+R19 -> 2496.9 | Y26: =Y19+X19+W19+V19+U19+T19+S19+R19 -> 2813 | Z26: =Z19+Y19+X19+W19+V19+U19+T19+S19+R19 -> 3116.05 | AA26: =AA19+Z19+Y19+X19+W19+V19+U19+T19+S19+R19 -> 3581.5 | AB26: =AB19+AA19+Z19+Y19+X19+W19+V19+U19+T19+S19+R19 -> 3868.6 | AC26: =AC19+AB19+AA19+Z19+Y19+X19+W19+V19+U19+T19+S19+R19 -> 4119.45 | AD26: =AD19+AC19+AB19+AA19+Z19+Y19+X19+W19+V19+U19+T19+S19+R19 -> 4344.2 | AE26: =AD26+AE19 -> 4574.75 | AF26: =AE26+AF19 -> 4771.95 | AG26: =AF26+AG19 -> 4911.15 | AH26: =AG26+AH19 -> 5079.35 | AI26: =AH26+AI19 -> 5256.25 | AJ26: =AI26+AJ19 -> 5691.25 | AK26: =AJ26+AK19 -> 5902.95 | AL26: =AK26+AL19 -> 6101.6 | ... AV26: =AU26+AV19 -> 9917.24
D27: Revenus Cumulés Abonnements 6 mois | R27: =R20 -> 91.2 | S27: =S20+R27 -> 206.72 | T27: =T20+S27 -> 352.64 | U27: =U20+T27 -> 474.24 | V27: =V20+U27 -> 638.4 | W27: =W20+V27 -> 766.08 | X27: =X20+W27 -> 839.04 | Y27: =Y20+X27 -> 954.56 | Z27: =Z20+Y27 -> 1100.48 | ... AD27: =AD20+AC27 -> 1653.76 | AE27: =AD27+AE20 -> 1842.24 | AF27: =AE27+AF20 -> 1878.72 | AG27: =AF27+AG20 -> 1945.6 | AH27: =AG27+AH20 -> 2036.8 | AI27: =AH27+AI20 -> 2152.32 | AJ27: =AI27+AJ20 -> 2280 | AK27: =AJ27+AK20 -> 2365.12 | AL27: =AK27+AL20 -> 2438.08 | ... AV27: =AU27+AV20 -> 3786.66
D28: Revenus Cumulés Abonnements 1 an | R28: =R21 -> 175.95 | S28: =S21+R28 -> 507.15 | T28: =T21+S28 -> 1076.4 | U28: =U21+T28 -> 1531.8 | V28: =V21+U28 -> 1925.1 | W28: =W21+V28 -> 2266.65 | X28: =X21+W28 -> 2556.45 | Y28: =Y21+X28 -> 2960.1 | Z28: =Z21+Y28 -> 3208.5 | ... AD28: =AD21+AC28 -> 4378.05 | AE28: =AD28+AE21 -> 4616.1 | AF28: =AE28+AF21 -> 4781.7 | AG28: =AF28+AG21 -> 4957.65 | AH28: =AG28+AH21 -> 5123.25 | AI28: =AH28+AI21 -> 5288.85 | AJ28: =AI28+AJ21 -> 5537.25 | AK28: =AJ28+AK21 -> 5671.8 | AL28: =AK28+AL21 -> 5868.45 | ... AV28: =AU28+AV21 -> 8367.64
D29: Revenus Cumulés Abonnements | R29: =R27+R28 -> 267.15 | S29: =S27+S28 -> 713.87 | T29: =T27+T28 -> 1429.04 | U29: =U27+U28 -> 2006.04 | V29: =V27+V28 -> 2563.5 | W29: =W27+W28 -> 3032.73 | X29: =X27+X28 -> 3395.49 | Y29: =Y27+Y28 -> 3914.66 | ... AD29: =AD27+AD28 -> 6031.81 | AE29: =AD29+AE22 -> 6458.34 | AF29: =AE29+AF22 -> 6660.42 | AG29: =AF29+AG22 -> 6903.25 | AH29: =AG29+AH22 -> 7160.05 | AI29: =AH29+AI22 -> 7441.17 | AJ29: =AI29+AJ22 -> 7817.25 | AK29: =AJ29+AK22 -> 8036.92 | AL29: =AK29+AL22 -> 8306.53 | ... AV29: =AU29+AV22 -> 12154.3
D30: Total revenus Cumulés | R30: =R26+R29 -> 441.15 | S30: =S26+S29 -> 1247.47 | T30: =T26+T29 -> 2471.59 | U30: =U26+U29 -> 3427.04 | V30: =V26+V29 -> 4394.85 | W30: =W26+W29 -> 5226.58 | X30: =X26+X29 -> 5892.39 | Y30: =Y26+Y29 -> 6727.66 | ... AV30: =AV26+AV29 -> 22071.54

Sheet Be
A1: BE | B1: Achat | C1: Semaine 01 | D1: Semaine 02 | E1: Semaine 03 | F1: Semaine 04 | G1: Semaine 05 | H1: Semaine 06 | I1: Semaine 07 | J1: Semaine 08 | K1: Semaine 09 | L1: Semaine 10 | M1: Semaine 11 | N1: Semaine 12 | O1: Semaine 13 | P1: Semaine 14 | Q1: Semaine 15 | R1: Semaine 16 | S1: Semaine 17 | T1: Semaine 18 | U1: Semaine 19 | V1: Semaine 20 | W1: Semaine 21 | X1: Semaine 22 | Y1: Semaine 23 | Z1: Semaine 24 | AA1: Semaine 25 | AB1: Semaine 26 | AC1: Semaine 27 | AD1: Semaine 28 | AE1: Semaine 29 | AF1: Semaine 30 | AG1: Semaine 31 | AH1: Semaine 32 | AI1: Semaine 33 | AJ1: Semaine 34 | AK1: Semaine 35 | AL1: Semaine 36 | AM1: Semaine 37 | AN1: Semaine 38 | AO1: Semaine 39 | AP1: Semaine 40 | AQ1: Semaine 41 | AR1: Semaine 42 | AS1: Semaine 43 | AT1: Semaine 44 | AU1: Semaine 45 | AV1: Semaine 46 | AW1: Semaine 47 | AX1: Semaine 48 | AY1: Semaine 49 | AZ1: Semaine 50 | BA1: Semaine 51 | BB1: Semaine 52 | BC1: Total
C2: Unités | D2: Unités | E2: Unités | F2: Unités | G2: Unités | H2: Unités | I2: Unités | J2: Unités | K2: Unités | L2: Unités | M2: Unités | N2: Unités | O2: Unités | P2: Unités | Q2: Unités | R2: Unités | S2: Unités | T2: Unités | U2: Unités | V2: Unités | W2: Unités | X2: Unités | Y2: Unités | Z2: Unités | AA2: Unités | AB2: Unités | AC2: Unités | AD2: Unités | AE2: Unités | AF2: Unités | AG2: Unités | AH2: Unités | AI2: Unités | AJ2: Unités | AK2: Unités | AL2: Unités | AM2: Unités | AN2: Unités | AO2: Unités | AP2: Unités | AQ2: Unités | AR2: Unités | AS2: Unités | AT2: Unités | AU2: Unités | AV2: Unités | AW2: Unités | AX2: Unités | AY2: Unités | AZ2: Unités | BA2: Unités | BB2: Unités
B3: Be_Tirage du tarot abonnement_100_7 | C3: 52 | D3: 53 | E3: 56 | F3: 53 | G3: 58 | H3: 49 | I3: 55 | J3: 66 | K3: 69 | L3: 70 | M3: 72 | N3: 66 | O3: 75 | P3: 71 | Q3: 71 | R3: 73 | S3: 75 | T3: 77 | U3: 75 | V3: 76 | W3: 71 | X3: 76 | Y3: 78 | Z3: 78 | AA3: 85 | AB3: 86 | AC3: 86 | AD3: 87 | AE3: 91 | AF3: 89 | AG3: 87 | AH3: 85 | AI3: 81 | AJ3: 81 | AK3: 79 | AL3: 79 | AM3: 76 | AN3: 76 | AO3: 73 | AP3: 69 | AQ3: 68 | AR3: 66 | AS3: 66 | AT3: 61 | BC3: =SUM(C3:BB3) -> 3186
B4: Tirage du tarot - BE | E4: 1 | F4: 2 | BC4: =SUM(C4:BB4) -> 3
B5: Total | C5: =SUM(C3:C4) -> 52 | D5: =SUM(D3:D4) -> 53 | E5: =SUM(E3:E4) -> 57 | F5: =SUM(F3:F4) -> 55 | G5: =SUM(G3:G4) -> 58 | H5: =SUM(H3:H4) -> 49 | I5: =SUM(I3:I4) -> 55 | J5: =SUM(J3:J4) -> 66 | ... BC5: =SUM(BC3:BC4) -> 3189

Sheet CA Estimé Be
A1: BE | B1: Achat | C1: Reversion unitaire Moyenne en euros | D1: Nouvelle Reversion unitaire Moyenne en euros | E1: Semaine 01 | F1: Semaine 02 | G1: Semaine 03 | H1: Semaine 04 | I1: Semaine 05 | J1: Semaine 06 | K1: Semaine 07 | L1: Semaine 08 | M1: Semaine 09 | N1: Semaine 10 | O1: Semaine 11 | P1: Semaine 12 | Q1: Semaine 13 | R1: Semaine 14 | S1: Semaine 15 | T1: Semaine 16 | U1: Semaine 17 | V1: Semaine 18 | W1: Semaine 19 | X1: Semaine 20 | Y1: Semaine 21 | Z1: Semaine 22 | AA1: Semaine 23 | AB1: Semaine 24 | AC1: Semaine 25 | AD1: Semaine 26 | AE1: Semaine 27 | AF1: Semaine 28 | AG1: Semaine 29 | AH1: Semaine 30 | AI1: Semaine 31 | AJ1: Semaine 32 | AK1: Semaine 33 | AL1: Semaine 34 | AM1: Semaine 35 | AN1: Semaine 36 | AO1: Semaine 37 | AP1: Semaine 38 | AQ1: Semaine 39 | AR1: Semaine 40 | AS1: Semaine 41 | AT1: Semaine 42 | AU1: Semaine 43 | AV1: Semaine 44 | AW1: Semaine 45 | AX1: Semaine 46 | AY1: Semaine 47 | AZ1: Semaine 48 | BA1: Semaine 49 | BB1: Semaine 50 | BC1: Semaine 51 | BD1: Semaine 52 | BE1: Total
E2: CA Estimé | F2: CA Estimé | G2: CA Estimé | H2: CA Estimé | I2: CA Estimé | J2: CA Estimé | K2: CA Estimé | L2: CA Estimé | M2: CA Estimé | N2: CA Estimé | O2: CA Estimé | P2: CA Estimé | Q2: CA Estimé | R2: CA Estimé | S2: CA Estimé | T2: CA Estimé | U2: CA Estimé | V2: CA Estimé | W2: CA Estimé | X2: CA Estimé | Y2: CA Estimé | Z2: CA Estimé | AA2: CA Estimé | AB2: CA Estimé | AC2: CA Estimé | AD2: CA Estimé | AE2: CA Estimé | AF2: CA Estimé | AG2: CA Estimé | AH2: CA Estimé | AI2: CA Estimé | AJ2: CA Estimé | AK2: CA Estimé | AL2: CA Estimé | AM2: CA Estimé | AN2: CA Estimé | AO2: CA Estimé | AP2: CA Estimé | AQ2: CA Estimé | AR2: CA Estimé | AS2: CA Estimé | AT2: CA Estimé | AU2: CA Estimé | AV2: CA Estimé | AW2: CA Estimé | AX2: CA Estimé | AY2: CA Estimé | AZ2: CA Estimé | BA2: CA Estimé | BB2: CA Estimé | BC2: CA Estimé | BD2: CA Estimé
B3: Be_Tirage du tarot abonnement_100_7 | C3: 0.48 | D3: 0.54 | E3: =$C3*Be!C3 -> 24.96 | F3: =$C3*Be!D3 -> 25.44 | G3: =$C3*Be!E3 -> 26.88 | H3: =$C3*Be!F3 -> 25.44 | I3: =$C3*Be!G3 -> 27.84 | J3: =$C3*Be!H3 -> 23.52 | K3: =$C3*Be!I3 -> 26.4 | L3: =$C3*Be!J3 -> 31.68 | ... AU3: =$C3*Be!AS3 -> 31.68 | AV3: =$D3*Be!AT3 -> 32.94 | AW3: =$D3*Be!AU3 -> 0 | AX3: =$C3*Be!AV3 -> 0 | AY3: =$C3*Be!AW3 -> 0 | AZ3: =$C3*Be!AX3 -> 0 | BA3: =$C3*Be!AY3 -> 0 | BB3: =$C3*Be!AZ3 -> 0 | BC3: =$C3*Be!BA3 -> 0 | BD3: =$C3*Be!BB3 -> 0 | BE3: =SUM(E3:BD3) -> 1532.94
B4: Tirage du tarot - BE | C4: 0.48 | D4: 0.54 | E4: =$C4*Be!C4 -> 0 | F4: =$C4*Be!D4 -> 0 | G4: =$C4*Be!E4 -> 0.48 | H4: =$C4*Be!F4 -> 0.96 | I4: =$C4*Be!G4 -> 0 | J4: =$C4*Be!H4 -> 0 | K4: =$C4*Be!I4 -> 0 | L4: =$C4*Be!J4 -> 0 | ... AU4: =$C4*Be!AS4 -> 0 | AV4: =$D4*Be!AT4 -> 0 | AW4: =$D4*Be!AU4 -> 0 | AX4: =$C4*Be!AV4 -> 0 | AY4: =$C4*Be!AW4 -> 0 | AZ4: =$C4*Be!AX4 -> 0 | BA4: =$C4*Be!AY4 -> 0 | BB4: =$C4*Be!AZ4 -> 0 | BC4: =$C4*Be!BA4 -> 0 | BD4: =$C4*Be!BB4 -> 0 | BE4: =SUM(E4:BD4) -> 1.44
B5: Total | E5: =SUM(E3:E4) -> 24.96 | F5: =SUM(F3:F4) -> 25.44 | G5: =SUM(G3:G4) -> 27.36 | H5: =SUM(H3:H4) -> 26.4 | I5: =SUM(I3:I4) -> 27.84 | J5: =SUM(J3:J4) -> 23.52 | K5: =SUM(K3:K4) -> 26.4 | L5: =SUM(L3:L4) -> 31.68 | ... BE5: =SUM(BE3:BE4) -> 1534.38

Sheet Be Mag
A1: Be Mag | B1: Achat | C1: Semaine 01 | D1: Semaine 02 | E1: Semaine 03 | F1: Semaine 04 | G1: Semaine 05 | H1: Semaine 06 | I1: Semaine 07 | J1: Semaine 08 | K1: Semaine 09 | L1: Semaine 10 | M1: Semaine 11 | N1: Semaine 12 | O1: Semaine 13 | P1: Semaine 14 | Q1: Semaine 15 | R1: Semaine 16 | S1: Semaine 17 | T1: Semaine 18 | U1: Semaine 19 | V1: Semaine 20 | W1: Semaine 21 | X1: Semaine 22 | Y1: Semaine 23 | Z1: Semaine 24 | AA1: Semaine 25 | AB1: Semaine 26 | AC1: Semaine 27 | AD1: Semaine 28 | AE1: Semaine 29 | AF1: Semaine 30 | AG1: Semaine 31 | AH1: Semaine 32 | AI1: Semaine 33 | AJ1: Semaine 34 | AK1: Semaine 35 | AL1: Semaine 36 | AM1: Semaine 37 | AN1: Semaine 38 | AO1: Semaine 39 | AP1: Semaine 40 | AQ1: Semaine 41 | AR1: Semaine 42 | AS1: Semaine 43 | AT1: Semaine 44 | AU1: Semaine 45 | AV1: Semaine 46 | AW1: Semaine 47 | AX1: Semaine 48 | AY1: Semaine 49 | AZ1: Semaine 50 | BA1: Semaine 51 | BB1: Semaine 52 | BC1: Total
C2: Unités | D2: Unités | E2: Unités | F2: Unités | G2: Unités | H2: Unités | I2: Unités | J2: Unités | K2: Unités | L2: Unités | M2: Unités | N2: Unités | O2: Unités | P2: Unités | Q2: Unités | R2: Unités | S2: Unités | T2: Unités | U2: Unités | V2: Unités | W2: Unités | X2: Unités | Y2: Unités | Z2: Unités | AA2: Unités | AB2: Unités | AC2: Unités | AD2: Unités | AE2: Unités | AF2: Unités | AG2: Unités | AH2: Unités | AI2: Unités | AJ2: Unités | AK2: Unités | AL2: Unités | AM2: Unités | AN2: Unités | AO2: Unités | AP2: Unités | AQ2: Unités | AR2: Unités | AS2: Unités | AT2: Unités | AU2: Unités | AV2: Unités | AW2: Unités | AX2: Unités | AY2: Unités | AZ2: Unités | BA2: Unités | BB2: Unités
B3: Be Magazine édition 96 | G3: 15 | H3: 1 | BC3: =SUM(C3:BB3) -> 16
B4: Be Magazine édition 97 | G4: 93 | H4: 47 | I4: 18 | J4: 7 | K4: 4 | N4: 1 | O4: 4 | P4: 4 | Q4: 5 | R4: 1 | S4: 2 | U4: 1 | W4: 1 | X4: 1 | Y4: 1 | Z4: 1 | AA4: 1 | AB4: 1 | AE4: 1 | AJ4: 1 | AM4: 1 | AO4: 2 | BC4: =SUM(C4:BB4) -> 198
B5: Be Magazine édition 98 | H5: 69 | I5: 48 | J5: 8 | K5: 2 | N5: 4 | O5: 2 | P5: 3 | Q5: 3 | R5: 1 | S5: 1 | T5: 2 | W5: 1 | Y5: 2 | Z5: 1 | AA5: 1 | AB5: 2 | AM5: 3 | AR5: 1 | AT5: 1 | BC5: =SUM(C5:BB5) -> 155
B6: Be Magazine édition 99 | I6: 84 | J6: 48 | K6: 5 | M6: 1 | N6: 3 | O6: 7 | P6: 2 | Q6: 4 | R6: 3 | T6: 3 | U6: 1 | V6: 1 | X6: 1 | Y6: 1 | Z6: 1 | AA6: 1 | AL6: 1 | AM6: 1 | BC6: =SUM(C6:BB6) -> 168
B7: Be Magazine édition 100 | J7: 89 | K7: 55 | L7: 9 | M7: 4 | N7: 3 | O7: 6 | P7: 3 | Q7: 4 | R7: 3 | S7: 2 | U7: 1 | V7: 1 | AA7: 1 | AC7: 1 | AG7: 1 | AH7: 1 | AK7: 2 | AM7: 1 | AO7: 1 | AP7: 1 | AR7: 1 | BC7: =SUM(C7:BB7) -> 190
B8: Be Magazine édition 101 | K8: 83 | L8: 51 | M8: 3 | N8: 8 | O8: 9 | P8: 7 | Q8: 3 | R8: 7 | S8: 1 | T8: 1 | U8: 3 | W8: 1 | Z8: 2 | AC8: 1 | AD8: 1 | AK8: 3 | AM8: 1 | AT8: 1 | BC8: =SUM(C8:BB8) -> 186
B9: Be Magazine édition 102 | L9: 97 | M9: 31 | N9: 9 | O9: 15 | P9: 7 | Q9: 5 | R9: 2 | S9: 2 | T9: 1 | U9: 3 | V9: 1 | W9: 2 | Y9: 1 | Z9: 1 | AA9: 1 | AC9: 4 | AD9: 1 | AE9: 1 | AF9: 3 | AG9: 2 | AH9: 2 | AI9: 1 | AJ9: 2 | AK9: 1 | AL9: 1 | AM9: 1 | AQ9: 1 | BC9: =SUM(C9:BB9) -> 198
B10: Be Magazine édition 103 | M10: 85 | N10: 45 | O10: 11 | P10: 12 | Q10: 7 | R10: 5 | S10: 3 | T10: 1 | U10: 1 | W10: 1 | Z10: 3 | AB10: 1 | AC10: 2 | AD10: 1 | AG10: 1 | AK10: 4 | AM10: 1 | BC10: =SUM(C10:BB10) -> 184
B11: Be Magazine édition 104 | N11: 208 | O11: 134 | P11: 57 | Q11: 41 | R11: 24 | S11: 15 | T11: 9 | U11: 6 | V11: 4 | W11: 1 | X11: 5 | Y11: 3 | Z11: 3 | AA11: 3 | AB11: 5 | AC11: 1 | AI11: 4 | AJ11: 3 | AK11: 1 | AM11: 3 | AT11: 1 | BC11: =SUM(C11:BB11) -> 531
B12: Be Magazine édition 105 | O12: 167 | P12: 120 | Q12: 43 | R12: 13 | S12: 7 | T12: 4 | U12: 4 | V12: 1 | W12: 1 | X12: 3 | Y12: 3 | AA12: 2 | AB12: 1 | AH12: 1 | AI12: 2 | AJ12: 1 | AK12: 3 | AM12: 1 | AP12: 1 | AT12: 1 | BC12: =SUM(C12:BB12) -> 379
B13: Be Magazine édition 106 | P13: 208 | Q13: 143 | R13: 19 | S13: 5 | T13: 6 | U13: 3 | V13: 4 | W13: 1 | X13: 1 | Y13: 1 | AC13: 1 | AJ13: 2 | AQ13: 1 | BC13: =SUM(C13:BB13) -> 395
B14: Be Magazine édition 107 | Q14: 251 | R14: 173 | S14: 42 | T14: 22 | U14: 8 | V14: 6 | W14: 3 | X14: 9 | Y14: 5 | Z14: 5 | AA14: 3 | AB14: 2 | AC14: 3 | AD14: 1 | AF14: 1 | AG14: 2 | AH14: 3 | AI14: 2 | AJ14: 1 | AP14: 1 | AT14: 1 | BC14: =SUM(C14:BB14) -> 544
B15: Be Magazine édition 108 | R15: 180 | S15: 114 | T15: 17 | U15: 3 | V15: 3 | W15: 3 | X15: 2 | Y15: 3 | Z15: 3 | AA15: 1 | AC15: 1 | AE15: 1 | AJ15: 2 | AO15: 1 | BC15: =SUM(C15:BB15) -> 334
B16: Be Magazine édition 109 | S16: 274 | T16: 163 | U16: 41 | V16: 21 | W16: 11 | X16: 9 | Y16: 14 | Z16: 10 | AA16: 2 | AB16: 2 | AG16: 1 | AJ16: 3 | AO16: 1 | AP16: 1 | AQ16: 1 | BC16: =SUM(C16:BB16) -> 554
B17: Be Magazine édition 110 | T17: 195 | U17: 108 | V17: 11 | W17: 12 | X17: 5 | Y17: 3 | Z17: 3 | AA17: 1 | AB17: 2 | AC17: 1 | AF17: 2 | AG17: 1 | AK17: 1 | AP17: 1 | BC17: =SUM(C17:BB17) -> 346
B18: Be Magazine édition 111 | U18: 188 | V18: 112 | W18: 27 | X18: 11 | Y18: 8 | Z18: 3 | AA18: 3 | AB18: 4 | AC18: 1 | AD18: 3 | AF18: 1 | AG18: 2 | AH18: 1 | AI18: 1 | AK18: 2 | AM18: 1 | AO18: 1 | AT18: 1 | BC18: =SUM(C18:BB18) -> 370
B19: Be Magazine édition 112 | V19: 240 | W19: 100 | X19: 36 | Y19: 13 | Z19: 15 | AA19: 5 | AB19: 6 | AD19: 1 | AE19: 5 | AF19: 3 | AG19: 1 | AH19: 1 | AI19: 1 | AJ19: 1 | BC19: =SUM(C19:BB19) -> 428
B20: Be Magazine édition 113 | W20: 205 | X20: 104 | Y20: 24 | Z20: 8 | AA20: 5 | AB20: 2 | AC20: 2 | AD20: 1 | AE20: 1 | AF20: 3 | AG20: 4 | AH20: 1 | AI20: 1 | AJ20: 1 | AM20: 1 | AN20: 1 | AR20: 1 | AS20: 1 | AT20: 1 | BC20: =SUM(C20:BB20) -> 367
B21: Be Magazine édition 114 | X21: 276 | Y21: 166 | Z21: 30 | AA21: 16 | AB21: 8 | AC21: 8 | AD21: 6 | AE21: 1 | AF21: 5 | AG21: 2 | AH21: 3 | AI21: 1 | AN21: 1 | AO21: 2 | AT21: 1 | BC21: =SUM(C21:BB21) -> 526
B22: Be Magazine édition 115 | Y22: 265 | Z22: 160 | AA22: 42 | AB22: 17 | AC22: 11 | AD22: 5 | AE22: 5 | AF22: 5 | AG22: 4 | AH22: 1 | AI22: 3 | AJ22: 1 | AK22: 1 | AP22: 1 | BC22: =SUM(C22:BB22) -> 521
B23: Be Magazine édition 116 | Z23: 219 | AA23: 133 | AB23: 26 | AC23: 10 | AD23: 3 | AE23: 7 | AF23: 7 | AG23: 3 | AH23: 2 | AJ23: 1 | AM23: 1 | BC23: =SUM(C23:BB23) -> 412
B24: Be Magazine édition 117 | AA24: 206 | AB24: 142 | AC24: 20 | AD24: 11 | AE24: 9 | AF24: 6 | AG24: 6 | AH24: 3 | AI24: 1 | AJ24: 2 | AK24: 2 | AN24: 1 | AO24: 1 | AP24: 1 | AS24: 2 | AT24: 1 | BC24: =SUM(C24:BB24) -> 414
B25: Be Magazine édition 118 | AB25: 248 | AC25: 166 | AD25: 24 | AE25: 17 | AF25: 10 | AG25: 3 | AH25: 7 | AI25: 5 | AJ25: 1 | AM25: 1 | AR25: 1 | AT25: 1 | BC25: =SUM(C25:BB25) -> 484
B26: Be Magazine édition 119 | AC26: 224 | AD26: 189 | AE26: 31 | AF26: 13 | AG26: 8 | AH26: 8 | AI26: 2 | AJ26: 1 | AM26: 2 | AO26: 1 | AP26: 1 | BC26: =SUM(C26:BB26) -> 480
B27: Be Magazine édition 120 | AD27: 201 | AE27: 172 | AF27: 44 | AG27: 17 | AH27: 9 | AI27: 3 | AJ27: 4 | AL27: 1 | AM27: 1 | AN27: 1 | AO27: 1 | AR27: 2 | AT27: 3 | BC27: =SUM(C27:BB27) -> 459
B28: Be Magazine édition 121 | AE28: 249 | AF28: 190 | AG28: 45 | AH28: 14 | AI28: 8 | AJ28: 2 | AK28: 1 | AL28: 3 | AM28: 1 | BC28: =SUM(C28:BB28) -> 513
B29: Be Magazine édition 122 | AF29: 265 | AG29: 212 | AH29: 49 | AI29: 24 | AJ29: 9 | AK29: 3 | AL29: 2 | AM29: 3 | AN29: 1 | AO29: 2 | AP29: 2 | AQ29: 1 | AR29: 1 | AT29: 1 | BC29: =SUM(C29:BB29) -> 575
B30: Be Magazine édition 123 | AG30: 214 | AH30: 224 | AI30: 63 | AJ30: 24 | AK30: 4 | AL30: 2 | AM30: 4 | AN30: 4 | AO30: 5 | AQ30: 1 | AR30: 2 | AS30: 2 | AT30: 9 | BC30: =SUM(C30:BB30) -> 558
B31: Be Magazine édition 124 | AH31: 203 | AI31: 197 | AJ31: 31 | AK31: 12 | AL31: 6 | AM31: 4 | AN31: 1 | AO31: 5 | AP31: 6 | AQ31: 4 | AR31: 2 | AS31: 2 | AT31: 3 | BC31: =SUM(C31:BB31) -> 476
B32: Be Magazine édition 125 | AI32: 227 | AJ32: 197 | AK32: 32 | AL32: 4 | AM32: 7 | AN32: 4 | AO32: 4 | AP32: 5 | AQ32: 4 | AR32: 2 | AS32: 1 | AT32: 4 | BC32: =SUM(C32:BB32) -> 491
B33: Be Magazine édition 126 | AJ33: 229 | AK33: 194 | AL33: 29 | AM33: 25 | AN33: 17 | AO33: 14 | AP33: 12 | AQ33: 6 | AR33: 4 | AS33: 6 | AT33: 6 | BC33: =SUM(C33:BB33) -> 542
B34: Be Magazine édition 127 | AK34: 212 | AL34: 242 | AM34: 130 | AN34: 131 | AO34: 114 | AP34: 83 | AQ34: 35 | AR34: 18 | AS34: 22 | AT34: 19 | BC34: =SUM(C34:BB34) -> 1006
B35: Be Magazine édition 128 | AP35: 435 | AQ35: 360 | AR35: 217 | AS35: 165 | AT35: 125 | BC35: =SUM(C35:BB35) -> 1302
B36: Be Magazine édition 129 | AT36: 321 | BC36: =SUM(C36:BB36) -> 321
B37: Abonnnement Mensuel Be Magazine | N37: 21 | O37: 34 | P37: 27 | Q37: 35 | R37: 31 | S37: 27 | T37: 49 | U37: 46 | V37: 48 | W37: 38 | X37: 60 | Y37: 75 | Z37: 57 | AA37: 60 | AB37: 51 | AC37: 93 | AD37: 87 | AE37: 65 | AF37: 70 | AG37: 91 | AH37: 117 | AI37: 88 | AJ37: 76 | AK37: 69 | AL37: 82 | AM37: 94 | AN37: 57 | AO37: 77 | AP37: 75 | AQ37: 79 | AR37: 45 | AS37: 55 | AT37: 50 | BC37: =SUM(C37:BB37) -> 2029
B38: Abonnnement 6 Mois Be Magazine | N38: 8 | O38: 12 | P38: 14 | Q38: 11 | R38: 7 | S38: 7 | T38: 12 | U38: 12 | V38: 9 | W38: 7 | X38: 8 | Y38: 9 | Z38: 13 | AA38: 0 | AB38: 0 | AC38: 0 | AD38: 0 | AE38: 0 | AF38: 0 | AG38: 0 | AH38: 0 | AI38: 0 | AJ38: 0 | BC38: =SUM(C38:BB38) -> 129
B39: Abonnnement Annuel Be Magazine | AR39: 1 | AS39: 1 | AT39: 2 | BC39: =SUM(C39:BB39) -> 4
B40: Total | C40: =SUM(C3:C38) -> 0 | D40: =SUM(D3:D38) -> 0 | E40: =SUM(E3:E38) -> 0 | F40: =SUM(F3:F38) -> 0 | G40: =SUM(G3:G38) -> 108 | H40: =SUM(H3:H38) -> 117 | I40: =SUM(I3:I38) -> 150 | J40: =SUM(J3:J38) -> 152 | ... AQ40: =SUM(AQ3:AQ38) -> 493 | AR40: =SUM(AR3:AR39) -> 298 | AS40: =SUM(AS3:AS39) -> 257 | AT40: =SUM(AT3:AT39) -> 553 | AU40: =SUM(AU3:AU39) -> 0 | AV40: =SUM(AV3:AV38) -> 0 | AW40: =SUM(AW3:AW38) -> 0 | AX40: =SUM(AX3:AX38) -> 0 | AY40: =SUM(AY3:AY38) -> 0 | AZ40: =SUM(AZ3:AZ38) -> 0 | BA40: =SUM(BA3:BA38) -> 0 | BB40: =SUM(BB3:BB38) -> 0 | BC40: =SUM(BC3:BC39) -> 16785

Sheet CA Estimé Be Mag
A1: Be Mag | B1: Achat | C1: Reversion unitaire Moyenne en euros | D1: Nouvelle Reversion unitaire Moyenne en euros | E1: Semaine 01 | F1: Semaine 02 | G1: Semaine 03 | H1: Semaine 04 | I1: Semaine 05 | J1: Semaine 06 | K1: Semaine 07 | L1: Semaine 08 | M1: Semaine 09 | N1: Semaine 10 | O1: Semaine 11 | P1: Semaine 12 | Q1: Semaine 13 | R1: Semaine 14 | S1: Semaine 15 | T1: Semaine 16 | U1: Semaine 17 | V1: Semaine 18 | W1: Semaine 19 | X1: Semaine 20 | Y1: Semaine 21 | Z1: Semaine 22 | AA1: Semaine 23 | AB1: Semaine 24 | AC1: Semaine 25 | AD1: Semaine 26 | AE1: Semaine 27 | AF1: Semaine 28 | AG1: Semaine 29 | AH1: Semaine 30 | AI1: Semaine 31 | AJ1: Semaine 32 | AK1: Semaine 33 | AL1: Semaine 34 | AM1: Semaine 35 | AN1: Semaine 36 | AO1: Semaine 37 | AP1: Semaine 38 | AQ1: Semaine 39 | AR1: Semaine 40 | AS1: Semaine 41 | AT1: Semaine 42 | AU1: Semaine 43 | AV1: Semaine 44 | AW1: Semaine 45 | AX1: Semaine 46 | AY1: Semaine 47 | AZ1: Semaine 48 | BA1: Semaine 49 | BB1: Semaine 50 | BC1: Semaine 51 | BD1: Semaine 52 | BE1: Total
