Workbook
Name Nom: Donnée!$D$3:$D$52

Sheet Donnée
A1: Donnée | C1: =IF($B$4="","",VLOOKUP($B$4,'[1]Liste d''Adresse'!$B$4:$G$153,6,900000))
A2: N° Offre | C2: Repère | D2: Nom | E2: E-mail | F2: Téléphone Portable | G2: Téléphone | H2: Fax | I2: Autre Client
A3: Auteur | B3: =IF(B2="","",LOOKUP(B2,[1]Archivage!$A$4:$B$1005)) | C3: =C1+1 -> #VALUE! | D3: =IF(C3="","",VLOOKUP(C3,[1]Contact!$A$3:$F$9000,2,900000)) -> #VALUE! | E3: =IF(C3="","",VLOOKUP(C3,[1]Contact!$A$3:$F$9000,3,900000)) -> #VALUE! | F3: =IF(C3="","",VLOOKUP(C3,[1]Contact!$A$3:$F$9000,4,900000)) -> #VALUE! | G3: =IF(C3="","",VLOOKUP(C3,[1]Contact!$A$3:$F$9000,5,900000)) -> #VALUE! | H3: =IF(C3="","",VLOOKUP(C3,[1]Contact!$A$3:$F$9000,6,900000)) -> #VALUE! | I3: ='[1]Liste d''Adresse'!B4 -> Aéro Technologies SA
A4: Client | B4: =IF(B2="","",LOOKUP(B2,[1]Archivage!$A$4:$C$1005)) | C4: =C3+1 -> #VALUE! | D4: =IF(C4="","",VLOOKUP(C4,[1]Contact!$A$3:$F$9000,2,900000)) -> #VALUE! | E4: =IF(C4="","",VLOOKUP(C4,[1]Contact!$A$3:$F$9000,3,900000)) -> #VALUE! | F4: =IF(C4="","",VLOOKUP(C4,[1]Contact!$A$3:$F$9000,4,900000)) -> #VALUE! | G4: =IF(C4="","",VLOOKUP(C4,[1]Contact!$A$3:$F$9000,5,900000)) -> #VALUE! | H4: =IF(C4="","",VLOOKUP(C4,[1]Contact!$A$3:$F$9000,6,900000)) -> #VALUE! | I4: ='[1]Liste d''Adresse'!B5 -> Alpiq InTec Romandie SA GE
A5: Adresse | B5: =IF($B$4="","",VLOOKUP($B$4,[2]Feuil2!$B$4:$BB$96,2,900000)) | C5: =C4+1 -> #VALUE! | D5: =IF(C5="","",VLOOKUP(C5,[1]Contact!$A$3:$F$9000,2,900000)) -> #VALUE! | E5: =IF(C5="","",VLOOKUP(C5,[1]Contact!$A$3:$F$9000,3,900000)) -> #VALUE! | F5: =IF(C5="","",VLOOKUP(C5,[1]Contact!$A$3:$F$9000,4,900000)) -> #VALUE! | G5: =IF(C5="","",VLOOKUP(C5,[1]Contact!$A$3:$F$9000,5,900000)) -> #VALUE! | H5: =IF(C5="","",VLOOKUP(C5,[1]Contact!$A$3:$F$9000,6,900000)) -> #VALUE! | I5: ='[1]Liste d''Adresse'!B6 -> Alpiq InTec Romandie SA VD
A6: Localité | B6: =IF($B$4="","",VLOOKUP($B$4,[2]Feuil2!$B$4:$BB$96,3,900000)) | C6: =C5+1 -> #VALUE! | D6: =IF(C6="","",VLOOKUP(C6,[1]Contact!$A$3:$F$9000,2,900000)) -> #VALUE! | E6: =IF(C6="","",VLOOKUP(C6,[1]Contact!$A$3:$F$9000,3,900000)) -> #VALUE! | F6: =IF(C6="","",VLOOKUP(C6,[1]Contact!$A$3:$F$9000,4,900000)) -> #VALUE! | G6: =IF(C6="","",VLOOKUP(C6,[1]Contact!$A$3:$F$9000,5,900000)) -> #VALUE! | H6: =IF(C6="","",VLOOKUP(C6,[1]Contact!$A$3:$F$9000,6,900000)) -> #VALUE! | I6: ='[1]Liste d''Adresse'!B7 -> Alvazzi SA GE
A7: Téléphone | B7: =IF($B$4="","",VLOOKUP($B$4,[2]Feuil2!$B$4:$BB$96,4,900000)) | C7: =C6+1 -> #VALUE! | D7: =IF(C7="","",VLOOKUP(C7,[1]Contact!$A$3:$F$9000,2,900000)) -> #VALUE! | E7: =IF(C7="","",VLOOKUP(C7,[1]Contact!$A$3:$F$9000,3,900000)) -> #VALUE! | F7: =IF(C7="","",VLOOKUP(C7,[1]Contact!$A$3:$F$9000,4,900000)) -> #VALUE! | G7: =IF(C7="","",VLOOKUP(C7,[1]Contact!$A$3:$F$9000,5,900000)) -> #VALUE! | H7: =IF(C7="","",VLOOKUP(C7,[1]Contact!$A$3:$F$9000,6,900000)) -> #VALUE! | I7: ='[1]Liste d''Adresse'!B8 -> Artica SA
A8: Fax | B8: =IF($B$4="","",VLOOKUP($B$4,[2]Feuil2!$B$4:$BB$96,5,900000)) | C8: =C7+1 -> #VALUE! | D8: =IF(C8="","",VLOOKUP(C8,[1]Contact!$A$3:$F$9000,2,900000)) -> #VALUE! | E8: =IF(C8="","",VLOOKUP(C8,[1]Contact!$A$3:$F$9000,3,900000)) -> #VALUE! | F8: =IF(C8="","",VLOOKUP(C8,[1]Contact!$A$3:$F$9000,4,900000)) -> #VALUE! | G8: =IF(C8="","",VLOOKUP(C8,[1]Contact!$A$3:$F$9000,5,900000)) -> #VALUE! | H8: =IF(C8="","",VLOOKUP(C8,[1]Contact!$A$3:$F$9000,6,900000)) -> #VALUE! | I8: ='[1]Liste d''Adresse'!B9 -> AS Technique
A9: Responsable | C9: =C8+1 -> #VALUE! | D9: =IF(C9="","",VLOOKUP(C9,[1]Contact!$A$3:$F$9000,2,900000)) -> #VALUE! | E9: =IF(C9="","",VLOOKUP(C9,[1]Contact!$A$3:$F$9000,3,900000)) -> #VALUE! | F9: =IF(C9="","",VLOOKUP(C9,[1]Contact!$A$3:$F$9000,4,900000)) -> #VALUE! | G9: =IF(C9="","",VLOOKUP(C9,[1]Contact!$A$3:$F$9000,5,900000)) -> #VALUE! | H9: =IF(C9="","",VLOOKUP(C9,[1]Contact!$A$3:$F$9000,6,900000)) -> #VALUE! | I9: ='[1]Liste d''Adresse'!B10 -> Avilag SA Inst. Thermiques
A10: E-mail | B10: =IF($B$9="","",VLOOKUP($B$9,$D$3:$H$52,2,900000)) | C10: =C9+1 -> #VALUE! | D10: =IF(C10="","",VLOOKUP(C10,[1]Contact!$A$3:$F$9000,2,900000)) -> #VALUE! | E10: =IF(C10="","",VLOOKUP(C10,[1]Contact!$A$3:$F$9000,3,900000)) -> #VALUE! | F10: =IF(C10="","",VLOOKUP(C10,[1]Contact!$A$3:$F$9000,4,900000)) -> #VALUE! | G10: =IF(C10="","",VLOOKUP(C10,[1]Contact!$A$3:$F$9000,5,900000)) -> #VALUE! | H10: =IF(C10="","",VLOOKUP(C10,[1]Contact!$A$3:$F$9000,6,900000)) -> #VALUE! | I10: ='[1]Liste d''Adresse'!B11 -> B Partner
A11: Téléphone Portable | B11: =IF($B$9="","",VLOOKUP($B$9,$D$3:$H$52,3,900000)) | C11: =C10+1 -> #VALUE! | D11: =IF(C11="","",VLOOKUP(C11,[1]Contact!$A$3:$F$9000,2,900000)) -> #VALUE! | E11: =IF(C11="","",VLOOKUP(C11,[1]Contact!$A$3:$F$9000,3,900000)) -> #VALUE! | F11: =IF(C11="","",VLOOKUP(C11,[1]Contact!$A$3:$F$9000,4,900000)) -> #VALUE! | G11: =IF(C11="","",VLOOKUP(C11,[1]Contact!$A$3:$F$9000,5,900000)) -> #VALUE! | H11: =IF(C11="","",VLOOKUP(C11,[1]Contact!$A$3:$F$9000,6,900000)) -> #VALUE! | I11: ='[1]Liste d''Adresse'!B12 -> Balestra Galiotto TCC SA
A12: Téléphone | B12: =IF($B$9="","",VLOOKUP($B$9,$D$3:$H$52,4,900000)) | C12: =C11+1 -> #VALUE! | D12: =IF(C12="","",VLOOKUP(C12,[1]Contact!$A$3:$F$9000,2,900000)) -> #VALUE! | E12: =IF(C12="","",VLOOKUP(C12,[1]Contact!$A$3:$F$9000,3,900000)) -> #VALUE! | F12: =IF(C12="","",VLOOKUP(C12,[1]Contact!$A$3:$F$9000,4,900000)) -> #VALUE! | G12: =IF(C12="","",VLOOKUP(C12,[1]Contact!$A$3:$F$9000,5,900000)) -> #VALUE! | H12: =IF(C12="","",VLOOKUP(C12,[1]Contact!$A$3:$F$9000,6,900000)) -> #VALUE! | I12: ='[1]Liste d''Adresse'!B13 -> Bernard Chevalley SA
A13: Fax | B13: =IF($B$9="","",VLOOKUP($B$9,$D$3:$H$52,5,900000)) | C13: =C12+1 -> #VALUE! | D13: =IF(C13="","",VLOOKUP(C13,[1]Contact!$A$3:$F$9000,2,900000)) -> #VALUE! | E13: =IF(C13="","",VLOOKUP(C13,[1]Contact!$A$3:$F$9000,3,900000)) -> #VALUE! | F13: =IF(C13="","",VLOOKUP(C13,[1]Contact!$A$3:$F$9000,4,900000)) -> #VALUE! | G13: =IF(C13="","",VLOOKUP(C13,[1]Contact!$A$3:$F$9000,5,900000)) -> #VALUE! | H13: =IF(C13="","",VLOOKUP(C13,[1]Contact!$A$3:$F$9000,6,900000)) -> #VALUE! | I13: ='[1]Liste d''Adresse'!B14 -> Bosson Pillet SA
A14: Affaire | B14: =IF(B2="","",LOOKUP(B2,[1]Archivage!$A$4:$D$1005)) | C14: =C13+1 -> #VALUE! | D14: =IF(C14="","",VLOOKUP(C14,[1]Contact!$A$3:$F$9000,2,900000)) -> #VALUE! | E14: =IF(C14="","",VLOOKUP(C14,[1]Contact!$A$3:$F$9000,3,900000)) -> #VALUE! | F14: =IF(C14="","",VLOOKUP(C14,[1]Contact!$A$3:$F$9000,4,900000)) -> #VALUE! | G14: =IF(C14="","",VLOOKUP(C14,[1]Contact!$A$3:$F$9000,5,900000)) -> #VALUE! | H14: =IF(C14="","",VLOOKUP(C14,[1]Contact!$A$3:$F$9000,6,900000)) -> #VALUE! | I14: ='[1]Liste d''Adresse'!B15 -> Brauchli SA
A15: Adresse | B15: =IF(B2="","",LOOKUP(B2,[1]Archivage!$A$4:$E$1005)) | C15: =C14+1 -> #VALUE! | D15: =IF(C15="","",VLOOKUP(C15,[1]Contact!$A$3:$F$9000,2,900000)) -> #VALUE! | E15: =IF(C15="","",VLOOKUP(C15,[1]Contact!$A$3:$F$9000,3,900000)) -> #VALUE! | F15: =IF(C15="","",VLOOKUP(C15,[1]Contact!$A$3:$F$9000,4,900000)) -> #VALUE! | G15: =IF(C15="","",VLOOKUP(C15,[1]Contact!$A$3:$F$9000,5,900000)) -> #VALUE! | H15: =IF(C15="","",VLOOKUP(C15,[1]Contact!$A$3:$F$9000,6,900000)) -> #VALUE! | I15: ='[1]Liste d''Adresse'!B16 -> Bulliard Technique Electrique
A16: Ville | B16: =IF(B2="","",LOOKUP(B2,[1]Archivage!$A$4:$F$1005)) | C16: =C15+1 -> #VALUE! | D16: =IF(C16="","",VLOOKUP(C16,[1]Contact!$A$3:$F$9000,2,900000)) -> #VALUE! | E16: =IF(C16="","",VLOOKUP(C16,[1]Contact!$A$3:$F$9000,3,900000)) -> #VALUE! | F16: =IF(C16="","",VLOOKUP(C16,[1]Contact!$A$3:$F$9000,4,900000)) -> #VALUE! | G16: =IF(C16="","",VLOOKUP(C16,[1]Contact!$A$3:$F$9000,5,900000)) -> #VALUE! | H16: =IF(C16="","",VLOOKUP(C16,[1]Contact!$A$3:$F$9000,6,900000)) -> #VALUE! | I16: ='[1]Liste d''Adresse'!B17 -> Canoci Sarl
A17: Tableau(x) | B17: =IF(B2="","",LOOKUP(B2,[1]Archivage!$A$4:$G$1005)) | C17: =C16+1 -> #VALUE! | D17: =IF(C17="","",VLOOKUP(C17,[1]Contact!$A$3:$F$9000,2,900000)) -> #VALUE! | E17: =IF(C17="","",VLOOKUP(C17,[1]Contact!$A$3:$F$9000,3,900000)) -> #VALUE! | F17: =IF(C17="","",VLOOKUP(C17,[1]Contact!$A$3:$F$9000,4,900000)) -> #VALUE! | G17: =IF(C17="","",VLOOKUP(C17,[1]Contact!$A$3:$F$9000,5,900000)) -> #VALUE! | H17: =IF(C17="","",VLOOKUP(C17,[1]Contact!$A$3:$F$9000,6,900000)) -> #VALUE! | I17: ='[1]Liste d''Adresse'!B18 -> CGC Dalkia SA
A18: Installation | B18: =IF(B2="","",LOOKUP(B2,[1]Archivage!$A$4:$H$1005)) | C18: =C17+1 -> #VALUE! | D18: =IF(C18="","",VLOOKUP(C18,[1]Contact!$A$3:$F$9000,2,900000)) -> #VALUE! | E18: =IF(C18="","",VLOOKUP(C18,[1]Contact!$A$3:$F$9000,3,900000)) -> #VALUE! | F18: =IF(C18="","",VLOOKUP(C18,[1]Contact!$A$3:$F$9000,4,900000)) -> #VALUE! | G18: =IF(C18="","",VLOOKUP(C18,[1]Contact!$A$3:$F$9000,5,900000)) -> #VALUE! | H18: =IF(C18="","",VLOOKUP(C18,[1]Contact!$A$3:$F$9000,6,900000)) -> #VALUE! | I18: ='[1]Liste d''Adresse'!B19 -> Climat Gestion SA
A19: Date de Création | B19: =IF(B2="","",LOOKUP(B2,[1]Archivage!$A$4:$I$1005)) | C19: =C18+1 -> #VALUE! | D19: =IF(C19="","",VLOOKUP(C19,[1]Contact!$A$3:$F$9000,2,900000)) -> #VALUE! | E19: =IF(C19="","",VLOOKUP(C19,[1]Contact!$A$3:$F$9000,3,900000)) -> #VALUE! | F19: =IF(C19="","",VLOOKUP(C19,[1]Contact!$A$3:$F$9000,4,900000)) -> #VALUE! | G19: =IF(C19="","",VLOOKUP(C19,[1]Contact!$A$3:$F$9000,5,900000)) -> #VALUE! | H19: =IF(C19="","",VLOOKUP(C19,[1]Contact!$A$3:$F$9000,6,900000)) -> #VALUE! | I19: ='[1]Liste d''Adresse'!B20 -> ClimatService
C20: =C19+1 -> #VALUE! | D20: =IF(C20="","",VLOOKUP(C20,[1]Contact!$A$3:$F$9000,2,900000)) -> #VALUE! | E20: =IF(C20="","",VLOOKUP(C20,[1]Contact!$A$3:$F$9000,3,900000)) -> #VALUE! | F20: =IF(C20="","",VLOOKUP(C20,[1]Contact!$A$3:$F$9000,4,900000)) -> #VALUE! | G20: =IF(C20="","",VLOOKUP(C20,[1]Contact!$A$3:$F$9000,5,900000)) -> #VALUE! | H20: =IF(C20="","",VLOOKUP(C20,[1]Contact!$A$3:$F$9000,6,900000)) -> #VALUE! | I20: ='[1]Liste d''Adresse'!B21 -> Cofely SA Lausanne
C21: =C20+1 -> #VALUE! | D21: =IF(C21="","",VLOOKUP(C21,[1]Contact!$A$3:$F$9000,2,900000)) -> #VALUE! | E21: =IF(C21="","",VLOOKUP(C21,[1]Contact!$A$3:$F$9000,3,900000)) -> #VALUE! | F21: =IF(C21="","",VLOOKUP(C21,[1]Contact!$A$3:$F$9000,4,900000)) -> #VALUE! | G21: =IF(C21="","",VLOOKUP(C21,[1]Contact!$A$3:$F$9000,5,900000)) -> #VALUE! | H21: =IF(C21="","",VLOOKUP(C21,[1]Contact!$A$3:$F$9000,6,900000)) -> #VALUE! | I21: ='[1]Liste d''Adresse'!B22 -> CT Climatechnic SA
C22: =C21+1 -> #VALUE! | D22: =IF(C22="","",VLOOKUP(C22,[1]Contact!$A$3:$F$9000,2,900000)) -> #VALUE! | E22: =IF(C22="","",VLOOKUP(C22,[1]Contact!$A$3:$F$9000,3,900000)) -> #VALUE! | F22: =IF(C22="","",VLOOKUP(C22,[1]Contact!$A$3:$F$9000,4,900000)) -> #VALUE! | G22: =IF(C22="","",VLOOKUP(C22,[1]Contact!$A$3:$F$9000,5,900000)) -> #VALUE! | H22: =IF(C22="","",VLOOKUP(C22,[1]Contact!$A$3:$F$9000,6,900000)) -> #VALUE! | I22: ='[1]Liste d''Adresse'!B23 -> CVS Confort & Cie SA
C23: =C22+1 -> #VALUE! | D23: =IF(C23="","",VLOOKUP(C23,[1]Contact!$A$3:$F$9000,2,900000)) -> #VALUE! | E23: =IF(C23="","",VLOOKUP(C23,[1]Contact!$A$3:$F$9000,3,900000)) -> #VALUE! | F23: =IF(C23="","",VLOOKUP(C23,[1]Contact!$A$3:$F$9000,4,900000)) -> #VALUE! | G23: =IF(C23="","",VLOOKUP(C23,[1]Contact!$A$3:$F$9000,5,900000)) -> #VALUE! | H23: =IF(C23="","",VLOOKUP(C23,[1]Contact!$A$3:$F$9000,6,900000)) -> #VALUE! | I23: ='[1]Liste d''Adresse'!B24 -> Demierre & Serex SA
C24: =C23+1 -> #VALUE! | D24: =IF(C24="","",VLOOKUP(C24,[1]Contact!$A$3:$F$9000,2,900000)) -> #VALUE! | E24: =IF(C24="","",VLOOKUP(C24,[1]Contact!$A$3:$F$9000,3,900000)) -> #VALUE! | F24: =IF(C24="","",VLOOKUP(C24,[1]Contact!$A$3:$F$9000,4,900000)) -> #VALUE! | G24: =IF(C24="","",VLOOKUP(C24,[1]Contact!$A$3:$F$9000,5,900000)) -> #VALUE! | H24: =IF(C24="","",VLOOKUP(C24,[1]Contact!$A$3:$F$9000,6,900000)) -> #VALUE! | I24: ='[1]Liste d''Adresse'!B25 -> Desplats A. SA
C25: =C24+1 -> #VALUE! | D25: =IF(C25="","",VLOOKUP(C25,[1]Contact!$A$3:$F$9000,2,900000)) -> #VALUE! | E25: =IF(C25="","",VLOOKUP(C25,[1]Contact!$A$3:$F$9000,3,900000)) -> #VALUE! | F25: =IF(C25="","",VLOOKUP(C25,[1]Contact!$A$3:$F$9000,4,900000)) -> #VALUE! | G25: =IF(C25="","",VLOOKUP(C25,[1]Contact!$A$3:$F$9000,5,900000)) -> #VALUE! | H25: =IF(C25="","",VLOOKUP(C25,[1]Contact!$A$3:$F$9000,6,900000)) -> #VALUE! | I25: ='[1]Liste d''Adresse'!B26 -> Durlemann SA
C26: =C25+1 -> #VALUE! | D26: =IF(C26="","",VLOOKUP(C26,[1]Contact!$A$3:$F$9000,2,900000)) -> #VALUE! | E26: =IF(C26="","",VLOOKUP(C26,[1]Contact!$A$3:$F$9000,3,900000)) -> #VALUE! | F26: =IF(C26="","",VLOOKUP(C26,[1]Contact!$A$3:$F$9000,4,900000)) -> #VALUE! | G26: =IF(C26="","",VLOOKUP(C26,[1]Contact!$A$3:$F$9000,5,900000)) -> #VALUE! | H26: =IF(C26="","",VLOOKUP(C26,[1]Contact!$A$3:$F$9000,6,900000)) -> #VALUE! | I26: ='[1]Liste d''Adresse'!B27 -> Entrepôts Frigorifiques d'Aigle SA (E.F.A. SA)
C27: =C26+1 -> #VALUE! | D27: =IF(C27="","",VLOOKUP(C27,[1]Contact!$A$3:$F$9000,2,900000)) -> #VALUE! | E27: =IF(C27="","",VLOOKUP(C27,[1]Contact!$A$3:$F$9000,3,900000)) -> #VALUE! | F27: =IF(C27="","",VLOOKUP(C27,[1]Contact!$A$3:$F$9000,4,900000)) -> #VALUE! | G27: =IF(C27="","",VLOOKUP(C27,[1]Contact!$A$3:$F$9000,5,900000)) -> #VALUE! | H27: =IF(C27="","",VLOOKUP(C27,[1]Contact!$A$3:$F$9000,6,900000)) -> #VALUE! | I27: ='[1]Liste d''Adresse'!B28 -> E+B Concept
C28: =C27+1 -> #VALUE! | D28: =IF(C28="","",VLOOKUP(C28,[1]Contact!$A$3:$F$9000,2,900000)) -> #VALUE! | E28: =IF(C28="","",VLOOKUP(C28,[1]Contact!$A$3:$F$9000,3,900000)) -> #VALUE! | F28: =IF(C28="","",VLOOKUP(C28,[1]Contact!$A$3:$F$9000,4,900000)) -> #VALUE! | G28: =IF(C28="","",VLOOKUP(C28,[1]Contact!$A$3:$F$9000,5,900000)) -> #VALUE! | H28: =IF(C28="","",VLOOKUP(C28,[1]Contact!$A$3:$F$9000,6,900000)) -> #VALUE! | I28: ='[1]Liste d''Adresse'!B29 -> Elcotherm SA
C29: =C28+1 -> #VALUE! | D29: =IF(C29="","",VLOOKUP(C29,[1]Contact!$A$3:$F$9000,2,900000)) -> #VALUE! | E29: =IF(C29="","",VLOOKUP(C29,[1]Contact!$A$3:$F$9000,3,900000)) -> #VALUE! | F29: =IF(C29="","",VLOOKUP(C29,[1]Contact!$A$3:$F$9000,4,900000)) -> #VALUE! | G29: =IF(C29="","",VLOOKUP(C29,[1]Contact!$A$3:$F$9000,5,900000)) -> #VALUE! | H29: =IF(C29="","",VLOOKUP(C29,[1]Contact!$A$3:$F$9000,6,900000)) -> #VALUE! | I29: ='[1]Liste d''Adresse'!B30 -> EPFL PL DII
C30: =C29+1 -> #VALUE! | D30: =IF(C30="","",VLOOKUP(C30,[1]Contact!$A$3:$F$9000,2,900000)) -> #VALUE! | E30: =IF(C30="","",VLOOKUP(C30,[1]Contact!$A$3:$F$9000,3,900000)) -> #VALUE! | F30: =IF(C30="","",VLOOKUP(C30,[1]Contact!$A$3:$F$9000,4,900000)) -> #VALUE! | G30: =IF(C30="","",VLOOKUP(C30,[1]Contact!$A$3:$F$9000,5,900000)) -> #VALUE! | H30: =IF(C30="","",VLOOKUP(C30,[1]Contact!$A$3:$F$9000,6,900000)) -> #VALUE! | I30: ='[1]Liste d''Adresse'!B31 -> FIPOI
C31: =C30+1 -> #VALUE! | D31: =IF(C31="","",VLOOKUP(C31,[1]Contact!$A$3:$F$9000,2,900000)) -> #VALUE! | E31: =IF(C31="","",VLOOKUP(C31,[1]Contact!$A$3:$F$9000,3,900000)) -> #VALUE! | F31: =IF(C31="","",VLOOKUP(C31,[1]Contact!$A$3:$F$9000,4,900000)) -> #VALUE! | G31: =IF(C31="","",VLOOKUP(C31,[1]Contact!$A$3:$F$9000,5,900000)) -> #VALUE! | H31: =IF(C31="","",VLOOKUP(C31,[1]Contact!$A$3:$F$9000,6,900000)) -> #VALUE! | I31: ='[1]Liste d''Adresse'!B32 -> Frigitech SA
... C52: =C51+1 -> #VALUE! | D52: =IF(C52="","",VLOOKUP(C52,[1]Contact!$A$3:$F$9000,2,900000)) -> #VALUE! | E52: =IF(C52="","",VLOOKUP(C52,[1]Contact!$A$3:$F$9000,3,900000)) -> #VALUE! | F52: =IF(C52="","",VLOOKUP(C52,[1]Contact!$A$3:$F$9000,4,900000)) -> #VALUE! | G52: =IF(C52="","",VLOOKUP(C52,[1]Contact!$A$3:$F$9000,5,900000)) -> #VALUE! | H52: =IF(C52="","",VLOOKUP(C52,[1]Contact!$A$3:$F$9000,6,900000)) -> #VALUE! | I52: ='[1]Liste d''Adresse'!B53 -> LGC Régulation Sarl
I53: ='[1]Liste d''Adresse'!B54 -> Maffiolo SA Inst. Thermique
I54: ='[1]Liste d''Adresse'!B55 -> Maintair SA
I55: ='[1]Liste d''Adresse'!B56 -> Maréchaux électricité SA
I56: ='[1]Liste d''Adresse'!B57 -> Méribe - Entretien Techn. et Installations Electr.
I57: ='[1]Liste d''Adresse'!B58 -> Minerg-Appelsa Service SA
I58: ='[1]Liste d''Adresse'!B59 -> Mino Installations Thermiques
I59: ='[1]Liste d''Adresse'!B60 -> MUD Electricité
I60: ='[1]Liste d''Adresse'!B61 -> Muller Services SA
I61: ='[1]Liste d''Adresse'!B62 -> Multi & Therme SA
I62: ='[1]Liste d''Adresse'!B63 -> Nortik & Tenud SA
I63: ='[1]Liste d''Adresse'!B64 -> OMC
I64: ='[1]Liste d''Adresse'!B65 -> Otto Scherrer
... I153: ='[1]Liste d''Adresse'!B154 -> 0

Sheet Feuil2

Sheet Feuil3
