Workbook

Sheet Feuil1
A1: NOM
A2: =IFERROR(VLOOKUP(Feuil2!J3,Feuil2!G:I,2,FALSE), "") -> a2 | B2: =IFERROR(VLOOKUP(Feuil2!J3,Feuil2!G:I,3,FALSE), "") -> 11784
A3: =IFERROR(VLOOKUP(Feuil2!J4,Feuil2!G:I,2,FALSE), "") -> a14 | B3: =IFERROR(VLOOKUP(Feuil2!J4,Feuil2!G:I,3,FALSE), "") -> 15095
A4: =IFERROR(VLOOKUP(Feuil2!J5,Feuil2!G:I,2,FALSE), "") -> a16 | B4: =IFERROR(VLOOKUP(Feuil2!J5,Feuil2!G:I,3,FALSE), "") -> 26034
A5: =IFERROR(VLOOKUP(Feuil2!J6,Feuil2!G:I,2,FALSE), "") -> a17 | B5: =IFERROR(VLOOKUP(Feuil2!J6,Feuil2!G:I,3,FALSE), "") -> 14708
A6: =IFERROR(VLOOKUP(Feuil2!J7,Feuil2!G:I,2,FALSE), "") -> a22 | B6: =IFERROR(VLOOKUP(Feuil2!J7,Feuil2!G:I,3,FALSE), "") -> 20911
A7: =IFERROR(VLOOKUP(Feuil2!J8,Feuil2!G:I,2,FALSE), "") -> a24 | B7: =IFERROR(VLOOKUP(Feuil2!J8,Feuil2!G:I,3,FALSE), "") -> 11422
A8: =IFERROR(VLOOKUP(Feuil2!J9,Feuil2!G:I,2,FALSE), "") -> a29 | B8: =IFERROR(VLOOKUP(Feuil2!J9,Feuil2!G:I,3,FALSE), "") -> 13634
A9: =IFERROR(VLOOKUP(Feuil2!J10,Feuil2!G:I,2,FALSE), "") -> a33 | B9: =IFERROR(VLOOKUP(Feuil2!J10,Feuil2!G:I,3,FALSE), "") -> 9224
A10: =IFERROR(VLOOKUP(Feuil2!J11,Feuil2!G:I,2,FALSE), "") -> a35 | B10: =IFERROR(VLOOKUP(Feuil2!J11,Feuil2!G:I,3,FALSE), "") -> 13243
A11: =IFERROR(VLOOKUP(Feuil2!J12,Feuil2!G:I,2,FALSE), "") | B11: =IFERROR(VLOOKUP(Feuil2!J12,Feuil2!G:I,3,FALSE), "")
A12: =IFERROR(VLOOKUP(Feuil2!J13,Feuil2!G:I,2,FALSE), "") | B12: =IFERROR(VLOOKUP(Feuil2!J13,Feuil2!G:I,3,FALSE), "")
A13: =IFERROR(VLOOKUP(Feuil2!J14,Feuil2!G:I,2,FALSE), "") | B13: =IFERROR(VLOOKUP(Feuil2!J14,Feuil2!G:I,3,FALSE), "")
... A16: =IFERROR(VLOOKUP(Feuil2!J17,Feuil2!G:I,2,FALSE), "") | B16: =IFERROR(VLOOKUP(Feuil2!J17,Feuil2!G:I,3,FALSE), "")

Sheet Feuil2
A1: NOM | B1: DN
B2: 44655 | F2: 0
A3: a1 | B3: 13498 | E3: =IFERROR(_xlfn.IFS(MONTH(B3)=MONTH($B$2),A3), "") | F3: =IF(E3>"",1,"") | G3: =IFERROR(SUM($F$2:F3),"") -> 0 | H3: a1 | I3: 13498 | J3: 1
A4: a2 | B4: 11784 | E4: =IFERROR(_xlfn.IFS(MONTH(B4)=MONTH($B$2),A4), "") -> a2 | F4: =IF(E4>"",1,"") -> 1 | G4: =IFERROR(SUM($F$2:F4),"") -> 1 | H4: a2 | I4: 11784 | J4: 2
A5: a3 | B5: 25543 | E5: =IFERROR(_xlfn.IFS(MONTH(B5)=MONTH($B$2),A5), "") | F5: =IF(E5>"",1,"") | G5: =IFERROR(SUM($F$2:F5),"") -> 1 | H5: a3 | I5: 25543 | J5: 3
A6: a4 | B6: 13566 | E6: =IFERROR(_xlfn.IFS(MONTH(B6)=MONTH($B$2),A6), "") | F6: =IF(E6>"",1,"") | G6: =IFERROR(SUM($F$2:F6),"") -> 1 | H6: a4 | I6: 13566 | J6: 4
A7: a5 | E7: =IFERROR(_xlfn.IFS(MONTH(B7)=MONTH($B$2),A7), "") | F7: =IF(E7>"",1,"") | G7: =IFERROR(SUM($F$2:F7),"") -> 1 | H7: a5 | J7: 5
A8: a6 | B8: 13148 | E8: =IFERROR(_xlfn.IFS(MONTH(B8)=MONTH($B$2),A8), "") | F8: =IF(E8>"",1,"") | G8: =IFERROR(SUM($F$2:F8),"") -> 1 | H8: a6 | I8: 13148 | J8: 6
A9: a7 | B9: 15423 | E9: =IFERROR(_xlfn.IFS(MONTH(B9)=MONTH($B$2),A9), "") | F9: =IF(E9>"",1,"") | G9: =IFERROR(SUM($F$2:F9),"") -> 1 | H9: a7 | I9: 15423 | J9: 7
A10: a8 | B10: 17498 | E10: =IFERROR(_xlfn.IFS(MONTH(B10)=MONTH($B$2),A10), "") | F10: =IF(E10>"",1,"") | G10: =IFERROR(SUM($F$2:F10),"") -> 1 | H10: a8 | I10: 17498 | J10: 8
A11: a9 | B11: 23502 | E11: =IFERROR(_xlfn.IFS(MONTH(B11)=MONTH($B$2),A11), "") | F11: =IF(E11>"",1,"") | G11: =IFERROR(SUM($F$2:F11),"") -> 1 | H11: a9 | I11: 23502 | J11: 9
A12: a10 | B12: 16944 | E12: =IFERROR(_xlfn.IFS(MONTH(B12)=MONTH($B$2),A12), "") | F12: =IF(E12>"",1,"") | G12: =IFERROR(SUM($F$2:F12),"") -> 1 | H12: a10 | I12: 16944 | J12: 10
A13: a11 | B13: 12027 | E13: =IFERROR(_xlfn.IFS(MONTH(B13)=MONTH($B$2),A13), "") | F13: =IF(E13>"",1,"") | G13: =IFERROR(SUM($F$2:F13),"") -> 1 | H13: a11 | I13: 12027 | J13: 11
A14: a12 | B14: 18994 | E14: =IFERROR(_xlfn.IFS(MONTH(B14)=MONTH($B$2),A14), "") | F14: =IF(E14>"",1,"") | G14: =IFERROR(SUM($F$2:F14),"") -> 1 | H14: a12 | I14: 18994 | J14: 12
A15: a13 | B15: 30950 | E15: =IFERROR(_xlfn.IFS(MONTH(B15)=MONTH($B$2),A15), "") | F15: =IF(E15>"",1,"") | G15: =IFERROR(SUM($F$2:F15),"") -> 1 | H15: a13 | I15: 30950 | J15: 13
A16: a14 | B16: 15095 | E16: =IFERROR(_xlfn.IFS(MONTH(B16)=MONTH($B$2),A16), "") -> a14 | F16: =IF(E16>"",1,"") -> 1 | G16: =IFERROR(SUM($F$2:F16),"") -> 2 | H16: a14 | I16: 15095 | J16: 14
A17: a15 | B17: 5815 | E17: =IFERROR(_xlfn.IFS(MONTH(B17)=MONTH($B$2),A17), "") | F17: =IF(E17>"",1,"") | G17: =IFERROR(SUM($F$2:F17),"") -> 2 | H17: a15 | I17: 5815 | J17: 15
A18: a16 | B18: 26034 | E18: =IFERROR(_xlfn.IFS(MONTH(B18)=MONTH($B$2),A18), "") -> a16 | F18: =IF(E18>"",1,"") -> 1 | G18: =IFERROR(SUM($F$2:F18),"") -> 3 | H18: a16 | I18: 26034 | J18: 16
A19: a17 | B19: 14708 | E19: =IFERROR(_xlfn.IFS(MONTH(B19)=MONTH($B$2),A19), "") -> a17 | F19: =IF(E19>"",1,"") -> 1 | G19: =IFERROR(SUM($F$2:F19),"") -> 4 | H19: a17 | I19: 14708 | J19: 17
... A40: a38 | B40: 18835 | E40: =IFERROR(_xlfn.IFS(MONTH(B40)=MONTH($B$2),A40), "") | F40: =IF(E40>"",1,"") | G40: =IFERROR(SUM($F$2:F40),"") -> 9 | H40: a38 | I40: 18835 | J40: 38
