Workbook
Name base: #REF!
Name Jours: 'prix chambre'!$A$3:$A$33

Sheet résa
A1: Date du jour | B1: =TODAY() -> 42074 | D1: ECRIRE SEULEMENT DANS LES CASES JAUNES
M2: PETIT DEJ
A3: Arrivée | B3: Départ | C3: Type de chambre | D3: Nombre de nuits | E3: Prix total | F3: prix/nuit | G3: formule | H3: prix | I3: NANR | J3: J-30 ? | K3: Réduction final | M3: Nombre Pax | N3: Prix PDJ 4€ | O3: Economie
A4: 42075 | B4: 42078 | C4: Single | D4: =IF(MONTH(A$4)<>MONTH(B$4),DATE(YEAR(A4),MONTH(A4)+1,1)-A4,B4-A4) -> 3 | E4: =SUM(C7:C54) -> 75 | F4: =E4/D4 -> 25 | G4: Bar10 BB 1p | H4: =HLOOKUP(G4,E9:P10,2,FALSE) -> 25.375 | I4: =IF(OR(G4=E9,G4=F9,G4=G9,G4=H9,G4=I9,G4=J9),"non","oui") -> oui | J4: =IF(B1-A4<30,"non","oui") -> non | K4: =((E10-H4)/H4) -> -0.014778325 | M4: 2 | N4: =M4*D4*4 -> 24 | O4: =(11*D4*M4)-N4 -> 42
A6: Journées de présence | C6: Tarif Jour
A7: =A4 -> 42075 | C7: =IF(A7<>"",OFFSET('prix chambre'!$A$2,MATCH(DAY(résa!$A7),Jours,0),IF(résa!$C$4="Single",(MONTH(résa!A7)*4)-3,IF(résa!$C$4="Double",(MONTH(résa!A7)*4)-2,IF(résa!$C$4="Triple",(MONTH(résa!A7)*4)-1,MONTH(résa!A7)*4)))),0) -> 15 | E7: Bar | H7: Flexible | N7: J-30
A8: =IF(A7="","",IF(A7+1<$B$4,A7+1,"")) -> 42076 | C8: =IF(A8<>"",OFFSET('prix chambre'!$A$2,MATCH(DAY(résa!$A8),Jours,0),IF(résa!$C$4="Single",(MONTH(résa!A8)*4)-3,IF(résa!$C$4="Double",(MONTH(résa!A8)*4)-2,IF(résa!$C$4="Triple",(MONTH(résa!A8)*4)-1,MONTH(résa!A8)*4)))),0) -> 25 | K8: NANR
A9: =IF(A8="","",IF(A8+1<$B$4,A8+1,"")) -> 42077 | C9: =IF(A9<>"",OFFSET('prix chambre'!$A$2,MATCH(DAY(résa!$A9),Jours,0),IF(résa!$C$4="Single",(MONTH(résa!A9)*4)-3,IF(résa!$C$4="Double",(MONTH(résa!A9)*4)-2,IF(résa!$C$4="Triple",(MONTH(résa!A9)*4)-1,MONTH(résa!A9)*4)))),0) -> 35 | E9: Bar | F9: Bar BB 1p | G9: Bar BB 2p | H9: Bar -5% | I9: Bar5 BB 1p | J9: Bar5 BB 2p | K9: Bar-10% | L9: Bar10 BB 1p | M9: Bar10 BB 2p | N9: Bar-15% | O9: Bar15 BB 1p | P9: Bar15 BB 2p
A10: =IF(A9="","",IF(A9+1<$B$4,A9+1,"")) | C10: =IF(A10<>"",OFFSET('prix chambre'!$A$2,MATCH(DAY(résa!$A10),Jours,0),IF(résa!$C$4="Single",(MONTH(résa!A10)*4)-3,IF(résa!$C$4="Double",(MONTH(résa!A10)*4)-2,IF(résa!$C$4="Triple",(MONTH(résa!A10)*4)-1,MONTH(résa!A10)*4)))),0) -> 0 | E10: =résa!F4 -> 25 | F10: =E10+4 -> 29 | G10: =E10+8 -> 33 | H10: =E10-(E10*(5/100)) -> 23.75 | I10: =H10+4 -> 27.75 | J10: =H10+8 -> 31.75 | K10: =H10-(H10*(10/100)) -> 21.375 | L10: =K10+4 -> 25.375 | M10: =K10+8 -> 29.375 | N10: =H10-(H10*(15/100)) -> 20.1875 | O10: =N10+4 -> 24.1875 | P10: =N10+8 -> 28.1875
A11: =IF(A10="","",IF(A10+1<$B$4,A10+1,"")) | C11: =IF(A11<>"",OFFSET('prix chambre'!$A$2,MATCH(DAY(résa!$A11),Jours,0),IF(résa!$C$4="Single",(MONTH(résa!A11)*4)-3,IF(résa!$C$4="Double",(MONTH(résa!A11)*4)-2,IF(résa!$C$4="Triple",(MONTH(résa!A11)*4)-1,MONTH(résa!A11)*4)))),0) -> 0 | H11: Prix de référence sur nos sites maison | K11: Réduction pour une résa NANR (sur le prix référence site maison) | N11: Idem mais lorsque la résa est effectué 30 jours au moins avant l'arrivée
A12: =IF(A11="","",IF(A11+1<$B$4,A11+1,"")) | C12: =IF(A12<>"",OFFSET('prix chambre'!$A$2,MATCH(DAY(résa!$A12),Jours,0),IF(résa!$C$4="Single",(MONTH(résa!A12)*4)-3,IF(résa!$C$4="Double",(MONTH(résa!A12)*4)-2,IF(résa!$C$4="Triple",(MONTH(résa!A12)*4)-1,MONTH(résa!A12)*4)))),0) -> 0
A13: =IF(A12="","",IF(A12+1<$B$4,A12+1,"")) | C13: =IF(A13<>"",OFFSET('prix chambre'!$A$2,MATCH(DAY(résa!$A13),Jours,0),IF(résa!$C$4="Single",(MONTH(résa!A13)*4)-3,IF(résa!$C$4="Double",(MONTH(résa!A13)*4)-2,IF(résa!$C$4="Triple",(MONTH(résa!A13)*4)-1,MONTH(résa!A13)*4)))),0) -> 0
A14: =IF(A13="","",IF(A13+1<$B$4,A13+1,"")) | C14: =IF(A14<>"",OFFSET('prix chambre'!$A$2,MATCH(DAY(résa!$A14),Jours,0),IF(résa!$C$4="Single",(MONTH(résa!A14)*4)-3,IF(résa!$C$4="Double",(MONTH(résa!A14)*4)-2,IF(résa!$C$4="Triple",(MONTH(résa!A14)*4)-1,MONTH(résa!A14)*4)))),0) -> 0
A15: =IF(A14="","",IF(A14+1<$B$4,A14+1,"")) | C15: =IF(A15<>"",OFFSET('prix chambre'!$A$2,MATCH(DAY(résa!$A15),Jours,0),IF(résa!$C$4="Single",(MONTH(résa!A15)*4)-3,IF(résa!$C$4="Double",(MONTH(résa!A15)*4)-2,IF(résa!$C$4="Triple",(MONTH(résa!A15)*4)-1,MONTH(résa!A15)*4)))),0) -> 0
A16: =IF(A15="","",IF(A15+1<$B$4,A15+1,"")) | C16: =IF(A16<>"",OFFSET('prix chambre'!$A$2,MATCH(DAY(résa!$A16),Jours,0),IF(résa!$C$4="Single",(MONTH(résa!A16)*4)-3,IF(résa!$C$4="Double",(MONTH(résa!A16)*4)-2,IF(résa!$C$4="Triple",(MONTH(résa!A16)*4)-1,MONTH(résa!A16)*4)))),0) -> 0
A17: =IF(A16="","",IF(A16+1<$B$4,A16+1,"")) | C17: =IF(A17<>"",OFFSET('prix chambre'!$A$2,MATCH(DAY(résa!$A17),Jours,0),IF(résa!$C$4="Single",(MONTH(résa!A17)*4)-3,IF(résa!$C$4="Double",(MONTH(résa!A17)*4)-2,IF(résa!$C$4="Triple",(MONTH(résa!A17)*4)-1,MONTH(résa!A17)*4)))),0) -> 0
A18: =IF(A17="","",IF(A17+1<$B$4,A17+1,"")) | C18: =IF(A18<>"",OFFSET('prix chambre'!$A$2,MATCH(DAY(résa!$A18),Jours,0),IF(résa!$C$4="Single",(MONTH(résa!A18)*4)-3,IF(résa!$C$4="Double",(MONTH(résa!A18)*4)-2,IF(résa!$C$4="Triple",(MONTH(résa!A18)*4)-1,MONTH(résa!A18)*4)))),0) -> 0
A19: =IF(A18="","",IF(A18+1<$B$4,A18+1,"")) | C19: =IF(A19<>"",OFFSET('prix chambre'!$A$2,MATCH(DAY(résa!$A19),Jours,0),IF(résa!$C$4="Single",(MONTH(résa!A19)*4)-3,IF(résa!$C$4="Double",(MONTH(résa!A19)*4)-2,IF(résa!$C$4="Triple",(MONTH(résa!A19)*4)-1,MONTH(résa!A19)*4)))),0) -> 0
A20: =IF(A19="","",IF(A19+1<$B$4,A19+1,"")) | C20: =IF(A20<>"",OFFSET('prix chambre'!$A$2,MATCH(DAY(résa!$A20),Jours,0),IF(résa!$C$4="Single",(MONTH(résa!A20)*4)-3,IF(résa!$C$4="Double",(MONTH(résa!A20)*4)-2,IF(résa!$C$4="Triple",(MONTH(résa!A20)*4)-1,MONTH(résa!A20)*4)))),0) -> 0
A21: =IF(A20="","",IF(A20+1<$B$4,A20+1,"")) | C21: =IF(A21<>"",OFFSET('prix chambre'!$A$2,MATCH(DAY(résa!$A21),Jours,0),IF(résa!$C$4="Single",(MONTH(résa!A21)*4)-3,IF(résa!$C$4="Double",(MONTH(résa!A21)*4)-2,IF(résa!$C$4="Triple",(MONTH(résa!A21)*4)-1,MONTH(résa!A21)*4)))),0) -> 0
A22: =IF(A21="","",IF(A21+1<$B$4,A21+1,"")) | C22: =IF(A22<>"",OFFSET('prix chambre'!$A$2,MATCH(DAY(résa!$A22),Jours,0),IF(résa!$C$4="Single",(MONTH(résa!A22)*4)-3,IF(résa!$C$4="Double",(MONTH(résa!A22)*4)-2,IF(résa!$C$4="Triple",(MONTH(résa!A22)*4)-1,MONTH(résa!A22)*4)))),0) -> 0
A23: =IF(A22="","",IF(A22+1<$B$4,A22+1,"")) | C23: =IF(A23<>"",OFFSET('prix chambre'!$A$2,MATCH(DAY(résa!$A23),Jours,0),IF(résa!$C$4="Single",(MONTH(résa!A23)*4)-3,IF(résa!$C$4="Double",(MONTH(résa!A23)*4)-2,IF(résa!$C$4="Triple",(MONTH(résa!A23)*4)-1,MONTH(résa!A23)*4)))),0) -> 0
... A43: =IF(A42="","",IF(A42+1<$B$4,A42+1,"")) | C43: =IF(A43<>"",OFFSET('prix chambre'!$A$2,MATCH(DAY(résa!$A43),Jours,0),IF(résa!$C$4="Single",(MONTH(résa!A43)*4)-3,IF(résa!$C$4="Double",(MONTH(résa!A43)*4)-2,IF(résa!$C$4="Triple",(MONTH(résa!A43)*4)-1,MONTH(résa!A43)*4)))),0) -> 0
A44: =IF(A43="","",IF(A43+1<$B$4,A43+1,"")) | B44: =IF(A44<>"",OFFSET('prix chambre'!$A$2,MATCH(DAY(résa!$A44),Jours,0),IF(résa!$C$4="Single",(MONTH(résa!A44)*2)-1,MONTH(résa!A44)*2)),0) -> 0 | C44: =IF(A44<>"",OFFSET('prix chambre'!$A$2,MATCH(DAY(résa!$A44),Jours,0),IF(résa!$C$4="Single",(MONTH(résa!A44)*4)-3,IF(résa!$C$4="Double",(MONTH(résa!A44)*4)-2,IF(résa!$C$4="Triple",(MONTH(résa!A44)*4)-1,MONTH(résa!A44)*4)))),0) -> 0
A45: =IF(A44="","",IF(A44+1<$B$4,A44+1,"")) | B45: =IF(A45<>"",OFFSET('prix chambre'!$A$2,MATCH(DAY(résa!$A45),Jours,0),IF(résa!$C$4="Single",(MONTH(résa!A45)*2)-1,MONTH(résa!A45)*2)),0) -> 0 | C45: =IF(A45<>"",OFFSET('prix chambre'!$A$2,MATCH(DAY(résa!$A45),Jours,0),IF(résa!$C$4="Single",(MONTH(résa!A45)*4)-3,IF(résa!$C$4="Double",(MONTH(résa!A45)*4)-2,IF(résa!$C$4="Triple",(MONTH(résa!A45)*4)-1,MONTH(résa!A45)*4)))),0) -> 0
A46: =IF(A45="","",IF(A45+1<$B$4,A45+1,"")) | B46: =IF(A46<>"",OFFSET('prix chambre'!$A$2,MATCH(DAY(résa!$A46),Jours,0),IF(résa!$C$4="Single",(MONTH(résa!A46)*2)-1,MONTH(résa!A46)*2)),0) -> 0 | C46: =IF(A46<>"",OFFSET('prix chambre'!$A$2,MATCH(DAY(résa!$A46),Jours,0),IF(résa!$C$4="Single",(MONTH(résa!A46)*4)-3,IF(résa!$C$4="Double",(MONTH(résa!A46)*4)-2,IF(résa!$C$4="Triple",(MONTH(résa!A46)*4)-1,MONTH(résa!A46)*4)))),0) -> 0
A47: =IF(A46="","",IF(A46+1<$B$4,A46+1,"")) | B47: =IF(A47<>"",OFFSET('prix chambre'!$A$2,MATCH(DAY(résa!$A47),Jours,0),IF(résa!$C$4="Single",(MONTH(résa!A47)*2)-1,MONTH(résa!A47)*2)),0) -> 0 | C47: =IF(A47<>"",OFFSET('prix chambre'!$A$2,MATCH(DAY(résa!$A47),Jours,0),IF(résa!$C$4="Single",(MONTH(résa!A47)*4)-3,IF(résa!$C$4="Double",(MONTH(résa!A47)*4)-2,IF(résa!$C$4="Triple",(MONTH(résa!A47)*4)-1,MONTH(résa!A47)*4)))),0) -> 0
A48: =IF(A47="","",IF(A47+1<$B$4,A47+1,"")) | B48: =IF(A48<>"",OFFSET('prix chambre'!$A$2,MATCH(DAY(résa!$A48),Jours,0),IF(résa!$C$4="Single",(MONTH(résa!A48)*2)-1,MONTH(résa!A48)*2)),0) -> 0 | C48: =IF(A48<>"",OFFSET('prix chambre'!$A$2,MATCH(DAY(résa!$A48),Jours,0),IF(résa!$C$4="Single",(MONTH(résa!A48)*4)-3,IF(résa!$C$4="Double",(MONTH(résa!A48)*4)-2,IF(résa!$C$4="Triple",(MONTH(résa!A48)*4)-1,MONTH(résa!A48)*4)))),0) -> 0
A49: =IF(A48="","",IF(A48+1<$B$4,A48+1,"")) | B49: =IF(A49<>"",OFFSET('prix chambre'!$A$2,MATCH(DAY(résa!$A49),Jours,0),IF(résa!$C$4="Single",(MONTH(résa!A49)*2)-1,MONTH(résa!A49)*2)),0) -> 0 | C49: =IF(A49<>"",OFFSET('prix chambre'!$A$2,MATCH(DAY(résa!$A49),Jours,0),IF(résa!$C$4="Single",(MONTH(résa!A49)*4)-3,IF(résa!$C$4="Double",(MONTH(résa!A49)*4)-2,IF(résa!$C$4="Triple",(MONTH(résa!A49)*4)-1,MONTH(résa!A49)*4)))),0) -> 0
A50: =IF(A49="","",IF(A49+1<$B$4,A49+1,"")) | B50: =IF(A50<>"",OFFSET('prix chambre'!$A$2,MATCH(DAY(résa!$A50),Jours,0),IF(résa!$C$4="Single",(MONTH(résa!A50)*2)-1,MONTH(résa!A50)*2)),0) -> 0 | C50: =IF(A50<>"",OFFSET('prix chambre'!$A$2,MATCH(DAY(résa!$A50),Jours,0),IF(résa!$C$4="Single",(MONTH(résa!A50)*4)-3,IF(résa!$C$4="Double",(MONTH(résa!A50)*4)-2,IF(résa!$C$4="Triple",(MONTH(résa!A50)*4)-1,MONTH(résa!A50)*4)))),0) -> 0
A51: =IF(A50="","",IF(A50+1<$B$4,A50+1,"")) | B51: =IF(A51<>"",OFFSET('prix chambre'!$A$2,MATCH(DAY(résa!$A51),Jours,0),IF(résa!$C$4="Single",(MONTH(résa!A51)*2)-1,MONTH(résa!A51)*2)),0) -> 0 | C51: =IF(A51<>"",OFFSET('prix chambre'!$A$2,MATCH(DAY(résa!$A51),Jours,0),IF(résa!$C$4="Single",(MONTH(résa!A51)*4)-3,IF(résa!$C$4="Double",(MONTH(résa!A51)*4)-2,IF(résa!$C$4="Triple",(MONTH(résa!A51)*4)-1,MONTH(résa!A51)*4)))),0) -> 0
A52: =IF(A51="","",IF(A51+1<$B$4,A51+1,"")) | B52: =IF(A52<>"",OFFSET('prix chambre'!$A$2,MATCH(DAY(résa!$A52),Jours,0),IF(résa!$C$4="Single",(MONTH(résa!A52)*2)-1,MONTH(résa!A52)*2)),0) -> 0 | C52: =IF(A52<>"",OFFSET('prix chambre'!$A$2,MATCH(DAY(résa!$A52),Jours,0),IF(résa!$C$4="Single",(MONTH(résa!A52)*4)-3,IF(résa!$C$4="Double",(MONTH(résa!A52)*4)-2,IF(résa!$C$4="Triple",(MONTH(résa!A52)*4)-1,MONTH(résa!A52)*4)))),0) -> 0
A53: =IF(A52="","",IF(A52+1<$B$4,A52+1,"")) | B53: =IF(A53<>"",OFFSET('prix chambre'!$A$2,MATCH(DAY(résa!$A53),Jours,0),IF(résa!$C$4="Single",(MONTH(résa!A53)*2)-1,MONTH(résa!A53)*2)),0) -> 0 | C53: =IF(A53<>"",OFFSET('prix chambre'!$A$2,MATCH(DAY(résa!$A53),Jours,0),IF(résa!$C$4="Single",(MONTH(résa!A53)*4)-3,IF(résa!$C$4="Double",(MONTH(résa!A53)*4)-2,IF(résa!$C$4="Triple",(MONTH(résa!A53)*4)-1,MONTH(résa!A53)*4)))),0) -> 0
A54: =IF(A53="","",IF(A53+1<$B$4,A53+1,"")) | B54: =IF(A54<>"",OFFSET('prix chambre'!$A$2,MATCH(DAY(résa!$A54),Jours,0),IF(résa!$C$4="Single",(MONTH(résa!A54)*2)-1,MONTH(résa!A54)*2)),0) -> 0 | C54: =IF(A54<>"",OFFSET('prix chambre'!$A$2,MATCH(DAY(résa!$A54),Jours,0),IF(résa!$C$4="Single",(MONTH(résa!A54)*4)-3,IF(résa!$C$4="Double",(MONTH(résa!A54)*4)-2,IF(résa!$C$4="Triple",(MONTH(résa!A54)*4)-1,MONTH(résa!A54)*4)))),0) -> 0

Sheet prix chambre
A1: 2015 | B1: JANVIER | F1: FEVRIER | J1: MARS | N1: AVRIL | R1: MAI | V1: JUIN | Z1: JUILLET | AD1: AOUT | AH1: SEPTEMBRE | AL1: OCTOBRE | AP1: NOVEMBRE | AT1: DECEMBRE
A2: Jours | B2: Single | C2: Double | D2: Triple | E2: Quad | F2: Single | G2: Double | H2: Triple | I2: Quad | J2: Single | K2: Double | L2: Triple | M2: Quad | N2: Single | O2: Double | P2: Triple | Q2: Quad | R2: Single | S2: Double | T2: Triple | U2: Quad | V2: Single | W2: Double | X2: Triple | Y2: Quad | Z2: Single | AA2: Double | AB2: Triple | AC2: Quad | AD2: Single | AE2: Double | AF2: Triple | AG2: Quad | AH2: Single | AI2: Double | AJ2: Triple | AK2: Quad | AL2: Single | AM2: Double | AN2: Triple | AO2: Quad | AP2: Single | AQ2: Double | AR2: Triple | AS2: Quad | AT2: Single | AU2: Double | AV2: Triple | AW2: Quad
A3: 1 | C3: 0 | D3: =C3+20 -> 20 | E3: =C3+40 -> 40 | G3: 0 | H3: =G3+20 -> 20 | I3: =G3+40 -> 40 | K3: 50 | L3: =K3+20 -> 70 | M3: =K3+40 -> 90 | O3: 55 | P3: =O3+20 -> 75 | Q3: =O3+40 -> 95 | S3: 70 | T3: =S3+20 -> 90 | U3: =S3+40 -> 110 | W3: 90 | X3: =W3+20 -> 110 | Y3: =W3+40 -> 130 | AA3: 90 | AB3: =AA3+20 -> 110 | AC3: =AA3+40 -> 130 | AE3: 90 | AF3: =AE3+20 -> 110 | AG3: =AE3+40 -> 130 | AI3: 80 | AJ3: =AI3+20 -> 100 | AK3: =AI3+40 -> 120 | AM3: 75 | AN3: =AM3+20 -> 95 | AO3: =AM3+40 -> 115 | AQ3: 0 | AR3: =AQ3+20 -> 20 | AS3: =AQ3+40 -> 40 | AU3: 0 | AV3: =AU3+20 -> 20 | AW3: =AU3+40 -> 40
A4: 2 | C4: 0 | D4: =C4+20 -> 20 | E4: =C4+40 -> 40 | G4: 0 | H4: =G4+20 -> 20 | I4: =G4+40 -> 40 | K4: 50 | L4: =K4+20 -> 70 | M4: =K4+40 -> 90 | O4: 55 | P4: =O4+20 -> 75 | Q4: =O4+40 -> 95 | S4: 70 | T4: =S4+20 -> 90 | U4: =S4+40 -> 110 | W4: 90 | X4: =W4+20 -> 110 | Y4: =W4+40 -> 130 | AA4: 90 | AB4: =AA4+20 -> 110 | AC4: =AA4+40 -> 130 | AE4: 90 | AF4: =AE4+20 -> 110 | AG4: =AE4+40 -> 130 | AI4: 80 | AJ4: =AI4+20 -> 100 | AK4: =AI4+40 -> 120 | AM4: 75 | AN4: =AM4+20 -> 95 | AO4: =AM4+40 -> 115 | AQ4: 0 | AR4: =AQ4+20 -> 20 | AS4: =AQ4+40 -> 40 | AU4: 0 | AV4: =AU4+20 -> 20 | AW4: =AU4+40 -> 40
A5: 3 | C5: 0 | D5: =C5+20 -> 20 | E5: =C5+40 -> 40 | G5: 0 | H5: =G5+20 -> 20 | I5: =G5+40 -> 40 | K5: 50 | L5: =K5+20 -> 70 | M5: =K5+40 -> 90 | O5: 80 | P5: =O5+20 -> 100 | Q5: =O5+40 -> 120 | S5: 70 | T5: =S5+20 -> 90 | U5: =S5+40 -> 110 | W5: 90 | X5: =W5+20 -> 110 | Y5: =W5+40 -> 130 | AA5: 90 | AB5: =AA5+20 -> 110 | AC5: =AA5+40 -> 130 | AE5: 90 | AF5: =AE5+20 -> 110 | AG5: =AE5+40 -> 130 | AI5: 80 | AJ5: =AI5+20 -> 100 | AK5: =AI5+40 -> 120 | AM5: 75 | AN5: =AM5+20 -> 95 | AO5: =AM5+40 -> 115 | AQ5: 0 | AR5: =AQ5+20 -> 20 | AS5: =AQ5+40 -> 40 | AU5: 0 | AV5: =AU5+20 -> 20 | AW5: =AU5+40 -> 40
A6: 4 | C6: 0 | D6: =C6+20 -> 20 | E6: =C6+40 -> 40 | G6: 0 | H6: =G6+20 -> 20 | I6: =G6+40 -> 40 | K6: 50 | L6: =K6+20 -> 70 | M6: =K6+40 -> 90 | O6: 80 | P6: =O6+20 -> 100 | Q6: =O6+40 -> 120 | S6: 70 | T6: =S6+20 -> 90 | U6: =S6+40 -> 110 | W6: 90 | X6: =W6+20 -> 110 | Y6: =W6+40 -> 130 | AA6: 90 | AB6: =AA6+20 -> 110 | AC6: =AA6+40 -> 130 | AE6: 90 | AF6: =AE6+20 -> 110 | AG6: =AE6+40 -> 130 | AI6: 80 | AJ6: =AI6+20 -> 100 | AK6: =AI6+40 -> 120 | AM6: 75 | AN6: =AM6+20 -> 95 | AO6: =AM6+40 -> 115 | AQ6: 0 | AR6: =AQ6+20 -> 20 | AS6: =AQ6+40 -> 40 | AU6: 0 | AV6: =AU6+20 -> 20 | AW6: =AU6+40 -> 40
A7: 5 | C7: 0 | D7: =C7+20 -> 20 | E7: =C7+40 -> 40 | G7: 0 | H7: =G7+20 -> 20 | I7: =G7+40 -> 40 | K7: 50 | L7: =K7+20 -> 70 | M7: =K7+40 -> 90 | O7: 80 | P7: =O7+20 -> 100 | Q7: =O7+40 -> 120 | S7: 70 | T7: =S7+20 -> 90 | U7: =S7+40 -> 110 | W7: 90 | X7: =W7+20 -> 110 | Y7: =W7+40 -> 130 | AA7: 90 | AB7: =AA7+20 -> 110 | AC7: =AA7+40 -> 130 | AE7: 90 | AF7: =AE7+20 -> 110 | AG7: =AE7+40 -> 130 | AI7: 80 | AJ7: =AI7+20 -> 100 | AK7: =AI7+40 -> 120 | AM7: 75 | AN7: =AM7+20 -> 95 | AO7: =AM7+40 -> 115 | AQ7: 0 | AR7: =AQ7+20 -> 20 | AS7: =AQ7+40 -> 40 | AU7: 0 | AV7: =AU7+20 -> 20 | AW7: =AU7+40 -> 40
A8: 6 | C8: 0 | D8: =C8+20 -> 20 | E8: =C8+40 -> 40 | G8: 0 | H8: =G8+20 -> 20 | I8: =G8+40 -> 40 | K8: 50 | L8: =K8+20 -> 70 | M8: =K8+40 -> 90 | O8: 80 | P8: =O8+20 -> 100 | Q8: =O8+40 -> 120 | S8: 70 | T8: =S8+20 -> 90 | U8: =S8+40 -> 110 | W8: 90 | X8: =W8+20 -> 110 | Y8: =W8+40 -> 130 | AA8: 90 | AB8: =AA8+20 -> 110 | AC8: =AA8+40 -> 130 | AE8: 90 | AF8: =AE8+20 -> 110 | AG8: =AE8+40 -> 130 | AI8: 80 | AJ8: =AI8+20 -> 100 | AK8: =AI8+40 -> 120 | AM8: 75 | AN8: =AM8+20 -> 95 | AO8: =AM8+40 -> 115 | AQ8: 0 | AR8: =AQ8+20 -> 20 | AS8: =AQ8+40 -> 40 | AU8: 0 | AV8: =AU8+20 -> 20 | AW8: =AU8+40 -> 40
A9: 7 | C9: 0 | D9: =C9+20 -> 20 | E9: =C9+40 -> 40 | G9: 0 | H9: =G9+20 -> 20 | I9: =G9+40 -> 40 | K9: 50 | L9: =K9+20 -> 70 | M9: =K9+40 -> 90 | O9: 55 | P9: =O9+20 -> 75 | Q9: =O9+40 -> 95 | S9: 70 | T9: =S9+20 -> 90 | U9: =S9+40 -> 110 | W9: 75 | X9: =W9+20 -> 95 | Y9: =W9+40 -> 115 | AA9: 90 | AB9: =AA9+20 -> 110 | AC9: =AA9+40 -> 130 | AE9: 90 | AF9: =AE9+20 -> 110 | AG9: =AE9+40 -> 130 | AI9: 80 | AJ9: =AI9+20 -> 100 | AK9: =AI9+40 -> 120 | AM9: 75 | AN9: =AM9+20 -> 95 | AO9: =AM9+40 -> 115 | AQ9: 0 | AR9: =AQ9+20 -> 20 | AS9: =AQ9+40 -> 40 | AU9: 0 | AV9: =AU9+20 -> 20 | AW9: =AU9+40 -> 40
A10: 8 | C10: 0 | D10: =C10+20 -> 20 | E10: =C10+40 -> 40 | G10: 0 | H10: =G10+20 -> 20 | I10: =G10+40 -> 40 | K10: 50 | L10: =K10+20 -> 70 | M10: =K10+40 -> 90 | O10: 55 | P10: =O10+20 -> 75 | Q10: =O10+40 -> 95 | S10: 70 | T10: =S10+20 -> 90 | U10: =S10+40 -> 110 | W10: 75 | X10: =W10+20 -> 95 | Y10: =W10+40 -> 115 | AA10: 90 | AB10: =AA10+20 -> 110 | AC10: =AA10+40 -> 130 | AE10: 90 | AF10: =AE10+20 -> 110 | AG10: =AE10+40 -> 130 | AI10: 80 | AJ10: =AI10+20 -> 100 | AK10: =AI10+40 -> 120 | AM10: 75 | AN10: =AM10+20 -> 95 | AO10: =AM10+40 -> 115 | AQ10: 0 | AR10: =AQ10+20 -> 20 | AS10: =AQ10+40 -> 40 | AU10: 0 | AV10: =AU10+20 -> 20 | AW10: =AU10+40 -> 40
A11: 9 | C11: 0 | D11: =C11+20 -> 20 | E11: =C11+40 -> 40 | G11: 0 | H11: =G11+20 -> 20 | I11: =G11+40 -> 40 | K11: 50 | L11: =K11+20 -> 70 | M11: =K11+40 -> 90 | O11: 55 | P11: =O11+20 -> 75 | Q11: =O11+40 -> 95 | S11: 70 | T11: =S11+20 -> 90 | U11: =S11+40 -> 110 | W11: 75 | X11: =W11+20 -> 95 | Y11: =W11+40 -> 115 | AA11: 90 | AB11: =AA11+20 -> 110 | AC11: =AA11+40 -> 130 | AE11: 90 | AF11: =AE11+20 -> 110 | AG11: =AE11+40 -> 130 | AI11: 80 | AJ11: =AI11+20 -> 100 | AK11: =AI11+40 -> 120 | AM11: 75 | AN11: =AM11+20 -> 95 | AO11: =AM11+40 -> 115 | AQ11: 0 | AR11: =AQ11+20 -> 20 | AS11: =AQ11+40 -> 40 | AU11: 0 | AV11: =AU11+20 -> 20 | AW11: =AU11+40 -> 40
A12: 10 | C12: 0 | D12: =C12+20 -> 20 | E12: =C12+40 -> 40 | G12: 0 | H12: =G12+20 -> 20 | I12: =G12+40 -> 40 | K12: 50 | L12: =K12+20 -> 70 | M12: =K12+40 -> 90 | O12: 55 | P12: =O12+20 -> 75 | Q12: =O12+40 -> 95 | S12: 70 | T12: =S12+20 -> 90 | U12: =S12+40 -> 110 | W12: 75 | X12: =W12+20 -> 95 | Y12: =W12+40 -> 115 | AA12: 90 | AB12: =AA12+20 -> 110 | AC12: =AA12+40 -> 130 | AE12: 90 | AF12: =AE12+20 -> 110 | AG12: =AE12+40 -> 130 | AI12: 80 | AJ12: =AI12+20 -> 100 | AK12: =AI12+40 -> 120 | AM12: 75 | AN12: =AM12+20 -> 95 | AO12: =AM12+40 -> 115 | AQ12: 0 | AR12: =AQ12+20 -> 20 | AS12: =AQ12+40 -> 40 | AU12: 0 | AV12: =AU12+20 -> 20 | AW12: =AU12+40 -> 40
A13: 11 | C13: 0 | D13: =C13+20 -> 20 | E13: =C13+40 -> 40 | G13: 0 | H13: =G13+20 -> 20 | I13: =G13+40 -> 40 | K13: 50 | L13: =K13+20 -> 70 | M13: =K13+40 -> 90 | O13: 60 | P13: =O13+20 -> 80 | Q13: =O13+40 -> 100 | S13: 70 | T13: =S13+20 -> 90 | U13: =S13+40 -> 110 | W13: 75 | X13: =W13+20 -> 95 | Y13: =W13+40 -> 115 | AA13: 90 | AB13: =AA13+20 -> 110 | AC13: =AA13+40 -> 130 | AE13: 90 | AF13: =AE13+20 -> 110 | AG13: =AE13+40 -> 130 | AI13: 80 | AJ13: =AI13+20 -> 100 | AK13: =AI13+40 -> 120 | AM13: 75 | AN13: =AM13+20 -> 95 | AO13: =AM13+40 -> 115 | AQ13: 0 | AR13: =AQ13+20 -> 20 | AS13: =AQ13+40 -> 40 | AU13: 0 | AV13: =AU13+20 -> 20 | AW13: =AU13+40 -> 40
A14: 12 | C14: 0 | D14: =C14+20 -> 20 | E14: =C14+40 -> 40 | G14: 0 | H14: =G14+20 -> 20 | I14: =G14+40 -> 40 | J14: 15 | K14: 50 | L14: =K14+20 -> 70 | M14: =K14+40 -> 90 | O14: 55 | P14: =O14+20 -> 75 | Q14: =O14+40 -> 95 | S14: 70 | T14: =S14+20 -> 90 | U14: =S14+40 -> 110 | W14: 75 | X14: =W14+20 -> 95 | Y14: =W14+40 -> 115 | AA14: 90 | AB14: =AA14+20 -> 110 | AC14: =AA14+40 -> 130 | AE14: 90 | AF14: =AE14+20 -> 110 | AG14: =AE14+40 -> 130 | AI14: 80 | AJ14: =AI14+20 -> 100 | AK14: =AI14+40 -> 120 | AM14: 75 | AN14: =AM14+20 -> 95 | AO14: =AM14+40 -> 115 | AQ14: 0 | AR14: =AQ14+20 -> 20 | AS14: =AQ14+40 -> 40 | AU14: 0 | AV14: =AU14+20 -> 20 | AW14: =AU14+40 -> 40
A15: 13 | C15: 0 | D15: =C15+20 -> 20 | E15: =C15+40 -> 40 | G15: 0 | H15: =G15+20 -> 20 | I15: =G15+40 -> 40 | J15: 25 | K15: 50 | L15: =K15+20 -> 70 | M15: =K15+40 -> 90 | O15: 55 | P15: =O15+20 -> 75 | Q15: =O15+40 -> 95 | S15: 70 | T15: =S15+20 -> 90 | U15: =S15+40 -> 110 | W15: 75 | X15: =W15+20 -> 95 | Y15: =W15+40 -> 115 | AA15: 90 | AB15: =AA15+20 -> 110 | AC15: =AA15+40 -> 130 | AE15: 90 | AF15: =AE15+20 -> 110 | AG15: =AE15+40 -> 130 | AI15: 80 | AJ15: =AI15+20 -> 100 | AK15: =AI15+40 -> 120 | AM15: 75 | AN15: =AM15+20 -> 95 | AO15: =AM15+40 -> 115 | AQ15: 0 | AR15: =AQ15+20 -> 20 | AS15: =AQ15+40 -> 40 | AU15: 0 | AV15: =AU15+20 -> 20 | AW15: =AU15+40 -> 40
A16: 14 | C16: 0 | D16: =C16+20 -> 20 | E16: =C16+40 -> 40 | G16: 0 | H16: =G16+20 -> 20 | I16: =G16+40 -> 40 | J16: 35 | K16: 50 | L16: =K16+20 -> 70 | M16: =K16+40 -> 90 | O16: 55 | P16: =O16+20 -> 75 | Q16: =O16+40 -> 95 | S16: 80 | T16: =S16+20 -> 100 | U16: =S16+40 -> 120 | W16: 75 | X16: =W16+20 -> 95 | Y16: =W16+40 -> 115 | AA16: 90 | AB16: =AA16+20 -> 110 | AC16: =AA16+40 -> 130 | AE16: 90 | AF16: =AE16+20 -> 110 | AG16: =AE16+40 -> 130 | AI16: 80 | AJ16: =AI16+20 -> 100 | AK16: =AI16+40 -> 120 | AM16: 75 | AN16: =AM16+20 -> 95 | AO16: =AM16+40 -> 115 | AQ16: 0 | AR16: =AQ16+20 -> 20 | AS16: =AQ16+40 -> 40 | AU16: 0 | AV16: =AU16+20 -> 20 | AW16: =AU16+40 -> 40
A17: 15 | C17: 0 | D17: =C17+20 -> 20 | E17: =C17+40 -> 40 | G17: 0 | H17: =G17+20 -> 20 | I17: =G17+40 -> 40 | K17: 50 | L17: =K17+20 -> 70 | M17: =K17+40 -> 90 | O17: 55 | P17: =O17+20 -> 75 | Q17: =O17+40 -> 95 | S17: 80 | T17: =S17+20 -> 100 | U17: =S17+40 -> 120 | W17: 75 | X17: =W17+20 -> 95 | Y17: =W17+40 -> 115 | AA17: 90 | AB17: =AA17+20 -> 110 | AC17: =AA17+40 -> 130 | AE17: 90 | AF17: =AE17+20 -> 110 | AG17: =AE17+40 -> 130 | AI17: 80 | AJ17: =AI17+20 -> 100 | AK17: =AI17+40 -> 120 | AM17: 65 | AN17: =AM17+20 -> 85 | AO17: =AM17+40 -> 105 | AQ17: 0 | AR17: =AQ17+20 -> 20 | AS17: =AQ17+40 -> 40 | AU17: 0 | AV17: =AU17+20 -> 20 | AW17: =AU17+40 -> 40
A18: 16 | C18: 0 | D18: =C18+20 -> 20 | E18: =C18+40 -> 40 | G18: 0 | H18: =G18+20 -> 20 | I18: =G18+40 -> 40 | K18: 50 | L18: =K18+20 -> 70 | M18: =K18+40 -> 90 | O18: 55 | P18: =O18+20 -> 75 | Q18: =O18+40 -> 95 | S18: 80 | T18: =S18+20 -> 100 | U18: =S18+40 -> 120 | W18: 75 | X18: =W18+20 -> 95 | Y18: =W18+40 -> 115 | AA18: 90 | AB18: =AA18+20 -> 110 | AC18: =AA18+40 -> 130 | AE18: 90 | AF18: =AE18+20 -> 110 | AG18: =AE18+40 -> 130 | AI18: 80 | AJ18: =AI18+20 -> 100 | AK18: =AI18+40 -> 120 | AM18: 65 | AN18: =AM18+20 -> 85 | AO18: =AM18+40 -> 105 | AQ18: 0 | AR18: =AQ18+20 -> 20 | AS18: =AQ18+40 -> 40 | AU18: 0 | AV18: =AU18+20 -> 20 | AW18: =AU18+40 -> 40
A19: 17 | C19: 0 | D19: =C19+20 -> 20 | E19: =C19+40 -> 40 | G19: 0 | H19: =G19+20 -> 20 | I19: =G19+40 -> 40 | K19: 50 | L19: =K19+20 -> 70 | M19: =K19+40 -> 90 | O19: 55 | P19: =O19+20 -> 75 | Q19: =O19+40 -> 95 | S19: 70 | T19: =S19+20 -> 90 | U19: =S19+40 -> 110 | W19: 75 | X19: =W19+20 -> 95 | Y19: =W19+40 -> 115 | AA19: 90 | AB19: =AA19+20 -> 110 | AC19: =AA19+40 -> 130 | AE19: 90 | AF19: =AE19+20 -> 110 | AG19: =AE19+40 -> 130 | AI19: 80 | AJ19: =AI19+20 -> 100 | AK19: =AI19+40 -> 120 | AM19: 65 | AN19: =AM19+20 -> 85 | AO19: =AM19+40 -> 105 | AQ19: 0 | AR19: =AQ19+20 -> 20 | AS19: =AQ19+40 -> 40 | AU19: 0 | AV19: =AU19+20 -> 20 | AW19: =AU19+40 -> 40
A20: 18 | C20: 0 | D20: =C20+20 -> 20 | E20: =C20+40 -> 40 | G20: 0 | H20: =G20+20 -> 20 | I20: =G20+40 -> 40 | K20: 50 | L20: =K20+20 -> 70 | M20: =K20+40 -> 90 | O20: 55 | P20: =O20+20 -> 75 | Q20: =O20+40 -> 95 | S20: 70 | T20: =S20+20 -> 90 | U20: =S20+40 -> 110 | W20: 75 | X20: =W20+20 -> 95 | Y20: =W20+40 -> 115 | AA20: 90 | AB20: =AA20+20 -> 110 | AC20: =AA20+40 -> 130 | AE20: 90 | AF20: =AE20+20 -> 110 | AG20: =AE20+40 -> 130 | AI20: 80 | AJ20: =AI20+20 -> 100 | AK20: =AI20+40 -> 120 | AM20: 65 | AN20: =AM20+20 -> 85 | AO20: =AM20+40 -> 105 | AQ20: 0 | AR20: =AQ20+20 -> 20 | AS20: =AQ20+40 -> 40 | AU20: 0 | AV20: =AU20+20 -> 20 | AW20: =AU20+40 -> 40
A21: 19 | C21: 0 | D21: =C21+20 -> 20 | E21: =C21+40 -> 40 | G21: 0 | H21: =G21+20 -> 20 | I21: =G21+40 -> 40 | K21: 50 | L21: =K21+20 -> 70 | M21: =K21+40 -> 90 | O21: 55 | P21: =O21+20 -> 75 | Q21: =O21+40 -> 95 | S21: 70 | T21: =S21+20 -> 90 | U21: =S21+40 -> 110 | W21: 75 | X21: =W21+20 -> 95 | Y21: =W21+40 -> 115 | AA21: 90 | AB21: =AA21+20 -> 110 | AC21: =AA21+40 -> 130 | AE21: 90 | AF21: =AE21+20 -> 110 | AG21: =AE21+40 -> 130 | AI21: 80 | AJ21: =AI21+20 -> 100 | AK21: =AI21+40 -> 120 | AM21: 65 | AN21: =AM21+20 -> 85 | AO21: =AM21+40 -> 105 | AQ21: 0 | AR21: =AQ21+20 -> 20 | AS21: =AQ21+40 -> 40 | AU21: 0 | AV21: =AU21+20 -> 20 | AW21: =AU21+40 -> 40
A22: 20 | C22: 0 | D22: =C22+20 -> 20 | E22: =C22+40 -> 40 | G22: 0 | H22: =G22+20 -> 20 | I22: =G22+40 -> 40 | K22: 50 | L22: =K22+20 -> 70 | M22: =K22+40 -> 90 | O22: 55 | P22: =O22+20 -> 75 | Q22: =O22+40 -> 95 | S22: 70 | T22: =S22+20 -> 90 | U22: =S22+40 -> 110 | W22: 75 | X22: =W22+20 -> 95 | Y22: =W22+40 -> 115 | AA22: 90 | AB22: =AA22+20 -> 110 | AC22: =AA22+40 -> 130 | AE22: 90 | AF22: =AE22+20 -> 110 | AG22: =AE22+40 -> 130 | AI22: 80 | AJ22: =AI22+20 -> 100 | AK22: =AI22+40 -> 120 | AM22: 65 | AN22: =AM22+20 -> 85 | AO22: =AM22+40 -> 105 | AQ22: 0 | AR22: =AQ22+20 -> 20 | AS22: =AQ22+40 -> 40 | AU22: 0 | AV22: =AU22+20 -> 20 | AW22: =AU22+40 -> 40
A23: 21 | C23: 0 | D23: =C23+20 -> 20 | E23: =C23+40 -> 40 | G23: 0 | H23: =G23+20 -> 20 | I23: =G23+40 -> 40 | K23: 50 | L23: =K23+20 -> 70 | M23: =K23+40 -> 90 | O23: 55 | P23: =O23+20 -> 75 | Q23: =O23+40 -> 95 | S23: 90 | T23: =S23+20 -> 110 | U23: =S23+40 -> 130 | W23: 75 | X23: =W23+20 -> 95 | Y23: =W23+40 -> 115 | AA23: 90 | AB23: =AA23+20 -> 110 | AC23: =AA23+40 -> 130 | AE23: 90 | AF23: =AE23+20 -> 110 | AG23: =AE23+40 -> 130 | AI23: 80 | AJ23: =AI23+20 -> 100 | AK23: =AI23+40 -> 120 | AM23: 65 | AN23: =AM23+20 -> 85 | AO23: =AM23+40 -> 105 | AQ23: 0 | AR23: =AQ23+20 -> 20 | AS23: =AQ23+40 -> 40 | AU23: 0 | AV23: =AU23+20 -> 20 | AW23: =AU23+40 -> 40
A24: 22 | C24: 0 | D24: =C24+20 -> 20 | E24: =C24+40 -> 40 | G24: 0 | H24: =G24+20 -> 20 | I24: =G24+40 -> 40 | K24: 50 | L24: =K24+20 -> 70 | M24: =K24+40 -> 90 | O24: 55 | P24: =O24+20 -> 75 | Q24: =O24+40 -> 95 | S24: 150 | T24: =S24+20 -> 170 | U24: =S24+40 -> 190 | W24: 75 | X24: =W24+20 -> 95 | Y24: =W24+40 -> 115 | AA24: 90 | AB24: =AA24+20 -> 110 | AC24: =AA24+40 -> 130 | AE24: 90 | AF24: =AE24+20 -> 110 | AG24: =AE24+40 -> 130 | AI24: 80 | AJ24: =AI24+20 -> 100 | AK24: =AI24+40 -> 120 | AM24: 65 | AN24: =AM24+20 -> 85 | AO24: =AM24+40 -> 105 | AQ24: 0 | AR24: =AQ24+20 -> 20 | AS24: =AQ24+40 -> 40 | AU24: 0 | AV24: =AU24+20 -> 20 | AW24: =AU24+40 -> 40
A25: 23 | C25: 0 | D25: =C25+20 -> 20 | E25: =C25+40 -> 40 | G25: 0 | H25: =G25+20 -> 20 | I25: =G25+40 -> 40 | K25: 50 | L25: =K25+20 -> 70 | M25: =K25+40 -> 90 | O25: 55 | P25: =O25+20 -> 75 | Q25: =O25+40 -> 95 | S25: 150 | T25: =S25+20 -> 170 | U25: =S25+40 -> 190 | W25: 75 | X25: =W25+20 -> 95 | Y25: =W25+40 -> 115 | AA25: 90 | AB25: =AA25+20 -> 110 | AC25: =AA25+40 -> 130 | AE25: 90 | AF25: =AE25+20 -> 110 | AG25: =AE25+40 -> 130 | AI25: 80 | AJ25: =AI25+20 -> 100 | AK25: =AI25+40 -> 120 | AM25: 65 | AN25: =AM25+20 -> 85 | AO25: =AM25+40 -> 105 | AQ25: 0 | AR25: =AQ25+20 -> 20 | AS25: =AQ25+40 -> 40 | AU25: 0 | AV25: =AU25+20 -> 20 | AW25: =AU25+40 -> 40
A26: 24 | C26: 0 | D26: =C26+20 -> 20 | E26: =C26+40 -> 40 | G26: 0 | H26: =G26+20 -> 20 | I26: =G26+40 -> 40 | K26: 50 | L26: =K26+20 -> 70 | M26: =K26+40 -> 90 | O26: 55 | P26: =O26+20 -> 75 | Q26: =O26+40 -> 95 | S26: 150 | T26: =S26+20 -> 170 | U26: =S26+40 -> 190 | W26: 75 | X26: =W26+20 -> 95 | Y26: =W26+40 -> 115 | AA26: 90 | AB26: =AA26+20 -> 110 | AC26: =AA26+40 -> 130 | AE26: 90 | AF26: =AE26+20 -> 110 | AG26: =AE26+40 -> 130 | AI26: 80 | AJ26: =AI26+20 -> 100 | AK26: =AI26+40 -> 120 | AM26: 65 | AN26: =AM26+20 -> 85 | AO26: =AM26+40 -> 105 | AQ26: 0 | AR26: =AQ26+20 -> 20 | AS26: =AQ26+40 -> 40 | AU26: 0 | AV26: =AU26+20 -> 20 | AW26: =AU26+40 -> 40
A27: 25 | C27: 0 | D27: =C27+20 -> 20 | E27: =C27+40 -> 40 | G27: 0 | H27: =G27+20 -> 20 | I27: =G27+40 -> 40 | K27: 50 | L27: =K27+20 -> 70 | M27: =K27+40 -> 90 | O27: 55 | P27: =O27+20 -> 75 | Q27: =O27+40 -> 95 | S27: 80 | T27: =S27+20 -> 100 | U27: =S27+40 -> 120 | W27: 75 | X27: =W27+20 -> 95 | Y27: =W27+40 -> 115 | AA27: 90 | AB27: =AA27+20 -> 110 | AC27: =AA27+40 -> 130 | AE27: 90 | AF27: =AE27+20 -> 110 | AG27: =AE27+40 -> 130 | AI27: 80 | AJ27: =AI27+20 -> 100 | AK27: =AI27+40 -> 120 | AM27: 65 | AN27: =AM27+20 -> 85 | AO27: =AM27+40 -> 105 | AQ27: 0 | AR27: =AQ27+20 -> 20 | AS27: =AQ27+40 -> 40 | AU27: 0 | AV27: =AU27+20 -> 20 | AW27: =AU27+40 -> 40
A28: 26 | C28: 0 | D28: =C28+20 -> 20 | E28: =C28+40 -> 40 | G28: 0 | H28: =G28+20 -> 20 | I28: =G28+40 -> 40 | K28: 50 | L28: =K28+20 -> 70 | M28: =K28+40 -> 90 | O28: 55 | P28: =O28+20 -> 75 | Q28: =O28+40 -> 95 | S28: 80 | T28: =S28+20 -> 100 | U28: =S28+40 -> 120 | W28: 75 | X28: =W28+20 -> 95 | Y28: =W28+40 -> 115 | AA28: 90 | AB28: =AA28+20 -> 110 | AC28: =AA28+40 -> 130 | AE28: 90 | AF28: =AE28+20 -> 110 | AG28: =AE28+40 -> 130 | AI28: 80 | AJ28: =AI28+20 -> 100 | AK28: =AI28+40 -> 120 | AM28: 65 | AN28: =AM28+20 -> 85 | AO28: =AM28+40 -> 105 | AQ28: 0 | AR28: =AQ28+20 -> 20 | AS28: =AQ28+40 -> 40 | AU28: 0 | AV28: =AU28+20 -> 20 | AW28: =AU28+40 -> 40
... A31: 29 | C31: 0 | D31: =C31+20 -> 20 | E31: =C31+40 -> 40 | G31: 0 | H31: =G31+20 -> 20 | I31: =G31+40 -> 40 | K31: 50 | L31: =K31+20 -> 70 | M31: =K31+40 -> 90 | O31: 55 | P31: =O31+20 -> 75 | Q31: =O31+40 -> 95 | S31: 70 | T31: =S31+20 -> 90 | U31: =S31+40 -> 110 | W31: 90 | X31: =W31+20 -> 110 | Y31: =W31+40 -> 130 | AA31: 90 | AB31: =AA31+20 -> 110 | AC31: =AA31+40 -> 130 | AE31: 90 | AF31: =AE31+20 -> 110 | AG31: =AE31+40 -> 130 | AI31: 80 | AJ31: =AI31+20 -> 100 | AK31: =AI31+40 -> 120 | AM31: 65 | AN31: =AM31+20 -> 85 | AO31: =AM31+40 -> 105 | AQ31: 0 | AR31: =AQ31+20 -> 20 | AS31: =AQ31+40 -> 40 | AU31: 0 | AV31: =AU31+20 -> 20 | AW31: =AU31+40 -> 40
A32: 30 | C32: 0 | D32: =C32+20 -> 20 | E32: =C32+40 -> 40 | K32: 50 | L32: =K32+20 -> 70 | M32: =K32+40 -> 90 | O32: 55 | P32: =O32+20 -> 75 | Q32: =O32+40 -> 95 | S32: 70 | T32: =S32+20 -> 90 | U32: =S32+40 -> 110 | W32: 90 | X32: =W32+20 -> 110 | Y32: =W32+40 -> 130 | AA32: 90 | AB32: =AA32+20 -> 110 | AC32: =AA32+40 -> 130 | AE32: 90 | AF32: =AE32+20 -> 110 | AG32: =AE32+40 -> 130 | AI32: 80 | AJ32: =AI32+20 -> 100 | AK32: =AI32+40 -> 120 | AM32: 65 | AN32: =AM32+20 -> 85 | AO32: =AM32+40 -> 105 | AQ32: 0 | AR32: =AQ32+20 -> 20 | AS32: =AQ32+40 -> 40 | AU32: 0 | AV32: =AU32+20 -> 20 | AW32: =AU32+40 -> 40
A33: 31 | C33: 0 | D33: =C33+20 -> 20 | E33: =C33+40 -> 40 | K33: 50 | L33: =K33+20 -> 70 | M33: =K33+40 -> 90 | S33: 70 | T33: =S33+20 -> 90 | U33: =S33+40 -> 110 | AA33: 90 | AB33: =AA33+20 -> 110 | AC33: =AA33+40 -> 130 | AE33: 90 | AF33: =AE33+20 -> 110 | AG33: =AE33+40 -> 130 | AM33: 65 | AN33: =AM33+20 -> 85 | AO33: =AM33+40 -> 105 | AU33: 0 | AV33: =AU33+20 -> 20 | AW33: =AU33+40 -> 40
