Workbook
Name Produits: [1]Produits!$A$4:$B$36

Sheet Feuil1
A3: Choix Des Produits | B3: Reference
A4: Pain | B4: 19795
A5: Pain Bio | B5: 29798
A6: Baguette | B6: 17795
A7: Baguette Bio | B7: 27798
A8: 1/2 Baguette | B8: 13795
A9: 1/2 Baguette Bio | B9: 23798
A10: 1/2 Baguette Sans Sel
A11: 1/2 Baguette Bio Sans Sel
A12: Baguette Sans Sel
A13: Petit Pain 50Gr | B13: 10795
A14: Petit Pain 50Gr S.Sel | B14: 10705
A15: Pain Campagne | B15: 37697
A16: Pain Complet
A17: Pain Céréales | B17: 37694
A18: Boule de Campagne
A19: Croissant | B19: 55121
A20: Pain Au Chocolat | B20: 54213
A21: Chausson | B21: 53615
A22: Pain Aux Raisins | B22: 53525
A23: Allumette Framboise | B23: 55623
A24: Patte D'Ours | B24: 43415
A25: Torsade Au Chocolat | B25: 53323
A26: Briochette | B26: 65122
A27: Pain Au Lait | B27: 65124
A28: 1/2 Baguette Viennoise | B28: 43124
A29: Mini Viennoiserie
A30: Gros Pain Campagne | B30: 37192
A31: 3 Tranche Campagne
A32: Petit Pain Précuit | B32: 16095
A33: 1/2 Baguette Précuite
A36: Pain Rond

Sheet Feuil2
B6: B O N D E LIVRAISON
B8: Référence | C8: Désignation | D8: Quantité commandée | E8: Quantité livrée
B9: =VLOOKUP(C9,Feuil1!A4:B36,2,FALSE) -> 17795 | C9: =Feuil3!B3 -> Baguette | D9: =HLOOKUP(C9,Feuil3!B3:K4,2,FALSE) -> 17 | E9: =D9 -> 17
B10: =VLOOKUP(C10,Feuil1!A4:B36,2,FALSE) -> 13795 | C10: =Feuil3!C3 -> 1/2 Baguette | D10: =HLOOKUP(C10,Feuil3!B3:K4,2,FALSE) -> 6 | E10: =D10 -> 6
B11: =VLOOKUP(C11,Feuil1!A4:B36,2,FALSE) -> 53525 | C11: =Feuil3!D3 -> Pain Aux Raisins | D11: =HLOOKUP(C11,Feuil3!B3:K4,2,FALSE) -> 0 | E11: =D11 -> 0
B12: =VLOOKUP(C12,Feuil1!A4:B36,2,FALSE) -> 55121 | C12: =Feuil3!E3 -> Croissant | D12: =HLOOKUP(C12,Feuil3!B3:K4,2,FALSE) -> 3 | E12: =D12 -> 3
B13: =VLOOKUP(C13,Feuil1!A4:B36,2,FALSE) -> 37192 | C13: =Feuil3!F3 -> Gros Pain Campagne | D13: =HLOOKUP(C13,Feuil3!B3:K4,2,FALSE) -> 17 | E13: =D13 -> 17
B14: =VLOOKUP(C14,Feuil1!A4:B36,2,FALSE) -> 10795 | C14: =Feuil3!G3 -> Petit Pain 50Gr | D14: =HLOOKUP(C14,Feuil3!B3:K4,2,FALSE) -> 14 | E14: =D14 -> 14
B15: =VLOOKUP(C15,Feuil1!A4:B36,2,FALSE) -> 10705 | C15: =Feuil3!H3 -> Petit Pain 50Gr S.Sel | D15: =HLOOKUP(C15,Feuil3!B3:K4,2,FALSE) -> 19 | E15: =D15 -> 19
B16: =VLOOKUP(C16,Feuil1!A4:B36,2,FALSE) -> 16095 | C16: =Feuil3!I3 -> Petit Pain Précuit | D16: =HLOOKUP(C16,Feuil3!B3:K4,2,FALSE) -> 0 | E16: =D16 -> 0
B17: =VLOOKUP(C17,Feuil1!A4:B36,2,FALSE) -> #N/A | C17: =Feuil3!J3 -> 0 | D17: =HLOOKUP(C17,Feuil3!B3:K4,2,FALSE) -> #N/A | E17: =D17 -> #N/A
B18: =VLOOKUP(C18,Feuil1!A4:B36,2,FALSE) -> #N/A | C18: =Feuil3!K3 -> 0 | D18: =HLOOKUP(C18,Feuil3!B3:K4,2,FALSE) -> #N/A | E18: =D18 -> #N/A

Sheet Feuil3
A2: Semaine Du | B2: 41610
A3: =TEXT(B2,"jj/mm/aaaa") & " Au " & TEXT(B2+6,"jj/mm/aaaa") -> 02/12/2013 Au 08/12/2013 | B3: Baguette | C3: 1/2 Baguette | D3: Pain Aux Raisins | E3: Croissant | F3: Gros Pain Campagne | G3: Petit Pain 50Gr | H3: Petit Pain 50Gr S.Sel | I3: Petit Pain Précuit
A4: CUISINE CENTRALE | B4: 17 | C4: 6 | E4: 3 | F4: 17 | G4: 14 | H4: 19 | L4: Pain
L5: Pain Bio
L6: Baguette
L7: Baguette Bio
L8: 1/2 Baguette
L9: 1/2 Baguette Bio
L10: 1/2 Baguette Sans Sel
L11: 1/2 Baguette Bio Sans Sel
L12: Baguette Sans Sel
L13: Petit Pain 50Gr
L14: Petit Pain 50Gr S.Sel
L15: Pain Campagne
L16: Pain Complet
... L33: 1/2 Baguette Précuite
A36: TOTAL | B36: =SUM(B4:B35) -> 17 | C36: =SUM(C4:C35) -> 6 | D36: =SUM(D4:D35) -> 0 | E36: =SUM(E4:E35) -> 3 | F36: =SUM(F4:F35) -> 17 | G36: =SUM(G4:G35) -> 14 | H36: =SUM(H4:H35) -> 19 | I36: =SUM(I4:I35) -> 0 | ... K36: =SUM(K4:K35) -> 0 | L36: Pain Rond
