Workbook
Name Produits: [1]Produits!$A$4:$B$41

Sheet COLLEGE 1
A1: COLLEGE 1 | J1: =A1 -> COLLEGE 1 | U1: =L1 -> 0 | AF1: =W1 -> 0 | AQ1: =AH1 -> 0 | BB1: =AS1 -> 0 | BM1: =BD1 -> 0 | BX1: =BO1 -> 0
A2: ="Commande de la Semaine Du " & TEXT(K2,"jj/mm/aaaa") & " Au " & TEXT(BY2,"jj/mm/aaaa") -> Commande de la Semaine Du 26/01/2015 Au 01/02/2015 | J2: LYCEES | K2: 42030 | U2: =J2 -> LYCEES | V2: =K2+1 -> 42031 | AF2: =U2 -> LYCEES | AG2: =V2+1 -> 42032 | AQ2: =AF2 -> LYCEES | AR2: =AG2+1 -> 42033 | BB2: =AQ2 -> LYCEES | BC2: =AR2+1 -> 42034 | BM2: =BB2 -> LYCEES | BN2: =BC2+1 -> 42035 | BX2: =BM2 -> LYCEES | BY2: =BN2+1 -> 42036
A3: Choix Des Produits | B3: =K2 -> 42030 | C3: =B3+1 -> 42031 | D3: =C3+1 -> 42032 | E3: =D3+1 -> 42033 | F3: =E3+1 -> 42034 | G3: =F3+1 -> 42035 | H3: =G3+1 -> 42036 | I3: Total | K3: Pain | L3: Pain Bio | M3: Pain Au Lait | N3: Petit Pain rond | O3: Baguette | V3: Pain | W3: Croissant | AG3: Pain | AH3: 1/2 Baguette | AI3: Pain De Mie | AJ3: Baguette Viennoise | AR3: Pain | AS3: Boule de Campagne | BC3: Pain
A4: Pain | B4: =SUMIF($K$3:$T$3,$A4,$K$36:$T$36) -> 70 | C4: =SUMIF($V$3:$AE$3,$A4,$V$36:$AE$36) -> 70 | D4: =SUMIF($AG$3:$AP$3,$A4,$AG$36:$AP$36) -> 12 | E4: =SUMIF($AR$3:$BA$3,$A4,$AR$36:$BA$36) -> 70 | F4: =SUMIF($BC$3:$BL$3,$A4,$BC$36:$BL$36) -> 70 | G4: =SUMIF($BN$3:$BW$3,$A4,$BN$36:$BW$36) -> 0 | H4: =SUMIF($BY$3:$CH$3,$A4,$BY$36:$CH$36) -> 0 | I4: =SUM(B4:H4) -> 292 | J4: College 1 | K4: 70 | L4: 25 | M4: 124 | N4: 10 | U4: =J4 -> College 1 | V4: 70 | W4: 14 | AF4: =U4 -> College 1 | AG4: 12 | AH4: 14 | AI4: 85 | AJ4: 102 | AQ4: =AF4 -> College 1 | AR4: 70 | AS4: 22 | BB4: =AQ4 -> College 1 | BC4: 70 | BM4: =BB4 -> College 1 | BX4: =BM4 -> College 1
A5: Pain Bio | B5: =SUMIF($K$3:$T$3,$A5,$K$36:$T$36) -> 25 | C5: =SUMIF($V$3:$AE$3,$A5,$V$36:$AE$36) -> 0 | D5: =SUMIF($AG$3:$AP$3,$A5,$AG$36:$AP$36) -> 0 | E5: =SUMIF($AR$3:$BA$3,$A5,$AR$36:$BA$36) -> 0 | F5: =SUMIF($BC$3:$BL$3,$A5,$BC$36:$BL$36) -> 0 | G5: =SUMIF($BN$3:$BW$3,$A5,$BN$36:$BW$36) -> 0 | H5: =SUMIF($BY$3:$CH$3,$A5,$BY$36:$CH$36) -> 0 | I5: =SUM(B5:H5) -> 25 | U5: =J5 -> 0 | AF5: =U5 -> 0 | AQ5: =AF5 -> 0 | BB5: =AQ5 -> 0 | BM5: =BB5 -> 0 | BX5: =BM5 -> 0
A6: Baguette | B6: =SUMIF($K$3:$T$3,$A6,$K$36:$T$36) -> 0 | C6: =SUMIF($V$3:$AE$3,$A6,$V$36:$AE$36) -> 0 | D6: =SUMIF($AG$3:$AP$3,$A6,$AG$36:$AP$36) -> 0 | E6: =SUMIF($AR$3:$BA$3,$A6,$AR$36:$BA$36) -> 0 | F6: =SUMIF($BC$3:$BL$3,$A6,$BC$36:$BL$36) -> 0 | G6: =SUMIF($BN$3:$BW$3,$A6,$BN$36:$BW$36) -> 0 | H6: =SUMIF($BY$3:$CH$3,$A6,$BY$36:$CH$36) -> 0 | I6: =SUM(B6:H6) -> 0 | U6: =J6 -> 0 | AF6: =U6 -> 0 | AQ6: =AF6 -> 0 | BB6: =AQ6 -> 0 | BM6: =BB6 -> 0 | BX6: =BM6 -> 0
A7: Baguette Bio | B7: =SUMIF($K$3:$T$3,$A7,$K$36:$T$36) -> 0 | C7: =SUMIF($V$3:$AE$3,$A7,$V$36:$AE$36) -> 0 | D7: =SUMIF($AG$3:$AP$3,$A7,$AG$36:$AP$36) -> 0 | E7: =SUMIF($AR$3:$BA$3,$A7,$AR$36:$BA$36) -> 0 | F7: =SUMIF($BC$3:$BL$3,$A7,$BC$36:$BL$36) -> 0 | G7: =SUMIF($BN$3:$BW$3,$A7,$BN$36:$BW$36) -> 0 | H7: =SUMIF($BY$3:$CH$3,$A7,$BY$36:$CH$36) -> 0 | I7: =SUM(B7:H7) -> 0 | U7: =J7 -> 0 | AF7: =U7 -> 0 | AQ7: =AF7 -> 0 | BB7: =AQ7 -> 0 | BM7: =BB7 -> 0 | BX7: =BM7 -> 0
A8: 1/2 Baguette | B8: =SUMIF($K$3:$T$3,$A8,$K$36:$T$36) -> 0 | C8: =SUMIF($V$3:$AE$3,$A8,$V$36:$AE$36) -> 0 | D8: =SUMIF($AG$3:$AP$3,$A8,$AG$36:$AP$36) -> 14 | E8: =SUMIF($AR$3:$BA$3,$A8,$AR$36:$BA$36) -> 0 | F8: =SUMIF($BC$3:$BL$3,$A8,$BC$36:$BL$36) -> 0 | G8: =SUMIF($BN$3:$BW$3,$A8,$BN$36:$BW$36) -> 0 | H8: =SUMIF($BY$3:$CH$3,$A8,$BY$36:$CH$36) -> 0 | I8: =SUM(B8:H8) -> 14 | U8: =J8 -> 0 | AF8: =U8 -> 0 | AQ8: =AF8 -> 0 | BB8: =AQ8 -> 0 | BM8: =BB8 -> 0 | BX8: =BM8 -> 0
A9: 1/2 Baguette Bio | B9: =SUMIF($K$3:$T$3,$A9,$K$36:$T$36) -> 0 | C9: =SUMIF($V$3:$AE$3,$A9,$V$36:$AE$36) -> 0 | D9: =SUMIF($AG$3:$AP$3,$A9,$AG$36:$AP$36) -> 0 | E9: =SUMIF($AR$3:$BA$3,$A9,$AR$36:$BA$36) -> 0 | F9: =SUMIF($BC$3:$BL$3,$A9,$BC$36:$BL$36) -> 0 | G9: =SUMIF($BN$3:$BW$3,$A9,$BN$36:$BW$36) -> 0 | H9: =SUMIF($BY$3:$CH$3,$A9,$BY$36:$CH$36) -> 0 | I9: =SUM(B9:H9) -> 0 | U9: =J9 -> 0 | AF9: =U9 -> 0 | AQ9: =AF9 -> 0 | BB9: =AQ9 -> 0 | BM9: =BB9 -> 0 | BX9: =BM9 -> 0
A10: Pain De Mie | B10: =SUMIF($K$3:$T$3,$A10,$K$36:$T$36) -> 0 | C10: =SUMIF($V$3:$AE$3,$A10,$V$36:$AE$36) -> 0 | D10: =SUMIF($AG$3:$AP$3,$A10,$AG$36:$AP$36) -> 85 | E10: =SUMIF($AR$3:$BA$3,$A10,$AR$36:$BA$36) -> 0 | F10: =SUMIF($BC$3:$BL$3,$A10,$BC$36:$BL$36) -> 0 | G10: =SUMIF($BN$3:$BW$3,$A10,$BN$36:$BW$36) -> 0 | H10: =SUMIF($BY$3:$CH$3,$A10,$BY$36:$CH$36) -> 0 | I10: =SUM(B10:H10) -> 85 | U10: =J10 -> 0 | AF10: =U10 -> 0 | AQ10: =AF10 -> 0 | BB10: =AQ10 -> 0 | BM10: =BB10 -> 0 | BX10: =BM10 -> 0
A11: Baguette Viennoise | B11: =SUMIF($K$3:$T$3,$A11,$K$36:$T$36) -> 0 | C11: =SUMIF($V$3:$AE$3,$A11,$V$36:$AE$36) -> 0 | D11: =SUMIF($AG$3:$AP$3,$A11,$AG$36:$AP$36) -> 102 | E11: =SUMIF($AR$3:$BA$3,$A11,$AR$36:$BA$36) -> 0 | F11: =SUMIF($BC$3:$BL$3,$A11,$BC$36:$BL$36) -> 0 | G11: =SUMIF($BN$3:$BW$3,$A11,$BN$36:$BW$36) -> 0 | H11: =SUMIF($BY$3:$CH$3,$A11,$BY$36:$CH$36) -> 0 | I11: =SUM(B11:H11) -> 102 | U11: =J11 -> 0 | AF11: =U11 -> 0 | AQ11: =AF11 -> 0 | BB11: =AQ11 -> 0 | BM11: =BB11 -> 0 | BX11: =BM11 -> 0
A12: Petit Pain Pavé | B12: =SUMIF($K$3:$T$3,$A12,$K$36:$T$36) -> 0 | C12: =SUMIF($V$3:$AE$3,$A12,$V$36:$AE$36) -> 0 | D12: =SUMIF($AG$3:$AP$3,$A12,$AG$36:$AP$36) -> 0 | E12: =SUMIF($AR$3:$BA$3,$A12,$AR$36:$BA$36) -> 0 | F12: =SUMIF($BC$3:$BL$3,$A12,$BC$36:$BL$36) -> 0 | G12: =SUMIF($BN$3:$BW$3,$A12,$BN$36:$BW$36) -> 0 | H12: =SUMIF($BY$3:$CH$3,$A12,$BY$36:$CH$36) -> 0 | I12: =SUM(B12:H12) -> 0 | U12: =J12 -> 0 | AF12: =U12 -> 0 | AQ12: =AF12 -> 0 | BB12: =AQ12 -> 0 | BM12: =BB12 -> 0 | BX12: =BM12 -> 0
A13: Petit Pain 50Gr | B13: =SUMIF($K$3:$T$3,$A13,$K$36:$T$36) -> 0 | C13: =SUMIF($V$3:$AE$3,$A13,$V$36:$AE$36) -> 0 | D13: =SUMIF($AG$3:$AP$3,$A13,$AG$36:$AP$36) -> 0 | E13: =SUMIF($AR$3:$BA$3,$A13,$AR$36:$BA$36) -> 0 | F13: =SUMIF($BC$3:$BL$3,$A13,$BC$36:$BL$36) -> 0 | G13: =SUMIF($BN$3:$BW$3,$A13,$BN$36:$BW$36) -> 0 | H13: =SUMIF($BY$3:$CH$3,$A13,$BY$36:$CH$36) -> 0 | I13: =SUM(B13:H13) -> 0 | U13: =J13 -> 0 | AF13: =U13 -> 0 | AQ13: =AF13 -> 0 | BB13: =AQ13 -> 0 | BM13: =BB13 -> 0 | BX13: =BM13 -> 0
A14: Petit Pain 50Gr S.Sel | B14: =SUMIF($K$3:$T$3,$A14,$K$36:$T$36) -> 0 | C14: =SUMIF($V$3:$AE$3,$A14,$V$36:$AE$36) -> 0 | D14: =SUMIF($AG$3:$AP$3,$A14,$AG$36:$AP$36) -> 0 | E14: =SUMIF($AR$3:$BA$3,$A14,$AR$36:$BA$36) -> 0 | F14: =SUMIF($BC$3:$BL$3,$A14,$BC$36:$BL$36) -> 0 | G14: =SUMIF($BN$3:$BW$3,$A14,$BN$36:$BW$36) -> 0 | H14: =SUMIF($BY$3:$CH$3,$A14,$BY$36:$CH$36) -> 0 | I14: =SUM(B14:H14) -> 0 | U14: =J14 -> 0 | AF14: =U14 -> 0 | AQ14: =AF14 -> 0 | BB14: =AQ14 -> 0 | BM14: =BB14 -> 0 | BX14: =BM14 -> 0
A15: Pain Campagne 280Gr | B15: =SUMIF($K$3:$T$3,$A15,$K$36:$T$36) -> 0 | C15: =SUMIF($V$3:$AE$3,$A15,$V$36:$AE$36) -> 0 | D15: =SUMIF($AG$3:$AP$3,$A15,$AG$36:$AP$36) -> 0 | E15: =SUMIF($AR$3:$BA$3,$A15,$AR$36:$BA$36) -> 0 | F15: =SUMIF($BC$3:$BL$3,$A15,$BC$36:$BL$36) -> 0 | G15: =SUMIF($BN$3:$BW$3,$A15,$BN$36:$BW$36) -> 0 | H15: =SUMIF($BY$3:$CH$3,$A15,$BY$36:$CH$36) -> 0 | I15: =SUM(B15:H15) -> 0 | U15: =J15 -> 0 | AF15: =U15 -> 0 | AQ15: =AF15 -> 0 | BB15: =AQ15 -> 0 | BM15: =BB15 -> 0 | BX15: =BM15 -> 0
A16: Pain Complet 280Gr | B16: =SUMIF($K$3:$T$3,$A16,$K$36:$T$36) -> 0 | C16: =SUMIF($V$3:$AE$3,$A16,$V$36:$AE$36) -> 0 | D16: =SUMIF($AG$3:$AP$3,$A16,$AG$36:$AP$36) -> 0 | E16: =SUMIF($AR$3:$BA$3,$A16,$AR$36:$BA$36) -> 0 | F16: =SUMIF($BC$3:$BL$3,$A16,$BC$36:$BL$36) -> 0 | G16: =SUMIF($BN$3:$BW$3,$A16,$BN$36:$BW$36) -> 0 | H16: =SUMIF($BY$3:$CH$3,$A16,$BY$36:$CH$36) -> 0 | I16: =SUM(B16:H16) -> 0 | U16: =J16 -> 0 | AF16: =U16 -> 0 | AQ16: =AF16 -> 0 | BB16: =AQ16 -> 0 | BM16: =BB16 -> 0 | BX16: =BM16 -> 0
... A35: Suisse Choco | B35: =SUMIF($K$3:$T$3,$A35,$K$36:$T$36) -> 0 | C35: =SUMIF($V$3:$AE$3,$A35,$V$36:$AE$36) -> 0 | D35: =SUMIF($AG$3:$AP$3,$A35,$AG$36:$AP$36) -> 0 | E35: =SUMIF($AR$3:$BA$3,$A35,$AR$36:$BA$36) -> 0 | F35: =SUMIF($BC$3:$BL$3,$A35,$BC$36:$BL$36) -> 0 | G35: =SUMIF($BN$3:$BW$3,$A35,$BN$36:$BW$36) -> 0 | H35: =SUMIF($BY$3:$CH$3,$A35,$BY$36:$CH$36) -> 0 | I35: =SUM(B35:H35) -> 0 | U35: =J35 -> 0 | AF35: =U35 -> 0 | AQ35: =AF35 -> 0 | BB35: =AQ35 -> 0 | BM35: =BB35 -> 0 | BX35: =BM35 -> 0
A36: Pain Rond | B36: =SUMIF($K$3:$T$3,$A36,$K$36:$T$36) -> 0 | C36: =SUMIF($V$3:$AE$3,$A36,$V$36:$AE$36) -> 0 | D36: =SUMIF($AG$3:$AP$3,$A36,$AG$36:$AP$36) -> 0 | E36: =SUMIF($AR$3:$BA$3,$A36,$AR$36:$BA$36) -> 0 | F36: =SUMIF($BC$3:$BL$3,$A36,$BC$36:$BL$36) -> 0 | G36: =SUMIF($BN$3:$BW$3,$A36,$BN$36:$BW$36) -> 0 | H36: =SUMIF($BY$3:$CH$3,$A36,$BY$36:$CH$36) -> 0 | I36: =SUM(B36:H36) -> 0 | K36: =SUM(K4:K35) -> 70 | L36: =SUM(L4:L35) -> 25 | M36: =SUM(M4:M35) -> 124 | N36: =SUM(N4:N35) -> 10 | O36: =SUM(O4:O35) -> 0 | P36: =SUM(P4:P35) -> 0 | Q36: =SUM(Q4:Q35) -> 0 | R36: =SUM(R4:R35) -> 0 | ... T36: =SUM(T4:T35) -> 0 | V36: =SUM(V4:V35) -> 70 | W36: =SUM(W4:W35) -> 14 | X36: =SUM(X4:X35) -> 0 | Y36: =SUM(Y4:Y35) -> 0 | Z36: =SUM(Z4:Z35) -> 0 | AA36: =SUM(AA4:AA35) -> 0 | AB36: =SUM(AB4:AB35) -> 0 | AC36: =SUM(AC4:AC35) -> 0 | ... AE36: =SUM(AE4:AE35) -> 0 | AG36: =SUM(AG4:AG35) -> 12 | AH36: =SUM(AH4:AH35) -> 14 | AI36: =SUM(AI4:AI35) -> 85 | AJ36: =SUM(AJ4:AJ35) -> 102 | AK36: =SUM(AK4:AK35) -> 0 | AL36: =SUM(AL4:AL35) -> 0 | AM36: =SUM(AM4:AM35) -> 0 | AN36: =SUM(AN4:AN35) -> 0 | ... AP36: =SUM(AP4:AP35) -> 0 | AR36: =SUM(AR4:AR35) -> 70 | AS36: =SUM(AS4:AS35) -> 22 | AT36: =SUM(AT4:AT35) -> 0 | AU36: =SUM(AU4:AU35) -> 0 | AV36: =SUM(AV4:AV35) -> 0 | AW36: =SUM(AW4:AW35) -> 0 | AX36: =SUM(AX4:AX35) -> 0 | AY36: =SUM(AY4:AY35) -> 0 | ... BA36: =SUM(BA4:BA35) -> 0 | BC36: =SUM(BC4:BC35) -> 70 | BD36: =SUM(BD4:BD35) -> 0 | BE36: =SUM(BE4:BE35) -> 0 | BF36: =SUM(BF4:BF35) -> 0 | BG36: =SUM(BG4:BG35) -> 0 | BH36: =SUM(BH4:BH35) -> 0 | BI36: =SUM(BI4:BI35) -> 0 | BJ36: =SUM(BJ4:BJ35) -> 0 | ... BL36: =SUM(BL4:BL35) -> 0 | BN36: =SUM(BN4:BN35) -> 0 | BO36: =SUM(BO4:BO35) -> 0 | BP36: =SUM(BP4:BP35) -> 0 | BQ36: =SUM(BQ4:BQ35) -> 0 | BR36: =SUM(BR4:BR35) -> 0 | BS36: =SUM(BS4:BS35) -> 0 | BT36: =SUM(BT4:BT35) -> 0 | BU36: =SUM(BU4:BU35) -> 0 | ... BW36: =SUM(BW4:BW35) -> 0 | BY36: =SUM(BY4:BY35) -> 0 | BZ36: =SUM(BZ4:BZ35) -> 0 | CA36: =SUM(CA4:CA35) -> 0 | CB36: =SUM(CB4:CB35) -> 0 | CC36: =SUM(CC4:CC35) -> 0 | CD36: =SUM(CD4:CD35) -> 0 | CE36: =SUM(CE4:CE35) -> 0 | CF36: =SUM(CF4:CF35) -> 0 | ... CH36: =SUM(CH4:CH35) -> 0
A37: Pain Au Lait | B37: =SUMIF($K$3:$T$3,$A37,$K$36:$T$36) -> 124 | C37: =SUMIF($V$3:$AE$3,$A37,$V$36:$AE$36) -> 0 | D37: =SUMIF($AG$3:$AP$3,$A37,$AG$36:$AP$36) -> 0 | E37: =SUMIF($AR$3:$BA$3,$A37,$AR$36:$BA$36) -> 0 | F37: =SUMIF($BC$3:$BL$3,$A37,$BC$36:$BL$36) -> 0 | G37: =SUMIF($BN$3:$BW$3,$A37,$BN$36:$BW$36) -> 0 | H37: =SUMIF($BY$3:$CH$3,$A37,$BY$36:$CH$36) -> 0 | I37: =SUM(B37:H37) -> 124
A38: Petit Pain De Campagne 50Gr | B38: =SUMIF($K$3:$T$3,$A38,$K$36:$T$36) -> 0 | C38: =SUMIF($V$3:$AE$3,$A38,$V$36:$AE$36) -> 0 | D38: =SUMIF($AG$3:$AP$3,$A38,$AG$36:$AP$36) -> 0 | E38: =SUMIF($AR$3:$BA$3,$A38,$AR$36:$BA$36) -> 0 | F38: =SUMIF($BC$3:$BL$3,$A38,$BC$36:$BL$36) -> 0 | G38: =SUMIF($BN$3:$BW$3,$A38,$BN$36:$BW$36) -> 0 | H38: =SUMIF($BY$3:$CH$3,$A38,$BY$36:$CH$36) -> 0 | I38: =SUM(B38:H38) -> 0
A39: Petit Pain Céréales 50Gr | B39: =SUMIF($K$3:$T$3,$A39,$K$36:$T$36) -> 0 | C39: =SUMIF($V$3:$AE$3,$A39,$V$36:$AE$36) -> 0 | D39: =SUMIF($AG$3:$AP$3,$A39,$AG$36:$AP$36) -> 0 | E39: =SUMIF($AR$3:$BA$3,$A39,$AR$36:$BA$36) -> 0 | F39: =SUMIF($BC$3:$BL$3,$A39,$BC$36:$BL$36) -> 0 | G39: =SUMIF($BN$3:$BW$3,$A39,$BN$36:$BW$36) -> 0 | H39: =SUMIF($BY$3:$CH$3,$A39,$BY$36:$CH$36) -> 0 | I39: =SUM(B39:H39) -> 0
A40: Petit Pain Bio 50Gr | B40: =SUMIF($K$3:$T$3,$A40,$K$36:$T$36) -> 0 | C40: =SUMIF($V$3:$AE$3,$A40,$V$36:$AE$36) -> 0 | D40: =SUMIF($AG$3:$AP$3,$A40,$AG$36:$AP$36) -> 0 | E40: =SUMIF($AR$3:$BA$3,$A40,$AR$36:$BA$36) -> 0 | F40: =SUMIF($BC$3:$BL$3,$A40,$BC$36:$BL$36) -> 0 | G40: =SUMIF($BN$3:$BW$3,$A40,$BN$36:$BW$36) -> 0 | H40: =SUMIF($BY$3:$CH$3,$A40,$BY$36:$CH$36) -> 0 | I40: =SUM(B40:H40) -> 0
A41: Pain Seigle 400Gr | B41: =SUMIF($K$3:$T$3,$A41,$K$36:$T$36) -> 0 | C41: =SUMIF($V$3:$AE$3,$A41,$V$36:$AE$36) -> 0 | D41: =SUMIF($AG$3:$AP$3,$A41,$AG$36:$AP$36) -> 0 | E41: =SUMIF($AR$3:$BA$3,$A41,$AR$36:$BA$36) -> 0 | F41: =SUMIF($BC$3:$BL$3,$A41,$BC$36:$BL$36) -> 0 | G41: =SUMIF($BN$3:$BW$3,$A41,$BN$36:$BW$36) -> 0 | H41: =SUMIF($BY$3:$CH$3,$A41,$BY$36:$CH$36) -> 0 | I41: =SUM(B41:H41) -> 0
A42: Allumette Choco | B42: =SUMIF($K$3:$T$3,$A42,$K$36:$T$36) -> 0 | C42: =SUMIF($V$3:$AE$3,$A42,$V$36:$AE$36) -> 0 | D42: =SUMIF($AG$3:$AP$3,$A42,$AG$36:$AP$36) -> 0 | E42: =SUMIF($AR$3:$BA$3,$A42,$AR$36:$BA$36) -> 0 | F42: =SUMIF($BC$3:$BL$3,$A42,$BC$36:$BL$36) -> 0 | G42: =SUMIF($BN$3:$BW$3,$A42,$BN$36:$BW$36) -> 0 | H42: =SUMIF($BY$3:$CH$3,$A42,$BY$36:$CH$36) -> 0 | I42: =SUM(B42:H42) -> 0
A43: Mini Croissant | B43: =SUMIF($K$3:$T$3,$A43,$K$36:$T$36) -> 0 | C43: =SUMIF($V$3:$AE$3,$A43,$V$36:$AE$36) -> 0 | D43: =SUMIF($AG$3:$AP$3,$A43,$AG$36:$AP$36) -> 0 | E43: =SUMIF($AR$3:$BA$3,$A43,$AR$36:$BA$36) -> 0 | F43: =SUMIF($BC$3:$BL$3,$A43,$BC$36:$BL$36) -> 0 | G43: =SUMIF($BN$3:$BW$3,$A43,$BN$36:$BW$36) -> 0 | H43: =SUMIF($BY$3:$CH$3,$A43,$BY$36:$CH$36) -> 0 | I43: =SUM(B43:H43) -> 0
A44: Mini Pain Au Chocolat | B44: =SUMIF($K$3:$T$3,$A44,$K$36:$T$36) -> 0 | C44: =SUMIF($V$3:$AE$3,$A44,$V$36:$AE$36) -> 0 | D44: =SUMIF($AG$3:$AP$3,$A44,$AG$36:$AP$36) -> 0 | E44: =SUMIF($AR$3:$BA$3,$A44,$AR$36:$BA$36) -> 0 | F44: =SUMIF($BC$3:$BL$3,$A44,$BC$36:$BL$36) -> 0 | G44: =SUMIF($BN$3:$BW$3,$A44,$BN$36:$BW$36) -> 0 | H44: =SUMIF($BY$3:$CH$3,$A44,$BY$36:$CH$36) -> 0 | I44: =SUM(B44:H44) -> 0
A45: Mini Pain Aux Raisins | B45: =SUMIF($K$3:$T$3,$A45,$K$36:$T$36) -> 0 | C45: =SUMIF($V$3:$AE$3,$A45,$V$36:$AE$36) -> 0 | D45: =SUMIF($AG$3:$AP$3,$A45,$AG$36:$AP$36) -> 0 | E45: =SUMIF($AR$3:$BA$3,$A45,$AR$36:$BA$36) -> 0 | F45: =SUMIF($BC$3:$BL$3,$A45,$BC$36:$BL$36) -> 0 | G45: =SUMIF($BN$3:$BW$3,$A45,$BN$36:$BW$36) -> 0 | H45: =SUMIF($BY$3:$CH$3,$A45,$BY$36:$CH$36) -> 0 | I45: =SUM(B45:H45) -> 0
A46: Mini Chausson Aux Pommes | B46: =SUMIF($K$3:$T$3,$A46,$K$36:$T$36) -> 0 | C46: =SUMIF($V$3:$AE$3,$A46,$V$36:$AE$36) -> 0 | D46: =SUMIF($AG$3:$AP$3,$A46,$AG$36:$AP$36) -> 0 | E46: =SUMIF($AR$3:$BA$3,$A46,$AR$36:$BA$36) -> 0 | F46: =SUMIF($BC$3:$BL$3,$A46,$BC$36:$BL$36) -> 0 | G46: =SUMIF($BN$3:$BW$3,$A46,$BN$36:$BW$36) -> 0 | H46: =SUMIF($BY$3:$CH$3,$A46,$BY$36:$CH$36) -> 0 | I46: =SUM(B46:H46) -> 0
A47: Petit Pain rond | B47: =SUMIF($K$3:$T$3,$A47,$K$36:$T$36) -> 10 | C47: =SUMIF($V$3:$AE$3,$A47,$V$36:$AE$36) -> 0 | D47: =SUMIF($AG$3:$AP$3,$A47,$AG$36:$AP$36) -> 0 | E47: =SUMIF($AR$3:$BA$3,$A47,$AR$36:$BA$36) -> 0 | F47: =SUMIF($BC$3:$BL$3,$A47,$BC$36:$BL$36) -> 0 | G47: =SUMIF($BN$3:$BW$3,$A47,$BN$36:$BW$36) -> 0 | H47: =SUMIF($BY$3:$CH$3,$A47,$BY$36:$CH$36) -> 0 | I47: =SUM(B47:H47) -> 10
A48: Pain Complet 400Gr | B48: =SUMIF($K$3:$T$3,$A48,$K$36:$T$36) -> 0 | C48: =SUMIF($V$3:$AE$3,$A48,$V$36:$AE$36) -> 0 | D48: =SUMIF($AG$3:$AP$3,$A48,$AG$36:$AP$36) -> 0 | E48: =SUMIF($AR$3:$BA$3,$A48,$AR$36:$BA$36) -> 0 | F48: =SUMIF($BC$3:$BL$3,$A48,$BC$36:$BL$36) -> 0 | G48: =SUMIF($BN$3:$BW$3,$A48,$BN$36:$BW$36) -> 0 | H48: =SUMIF($BY$3:$CH$3,$A48,$BY$36:$CH$36) -> 0 | I48: =SUM(B48:H48) -> 0
A49: Pain Céréales 400Gr | B49: =SUMIF($K$3:$T$3,$A49,$K$36:$T$36) -> 0 | C49: =SUMIF($V$3:$AE$3,$A49,$V$36:$AE$36) -> 0 | D49: =SUMIF($AG$3:$AP$3,$A49,$AG$36:$AP$36) -> 0 | E49: =SUMIF($AR$3:$BA$3,$A49,$AR$36:$BA$36) -> 0 | F49: =SUMIF($BC$3:$BL$3,$A49,$BC$36:$BL$36) -> 0 | G49: =SUMIF($BN$3:$BW$3,$A49,$BN$36:$BW$36) -> 0 | H49: =SUMIF($BY$3:$CH$3,$A49,$BY$36:$CH$36) -> 0 | I49: =SUM(B49:H49) -> 0
B50: =SUMIF($K$3:$T$3,$A50,$K$36:$T$36) -> 0 | C50: =SUMIF($V$3:$AE$3,$A50,$V$36:$AE$36) -> 0 | D50: =SUMIF($AG$3:$AP$3,$A50,$AG$36:$AP$36) -> 0 | E50: =SUMIF($AR$3:$BA$3,$A50,$AR$36:$BA$36) -> 0 | F50: =SUMIF($BC$3:$BL$3,$A50,$BC$36:$BL$36) -> 0 | G50: =SUMIF($BN$3:$BW$3,$A50,$BN$36:$BW$36) -> 0 | H50: =SUMIF($BY$3:$CH$3,$A50,$BY$36:$CH$36) -> 0

Sheet PRODUITS
A3: Choix Des Produits | B3: Reference
A4: Pain | B4: 1
A5: Pain Bio | B5: 2
A6: Baguette | B6: 3
A7: Baguette Bio | B7: 4
A8: 1/2 Baguette | B8: 5
A9: 1/2 Baguette Bio | B9: 6
A10: Pain De Mie | B10: 7
A11: Baguette Viennoise | B11: 8
A12: Petit Pain Pavé | B12: 9
A13: Petit Pain 50Gr | B13: 10
A14: Petit Pain 50Gr S.Sel | B14: 11
A15: Pain Campagne 280Gr | B15: 12
... A49: Pain Céréales 400Gr | B49: 46

Sheet BL LUNDI
D1: BL N° : | E1: BL | F1: =RANDBETWEEN(111111,999999) -> 629416
D2: Date : | E2: ='COLLEGE 1'!B3 -> 42030
C3: Contact:
D4: COLLEGE 1
B6: B O N D E LIVRAISON
B8: Référence | C8: Désignation | D8: Quantité commandée | E8: Quantité livrée
B9: =IF(ISERROR(VLOOKUP(C9,PRODUITS!A4:B49,2,0)),0,VLOOKUP(C9,PRODUITS!A4:B49,2,0)) -> 1 | C9: ='COLLEGE 1'!$K$3 -> Pain | D9: ='COLLEGE 1'!$K$4 -> 70 | E9: =D9 -> 70
B10: =IF(ISERROR(VLOOKUP(C10,PRODUITS!A5:B50,2,0)),0,VLOOKUP(C10,PRODUITS!A5:B50,2,0)) -> 2 | C10: ='COLLEGE 1'!$L$3 -> Pain Bio | D10: ='COLLEGE 1'!$L$4 -> 25 | E10: =D10 -> 25
B11: =IF(ISERROR(VLOOKUP(C11,PRODUITS!A6:B51,2,0)),0,VLOOKUP(C11,PRODUITS!A6:B51,2,0)) -> 34 | C11: ='COLLEGE 1'!$M$3 -> Pain Au Lait | D11: ='COLLEGE 1'!$M$4 -> 124 | E11: =D11 -> 124
B12: =IF(ISERROR(VLOOKUP(C12,PRODUITS!A7:B52,2,0)),0,VLOOKUP(C12,PRODUITS!A7:B52,2,0)) -> 44 | C12: ='COLLEGE 1'!$N$3 -> Petit Pain rond | D12: ='COLLEGE 1'!$N$4 -> 10 | E12: =D12 -> 10
B13: =IF(ISERROR(VLOOKUP(C13,PRODUITS!A8:B53,2,0)),0,VLOOKUP(C13,PRODUITS!A8:B53,2,0)) -> 0 | C13: ='COLLEGE 1'!$O$3 -> Baguette | D13: ='COLLEGE 1'!$O$4 -> 0 | E13: =D13 -> 0
B14: =IF(ISERROR(VLOOKUP(C14,PRODUITS!A9:B54,2,0)),0,VLOOKUP(C14,PRODUITS!A9:B54,2,0)) -> 0 | C14: ='COLLEGE 1'!$P$3 -> 0 | D14: ='COLLEGE 1'!$P$4 -> 0 | E14: =D14 -> 0
B15: =IF(ISERROR(VLOOKUP(C15,PRODUITS!A10:B55,2,0)),0,VLOOKUP(C15,PRODUITS!A10:B55,2,0)) -> 0 | C15: ='COLLEGE 1'!$Q$3 -> 0 | D15: ='COLLEGE 1'!$Q$4 -> 0 | E15: =D15 -> 0
B16: =IF(ISERROR(VLOOKUP(C16,PRODUITS!A11:B56,2,0)),0,VLOOKUP(C16,PRODUITS!A11:B56,2,0)) -> 0 | C16: ='COLLEGE 1'!$R$3 -> 0 | D16: ='COLLEGE 1'!$R$4 -> 0 | E16: =D16 -> 0
B17: =IF(ISERROR(VLOOKUP(C17,PRODUITS!A12:B57,2,0)),0,VLOOKUP(C17,PRODUITS!A12:B57,2,0)) -> 0 | C17: ='COLLEGE 1'!$S$3 -> 0 | D17: ='COLLEGE 1'!$S$4 -> 0 | E17: =D17 -> 0
B18: =IF(ISERROR(VLOOKUP(C18,PRODUITS!A13:B58,2,0)),0,VLOOKUP(C18,PRODUITS!A13:B58,2,0)) -> 0 | C18: ='COLLEGE 1'!$T$3 -> 0 | D18: ='COLLEGE 1'!$T$4 -> 0 | E18: =D18 -> 0

Sheet BL MARDI
