Workbook
Name Année_Calendaire: Travail!$A$1
Name Aoû_Dim1: DATE(Année_Calendaire,8,1)-WEEKDAY(DATE(Année_Calendaire,8,1))+1
Name Avr_Dim1: DATE(Année_Calendaire,4,1)-WEEKDAY(DATE(Année_Calendaire,4,1))+1
Name Déc_Dim1: DATE(Année_Calendaire,12,1)-WEEKDAY(DATE(Année_Calendaire,12,1))+1
Name Fév_Dim1: DATE(Année_Calendaire,2,1)-WEEKDAY(DATE(Année_Calendaire,2,1))+1
Name Jan_Dim1: DATE(Année_Calendaire,1,1)-WEEKDAY(DATE(Année_Calendaire,1,1))+1
Name Juil_Dim1: DATE(Année_Calendaire,7,1)-WEEKDAY(DATE(Année_Calendaire,7,1))+1
Name Juin_Dim1: DATE(Année_Calendaire,6,1)-WEEKDAY(DATE(Année_Calendaire,6,1))+1
Name Mai_Dim1: DATE(Année_Calendaire,5,1)-WEEKDAY(DATE(Année_Calendaire,5,1))+1
Name Mar_Dim1: DATE(Année_Calendaire,3,1)-WEEKDAY(DATE(Année_Calendaire,3,1))+1
Name Nov_Dim1: DATE(Année_Calendaire,11,1)-WEEKDAY(DATE(Année_Calendaire,11,1))+1
Name Oct_Dim1: DATE(Année_Calendaire,10,1)-WEEKDAY(DATE(Année_Calendaire,10,1))+1
Name Sep_Dim1: DATE(Année_Calendaire,9,1)-WEEKDAY(DATE(Année_Calendaire,9,1))+1

Sheet Travail
A1: 2016
AT2: Contigent hs du mois | AU2: Contingent hs cummul
B4: JANVIER | G4: =Année_Calendaire -> 2016 | R4: JANVIER | W4: =Année_Calendaire -> 2016 | AH4: JANVIER | AM4: =Année_Calendaire -> 2016
B5: Lun | C5: Mar | D5: Mer | E5: Jeu | F5: Ven | G5: Sam | H5: Dim | I5: Cumul | J5: Lun | K5: Mar | L5: Mer | M5: Jeu | N5: Ven | O5: Sam | P5: Dim | Q5: Cumul | R5: Lun | S5: Mar | T5: Mer | U5: Jeu | V5: Ven | W5: Sam | X5: Dim | Y5: Cumul | Z5: Lun | AA5: Mar | AB5: Mer | AC5: Jeu | AD5: Ven | AE5: Sam | AF5: Dim | AG5: Cumul | AH5: Lun | AI5: Mar | AJ5: Mer | AK5: Jeu | AL5: Ven | AM5: Sam | AN5: Dim | AO5: Cumul | AP5: Lun | AQ5: Mar | AR5: Cumul | AS5: Cumul total | AT5: =AS12+AS13+AS14 -> 2 | AU5: =AT5 -> 2
B6: =IF(DAY(Jan_Dim1)=1,"",IF(AND(YEAR(Jan_Dim1+1)=Année_Calendaire,MONTH(Jan_Dim1+1)=1),Jan_Dim1+1,"")) | C6: =IF(DAY(Jan_Dim1)=1,"",IF(AND(YEAR(Jan_Dim1+2)=Année_Calendaire,MONTH(Jan_Dim1+2)=1),Jan_Dim1+2,"")) | D6: =IF(DAY(Jan_Dim1)=1,"",IF(AND(YEAR(Jan_Dim1+3)=Année_Calendaire,MONTH(Jan_Dim1+3)=1),Jan_Dim1+3,"")) | E6: =IF(DAY(Jan_Dim1)=1,"",IF(AND(YEAR(Jan_Dim1+4)=Année_Calendaire,MONTH(Jan_Dim1+4)=1),Jan_Dim1+4,"")) | F6: =IF(DAY(Jan_Dim1)=1,"",IF(AND(YEAR(Jan_Dim1+5)=Année_Calendaire,MONTH(Jan_Dim1+5)=1),Jan_Dim1+5,"")) -> 42370 | G6: =IF(DAY(Jan_Dim1)=1,"",IF(AND(YEAR(Jan_Dim1+6)=Année_Calendaire,MONTH(Jan_Dim1+6)=1),Jan_Dim1+6,"")) -> 42371 | H6: =IF(DAY(Jan_Dim1)=1,IF(AND(YEAR(Jan_Dim1)=Année_Calendaire,MONTH(Jan_Dim1)=1),Jan_Dim1,""),IF(AND(YEAR(Jan_Dim1+7)=Année_Calendaire,MONTH(Jan_Dim1+7)=1),Jan_Dim1+7,"")) -> 42372 | J6: =IF(DAY(Jan_Dim1)=1,IF(AND(YEAR(Jan_Dim1+1)=Année_Calendaire,MONTH(Jan_Dim1+1)=1),Jan_Dim1+1,""),IF(AND(YEAR(Jan_Dim1+8)=Année_Calendaire,MONTH(Jan_Dim1+8)=1),Jan_Dim1+8,"")) -> 42373 | K6: =IF(DAY(Jan_Dim1)=1,IF(AND(YEAR(Jan_Dim1+2)=Année_Calendaire,MONTH(Jan_Dim1+2)=1),Jan_Dim1+2,""),IF(AND(YEAR(Jan_Dim1+9)=Année_Calendaire,MONTH(Jan_Dim1+9)=1),Jan_Dim1+9,"")) -> 42374 | L6: =IF(DAY(Jan_Dim1)=1,IF(AND(YEAR(Jan_Dim1+3)=Année_Calendaire,MONTH(Jan_Dim1+3)=1),Jan_Dim1+3,""),IF(AND(YEAR(Jan_Dim1+10)=Année_Calendaire,MONTH(Jan_Dim1+10)=1),Jan_Dim1+10,"")) -> 42375 | M6: =IF(DAY(Jan_Dim1)=1,IF(AND(YEAR(Jan_Dim1+4)=Année_Calendaire,MONTH(Jan_Dim1+4)=1),Jan_Dim1+4,""),IF(AND(YEAR(Jan_Dim1+11)=Année_Calendaire,MONTH(Jan_Dim1+11)=1),Jan_Dim1+11,"")) -> 42376 | N6: =IF(DAY(Jan_Dim1)=1,IF(AND(YEAR(Jan_Dim1+5)=Année_Calendaire,MONTH(Jan_Dim1+5)=1),Jan_Dim1+5,""),IF(AND(YEAR(Jan_Dim1+12)=Année_Calendaire,MONTH(Jan_Dim1+12)=1),Jan_Dim1+12,"")) -> 42377 | O6: =IF(DAY(Jan_Dim1)=1,IF(AND(YEAR(Jan_Dim1+6)=Année_Calendaire,MONTH(Jan_Dim1+6)=1),Jan_Dim1+6,""),IF(AND(YEAR(Jan_Dim1+13)=Année_Calendaire,MONTH(Jan_Dim1+13)=1),Jan_Dim1+13,"")) -> 42378 | P6: =IF(DAY(Jan_Dim1)=1,IF(AND(YEAR(Jan_Dim1+7)=Année_Calendaire,MONTH(Jan_Dim1+7)=1),Jan_Dim1+7,""),IF(AND(YEAR(Jan_Dim1+14)=Année_Calendaire,MONTH(Jan_Dim1+14)=1),Jan_Dim1+14,"")) -> 42379 | R6: =IF(DAY(Jan_Dim1)=1,IF(AND(YEAR(Jan_Dim1+8)=Année_Calendaire,MONTH(Jan_Dim1+8)=1),Jan_Dim1+8,""),IF(AND(YEAR(Jan_Dim1+15)=Année_Calendaire,MONTH(Jan_Dim1+15)=1),Jan_Dim1+15,"")) -> 42380 | S6: =IF(DAY(Jan_Dim1)=1,IF(AND(YEAR(Jan_Dim1+9)=Année_Calendaire,MONTH(Jan_Dim1+9)=1),Jan_Dim1+9,""),IF(AND(YEAR(Jan_Dim1+16)=Année_Calendaire,MONTH(Jan_Dim1+16)=1),Jan_Dim1+16,"")) -> 42381 | T6: =IF(DAY(Jan_Dim1)=1,IF(AND(YEAR(Jan_Dim1+10)=Année_Calendaire,MONTH(Jan_Dim1+10)=1),Jan_Dim1+10,""),IF(AND(YEAR(Jan_Dim1+17)=Année_Calendaire,MONTH(Jan_Dim1+17)=1),Jan_Dim1+17,"")) -> 42382 | U6: =IF(DAY(Jan_Dim1)=1,IF(AND(YEAR(Jan_Dim1+11)=Année_Calendaire,MONTH(Jan_Dim1+11)=1),Jan_Dim1+11,""),IF(AND(YEAR(Jan_Dim1+18)=Année_Calendaire,MONTH(Jan_Dim1+18)=1),Jan_Dim1+18,"")) -> 42383 | V6: =IF(DAY(Jan_Dim1)=1,IF(AND(YEAR(Jan_Dim1+12)=Année_Calendaire,MONTH(Jan_Dim1+12)=1),Jan_Dim1+12,""),IF(AND(YEAR(Jan_Dim1+19)=Année_Calendaire,MONTH(Jan_Dim1+19)=1),Jan_Dim1+19,"")) -> 42384 | W6: =IF(DAY(Jan_Dim1)=1,IF(AND(YEAR(Jan_Dim1+13)=Année_Calendaire,MONTH(Jan_Dim1+13)=1),Jan_Dim1+13,""),IF(AND(YEAR(Jan_Dim1+20)=Année_Calendaire,MONTH(Jan_Dim1+20)=1),Jan_Dim1+20,"")) -> 42385 | X6: =IF(DAY(Jan_Dim1)=1,IF(AND(YEAR(Jan_Dim1+14)=Année_Calendaire,MONTH(Jan_Dim1+14)=1),Jan_Dim1+14,""),IF(AND(YEAR(Jan_Dim1+21)=Année_Calendaire,MONTH(Jan_Dim1+21)=1),Jan_Dim1+21,"")) -> 42386 | Z6: =IF(DAY(Jan_Dim1)=1,IF(AND(YEAR(Jan_Dim1+15)=Année_Calendaire,MONTH(Jan_Dim1+15)=1),Jan_Dim1+15,""),IF(AND(YEAR(Jan_Dim1+22)=Année_Calendaire,MONTH(Jan_Dim1+22)=1),Jan_Dim1+22,"")) -> 42387 | AA6: =IF(DAY(Jan_Dim1)=1,IF(AND(YEAR(Jan_Dim1+16)=Année_Calendaire,MONTH(Jan_Dim1+16)=1),Jan_Dim1+16,""),IF(AND(YEAR(Jan_Dim1+23)=Année_Calendaire,MONTH(Jan_Dim1+23)=1),Jan_Dim1+23,"")) -> 42388 | AB6: =IF(DAY(Jan_Dim1)=1,IF(AND(YEAR(Jan_Dim1+17)=Année_Calendaire,MONTH(Jan_Dim1+17)=1),Jan_Dim1+17,""),IF(AND(YEAR(Jan_Dim1+24)=Année_Calendaire,MONTH(Jan_Dim1+24)=1),Jan_Dim1+24,"")) -> 42389 | AC6: =IF(DAY(Jan_Dim1)=1,IF(AND(YEAR(Jan_Dim1+18)=Année_Calendaire,MONTH(Jan_Dim1+18)=1),Jan_Dim1+18,""),IF(AND(YEAR(Jan_Dim1+25)=Année_Calendaire,MONTH(Jan_Dim1+25)=1),Jan_Dim1+25,"")) -> 42390 | AD6: =IF(DAY(Jan_Dim1)=1,IF(AND(YEAR(Jan_Dim1+19)=Année_Calendaire,MONTH(Jan_Dim1+19)=1),Jan_Dim1+19,""),IF(AND(YEAR(Jan_Dim1+26)=Année_Calendaire,MONTH(Jan_Dim1+26)=1),Jan_Dim1+26,"")) -> 42391 | AE6: =IF(DAY(Jan_Dim1)=1,IF(AND(YEAR(Jan_Dim1+20)=Année_Calendaire,MONTH(Jan_Dim1+20)=1),Jan_Dim1+20,""),IF(AND(YEAR(Jan_Dim1+27)=Année_Calendaire,MONTH(Jan_Dim1+27)=1),Jan_Dim1+27,"")) -> 42392 | AF6: =IF(DAY(Jan_Dim1)=1,IF(AND(YEAR(Jan_Dim1+21)=Année_Calendaire,MONTH(Jan_Dim1+21)=1),Jan_Dim1+21,""),IF(AND(YEAR(Jan_Dim1+28)=Année_Calendaire,MONTH(Jan_Dim1+28)=1),Jan_Dim1+28,"")) -> 42393 | AH6: =IF(DAY(Jan_Dim1)=1,IF(AND(YEAR(Jan_Dim1+22)=Année_Calendaire,MONTH(Jan_Dim1+22)=1),Jan_Dim1+22,""),IF(AND(YEAR(Jan_Dim1+29)=Année_Calendaire,MONTH(Jan_Dim1+29)=1),Jan_Dim1+29,"")) -> 42394 | AI6: =IF(DAY(Jan_Dim1)=1,IF(AND(YEAR(Jan_Dim1+23)=Année_Calendaire,MONTH(Jan_Dim1+23)=1),Jan_Dim1+23,""),IF(AND(YEAR(Jan_Dim1+30)=Année_Calendaire,MONTH(Jan_Dim1+30)=1),Jan_Dim1+30,"")) -> 42395 | AJ6: =IF(DAY(Jan_Dim1)=1,IF(AND(YEAR(Jan_Dim1+24)=Année_Calendaire,MONTH(Jan_Dim1+24)=1),Jan_Dim1+24,""),IF(AND(YEAR(Jan_Dim1+31)=Année_Calendaire,MONTH(Jan_Dim1+31)=1),Jan_Dim1+31,"")) -> 42396 | AK6: =IF(DAY(Jan_Dim1)=1,IF(AND(YEAR(Jan_Dim1+25)=Année_Calendaire,MONTH(Jan_Dim1+25)=1),Jan_Dim1+25,""),IF(AND(YEAR(Jan_Dim1+32)=Année_Calendaire,MONTH(Jan_Dim1+32)=1),Jan_Dim1+32,"")) -> 42397 | AL6: =IF(DAY(Jan_Dim1)=1,IF(AND(YEAR(Jan_Dim1+26)=Année_Calendaire,MONTH(Jan_Dim1+26)=1),Jan_Dim1+26,""),IF(AND(YEAR(Jan_Dim1+33)=Année_Calendaire,MONTH(Jan_Dim1+33)=1),Jan_Dim1+33,"")) -> 42398 | AM6: =IF(DAY(Jan_Dim1)=1,IF(AND(YEAR(Jan_Dim1+27)=Année_Calendaire,MONTH(Jan_Dim1+27)=1),Jan_Dim1+27,""),IF(AND(YEAR(Jan_Dim1+34)=Année_Calendaire,MONTH(Jan_Dim1+34)=1),Jan_Dim1+34,"")) -> 42399 | AN6: =IF(DAY(Jan_Dim1)=1,IF(AND(YEAR(Jan_Dim1+28)=Année_Calendaire,MONTH(Jan_Dim1+28)=1),Jan_Dim1+28,""),IF(AND(YEAR(Jan_Dim1+35)=Année_Calendaire,MONTH(Jan_Dim1+35)=1),Jan_Dim1+35,"")) -> 42400 | AP6: =IF(DAY(Jan_Dim1)=1,IF(AND(YEAR(Jan_Dim1+29)=Année_Calendaire,MONTH(Jan_Dim1+29)=1),Jan_Dim1+29,""),IF(AND(YEAR(Jan_Dim1+36)=Année_Calendaire,MONTH(Jan_Dim1+36)=1),Jan_Dim1+36,"")) | AQ6: =IF(DAY(Jan_Dim1)=1,IF(AND(YEAR(Jan_Dim1+30)=Année_Calendaire,MONTH(Jan_Dim1+30)=1),Jan_Dim1+30,""),IF(AND(YEAR(Jan_Dim1+37)=Année_Calendaire,MONTH(Jan_Dim1+37)=1),Jan_Dim1+37,""))
A7: Equipe | J7: am | K7: am | L7: am | M7: am | N7: am | R7: matin | S7: matin | T7: matin | Z7: nuit | AA7: nuit | AB7: nuit | AC7: nuit | AD7: nuit | AH7: matin | AI7: matin | AJ7: matin | AK7: matin
A8: Ticket resto | B8: =IF(B7="Matin",1,IF(B7="AM",1,0)) -> 0 | C8: =IF(C7="Matin",1,IF(C7="AM",1,0)) -> 0 | D8: =IF(D7="Matin",1,IF(D7="AM",1,0)) -> 0 | E8: =IF(E7="Matin",1,IF(E7="AM",1,0)) -> 0 | F8: =IF(F7="Matin",1,IF(F7="AM",1,0)) -> 0 | G8: =IF(G7="Matin",1,IF(G7="AM",1,0)) -> 0 | H8: =IF(H7="Matin",1,IF(H7="AM",1,0)) -> 0 | I8: =SUM(B8:H8) -> 0 | J8: =IF(J7="Matin",1,IF(J7="AM",1,0)) -> 1 | K8: =IF(K7="Matin",1,IF(K7="AM",1,0)) -> 1 | L8: =IF(L7="Matin",1,IF(L7="AM",1,0)) -> 1 | M8: =IF(M7="Matin",1,IF(M7="AM",1,0)) -> 1 | N8: =IF(N7="Matin",1,IF(N7="AM",1,0)) -> 1 | O8: =IF(O7="Matin",1,IF(O7="AM",1,0)) -> 0 | P8: =IF(P7="Matin",1,IF(P7="AM",1,0)) -> 0 | Q8: =SUM(J8:P8) -> 5 | R8: =IF(R7="Matin",1,IF(R7="AM",1,0)) -> 1 | S8: =IF(S7="Matin",1,IF(S7="AM",1,0)) -> 1 | T8: =IF(T7="Matin",1,IF(T7="AM",1,0)) -> 1 | U8: =IF(U7="Matin",1,IF(U7="AM",1,0)) -> 0 | V8: =IF(V7="Matin",1,IF(V7="AM",1,0)) -> 0 | W8: =IF(W7="Matin",1,IF(W7="AM",1,0)) -> 0 | X8: =IF(X7="Matin",1,IF(X7="AM",1,0)) -> 0 | Y8: =SUM(R8:X8) -> 3 | Z8: =IF(Z7="Matin",1,IF(Z7="AM",1,0)) -> 0 | AA8: =IF(AA7="Matin",1,IF(AA7="AM",1,0)) -> 0 | AB8: =IF(AB7="Matin",1,IF(AB7="AM",1,0)) -> 0 | AC8: =IF(AC7="Matin",1,IF(AC7="AM",1,0)) -> 0 | AD8: =IF(AD7="Matin",1,IF(AD7="AM",1,0)) -> 0 | AE8: =IF(AE7="Matin",1,IF(AE7="AM",1,0)) -> 0 | AF8: =IF(AF7="Matin",1,IF(AF7="AM",1,0)) -> 0 | AG8: =SUM(Z8:AF8) -> 0 | AH8: =IF(AH7="Matin",1,IF(AH7="AM",1,0)) -> 1 | AI8: =IF(AI7="Matin",1,IF(AI7="AM",1,0)) -> 1 | AJ8: =IF(AJ7="Matin",1,IF(AJ7="AM",1,0)) -> 1 | AK8: =IF(AK7="Matin",1,IF(AK7="AM",1,0)) -> 1 | AL8: =IF(AL7="Matin",1,IF(AL7="AM",1,0)) -> 0 | AM8: =IF(AM7="Matin",1,IF(AM7="AM",1,0)) -> 0 | AN8: =IF(AN7="Matin",1,IF(AN7="AM",1,0)) -> 0 | AO8: =SUM(AH8:AN8) -> 4 | AP8: =IF(AP7="Matin",1,IF(AP7="AM",1,0)) -> 0 | AQ8: =IF(AQ7="Matin",1,IF(AQ7="AM",1,0)) -> 0 | AR8: =SUM(AP8:AQ8) -> 0 | AS8: =I8+Q8+Y8+AG8+AO8+AR8 -> 12
A9: Travailler | B9: =IF(B10>=1,1,0) -> 0 | C9: =IF(C10>=1,1,0) -> 0 | D9: =IF(D10>=1,1,0) -> 0 | E9: =IF(E10>=1,1,0) -> 0 | F9: =IF(F10>=1,1,0) -> 0 | G9: =IF(G10>=1,1,0) -> 0 | H9: =IF(H10>=1,1,0) -> 0 | I9: =SUM(B9:H9) -> 0 | J9: =IF(J10>=1,1,0) -> 1 | K9: =IF(K10>=1,1,0) -> 1 | L9: =IF(L10>=1,1,0) -> 1 | M9: =IF(M10>=1,1,0) -> 1 | N9: =IF(N10>=1,1,0) -> 1 | O9: =IF(O10>=1,1,0) -> 0 | P9: =IF(P10>=1,1,0) -> 0 | Q9: =SUM(J9:P9) -> 5 | R9: =IF(R10>=1,1,0) -> 1 | S9: =IF(S10>=1,1,0) -> 1 | T9: =IF(T10>=1,1,0) -> 1 | U9: =IF(U10>=1,1,0) -> 0 | V9: =IF(V10>=1,1,0) -> 0 | W9: =IF(W10>=1,1,0) -> 0 | X9: =IF(X10>=1,1,0) -> 0 | Y9: =SUM(R9:X9) -> 3 | Z9: =IF(Z10>=1,1,0) -> 1 | AA9: =IF(AA10>=1,1,0) -> 1 | AB9: =IF(AB10>=1,1,0) -> 1 | AC9: =IF(AC10>=1,1,0) -> 1 | AD9: =IF(AD10>=1,1,0) -> 1 | AE9: =IF(AE10>=1,1,0) -> 0 | AF9: =IF(AF10>=1,1,0) -> 0 | AG9: =SUM(Z9:AF9) -> 5 | AH9: =IF(AH10>=1,1,0) -> 1 | AI9: =IF(AI10>=1,1,0) -> 1 | AJ9: =IF(AJ10>=1,1,0) -> 1 | AK9: =IF(AK10>=1,1,0) -> 1 | AL9: =IF(AL10>=1,1,0) -> 0 | AM9: =IF(AM10>=1,1,0) -> 0 | AN9: =IF(AN10>=1,1,0) -> 0 | AO9: =SUM(AH9:AN9) -> 4 | AP9: =IF(AP10>=1,1,0) -> 0 | AQ9: =IF(AQ10>=1,1,0) -> 0 | AR9: =SUM(AP9:AQ9) -> 0 | AS9: =I9+Q9+Y9+AG9+AO9+AR9 -> 17
A10: Nbr heure | I10: =SUM(B10:H10) -> 0 | J10: 8 | K10: 8 | L10: 8 | M10: 8.5 | N10: 9.5 | Q10: =SUM(J10:P10) -> 42 | R10: 8 | S10: 8 | T10: 8 | Y10: =SUM(R10:X10) -> 24 | Z10: 8 | AA10: 8 | AB10: 8 | AC10: 8 | AD10: 8 | AG10: =SUM(Z10:AF10) -> 40 | AH10: 8 | AI10: 8 | AJ10: 8 | AK10: 8 | AO10: =SUM(AH10:AN10) -> 32 | AR10: =SUM(AP10:AQ10) -> 0 | AS10: =I10+Q10+Y10+AG10+AO10+AR10 -> 138
A11: Heure comp | B11: =IF(B5<>"Dim",IF(B10>32,MIN(B10,35)-32,0),0) -> 0 | C11: =IF(C5<>"Dim",IF(SUM($B10:C10)>32,MIN(SUM($B10:C10),35)-32-SUM($B11:B11),0),0) -> 0 | D11: =IF(D5<>"Dim",IF(SUM($B10:D10)>32,MIN(SUM($B10:D10),35)-32-SUM($B11:C11),0),0) -> 0 | E11: =IF(E5<>"Dim",IF(SUM($B10:E10)>32,MIN(SUM($B10:E10),35)-32-SUM($B11:D11),0),0) -> 0 | F11: =IF(F5<>"Dim",IF(SUM($B10:F10)>32,MIN(SUM($B10:F10),35)-32-SUM($B11:E11),0),0) -> 0 | G11: =IF(G5<>"Dim",IF(SUM($B10:G10)>32,MIN(SUM($B10:G10),35)-32-SUM($B11:F11),0),0) -> 0 | H11: =IF(H5<>"Dim",IF(SUM($B10:H10)>32,MIN(SUM($B10:H10),35)-32-SUM($B11:G11),0),0) -> 0 | I11: =SUM(B11:H11) -> 0 | J11: =IF(J5<>"Dim",IF(J10>32,MIN(J10,35)-32,0),0) -> 0 | K11: =IF(K5<>"Dim",IF(SUM($J10:K10)>32,MIN(SUM($J10:K10),35)-32-SUM($J11:J11),0),0) -> 0 | L11: =IF(L5<>"Dim",IF(SUM($J10:L10)>32,MIN(SUM($J10:L10),35)-32-SUM($J11:K11),0),0) -> 0 | P11: =IF(P5<>"Dim",IF(SUM($J10:P10)>32,MIN(SUM($J10:P10),35)-32-SUM($J11:O11),0),0) -> 0 | Q11: =SUM(J11:P11) -> 0 | R11: =IF(R5<>"Dim",IF(R10>32,MIN(R10,35)-32,0),0) -> 0 | S11: =IF(S5<>"Dim",IF(SUM($R10:S10)>32,MIN(SUM($R10:S10),35)-32-SUM($R11:R11),0),0) -> 0 | T11: =IF(T5<>"Dim",IF(SUM($R10:T10)>32,MIN(SUM($R10:T10),35)-32-SUM($R11:S11),0),0) -> 0 | U11: =IF(U5<>"Dim",IF(SUM($R10:U10)>32,MIN(SUM($R10:U10),35)-32-SUM($R11:T11),0),0) -> 0 | V11: =IF(V5<>"Dim",IF(SUM($R10:V10)>32,MIN(SUM($R10:V10),35)-32-SUM($R11:U11),0),0) -> 0 | W11: =IF(W5<>"Dim",IF(SUM($R10:W10)>32,MIN(SUM($R10:W10),35)-32-SUM($R11:V11),0),0) -> 0 | X11: =IF(X5<>"Dim",IF(SUM($R10:X10)>32,MIN(SUM($R10:X10),35)-32-SUM($R11:W11),0),0) -> 0 | Y11: =SUM(R11:X11) -> 0 | Z11: =IF(Z5<>"Dim",IF(Z10>32,MIN(Z10,35)-32,0),0) -> 0 | AA11: =IF(AA5<>"Dim",IF(SUM($Z10:AA10)>32,MIN(SUM($Z10:AA10),35)-32-SUM($Z11:Z11),0),0) -> 0 | AB11: =IF(AB5<>"Dim",IF(SUM($Z10:AB10)>32,MIN(SUM($Z10:AB10),35)-32-SUM($Z11:AA11),0),0) -> 0 | AC11: =IF(AC5<>"Dim",IF(SUM($Z10:AC10)>32,MIN(SUM($Z10:AC10),35)-32-SUM($Z11:AB11),0),0) -> 0 | AF11: =IF(AF5<>"Dim",IF(SUM($Z10:AF10)>32,MIN(SUM($Z10:AF10),35)-32-SUM($Z11:AE11),0),0) -> 0 | AG11: =SUM(Z11:AF11) -> 0 | AH11: =IF(AH5<>"Dim",IF(AH10>32,MIN(AH10,35)-32,0),0) -> 0 | AI11: =IF(AI5<>"Dim",IF(SUM($AH10:AI10)>32,MIN(SUM($AH10:AI10),35)-32-SUM($AH11:AH11),0),0) -> 0 | AJ11: =IF(AJ5<>"Dim",IF(SUM($AH10:AJ10)>32,MIN(SUM($AH10:AJ10),35)-32-SUM($AH11:AI11),0),0) -> 0 | AK11: =IF(AK5<>"Dim",IF(SUM($AH10:AK10)>32,MIN(SUM($AH10:AK10),35)-32-SUM($AH11:AJ11),0),0) -> 0 | AL11: =IF(AL5<>"Dim",IF(SUM($AH10:AL10)>32,MIN(SUM($AH10:AL10),35)-32-SUM($AH11:AK11),0),0) -> 0 | AM11: =IF(AM5<>"Dim",IF(SUM($AH10:AM10)>32,MIN(SUM($AH10:AM10),35)-32-SUM($AH11:AL11),0),0) -> 0 | AN11: =IF(AN5<>"Dim",IF(SUM($AH10:AN10)>32,MIN(SUM($AH10:AN10),35)-32-SUM($AH11:AM11),0),0) -> 0 | AO11: =SUM(AH11:AN11) -> 0 | AP11: =IF(AP5<>"Dim",IF(AP10>32,MIN(AP10,35)-32,0),0) -> 0 | AQ11: =IF(AQ5<>"Dim",IF(SUM($AP10:AQ10)>32,MIN(SUM($AP10:AQ10),35)-32-SUM($AP11:AP11),0),0) -> 0 | AR11: =SUM(AP11:AQ11) -> 0 | AS11: =I11+Q11+Y11+AG11+AO11+AR11 -> 0
A12: HS 25% | B12: =IF(B5<>"Dim",IF(B10>35,(MIN(B10,43)-35),0),0) -> 0 | C12: =IF(C5<>"Dim",IF(SUM($B10:C10)>35,(MIN(SUM($B10:C10),43)-35-SUM($B12:B12)),0),0) -> 0 | D12: =IF(D5<>"Dim",IF(SUM($B10:D10)>35,(MIN(SUM($B10:D10),43)-35-SUM($B12:C12)),0),0) -> 0 | E12: =IF(E5<>"Dim",IF(SUM($B10:E10)>35,(MIN(SUM($B10:E10),43)-35-SUM($B12:D12)),0),0) -> 0 | F12: =IF(F5<>"Dim",IF(SUM($B10:F10)>35,(MIN(SUM($B10:F10),43)-35-SUM($B12:E12)),0),0) -> 0 | G12: =IF(G5<>"Dim",IF(SUM($B10:G10)>35,(MIN(SUM($B10:G10),43)-35-SUM($B12:F12)),0),0) -> 0 | H12: =IF(H5<>"Dim",IF(SUM($B10:H10)>35,(MIN(SUM($B10:H10),43)-35-SUM($B12:G12)),0),0) -> 0 | I12: =SUM(B12:H12) -> 0 | J12: =IF(J5<>"Dim",IF(J10>35,(MIN(J10,43)-35),0),0) -> 0 | K12: =IF(K5<>"Dim",IF(SUM($J10:K10)>35,(MIN(SUM($J10:K10),43)-35-SUM($J12:J12)),0),0) -> 0 | L12: =IF(L5<>"Dim",IF(SUM($J10:L10)>35,(MIN(SUM($J10:L10),43)-35-SUM($J12:K12)),0),0) -> 0 | M12: 0.5 | N12: 1.5 | P12: =IF(P5<>"Dim",IF(SUM($J10:P10)>35,(MIN(SUM($J10:P10),43)-35-SUM($J12:O12)),0),0) -> 0 | Q12: =SUM(J12:P12) -> 2 | R12: =IF(R5<>"Dim",IF(R10>35,(MIN(R10,43)-35),0),0) -> 0 | S12: =IF(S5<>"Dim",IF(SUM($R10:S10)>35,(MIN(SUM($R10:S10),43)-35-SUM($R12:R12)),0),0) -> 0 | T12: =IF(T5<>"Dim",IF(SUM($R10:T10)>35,(MIN(SUM($R10:T10),43)-35-SUM($R12:S12)),0),0) -> 0 | U12: =IF(U5<>"Dim",IF(SUM($R10:U10)>35,(MIN(SUM($R10:U10),43)-35-SUM($R12:T12)),0),0) -> 0 | V12: =IF(V5<>"Dim",IF(SUM($R10:V10)>35,(MIN(SUM($R10:V10),43)-35-SUM($R12:U12)),0),0) -> 0 | W12: =IF(W5<>"Dim",IF(SUM($R10:W10)>35,(MIN(SUM($R10:W10),43)-35-SUM($R12:V12)),0),0) -> 0 | X12: =IF(X5<>"Dim",IF(SUM($R10:X10)>35,(MIN(SUM($R10:X10),43)-35-SUM($R12:W12)),0),0) -> 0 | Y12: =SUM(R12:X12) -> 0 | Z12: =IF(Z5<>"Dim",IF(Z10>35,(MIN(Z10,43)-35),0),0) -> 0 | AA12: =IF(AA5<>"Dim",IF(SUM($Z10:AA10)>35,(MIN(SUM($Z10:AA10),43)-35-SUM($Z12:Z12)),0),0) -> 0 | AB12: =IF(AB5<>"Dim",IF(SUM($Z10:AB10)>35,(MIN(SUM($Z10:AB10),43)-35-SUM($Z12:AA12)),0),0) -> 0 | AC12: =IF(AC5<>"Dim",IF(SUM($Z10:AC10)>35,(MIN(SUM($Z10:AC10),43)-35-SUM($Z12:AB12)),0),0) -> 0 | AF12: =IF(AF5<>"Dim",IF(SUM($Z10:AF10)>35,(MIN(SUM($Z10:AF10),43)-35-SUM($Z12:AE12)),0),0) -> 0 | AG12: =SUM(Z12:AF12) -> 0 | AH12: =IF(AH5<>"Dim",IF(AH10>35,(MIN(AH10,43)-35),0),0) -> 0 | AI12: =IF(AI5<>"Dim",IF(SUM($AH10:AI10)>35,(MIN(SUM($AH10:AI10),43)-35-SUM($AH12:AH12)),0),0) -> 0 | AJ12: =IF(AJ5<>"Dim",IF(SUM($AH10:AJ10)>35,(MIN(SUM($AH10:AJ10),43)-35-SUM($AH12:AI12)),0),0) -> 0 | AK12: =IF(AK5<>"Dim",IF(SUM($AH10:AK10)>35,(MIN(SUM($AH10:AK10),43)-35-SUM($AH12:AJ12)),0),0) -> 0 | AL12: =IF(AL5<>"Dim",IF(SUM($AH10:AL10)>35,(MIN(SUM($AH10:AL10),43)-35-SUM($AH12:AK12)),0),0) -> 0 | AM12: =IF(AM5<>"Dim",IF(SUM($AH10:AM10)>35,(MIN(SUM($AH10:AM10),43)-35-SUM($AH12:AL12)),0),0) -> 0 | AN12: =IF(AN5<>"Dim",IF(SUM($AH10:AN10)>35,(MIN(SUM($AH10:AN10),43)-35-SUM($AH12:AM12)),0),0) -> 0 | AO12: =SUM(AH12:AN12) -> 0 | AP12: =IF(AP5<>"Dim",IF(AP10>35,(MIN(AP10,43)-35),0),0) -> 0 | AQ12: =IF(AQ5<>"Dim",IF(SUM($AP10:AQ10)>35,(MIN(SUM($AP10:AQ10),43)-35-SUM($AP12:AP12)),0),0) -> 0 | AR12: =SUM(AP12:AQ12) -> 0 | AS12: =I12+Q12+Y12+AG12+AO12+AR12 -> 2
A13: HS 50% | B13: =IF(B5<>"Dim",IF(B10>43,(MIN(B10,48)-43),0),0) -> 0 | C13: =IF(C5<>"Dim",IF(SUM($B10:C10)>43,(MIN(SUM($B10:C10),48)-43-SUM($B13:B13)),0),0) -> 0 | D13: =IF(D5<>"Dim",IF(SUM($B10:D10)>43,(MIN(SUM($B10:D10),48)-43-SUM($B13:C13)),0),0) -> 0 | E13: =IF(E5<>"Dim",IF(SUM($B10:E10)>43,(MIN(SUM($B10:E10),48)-43-SUM($B13:D13)),0),0) -> 0 | F13: =IF(F5<>"Dim",IF(SUM($B10:F10)>43,(MIN(SUM($B10:F10),48)-43-SUM($B13:E13)),0),0) -> 0 | G13: =IF(G5<>"Dim",IF(SUM($B10:G10)>43,(MIN(SUM($B10:G10),48)-43-SUM($B13:F13)),0),0) -> 0 | H13: =IF(H5<>"Dim",IF(SUM($B10:H10)>43,(MIN(SUM($B10:H10),48)-43-SUM($B13:G13)),0),0) -> 0 | I13: =SUM(B13:H13) -> 0 | J13: =IF(J5<>"Dim",IF(J10>43,(MIN(J10,48)-43),0),0) -> 0 | K13: =IF(K5<>"Dim",IF(SUM($J10:K10)>43,(MIN(SUM($J10:K10),48)-43-SUM($J13:J13)),0),0) -> 0 | L13: =IF(L5<>"Dim",IF(SUM($J10:L10)>43,(MIN(SUM($J10:L10),48)-43-SUM($J13:K13)),0),0) -> 0 | M13: =IF(M5<>"Dim",IF(SUM($J10:M10)>43,(MIN(SUM($J10:M10),48)-43-SUM($J13:L13)),0),0) -> 0 | N13: =IF(N5<>"Dim",IF(SUM($J10:N10)>43,(MIN(SUM($J10:N10),48)-43-SUM($J13:M13)),0),0) -> 0 | O13: =IF(O5<>"Dim",IF(SUM($J10:O10)>43,(MIN(SUM($J10:O10),48)-43-SUM($J13:N13)),0),0) -> 0 | P13: =IF(P5<>"Dim",IF(SUM($J10:P10)>43,(MIN(SUM($J10:P10),48)-43-SUM($J13:O13)),0),0) -> 0 | Q13: =SUM(J13:P13) -> 0 | R13: =IF(R5<>"Dim",IF(R10>43,(MIN(R10,48)-43),0),0) -> 0 | S13: =IF(S5<>"Dim",IF(SUM($R10:S10)>43,(MIN(SUM($R10:S10),48)-43-SUM($R13:R13)),0),0) -> 0 | T13: =IF(T5<>"Dim",IF(SUM($R10:T10)>43,(MIN(SUM($R10:T10),48)-43-SUM($R13:S13)),0),0) -> 0 | U13: =IF(U5<>"Dim",IF(SUM($R10:U10)>43,(MIN(SUM($R10:U10),48)-43-SUM($R13:T13)),0),0) -> 0 | V13: =IF(V5<>"Dim",IF(SUM($R10:V10)>43,(MIN(SUM($R10:V10),48)-43-SUM($R13:U13)),0),0) -> 0 | W13: =IF(W5<>"Dim",IF(SUM($R10:W10)>43,(MIN(SUM($R10:W10),48)-43-SUM($R13:V13)),0),0) -> 0 | X13: =IF(X5<>"Dim",IF(SUM($R10:X10)>43,(MIN(SUM($R10:X10),48)-43-SUM($R13:W13)),0),0) -> 0 | Y13: =SUM(R13:X13) -> 0 | Z13: =IF(Z5<>"Dim",IF(Z10>43,(MIN(Z10,48)-43),0),0) -> 0 | AA13: =IF(AA5<>"Dim",IF(SUM($Z10:AA10)>43,(MIN(SUM($Z10:AA10),48)-43-SUM($Z13:Z13)),0),0) -> 0 | AB13: =IF(AB5<>"Dim",IF(SUM($Z10:AB10)>43,(MIN(SUM($Z10:AB10),48)-43-SUM($Z13:AA13)),0),0) -> 0 | AC13: =IF(AC5<>"Dim",IF(SUM($Z10:AC10)>43,(MIN(SUM($Z10:AC10),48)-43-SUM($Z13:AB13)),0),0) -> 0 | AD13: =IF(AD5<>"Dim",IF(SUM($Z10:AD10)>43,(MIN(SUM($Z10:AD10),48)-43-SUM($Z13:AC13)),0),0) -> 0 | AE13: =IF(AE5<>"Dim",IF(SUM($Z10:AE10)>43,(MIN(SUM($Z10:AE10),48)-43-SUM($Z13:AD13)),0),0) -> 0 | AF13: =IF(AF5<>"Dim",IF(SUM($Z10:AF10)>43,(MIN(SUM($Z10:AF10),48)-43-SUM($Z13:AE13)),0),0) -> 0 | AG13: =SUM(Z13:AF13) -> 0 | AH13: =IF(AH5<>"Dim",IF(AH10>43,(MIN(AH10,48)-43),0),0) -> 0 | AI13: =IF(AI5<>"Dim",IF(SUM($AH10:AI10)>43,(MIN(SUM($AH10:AI10),48)-43-SUM($AH13:AH13)),0),0) -> 0 | AJ13: =IF(AJ5<>"Dim",IF(SUM($AH10:AJ10)>43,(MIN(SUM($AH10:AJ10),48)-43-SUM($AH13:AI13)),0),0) -> 0 | AK13: =IF(AK5<>"Dim",IF(SUM($AH10:AK10)>43,(MIN(SUM($AH10:AK10),48)-43-SUM($AH13:AJ13)),0),0) -> 0 | AL13: =IF(AL5<>"Dim",IF(SUM($AH10:AL10)>43,(MIN(SUM($AH10:AL10),48)-43-SUM($AH13:AK13)),0),0) -> 0 | AM13: =IF(AM5<>"Dim",IF(SUM($AH10:AM10)>43,(MIN(SUM($AH10:AM10),48)-43-SUM($AH13:AL13)),0),0) -> 0 | AN13: =IF(AN5<>"Dim",IF(SUM($AH10:AN10)>43,(MIN(SUM($AH10:AN10),48)-43-SUM($AH13:AM13)),0),0) -> 0 | AO13: =SUM(AH13:AN13) -> 0 | AP13: =IF(AP5<>"Dim",IF(AP10>43,(MIN(AP10,48)-43),0),0) -> 0 | AQ13: =IF(AQ5<>"Dim",IF(SUM($AP10:AQ10)>43,(MIN(SUM($AP10:AQ10),48)-43-SUM($AP13:AP13)),0),0) -> 0 | AR13: =SUM(AP13:AQ13) -> 0 | AS13: =I13+Q13+Y13+AG13+AO13+AR13 -> 0
A14: HS 200% | B14: =IF(B5="Dim",B10,IF(B20="ferie",B10,0)) -> 0 | C14: =IF(C5="Dim",C10,IF(C20="ferie",C10,0)) -> 0 | D14: =IF(D5="Dim",D10,IF(D20="ferie",D10,0)) -> 0 | E14: =IF(E5="Dim",E10,IF(E20="ferie",E10,0)) -> 0 | F14: =IF(F5="Dim",F10,IF(F20="ferie",F10,0)) -> 0 | G14: =IF(G5="Dim",G10,IF(G20="ferie",G10,0)) -> 0 | H14: =IF(H5="Dim",H10,IF(H20="ferie",H10,0)) -> 0 | I14: =SUM(B14:H14) -> 0 | J14: =IF(J5="Dim",J10,IF(J20="ferie",J10,0)) -> 0 | K14: =IF(K5="Dim",K10,IF(K20="ferie",K10,0)) -> 0 | L14: =IF(L5="Dim",L10,IF(L20="ferie",L10,0)) -> 0 | M14: =IF(M5="Dim",M10,IF(M20="ferie",M10,0)) -> 0 | N14: =IF(N5="Dim",N10,IF(N20="ferie",N10,0)) -> 0 | O14: =IF(O5="Dim",O10,IF(O20="ferie",O10,0)) -> 0 | P14: =IF(P5="Dim",P10,IF(P20="ferie",P10,0)) -> 0 | Q14: =SUM(J14:P14) -> 0 | R14: =IF(R5="Dim",R10,IF(R20="ferie",R10,0)) -> 0 | S14: =IF(S5="Dim",S10,IF(S20="ferie",S10,0)) -> 0 | T14: =IF(T5="Dim",T10,IF(T20="ferie",T10,0)) -> 0 | U14: =IF(U5="Dim",U10,IF(U20="ferie",U10,0)) -> 0 | V14: =IF(V5="Dim",V10,IF(V20="ferie",V10,0)) -> 0 | W14: =IF(W5="Dim",W10,IF(W20="ferie",W10,0)) -> 0 | X14: =IF(X5="Dim",X10,IF(X20="ferie",X10,0)) -> 0 | Y14: =SUM(R14:X14) -> 0 | Z14: =IF(Z5="Dim",Z10,IF(Z20="ferie",Z10,0)) -> 0 | AA14: =IF(AA5="Dim",AA10,IF(AA20="ferie",AA10,0)) -> 0 | AB14: =IF(AB5="Dim",AB10,IF(AB20="ferie",AB10,0)) -> 0 | AC14: =IF(AC5="Dim",AC10,IF(AC20="ferie",AC10,0)) -> 0 | AD14: =IF(AD5="Dim",AD10,IF(AD20="ferie",AD10,0)) -> 0 | AE14: =IF(AE5="Dim",AE10,IF(AE20="ferie",AE10,0)) -> 0 | AF14: =IF(AF5="Dim",AF10,IF(AF20="ferie",AF10,0)) -> 0 | AG14: =SUM(Z14:AF14) -> 0 | AH14: =IF(AH5="Dim",AH10,IF(AH20="ferie",AH10,0)) -> 0 | AI14: =IF(AI5="Dim",AI10,IF(AI20="ferie",AI10,0)) -> 0 | AJ14: =IF(AJ5="Dim",AJ10,IF(AJ20="ferie",AJ10,0)) -> 0 | AK14: =IF(AK5="Dim",AK10,IF(AK20="ferie",AK10,0)) -> 0 | AL14: =IF(AL5="Dim",AL10,IF(AL20="ferie",AL10,0)) -> 0 | AM14: =IF(AM5="Dim",AM10,IF(AM20="ferie",AM10,0)) -> 0 | AN14: =IF(AN5="Dim",AN10,IF(AN20="ferie",AN10,0)) -> 0 | AO14: =SUM(AH14:AN14) -> 0 | AP14: =IF(AP5="Dim",AP10,IF(AP20="ferie",AP10,0)) -> 0 | AQ14: =IF(AQ5="Dim",AQ10,IF(AQ20="ferie",AQ10,0)) -> 0 | AR14: =SUM(AP14:AQ14) -> 0 | AS14: =I14+Q14+Y14+AG14+AO14+AR14 -> 0
A15: HR + | I15: =SUM(B15:H15) -> 0 | Q15: =SUM(J15:P15) -> 0 | Y15: =SUM(R15:X15) -> 0 | AG15: =SUM(Z15:AF15) -> 0 | AO15: =SUM(AH15:AN15) -> 0 | AR15: =SUM(AP15:AQ15) -> 0 | AS15: =I15+Q15+Y15+AG15+AO15+AR15 -> 0
A16: HR - | I16: =SUM(B16:H16) -> 0 | Q16: =SUM(J16:P16) -> 0 | Y16: =SUM(R16:X16) -> 0 | AG16: =SUM(Z16:AF16) -> 0 | AL16: 8 | AO16: =SUM(AH16:AN16) -> 8 | AR16: =SUM(AP16:AQ16) -> 0 | AS16: =I16+Q16+Y16+AG16+AO16+AR16 -> 8
A17: CP - | I17: =SUM(B17:H17) -> 0 | Q17: =SUM(J17:P17) -> 0 | Y17: =SUM(R17:X17) -> 0 | AG17: =SUM(Z17:AF17) -> 0 | AO17: =SUM(AH17:AN17) -> 0 | AR17: =SUM(AP17:AQ17) -> 0 | AS17: =I17+Q17+Y17+AG17+AO17+AR17 -> 0
A18: RC - | I18: =SUM(B18:H18) -> 0 | Q18: =SUM(J18:P18) -> 0 | Y18: =SUM(R18:X18) -> 0 | AG18: =SUM(Z18:AF18) -> 0 | AO18: =SUM(AH18:AN18) -> 0 | AR18: =SUM(AP18:AQ18) -> 0 | AS18: =I18+Q18+Y18+AG18+AO18+AR18 -> 0
A19: RC nuit | B19: =IF(B7="nuit",B10*0.02,0) -> 0 | C19: =IF(C7="nuit",C10*0.02,0) -> 0 | D19: =IF(D7="nuit",D10*0.02,0) -> 0 | E19: =IF(E7="nuit",E10*0.02,0) -> 0 | F19: =IF(F7="nuit",F10*0.02,0) -> 0 | G19: =IF(G7="nuit",G10*0.02,0) -> 0 | H19: =IF(H7="nuit",H10*0.02,0) -> 0 | I19: =SUM(B19:H19) -> 0 | J19: =IF(J7="nuit",J10*0.02,0) -> 0 | K19: =IF(K7="nuit",K10*0.02,0) -> 0 | L19: =IF(L7="nuit",L10*0.02,0) -> 0 | M19: =IF(M7="nuit",M10*0.02,0) -> 0 | N19: =IF(N7="nuit",N10*0.02,0) -> 0 | O19: =IF(O7="nuit",O10*0.02,0) -> 0 | P19: =IF(P7="nuit",P10*0.02,0) -> 0 | Q19: =SUM(J19:P19) -> 0 | R19: =IF(R7="nuit",R10*0.02,0) -> 0 | S19: =IF(S7="nuit",S10*0.02,0) -> 0 | T19: =IF(T7="nuit",T10*0.02,0) -> 0 | U19: =IF(U7="nuit",U10*0.02,0) -> 0 | V19: =IF(V7="nuit",V10*0.02,0) -> 0 | W19: =IF(W7="nuit",W10*0.02,0) -> 0 | X19: =IF(X7="nuit",X10*0.02,0) -> 0 | Y19: =SUM(R19:X19) -> 0 | Z19: =IF(Z7="nuit",Z10*0.02,0) -> 0.16 | AA19: =IF(AA7="nuit",AA10*0.02,0) -> 0.16 | AB19: =IF(AB7="nuit",AB10*0.02,0) -> 0.16 | AC19: =IF(AC7="nuit",AC10*0.02,0) -> 0.16 | AD19: =IF(AD7="nuit",AD10*0.02,0) -> 0.16 | AE19: =IF(AE7="nuit",AE10*0.02,0) -> 0 | AF19: =IF(AF7="nuit",AF10*0.02,0) -> 0 | AG19: =SUM(Z19:AF19) -> 0.8 | AH19: =IF(AH7="nuit",AH10*0.02,0) -> 0 | AI19: =IF(AI7="nuit",AI10*0.02,0) -> 0 | AJ19: =IF(AJ7="nuit",AJ10*0.02,0) -> 0 | AK19: =IF(AK7="nuit",AK10*0.02,0) -> 0 | AL19: =IF(AL7="nuit",AL10*0.02,0) -> 0 | AM19: =IF(AM7="nuit",AM10*0.02,0) -> 0 | AN19: =IF(AN7="nuit",AN10*0.02,0) -> 0 | AO19: =SUM(AH19:AN19) -> 0 | AP19: =IF(AP7="nuit",AP10*0.02,0) -> 0 | AQ19: =IF(AQ7="nuit",AQ10*0.02,0) -> 0 | AR19: =SUM(AP19:AQ19) -> 0 | AS19: =I19+Q19+Y19+AG19+AO19+AR19 -> 0.8
A20: Note
B22: FÉVRIER | G22: =Année_Calendaire -> 2016 | R22: FÉVRIER | W22: =Année_Calendaire -> 2016 | AH22: FÉVRIER | AM22: =Année_Calendaire -> 2016
B23: Lun | C23: Mar | D23: Mer | E23: Jeu | F23: Ven | G23: Sam | H23: Dim | I23: Cumul | J23: Lun | K23: Mar | L23: Mer | M23: Jeu | N23: Ven | O23: Sam | P23: Dim | Q23: Cumul | R23: Lun | S23: Mar | T23: Mer | U23: Jeu | V23: Ven | W23: Sam | X23: Dim | Y23: Cumul | Z23: Lun | AA23: Mar | AB23: Mer | AC23: Jeu | AD23: Ven | AE23: Sam | AF23: Dim | AG23: Cumul | AH23: Lun | AI23: Mar | AJ23: Mer | AK23: Jeu | AL23: Ven | AM23: Sam | AN23: Dim | AO23: Cumul | AP23: Lun | AQ23: Mar | AR23: Cumul | AS23: Cumul total | AT23: =AS30+AS31+AS32 -> 5 | AU23: =AT23+AU5 -> 7
B24: =IF(DAY(Fév_Dim1)=1,"",IF(AND(YEAR(Fév_Dim1+1)=Année_Calendaire,MONTH(Fév_Dim1+1)=2),Fév_Dim1+1,"")) -> 42401 | C24: =IF(DAY(Fév_Dim1)=1,"",IF(AND(YEAR(Fév_Dim1+2)=Année_Calendaire,MONTH(Fév_Dim1+2)=2),Fév_Dim1+2,"")) -> 42402 | D24: =IF(DAY(Fév_Dim1)=1,"",IF(AND(YEAR(Fév_Dim1+3)=Année_Calendaire,MONTH(Fév_Dim1+3)=2),Fév_Dim1+3,"")) -> 42403 | E24: =IF(DAY(Fév_Dim1)=1,"",IF(AND(YEAR(Fév_Dim1+4)=Année_Calendaire,MONTH(Fév_Dim1+4)=2),Fév_Dim1+4,"")) -> 42404 | F24: =IF(DAY(Fév_Dim1)=1,"",IF(AND(YEAR(Fév_Dim1+5)=Année_Calendaire,MONTH(Fév_Dim1+5)=2),Fév_Dim1+5,"")) -> 42405 | G24: =IF(DAY(Fév_Dim1)=1,"",IF(AND(YEAR(Fév_Dim1+6)=Année_Calendaire,MONTH(Fév_Dim1+6)=2),Fév_Dim1+6,"")) -> 42406 | H24: =IF(DAY(Fév_Dim1)=1,IF(AND(YEAR(Fév_Dim1)=Année_Calendaire,MONTH(Fév_Dim1)=2),Fév_Dim1,""),IF(AND(YEAR(Fév_Dim1+7)=Année_Calendaire,MONTH(Fév_Dim1+7)=2),Fév_Dim1+7,"")) -> 42407 | J24: =IF(DAY(Fév_Dim1)=1,IF(AND(YEAR(Fév_Dim1+1)=Année_Calendaire,MONTH(Fév_Dim1+1)=2),Fév_Dim1+1,""),IF(AND(YEAR(Fév_Dim1+8)=Année_Calendaire,MONTH(Fév_Dim1+8)=2),Fév_Dim1+8,"")) -> 42408 | K24: =IF(DAY(Fév_Dim1)=1,IF(AND(YEAR(Fév_Dim1+2)=Année_Calendaire,MONTH(Fév_Dim1+2)=2),Fév_Dim1+2,""),IF(AND(YEAR(Fév_Dim1+9)=Année_Calendaire,MONTH(Fév_Dim1+9)=2),Fév_Dim1+9,"")) -> 42409 | L24: =IF(DAY(Fév_Dim1)=1,IF(AND(YEAR(Fév_Dim1+3)=Année_Calendaire,MONTH(Fév_Dim1+3)=2),Fév_Dim1+3,""),IF(AND(YEAR(Fév_Dim1+10)=Année_Calendaire,MONTH(Fév_Dim1+10)=2),Fév_Dim1+10,"")) -> 42410 | M24: =IF(DAY(Fév_Dim1)=1,IF(AND(YEAR(Fév_Dim1+4)=Année_Calendaire,MONTH(Fév_Dim1+4)=2),Fév_Dim1+4,""),IF(AND(YEAR(Fév_Dim1+11)=Année_Calendaire,MONTH(Fév_Dim1+11)=2),Fév_Dim1+11,"")) -> 42411 | N24: =IF(DAY(Fév_Dim1)=1,IF(AND(YEAR(Fév_Dim1+5)=Année_Calendaire,MONTH(Fév_Dim1+5)=2),Fév_Dim1+5,""),IF(AND(YEAR(Fév_Dim1+12)=Année_Calendaire,MONTH(Fév_Dim1+12)=2),Fév_Dim1+12,"")) -> 42412 | O24: =IF(DAY(Fév_Dim1)=1,IF(AND(YEAR(Fév_Dim1+6)=Année_Calendaire,MONTH(Fév_Dim1+6)=2),Fév_Dim1+6,""),IF(AND(YEAR(Fév_Dim1+13)=Année_Calendaire,MONTH(Fév_Dim1+13)=2),Fév_Dim1+13,"")) -> 42413 | P24: =IF(DAY(Fév_Dim1)=1,IF(AND(YEAR(Fév_Dim1+7)=Année_Calendaire,MONTH(Fév_Dim1+7)=2),Fév_Dim1+7,""),IF(AND(YEAR(Fév_Dim1+14)=Année_Calendaire,MONTH(Fév_Dim1+14)=2),Fév_Dim1+14,"")) -> 42414 | R24: =IF(DAY(Fév_Dim1)=1,IF(AND(YEAR(Fév_Dim1+8)=Année_Calendaire,MONTH(Fév_Dim1+8)=2),Fév_Dim1+8,""),IF(AND(YEAR(Fév_Dim1+15)=Année_Calendaire,MONTH(Fév_Dim1+15)=2),Fév_Dim1+15,"")) -> 42415 | S24: =IF(DAY(Fév_Dim1)=1,IF(AND(YEAR(Fév_Dim1+9)=Année_Calendaire,MONTH(Fév_Dim1+9)=2),Fév_Dim1+9,""),IF(AND(YEAR(Fév_Dim1+16)=Année_Calendaire,MONTH(Fév_Dim1+16)=2),Fév_Dim1+16,"")) -> 42416 | T24: =IF(DAY(Fév_Dim1)=1,IF(AND(YEAR(Fév_Dim1+10)=Année_Calendaire,MONTH(Fév_Dim1+10)=2),Fév_Dim1+10,""),IF(AND(YEAR(Fév_Dim1+17)=Année_Calendaire,MONTH(Fév_Dim1+17)=2),Fév_Dim1+17,"")) -> 42417 | U24: =IF(DAY(Fév_Dim1)=1,IF(AND(YEAR(Fév_Dim1+11)=Année_Calendaire,MONTH(Fév_Dim1+11)=2),Fév_Dim1+11,""),IF(AND(YEAR(Fév_Dim1+18)=Année_Calendaire,MONTH(Fév_Dim1+18)=2),Fév_Dim1+18,"")) -> 42418 | V24: =IF(DAY(Fév_Dim1)=1,IF(AND(YEAR(Fév_Dim1+12)=Année_Calendaire,MONTH(Fév_Dim1+12)=2),Fév_Dim1+12,""),IF(AND(YEAR(Fév_Dim1+19)=Année_Calendaire,MONTH(Fév_Dim1+19)=2),Fév_Dim1+19,"")) -> 42419 | W24: =IF(DAY(Fév_Dim1)=1,IF(AND(YEAR(Fév_Dim1+13)=Année_Calendaire,MONTH(Fév_Dim1+13)=2),Fév_Dim1+13,""),IF(AND(YEAR(Fév_Dim1+20)=Année_Calendaire,MONTH(Fév_Dim1+20)=2),Fév_Dim1+20,"")) -> 42420 | X24: =IF(DAY(Fév_Dim1)=1,IF(AND(YEAR(Fév_Dim1+14)=Année_Calendaire,MONTH(Fév_Dim1+14)=2),Fév_Dim1+14,""),IF(AND(YEAR(Fév_Dim1+21)=Année_Calendaire,MONTH(Fév_Dim1+21)=2),Fév_Dim1+21,"")) -> 42421 | Z24: =IF(DAY(Fév_Dim1)=1,IF(AND(YEAR(Fév_Dim1+15)=Année_Calendaire,MONTH(Fév_Dim1+15)=2),Fév_Dim1+15,""),IF(AND(YEAR(Fév_Dim1+22)=Année_Calendaire,MONTH(Fév_Dim1+22)=2),Fév_Dim1+22,"")) -> 42422 | AA24: =IF(DAY(Fév_Dim1)=1,IF(AND(YEAR(Fév_Dim1+16)=Année_Calendaire,MONTH(Fév_Dim1+16)=2),Fév_Dim1+16,""),IF(AND(YEAR(Fév_Dim1+23)=Année_Calendaire,MONTH(Fév_Dim1+23)=2),Fév_Dim1+23,"")) -> 42423 | AB24: =IF(DAY(Fév_Dim1)=1,IF(AND(YEAR(Fév_Dim1+17)=Année_Calendaire,MONTH(Fév_Dim1+17)=2),Fév_Dim1+17,""),IF(AND(YEAR(Fév_Dim1+24)=Année_Calendaire,MONTH(Fév_Dim1+24)=2),Fév_Dim1+24,"")) -> 42424 | AC24: =IF(DAY(Fév_Dim1)=1,IF(AND(YEAR(Fév_Dim1+18)=Année_Calendaire,MONTH(Fév_Dim1+18)=2),Fév_Dim1+18,""),IF(AND(YEAR(Fév_Dim1+25)=Année_Calendaire,MONTH(Fév_Dim1+25)=2),Fév_Dim1+25,"")) -> 42425 | AD24: =IF(DAY(Fév_Dim1)=1,IF(AND(YEAR(Fév_Dim1+19)=Année_Calendaire,MONTH(Fév_Dim1+19)=2),Fév_Dim1+19,""),IF(AND(YEAR(Fév_Dim1+26)=Année_Calendaire,MONTH(Fév_Dim1+26)=2),Fév_Dim1+26,"")) -> 42426 | AE24: =IF(DAY(Fév_Dim1)=1,IF(AND(YEAR(Fév_Dim1+20)=Année_Calendaire,MONTH(Fév_Dim1+20)=2),Fév_Dim1+20,""),IF(AND(YEAR(Fév_Dim1+27)=Année_Calendaire,MONTH(Fév_Dim1+27)=2),Fév_Dim1+27,"")) -> 42427 | AF24: =IF(DAY(Fév_Dim1)=1,IF(AND(YEAR(Fév_Dim1+21)=Année_Calendaire,MONTH(Fév_Dim1+21)=2),Fév_Dim1+21,""),IF(AND(YEAR(Fév_Dim1+28)=Année_Calendaire,MONTH(Fév_Dim1+28)=2),Fév_Dim1+28,"")) -> 42428 | AH24: =IF(DAY(Fév_Dim1)=1,IF(AND(YEAR(Fév_Dim1+22)=Année_Calendaire,MONTH(Fév_Dim1+22)=2),Fév_Dim1+22,""),IF(AND(YEAR(Fév_Dim1+29)=Année_Calendaire,MONTH(Fév_Dim1+29)=2),Fév_Dim1+29,"")) -> 42429 | AI24: =IF(DAY(Fév_Dim1)=1,IF(AND(YEAR(Fév_Dim1+23)=Année_Calendaire,MONTH(Fév_Dim1+23)=2),Fév_Dim1+23,""),IF(AND(YEAR(Fév_Dim1+30)=Année_Calendaire,MONTH(Fév_Dim1+30)=2),Fév_Dim1+30,"")) | AJ24: =IF(DAY(Fév_Dim1)=1,IF(AND(YEAR(Fév_Dim1+24)=Année_Calendaire,MONTH(Fév_Dim1+24)=2),Fév_Dim1+24,""),IF(AND(YEAR(Fév_Dim1+31)=Année_Calendaire,MONTH(Fév_Dim1+31)=2),Fév_Dim1+31,"")) | AK24: =IF(DAY(Fév_Dim1)=1,IF(AND(YEAR(Fév_Dim1+25)=Année_Calendaire,MONTH(Fév_Dim1+25)=2),Fév_Dim1+25,""),IF(AND(YEAR(Fév_Dim1+32)=Année_Calendaire,MONTH(Fév_Dim1+32)=2),Fév_Dim1+32,"")) | AL24: =IF(DAY(Fév_Dim1)=1,IF(AND(YEAR(Fév_Dim1+26)=Année_Calendaire,MONTH(Fév_Dim1+26)=2),Fév_Dim1+26,""),IF(AND(YEAR(Fév_Dim1+33)=Année_Calendaire,MONTH(Fév_Dim1+33)=2),Fév_Dim1+33,"")) | AM24: =IF(DAY(Fév_Dim1)=1,IF(AND(YEAR(Fév_Dim1+27)=Année_Calendaire,MONTH(Fév_Dim1+27)=2),Fév_Dim1+27,""),IF(AND(YEAR(Fév_Dim1+34)=Année_Calendaire,MONTH(Fév_Dim1+34)=2),Fév_Dim1+34,"")) | AN24: =IF(DAY(Fév_Dim1)=1,IF(AND(YEAR(Fév_Dim1+28)=Année_Calendaire,MONTH(Fév_Dim1+28)=2),Fév_Dim1+28,""),IF(AND(YEAR(Fév_Dim1+35)=Année_Calendaire,MONTH(Fév_Dim1+35)=2),Fév_Dim1+35,"")) | AP24: =IF(DAY(Fév_Dim1)=1,IF(AND(YEAR(Fév_Dim1+29)=Année_Calendaire,MONTH(Fév_Dim1+29)=2),Fév_Dim1+29,""),IF(AND(YEAR(Fév_Dim1+36)=Année_Calendaire,MONTH(Fév_Dim1+36)=2),Fév_Dim1+36,"")) | AQ24: =IF(DAY(Fév_Dim1)=1,IF(AND(YEAR(Fév_Dim1+30)=Année_Calendaire,MONTH(Fév_Dim1+30)=2),Fév_Dim1+30,""),IF(AND(YEAR(Fév_Dim1+37)=Année_Calendaire,MONTH(Fév_Dim1+37)=2),Fév_Dim1+37,""))
A25: Equipe | B25: am | C25: am | D25: am | E25: am | F25: am | J25: matin | K25: matin | L25: matin | M25: matin | N25: matin | Z25: journee | AC25: matin | AD25: matin | AH25: am
A26: Ticket resto | B26: =IF(B25="Matin",1,IF(B25="AM",1,0)) -> 1 | C26: =IF(C25="Matin",1,IF(C25="AM",1,0)) -> 1 | D26: =IF(D25="Matin",1,IF(D25="AM",1,0)) -> 1 | E26: =IF(E25="Matin",1,IF(E25="AM",1,0)) -> 1 | F26: =IF(F25="Matin",1,IF(F25="AM",1,0)) -> 1 | G26: =IF(G25="Matin",1,IF(G25="AM",1,0)) -> 0 | H26: =IF(H25="Matin",1,IF(H25="AM",1,0)) -> 0 | I26: =SUM(B26:H26) -> 5 | J26: =IF(J25="Matin",1,IF(J25="AM",1,0)) -> 1 | K26: =IF(K25="Matin",1,IF(K25="AM",1,0)) -> 1 | L26: =IF(L25="Matin",1,IF(L25="AM",1,0)) -> 1 | M26: =IF(M25="Matin",1,IF(M25="AM",1,0)) -> 1 | N26: =IF(N25="Matin",1,IF(N25="AM",1,0)) -> 1 | O26: =IF(O25="Matin",1,IF(O25="AM",1,0)) -> 0 | P26: =IF(P25="Matin",1,IF(P25="AM",1,0)) -> 0 | Q26: =SUM(J26:P26) -> 5 | R26: =IF(R25="Matin",1,IF(R25="AM",1,0)) -> 0 | S26: =IF(S25="Matin",1,IF(S25="AM",1,0)) -> 0 | T26: =IF(T25="Matin",1,IF(T25="AM",1,0)) -> 0 | U26: =IF(U25="Matin",1,IF(U25="AM",1,0)) -> 0 | V26: =IF(V25="Matin",1,IF(V25="AM",1,0)) -> 0 | W26: =IF(W25="Matin",1,IF(W25="AM",1,0)) -> 0 | X26: =IF(X25="Matin",1,IF(X25="AM",1,0)) -> 0 | Y26: =SUM(R26:X26) -> 0 | Z26: =IF(Z25="Matin",1,IF(Z25="AM",1,0)) -> 0 | AA26: =IF(AA25="Matin",1,IF(AA25="AM",1,0)) -> 0 | AB26: =IF(AB25="Matin",1,IF(AB25="AM",1,0)) -> 0 | AC26: =IF(AC25="Matin",1,IF(AC25="AM",1,0)) -> 1 | AD26: =IF(AD25="Matin",1,IF(AD25="AM",1,0)) -> 1 | AE26: =IF(AE25="Matin",1,IF(AE25="AM",1,0)) -> 0 | AF26: =IF(AF25="Matin",1,IF(AF25="AM",1,0)) -> 0 | AG26: =SUM(Z26:AF26) -> 2 | AH26: =IF(AH25="Matin",1,IF(AH25="AM",1,0)) -> 1 | AI26: =IF(AI25="Matin",1,IF(AI25="AM",1,0)) -> 0 | AJ26: =IF(AJ25="Matin",1,IF(AJ25="AM",1,0)) -> 0 | AK26: =IF(AK25="Matin",1,IF(AK25="AM",1,0)) -> 0 | AL26: =IF(AL25="Matin",1,IF(AL25="AM",1,0)) -> 0 | AM26: =IF(AM25="Matin",1,IF(AM25="AM",1,0)) -> 0 | AN26: =IF(AN25="Matin",1,IF(AN25="AM",1,0)) -> 0 | AO26: =SUM(AH26:AN26) -> 1 | AP26: =IF(AP25="Matin",1,IF(AP25="AM",1,0)) -> 0 | AQ26: =IF(AQ25="Matin",1,IF(AQ25="AM",1,0)) -> 0 | AR26: =SUM(AP26:AQ26) -> 0 | AS26: =I26+Q26+Y26+AG26+AO26+AR26 -> 13
A27: Travailler | B27: =IF(B28>=1,1,0) -> 1 | C27: =IF(C28>=1,1,0) -> 1 | D27: =IF(D28>=1,1,0) -> 1 | E27: =IF(E28>=1,1,0) -> 1 | F27: =IF(F28>=1,1,0) -> 1 | G27: =IF(G28>=1,1,0) -> 0 | H27: =IF(H28>=1,1,0) -> 0 | I27: =SUM(B27:H27) -> 5 | J27: =IF(J28>=1,1,0) -> 1 | K27: =IF(K28>=1,1,0) -> 1 | L27: =IF(L28>=1,1,0) -> 1 | M27: =IF(M28>=1,1,0) -> 1 | N27: =IF(N28>=1,1,0) -> 1 | O27: =IF(O28>=1,1,0) -> 0 | P27: =IF(P28>=1,1,0) -> 0 | Q27: =SUM(J27:P27) -> 5 | R27: =IF(R28>=1,1,0) -> 0 | S27: =IF(S28>=1,1,0) -> 0 | T27: =IF(T28>=1,1,0) -> 0 | U27: =IF(U28>=1,1,0) -> 0 | V27: =IF(V28>=1,1,0) -> 0 | W27: =IF(W28>=1,1,0) -> 0 | X27: =IF(X28>=1,1,0) -> 0 | Y27: =SUM(R27:X27) -> 0 | Z27: =IF(Z28>=1,1,0) -> 1 | AA27: =IF(AA28>=1,1,0) -> 0 | AB27: =IF(AB28>=1,1,0) -> 0 | AC27: =IF(AC28>=1,1,0) -> 1 | AD27: =IF(AD28>=1,1,0) -> 1 | AE27: =IF(AE28>=1,1,0) -> 0 | AF27: =IF(AF28>=1,1,0) -> 0 | AG27: =SUM(Z27:AF27) -> 3 | AH27: =IF(AH28>=1,1,0) -> 1 | AI27: =IF(AI28>=1,1,0) -> 0 | AJ27: =IF(AJ28>=1,1,0) -> 0 | AK27: =IF(AK28>=1,1,0) -> 0 | AL27: =IF(AL28>=1,1,0) -> 0 | AM27: =IF(AM28>=1,1,0) -> 0 | AN27: =IF(AN28>=1,1,0) -> 0 | AO27: =SUM(AH27:AN27) -> 1 | AP27: =IF(AP28>=1,1,0) -> 0 | AQ27: =IF(AQ28>=1,1,0) -> 0 | AR27: =SUM(AP27:AQ27) -> 0 | AS27: =I27+Q27+Y27+AG27+AO27+AR27 -> 14
A28: Nbr heure | B28: 8 | C28: 8 | D28: 8 | E28: 8 | F28: 8 | I28: =SUM(B28:H28) -> 40 | J28: 8 | K28: 8 | L28: 8 | M28: 8 | N28: 8 | Q28: =SUM(J28:P28) -> 40 | Y28: =SUM(R28:X28) -> 0 | Z28: 8 | AC28: 8 | AD28: 8 | AG28: =SUM(Z28:AF28) -> 24 | AH28: 8 | AO28: =SUM(AH28:AN28) -> 8 | AR28: =SUM(AP28:AQ28) -> 0 | AS28: =I28+Q28+Y28+AG28+AO28+AR28 -> 112
A29: Heure comp | B29: =IF(B23<>"Dim",IF(B28>32,MIN(B28,35)-32,0),0) -> 0 | C29: =IF(C23<>"Dim",IF(SUM($B28:C28)>32,MIN(SUM($B28:C28),35)-32-SUM($B29:B29),0),0) -> 0 | D29: =IF(D23<>"Dim",IF(SUM($B28:D28)>32,MIN(SUM($B28:D28),35)-32-SUM($B29:C29),0),0) -> 0 | E29: =IF(E23<>"Dim",IF(SUM($B28:E28)>32,MIN(SUM($B28:E28),35)-32-SUM($B29:D29),0),0) -> 0 | H29: =IF(H23<>"Dim",IF(SUM($B28:H28)>32,MIN(SUM($B28:H28),35)-32-SUM($B29:G29),0),0) -> 0 | I29: =SUM(B29:H29) -> 0 | J29: =IF(J23<>"Dim",IF(J28>32,MIN(J28,35)-32,0),0) -> 0 | K29: =IF(K23<>"Dim",IF(SUM($J28:K28)>32,MIN(SUM($J28:K28),35)-32-SUM($J29:J29),0),0) -> 0 | L29: =IF(L23<>"Dim",IF(SUM($J28:L28)>32,MIN(SUM($J28:L28),35)-32-SUM($J29:K29),0),0) -> 0 | M29: =IF(M23<>"Dim",IF(SUM($J28:M28)>32,MIN(SUM($J28:M28),35)-32-SUM($J29:L29),0),0) -> 0 | N29: =IF(N23<>"Dim",IF(SUM($J28:N28)>32,MIN(SUM($J28:N28),35)-32-SUM($J29:M29),0),0) -> 3 | O29: =IF(O23<>"Dim",IF(SUM($J28:O28)>32,MIN(SUM($J28:O28),35)-32-SUM($J29:N29),0),0) -> 0 | P29: =IF(P23<>"Dim",IF(SUM($J28:P28)>32,MIN(SUM($J28:P28),35)-32-SUM($J29:O29),0),0) -> 0 | Q29: =SUM(J29:P29) -> 3 | R29: =IF(R23<>"Dim",IF(R28>32,MIN(R28,35)-32,0),0) -> 0 | S29: =IF(S23<>"Dim",IF(SUM($R28:S28)>32,MIN(SUM($R28:S28),35)-32-SUM($R29:R29),0),0) -> 0 | T29: =IF(T23<>"Dim",IF(SUM($R28:T28)>32,MIN(SUM($R28:T28),35)-32-SUM($R29:S29),0),0) -> 0 | U29: =IF(U23<>"Dim",IF(SUM($R28:U28)>32,MIN(SUM($R28:U28),35)-32-SUM($R29:T29),0),0) -> 0 | V29: =IF(V23<>"Dim",IF(SUM($R28:V28)>32,MIN(SUM($R28:V28),35)-32-SUM($R29:U29),0),0) -> 0 | W29: =IF(W23<>"Dim",IF(SUM($R28:W28)>32,MIN(SUM($R28:W28),35)-32-SUM($R29:V29),0),0) -> 0 | X29: =IF(X23<>"Dim",IF(SUM($R28:X28)>32,MIN(SUM($R28:X28),35)-32-SUM($R29:W29),0),0) -> 0 | Y29: =SUM(R29:X29) -> 0 | Z29: =IF(Z23<>"Dim",IF(Z28>32,MIN(Z28,35)-32,0),0) -> 0 | AA29: =IF(AA23<>"Dim",IF(SUM($Z28:AA28)>32,MIN(SUM($Z28:AA28),35)-32-SUM($Z29:Z29),0),0) -> 0 | AB29: =IF(AB23<>"Dim",IF(SUM($Z28:AB28)>32,MIN(SUM($Z28:AB28),35)-32-SUM($Z29:AA29),0),0) -> 0 | AC29: =IF(AC23<>"Dim",IF(SUM($Z28:AC28)>32,MIN(SUM($Z28:AC28),35)-32-SUM($Z29:AB29),0),0) -> 0 | AD29: =IF(AD23<>"Dim",IF(SUM($Z28:AD28)>32,MIN(SUM($Z28:AD28),35)-32-SUM($Z29:AC29),0),0) -> 0 | AE29: =IF(AE23<>"Dim",IF(SUM($Z28:AE28)>32,MIN(SUM($Z28:AE28),35)-32-SUM($Z29:AD29),0),0) -> 0 | AF29: =IF(AF23<>"Dim",IF(SUM($Z28:AF28)>32,MIN(SUM($Z28:AF28),35)-32-SUM($Z29:AE29),0),0) -> 0 | AG29: =SUM(Z29:AF29) -> 0 | AH29: =IF(AH23<>"Dim",IF(AH28>32,MIN(AH28,35)-32,0),0) -> 0 | AI29: =IF(AI23<>"Dim",IF(SUM($AH28:AI28)>32,MIN(SUM($AH28:AI28),35)-32-SUM($AH29:AH29),0),0) -> 0 | AJ29: =IF(AJ23<>"Dim",IF(SUM($AH28:AJ28)>32,MIN(SUM($AH28:AJ28),35)-32-SUM($AH29:AI29),0),0) -> 0 | AK29: =IF(AK23<>"Dim",IF(SUM($AH28:AK28)>32,MIN(SUM($AH28:AK28),35)-32-SUM($AH29:AJ29),0),0) -> 0 | AL29: =IF(AL23<>"Dim",IF(SUM($AH28:AL28)>32,MIN(SUM($AH28:AL28),35)-32-SUM($AH29:AK29),0),0) -> 0 | AM29: =IF(AM23<>"Dim",IF(SUM($AH28:AM28)>32,MIN(SUM($AH28:AM28),35)-32-SUM($AH29:AL29),0),0) -> 0 | AN29: =IF(AN23<>"Dim",IF(SUM($AH28:AN28)>32,MIN(SUM($AH28:AN28),35)-32-SUM($AH29:AM29),0),0) -> 0 | AO29: =SUM(AH29:AN29) -> 0 | AP29: =IF(AP23<>"Dim",IF(AP28>32,MIN(AP28,35)-32,0),0) -> 0 | AQ29: =IF(AQ23<>"Dim",IF(SUM($AP28:AQ28)>32,MIN(SUM($AP28:AQ28),35)-32-SUM($AP29:AP29),0),0) -> 0 | AR29: =SUM(AP29:AQ29) -> 0 | AS29: =I29+Q29+Y29+AG29+AO29+AR29 -> 3
A30: HS 25% | B30: =IF(B23<>"Dim",IF(B28>35,(MIN(B28,43)-35),0),0) -> 0 | C30: =IF(C23<>"Dim",IF(SUM($B28:C28)>35,(MIN(SUM($B28:C28),43)-35-SUM($B30:B30)),0),0) -> 0 | D30: =IF(D23<>"Dim",IF(SUM($B28:D28)>35,(MIN(SUM($B28:D28),43)-35-SUM($B30:C30)),0),0) -> 0 | E30: =IF(E23<>"Dim",IF(SUM($B28:E28)>35,(MIN(SUM($B28:E28),43)-35-SUM($B30:D30)),0),0) -> 0 | H30: =IF(H23<>"Dim",IF(SUM($B28:H28)>35,(MIN(SUM($B28:H28),43)-35-SUM($B30:G30)),0),0) -> 0 | I30: =SUM(B30:H30) -> 0 | J30: =IF(J23<>"Dim",IF(J28>35,(MIN(J28,43)-35),0),0) -> 0 | K30: =IF(K23<>"Dim",IF(SUM($J28:K28)>35,(MIN(SUM($J28:K28),43)-35-SUM($J30:J30)),0),0) -> 0 | L30: =IF(L23<>"Dim",IF(SUM($J28:L28)>35,(MIN(SUM($J28:L28),43)-35-SUM($J30:K30)),0),0) -> 0 | M30: =IF(M23<>"Dim",IF(SUM($J28:M28)>35,(MIN(SUM($J28:M28),43)-35-SUM($J30:L30)),0),0) -> 0 | N30: =IF(N23<>"Dim",IF(SUM($J28:N28)>35,(MIN(SUM($J28:N28),43)-35-SUM($J30:M30)),0),0) -> 5 | O30: =IF(O23<>"Dim",IF(SUM($J28:O28)>35,(MIN(SUM($J28:O28),43)-35-SUM($J30:N30)),0),0) -> 0 | P30: =IF(P23<>"Dim",IF(SUM($J28:P28)>35,(MIN(SUM($J28:P28),43)-35-SUM($J30:O30)),0),0) -> 0 | Q30: =SUM(J30:P30) -> 5 | R30: =IF(R23<>"Dim",IF(R28>35,(MIN(R28,43)-35),0),0) -> 0 | S30: =IF(S23<>"Dim",IF(SUM($R28:S28)>35,(MIN(SUM($R28:S28),43)-35-SUM($R30:R30)),0),0) -> 0 | T30: =IF(T23<>"Dim",IF(SUM($R28:T28)>35,(MIN(SUM($R28:T28),43)-35-SUM($R30:S30)),0),0) -> 0 | U30: =IF(U23<>"Dim",IF(SUM($R28:U28)>35,(MIN(SUM($R28:U28),43)-35-SUM($R30:T30)),0),0) -> 0 | V30: =IF(V23<>"Dim",IF(SUM($R28:V28)>35,(MIN(SUM($R28:V28),43)-35-SUM($R30:U30)),0),0) -> 0 | W30: =IF(W23<>"Dim",IF(SUM($R28:W28)>35,(MIN(SUM($R28:W28),43)-35-SUM($R30:V30)),0),0) -> 0 | X30: =IF(X23<>"Dim",IF(SUM($R28:X28)>35,(MIN(SUM($R28:X28),43)-35-SUM($R30:W30)),0),0) -> 0 | Y30: =SUM(R30:X30) -> 0 | Z30: =IF(Z23<>"Dim",IF(Z28>35,(MIN(Z28,43)-35),0),0) -> 0 | AA30: =IF(AA23<>"Dim",IF(SUM($Z28:AA28)>35,(MIN(SUM($Z28:AA28),43)-35-SUM($Z30:Z30)),0),0) -> 0 | AB30: =IF(AB23<>"Dim",IF(SUM($Z28:AB28)>35,(MIN(SUM($Z28:AB28),43)-35-SUM($Z30:AA30)),0),0) -> 0 | AC30: =IF(AC23<>"Dim",IF(SUM($Z28:AC28)>35,(MIN(SUM($Z28:AC28),43)-35-SUM($Z30:AB30)),0),0) -> 0 | AD30: =IF(AD23<>"Dim",IF(SUM($Z28:AD28)>35,(MIN(SUM($Z28:AD28),43)-35-SUM($Z30:AC30)),0),0) -> 0 | AE30: =IF(AE23<>"Dim",IF(SUM($Z28:AE28)>35,(MIN(SUM($Z28:AE28),43)-35-SUM($Z30:AD30)),0),0) -> 0 | AF30: =IF(AF23<>"Dim",IF(SUM($Z28:AF28)>35,(MIN(SUM($Z28:AF28),43)-35-SUM($Z30:AE30)),0),0) -> 0 | AG30: =SUM(Z30:AF30) -> 0 | AH30: =IF(AH23<>"Dim",IF(AH28>35,(MIN(AH28,43)-35),0),0) -> 0 | AI30: =IF(AI23<>"Dim",IF(SUM($AH28:AI28)>35,(MIN(SUM($AH28:AI28),43)-35-SUM($AH30:AH30)),0),0) -> 0 | AJ30: =IF(AJ23<>"Dim",IF(SUM($AH28:AJ28)>35,(MIN(SUM($AH28:AJ28),43)-35-SUM($AH30:AI30)),0),0) -> 0 | AK30: =IF(AK23<>"Dim",IF(SUM($AH28:AK28)>35,(MIN(SUM($AH28:AK28),43)-35-SUM($AH30:AJ30)),0),0) -> 0 | AL30: =IF(AL23<>"Dim",IF(SUM($AH28:AL28)>35,(MIN(SUM($AH28:AL28),43)-35-SUM($AH30:AK30)),0),0) -> 0 | AM30: =IF(AM23<>"Dim",IF(SUM($AH28:AM28)>35,(MIN(SUM($AH28:AM28),43)-35-SUM($AH30:AL30)),0),0) -> 0 | AN30: =IF(AN23<>"Dim",IF(SUM($AH28:AN28)>35,(MIN(SUM($AH28:AN28),43)-35-SUM($AH30:AM30)),0),0) -> 0 | AO30: =SUM(AH30:AN30) -> 0 | AP30: =IF(AP23<>"Dim",IF(AP28>35,(MIN(AP28,43)-35),0),0) -> 0 | AQ30: =IF(AQ23<>"Dim",IF(SUM($AP28:AQ28)>35,(MIN(SUM($AP28:AQ28),43)-35-SUM($AP30:AP30)),0),0) -> 0 | AR30: =SUM(AP30:AQ30) -> 0 | AS30: =I30+Q30+Y30+AG30+AO30+AR30 -> 5
A31: HS 50% | B31: =IF(B23<>"Dim",IF(B28>43,(MIN(B28,48)-43),0),0) -> 0 | C31: =IF(C23<>"Dim",IF(SUM($B28:C28)>43,(MIN(SUM($B28:C28),48)-43-SUM($B31:B31)),0),0) -> 0 | D31: =IF(D23<>"Dim",IF(SUM($B28:D28)>43,(MIN(SUM($B28:D28),48)-43-SUM($B31:C31)),0),0) -> 0 | E31: =IF(E23<>"Dim",IF(SUM($B28:E28)>43,(MIN(SUM($B28:E28),48)-43-SUM($B31:D31)),0),0) -> 0 | F31: =IF(F23<>"Dim",IF(SUM($B28:F28)>43,(MIN(SUM($B28:F28),48)-43-SUM($B31:E31)),0),0) -> 0 | G31: =IF(G23<>"Dim",IF(SUM($B28:G28)>43,(MIN(SUM($B28:G28),48)-43-SUM($B31:F31)),0),0) -> 0 | H31: =IF(H23<>"Dim",IF(SUM($B28:H28)>43,(MIN(SUM($B28:H28),48)-43-SUM($B31:G31)),0),0) -> 0 | I31: =SUM(B31:H31) -> 0 | J31: =IF(J23<>"Dim",IF(J28>43,(MIN(J28,48)-43),0),0) -> 0 | K31: =IF(K23<>"Dim",IF(SUM($J28:K28)>43,(MIN(SUM($J28:K28),48)-43-SUM($J31:J31)),0),0) -> 0 | L31: =IF(L23<>"Dim",IF(SUM($J28:L28)>43,(MIN(SUM($J28:L28),48)-43-SUM($J31:K31)),0),0) -> 0 | M31: =IF(M23<>"Dim",IF(SUM($J28:M28)>43,(MIN(SUM($J28:M28),48)-43-SUM($J31:L31)),0),0) -> 0 | N31: =IF(N23<>"Dim",IF(SUM($J28:N28)>43,(MIN(SUM($J28:N28),48)-43-SUM($J31:M31)),0),0) -> 0 | O31: =IF(O23<>"Dim",IF(SUM($J28:O28)>43,(MIN(SUM($J28:O28),48)-43-SUM($J31:N31)),0),0) -> 0 | P31: =IF(P23<>"Dim",IF(SUM($J28:P28)>43,(MIN(SUM($J28:P28),48)-43-SUM($J31:O31)),0),0) -> 0 | Q31: =SUM(J31:P31) -> 0 | R31: =IF(R23<>"Dim",IF(R28>43,(MIN(R28,48)-43),0),0) -> 0 | S31: =IF(S23<>"Dim",IF(SUM($R28:S28)>43,(MIN(SUM($R28:S28),48)-43-SUM($R31:R31)),0),0) -> 0 | T31: =IF(T23<>"Dim",IF(SUM($R28:T28)>43,(MIN(SUM($R28:T28),48)-43-SUM($R31:S31)),0),0) -> 0 | U31: =IF(U23<>"Dim",IF(SUM($R28:U28)>43,(MIN(SUM($R28:U28),48)-43-SUM($R31:T31)),0),0) -> 0 | V31: =IF(V23<>"Dim",IF(SUM($R28:V28)>43,(MIN(SUM($R28:V28),48)-43-SUM($R31:U31)),0),0) -> 0 | W31: =IF(W23<>"Dim",IF(SUM($R28:W28)>43,(MIN(SUM($R28:W28),48)-43-SUM($R31:V31)),0),0) -> 0 | X31: =IF(X23<>"Dim",IF(SUM($R28:X28)>43,(MIN(SUM($R28:X28),48)-43-SUM($R31:W31)),0),0) -> 0 | Y31: =SUM(R31:X31) -> 0 | Z31: =IF(Z23<>"Dim",IF(Z28>43,(MIN(Z28,48)-43),0),0) -> 0 | AA31: =IF(AA23<>"Dim",IF(SUM($Z28:AA28)>43,(MIN(SUM($Z28:AA28),48)-43-SUM($Z31:Z31)),0),0) -> 0 | AB31: =IF(AB23<>"Dim",IF(SUM($Z28:AB28)>43,(MIN(SUM($Z28:AB28),48)-43-SUM($Z31:AA31)),0),0) -> 0 | AC31: =IF(AC23<>"Dim",IF(SUM($Z28:AC28)>43,(MIN(SUM($Z28:AC28),48)-43-SUM($Z31:AB31)),0),0) -> 0 | AD31: =IF(AD23<>"Dim",IF(SUM($Z28:AD28)>43,(MIN(SUM($Z28:AD28),48)-43-SUM($Z31:AC31)),0),0) -> 0 | AE31: =IF(AE23<>"Dim",IF(SUM($Z28:AE28)>43,(MIN(SUM($Z28:AE28),48)-43-SUM($Z31:AD31)),0),0) -> 0 | AF31: =IF(AF23<>"Dim",IF(SUM($Z28:AF28)>43,(MIN(SUM($Z28:AF28),48)-43-SUM($Z31:AE31)),0),0) -> 0 | AG31: =SUM(Z31:AF31) -> 0 | AH31: =IF(AH23<>"Dim",IF(AH28>43,(MIN(AH28,48)-43),0),0) -> 0 | AI31: =IF(AI23<>"Dim",IF(SUM($AH28:AI28)>43,(MIN(SUM($AH28:AI28),48)-43-SUM($AH31:AH31)),0),0) -> 0 | AJ31: =IF(AJ23<>"Dim",IF(SUM($AH28:AJ28)>43,(MIN(SUM($AH28:AJ28),48)-43-SUM($AH31:AI31)),0),0) -> 0 | AK31: =IF(AK23<>"Dim",IF(SUM($AH28:AK28)>43,(MIN(SUM($AH28:AK28),48)-43-SUM($AH31:AJ31)),0),0) -> 0 | AL31: =IF(AL23<>"Dim",IF(SUM($AH28:AL28)>43,(MIN(SUM($AH28:AL28),48)-43-SUM($AH31:AK31)),0),0) -> 0 | AM31: =IF(AM23<>"Dim",IF(SUM($AH28:AM28)>43,(MIN(SUM($AH28:AM28),48)-43-SUM($AH31:AL31)),0),0) -> 0 | AN31: =IF(AN23<>"Dim",IF(SUM($AH28:AN28)>43,(MIN(SUM($AH28:AN28),48)-43-SUM($AH31:AM31)),0),0) -> 0 | AO31: =SUM(AH31:AN31) -> 0 | AP31: =IF(AP23<>"Dim",IF(AP28>43,(MIN(AP28,48)-43),0),0) -> 0 | AQ31: =IF(AQ23<>"Dim",IF(SUM($AP28:AQ28)>43,(MIN(SUM($AP28:AQ28),48)-43-SUM($AP31:AP31)),0),0) -> 0 | AR31: =SUM(AP31:AQ31) -> 0 | AS31: =I31+Q31+Y31+AG31+AO31+AR31 -> 0
A32: HS 200% | B32: =IF(B23="Dim",B28,IF(B38="ferie",B28,0)) -> 0 | C32: =IF(C23="Dim",C28,IF(C38="ferie",C28,0)) -> 0 | D32: =IF(D23="Dim",D28,IF(D38="ferie",D28,0)) -> 0 | E32: =IF(E23="Dim",E28,IF(E38="ferie",E28,0)) -> 0 | F32: =IF(F23="Dim",F28,IF(F38="ferie",F28,0)) -> 0 | G32: =IF(G23="Dim",G28,IF(G38="ferie",G28,0)) -> 0 | H32: =IF(H23="Dim",H28,IF(H38="ferie",H28,0)) -> 0 | I32: =SUM(B32:H32) -> 0 | J32: =IF(J23="Dim",J28,IF(J38="ferie",J28,0)) -> 0 | K32: =IF(K23="Dim",K28,IF(K38="ferie",K28,0)) -> 0 | L32: =IF(L23="Dim",L28,IF(L38="ferie",L28,0)) -> 0 | M32: =IF(M23="Dim",M28,IF(M38="ferie",M28,0)) -> 0 | N32: =IF(N23="Dim",N28,IF(N38="ferie",N28,0)) -> 0 | O32: =IF(O23="Dim",O28,IF(O38="ferie",O28,0)) -> 0 | P32: =IF(P23="Dim",P28,IF(P38="ferie",P28,0)) -> 0 | Q32: =SUM(J32:P32) -> 0 | R32: =IF(R23="Dim",R28,IF(R38="ferie",R28,0)) -> 0 | S32: =IF(S23="Dim",S28,IF(S38="ferie",S28,0)) -> 0 | T32: =IF(T23="Dim",T28,IF(T38="ferie",T28,0)) -> 0 | U32: =IF(U23="Dim",U28,IF(U38="ferie",U28,0)) -> 0 | V32: =IF(V23="Dim",V28,IF(V38="ferie",V28,0)) -> 0 | W32: =IF(W23="Dim",W28,IF(W38="ferie",W28,0)) -> 0 | X32: =IF(X23="Dim",X28,IF(X38="ferie",X28,0)) -> 0 | Y32: =SUM(R32:X32) -> 0 | Z32: =IF(Z23="Dim",Z28,IF(Z38="ferie",Z28,0)) -> 0 | AA32: =IF(AA23="Dim",AA28,IF(AA38="ferie",AA28,0)) -> 0 | AB32: =IF(AB23="Dim",AB28,IF(AB38="ferie",AB28,0)) -> 0 | AC32: =IF(AC23="Dim",AC28,IF(AC38="ferie",AC28,0)) -> 0 | AD32: =IF(AD23="Dim",AD28,IF(AD38="ferie",AD28,0)) -> 0 | AE32: =IF(AE23="Dim",AE28,IF(AE38="ferie",AE28,0)) -> 0 | AF32: =IF(AF23="Dim",AF28,IF(AF38="ferie",AF28,0)) -> 0 | AG32: =SUM(Z32:AF32) -> 0 | AH32: =IF(AH23="Dim",AH28,IF(AH38="ferie",AH28,0)) -> 0 | AI32: =IF(AI23="Dim",AI28,IF(AI38="ferie",AI28,0)) -> 0 | AJ32: =IF(AJ23="Dim",AJ28,IF(AJ38="ferie",AJ28,0)) -> 0 | AK32: =IF(AK23="Dim",AK28,IF(AK38="ferie",AK28,0)) -> 0 | AL32: =IF(AL23="Dim",AL28,IF(AL38="ferie",AL28,0)) -> 0 | AM32: =IF(AM23="Dim",AM28,IF(AM38="ferie",AM28,0)) -> 0 | AN32: =IF(AN23="Dim",AN28,IF(AN38="ferie",AN28,0)) -> 0 | AO32: =SUM(AH32:AN32) -> 0 | AP32: =IF(AP23="Dim",AP28,IF(AP38="ferie",AP28,0)) -> 0 | AQ32: =IF(AQ23="Dim",AQ28,IF(AQ38="ferie",AQ28,0)) -> 0 | AR32: =SUM(AP32:AQ32) -> 0 | AS32: =I32+Q32+Y32+AG32+AO32+AR32 -> 0
A33: HR + | I33: =SUM(B33:H33) -> 0 | M33: 8 | N33: 8 | Q33: =SUM(J33:P33) -> 16 | Y33: =SUM(R33:X33) -> 0 | AG33: =SUM(Z33:AF33) -> 0 | AO33: =SUM(AH33:AN33) -> 0 | AR33: =SUM(AP33:AQ33) -> 0 | AS33: =I33+Q33+Y33+AG33+AO33+AR33 -> 16
A34: HR - | I34: =SUM(B34:H34) -> 0 | Q34: =SUM(J34:P34) -> 0 | Y34: =SUM(R34:X34) -> 0 | AG34: =SUM(Z34:AF34) -> 0 | AO34: =SUM(AH34:AN34) -> 0 | AR34: =SUM(AP34:AQ34) -> 0 | AS34: =I34+Q34+Y34+AG34+AO34+AR34 -> 0
A35: CP - | I35: =SUM(B35:H35) -> 0 | Q35: =SUM(J35:P35) -> 0 | R35: 1 | S35: 1 | T35: 1 | U35: 1 | V35: 1 | Y35: =SUM(R35:X35) -> 5 | AG35: =SUM(Z35:AF35) -> 0 | AO35: =SUM(AH35:AN35) -> 0 | AR35: =SUM(AP35:AQ35) -> 0 | AS35: =I35+Q35+Y35+AG35+AO35+AR35 -> 5
A36: RC - | I36: =SUM(B36:H36) -> 0 | Q36: =SUM(J36:P36) -> 0 | Y36: =SUM(R36:X36) -> 0 | AG36: =SUM(Z36:AF36) -> 0 | AO36: =SUM(AH36:AN36) -> 0 | AR36: =SUM(AP36:AQ36) -> 0 | AS36: =I36+Q36+Y36+AG36+AO36+AR36 -> 0
A37: RC nuit | B37: =IF(B25="nuit",B28*0.02,0) -> 0 | C37: =IF(C25="nuit",C28*0.02,0) -> 0 | D37: =IF(D25="nuit",D28*0.02,0) -> 0 | E37: =IF(E25="nuit",E28*0.02,0) -> 0 | F37: =IF(F25="nuit",F28*0.02,0) -> 0 | G37: =IF(G25="nuit",G28*0.02,0) -> 0 | H37: =IF(H25="nuit",H28*0.02,0) -> 0 | I37: =SUM(B37:H37) -> 0 | J37: =IF(J25="nuit",J28*0.02,0) -> 0 | K37: =IF(K25="nuit",K28*0.02,0) -> 0 | L37: =IF(L25="nuit",L28*0.02,0) -> 0 | M37: =IF(M25="nuit",M28*0.02,0) -> 0 | N37: =IF(N25="nuit",N28*0.02,0) -> 0 | O37: =IF(O25="nuit",O28*0.02,0) -> 0 | P37: =IF(P25="nuit",P28*0.02,0) -> 0 | Q37: =SUM(J37:P37) -> 0 | R37: =IF(R25="nuit",R28*0.02,0) -> 0 | S37: =IF(S25="nuit",S28*0.02,0) -> 0 | T37: =IF(T25="nuit",T28*0.02,0) -> 0 | U37: =IF(U25="nuit",U28*0.02,0) -> 0 | V37: =IF(V25="nuit",V28*0.02,0) -> 0 | W37: =IF(W25="nuit",W28*0.02,0) -> 0 | X37: =IF(X25="nuit",X28*0.02,0) -> 0 | Y37: =SUM(R37:X37) -> 0 | Z37: =IF(Z25="nuit",Z28*0.02,0) -> 0 | AA37: =IF(AA25="nuit",AA28*0.02,0) -> 0 | AB37: =IF(AB25="nuit",AB28*0.02,0) -> 0 | AC37: =IF(AC25="nuit",AC28*0.02,0) -> 0 | AD37: =IF(AD25="nuit",AD28*0.02,0) -> 0 | AE37: =IF(AE25="nuit",AE28*0.02,0) -> 0 | AF37: =IF(AF25="nuit",AF28*0.02,0) -> 0 | AG37: =SUM(Z37:AF37) -> 0 | AH37: =IF(AH25="nuit",AH28*0.02,0) -> 0 | AI37: =IF(AI25="nuit",AI28*0.02,0) -> 0 | AJ37: =IF(AJ25="nuit",AJ28*0.02,0) -> 0 | AK37: =IF(AK25="nuit",AK28*0.02,0) -> 0 | AL37: =IF(AL25="nuit",AL28*0.02,0) -> 0 | AM37: =IF(AM25="nuit",AM28*0.02,0) -> 0 | AN37: =IF(AN25="nuit",AN28*0.02,0) -> 0 | AO37: =SUM(AH37:AN37) -> 0 | AP37: =IF(AP25="nuit",AP28*0.02,0) -> 0 | AQ37: =IF(AQ25="nuit",AQ28*0.02,0) -> 0 | AR37: =SUM(AP37:AQ37) -> 0 | AS37: =I37+Q37+Y37+AG37+AO37+AR37 -> 0
A38: Note | Z38: Formation
B40: Mars | G40: =Année_Calendaire -> 2016 | R40: Mars | W40: =Année_Calendaire -> 2016 | AH40: Mars | AM40: =Année_Calendaire -> 2016
B41: Lun | C41: Mar | D41: Mer | E41: Jeu | F41: Ven | G41: Sam | H41: Dim | I41: Cumul | J41: Lun | K41: Mar | L41: Mer | M41: Jeu | N41: Ven | O41: Sam | P41: Dim | Q41: Cumul | R41: Lun | S41: Mar | T41: Mer | U41: Jeu | V41: Ven | W41: Sam | X41: Dim | Y41: Cumul | Z41: Lun | AA41: Mar | AB41: Mer | AC41: Jeu | AD41: Ven | AE41: Sam | AF41: Dim | AG41: Cumul | AH41: Lun | AI41: Mar | AJ41: Mer | AK41: Jeu | AL41: Ven | AM41: Sam | AN41: Dim | AO41: Cumul | AP41: Lun | AQ41: Mar | AR41: Cumul | AS41: Cumul total | AT41: =AS48+AS49+AS50 -> 13 | AU41: =AT41+AU23 -> 20
B42: =IF(DAY(Mar_Dim1)=1,"",IF(AND(YEAR(Mar_Dim1+1)=Année_Calendaire,MONTH(Mar_Dim1+1)=3),Mar_Dim1+1,"")) | C42: =IF(DAY(Mar_Dim1)=1,"",IF(AND(YEAR(Mar_Dim1+2)=Année_Calendaire,MONTH(Mar_Dim1+2)=3),Mar_Dim1+2,"")) -> 42430 | D42: =IF(DAY(Mar_Dim1)=1,"",IF(AND(YEAR(Mar_Dim1+3)=Année_Calendaire,MONTH(Mar_Dim1+3)=3),Mar_Dim1+3,"")) -> 42431 | E42: =IF(DAY(Mar_Dim1)=1,"",IF(AND(YEAR(Mar_Dim1+4)=Année_Calendaire,MONTH(Mar_Dim1+4)=3),Mar_Dim1+4,"")) -> 42432 | F42: =IF(DAY(Mar_Dim1)=1,"",IF(AND(YEAR(Mar_Dim1+5)=Année_Calendaire,MONTH(Mar_Dim1+5)=3),Mar_Dim1+5,"")) -> 42433 | G42: =IF(DAY(Mar_Dim1)=1,"",IF(AND(YEAR(Mar_Dim1+6)=Année_Calendaire,MONTH(Mar_Dim1+6)=3),Mar_Dim1+6,"")) -> 42434 | H42: =IF(DAY(Mar_Dim1)=1,IF(AND(YEAR(Mar_Dim1)=Année_Calendaire,MONTH(Mar_Dim1)=3),Mar_Dim1,""),IF(AND(YEAR(Mar_Dim1+7)=Année_Calendaire,MONTH(Mar_Dim1+7)=3),Mar_Dim1+7,"")) -> 42435 | J42: =IF(DAY(Mar_Dim1)=1,IF(AND(YEAR(Mar_Dim1+1)=Année_Calendaire,MONTH(Mar_Dim1+1)=3),Mar_Dim1+1,""),IF(AND(YEAR(Mar_Dim1+8)=Année_Calendaire,MONTH(Mar_Dim1+8)=3),Mar_Dim1+8,"")) -> 42436 | K42: =IF(DAY(Mar_Dim1)=1,IF(AND(YEAR(Mar_Dim1+2)=Année_Calendaire,MONTH(Mar_Dim1+2)=3),Mar_Dim1+2,""),IF(AND(YEAR(Mar_Dim1+9)=Année_Calendaire,MONTH(Mar_Dim1+9)=3),Mar_Dim1+9,"")) -> 42437 | L42: =IF(DAY(Mar_Dim1)=1,IF(AND(YEAR(Mar_Dim1+3)=Année_Calendaire,MONTH(Mar_Dim1+3)=3),Mar_Dim1+3,""),IF(AND(YEAR(Mar_Dim1+10)=Année_Calendaire,MONTH(Mar_Dim1+10)=3),Mar_Dim1+10,"")) -> 42438 | M42: =IF(DAY(Mar_Dim1)=1,IF(AND(YEAR(Mar_Dim1+4)=Année_Calendaire,MONTH(Mar_Dim1+4)=3),Mar_Dim1+4,""),IF(AND(YEAR(Mar_Dim1+11)=Année_Calendaire,MONTH(Mar_Dim1+11)=3),Mar_Dim1+11,"")) -> 42439 | N42: =IF(DAY(Mar_Dim1)=1,IF(AND(YEAR(Mar_Dim1+5)=Année_Calendaire,MONTH(Mar_Dim1+5)=3),Mar_Dim1+5,""),IF(AND(YEAR(Mar_Dim1+12)=Année_Calendaire,MONTH(Mar_Dim1+12)=3),Mar_Dim1+12,"")) -> 42440 | O42: =IF(DAY(Mar_Dim1)=1,IF(AND(YEAR(Mar_Dim1+6)=Année_Calendaire,MONTH(Mar_Dim1+6)=3),Mar_Dim1+6,""),IF(AND(YEAR(Mar_Dim1+13)=Année_Calendaire,MONTH(Mar_Dim1+13)=3),Mar_Dim1+13,"")) -> 42441 | P42: =IF(DAY(Mar_Dim1)=1,IF(AND(YEAR(Mar_Dim1+7)=Année_Calendaire,MONTH(Mar_Dim1+7)=3),Mar_Dim1+7,""),IF(AND(YEAR(Mar_Dim1+14)=Année_Calendaire,MONTH(Mar_Dim1+14)=3),Mar_Dim1+14,"")) -> 42442 | R42: =IF(DAY(Mar_Dim1)=1,IF(AND(YEAR(Mar_Dim1+8)=Année_Calendaire,MONTH(Mar_Dim1+8)=3),Mar_Dim1+8,""),IF(AND(YEAR(Mar_Dim1+15)=Année_Calendaire,MONTH(Mar_Dim1+15)=3),Mar_Dim1+15,"")) -> 42443 | S42: =IF(DAY(Mar_Dim1)=1,IF(AND(YEAR(Mar_Dim1+9)=Année_Calendaire,MONTH(Mar_Dim1+9)=3),Mar_Dim1+9,""),IF(AND(YEAR(Mar_Dim1+16)=Année_Calendaire,MONTH(Mar_Dim1+16)=3),Mar_Dim1+16,"")) -> 42444 | T42: =IF(DAY(Mar_Dim1)=1,IF(AND(YEAR(Mar_Dim1+10)=Année_Calendaire,MONTH(Mar_Dim1+10)=3),Mar_Dim1+10,""),IF(AND(YEAR(Mar_Dim1+17)=Année_Calendaire,MONTH(Mar_Dim1+17)=3),Mar_Dim1+17,"")) -> 42445 | U42: =IF(DAY(Mar_Dim1)=1,IF(AND(YEAR(Mar_Dim1+11)=Année_Calendaire,MONTH(Mar_Dim1+11)=3),Mar_Dim1+11,""),IF(AND(YEAR(Mar_Dim1+18)=Année_Calendaire,MONTH(Mar_Dim1+18)=3),Mar_Dim1+18,"")) -> 42446 | V42: =IF(DAY(Mar_Dim1)=1,IF(AND(YEAR(Mar_Dim1+12)=Année_Calendaire,MONTH(Mar_Dim1+12)=3),Mar_Dim1+12,""),IF(AND(YEAR(Mar_Dim1+19)=Année_Calendaire,MONTH(Mar_Dim1+19)=3),Mar_Dim1+19,"")) -> 42447 | W42: =IF(DAY(Mar_Dim1)=1,IF(AND(YEAR(Mar_Dim1+13)=Année_Calendaire,MONTH(Mar_Dim1+13)=3),Mar_Dim1+13,""),IF(AND(YEAR(Mar_Dim1+20)=Année_Calendaire,MONTH(Mar_Dim1+20)=3),Mar_Dim1+20,"")) -> 42448 | X42: =IF(DAY(Mar_Dim1)=1,IF(AND(YEAR(Mar_Dim1+14)=Année_Calendaire,MONTH(Mar_Dim1+14)=3),Mar_Dim1+14,""),IF(AND(YEAR(Mar_Dim1+21)=Année_Calendaire,MONTH(Mar_Dim1+21)=3),Mar_Dim1+21,"")) -> 42449 | Z42: =IF(DAY(Mar_Dim1)=1,IF(AND(YEAR(Mar_Dim1+15)=Année_Calendaire,MONTH(Mar_Dim1+15)=3),Mar_Dim1+15,""),IF(AND(YEAR(Mar_Dim1+22)=Année_Calendaire,MONTH(Mar_Dim1+22)=3),Mar_Dim1+22,"")) -> 42450 | AA42: =IF(DAY(Mar_Dim1)=1,IF(AND(YEAR(Mar_Dim1+16)=Année_Calendaire,MONTH(Mar_Dim1+16)=3),Mar_Dim1+16,""),IF(AND(YEAR(Mar_Dim1+23)=Année_Calendaire,MONTH(Mar_Dim1+23)=3),Mar_Dim1+23,"")) -> 42451 | AB42: =IF(DAY(Mar_Dim1)=1,IF(AND(YEAR(Mar_Dim1+17)=Année_Calendaire,MONTH(Mar_Dim1+17)=3),Mar_Dim1+17,""),IF(AND(YEAR(Mar_Dim1+24)=Année_Calendaire,MONTH(Mar_Dim1+24)=3),Mar_Dim1+24,"")) -> 42452 | AC42: =IF(DAY(Mar_Dim1)=1,IF(AND(YEAR(Mar_Dim1+18)=Année_Calendaire,MONTH(Mar_Dim1+18)=3),Mar_Dim1+18,""),IF(AND(YEAR(Mar_Dim1+25)=Année_Calendaire,MONTH(Mar_Dim1+25)=3),Mar_Dim1+25,"")) -> 42453 | AD42: =IF(DAY(Mar_Dim1)=1,IF(AND(YEAR(Mar_Dim1+19)=Année_Calendaire,MONTH(Mar_Dim1+19)=3),Mar_Dim1+19,""),IF(AND(YEAR(Mar_Dim1+26)=Année_Calendaire,MONTH(Mar_Dim1+26)=3),Mar_Dim1+26,"")) -> 42454 | AE42: =IF(DAY(Mar_Dim1)=1,IF(AND(YEAR(Mar_Dim1+20)=Année_Calendaire,MONTH(Mar_Dim1+20)=3),Mar_Dim1+20,""),IF(AND(YEAR(Mar_Dim1+27)=Année_Calendaire,MONTH(Mar_Dim1+27)=3),Mar_Dim1+27,"")) -> 42455 | AF42: =IF(DAY(Mar_Dim1)=1,IF(AND(YEAR(Mar_Dim1+21)=Année_Calendaire,MONTH(Mar_Dim1+21)=3),Mar_Dim1+21,""),IF(AND(YEAR(Mar_Dim1+28)=Année_Calendaire,MONTH(Mar_Dim1+28)=3),Mar_Dim1+28,"")) -> 42456 | AH42: =IF(DAY(Mar_Dim1)=1,IF(AND(YEAR(Mar_Dim1+22)=Année_Calendaire,MONTH(Mar_Dim1+22)=3),Mar_Dim1+22,""),IF(AND(YEAR(Mar_Dim1+29)=Année_Calendaire,MONTH(Mar_Dim1+29)=3),Mar_Dim1+29,"")) -> 42457 | AI42: =IF(DAY(Mar_Dim1)=1,IF(AND(YEAR(Mar_Dim1+23)=Année_Calendaire,MONTH(Mar_Dim1+23)=3),Mar_Dim1+23,""),IF(AND(YEAR(Mar_Dim1+30)=Année_Calendaire,MONTH(Mar_Dim1+30)=3),Mar_Dim1+30,"")) -> 42458 | AJ42: =IF(DAY(Mar_Dim1)=1,IF(AND(YEAR(Mar_Dim1+24)=Année_Calendaire,MONTH(Mar_Dim1+24)=3),Mar_Dim1+24,""),IF(AND(YEAR(Mar_Dim1+31)=Année_Calendaire,MONTH(Mar_Dim1+31)=3),Mar_Dim1+31,"")) -> 42459 | AK42: =IF(DAY(Mar_Dim1)=1,IF(AND(YEAR(Mar_Dim1+25)=Année_Calendaire,MONTH(Mar_Dim1+25)=3),Mar_Dim1+25,""),IF(AND(YEAR(Mar_Dim1+32)=Année_Calendaire,MONTH(Mar_Dim1+32)=3),Mar_Dim1+32,"")) -> 42460 | AL42: =IF(DAY(Mar_Dim1)=1,IF(AND(YEAR(Mar_Dim1+26)=Année_Calendaire,MONTH(Mar_Dim1+26)=3),Mar_Dim1+26,""),IF(AND(YEAR(Mar_Dim1+33)=Année_Calendaire,MONTH(Mar_Dim1+33)=3),Mar_Dim1+33,"")) | AM42: =IF(DAY(Mar_Dim1)=1,IF(AND(YEAR(Mar_Dim1+27)=Année_Calendaire,MONTH(Mar_Dim1+27)=3),Mar_Dim1+27,""),IF(AND(YEAR(Mar_Dim1+34)=Année_Calendaire,MONTH(Mar_Dim1+34)=3),Mar_Dim1+34,"")) | AN42: =IF(DAY(Mar_Dim1)=1,IF(AND(YEAR(Mar_Dim1+28)=Année_Calendaire,MONTH(Mar_Dim1+28)=3),Mar_Dim1+28,""),IF(AND(YEAR(Mar_Dim1+35)=Année_Calendaire,MONTH(Mar_Dim1+35)=3),Mar_Dim1+35,"")) | AP42: =IF(DAY(Mar_Dim1)=1,IF(AND(YEAR(Mar_Dim1+29)=Année_Calendaire,MONTH(Mar_Dim1+29)=3),Mar_Dim1+29,""),IF(AND(YEAR(Mar_Dim1+36)=Année_Calendaire,MONTH(Mar_Dim1+36)=3),Mar_Dim1+36,"")) | AQ42: =IF(DAY(Mar_Dim1)=1,IF(AND(YEAR(Mar_Dim1+30)=Année_Calendaire,MONTH(Mar_Dim1+30)=3),Mar_Dim1+30,""),IF(AND(YEAR(Mar_Dim1+37)=Année_Calendaire,MONTH(Mar_Dim1+37)=3),Mar_Dim1+37,""))
A43: Equipe | C43: am | D43: am | E43: am | F43: am | J43: matin | K43: matin | L43: matin | R43: nuit | S43: nuit | T43: nuit | U43: nuit | V43: nuit | Z43: matin | AA43: matin | AB43: matin | AC43: matin | AD43: matin | AH43: am | AI43: am | AJ43: am
A44: Ticket resto | B44: =IF(B43="Matin",1,IF(B43="AM",1,0)) -> 0 | C44: =IF(C43="Matin",1,IF(C43="AM",1,0)) -> 1 | D44: =IF(D43="Matin",1,IF(D43="AM",1,0)) -> 1 | E44: =IF(E43="Matin",1,IF(E43="AM",1,0)) -> 1 | F44: =IF(F43="Matin",1,IF(F43="AM",1,0)) -> 1 | G44: =IF(G43="Matin",1,IF(G43="AM",1,0)) -> 0 | H44: =IF(H43="Matin",1,IF(H43="AM",1,0)) -> 0 | I44: =SUM(B44:H44) -> 4 | J44: =IF(J43="Matin",1,IF(J43="AM",1,0)) -> 1 | K44: =IF(K43="Matin",1,IF(K43="AM",1,0)) -> 1 | L44: =IF(L43="Matin",1,IF(L43="AM",1,0)) -> 1 | M44: =IF(M43="Matin",1,IF(M43="AM",1,0)) -> 0 | N44: =IF(N43="Matin",1,IF(N43="AM",1,0)) -> 0 | O44: =IF(O43="Matin",1,IF(O43="AM",1,0)) -> 0 | P44: =IF(P43="Matin",1,IF(P43="AM",1,0)) -> 0 | Q44: =SUM(J44:P44) -> 3 | R44: =IF(R43="Matin",1,IF(R43="AM",1,0)) -> 0 | S44: =IF(S43="Matin",1,IF(S43="AM",1,0)) -> 0 | T44: =IF(T43="Matin",1,IF(T43="AM",1,0)) -> 0 | U44: =IF(U43="Matin",1,IF(U43="AM",1,0)) -> 0 | V44: =IF(V43="Matin",1,IF(V43="AM",1,0)) -> 0 | W44: =IF(W43="Matin",1,IF(W43="AM",1,0)) -> 0 | X44: =IF(X43="Matin",1,IF(X43="AM",1,0)) -> 0 | Y44: =SUM(R44:X44) -> 0 | Z44: =IF(Z43="Matin",1,IF(Z43="AM",1,0)) -> 1 | AA44: =IF(AA43="Matin",1,IF(AA43="AM",1,0)) -> 1 | AB44: =IF(AB43="Matin",1,IF(AB43="AM",1,0)) -> 1 | AC44: =IF(AC43="Matin",1,IF(AC43="AM",1,0)) -> 1 | AD44: =IF(AD43="Matin",1,IF(AD43="AM",1,0)) -> 1 | AE44: =IF(AE43="Matin",1,IF(AE43="AM",1,0)) -> 0 | AF44: =IF(AF43="Matin",1,IF(AF43="AM",1,0)) -> 0 | AG44: =SUM(Z44:AF44) -> 5 | AH44: =IF(AH43="Matin",1,IF(AH43="AM",1,0)) -> 1 | AI44: =IF(AI43="Matin",1,IF(AI43="AM",1,0)) -> 1 | AJ44: =IF(AJ43="Matin",1,IF(AJ43="AM",1,0)) -> 1 | AK44: =IF(AK43="Matin",1,IF(AK43="AM",1,0)) -> 0 | AL44: =IF(AL43="Matin",1,IF(AL43="AM",1,0)) -> 0 | AM44: =IF(AM43="Matin",1,IF(AM43="AM",1,0)) -> 0 | AN44: =IF(AN43="Matin",1,IF(AN43="AM",1,0)) -> 0 | AO44: =SUM(AH44:AN44) -> 3 | AP44: =IF(AP43="Matin",1,IF(AP43="AM",1,0)) -> 0 | AQ44: =IF(AQ43="Matin",1,IF(AQ43="AM",1,0)) -> 0 | AR44: =SUM(AP44:AQ44) -> 0 | AS44: =I44+Q44+Y44+AG44+AO44+AR44 -> 15
A45: Travailler | B45: =IF(B46>=1,1,0) -> 0 | C45: =IF(C46>=1,1,0) -> 1 | D45: =IF(D46>=1,1,0) -> 1 | E45: =IF(E46>=1,1,0) -> 1 | F45: =IF(F46>=1,1,0) -> 1 | G45: =IF(G46>=1,1,0) -> 0 | H45: =IF(H46>=1,1,0) -> 0 | I45: =SUM(B45:H45) -> 4 | J45: =IF(J46>=1,1,0) -> 1 | K45: =IF(K46>=1,1,0) -> 1 | L45: =IF(L46>=1,1,0) -> 1 | M45: =IF(M46>=1,1,0) -> 0 | N45: =IF(N46>=1,1,0) -> 0 | O45: =IF(O46>=1,1,0) -> 0 | P45: =IF(P46>=1,1,0) -> 0 | Q45: =SUM(J45:P45) -> 3 | R45: =IF(R46>=1,1,0) -> 1 | S45: =IF(S46>=1,1,0) -> 1 | T45: =IF(T46>=1,1,0) -> 1 | U45: =IF(U46>=1,1,0) -> 1 | V45: =IF(V46>=1,1,0) -> 1 | W45: =IF(W46>=1,1,0) -> 0 | X45: =IF(X46>=1,1,0) -> 0 | Y45: =SUM(R45:X45) -> 5 | Z45: =IF(Z46>=1,1,0) -> 1 | AA45: =IF(AA46>=1,1,0) -> 1 | AB45: =IF(AB46>=1,1,0) -> 1 | AC45: =IF(AC46>=1,1,0) -> 1 | AD45: =IF(AD46>=1,1,0) -> 1 | AE45: =IF(AE46>=1,1,0) -> 0 | AF45: =IF(AF46>=1,1,0) -> 0 | AG45: =SUM(Z45:AF45) -> 5 | AH45: =IF(AH46>=1,1,0) -> 1 | AI45: =IF(AI46>=1,1,0) -> 1 | AJ45: =IF(AJ46>=1,1,0) -> 1 | AK45: =IF(AK46>=1,1,0) -> 0 | AL45: =IF(AL46>=1,1,0) -> 0 | AM45: =IF(AM46>=1,1,0) -> 0 | AN45: =IF(AN46>=1,1,0) -> 0 | AO45: =SUM(AH45:AN45) -> 3 | AP45: =IF(AP46>=1,1,0) -> 0 | AQ45: =IF(AQ46>=1,1,0) -> 0 | AR45: =SUM(AP45:AQ45) -> 0 | AS45: =I45+Q45+Y45+AG45+AO45+AR45 -> 20
A46: Nbr heure | C46: 8 | D46: 8 | E46: 8 | F46: 8 | I46: =SUM(B46:H46) -> 32 | J46: 8 | K46: 8 | L46: 8 | Q46: =SUM(J46:P46) -> 24 | R46: 8 | S46: 8 | T46: 8 | U46: 8 | V46: 8 | Y46: =SUM(R46:X46) -> 40 | Z46: 8 | AA46: 8 | AB46: 8 | AC46: 8 | AD46: 8 | AG46: =SUM(Z46:AF46) -> 40 | AH46: 8 | AI46: 8 | AJ46: 8 | AO46: =SUM(AH46:AN46) -> 24 | AR46: =SUM(AP46:AQ46) -> 0 | AS46: =I46+Q46+Y46+AG46+AO46+AR46 -> 160
A47: Heure comp | B47: =IF(B41<>"Dim",IF(B46>32,MIN(B46,35)-32,0),0) -> 0 | C47: =IF(C41<>"Dim",IF(SUM($B46:C46)>32,MIN(SUM($B46:C46),35)-32-SUM($B47:B47),0),0) -> 0 | D47: =IF(D41<>"Dim",IF(SUM($B46:D46)>32,MIN(SUM($B46:D46),35)-32-SUM($B47:C47),0),0) -> 0 | E47: =IF(E41<>"Dim",IF(SUM($B46:E46)>32,MIN(SUM($B46:E46),35)-32-SUM($B47:D47),0),0) -> 0 | F47: =IF(F41<>"Dim",IF(SUM($B46:F46)>32,MIN(SUM($B46:F46),35)-32-SUM($B47:E47),0),0) -> 0 | G47: =IF(G41<>"Dim",IF(SUM($B46:G46)>32,MIN(SUM($B46:G46),35)-32-SUM($B47:F47),0),0) -> 0 | H47: =IF(H41<>"Dim",IF(SUM($B46:H46)>32,MIN(SUM($B46:H46),35)-32-SUM($B47:G47),0),0) -> 0 | I47: =SUM(B47:H47) -> 0 | J47: =IF(J41<>"Dim",IF(J46>32,MIN(J46,35)-32,0),0) -> 0 | K47: =IF(K41<>"Dim",IF(SUM($J46:K46)>32,MIN(SUM($J46:K46),35)-32-SUM($J47:J47),0),0) -> 0 | L47: =IF(L41<>"Dim",IF(SUM($J46:L46)>32,MIN(SUM($J46:L46),35)-32-SUM($J47:K47),0),0) -> 0 | M47: =IF(M41<>"Dim",IF(SUM($J46:M46)>32,MIN(SUM($J46:M46),35)-32-SUM($J47:L47),0),0) -> 0 | N47: =IF(N41<>"Dim",IF(SUM($J46:N46)>32,MIN(SUM($J46:N46),35)-32-SUM($J47:M47),0),0) -> 0 | O47: =IF(O41<>"Dim",IF(SUM($J46:O46)>32,MIN(SUM($J46:O46),35)-32-SUM($J47:N47),0),0) -> 0 | P47: =IF(P41<>"Dim",IF(SUM($J46:P46)>32,MIN(SUM($J46:P46),35)-32-SUM($J47:O47),0),0) -> 0 | Q47: =SUM(J47:P47) -> 0 | R47: =IF(R41<>"Dim",IF(R46>32,MIN(R46,35)-32,0),0) -> 0 | S47: =IF(S41<>"Dim",IF(SUM($R46:S46)>32,MIN(SUM($R46:S46),35)-32-SUM($R47:R47),0),0) -> 0 | T47: =IF(T41<>"Dim",IF(SUM($R46:T46)>32,MIN(SUM($R46:T46),35)-32-SUM($R47:S47),0),0) -> 0 | U47: =IF(U41<>"Dim",IF(SUM($R46:U46)>32,MIN(SUM($R46:U46),35)-32-SUM($R47:T47),0),0) -> 0 | X47: =IF(X41<>"Dim",IF(SUM($R46:X46)>32,MIN(SUM($R46:X46),35)-32-SUM($R47:W47),0),0) -> 0 | Y47: =SUM(R47:X47) -> 0 | Z47: =IF(Z41<>"Dim",IF(Z46>32,MIN(Z46,35)-32,0),0) -> 0 | AA47: =IF(AA41<>"Dim",IF(SUM($Z46:AA46)>32,MIN(SUM($Z46:AA46),35)-32-SUM($Z47:Z47),0),0) -> 0 | AB47: =IF(AB41<>"Dim",IF(SUM($Z46:AB46)>32,MIN(SUM($Z46:AB46),35)-32-SUM($Z47:AA47),0),0) -> 0 | AC47: =IF(AC41<>"Dim",IF(SUM($Z46:AC46)>32,MIN(SUM($Z46:AC46),35)-32-SUM($Z47:AB47),0),0) -> 0 | AD47: =IF(AD41<>"Dim",IF(SUM($Z46:AD46)>32,MIN(SUM($Z46:AD46),35)-32-SUM($Z47:AC47),0),0) -> 3 | AE47: =IF(AE41<>"Dim",IF(SUM($Z46:AE46)>32,MIN(SUM($Z46:AE46),35)-32-SUM($Z47:AD47),0),0) -> 0 | AF47: =IF(AF41<>"Dim",IF(SUM($Z46:AF46)>32,MIN(SUM($Z46:AF46),35)-32-SUM($Z47:AE47),0),0) -> 0 | AG47: =SUM(Z47:AF47) -> 3 | AH47: =IF(AH41<>"Dim",IF(AH46>32,MIN(AH46,35)-32,0),0) -> 0 | AI47: =IF(AI41<>"Dim",IF(SUM($AH46:AI46)>32,MIN(SUM($AH46:AI46),35)-32-SUM($AH47:AH47),0),0) -> 0 | AJ47: =IF(AJ41<>"Dim",IF(SUM($AH46:AJ46)>32,MIN(SUM($AH46:AJ46),35)-32-SUM($AH47:AI47),0),0) -> 0 | AK47: =IF(AK41<>"Dim",IF(SUM($AH46:AK46)>32,MIN(SUM($AH46:AK46),35)-32-SUM($AH47:AJ47),0),0) -> 0 | AL47: =IF(AL41<>"Dim",IF(SUM($AH46:AL46)>32,MIN(SUM($AH46:AL46),35)-32-SUM($AH47:AK47),0),0) -> 0 | AM47: =IF(AM41<>"Dim",IF(SUM($AH46:AM46)>32,MIN(SUM($AH46:AM46),35)-32-SUM($AH47:AL47),0),0) -> 0 | AN47: =IF(AN41<>"Dim",IF(SUM($AH46:AN46)>32,MIN(SUM($AH46:AN46),35)-32-SUM($AH47:AM47),0),0) -> 0 | AO47: =SUM(AH47:AN47) -> 0 | AP47: =IF(AP41<>"Dim",IF(AP46>32,MIN(AP46,35)-32,0),0) -> 0 | AQ47: =IF(AQ41<>"Dim",IF(SUM($AP46:AQ46)>32,MIN(SUM($AP46:AQ46),35)-32-SUM($AP47:AP47),0),0) -> 0 | AR47: =SUM(AP47:AQ47) -> 0 | AS47: =I47+Q47+Y47+AG47+AO47+AR47 -> 3
A48: HS 25% | B48: =IF(B41<>"Dim",IF(B46>35,(MIN(B46,43)-35),0),0) -> 0 | C48: =IF(C41<>"Dim",IF(SUM($B46:C46)>35,(MIN(SUM($B46:C46),43)-35-SUM($B48:B48)),0),0) -> 0 | D48: =IF(D41<>"Dim",IF(SUM($B46:D46)>35,(MIN(SUM($B46:D46),43)-35-SUM($B48:C48)),0),0) -> 0 | E48: =IF(E41<>"Dim",IF(SUM($B46:E46)>35,(MIN(SUM($B46:E46),43)-35-SUM($B48:D48)),0),0) -> 0 | F48: =IF(F41<>"Dim",IF(SUM($B46:F46)>35,(MIN(SUM($B46:F46),43)-35-SUM($B48:E48)),0),0) -> 0 | G48: =IF(G41<>"Dim",IF(SUM($B46:G46)>35,(MIN(SUM($B46:G46),43)-35-SUM($B48:F48)),0),0) -> 0 | H48: =IF(H41<>"Dim",IF(SUM($B46:H46)>35,(MIN(SUM($B46:H46),43)-35-SUM($B48:G48)),0),0) -> 0 | I48: =SUM(B48:H48) -> 0 | J48: =IF(J41<>"Dim",IF(J46>35,(MIN(J46,43)-35),0),0) -> 0 | K48: =IF(K41<>"Dim",IF(SUM($J46:K46)>35,(MIN(SUM($J46:K46),43)-35-SUM($J48:J48)),0),0) -> 0 | L48: =IF(L41<>"Dim",IF(SUM($J46:L46)>35,(MIN(SUM($J46:L46),43)-35-SUM($J48:K48)),0),0) -> 0 | M48: =IF(M41<>"Dim",IF(SUM($J46:M46)>35,(MIN(SUM($J46:M46),43)-35-SUM($J48:L48)),0),0) -> 0 | N48: =IF(N41<>"Dim",IF(SUM($J46:N46)>35,(MIN(SUM($J46:N46),43)-35-SUM($J48:M48)),0),0) -> 0 | O48: =IF(O41<>"Dim",IF(SUM($J46:O46)>35,(MIN(SUM($J46:O46),43)-35-SUM($J48:N48)),0),0) -> 0 | P48: =IF(P41<>"Dim",IF(SUM($J46:P46)>35,(MIN(SUM($J46:P46),43)-35-SUM($J48:O48)),0),0) -> 0 | Q48: =SUM(J48:P48) -> 0 | R48: =IF(R41<>"Dim",IF(R46>35,(MIN(R46,43)-35),0),0) -> 0 | S48: =IF(S41<>"Dim",IF(SUM($R46:S46)>35,(MIN(SUM($R46:S46),43)-35-SUM($R48:R48)),0),0) -> 0 | T48: =IF(T41<>"Dim",IF(SUM($R46:T46)>35,(MIN(SUM($R46:T46),43)-35-SUM($R48:S48)),0),0) -> 0 | U48: =IF(U41<>"Dim",IF(SUM($R46:U46)>35,(MIN(SUM($R46:U46),43)-35-SUM($R48:T48)),0),0) -> 0 | X48: =IF(X41<>"Dim",IF(SUM($R46:X46)>35,(MIN(SUM($R46:X46),43)-35-SUM($R48:W48)),0),0) -> 0 | Y48: =SUM(R48:X48) -> 0 | Z48: =IF(Z41<>"Dim",IF(Z46>35,(MIN(Z46,43)-35),0),0) -> 0 | AA48: =IF(AA41<>"Dim",IF(SUM($Z46:AA46)>35,(MIN(SUM($Z46:AA46),43)-35-SUM($Z48:Z48)),0),0) -> 0 | AB48: =IF(AB41<>"Dim",IF(SUM($Z46:AB46)>35,(MIN(SUM($Z46:AB46),43)-35-SUM($Z48:AA48)),0),0) -> 0 | AC48: =IF(AC41<>"Dim",IF(SUM($Z46:AC46)>35,(MIN(SUM($Z46:AC46),43)-35-SUM($Z48:AB48)),0),0) -> 0 | AD48: =IF(AD41<>"Dim",IF(SUM($Z46:AD46)>35,(MIN(SUM($Z46:AD46),43)-35-SUM($Z48:AC48)),0),0) -> 5 | AE48: =IF(AE41<>"Dim",IF(SUM($Z46:AE46)>35,(MIN(SUM($Z46:AE46),43)-35-SUM($Z48:AD48)),0),0) -> 0 | AF48: =IF(AF41<>"Dim",IF(SUM($Z46:AF46)>35,(MIN(SUM($Z46:AF46),43)-35-SUM($Z48:AE48)),0),0) -> 0 | AG48: =SUM(Z48:AF48) -> 5 | AH48: =IF(AH41<>"Dim",IF(AH46>35,(MIN(AH46,43)-35),0),0) -> 0 | AI48: =IF(AI41<>"Dim",IF(SUM($AH46:AI46)>35,(MIN(SUM($AH46:AI46),43)-35-SUM($AH48:AH48)),0),0) -> 0 | AJ48: =IF(AJ41<>"Dim",IF(SUM($AH46:AJ46)>35,(MIN(SUM($AH46:AJ46),43)-35-SUM($AH48:AI48)),0),0) -> 0 | AK48: =IF(AK41<>"Dim",IF(SUM($AH46:AK46)>35,(MIN(SUM($AH46:AK46),43)-35-SUM($AH48:AJ48)),0),0) -> 0 | AL48: =IF(AL41<>"Dim",IF(SUM($AH46:AL46)>35,(MIN(SUM($AH46:AL46),43)-35-SUM($AH48:AK48)),0),0) -> 0 | AM48: =IF(AM41<>"Dim",IF(SUM($AH46:AM46)>35,(MIN(SUM($AH46:AM46),43)-35-SUM($AH48:AL48)),0),0) -> 0 | AN48: =IF(AN41<>"Dim",IF(SUM($AH46:AN46)>35,(MIN(SUM($AH46:AN46),43)-35-SUM($AH48:AM48)),0),0) -> 0 | AO48: =SUM(AH48:AN48) -> 0 | AP48: =IF(AP41<>"Dim",IF(AP46>35,(MIN(AP46,43)-35),0),0) -> 0 | AQ48: =IF(AQ41<>"Dim",IF(SUM($AP46:AQ46)>35,(MIN(SUM($AP46:AQ46),43)-35-SUM($AP48:AP48)),0),0) -> 0 | AR48: =SUM(AP48:AQ48) -> 0 | AS48: =I48+Q48+Y48+AG48+AO48+AR48 -> 5
A49: HS 50% | B49: =IF(B41<>"Dim",IF(B46>43,(MIN(B46,48)-43),0),0) -> 0 | C49: =IF(C41<>"Dim",IF(SUM($B46:C46)>43,(MIN(SUM($B46:C46),48)-43-SUM($B49:B49)),0),0) -> 0 | D49: =IF(D41<>"Dim",IF(SUM($B46:D46)>43,(MIN(SUM($B46:D46),48)-43-SUM($B49:C49)),0),0) -> 0 | E49: =IF(E41<>"Dim",IF(SUM($B46:E46)>43,(MIN(SUM($B46:E46),48)-43-SUM($B49:D49)),0),0) -> 0 | F49: =IF(F41<>"Dim",IF(SUM($B46:F46)>43,(MIN(SUM($B46:F46),48)-43-SUM($B49:E49)),0),0) -> 0 | G49: =IF(G41<>"Dim",IF(SUM($B46:G46)>43,(MIN(SUM($B46:G46),48)-43-SUM($B49:F49)),0),0) -> 0 | H49: =IF(H41<>"Dim",IF(SUM($B46:H46)>43,(MIN(SUM($B46:H46),48)-43-SUM($B49:G49)),0),0) -> 0 | I49: =SUM(B49:H49) -> 0 | J49: =IF(J41<>"Dim",IF(J46>43,(MIN(J46,48)-43),0),0) -> 0 | K49: =IF(K41<>"Dim",IF(SUM($J46:K46)>43,(MIN(SUM($J46:K46),48)-43-SUM($J49:J49)),0),0) -> 0 | L49: =IF(L41<>"Dim",IF(SUM($J46:L46)>43,(MIN(SUM($J46:L46),48)-43-SUM($J49:K49)),0),0) -> 0 | M49: =IF(M41<>"Dim",IF(SUM($J46:M46)>43,(MIN(SUM($J46:M46),48)-43-SUM($J49:L49)),0),0) -> 0 | N49: =IF(N41<>"Dim",IF(SUM($J46:N46)>43,(MIN(SUM($J46:N46),48)-43-SUM($J49:M49)),0),0) -> 0 | O49: =IF(O41<>"Dim",IF(SUM($J46:O46)>43,(MIN(SUM($J46:O46),48)-43-SUM($J49:N49)),0),0) -> 0 | P49: =IF(P41<>"Dim",IF(SUM($J46:P46)>43,(MIN(SUM($J46:P46),48)-43-SUM($J49:O49)),0),0) -> 0 | Q49: =SUM(J49:P49) -> 0 | R49: =IF(R41<>"Dim",IF(R46>43,(MIN(R46,48)-43),0),0) -> 0 | S49: =IF(S41<>"Dim",IF(SUM($R46:S46)>43,(MIN(SUM($R46:S46),48)-43-SUM($R49:R49)),0),0) -> 0 | T49: =IF(T41<>"Dim",IF(SUM($R46:T46)>43,(MIN(SUM($R46:T46),48)-43-SUM($R49:S49)),0),0) -> 0 | U49: =IF(U41<>"Dim",IF(SUM($R46:U46)>43,(MIN(SUM($R46:U46),48)-43-SUM($R49:T49)),0),0) -> 0 | V49: =IF(V41<>"Dim",IF(SUM($R46:V46)>43,(MIN(SUM($R46:V46),48)-43-SUM($R49:U49)),0),0) -> 0 | W49: =IF(W41<>"Dim",IF(SUM($R46:W46)>43,(MIN(SUM($R46:W46),48)-43-SUM($R49:V49)),0),0) -> 0 | X49: =IF(X41<>"Dim",IF(SUM($R46:X46)>43,(MIN(SUM($R46:X46),48)-43-SUM($R49:W49)),0),0) -> 0 | Y49: =SUM(R49:X49) -> 0 | Z49: =IF(Z41<>"Dim",IF(Z46>43,(MIN(Z46,48)-43),0),0) -> 0 | AA49: =IF(AA41<>"Dim",IF(SUM($Z46:AA46)>43,(MIN(SUM($Z46:AA46),48)-43-SUM($Z49:Z49)),0),0) -> 0 | AB49: =IF(AB41<>"Dim",IF(SUM($Z46:AB46)>43,(MIN(SUM($Z46:AB46),48)-43-SUM($Z49:AA49)),0),0) -> 0 | AC49: =IF(AC41<>"Dim",IF(SUM($Z46:AC46)>43,(MIN(SUM($Z46:AC46),48)-43-SUM($Z49:AB49)),0),0) -> 0 | AD49: =IF(AD41<>"Dim",IF(SUM($Z46:AD46)>43,(MIN(SUM($Z46:AD46),48)-43-SUM($Z49:AC49)),0),0) -> 0 | AE49: =IF(AE41<>"Dim",IF(SUM($Z46:AE46)>43,(MIN(SUM($Z46:AE46),48)-43-SUM($Z49:AD49)),0),0) -> 0 | AF49: =IF(AF41<>"Dim",IF(SUM($Z46:AF46)>43,(MIN(SUM($Z46:AF46),48)-43-SUM($Z49:AE49)),0),0) -> 0 | AG49: =SUM(Z49:AF49) -> 0 | AH49: =IF(AH41<>"Dim",IF(AH46>43,(MIN(AH46,48)-43),0),0) -> 0 | AI49: =IF(AI41<>"Dim",IF(SUM($AH46:AI46)>43,(MIN(SUM($AH46:AI46),48)-43-SUM($AH49:AH49)),0),0) -> 0 | AJ49: =IF(AJ41<>"Dim",IF(SUM($AH46:AJ46)>43,(MIN(SUM($AH46:AJ46),48)-43-SUM($AH49:AI49)),0),0) -> 0 | AK49: =IF(AK41<>"Dim",IF(SUM($AH46:AK46)>43,(MIN(SUM($AH46:AK46),48)-43-SUM($AH49:AJ49)),0),0) -> 0 | AL49: =IF(AL41<>"Dim",IF(SUM($AH46:AL46)>43,(MIN(SUM($AH46:AL46),48)-43-SUM($AH49:AK49)),0),0) -> 0 | AM49: =IF(AM41<>"Dim",IF(SUM($AH46:AM46)>43,(MIN(SUM($AH46:AM46),48)-43-SUM($AH49:AL49)),0),0) -> 0 | AN49: =IF(AN41<>"Dim",IF(SUM($AH46:AN46)>43,(MIN(SUM($AH46:AN46),48)-43-SUM($AH49:AM49)),0),0) -> 0 | AO49: =SUM(AH49:AN49) -> 0 | AP49: =IF(AP41<>"Dim",IF(AP46>43,(MIN(AP46,48)-43),0),0) -> 0 | AQ49: =IF(AQ41<>"Dim",IF(SUM($AP46:AQ46)>43,(MIN(SUM($AP46:AQ46),48)-43-SUM($AP49:AP49)),0),0) -> 0 | AR49: =SUM(AP49:AQ49) -> 0 | AS49: =I49+Q49+Y49+AG49+AO49+AR49 -> 0
A50: HS 200% | B50: =IF(B41="Dim",B46,IF(B56="ferie",B46,0)) -> 0 | C50: =IF(C41="Dim",C46,IF(C56="ferie",C46,0)) -> 0 | D50: =IF(D41="Dim",D46,IF(D56="ferie",D46,0)) -> 0 | E50: =IF(E41="Dim",E46,IF(E56="ferie",E46,0)) -> 0 | F50: =IF(F41="Dim",F46,IF(F56="ferie",F46,0)) -> 0 | G50: =IF(G41="Dim",G46,IF(G56="ferie",G46,0)) -> 0 | H50: =IF(H41="Dim",H46,IF(H56="ferie",H46,0)) -> 0 | I50: =SUM(B50:H50) -> 0 | J50: =IF(J41="Dim",J46,IF(J56="ferie",J46,0)) -> 0 | K50: =IF(K41="Dim",K46,IF(K56="ferie",K46,0)) -> 0 | L50: =IF(L41="Dim",L46,IF(L56="ferie",L46,0)) -> 0 | M50: =IF(M41="Dim",M46,IF(M56="ferie",M46,0)) -> 0 | N50: =IF(N41="Dim",N46,IF(N56="ferie",N46,0)) -> 0 | O50: =IF(O41="Dim",O46,IF(O56="ferie",O46,0)) -> 0 | P50: =IF(P41="Dim",P46,IF(P56="ferie",P46,0)) -> 0 | Q50: =SUM(J50:P50) -> 0 | R50: =IF(R41="Dim",R46,IF(R56="ferie",R46,0)) -> 0 | S50: =IF(S41="Dim",S46,IF(S56="ferie",S46,0)) -> 0 | T50: =IF(T41="Dim",T46,IF(T56="ferie",T46,0)) -> 0 | U50: =IF(U41="Dim",U46,IF(U56="ferie",U46,0)) -> 0 | V50: =IF(V41="Dim",V46,IF(V56="ferie",V46,0)) -> 0 | W50: =IF(W41="Dim",W46,IF(W56="ferie",W46,0)) -> 0 | X50: =IF(X41="Dim",X46,IF(X56="ferie",X46,0)) -> 0 | Y50: =SUM(R50:X50) -> 0 | Z50: =IF(Z41="Dim",Z46,IF(Z56="ferie",Z46,0)) -> 0 | AA50: =IF(AA41="Dim",AA46,IF(AA56="ferie",AA46,0)) -> 0 | AB50: =IF(AB41="Dim",AB46,IF(AB56="ferie",AB46,0)) -> 0 | AC50: =IF(AC41="Dim",AC46,IF(AC56="ferie",AC46,0)) -> 0 | AD50: =IF(AD41="Dim",AD46,IF(AD56="ferie",AD46,0)) -> 0 | AE50: =IF(AE41="Dim",AE46,IF(AE56="ferie",AE46,0)) -> 0 | AF50: =IF(AF41="Dim",AF46,IF(AF56="ferie",AF46,0)) -> 0 | AG50: =SUM(Z50:AF50) -> 0 | AH50: =IF(AH41="Dim",AH46,IF(AH56="ferie",AH46,0)) -> 8 | AI50: =IF(AI41="Dim",AI46,IF(AI56="ferie",AI46,0)) -> 0 | AJ50: =IF(AJ41="Dim",AJ46,IF(AJ56="ferie",AJ46,0)) -> 0 | AK50: =IF(AK41="Dim",AK46,IF(AK56="ferie",AK46,0)) -> 0 | AL50: =IF(AL41="Dim",AL46,IF(AL56="ferie",AL46,0)) -> 0 | AM50: =IF(AM41="Dim",AM46,IF(AM56="ferie",AM46,0)) -> 0 | AN50: =IF(AN41="Dim",AN46,IF(AN56="ferie",AN46,0)) -> 0 | AO50: =SUM(AH50:AN50) -> 8 | AP50: =IF(AP41="Dim",AP46,IF(AP56="ferie",AP46,0)) -> 0 | AQ50: =IF(AQ41="Dim",AQ46,IF(AQ56="ferie",AQ46,0)) -> 0 | AR50: =SUM(AP50:AQ50) -> 0 | AS50: =I50+Q50+Y50+AG50+AO50+AR50 -> 8
A51: HR + | I51: =SUM(B51:H51) -> 0 | Q51: =SUM(J51:P51) -> 0 | Y51: =SUM(R51:X51) -> 0 | AG51: =SUM(Z51:AF51) -> 0 | AO51: =SUM(AH51:AN51) -> 0 | AR51: =SUM(AP51:AQ51) -> 0 | AS51: =I51+Q51+Y51+AG51+AO51+AR51 -> 0
A52: HR - | I52: =SUM(B52:H52) -> 0 | Q52: =SUM(J52:P52) -> 0 | Y52: =SUM(R52:X52) -> 0 | AG52: =SUM(Z52:AF52) -> 0 | AK52: 8 | AO52: =SUM(AH52:AN52) -> 8 | AR52: =SUM(AP52:AQ52) -> 0 | AS52: =I52+Q52+Y52+AG52+AO52+AR52 -> 8
A53: CP - | I53: =SUM(B53:H53) -> 0 | Q53: =SUM(J53:P53) -> 0 | Y53: =SUM(R53:X53) -> 0 | AG53: =SUM(Z53:AF53) -> 0 | AO53: =SUM(AH53:AN53) -> 0 | AR53: =SUM(AP53:AQ53) -> 0 | AS53: =I53+Q53+Y53+AG53+AO53+AR53 -> 0
A54: RC - | I54: =SUM(B54:H54) -> 0 | Q54: =SUM(J54:P54) -> 0 | Y54: =SUM(R54:X54) -> 0 | AG54: =SUM(Z54:AF54) -> 0 | AO54: =SUM(AH54:AN54) -> 0 | AR54: =SUM(AP54:AQ54) -> 0 | AS54: =I54+Q54+Y54+AG54+AO54+AR54 -> 0
A55: RC nuit | B55: =IF(B43="nuit",B46*0.02,0) -> 0 | C55: =IF(C43="nuit",C46*0.02,0) -> 0 | D55: =IF(D43="nuit",D46*0.02,0) -> 0 | E55: =IF(E43="nuit",E46*0.02,0) -> 0 | F55: =IF(F43="nuit",F46*0.02,0) -> 0 | G55: =IF(G43="nuit",G46*0.02,0) -> 0 | H55: =IF(H43="nuit",H46*0.02,0) -> 0 | I55: =SUM(B55:H55) -> 0 | J55: =IF(J43="nuit",J46*0.02,0) -> 0 | K55: =IF(K43="nuit",K46*0.02,0) -> 0 | L55: =IF(L43="nuit",L46*0.02,0) -> 0 | M55: =IF(M43="nuit",M46*0.02,0) -> 0 | N55: =IF(N43="nuit",N46*0.02,0) -> 0 | O55: =IF(O43="nuit",O46*0.02,0) -> 0 | P55: =IF(P43="nuit",P46*0.02,0) -> 0 | Q55: =SUM(J55:P55) -> 0 | R55: =IF(R43="nuit",R46*0.02,0) -> 0.16 | S55: =IF(S43="nuit",S46*0.02,0) -> 0.16 | T55: =IF(T43="nuit",T46*0.02,0) -> 0.16 | U55: =IF(U43="nuit",U46*0.02,0) -> 0.16 | V55: =IF(V43="nuit",V46*0.02,0) -> 0.16 | W55: =IF(W43="nuit",W46*0.02,0) -> 0 | X55: =IF(X43="nuit",X46*0.02,0) -> 0 | Y55: =SUM(R55:X55) -> 0.8 | Z55: =IF(Z43="nuit",Z46*0.02,0) -> 0 | AA55: =IF(AA43="nuit",AA46*0.02,0) -> 0 | AB55: =IF(AB43="nuit",AB46*0.02,0) -> 0 | AC55: =IF(AC43="nuit",AC46*0.02,0) -> 0 | AD55: =IF(AD43="nuit",AD46*0.02,0) -> 0 | AE55: =IF(AE43="nuit",AE46*0.02,0) -> 0 | AF55: =IF(AF43="nuit",AF46*0.02,0) -> 0 | AG55: =SUM(Z55:AF55) -> 0 | AH55: =IF(AH43="nuit",AH46*0.02,0) -> 0 | AI55: =IF(AI43="nuit",AI46*0.02,0) -> 0 | AJ55: =IF(AJ43="nuit",AJ46*0.02,0) -> 0 | AK55: =IF(AK43="nuit",AK46*0.02,0) -> 0 | AL55: =IF(AL43="nuit",AL46*0.02,0) -> 0 | AM55: =IF(AM43="nuit",AM46*0.02,0) -> 0 | AN55: =IF(AN43="nuit",AN46*0.02,0) -> 0 | AO55: =SUM(AH55:AN55) -> 0 | AP55: =IF(AP43="nuit",AP46*0.02,0) -> 0 | AQ55: =IF(AQ43="nuit",AQ46*0.02,0) -> 0 | AR55: =SUM(AP55:AQ55) -> 0 | AS55: =I55+Q55+Y55+AG55+AO55+AR55 -> 0.8
A56: Note | AA56: hs | AB56: hs | AH56: ferie
B58: Avril | G58: =Année_Calendaire -> 2016 | R58: Avril | W58: =Année_Calendaire -> 2016 | AH58: Avril | AM58: =Année_Calendaire -> 2016
B59: Lun | C59: Mar | D59: Mer | E59: Jeu | F59: Ven | G59: Sam | H59: Dim | I59: Cumul | J59: Lun | K59: Mar | L59: Mer | M59: Jeu | N59: Ven | O59: Sam | P59: Dim | Q59: Cumul | R59: Lun | S59: Mar | T59: Mer | U59: Jeu | V59: Ven | W59: Sam | X59: Dim | Y59: Cumul | Z59: Lun | AA59: Mar | AB59: Mer | AC59: Jeu | AD59: Ven | AE59: Sam | AF59: Dim | AG59: Cumul | AH59: Lun | AI59: Mar | AJ59: Mer | AK59: Jeu | AL59: Ven | AM59: Sam | AN59: Dim | AO59: Cumul | AP59: Lun | AQ59: Mar | AR59: Cumul | AS59: Cumul total | AT59: =AS66+AS67+AS68 -> 18 | AU59: =AT59+AU41 -> 38
B60: =IF(DAY(Avr_Dim1)=1,"",IF(AND(YEAR(Avr_Dim1+1)=Année_Calendaire,MONTH(Avr_Dim1+1)=4),Avr_Dim1+1,"")) | C60: =IF(DAY(Avr_Dim1)=1,"",IF(AND(YEAR(Avr_Dim1+2)=Année_Calendaire,MONTH(Avr_Dim1+2)=4),Avr_Dim1+2,"")) | D60: =IF(DAY(Avr_Dim1)=1,"",IF(AND(YEAR(Avr_Dim1+3)=Année_Calendaire,MONTH(Avr_Dim1+3)=4),Avr_Dim1+3,"")) | E60: =IF(DAY(Avr_Dim1)=1,"",IF(AND(YEAR(Avr_Dim1+4)=Année_Calendaire,MONTH(Avr_Dim1+4)=4),Avr_Dim1+4,"")) | F60: =IF(DAY(Avr_Dim1)=1,"",IF(AND(YEAR(Avr_Dim1+5)=Année_Calendaire,MONTH(Avr_Dim1+5)=4),Avr_Dim1+5,"")) -> 42461 | G60: =IF(DAY(Avr_Dim1)=1,"",IF(AND(YEAR(Avr_Dim1+6)=Année_Calendaire,MONTH(Avr_Dim1+6)=4),Avr_Dim1+6,"")) -> 42462 | H60: =IF(DAY(Avr_Dim1)=1,IF(AND(YEAR(Avr_Dim1)=Année_Calendaire,MONTH(Avr_Dim1)=4),Avr_Dim1,""),IF(AND(YEAR(Avr_Dim1+7)=Année_Calendaire,MONTH(Avr_Dim1+7)=4),Avr_Dim1+7,"")) -> 42463 | J60: =IF(DAY(Avr_Dim1)=1,IF(AND(YEAR(Avr_Dim1+1)=Année_Calendaire,MONTH(Avr_Dim1+1)=4),Avr_Dim1+1,""),IF(AND(YEAR(Avr_Dim1+8)=Année_Calendaire,MONTH(Avr_Dim1+8)=4),Avr_Dim1+8,"")) -> 42464 | K60: =IF(DAY(Avr_Dim1)=1,IF(AND(YEAR(Avr_Dim1+2)=Année_Calendaire,MONTH(Avr_Dim1+2)=4),Avr_Dim1+2,""),IF(AND(YEAR(Avr_Dim1+9)=Année_Calendaire,MONTH(Avr_Dim1+9)=4),Avr_Dim1+9,"")) -> 42465 | L60: =IF(DAY(Avr_Dim1)=1,IF(AND(YEAR(Avr_Dim1+3)=Année_Calendaire,MONTH(Avr_Dim1+3)=4),Avr_Dim1+3,""),IF(AND(YEAR(Avr_Dim1+10)=Année_Calendaire,MONTH(Avr_Dim1+10)=4),Avr_Dim1+10,"")) -> 42466 | M60: =IF(DAY(Avr_Dim1)=1,IF(AND(YEAR(Avr_Dim1+4)=Année_Calendaire,MONTH(Avr_Dim1+4)=4),Avr_Dim1+4,""),IF(AND(YEAR(Avr_Dim1+11)=Année_Calendaire,MONTH(Avr_Dim1+11)=4),Avr_Dim1+11,"")) -> 42467 | N60: =IF(DAY(Avr_Dim1)=1,IF(AND(YEAR(Avr_Dim1+5)=Année_Calendaire,MONTH(Avr_Dim1+5)=4),Avr_Dim1+5,""),IF(AND(YEAR(Avr_Dim1+12)=Année_Calendaire,MONTH(Avr_Dim1+12)=4),Avr_Dim1+12,"")) -> 42468 | O60: =IF(DAY(Avr_Dim1)=1,IF(AND(YEAR(Avr_Dim1+6)=Année_Calendaire,MONTH(Avr_Dim1+6)=4),Avr_Dim1+6,""),IF(AND(YEAR(Avr_Dim1+13)=Année_Calendaire,MONTH(Avr_Dim1+13)=4),Avr_Dim1+13,"")) -> 42469 | P60: =IF(DAY(Avr_Dim1)=1,IF(AND(YEAR(Avr_Dim1+7)=Année_Calendaire,MONTH(Avr_Dim1+7)=4),Avr_Dim1+7,""),IF(AND(YEAR(Avr_Dim1+14)=Année_Calendaire,MONTH(Avr_Dim1+14)=4),Avr_Dim1+14,"")) -> 42470 | R60: =IF(DAY(Avr_Dim1)=1,IF(AND(YEAR(Avr_Dim1+8)=Année_Calendaire,MONTH(Avr_Dim1+8)=4),Avr_Dim1+8,""),IF(AND(YEAR(Avr_Dim1+15)=Année_Calendaire,MONTH(Avr_Dim1+15)=4),Avr_Dim1+15,"")) -> 42471 | S60: =IF(DAY(Avr_Dim1)=1,IF(AND(YEAR(Avr_Dim1+9)=Année_Calendaire,MONTH(Avr_Dim1+9)=4),Avr_Dim1+9,""),IF(AND(YEAR(Avr_Dim1+16)=Année_Calendaire,MONTH(Avr_Dim1+16)=4),Avr_Dim1+16,"")) -> 42472 | T60: =IF(DAY(Avr_Dim1)=1,IF(AND(YEAR(Avr_Dim1+10)=Année_Calendaire,MONTH(Avr_Dim1+10)=4),Avr_Dim1+10,""),IF(AND(YEAR(Avr_Dim1+17)=Année_Calendaire,MONTH(Avr_Dim1+17)=4),Avr_Dim1+17,"")) -> 42473 | U60: =IF(DAY(Avr_Dim1)=1,IF(AND(YEAR(Avr_Dim1+11)=Année_Calendaire,MONTH(Avr_Dim1+11)=4),Avr_Dim1+11,""),IF(AND(YEAR(Avr_Dim1+18)=Année_Calendaire,MONTH(Avr_Dim1+18)=4),Avr_Dim1+18,"")) -> 42474 | V60: =IF(DAY(Avr_Dim1)=1,IF(AND(YEAR(Avr_Dim1+12)=Année_Calendaire,MONTH(Avr_Dim1+12)=4),Avr_Dim1+12,""),IF(AND(YEAR(Avr_Dim1+19)=Année_Calendaire,MONTH(Avr_Dim1+19)=4),Avr_Dim1+19,"")) -> 42475 | W60: =IF(DAY(Avr_Dim1)=1,IF(AND(YEAR(Avr_Dim1+13)=Année_Calendaire,MONTH(Avr_Dim1+13)=4),Avr_Dim1+13,""),IF(AND(YEAR(Avr_Dim1+20)=Année_Calendaire,MONTH(Avr_Dim1+20)=4),Avr_Dim1+20,"")) -> 42476 | X60: =IF(DAY(Avr_Dim1)=1,IF(AND(YEAR(Avr_Dim1+14)=Année_Calendaire,MONTH(Avr_Dim1+14)=4),Avr_Dim1+14,""),IF(AND(YEAR(Avr_Dim1+21)=Année_Calendaire,MONTH(Avr_Dim1+21)=4),Avr_Dim1+21,"")) -> 42477 | Z60: =IF(DAY(Avr_Dim1)=1,IF(AND(YEAR(Avr_Dim1+15)=Année_Calendaire,MONTH(Avr_Dim1+15)=4),Avr_Dim1+15,""),IF(AND(YEAR(Avr_Dim1+22)=Année_Calendaire,MONTH(Avr_Dim1+22)=4),Avr_Dim1+22,"")) -> 42478 | AA60: =IF(DAY(Avr_Dim1)=1,IF(AND(YEAR(Avr_Dim1+16)=Année_Calendaire,MONTH(Avr_Dim1+16)=4),Avr_Dim1+16,""),IF(AND(YEAR(Avr_Dim1+23)=Année_Calendaire,MONTH(Avr_Dim1+23)=4),Avr_Dim1+23,"")) -> 42479 | AB60: =IF(DAY(Avr_Dim1)=1,IF(AND(YEAR(Avr_Dim1+17)=Année_Calendaire,MONTH(Avr_Dim1+17)=4),Avr_Dim1+17,""),IF(AND(YEAR(Avr_Dim1+24)=Année_Calendaire,MONTH(Avr_Dim1+24)=4),Avr_Dim1+24,"")) -> 42480 | AC60: =IF(DAY(Avr_Dim1)=1,IF(AND(YEAR(Avr_Dim1+18)=Année_Calendaire,MONTH(Avr_Dim1+18)=4),Avr_Dim1+18,""),IF(AND(YEAR(Avr_Dim1+25)=Année_Calendaire,MONTH(Avr_Dim1+25)=4),Avr_Dim1+25,"")) -> 42481 | AD60: =IF(DAY(Avr_Dim1)=1,IF(AND(YEAR(Avr_Dim1+19)=Année_Calendaire,MONTH(Avr_Dim1+19)=4),Avr_Dim1+19,""),IF(AND(YEAR(Avr_Dim1+26)=Année_Calendaire,MONTH(Avr_Dim1+26)=4),Avr_Dim1+26,"")) -> 42482 | AE60: =IF(DAY(Avr_Dim1)=1,IF(AND(YEAR(Avr_Dim1+20)=Année_Calendaire,MONTH(Avr_Dim1+20)=4),Avr_Dim1+20,""),IF(AND(YEAR(Avr_Dim1+27)=Année_Calendaire,MONTH(Avr_Dim1+27)=4),Avr_Dim1+27,"")) -> 42483 | AF60: =IF(DAY(Avr_Dim1)=1,IF(AND(YEAR(Avr_Dim1+21)=Année_Calendaire,MONTH(Avr_Dim1+21)=4),Avr_Dim1+21,""),IF(AND(YEAR(Avr_Dim1+28)=Année_Calendaire,MONTH(Avr_Dim1+28)=4),Avr_Dim1+28,"")) -> 42484 | AH60: =IF(DAY(Avr_Dim1)=1,IF(AND(YEAR(Avr_Dim1+22)=Année_Calendaire,MONTH(Avr_Dim1+22)=4),Avr_Dim1+22,""),IF(AND(YEAR(Avr_Dim1+29)=Année_Calendaire,MONTH(Avr_Dim1+29)=4),Avr_Dim1+29,"")) -> 42485 | AI60: =IF(DAY(Avr_Dim1)=1,IF(AND(YEAR(Avr_Dim1+23)=Année_Calendaire,MONTH(Avr_Dim1+23)=4),Avr_Dim1+23,""),IF(AND(YEAR(Avr_Dim1+30)=Année_Calendaire,MONTH(Avr_Dim1+30)=4),Avr_Dim1+30,"")) -> 42486 | AJ60: =IF(DAY(Avr_Dim1)=1,IF(AND(YEAR(Avr_Dim1+24)=Année_Calendaire,MONTH(Avr_Dim1+24)=4),Avr_Dim1+24,""),IF(AND(YEAR(Avr_Dim1+31)=Année_Calendaire,MONTH(Avr_Dim1+31)=4),Avr_Dim1+31,"")) -> 42487 | AK60: =IF(DAY(Avr_Dim1)=1,IF(AND(YEAR(Avr_Dim1+25)=Année_Calendaire,MONTH(Avr_Dim1+25)=4),Avr_Dim1+25,""),IF(AND(YEAR(Avr_Dim1+32)=Année_Calendaire,MONTH(Avr_Dim1+32)=4),Avr_Dim1+32,"")) -> 42488 | AL60: =IF(DAY(Avr_Dim1)=1,IF(AND(YEAR(Avr_Dim1+26)=Année_Calendaire,MONTH(Avr_Dim1+26)=4),Avr_Dim1+26,""),IF(AND(YEAR(Avr_Dim1+33)=Année_Calendaire,MONTH(Avr_Dim1+33)=4),Avr_Dim1+33,"")) -> 42489 | AM60: =IF(DAY(Avr_Dim1)=1,IF(AND(YEAR(Avr_Dim1+27)=Année_Calendaire,MONTH(Avr_Dim1+27)=4),Avr_Dim1+27,""),IF(AND(YEAR(Avr_Dim1+34)=Année_Calendaire,MONTH(Avr_Dim1+34)=4),Avr_Dim1+34,"")) -> 42490 | AN60: =IF(DAY(Avr_Dim1)=1,IF(AND(YEAR(Avr_Dim1+28)=Année_Calendaire,MONTH(Avr_Dim1+28)=4),Avr_Dim1+28,""),IF(AND(YEAR(Avr_Dim1+35)=Année_Calendaire,MONTH(Avr_Dim1+35)=4),Avr_Dim1+35,"")) | AP60: =IF(DAY(Avr_Dim1)=1,IF(AND(YEAR(Avr_Dim1+29)=Année_Calendaire,MONTH(Avr_Dim1+29)=4),Avr_Dim1+29,""),IF(AND(YEAR(Avr_Dim1+36)=Année_Calendaire,MONTH(Avr_Dim1+36)=4),Avr_Dim1+36,"")) | AQ60: =IF(DAY(Avr_Dim1)=1,IF(AND(YEAR(Avr_Dim1+30)=Année_Calendaire,MONTH(Avr_Dim1+30)=4),Avr_Dim1+30,""),IF(AND(YEAR(Avr_Dim1+37)=Année_Calendaire,MONTH(Avr_Dim1+37)=4),Avr_Dim1+37,""))
A61: Equipe | J61: matin | K61: matin | L61: matin | M61: matin | N61: matin | P61: nuit | Z61: matin | AC61: matin | AD61: matin | AH61: am | AI61: am | AJ61: am | AK61: am | AL61: am
A62: Ticket resto | B62: =IF(B61="Matin",1,IF(B61="AM",1,0)) -> 0 | C62: =IF(C61="Matin",1,IF(C61="AM",1,0)) -> 0 | D62: =IF(D61="Matin",1,IF(D61="AM",1,0)) -> 0 | E62: =IF(E61="Matin",1,IF(E61="AM",1,0)) -> 0 | F62: =IF(F61="Matin",1,IF(F61="AM",1,0)) -> 0 | G62: =IF(G61="Matin",1,IF(G61="AM",1,0)) -> 0 | H62: =IF(H61="Matin",1,IF(H61="AM",1,0)) -> 0 | I62: =SUM(B62:H62) -> 0 | J62: =IF(J61="Matin",1,IF(J61="AM",1,0)) -> 1 | K62: =IF(K61="Matin",1,IF(K61="AM",1,0)) -> 1 | L62: =IF(L61="Matin",1,IF(L61="AM",1,0)) -> 1 | M62: =IF(M61="Matin",1,IF(M61="AM",1,0)) -> 1 | N62: =IF(N61="Matin",1,IF(N61="AM",1,0)) -> 1 | O62: =IF(O61="Matin",1,IF(O61="AM",1,0)) -> 0 | P62: =IF(P61="Matin",1,IF(P61="AM",1,0)) -> 0 | Q62: =SUM(J62:P62) -> 5 | R62: =IF(R61="Matin",1,IF(R61="AM",1,0)) -> 0 | S62: =IF(S61="Matin",1,IF(S61="AM",1,0)) -> 0 | T62: =IF(T61="Matin",1,IF(T61="AM",1,0)) -> 0 | U62: =IF(U61="Matin",1,IF(U61="AM",1,0)) -> 0 | V62: =IF(V61="Matin",1,IF(V61="AM",1,0)) -> 0 | W62: =IF(W61="Matin",1,IF(W61="AM",1,0)) -> 0 | X62: =IF(X61="Matin",1,IF(X61="AM",1,0)) -> 0 | Y62: =SUM(R62:X62) -> 0 | Z62: =IF(Z61="Matin",1,IF(Z61="AM",1,0)) -> 1 | AA62: =IF(AA61="Matin",1,IF(AA61="AM",1,0)) -> 0 | AB62: =IF(AB61="Matin",1,IF(AB61="AM",1,0)) -> 0 | AC62: =IF(AC61="Matin",1,IF(AC61="AM",1,0)) -> 1 | AD62: =IF(AD61="Matin",1,IF(AD61="AM",1,0)) -> 1 | AE62: =IF(AE61="Matin",1,IF(AE61="AM",1,0)) -> 0 | AF62: =IF(AF61="Matin",1,IF(AF61="AM",1,0)) -> 0 | AG62: =SUM(Z62:AF62) -> 3 | AH62: =IF(AH61="Matin",1,IF(AH61="AM",1,0)) -> 1 | AI62: =IF(AI61="Matin",1,IF(AI61="AM",1,0)) -> 1 | AJ62: =IF(AJ61="Matin",1,IF(AJ61="AM",1,0)) -> 1 | AK62: =IF(AK61="Matin",1,IF(AK61="AM",1,0)) -> 1 | AL62: =IF(AL61="Matin",1,IF(AL61="AM",1,0)) -> 1 | AM62: =IF(AM61="Matin",1,IF(AM61="AM",1,0)) -> 0 | AN62: =IF(AN61="Matin",1,IF(AN61="AM",1,0)) -> 0 | AO62: =SUM(AH62:AN62) -> 5 | AP62: =IF(AP61="Matin",1,IF(AP61="AM",1,0)) -> 0 | AQ62: =IF(AQ61="Matin",1,IF(AQ61="AM",1,0)) -> 0 | AR62: =SUM(AP62:AQ62) -> 0 | AS62: =I62+Q62+Y62+AG62+AO62+AR62 -> 13
A63: Travailler | B63: =IF(B64>=1,1,0) -> 0 | C63: =IF(C64>=1,1,0) -> 0 | D63: =IF(D64>=1,1,0) -> 0 | E63: =IF(E64>=1,1,0) -> 0 | F63: =IF(F64>=1,1,0) -> 0 | G63: =IF(G64>=1,1,0) -> 0 | H63: =IF(H64>=1,1,0) -> 0 | I63: =SUM(B63:H63) -> 0 | J63: =IF(J64>=1,1,0) -> 1 | K63: =IF(K64>=1,1,0) -> 1 | L63: =IF(L64>=1,1,0) -> 1 | M63: =IF(M64>=1,1,0) -> 1 | N63: =IF(N64>=1,1,0) -> 1 | O63: =IF(O64>=1,1,0) -> 0 | P63: =IF(P64>=1,1,0) -> 1 | Q63: =SUM(J63:P63) -> 6 | R63: =IF(R64>=1,1,0) -> 0 | S63: =IF(S64>=1,1,0) -> 0 | T63: =IF(T64>=1,1,0) -> 0 | U63: =IF(U64>=1,1,0) -> 0 | V63: =IF(V64>=1,1,0) -> 0 | W63: =IF(W64>=1,1,0) -> 0 | X63: =IF(X64>=1,1,0) -> 0 | Y63: =SUM(R63:X63) -> 0 | Z63: =IF(Z64>=1,1,0) -> 1 | AA63: =IF(AA64>=1,1,0) -> 0 | AB63: =IF(AB64>=1,1,0) -> 0 | AC63: =IF(AC64>=1,1,0) -> 1 | AD63: =IF(AD64>=1,1,0) -> 1 | AE63: =IF(AE64>=1,1,0) -> 0 | AF63: =IF(AF64>=1,1,0) -> 0 | AG63: =SUM(Z63:AF63) -> 3 | AH63: =IF(AH64>=1,1,0) -> 1 | AI63: =IF(AI64>=1,1,0) -> 1 | AJ63: =IF(AJ64>=1,1,0) -> 1 | AK63: =IF(AK64>=1,1,0) -> 1 | AL63: =IF(AL64>=1,1,0) -> 1 | AM63: =IF(AM64>=1,1,0) -> 0 | AN63: =IF(AN64>=1,1,0) -> 0 | AO63: =SUM(AH63:AN63) -> 5 | AP63: =IF(AP64>=1,1,0) -> 0 | AQ63: =IF(AQ64>=1,1,0) -> 0 | AR63: =SUM(AP63:AQ63) -> 0 | AS63: =I63+Q63+Y63+AG63+AO63+AR63 -> 14
A64: Nbr heure | I64: =SUM(B64:H64) -> 0 | J64: 8 | K64: 8 | L64: 8 | M64: 8 | N64: 8 | P64: 8 | Q64: =SUM(J64:P64) -> 48 | Y64: =SUM(R64:X64) -> 0 | Z64: 8 | AC64: 8 | AD64: 8 | AG64: =SUM(Z64:AF64) -> 24 | AH64: 8 | AI64: 8 | AJ64: 8 | AK64: 8 | AL64: 8 | AO64: =SUM(AH64:AN64) -> 40 | AR64: =SUM(AP64:AQ64) -> 0 | AS64: =I64+Q64+Y64+AG64+AO64+AR64 -> 112
A65: Heure comp | B65: =IF(B59<>"Dim",IF(B64>32,MIN(B64,35)-32,0),0) -> 0 | C65: =IF(C59<>"Dim",IF(SUM($B64:C64)>32,MIN(SUM($B64:C64),35)-32-SUM($B65:B65),0),0) -> 0 | D65: =IF(D59<>"Dim",IF(SUM($B64:D64)>32,MIN(SUM($B64:D64),35)-32-SUM($B65:C65),0),0) -> 0 | E65: =IF(E59<>"Dim",IF(SUM($B64:E64)>32,MIN(SUM($B64:E64),35)-32-SUM($B65:D65),0),0) -> 0 | F65: =IF(F59<>"Dim",IF(SUM($B64:F64)>32,MIN(SUM($B64:F64),35)-32-SUM($B65:E65),0),0) -> 0 | G65: =IF(G59<>"Dim",IF(SUM($B64:G64)>32,MIN(SUM($B64:G64),35)-32-SUM($B65:F65),0),0) -> 0 | H65: =IF(H59<>"Dim",IF(SUM($B64:H64)>32,MIN(SUM($B64:H64),35)-32-SUM($B65:G65),0),0) -> 0 | I65: =SUM(B65:H65) -> 0 | J65: =IF(J59<>"Dim",IF(J64>32,MIN(J64,35)-32,0),0) -> 0 | K65: =IF(K59<>"Dim",IF(SUM($J64:K64)>32,MIN(SUM($J64:K64),35)-32-SUM($J65:J65),0),0) -> 0 | L65: =IF(L59<>"Dim",IF(SUM($J64:L64)>32,MIN(SUM($J64:L64),35)-32-SUM($J65:K65),0),0) -> 0 | M65: =IF(M59<>"Dim",IF(SUM($J64:M64)>32,MIN(SUM($J64:M64),35)-32-SUM($J65:L65),0),0) -> 0 | N65: =IF(N59<>"Dim",IF(SUM($J64:N64)>32,MIN(SUM($J64:N64),35)-32-SUM($J65:M65),0),0) -> 3 | O65: =IF(O59<>"Dim",IF(SUM($J64:O64)>32,MIN(SUM($J64:O64),35)-32-SUM($J65:N65),0),0) -> 0 | P65: =IF(P59<>"Dim",IF(SUM($J64:P64)>32,MIN(SUM($J64:P64),35)-32-SUM($J65:O65),0),0) -> 0 | Q65: =SUM(J65:P65) -> 3 | R65: =IF(R59<>"Dim",IF(R64>32,MIN(R64,35)-32,0),0) -> 0 | S65: =IF(S59<>"Dim",IF(SUM($R64:S64)>32,MIN(SUM($R64:S64),35)-32-SUM($R65:R65),0),0) -> 0 | T65: =IF(T59<>"Dim",IF(SUM($R64:T64)>32,MIN(SUM($R64:T64),35)-32-SUM($R65:S65),0),0) -> 0 | U65: =IF(U59<>"Dim",IF(SUM($R64:U64)>32,MIN(SUM($R64:U64),35)-32-SUM($R65:T65),0),0) -> 0 | V65: =IF(V59<>"Dim",IF(SUM($R64:V64)>32,MIN(SUM($R64:V64),35)-32-SUM($R65:U65),0),0) -> 0 | W65: =IF(W59<>"Dim",IF(SUM($R64:W64)>32,MIN(SUM($R64:W64),35)-32-SUM($R65:V65),0),0) -> 0 | X65: =IF(X59<>"Dim",IF(SUM($R64:X64)>32,MIN(SUM($R64:X64),35)-32-SUM($R65:W65),0),0) -> 0 | Y65: =SUM(R65:X65) -> 0 | Z65: =IF(Z59<>"Dim",IF(Z64>32,MIN(Z64,35)-32,0),0) -> 0 | AA65: =IF(AA59<>"Dim",IF(SUM($Z64:AA64)>32,MIN(SUM($Z64:AA64),35)-32-SUM($Z65:Z65),0),0) -> 0 | AB65: =IF(AB59<>"Dim",IF(SUM($Z64:AB64)>32,MIN(SUM($Z64:AB64),35)-32-SUM($Z65:AA65),0),0) -> 0 | AC65: =IF(AC59<>"Dim",IF(SUM($Z64:AC64)>32,MIN(SUM($Z64:AC64),35)-32-SUM($Z65:AB65),0),0) -> 0 | AD65: =IF(AD59<>"Dim",IF(SUM($Z64:AD64)>32,MIN(SUM($Z64:AD64),35)-32-SUM($Z65:AC65),0),0) -> 0 | AE65: =IF(AE59<>"Dim",IF(SUM($Z64:AE64)>32,MIN(SUM($Z64:AE64),35)-32-SUM($Z65:AD65),0),0) -> 0 | AF65: =IF(AF59<>"Dim",IF(SUM($Z64:AF64)>32,MIN(SUM($Z64:AF64),35)-32-SUM($Z65:AE65),0),0) -> 0 | AG65: =SUM(Z65:AF65) -> 0 | AH65: =IF(AH59<>"Dim",IF(AH64>32,MIN(AH64,35)-32,0),0) -> 0 | AI65: =IF(AI59<>"Dim",IF(SUM($AH64:AI64)>32,MIN(SUM($AH64:AI64),35)-32-SUM($AH65:AH65),0),0) -> 0 | AJ65: =IF(AJ59<>"Dim",IF(SUM($AH64:AJ64)>32,MIN(SUM($AH64:AJ64),35)-32-SUM($AH65:AI65),0),0) -> 0 | AK65: =IF(AK59<>"Dim",IF(SUM($AH64:AK64)>32,MIN(SUM($AH64:AK64),35)-32-SUM($AH65:AJ65),0),0) -> 0 | AL65: =IF(AL59<>"Dim",IF(SUM($AH64:AL64)>32,MIN(SUM($AH64:AL64),35)-32-SUM($AH65:AK65),0),0) -> 3 | AM65: =IF(AM59<>"Dim",IF(SUM($AH64:AM64)>32,MIN(SUM($AH64:AM64),35)-32-SUM($AH65:AL65),0),0) -> 0 | AN65: =IF(AN59<>"Dim",IF(SUM($AH64:AN64)>32,MIN(SUM($AH64:AN64),35)-32-SUM($AH65:AM65),0),0) -> 0 | AO65: =SUM(AH65:AN65) -> 3 | AP65: =IF(AP59<>"Dim",IF(AP64>32,MIN(AP64,35)-32,0),0) -> 0 | AQ65: =IF(AQ59<>"Dim",IF(SUM($AP64:AQ64)>32,MIN(SUM($AP64:AQ64),35)-32-SUM($AP65:AP65),0),0) -> 0 | AR65: =SUM(AP65:AQ65) -> 0 | AS65: =I65+Q65+Y65+AG65+AO65+AR65 -> 6
A66: HS 25% | B66: =IF(B59<>"Dim",IF(B64>35,(MIN(B64,43)-35),0),0) -> 0 | C66: =IF(C59<>"Dim",IF(SUM($B64:C64)>35,(MIN(SUM($B64:C64),43)-35-SUM($B66:B66)),0),0) -> 0 | D66: =IF(D59<>"Dim",IF(SUM($B64:D64)>35,(MIN(SUM($B64:D64),43)-35-SUM($B66:C66)),0),0) -> 0 | E66: =IF(E59<>"Dim",IF(SUM($B64:E64)>35,(MIN(SUM($B64:E64),43)-35-SUM($B66:D66)),0),0) -> 0 | F66: =IF(F59<>"Dim",IF(SUM($B64:F64)>35,(MIN(SUM($B64:F64),43)-35-SUM($B66:E66)),0),0) -> 0 | G66: =IF(G59<>"Dim",IF(SUM($B64:G64)>35,(MIN(SUM($B64:G64),43)-35-SUM($B66:F66)),0),0) -> 0 | H66: =IF(H59<>"Dim",IF(SUM($B64:H64)>35,(MIN(SUM($B64:H64),43)-35-SUM($B66:G66)),0),0) -> 0 | I66: =SUM(B66:H66) -> 0 | J66: =IF(J59<>"Dim",IF(J64>35,(MIN(J64,43)-35),0),0) -> 0 | K66: =IF(K59<>"Dim",IF(SUM($J64:K64)>35,(MIN(SUM($J64:K64),43)-35-SUM($J66:J66)),0),0) -> 0 | L66: =IF(L59<>"Dim",IF(SUM($J64:L64)>35,(MIN(SUM($J64:L64),43)-35-SUM($J66:K66)),0),0) -> 0 | M66: =IF(M59<>"Dim",IF(SUM($J64:M64)>35,(MIN(SUM($J64:M64),43)-35-SUM($J66:L66)),0),0) -> 0 | N66: =IF(N59<>"Dim",IF(SUM($J64:N64)>35,(MIN(SUM($J64:N64),43)-35-SUM($J66:M66)),0),0) -> 5 | O66: =IF(O59<>"Dim",IF(SUM($J64:O64)>35,(MIN(SUM($J64:O64),43)-35-SUM($J66:N66)),0),0) -> 0 | P66: =IF(P59<>"Dim",IF(SUM($J64:P64)>35,(MIN(SUM($J64:P64),43)-35-SUM($J66:O66)),0),0) -> 0 | Q66: =SUM(J66:P66) -> 5 | R66: =IF(R59<>"Dim",IF(R64>35,(MIN(R64,43)-35),0),0) -> 0 | S66: =IF(S59<>"Dim",IF(SUM($R64:S64)>35,(MIN(SUM($R64:S64),43)-35-SUM($R66:R66)),0),0) -> 0 | T66: =IF(T59<>"Dim",IF(SUM($R64:T64)>35,(MIN(SUM($R64:T64),43)-35-SUM($R66:S66)),0),0) -> 0 | U66: =IF(U59<>"Dim",IF(SUM($R64:U64)>35,(MIN(SUM($R64:U64),43)-35-SUM($R66:T66)),0),0) -> 0 | V66: =IF(V59<>"Dim",IF(SUM($R64:V64)>35,(MIN(SUM($R64:V64),43)-35-SUM($R66:U66)),0),0) -> 0 | W66: =IF(W59<>"Dim",IF(SUM($R64:W64)>35,(MIN(SUM($R64:W64),43)-35-SUM($R66:V66)),0),0) -> 0 | X66: =IF(X59<>"Dim",IF(SUM($R64:X64)>35,(MIN(SUM($R64:X64),43)-35-SUM($R66:W66)),0),0) -> 0 | Y66: =SUM(R66:X66) -> 0 | Z66: =IF(Z59<>"Dim",IF(Z64>35,(MIN(Z64,43)-35),0),0) -> 0 | AA66: =IF(AA59<>"Dim",IF(SUM($Z64:AA64)>35,(MIN(SUM($Z64:AA64),43)-35-SUM($Z66:Z66)),0),0) -> 0 | AB66: =IF(AB59<>"Dim",IF(SUM($Z64:AB64)>35,(MIN(SUM($Z64:AB64),43)-35-SUM($Z66:AA66)),0),0) -> 0 | AC66: =IF(AC59<>"Dim",IF(SUM($Z64:AC64)>35,(MIN(SUM($Z64:AC64),43)-35-SUM($Z66:AB66)),0),0) -> 0 | AD66: =IF(AD59<>"Dim",IF(SUM($Z64:AD64)>35,(MIN(SUM($Z64:AD64),43)-35-SUM($Z66:AC66)),0),0) -> 0 | AE66: =IF(AE59<>"Dim",IF(SUM($Z64:AE64)>35,(MIN(SUM($Z64:AE64),43)-35-SUM($Z66:AD66)),0),0) -> 0 | AF66: =IF(AF59<>"Dim",IF(SUM($Z64:AF64)>35,(MIN(SUM($Z64:AF64),43)-35-SUM($Z66:AE66)),0),0) -> 0 | AG66: =SUM(Z66:AF66) -> 0 | AH66: =IF(AH59<>"Dim",IF(AH64>35,(MIN(AH64,43)-35),0),0) -> 0 | AI66: =IF(AI59<>"Dim",IF(SUM($AH64:AI64)>35,(MIN(SUM($AH64:AI64),43)-35-SUM($AH66:AH66)),0),0) -> 0 | AJ66: =IF(AJ59<>"Dim",IF(SUM($AH64:AJ64)>35,(MIN(SUM($AH64:AJ64),43)-35-SUM($AH66:AI66)),0),0) -> 0 | AK66: =IF(AK59<>"Dim",IF(SUM($AH64:AK64)>35,(MIN(SUM($AH64:AK64),43)-35-SUM($AH66:AJ66)),0),0) -> 0 | AL66: =IF(AL59<>"Dim",IF(SUM($AH64:AL64)>35,(MIN(SUM($AH64:AL64),43)-35-SUM($AH66:AK66)),0),0) -> 5 | AM66: =IF(AM59<>"Dim",IF(SUM($AH64:AM64)>35,(MIN(SUM($AH64:AM64),43)-35-SUM($AH66:AL66)),0),0) -> 0 | AN66: =IF(AN59<>"Dim",IF(SUM($AH64:AN64)>35,(MIN(SUM($AH64:AN64),43)-35-SUM($AH66:AM66)),0),0) -> 0 | AO66: =SUM(AH66:AN66) -> 5 | AP66: =IF(AP59<>"Dim",IF(AP64>35,(MIN(AP64,43)-35),0),0) -> 0 | AQ66: =IF(AQ59<>"Dim",IF(SUM($AP64:AQ64)>35,(MIN(SUM($AP64:AQ64),43)-35-SUM($AP66:AP66)),0),0) -> 0 | AR66: =SUM(AP66:AQ66) -> 0 | AS66: =I66+Q66+Y66+AG66+AO66+AR66 -> 10
A67: HS 50% | B67: =IF(B59<>"Dim",IF(B64>43,(MIN(B64,48)-43),0),0) -> 0 | C67: =IF(C59<>"Dim",IF(SUM($B64:C64)>43,(MIN(SUM($B64:C64),48)-43-SUM($B67:B67)),0),0) -> 0 | D67: =IF(D59<>"Dim",IF(SUM($B64:D64)>43,(MIN(SUM($B64:D64),48)-43-SUM($B67:C67)),0),0) -> 0 | E67: =IF(E59<>"Dim",IF(SUM($B64:E64)>43,(MIN(SUM($B64:E64),48)-43-SUM($B67:D67)),0),0) -> 0 | F67: =IF(F59<>"Dim",IF(SUM($B64:F64)>43,(MIN(SUM($B64:F64),48)-43-SUM($B67:E67)),0),0) -> 0 | G67: =IF(G59<>"Dim",IF(SUM($B64:G64)>43,(MIN(SUM($B64:G64),48)-43-SUM($B67:F67)),0),0) -> 0 | H67: =IF(H59<>"Dim",IF(SUM($B64:H64)>43,(MIN(SUM($B64:H64),48)-43-SUM($B67:G67)),0),0) -> 0 | I67: =SUM(B67:H67) -> 0 | J67: =IF(J59<>"Dim",IF(J64>43,(MIN(J64,48)-43),0),0) -> 0 | K67: =IF(K59<>"Dim",IF(SUM($J64:K64)>43,(MIN(SUM($J64:K64),48)-43-SUM($J67:J67)),0),0) -> 0 | L67: =IF(L59<>"Dim",IF(SUM($J64:L64)>43,(MIN(SUM($J64:L64),48)-43-SUM($J67:K67)),0),0) -> 0 | M67: =IF(M59<>"Dim",IF(SUM($J64:M64)>43,(MIN(SUM($J64:M64),48)-43-SUM($J67:L67)),0),0) -> 0 | N67: =IF(N59<>"Dim",IF(SUM($J64:N64)>43,(MIN(SUM($J64:N64),48)-43-SUM($J67:M67)),0),0) -> 0 | O67: =IF(O59<>"Dim",IF(SUM($J64:O64)>43,(MIN(SUM($J64:O64),48)-43-SUM($J67:N67)),0),0) -> 0 | P67: =IF(P59<>"Dim",IF(SUM($J64:P64)>43,(MIN(SUM($J64:P64),48)-43-SUM($J67:O67)),0),0) -> 0 | Q67: =SUM(J67:P67) -> 0 | R67: =IF(R59<>"Dim",IF(R64>43,(MIN(R64,48)-43),0),0) -> 0 | S67: =IF(S59<>"Dim",IF(SUM($R64:S64)>43,(MIN(SUM($R64:S64),48)-43-SUM($R67:R67)),0),0) -> 0 | T67: =IF(T59<>"Dim",IF(SUM($R64:T64)>43,(MIN(SUM($R64:T64),48)-43-SUM($R67:S67)),0),0) -> 0 | U67: =IF(U59<>"Dim",IF(SUM($R64:U64)>43,(MIN(SUM($R64:U64),48)-43-SUM($R67:T67)),0),0) -> 0 | V67: =IF(V59<>"Dim",IF(SUM($R64:V64)>43,(MIN(SUM($R64:V64),48)-43-SUM($R67:U67)),0),0) -> 0 | W67: =IF(W59<>"Dim",IF(SUM($R64:W64)>43,(MIN(SUM($R64:W64),48)-43-SUM($R67:V67)),0),0) -> 0 | X67: =IF(X59<>"Dim",IF(SUM($R64:X64)>43,(MIN(SUM($R64:X64),48)-43-SUM($R67:W67)),0),0) -> 0 | Y67: =SUM(R67:X67) -> 0 | Z67: =IF(Z59<>"Dim",IF(Z64>43,(MIN(Z64,48)-43),0),0) -> 0 | AA67: =IF(AA59<>"Dim",IF(SUM($Z64:AA64)>43,(MIN(SUM($Z64:AA64),48)-43-SUM($Z67:Z67)),0),0) -> 0 | AB67: =IF(AB59<>"Dim",IF(SUM($Z64:AB64)>43,(MIN(SUM($Z64:AB64),48)-43-SUM($Z67:AA67)),0),0) -> 0 | AC67: =IF(AC59<>"Dim",IF(SUM($Z64:AC64)>43,(MIN(SUM($Z64:AC64),48)-43-SUM($Z67:AB67)),0),0) -> 0 | AD67: =IF(AD59<>"Dim",IF(SUM($Z64:AD64)>43,(MIN(SUM($Z64:AD64),48)-43-SUM($Z67:AC67)),0),0) -> 0 | AE67: =IF(AE59<>"Dim",IF(SUM($Z64:AE64)>43,(MIN(SUM($Z64:AE64),48)-43-SUM($Z67:AD67)),0),0) -> 0 | AF67: =IF(AF59<>"Dim",IF(SUM($Z64:AF64)>43,(MIN(SUM($Z64:AF64),48)-43-SUM($Z67:AE67)),0),0) -> 0 | AG67: =SUM(Z67:AF67) -> 0 | AH67: =IF(AH59<>"Dim",IF(AH64>43,(MIN(AH64,48)-43),0),0) -> 0 | AI67: =IF(AI59<>"Dim",IF(SUM($AH64:AI64)>43,(MIN(SUM($AH64:AI64),48)-43-SUM($AH67:AH67)),0),0) -> 0 | AJ67: =IF(AJ59<>"Dim",IF(SUM($AH64:AJ64)>43,(MIN(SUM($AH64:AJ64),48)-43-SUM($AH67:AI67)),0),0) -> 0 | AK67: =IF(AK59<>"Dim",IF(SUM($AH64:AK64)>43,(MIN(SUM($AH64:AK64),48)-43-SUM($AH67:AJ67)),0),0) -> 0 | AL67: =IF(AL59<>"Dim",IF(SUM($AH64:AL64)>43,(MIN(SUM($AH64:AL64),48)-43-SUM($AH67:AK67)),0),0) -> 0 | AM67: =IF(AM59<>"Dim",IF(SUM($AH64:AM64)>43,(MIN(SUM($AH64:AM64),48)-43-SUM($AH67:AL67)),0),0) -> 0 | AN67: =IF(AN59<>"Dim",IF(SUM($AH64:AN64)>43,(MIN(SUM($AH64:AN64),48)-43-SUM($AH67:AM67)),0),0) -> 0 | AO67: =SUM(AH67:AN67) -> 0 | AP67: =IF(AP59<>"Dim",IF(AP64>43,(MIN(AP64,48)-43),0),0) -> 0 | AQ67: =IF(AQ59<>"Dim",IF(SUM($AP64:AQ64)>43,(MIN(SUM($AP64:AQ64),48)-43-SUM($AP67:AP67)),0),0) -> 0 | AR67: =SUM(AP67:AQ67) -> 0 | AS67: =I67+Q67+Y67+AG67+AO67+AR67 -> 0
A68: HS 200% | B68: =IF(B59="Dim",B64,IF(B74="ferie",B64,0)) -> 0 | C68: =IF(C59="Dim",C64,IF(C74="ferie",C64,0)) -> 0 | D68: =IF(D59="Dim",D64,IF(D74="ferie",D64,0)) -> 0 | E68: =IF(E59="Dim",E64,IF(E74="ferie",E64,0)) -> 0 | F68: =IF(F59="Dim",F64,IF(F74="ferie",F64,0)) -> 0 | G68: =IF(G59="Dim",G64,IF(G74="ferie",G64,0)) -> 0 | H68: =IF(H59="Dim",H64,IF(H74="ferie",H64,0)) -> 0 | I68: =SUM(B68:H68) -> 0 | J68: =IF(J59="Dim",J64,IF(J74="ferie",J64,0)) -> 0 | K68: =IF(K59="Dim",K64,IF(K74="ferie",K64,0)) -> 0 | L68: =IF(L59="Dim",L64,IF(L74="ferie",L64,0)) -> 0 | M68: =IF(M59="Dim",M64,IF(M74="ferie",M64,0)) -> 0 | N68: =IF(N59="Dim",N64,IF(N74="ferie",N64,0)) -> 0 | O68: =IF(O59="Dim",O64,IF(O74="ferie",O64,0)) -> 0 | P68: =IF(P59="Dim",P64,IF(P74="ferie",P64,0)) -> 8 | Q68: =SUM(J68:P68) -> 8 | R68: =IF(R59="Dim",R64,IF(R74="ferie",R64,0)) -> 0 | S68: =IF(S59="Dim",S64,IF(S74="ferie",S64,0)) -> 0 | T68: =IF(T59="Dim",T64,IF(T74="ferie",T64,0)) -> 0 | U68: =IF(U59="Dim",U64,IF(U74="ferie",U64,0)) -> 0 | V68: =IF(V59="Dim",V64,IF(V74="ferie",V64,0)) -> 0 | W68: =IF(W59="Dim",W64,IF(W74="ferie",W64,0)) -> 0 | X68: =IF(X59="Dim",X64,IF(X74="ferie",X64,0)) -> 0 | Y68: =SUM(R68:X68) -> 0 | Z68: =IF(Z59="Dim",Z64,IF(Z74="ferie",Z64,0)) -> 0 | AA68: =IF(AA59="Dim",AA64,IF(AA74="ferie",AA64,0)) -> 0 | AB68: =IF(AB59="Dim",AB64,IF(AB74="ferie",AB64,0)) -> 0 | AC68: =IF(AC59="Dim",AC64,IF(AC74="ferie",AC64,0)) -> 0 | AD68: =IF(AD59="Dim",AD64,IF(AD74="ferie",AD64,0)) -> 0 | AE68: =IF(AE59="Dim",AE64,IF(AE74="ferie",AE64,0)) -> 0 | AF68: =IF(AF59="Dim",AF64,IF(AF74="ferie",AF64,0)) -> 0 | AG68: =SUM(Z68:AF68) -> 0 | AH68: =IF(AH59="Dim",AH64,IF(AH74="ferie",AH64,0)) -> 0 | AI68: =IF(AI59="Dim",AI64,IF(AI74="ferie",AI64,0)) -> 0 | AJ68: =IF(AJ59="Dim",AJ64,IF(AJ74="ferie",AJ64,0)) -> 0 | AK68: =IF(AK59="Dim",AK64,IF(AK74="ferie",AK64,0)) -> 0 | AL68: =IF(AL59="Dim",AL64,IF(AL74="ferie",AL64,0)) -> 0 | AM68: =IF(AM59="Dim",AM64,IF(AM74="ferie",AM64,0)) -> 0 | AN68: =IF(AN59="Dim",AN64,IF(AN74="ferie",AN64,0)) -> 0 | AO68: =SUM(AH68:AN68) -> 0 | AP68: =IF(AP59="Dim",AP64,IF(AP74="ferie",AP64,0)) -> 0 | AQ68: =IF(AQ59="Dim",AQ64,IF(AQ74="ferie",AQ64,0)) -> 0 | AR68: =SUM(AP68:AQ68) -> 0 | AS68: =I68+Q68+Y68+AG68+AO68+AR68 -> 8
A69: HR + | I69: =SUM(B69:H69) -> 0 | M69: 8 | N69: 8 | Q69: =SUM(J69:P69) -> 16 | Y69: =SUM(R69:X69) -> 0 | AG69: =SUM(Z69:AF69) -> 0 | AO69: =SUM(AH69:AN69) -> 0 | AR69: =SUM(AP69:AQ69) -> 0 | AS69: =I69+Q69+Y69+AG69+AO69+AR69 -> 16
A70: HR - | F70: 8 | I70: =SUM(B70:H70) -> 8 | Q70: =SUM(J70:P70) -> 0 | V70: 8 | Y70: =SUM(R70:X70) -> 8 | AG70: =SUM(Z70:AF70) -> 0 | AO70: =SUM(AH70:AN70) -> 0 | AR70: =SUM(AP70:AQ70) -> 0 | AS70: =I70+Q70+Y70+AG70+AO70+AR70 -> 16
A71: CP - | I71: =SUM(B71:H71) -> 0 | Q71: =SUM(J71:P71) -> 0 | R71: 1 | S71: 1 | T71: 1 | U71: 1 | Y71: =SUM(R71:X71) -> 4 | AG71: =SUM(Z71:AF71) -> 0 | AO71: =SUM(AH71:AN71) -> 0 | AR71: =SUM(AP71:AQ71) -> 0 | AS71: =I71+Q71+Y71+AG71+AO71+AR71 -> 4
A72: RC - | I72: =SUM(B72:H72) -> 0 | Q72: =SUM(J72:P72) -> 0 | Y72: =SUM(R72:X72) -> 0 | AG72: =SUM(Z72:AF72) -> 0 | AO72: =SUM(AH72:AN72) -> 0 | AR72: =SUM(AP72:AQ72) -> 0 | AS72: =I72+Q72+Y72+AG72+AO72+AR72 -> 0
A73: RC nuit | B73: =IF(B61="nuit",B64*0.02,0) -> 0 | C73: =IF(C61="nuit",C64*0.02,0) -> 0 | D73: =IF(D61="nuit",D64*0.02,0) -> 0 | E73: =IF(E61="nuit",E64*0.02,0) -> 0 | F73: =IF(F61="nuit",F64*0.02,0) -> 0 | G73: =IF(G61="nuit",G64*0.02,0) -> 0 | H73: =IF(H61="nuit",H64*0.02,0) -> 0 | I73: =SUM(B73:H73) -> 0 | J73: =IF(J61="nuit",J64*0.02,0) -> 0 | K73: =IF(K61="nuit",K64*0.02,0) -> 0 | L73: =IF(L61="nuit",L64*0.02,0) -> 0 | M73: =IF(M61="nuit",M64*0.02,0) -> 0 | N73: =IF(N61="nuit",N64*0.02,0) -> 0 | O73: =IF(O61="nuit",O64*0.02,0) -> 0 | P73: =IF(P61="nuit",P64*0.02,0) -> 0.16 | Q73: =SUM(J73:P73) -> 0.16 | R73: =IF(R61="nuit",R64*0.02,0) -> 0 | S73: =IF(S61="nuit",S64*0.02,0) -> 0 | T73: =IF(T61="nuit",T64*0.02,0) -> 0 | U73: =IF(U61="nuit",U64*0.02,0) -> 0 | V73: =IF(V61="nuit",V64*0.02,0) -> 0 | W73: =IF(W61="nuit",W64*0.02,0) -> 0 | X73: =IF(X61="nuit",X64*0.02,0) -> 0 | Y73: =SUM(R73:X73) -> 0 | Z73: =IF(Z61="nuit",Z64*0.02,0) -> 0 | AA73: =IF(AA61="nuit",AA64*0.02,0) -> 0 | AB73: =IF(AB61="nuit",AB64*0.02,0) -> 0 | AC73: =IF(AC61="nuit",AC64*0.02,0) -> 0 | AD73: =IF(AD61="nuit",AD64*0.02,0) -> 0 | AE73: =IF(AE61="nuit",AE64*0.02,0) -> 0 | AF73: =IF(AF61="nuit",AF64*0.02,0) -> 0 | AG73: =SUM(Z73:AF73) -> 0 | AH73: =IF(AH61="nuit",AH64*0.02,0) -> 0 | AI73: =IF(AI61="nuit",AI64*0.02,0) -> 0 | AJ73: =IF(AJ61="nuit",AJ64*0.02,0) -> 0 | AK73: =IF(AK61="nuit",AK64*0.02,0) -> 0 | AL73: =IF(AL61="nuit",AL64*0.02,0) -> 0 | AM73: =IF(AM61="nuit",AM64*0.02,0) -> 0 | AN73: =IF(AN61="nuit",AN64*0.02,0) -> 0 | AO73: =SUM(AH73:AN73) -> 0 | AP73: =IF(AP61="nuit",AP64*0.02,0) -> 0 | AQ73: =IF(AQ61="nuit",AQ64*0.02,0) -> 0 | AR73: =SUM(AP73:AQ73) -> 0 | AS73: =I73+Q73+Y73+AG73+AO73+AR73 -> 0.16
A74: Note | M74: hs | N74: hs
B76: Mai | G76: =Année_Calendaire -> 2016 | R76: Mai | W76: =Année_Calendaire -> 2016 | AH76: Mai | AM76: =Année_Calendaire -> 2016
B77: Lun | C77: Mar | D77: Mer | E77: Jeu | F77: Ven | G77: Sam | H77: Dim | I77: Cumul | J77: Lun | K77: Mar | L77: Mer | M77: Jeu | N77: Ven | O77: Sam | P77: Dim | Q77: Cumul | R77: Lun | S77: Mar | T77: Mer | U77: Jeu | V77: Ven | W77: Sam | X77: Dim | Y77: Cumul | Z77: Lun | AA77: Mar | AB77: Mer | AC77: Jeu | AD77: Ven | AE77: Sam | AF77: Dim | AG77: Cumul | AH77: Lun | AI77: Mar | AJ77: Mer | AK77: Jeu | AL77: Ven | AM77: Sam | AN77: Dim | AO77: Cumul | AP77: Lun | AQ77: Mar | AR77: Cumul | AS77: Cumul total | AT77: =AS84+AS85+AS86 -> 8 | AU77: =AT77+AU59 -> 46
B78: =IF(DAY(Mai_Dim1)=1,"",IF(AND(YEAR(Mai_Dim1+1)=Année_Calendaire,MONTH(Mai_Dim1+1)=5),Mai_Dim1+1,"")) | C78: =IF(DAY(Mai_Dim1)=1,"",IF(AND(YEAR(Mai_Dim1+2)=Année_Calendaire,MONTH(Mai_Dim1+2)=5),Mai_Dim1+2,"")) | D78: =IF(DAY(Mai_Dim1)=1,"",IF(AND(YEAR(Mai_Dim1+3)=Année_Calendaire,MONTH(Mai_Dim1+3)=5),Mai_Dim1+3,"")) | E78: =IF(DAY(Mai_Dim1)=1,"",IF(AND(YEAR(Mai_Dim1+4)=Année_Calendaire,MONTH(Mai_Dim1+4)=5),Mai_Dim1+4,"")) | F78: =IF(DAY(Mai_Dim1)=1,"",IF(AND(YEAR(Mai_Dim1+5)=Année_Calendaire,MONTH(Mai_Dim1+5)=5),Mai_Dim1+5,"")) | G78: =IF(DAY(Mai_Dim1)=1,"",IF(AND(YEAR(Mai_Dim1+6)=Année_Calendaire,MONTH(Mai_Dim1+6)=5),Mai_Dim1+6,"")) | H78: =IF(DAY(Mai_Dim1)=1,IF(AND(YEAR(Mai_Dim1)=Année_Calendaire,MONTH(Mai_Dim1)=5),Mai_Dim1,""),IF(AND(YEAR(Mai_Dim1+7)=Année_Calendaire,MONTH(Mai_Dim1+7)=5),Mai_Dim1+7,"")) -> 42491 | J78: =IF(DAY(Mai_Dim1)=1,IF(AND(YEAR(Mai_Dim1+1)=Année_Calendaire,MONTH(Mai_Dim1+1)=5),Mai_Dim1+1,""),IF(AND(YEAR(Mai_Dim1+8)=Année_Calendaire,MONTH(Mai_Dim1+8)=5),Mai_Dim1+8,"")) -> 42492 | K78: =IF(DAY(Mai_Dim1)=1,IF(AND(YEAR(Mai_Dim1+2)=Année_Calendaire,MONTH(Mai_Dim1+2)=5),Mai_Dim1+2,""),IF(AND(YEAR(Mai_Dim1+9)=Année_Calendaire,MONTH(Mai_Dim1+9)=5),Mai_Dim1+9,"")) -> 42493 | L78: =IF(DAY(Mai_Dim1)=1,IF(AND(YEAR(Mai_Dim1+3)=Année_Calendaire,MONTH(Mai_Dim1+3)=5),Mai_Dim1+3,""),IF(AND(YEAR(Mai_Dim1+10)=Année_Calendaire,MONTH(Mai_Dim1+10)=5),Mai_Dim1+10,"")) -> 42494 | M78: =IF(DAY(Mai_Dim1)=1,IF(AND(YEAR(Mai_Dim1+4)=Année_Calendaire,MONTH(Mai_Dim1+4)=5),Mai_Dim1+4,""),IF(AND(YEAR(Mai_Dim1+11)=Année_Calendaire,MONTH(Mai_Dim1+11)=5),Mai_Dim1+11,"")) -> 42495 | N78: =IF(DAY(Mai_Dim1)=1,IF(AND(YEAR(Mai_Dim1+5)=Année_Calendaire,MONTH(Mai_Dim1+5)=5),Mai_Dim1+5,""),IF(AND(YEAR(Mai_Dim1+12)=Année_Calendaire,MONTH(Mai_Dim1+12)=5),Mai_Dim1+12,"")) -> 42496 | O78: =IF(DAY(Mai_Dim1)=1,IF(AND(YEAR(Mai_Dim1+6)=Année_Calendaire,MONTH(Mai_Dim1+6)=5),Mai_Dim1+6,""),IF(AND(YEAR(Mai_Dim1+13)=Année_Calendaire,MONTH(Mai_Dim1+13)=5),Mai_Dim1+13,"")) -> 42497 | P78: =IF(DAY(Mai_Dim1)=1,IF(AND(YEAR(Mai_Dim1+7)=Année_Calendaire,MONTH(Mai_Dim1+7)=5),Mai_Dim1+7,""),IF(AND(YEAR(Mai_Dim1+14)=Année_Calendaire,MONTH(Mai_Dim1+14)=5),Mai_Dim1+14,"")) -> 42498 | R78: =IF(DAY(Mai_Dim1)=1,IF(AND(YEAR(Mai_Dim1+8)=Année_Calendaire,MONTH(Mai_Dim1+8)=5),Mai_Dim1+8,""),IF(AND(YEAR(Mai_Dim1+15)=Année_Calendaire,MONTH(Mai_Dim1+15)=5),Mai_Dim1+15,"")) -> 42499 | S78: =IF(DAY(Mai_Dim1)=1,IF(AND(YEAR(Mai_Dim1+9)=Année_Calendaire,MONTH(Mai_Dim1+9)=5),Mai_Dim1+9,""),IF(AND(YEAR(Mai_Dim1+16)=Année_Calendaire,MONTH(Mai_Dim1+16)=5),Mai_Dim1+16,"")) -> 42500 | T78: =IF(DAY(Mai_Dim1)=1,IF(AND(YEAR(Mai_Dim1+10)=Année_Calendaire,MONTH(Mai_Dim1+10)=5),Mai_Dim1+10,""),IF(AND(YEAR(Mai_Dim1+17)=Année_Calendaire,MONTH(Mai_Dim1+17)=5),Mai_Dim1+17,"")) -> 42501 | U78: =IF(DAY(Mai_Dim1)=1,IF(AND(YEAR(Mai_Dim1+11)=Année_Calendaire,MONTH(Mai_Dim1+11)=5),Mai_Dim1+11,""),IF(AND(YEAR(Mai_Dim1+18)=Année_Calendaire,MONTH(Mai_Dim1+18)=5),Mai_Dim1+18,"")) -> 42502 | V78: =IF(DAY(Mai_Dim1)=1,IF(AND(YEAR(Mai_Dim1+12)=Année_Calendaire,MONTH(Mai_Dim1+12)=5),Mai_Dim1+12,""),IF(AND(YEAR(Mai_Dim1+19)=Année_Calendaire,MONTH(Mai_Dim1+19)=5),Mai_Dim1+19,"")) -> 42503 | W78: =IF(DAY(Mai_Dim1)=1,IF(AND(YEAR(Mai_Dim1+13)=Année_Calendaire,MONTH(Mai_Dim1+13)=5),Mai_Dim1+13,""),IF(AND(YEAR(Mai_Dim1+20)=Année_Calendaire,MONTH(Mai_Dim1+20)=5),Mai_Dim1+20,"")) -> 42504 | X78: =IF(DAY(Mai_Dim1)=1,IF(AND(YEAR(Mai_Dim1+14)=Année_Calendaire,MONTH(Mai_Dim1+14)=5),Mai_Dim1+14,""),IF(AND(YEAR(Mai_Dim1+21)=Année_Calendaire,MONTH(Mai_Dim1+21)=5),Mai_Dim1+21,"")) -> 42505 | Z78: =IF(DAY(Mai_Dim1)=1,IF(AND(YEAR(Mai_Dim1+15)=Année_Calendaire,MONTH(Mai_Dim1+15)=5),Mai_Dim1+15,""),IF(AND(YEAR(Mai_Dim1+22)=Année_Calendaire,MONTH(Mai_Dim1+22)=5),Mai_Dim1+22,"")) -> 42506 | AA78: =IF(DAY(Mai_Dim1)=1,IF(AND(YEAR(Mai_Dim1+16)=Année_Calendaire,MONTH(Mai_Dim1+16)=5),Mai_Dim1+16,""),IF(AND(YEAR(Mai_Dim1+23)=Année_Calendaire,MONTH(Mai_Dim1+23)=5),Mai_Dim1+23,"")) -> 42507 | AB78: =IF(DAY(Mai_Dim1)=1,IF(AND(YEAR(Mai_Dim1+17)=Année_Calendaire,MONTH(Mai_Dim1+17)=5),Mai_Dim1+17,""),IF(AND(YEAR(Mai_Dim1+24)=Année_Calendaire,MONTH(Mai_Dim1+24)=5),Mai_Dim1+24,"")) -> 42508 | AC78: =IF(DAY(Mai_Dim1)=1,IF(AND(YEAR(Mai_Dim1+18)=Année_Calendaire,MONTH(Mai_Dim1+18)=5),Mai_Dim1+18,""),IF(AND(YEAR(Mai_Dim1+25)=Année_Calendaire,MONTH(Mai_Dim1+25)=5),Mai_Dim1+25,"")) -> 42509 | AD78: =IF(DAY(Mai_Dim1)=1,IF(AND(YEAR(Mai_Dim1+19)=Année_Calendaire,MONTH(Mai_Dim1+19)=5),Mai_Dim1+19,""),IF(AND(YEAR(Mai_Dim1+26)=Année_Calendaire,MONTH(Mai_Dim1+26)=5),Mai_Dim1+26,"")) -> 42510 | AE78: =IF(DAY(Mai_Dim1)=1,IF(AND(YEAR(Mai_Dim1+20)=Année_Calendaire,MONTH(Mai_Dim1+20)=5),Mai_Dim1+20,""),IF(AND(YEAR(Mai_Dim1+27)=Année_Calendaire,MONTH(Mai_Dim1+27)=5),Mai_Dim1+27,"")) -> 42511 | AF78: =IF(DAY(Mai_Dim1)=1,IF(AND(YEAR(Mai_Dim1+21)=Année_Calendaire,MONTH(Mai_Dim1+21)=5),Mai_Dim1+21,""),IF(AND(YEAR(Mai_Dim1+28)=Année_Calendaire,MONTH(Mai_Dim1+28)=5),Mai_Dim1+28,"")) -> 42512 | AH78: =IF(DAY(Mai_Dim1)=1,IF(AND(YEAR(Mai_Dim1+22)=Année_Calendaire,MONTH(Mai_Dim1+22)=5),Mai_Dim1+22,""),IF(AND(YEAR(Mai_Dim1+29)=Année_Calendaire,MONTH(Mai_Dim1+29)=5),Mai_Dim1+29,"")) -> 42513 | AI78: =IF(DAY(Mai_Dim1)=1,IF(AND(YEAR(Mai_Dim1+23)=Année_Calendaire,MONTH(Mai_Dim1+23)=5),Mai_Dim1+23,""),IF(AND(YEAR(Mai_Dim1+30)=Année_Calendaire,MONTH(Mai_Dim1+30)=5),Mai_Dim1+30,"")) -> 42514 | AJ78: =IF(DAY(Mai_Dim1)=1,IF(AND(YEAR(Mai_Dim1+24)=Année_Calendaire,MONTH(Mai_Dim1+24)=5),Mai_Dim1+24,""),IF(AND(YEAR(Mai_Dim1+31)=Année_Calendaire,MONTH(Mai_Dim1+31)=5),Mai_Dim1+31,"")) -> 42515 | AK78: =IF(DAY(Mai_Dim1)=1,IF(AND(YEAR(Mai_Dim1+25)=Année_Calendaire,MONTH(Mai_Dim1+25)=5),Mai_Dim1+25,""),IF(AND(YEAR(Mai_Dim1+32)=Année_Calendaire,MONTH(Mai_Dim1+32)=5),Mai_Dim1+32,"")) -> 42516 | AL78: =IF(DAY(Mai_Dim1)=1,IF(AND(YEAR(Mai_Dim1+26)=Année_Calendaire,MONTH(Mai_Dim1+26)=5),Mai_Dim1+26,""),IF(AND(YEAR(Mai_Dim1+33)=Année_Calendaire,MONTH(Mai_Dim1+33)=5),Mai_Dim1+33,"")) -> 42517 | AM78: =IF(DAY(Mai_Dim1)=1,IF(AND(YEAR(Mai_Dim1+27)=Année_Calendaire,MONTH(Mai_Dim1+27)=5),Mai_Dim1+27,""),IF(AND(YEAR(Mai_Dim1+34)=Année_Calendaire,MONTH(Mai_Dim1+34)=5),Mai_Dim1+34,"")) -> 42518 | AN78: =IF(DAY(Mai_Dim1)=1,IF(AND(YEAR(Mai_Dim1+28)=Année_Calendaire,MONTH(Mai_Dim1+28)=5),Mai_Dim1+28,""),IF(AND(YEAR(Mai_Dim1+35)=Année_Calendaire,MONTH(Mai_Dim1+35)=5),Mai_Dim1+35,"")) -> 42519 | AP78: =IF(DAY(Mai_Dim1)=1,IF(AND(YEAR(Mai_Dim1+29)=Année_Calendaire,MONTH(Mai_Dim1+29)=5),Mai_Dim1+29,""),IF(AND(YEAR(Mai_Dim1+36)=Année_Calendaire,MONTH(Mai_Dim1+36)=5),Mai_Dim1+36,"")) -> 42520 | AQ78: =IF(DAY(Mai_Dim1)=1,IF(AND(YEAR(Mai_Dim1+30)=Année_Calendaire,MONTH(Mai_Dim1+30)=5),Mai_Dim1+30,""),IF(AND(YEAR(Mai_Dim1+37)=Année_Calendaire,MONTH(Mai_Dim1+37)=5),Mai_Dim1+37,"")) -> 42521
A79: Equipe | K79: matin | L79: matin | P79: nuit | R79: nuit | S79: nuit | T79: nuit | U79: nuit | V79: nuit | AA79: matin | AB79: matin | AC79: matin | AD79: matin | AH79: am | AJ79: am | AK79: am | AL79: am | AP79: matin | AQ79: matin
A80: Ticket resto | B80: =IF(B79="Matin",1,IF(B79="AM",1,0)) -> 0 | C80: =IF(C79="Matin",1,IF(C79="AM",1,0)) -> 0 | D80: =IF(D79="Matin",1,IF(D79="AM",1,0)) -> 0 | E80: =IF(E79="Matin",1,IF(E79="AM",1,0)) -> 0 | F80: =IF(F79="Matin",1,IF(F79="AM",1,0)) -> 0 | G80: =IF(G79="Matin",1,IF(G79="AM",1,0)) -> 0 | H80: =IF(H79="Matin",1,IF(H79="AM",1,0)) -> 0 | I80: =SUM(B80:H80) -> 0 | J80: =IF(J79="Matin",1,IF(J79="AM",1,0)) -> 0 | K80: =IF(K79="Matin",1,IF(K79="AM",1,0)) -> 1 | L80: =IF(L79="Matin",1,IF(L79="AM",1,0)) -> 1 | M80: =IF(M79="Matin",1,IF(M79="AM",1,0)) -> 0 | N80: =IF(N79="Matin",1,IF(N79="AM",1,0)) -> 0 | O80: =IF(O79="Matin",1,IF(O79="AM",1,0)) -> 0 | P80: =IF(P79="Matin",1,IF(P79="AM",1,0)) -> 0 | Q80: =SUM(J80:P80) -> 2 | R80: =IF(R79="Matin",1,IF(R79="AM",1,0)) -> 0 | S80: =IF(S79="Matin",1,IF(S79="AM",1,0)) -> 0 | T80: =IF(T79="Matin",1,IF(T79="AM",1,0)) -> 0 | U80: =IF(U79="Matin",1,IF(U79="AM",1,0)) -> 0 | V80: =IF(V79="Matin",1,IF(V79="AM",1,0)) -> 0 | W80: =IF(W79="Matin",1,IF(W79="AM",1,0)) -> 0 | X80: =IF(X79="Matin",1,IF(X79="AM",1,0)) -> 0 | Y80: =SUM(R80:X80) -> 0 | Z80: =IF(Z79="Matin",1,IF(Z79="AM",1,0)) -> 0 | AA80: =IF(AA79="Matin",1,IF(AA79="AM",1,0)) -> 1 | AB80: =IF(AB79="Matin",1,IF(AB79="AM",1,0)) -> 1 | AC80: =IF(AC79="Matin",1,IF(AC79="AM",1,0)) -> 1 | AD80: =IF(AD79="Matin",1,IF(AD79="AM",1,0)) -> 1 | AE80: =IF(AE79="Matin",1,IF(AE79="AM",1,0)) -> 0 | AF80: =IF(AF79="Matin",1,IF(AF79="AM",1,0)) -> 0 | AG80: =SUM(Z80:AF80) -> 4 | AH80: =IF(AH79="Matin",1,IF(AH79="AM",1,0)) -> 1 | AI80: =IF(AI79="Matin",1,IF(AI79="AM",1,0)) -> 0 | AJ80: =IF(AJ79="Matin",1,IF(AJ79="AM",1,0)) -> 1 | AK80: =IF(AK79="Matin",1,IF(AK79="AM",1,0)) -> 1 | AL80: =IF(AL79="Matin",1,IF(AL79="AM",1,0)) -> 1 | AM80: =IF(AM79="Matin",1,IF(AM79="AM",1,0)) -> 0 | AN80: =IF(AN79="Matin",1,IF(AN79="AM",1,0)) -> 0 | AO80: =SUM(AH80:AN80) -> 4 | AP80: =IF(AP79="Matin",1,IF(AP79="AM",1,0)) -> 1 | AQ80: =IF(AQ79="Matin",1,IF(AQ79="AM",1,0)) -> 1 | AR80: =SUM(AP80:AQ80) -> 2 | AS80: =I80+Q80+Y80+AG80+AO80+AR80 -> 12
A81: Travailler | B81: =IF(B82>=1,1,0) -> 0 | C81: =IF(C82>=1,1,0) -> 0 | D81: =IF(D82>=1,1,0) -> 0 | E81: =IF(E82>=1,1,0) -> 0 | F81: =IF(F82>=1,1,0) -> 0 | G81: =IF(G82>=1,1,0) -> 0 | H81: =IF(H82>=1,1,0) -> 0 | I81: =SUM(B81:H81) -> 0 | J81: =IF(J82>=1,1,0) -> 0 | K81: =IF(K82>=1,1,0) -> 1 | L81: =IF(L82>=1,1,0) -> 1 | M81: =IF(M82>=1,1,0) -> 0 | N81: =IF(N82>=1,1,0) -> 0 | O81: =IF(O82>=1,1,0) -> 0 | P81: =IF(P82>=1,1,0) -> 1 | Q81: =SUM(J81:P81) -> 3 | R81: =IF(R82>=1,1,0) -> 1 | S81: =IF(S82>=1,1,0) -> 1 | T81: =IF(T82>=1,1,0) -> 1 | U81: =IF(U82>=1,1,0) -> 1 | V81: =IF(V82>=1,1,0) -> 1 | W81: =IF(W82>=1,1,0) -> 0 | X81: =IF(X82>=1,1,0) -> 0 | Y81: =SUM(R81:X81) -> 5 | Z81: =IF(Z82>=1,1,0) -> 0 | AA81: =IF(AA82>=1,1,0) -> 1 | AB81: =IF(AB82>=1,1,0) -> 1 | AC81: =IF(AC82>=1,1,0) -> 1 | AD81: =IF(AD82>=1,1,0) -> 1 | AE81: =IF(AE82>=1,1,0) -> 0 | AF81: =IF(AF82>=1,1,0) -> 0 | AG81: =SUM(Z81:AF81) -> 4 | AH81: =IF(AH82>=1,1,0) -> 1 | AI81: =IF(AI82>=1,1,0) -> 0 | AJ81: =IF(AJ82>=1,1,0) -> 1 | AK81: =IF(AK82>=1,1,0) -> 1 | AL81: =IF(AL82>=1,1,0) -> 1 | AM81: =IF(AM82>=1,1,0) -> 0 | AN81: =IF(AN82>=1,1,0) -> 0 | AO81: =SUM(AH81:AN81) -> 4 | AP81: =IF(AP82>=1,1,0) -> 1 | AQ81: =IF(AQ82>=1,1,0) -> 0 | AR81: =SUM(AP81:AQ81) -> 1 | AS81: =I81+Q81+Y81+AG81+AO81+AR81 -> 17
A82: Nbr heure | I82: =SUM(B82:H82) -> 0 | K82: 8 | L82: 8 | P82: 8 | Q82: =SUM(J82:P82) -> 24 | R82: 8 | S82: 8 | T82: 8 | U82: 8 | V82: 8 | Y82: =SUM(R82:X82) -> 40 | AA82: 8 | AB82: 8 | AC82: 8 | AD82: 8 | AG82: =SUM(Z82:AF82) -> 32 | AH82: 8 | AJ82: 8 | AK82: 8 | AL82: 8 | AO82: =SUM(AH82:AN82) -> 32 | AP82: 7 | AR82: =SUM(AP82:AQ82) -> 7 | AS82: =I82+Q82+Y82+AG82+AO82+AR82 -> 135
A83: Heure comp | B83: =IF(B77<>"Dim",IF(B82>32,MIN(B82,35)-32,0),0) -> 0 | C83: =IF(C77<>"Dim",IF(SUM($B82:C82)>32,MIN(SUM($B82:C82),35)-32-SUM($B83:B83),0),0) -> 0 | D83: =IF(D77<>"Dim",IF(SUM($B82:D82)>32,MIN(SUM($B82:D82),35)-32-SUM($B83:C83),0),0) -> 0 | E83: =IF(E77<>"Dim",IF(SUM($B82:E82)>32,MIN(SUM($B82:E82),35)-32-SUM($B83:D83),0),0) -> 0 | F83: =IF(F77<>"Dim",IF(SUM($B82:F82)>32,MIN(SUM($B82:F82),35)-32-SUM($B83:E83),0),0) -> 0 | G83: =IF(G77<>"Dim",IF(SUM($B82:G82)>32,MIN(SUM($B82:G82),35)-32-SUM($B83:F83),0),0) -> 0 | H83: =IF(H77<>"Dim",IF(SUM($B82:H82)>32,MIN(SUM($B82:H82),35)-32-SUM($B83:G83),0),0) -> 0 | I83: =SUM(B83:H83) -> 0 | J83: =IF(J77<>"Dim",IF(J82>32,MIN(J82,35)-32,0),0) -> 0 | K83: =IF(K77<>"Dim",IF(SUM($J82:K82)>32,MIN(SUM($J82:K82),35)-32-SUM($J83:J83),0),0) -> 0 | L83: =IF(L77<>"Dim",IF(SUM($J82:L82)>32,MIN(SUM($J82:L82),35)-32-SUM($J83:K83),0),0) -> 0 | M83: =IF(M77<>"Dim",IF(SUM($J82:M82)>32,MIN(SUM($J82:M82),35)-32-SUM($J83:L83),0),0) -> 0 | N83: =IF(N77<>"Dim",IF(SUM($J82:N82)>32,MIN(SUM($J82:N82),35)-32-SUM($J83:M83),0),0) -> 0 | O83: =IF(O77<>"Dim",IF(SUM($J82:O82)>32,MIN(SUM($J82:O82),35)-32-SUM($J83:N83),0),0) -> 0 | P83: =IF(P77<>"Dim",IF(SUM($J82:P82)>32,MIN(SUM($J82:P82),35)-32-SUM($J83:O83),0),0) -> 0 | Q83: =SUM(J83:P83) -> 0 | R83: =IF(R77<>"Dim",IF(R82>32,MIN(R82,35)-32,0),0) -> 0 | S83: =IF(S77<>"Dim",IF(SUM($R82:S82)>32,MIN(SUM($R82:S82),35)-32-SUM($R83:R83),0),0) -> 0 | T83: =IF(T77<>"Dim",IF(SUM($R82:T82)>32,MIN(SUM($R82:T82),35)-32-SUM($R83:S83),0),0) -> 0 | U83: =IF(U77<>"Dim",IF(SUM($R82:U82)>32,MIN(SUM($R82:U82),35)-32-SUM($R83:T83),0),0) -> 0 | Y83: =SUM(R83:X83) -> 0 | Z83: =IF(Z77<>"Dim",IF(Z82>32,MIN(Z82,35)-32,0),0) -> 0 | AA83: =IF(AA77<>"Dim",IF(SUM($Z82:AA82)>32,MIN(SUM($Z82:AA82),35)-32-SUM($Z83:Z83),0),0) -> 0 | AB83: =IF(AB77<>"Dim",IF(SUM($Z82:AB82)>32,MIN(SUM($Z82:AB82),35)-32-SUM($Z83:AA83),0),0) -> 0 | AC83: =IF(AC77<>"Dim",IF(SUM($Z82:AC82)>32,MIN(SUM($Z82:AC82),35)-32-SUM($Z83:AB83),0),0) -> 0 | AD83: =IF(AD77<>"Dim",IF(SUM($Z82:AD82)>32,MIN(SUM($Z82:AD82),35)-32-SUM($Z83:AC83),0),0) -> 0 | AE83: =IF(AE77<>"Dim",IF(SUM($Z82:AE82)>32,MIN(SUM($Z82:AE82),35)-32-SUM($Z83:AD83),0),0) -> 0 | AF83: =IF(AF77<>"Dim",IF(SUM($Z82:AF82)>32,MIN(SUM($Z82:AF82),35)-32-SUM($Z83:AE83),0),0) -> 0 | AG83: =SUM(Z83:AF83) -> 0 | AH83: =IF(AH77<>"Dim",IF(AH82>32,MIN(AH82,35)-32,0),0) -> 0 | AI83: =IF(AI77<>"Dim",IF(SUM($AH82:AI82)>32,MIN(SUM($AH82:AI82),35)-32-SUM($AH83:AH83),0),0) -> 0 | AJ83: =IF(AJ77<>"Dim",IF(SUM($AH82:AJ82)>32,MIN(SUM($AH82:AJ82),35)-32-SUM($AH83:AI83),0),0) -> 0 | AK83: =IF(AK77<>"Dim",IF(SUM($AH82:AK82)>32,MIN(SUM($AH82:AK82),35)-32-SUM($AH83:AJ83),0),0) -> 0 | AO83: =SUM(AH83:AN83) -> 0 | AP83: =IF(AP77<>"Dim",IF(AP82>32,MIN(AP82,35)-32,0),0) -> 0 | AQ83: =IF(AQ77<>"Dim",IF(SUM($AP82:AQ82)>32,MIN(SUM($AP82:AQ82),35)-32-SUM($AP83:AP83),0),0) -> 0 | AR83: =SUM(AP83:AQ83) -> 0 | AS83: =I83+Q83+Y83+AG83+AO83+AR83 -> 0
A84: HS 25% | B84: =IF(B77<>"Dim",IF(B82>35,(MIN(B82,43)-35),0),0) -> 0 | C84: =IF(C77<>"Dim",IF(SUM($B82:C82)>35,(MIN(SUM($B82:C82),43)-35-SUM($B84:B84)),0),0) -> 0 | D84: =IF(D77<>"Dim",IF(SUM($B82:D82)>35,(MIN(SUM($B82:D82),43)-35-SUM($B84:C84)),0),0) -> 0 | E84: =IF(E77<>"Dim",IF(SUM($B82:E82)>35,(MIN(SUM($B82:E82),43)-35-SUM($B84:D84)),0),0) -> 0 | F84: =IF(F77<>"Dim",IF(SUM($B82:F82)>35,(MIN(SUM($B82:F82),43)-35-SUM($B84:E84)),0),0) -> 0 | G84: =IF(G77<>"Dim",IF(SUM($B82:G82)>35,(MIN(SUM($B82:G82),43)-35-SUM($B84:F84)),0),0) -> 0 | H84: =IF(H77<>"Dim",IF(SUM($B82:H82)>35,(MIN(SUM($B82:H82),43)-35-SUM($B84:G84)),0),0) -> 0 | I84: =SUM(B84:H84) -> 0 | J84: =IF(J77<>"Dim",IF(J82>35,(MIN(J82,43)-35),0),0) -> 0 | K84: =IF(K77<>"Dim",IF(SUM($J82:K82)>35,(MIN(SUM($J82:K82),43)-35-SUM($J84:J84)),0),0) -> 0 | L84: =IF(L77<>"Dim",IF(SUM($J82:L82)>35,(MIN(SUM($J82:L82),43)-35-SUM($J84:K84)),0),0) -> 0 | M84: =IF(M77<>"Dim",IF(SUM($J82:M82)>35,(MIN(SUM($J82:M82),43)-35-SUM($J84:L84)),0),0) -> 0 | N84: =IF(N77<>"Dim",IF(SUM($J82:N82)>35,(MIN(SUM($J82:N82),43)-35-SUM($J84:M84)),0),0) -> 0 | O84: =IF(O77<>"Dim",IF(SUM($J82:O82)>35,(MIN(SUM($J82:O82),43)-35-SUM($J84:N84)),0),0) -> 0 | P84: =IF(P77<>"Dim",IF(SUM($J82:P82)>35,(MIN(SUM($J82:P82),43)-35-SUM($J84:O84)),0),0) -> 0 | Q84: =SUM(J84:P84) -> 0 | R84: =IF(R77<>"Dim",IF(R82>35,(MIN(R82,43)-35),0),0) -> 0 | S84: =IF(S77<>"Dim",IF(SUM($R82:S82)>35,(MIN(SUM($R82:S82),43)-35-SUM($R84:R84)),0),0) -> 0 | T84: =IF(T77<>"Dim",IF(SUM($R82:T82)>35,(MIN(SUM($R82:T82),43)-35-SUM($R84:S84)),0),0) -> 0 | U84: =IF(U77<>"Dim",IF(SUM($R82:U82)>35,(MIN(SUM($R82:U82),43)-35-SUM($R84:T84)),0),0) -> 0 | Y84: =SUM(R84:X84) -> 0 | Z84: =IF(Z77<>"Dim",IF(Z82>35,(MIN(Z82,43)-35),0),0) -> 0 | AA84: =IF(AA77<>"Dim",IF(SUM($Z82:AA82)>35,(MIN(SUM($Z82:AA82),43)-35-SUM($Z84:Z84)),0),0) -> 0 | AB84: =IF(AB77<>"Dim",IF(SUM($Z82:AB82)>35,(MIN(SUM($Z82:AB82),43)-35-SUM($Z84:AA84)),0),0) -> 0 | AC84: =IF(AC77<>"Dim",IF(SUM($Z82:AC82)>35,(MIN(SUM($Z82:AC82),43)-35-SUM($Z84:AB84)),0),0) -> 0 | AD84: =IF(AD77<>"Dim",IF(SUM($Z82:AD82)>35,(MIN(SUM($Z82:AD82),43)-35-SUM($Z84:AC84)),0),0) -> 0 | AE84: =IF(AE77<>"Dim",IF(SUM($Z82:AE82)>35,(MIN(SUM($Z82:AE82),43)-35-SUM($Z84:AD84)),0),0) -> 0 | AF84: =IF(AF77<>"Dim",IF(SUM($Z82:AF82)>35,(MIN(SUM($Z82:AF82),43)-35-SUM($Z84:AE84)),0),0) -> 0 | AG84: =SUM(Z84:AF84) -> 0 | AH84: =IF(AH77<>"Dim",IF(AH82>35,(MIN(AH82,43)-35),0),0) -> 0 | AI84: =IF(AI77<>"Dim",IF(SUM($AH82:AI82)>35,(MIN(SUM($AH82:AI82),43)-35-SUM($AH84:AH84)),0),0) -> 0 | AJ84: =IF(AJ77<>"Dim",IF(SUM($AH82:AJ82)>35,(MIN(SUM($AH82:AJ82),43)-35-SUM($AH84:AI84)),0),0) -> 0 | AK84: =IF(AK77<>"Dim",IF(SUM($AH82:AK82)>35,(MIN(SUM($AH82:AK82),43)-35-SUM($AH84:AJ84)),0),0) -> 0 | AO84: =SUM(AH84:AN84) -> 0 | AP84: =IF(AP77<>"Dim",IF(AP82>35,(MIN(AP82,43)-35),0),0) -> 0 | AQ84: =IF(AQ77<>"Dim",IF(SUM($AP82:AQ82)>35,(MIN(SUM($AP82:AQ82),43)-35-SUM($AP84:AP84)),0),0) -> 0 | AR84: =SUM(AP84:AQ84) -> 0 | AS84: =I84+Q84+Y84+AG84+AO84+AR84 -> 0
A85: HS 50% | B85: =IF(B77<>"Dim",IF(B82>43,(MIN(B82,48)-43),0),0) -> 0 | C85: =IF(C77<>"Dim",IF(SUM($B82:C82)>43,(MIN(SUM($B82:C82),48)-43-SUM($B85:B85)),0),0) -> 0 | D85: =IF(D77<>"Dim",IF(SUM($B82:D82)>43,(MIN(SUM($B82:D82),48)-43-SUM($B85:C85)),0),0) -> 0 | E85: =IF(E77<>"Dim",IF(SUM($B82:E82)>43,(MIN(SUM($B82:E82),48)-43-SUM($B85:D85)),0),0) -> 0 | F85: =IF(F77<>"Dim",IF(SUM($B82:F82)>43,(MIN(SUM($B82:F82),48)-43-SUM($B85:E85)),0),0) -> 0 | G85: =IF(G77<>"Dim",IF(SUM($B82:G82)>43,(MIN(SUM($B82:G82),48)-43-SUM($B85:F85)),0),0) -> 0 | H85: =IF(H77<>"Dim",IF(SUM($B82:H82)>43,(MIN(SUM($B82:H82),48)-43-SUM($B85:G85)),0),0) -> 0 | I85: =SUM(B85:H85) -> 0 | J85: =IF(J77<>"Dim",IF(J82>43,(MIN(J82,48)-43),0),0) -> 0 | K85: =IF(K77<>"Dim",IF(SUM($J82:K82)>43,(MIN(SUM($J82:K82),48)-43-SUM($J85:J85)),0),0) -> 0 | L85: =IF(L77<>"Dim",IF(SUM($J82:L82)>43,(MIN(SUM($J82:L82),48)-43-SUM($J85:K85)),0),0) -> 0 | M85: =IF(M77<>"Dim",IF(SUM($J82:M82)>43,(MIN(SUM($J82:M82),48)-43-SUM($J85:L85)),0),0) -> 0 | N85: =IF(N77<>"Dim",IF(SUM($J82:N82)>43,(MIN(SUM($J82:N82),48)-43-SUM($J85:M85)),0),0) -> 0 | O85: =IF(O77<>"Dim",IF(SUM($J82:O82)>43,(MIN(SUM($J82:O82),48)-43-SUM($J85:N85)),0),0) -> 0 | P85: =IF(P77<>"Dim",IF(SUM($J82:P82)>43,(MIN(SUM($J82:P82),48)-43-SUM($J85:O85)),0),0) -> 0 | Q85: =SUM(J85:P85) -> 0 | R85: =IF(R77<>"Dim",IF(R82>43,(MIN(R82,48)-43),0),0) -> 0 | S85: =IF(S77<>"Dim",IF(SUM($R82:S82)>43,(MIN(SUM($R82:S82),48)-43-SUM($R85:R85)),0),0) -> 0 | T85: =IF(T77<>"Dim",IF(SUM($R82:T82)>43,(MIN(SUM($R82:T82),48)-43-SUM($R85:S85)),0),0) -> 0 | U85: =IF(U77<>"Dim",IF(SUM($R82:U82)>43,(MIN(SUM($R82:U82),48)-43-SUM($R85:T85)),0),0) -> 0 | V85: =IF(V77<>"Dim",IF(SUM($R82:V82)>43,(MIN(SUM($R82:V82),48)-43-SUM($R85:U85)),0),0) -> 0 | W85: =IF(W77<>"Dim",IF(SUM($R82:W82)>43,(MIN(SUM($R82:W82),48)-43-SUM($R85:V85)),0),0) -> 0 | X85: =IF(X77<>"Dim",IF(SUM($R82:X82)>43,(MIN(SUM($R82:X82),48)-43-SUM($R85:W85)),0),0) -> 0 | Y85: =SUM(R85:X85) -> 0 | Z85: =IF(Z77<>"Dim",IF(Z82>43,(MIN(Z82,48)-43),0),0) -> 0 | AA85: =IF(AA77<>"Dim",IF(SUM($Z82:AA82)>43,(MIN(SUM($Z82:AA82),48)-43-SUM($Z85:Z85)),0),0) -> 0 | AB85: =IF(AB77<>"Dim",IF(SUM($Z82:AB82)>43,(MIN(SUM($Z82:AB82),48)-43-SUM($Z85:AA85)),0),0) -> 0 | AC85: =IF(AC77<>"Dim",IF(SUM($Z82:AC82)>43,(MIN(SUM($Z82:AC82),48)-43-SUM($Z85:AB85)),0),0) -> 0 | AD85: =IF(AD77<>"Dim",IF(SUM($Z82:AD82)>43,(MIN(SUM($Z82:AD82),48)-43-SUM($Z85:AC85)),0),0) -> 0 | AE85: =IF(AE77<>"Dim",IF(SUM($Z82:AE82)>43,(MIN(SUM($Z82:AE82),48)-43-SUM($Z85:AD85)),0),0) -> 0 | AF85: =IF(AF77<>"Dim",IF(SUM($Z82:AF82)>43,(MIN(SUM($Z82:AF82),48)-43-SUM($Z85:AE85)),0),0) -> 0 | AG85: =SUM(Z85:AF85) -> 0 | AH85: =IF(AH77<>"Dim",IF(AH82>43,(MIN(AH82,48)-43),0),0) -> 0 | AI85: =IF(AI77<>"Dim",IF(SUM($AH82:AI82)>43,(MIN(SUM($AH82:AI82),48)-43-SUM($AH85:AH85)),0),0) -> 0 | AJ85: =IF(AJ77<>"Dim",IF(SUM($AH82:AJ82)>43,(MIN(SUM($AH82:AJ82),48)-43-SUM($AH85:AI85)),0),0) -> 0 | AK85: =IF(AK77<>"Dim",IF(SUM($AH82:AK82)>43,(MIN(SUM($AH82:AK82),48)-43-SUM($AH85:AJ85)),0),0) -> 0 | AL85: =IF(AL77<>"Dim",IF(SUM($AH82:AL82)>43,(MIN(SUM($AH82:AL82),48)-43-SUM($AH85:AK85)),0),0) -> 0 | AM85: =IF(AM77<>"Dim",IF(SUM($AH82:AM82)>43,(MIN(SUM($AH82:AM82),48)-43-SUM($AH85:AL85)),0),0) -> 0 | AN85: =IF(AN77<>"Dim",IF(SUM($AH82:AN82)>43,(MIN(SUM($AH82:AN82),48)-43-SUM($AH85:AM85)),0),0) -> 0 | AO85: =SUM(AH85:AN85) -> 0 | AP85: =IF(AP77<>"Dim",IF(AP82>43,(MIN(AP82,48)-43),0),0) -> 0 | AQ85: =IF(AQ77<>"Dim",IF(SUM($AP82:AQ82)>43,(MIN(SUM($AP82:AQ82),48)-43-SUM($AP85:AP85)),0),0) -> 0 | AR85: =SUM(AP85:AQ85) -> 0 | AS85: =I85+Q85+Y85+AG85+AO85+AR85 -> 0
A86: HS 200% | B86: =IF(B77="Dim",B82,IF(B92="ferie",B82,0)) -> 0 | C86: =IF(C77="Dim",C82,IF(C92="ferie",C82,0)) -> 0 | D86: =IF(D77="Dim",D82,IF(D92="ferie",D82,0)) -> 0 | E86: =IF(E77="Dim",E82,IF(E92="ferie",E82,0)) -> 0 | F86: =IF(F77="Dim",F82,IF(F92="ferie",F82,0)) -> 0 | G86: =IF(G77="Dim",G82,IF(G92="ferie",G82,0)) -> 0 | H86: =IF(H77="Dim",H82,IF(H92="ferie",H82,0)) -> 0 | I86: =SUM(B86:H86) -> 0 | J86: =IF(J77="Dim",J82,IF(J92="ferie",J82,0)) -> 0 | K86: =IF(K77="Dim",K82,IF(K92="ferie",K82,0)) -> 0 | L86: =IF(L77="Dim",L82,IF(L92="ferie",L82,0)) -> 0 | M86: =IF(M77="Dim",M82,IF(M92="ferie",M82,0)) -> 0 | N86: =IF(N77="Dim",N82,IF(N92="ferie",N82,0)) -> 0 | O86: =IF(O77="Dim",O82,IF(O92="ferie",O82,0)) -> 0 | P86: =IF(P77="Dim",P82,IF(P92="ferie",P82,0)) -> 8 | Q86: =SUM(J86:P86) -> 8 | R86: =IF(R77="Dim",R82,IF(R92="ferie",R82,0)) -> 0 | S86: =IF(S77="Dim",S82,IF(S92="ferie",S82,0)) -> 0 | T86: =IF(T77="Dim",T82,IF(T92="ferie",T82,0)) -> 0 | U86: =IF(U77="Dim",U82,IF(U92="ferie",U82,0)) -> 0 | V86: =IF(V77="Dim",V82,IF(V92="ferie",V82,0)) -> 0 | W86: =IF(W77="Dim",W82,IF(W92="ferie",W82,0)) -> 0 | X86: =IF(X77="Dim",X82,IF(X92="ferie",X82,0)) -> 0 | Y86: =SUM(R86:X86) -> 0 | Z86: =IF(Z77="Dim",Z82,IF(Z92="ferie",Z82,0)) -> 0 | AA86: =IF(AA77="Dim",AA82,IF(AA92="ferie",AA82,0)) -> 0 | AB86: =IF(AB77="Dim",AB82,IF(AB92="ferie",AB82,0)) -> 0 | AC86: =IF(AC77="Dim",AC82,IF(AC92="ferie",AC82,0)) -> 0 | AD86: =IF(AD77="Dim",AD82,IF(AD92="ferie",AD82,0)) -> 0 | AE86: =IF(AE77="Dim",AE82,IF(AE92="ferie",AE82,0)) -> 0 | AF86: =IF(AF77="Dim",AF82,IF(AF92="ferie",AF82,0)) -> 0 | AG86: =SUM(Z86:AF86) -> 0 | AH86: =IF(AH77="Dim",AH82,IF(AH92="ferie",AH82,0)) -> 0 | AI86: =IF(AI77="Dim",AI82,IF(AI92="ferie",AI82,0)) -> 0 | AJ86: =IF(AJ77="Dim",AJ82,IF(AJ92="ferie",AJ82,0)) -> 0 | AK86: =IF(AK77="Dim",AK82,IF(AK92="ferie",AK82,0)) -> 0 | AL86: =IF(AL77="Dim",AL82,IF(AL92="ferie",AL82,0)) -> 0 | AM86: =IF(AM77="Dim",AM82,IF(AM92="ferie",AM82,0)) -> 0 | AN86: =IF(AN77="Dim",AN82,IF(AN92="ferie",AN82,0)) -> 0 | AO86: =SUM(AH86:AN86) -> 0 | AP86: =IF(AP77="Dim",AP82,IF(AP92="ferie",AP82,0)) -> 0 | AQ86: =IF(AQ77="Dim",AQ82,IF(AQ92="ferie",AQ82,0)) -> 0 | AR86: =SUM(AP86:AQ86) -> 0 | AS86: =I86+Q86+Y86+AG86+AO86+AR86 -> 8
A87: HR + | I87: =SUM(B87:H87) -> 0 | Q87: =SUM(J87:P87) -> 0 | Y87: =SUM(R87:X87) -> 0 | AG87: =SUM(Z87:AF87) -> 0 | AO87: =SUM(AH87:AN87) -> 0 | AR87: =SUM(AP87:AQ87) -> 0 | AS87: =I87+Q87+Y87+AG87+AO87+AR87 -> 0
A88: HR - | I88: =SUM(B88:H88) -> 0 | Q88: =SUM(J88:P88) -> 0 | Y88: =SUM(R88:X88) -> 0 | AG88: =SUM(Z88:AF88) -> 0 | AO88: =SUM(AH88:AN88) -> 0 | AR88: =SUM(AP88:AQ88) -> 0 | AS88: =I88+Q88+Y88+AG88+AO88+AR88 -> 0
A89: CP - | I89: =SUM(B89:H89) -> 0 | Q89: =SUM(J89:P89) -> 0 | Y89: =SUM(R89:X89) -> 0 | AG89: =SUM(Z89:AF89) -> 0 | AO89: =SUM(AH89:AN89) -> 0 | AR89: =SUM(AP89:AQ89) -> 0 | AS89: =I89+Q89+Y89+AG89+AO89+AR89 -> 0
A90: RC - | I90: =SUM(B90:H90) -> 0 | J90: 8 | Q90: =SUM(J90:P90) -> 8 | Y90: =SUM(R90:X90) -> 0 | AG90: =SUM(Z90:AF90) -> 0 | AI90: 8 | AO90: =SUM(AH90:AN90) -> 8 | AR90: =SUM(AP90:AQ90) -> 0 | AS90: =I90+Q90+Y90+AG90+AO90+AR90 -> 16
A91: RC nuit | B91: =IF(B79="nuit",B82*0.02,0) -> 0 | C91: =IF(C79="nuit",C82*0.02,0) -> 0 | D91: =IF(D79="nuit",D82*0.02,0) -> 0 | E91: =IF(E79="nuit",E82*0.02,0) -> 0 | F91: =IF(F79="nuit",F82*0.02,0) -> 0 | G91: =IF(G79="nuit",G82*0.02,0) -> 0 | H91: =IF(H79="nuit",H82*0.02,0) -> 0 | I91: =SUM(B91:H91) -> 0 | J91: =IF(J79="nuit",J82*0.02,0) -> 0 | K91: =IF(K79="nuit",K82*0.02,0) -> 0 | L91: =IF(L79="nuit",L82*0.02,0) -> 0 | M91: =IF(M79="nuit",M82*0.02,0) -> 0 | N91: =IF(N79="nuit",N82*0.02,0) -> 0 | O91: =IF(O79="nuit",O82*0.02,0) -> 0 | P91: =IF(P79="nuit",P82*0.02,0) -> 0.16 | Q91: =SUM(J91:P91) -> 0.16 | R91: =IF(R79="nuit",R82*0.02,0) -> 0.16 | S91: =IF(S79="nuit",S82*0.02,0) -> 0.16 | T91: =IF(T79="nuit",T82*0.02,0) -> 0.16 | U91: =IF(U79="nuit",U82*0.02,0) -> 0.16 | V91: =IF(V79="nuit",V82*0.02,0) -> 0.16 | W91: =IF(W79="nuit",W82*0.02,0) -> 0 | X91: =IF(X79="nuit",X82*0.02,0) -> 0 | Y91: =SUM(R91:X91) -> 0.8 | Z91: =IF(Z79="nuit",Z82*0.02,0) -> 0 | AA91: =IF(AA79="nuit",AA82*0.02,0) -> 0 | AB91: =IF(AB79="nuit",AB82*0.02,0) -> 0 | AC91: =IF(AC79="nuit",AC82*0.02,0) -> 0 | AD91: =IF(AD79="nuit",AD82*0.02,0) -> 0 | AE91: =IF(AE79="nuit",AE82*0.02,0) -> 0 | AF91: =IF(AF79="nuit",AF82*0.02,0) -> 0 | AG91: =SUM(Z91:AF91) -> 0 | AH91: =IF(AH79="nuit",AH82*0.02,0) -> 0 | AI91: =IF(AI79="nuit",AI82*0.02,0) -> 0 | AJ91: =IF(AJ79="nuit",AJ82*0.02,0) -> 0 | AK91: =IF(AK79="nuit",AK82*0.02,0) -> 0 | AL91: =IF(AL79="nuit",AL82*0.02,0) -> 0 | AM91: =IF(AM79="nuit",AM82*0.02,0) -> 0 | AN91: =IF(AN79="nuit",AN82*0.02,0) -> 0 | AO91: =SUM(AH91:AN91) -> 0 | AP91: =IF(AP79="nuit",AP82*0.02,0) -> 0 | AQ91: =IF(AQ79="nuit",AQ82*0.02,0) -> 0 | AR91: =SUM(AP91:AQ91) -> 0 | AS91: =I91+Q91+Y91+AG91+AO91+AR91 -> 0.96
A92: Note | P92: Ferie | Z92: ferie | AP92: formation | AQ92: formation
B94: Juin | G94: =Année_Calendaire -> 2016 | R94: Juin | W94: =Année_Calendaire -> 2016 | AH94: Juin | AM94: =Année_Calendaire -> 2016
B95: Lun | C95: Mar | D95: Mer | E95: Jeu | F95: Ven | G95: Sam | H95: Dim | I95: Cumul | J95: Lun | K95: Mar | L95: Mer | M95: Jeu | N95: Ven | O95: Sam | P95: Dim | Q95: Cumul | R95: Lun | S95: Mar | T95: Mer | U95: Jeu | V95: Ven | W95: Sam | X95: Dim | Y95: Cumul | Z95: Lun | AA95: Mar | AB95: Mer | AC95: Jeu | AD95: Ven | AE95: Sam | AF95: Dim | AG95: Cumul | AH95: Lun | AI95: Mar | AJ95: Mer | AK95: Jeu | AL95: Ven | AM95: Sam | AN95: Dim | AO95: Cumul | AP95: Lun | AQ95: Mar | AR95: Cumul | AS95: Cumul total | AT95: =AS102+AS103+AS104 -> 8 | AU95: =AT95+AU77 -> 54
B96: =IF(DAY(Juin_Dim1)=1,"",IF(AND(YEAR(Juin_Dim1+1)=Année_Calendaire,MONTH(Juin_Dim1+1)=6),Juin_Dim1+1,"")) | C96: =IF(DAY(Juin_Dim1)=1,"",IF(AND(YEAR(Juin_Dim1+2)=Année_Calendaire,MONTH(Juin_Dim1+2)=6),Juin_Dim1+2,"")) | D96: =IF(DAY(Juin_Dim1)=1,"",IF(AND(YEAR(Juin_Dim1+3)=Année_Calendaire,MONTH(Juin_Dim1+3)=6),Juin_Dim1+3,"")) -> 42522 | E96: =IF(DAY(Juin_Dim1)=1,"",IF(AND(YEAR(Juin_Dim1+4)=Année_Calendaire,MONTH(Juin_Dim1+4)=6),Juin_Dim1+4,"")) -> 42523 | F96: =IF(DAY(Juin_Dim1)=1,"",IF(AND(YEAR(Juin_Dim1+5)=Année_Calendaire,MONTH(Juin_Dim1+5)=6),Juin_Dim1+5,"")) -> 42524 | G96: =IF(DAY(Juin_Dim1)=1,"",IF(AND(YEAR(Juin_Dim1+6)=Année_Calendaire,MONTH(Juin_Dim1+6)=6),Juin_Dim1+6,"")) -> 42525 | H96: =IF(DAY(Juin_Dim1)=1,IF(AND(YEAR(Juin_Dim1)=Année_Calendaire,MONTH(Juin_Dim1)=6),Juin_Dim1,""),IF(AND(YEAR(Juin_Dim1+7)=Année_Calendaire,MONTH(Juin_Dim1+7)=6),Juin_Dim1+7,"")) -> 42526 | J96: =IF(DAY(Juin_Dim1)=1,IF(AND(YEAR(Juin_Dim1+1)=Année_Calendaire,MONTH(Juin_Dim1+1)=6),Juin_Dim1+1,""),IF(AND(YEAR(Juin_Dim1+8)=Année_Calendaire,MONTH(Juin_Dim1+8)=6),Juin_Dim1+8,"")) -> 42527 | K96: =IF(DAY(Juin_Dim1)=1,IF(AND(YEAR(Juin_Dim1+2)=Année_Calendaire,MONTH(Juin_Dim1+2)=6),Juin_Dim1+2,""),IF(AND(YEAR(Juin_Dim1+9)=Année_Calendaire,MONTH(Juin_Dim1+9)=6),Juin_Dim1+9,"")) -> 42528 | L96: =IF(DAY(Juin_Dim1)=1,IF(AND(YEAR(Juin_Dim1+3)=Année_Calendaire,MONTH(Juin_Dim1+3)=6),Juin_Dim1+3,""),IF(AND(YEAR(Juin_Dim1+10)=Année_Calendaire,MONTH(Juin_Dim1+10)=6),Juin_Dim1+10,"")) -> 42529 | M96: =IF(DAY(Juin_Dim1)=1,IF(AND(YEAR(Juin_Dim1+4)=Année_Calendaire,MONTH(Juin_Dim1+4)=6),Juin_Dim1+4,""),IF(AND(YEAR(Juin_Dim1+11)=Année_Calendaire,MONTH(Juin_Dim1+11)=6),Juin_Dim1+11,"")) -> 42530 | N96: =IF(DAY(Juin_Dim1)=1,IF(AND(YEAR(Juin_Dim1+5)=Année_Calendaire,MONTH(Juin_Dim1+5)=6),Juin_Dim1+5,""),IF(AND(YEAR(Juin_Dim1+12)=Année_Calendaire,MONTH(Juin_Dim1+12)=6),Juin_Dim1+12,"")) -> 42531 | O96: =IF(DAY(Juin_Dim1)=1,IF(AND(YEAR(Juin_Dim1+6)=Année_Calendaire,MONTH(Juin_Dim1+6)=6),Juin_Dim1+6,""),IF(AND(YEAR(Juin_Dim1+13)=Année_Calendaire,MONTH(Juin_Dim1+13)=6),Juin_Dim1+13,"")) -> 42532 | P96: =IF(DAY(Juin_Dim1)=1,IF(AND(YEAR(Juin_Dim1+7)=Année_Calendaire,MONTH(Juin_Dim1+7)=6),Juin_Dim1+7,""),IF(AND(YEAR(Juin_Dim1+14)=Année_Calendaire,MONTH(Juin_Dim1+14)=6),Juin_Dim1+14,"")) -> 42533 | R96: =IF(DAY(Juin_Dim1)=1,IF(AND(YEAR(Juin_Dim1+8)=Année_Calendaire,MONTH(Juin_Dim1+8)=6),Juin_Dim1+8,""),IF(AND(YEAR(Juin_Dim1+15)=Année_Calendaire,MONTH(Juin_Dim1+15)=6),Juin_Dim1+15,"")) -> 42534 | S96: =IF(DAY(Juin_Dim1)=1,IF(AND(YEAR(Juin_Dim1+9)=Année_Calendaire,MONTH(Juin_Dim1+9)=6),Juin_Dim1+9,""),IF(AND(YEAR(Juin_Dim1+16)=Année_Calendaire,MONTH(Juin_Dim1+16)=6),Juin_Dim1+16,"")) -> 42535 | T96: =IF(DAY(Juin_Dim1)=1,IF(AND(YEAR(Juin_Dim1+10)=Année_Calendaire,MONTH(Juin_Dim1+10)=6),Juin_Dim1+10,""),IF(AND(YEAR(Juin_Dim1+17)=Année_Calendaire,MONTH(Juin_Dim1+17)=6),Juin_Dim1+17,"")) -> 42536 | U96: =IF(DAY(Juin_Dim1)=1,IF(AND(YEAR(Juin_Dim1+11)=Année_Calendaire,MONTH(Juin_Dim1+11)=6),Juin_Dim1+11,""),IF(AND(YEAR(Juin_Dim1+18)=Année_Calendaire,MONTH(Juin_Dim1+18)=6),Juin_Dim1+18,"")) -> 42537 | V96: =IF(DAY(Juin_Dim1)=1,IF(AND(YEAR(Juin_Dim1+12)=Année_Calendaire,MONTH(Juin_Dim1+12)=6),Juin_Dim1+12,""),IF(AND(YEAR(Juin_Dim1+19)=Année_Calendaire,MONTH(Juin_Dim1+19)=6),Juin_Dim1+19,"")) -> 42538 | W96: =IF(DAY(Juin_Dim1)=1,IF(AND(YEAR(Juin_Dim1+13)=Année_Calendaire,MONTH(Juin_Dim1+13)=6),Juin_Dim1+13,""),IF(AND(YEAR(Juin_Dim1+20)=Année_Calendaire,MONTH(Juin_Dim1+20)=6),Juin_Dim1+20,"")) -> 42539 | X96: =IF(DAY(Juin_Dim1)=1,IF(AND(YEAR(Juin_Dim1+14)=Année_Calendaire,MONTH(Juin_Dim1+14)=6),Juin_Dim1+14,""),IF(AND(YEAR(Juin_Dim1+21)=Année_Calendaire,MONTH(Juin_Dim1+21)=6),Juin_Dim1+21,"")) -> 42540 | Z96: =IF(DAY(Juin_Dim1)=1,IF(AND(YEAR(Juin_Dim1+15)=Année_Calendaire,MONTH(Juin_Dim1+15)=6),Juin_Dim1+15,""),IF(AND(YEAR(Juin_Dim1+22)=Année_Calendaire,MONTH(Juin_Dim1+22)=6),Juin_Dim1+22,"")) -> 42541 | AA96: =IF(DAY(Juin_Dim1)=1,IF(AND(YEAR(Juin_Dim1+16)=Année_Calendaire,MONTH(Juin_Dim1+16)=6),Juin_Dim1+16,""),IF(AND(YEAR(Juin_Dim1+23)=Année_Calendaire,MONTH(Juin_Dim1+23)=6),Juin_Dim1+23,"")) -> 42542 | AB96: =IF(DAY(Juin_Dim1)=1,IF(AND(YEAR(Juin_Dim1+17)=Année_Calendaire,MONTH(Juin_Dim1+17)=6),Juin_Dim1+17,""),IF(AND(YEAR(Juin_Dim1+24)=Année_Calendaire,MONTH(Juin_Dim1+24)=6),Juin_Dim1+24,"")) -> 42543 | AC96: =IF(DAY(Juin_Dim1)=1,IF(AND(YEAR(Juin_Dim1+18)=Année_Calendaire,MONTH(Juin_Dim1+18)=6),Juin_Dim1+18,""),IF(AND(YEAR(Juin_Dim1+25)=Année_Calendaire,MONTH(Juin_Dim1+25)=6),Juin_Dim1+25,"")) -> 42544 | AD96: =IF(DAY(Juin_Dim1)=1,IF(AND(YEAR(Juin_Dim1+19)=Année_Calendaire,MONTH(Juin_Dim1+19)=6),Juin_Dim1+19,""),IF(AND(YEAR(Juin_Dim1+26)=Année_Calendaire,MONTH(Juin_Dim1+26)=6),Juin_Dim1+26,"")) -> 42545 | AE96: =IF(DAY(Juin_Dim1)=1,IF(AND(YEAR(Juin_Dim1+20)=Année_Calendaire,MONTH(Juin_Dim1+20)=6),Juin_Dim1+20,""),IF(AND(YEAR(Juin_Dim1+27)=Année_Calendaire,MONTH(Juin_Dim1+27)=6),Juin_Dim1+27,"")) -> 42546 | AF96: =IF(DAY(Juin_Dim1)=1,IF(AND(YEAR(Juin_Dim1+21)=Année_Calendaire,MONTH(Juin_Dim1+21)=6),Juin_Dim1+21,""),IF(AND(YEAR(Juin_Dim1+28)=Année_Calendaire,MONTH(Juin_Dim1+28)=6),Juin_Dim1+28,"")) -> 42547 | AH96: =IF(DAY(Juin_Dim1)=1,IF(AND(YEAR(Juin_Dim1+22)=Année_Calendaire,MONTH(Juin_Dim1+22)=6),Juin_Dim1+22,""),IF(AND(YEAR(Juin_Dim1+29)=Année_Calendaire,MONTH(Juin_Dim1+29)=6),Juin_Dim1+29,"")) -> 42548 | AI96: =IF(DAY(Juin_Dim1)=1,IF(AND(YEAR(Juin_Dim1+23)=Année_Calendaire,MONTH(Juin_Dim1+23)=6),Juin_Dim1+23,""),IF(AND(YEAR(Juin_Dim1+30)=Année_Calendaire,MONTH(Juin_Dim1+30)=6),Juin_Dim1+30,"")) -> 42549 | AJ96: =IF(DAY(Juin_Dim1)=1,IF(AND(YEAR(Juin_Dim1+24)=Année_Calendaire,MONTH(Juin_Dim1+24)=6),Juin_Dim1+24,""),IF(AND(YEAR(Juin_Dim1+31)=Année_Calendaire,MONTH(Juin_Dim1+31)=6),Juin_Dim1+31,"")) -> 42550 | AK96: =IF(DAY(Juin_Dim1)=1,IF(AND(YEAR(Juin_Dim1+25)=Année_Calendaire,MONTH(Juin_Dim1+25)=6),Juin_Dim1+25,""),IF(AND(YEAR(Juin_Dim1+32)=Année_Calendaire,MONTH(Juin_Dim1+32)=6),Juin_Dim1+32,"")) -> 42551 | AL96: =IF(DAY(Juin_Dim1)=1,IF(AND(YEAR(Juin_Dim1+26)=Année_Calendaire,MONTH(Juin_Dim1+26)=6),Juin_Dim1+26,""),IF(AND(YEAR(Juin_Dim1+33)=Année_Calendaire,MONTH(Juin_Dim1+33)=6),Juin_Dim1+33,"")) | AM96: =IF(DAY(Juin_Dim1)=1,IF(AND(YEAR(Juin_Dim1+27)=Année_Calendaire,MONTH(Juin_Dim1+27)=6),Juin_Dim1+27,""),IF(AND(YEAR(Juin_Dim1+34)=Année_Calendaire,MONTH(Juin_Dim1+34)=6),Juin_Dim1+34,"")) | AN96: =IF(DAY(Juin_Dim1)=1,IF(AND(YEAR(Juin_Dim1+28)=Année_Calendaire,MONTH(Juin_Dim1+28)=6),Juin_Dim1+28,""),IF(AND(YEAR(Juin_Dim1+35)=Année_Calendaire,MONTH(Juin_Dim1+35)=6),Juin_Dim1+35,"")) | AP96: =IF(DAY(Juin_Dim1)=1,IF(AND(YEAR(Juin_Dim1+29)=Année_Calendaire,MONTH(Juin_Dim1+29)=6),Juin_Dim1+29,""),IF(AND(YEAR(Juin_Dim1+36)=Année_Calendaire,MONTH(Juin_Dim1+36)=6),Juin_Dim1+36,"")) | AQ96: =IF(DAY(Juin_Dim1)=1,IF(AND(YEAR(Juin_Dim1+30)=Année_Calendaire,MONTH(Juin_Dim1+30)=6),Juin_Dim1+30,""),IF(AND(YEAR(Juin_Dim1+37)=Année_Calendaire,MONTH(Juin_Dim1+37)=6),Juin_Dim1+37,""))
A97: Equipe | D97: matin | H97: matin | J97: nuit | K97: nuit | L97: nuit | M97: nuit | N97: nuit | R97: matin | S97: matin | Z97: am | AA97: am | AB97: am | AC97: am | AD97: am | AH97: matin | AI97: matin | AJ97: matin | AK97: matin
A98: Ticket resto | B98: =IF(B97="Matin",1,IF(B97="AM",1,0)) -> 0 | C98: =IF(C97="Matin",1,IF(C97="AM",1,0)) -> 0 | D98: =IF(D97="Matin",1,IF(D97="AM",1,0)) -> 1 | E98: =IF(E97="Matin",1,IF(E97="AM",1,0)) -> 0 | F98: =IF(F97="Matin",1,IF(F97="AM",1,0)) -> 0 | G98: =IF(G97="Matin",1,IF(G97="AM",1,0)) -> 0 | H98: =IF(H97="Matin",1,IF(H97="AM",1,0)) -> 1 | I98: =SUM(B98:H98) -> 2 | J98: =IF(J97="Matin",1,IF(J97="AM",1,0)) -> 0 | K98: =IF(K97="Matin",1,IF(K97="AM",1,0)) -> 0 | L98: =IF(L97="Matin",1,IF(L97="AM",1,0)) -> 0 | M98: =IF(M97="Matin",1,IF(M97="AM",1,0)) -> 0 | N98: =IF(N97="Matin",1,IF(N97="AM",1,0)) -> 0 | O98: =IF(O97="Matin",1,IF(O97="AM",1,0)) -> 0 | P98: =IF(P97="Matin",1,IF(P97="AM",1,0)) -> 0 | Q98: =SUM(J98:P98) -> 0 | R98: =IF(R97="Matin",1,IF(R97="AM",1,0)) -> 1 | S98: =IF(S97="Matin",1,IF(S97="AM",1,0)) -> 1 | T98: =IF(T97="Matin",1,IF(T97="AM",1,0)) -> 0 | U98: =IF(U97="Matin",1,IF(U97="AM",1,0)) -> 0 | V98: =IF(V97="Matin",1,IF(V97="AM",1,0)) -> 0 | W98: =IF(W97="Matin",1,IF(W97="AM",1,0)) -> 0 | X98: =IF(X97="Matin",1,IF(X97="AM",1,0)) -> 0 | Y98: =SUM(R98:X98) -> 2 | Z98: =IF(Z97="Matin",1,IF(Z97="AM",1,0)) -> 1 | AA98: =IF(AA97="Matin",1,IF(AA97="AM",1,0)) -> 1 | AB98: =IF(AB97="Matin",1,IF(AB97="AM",1,0)) -> 1 | AC98: =IF(AC97="Matin",1,IF(AC97="AM",1,0)) -> 1 | AD98: =IF(AD97="Matin",1,IF(AD97="AM",1,0)) -> 1 | AE98: =IF(AE97="Matin",1,IF(AE97="AM",1,0)) -> 0 | AF98: =IF(AF97="Matin",1,IF(AF97="AM",1,0)) -> 0 | AG98: =SUM(Z98:AF98) -> 5 | AH98: =IF(AH97="Matin",1,IF(AH97="AM",1,0)) -> 1 | AI98: =IF(AI97="Matin",1,IF(AI97="AM",1,0)) -> 1 | AJ98: =IF(AJ97="Matin",1,IF(AJ97="AM",1,0)) -> 1 | AK98: =IF(AK97="Matin",1,IF(AK97="AM",1,0)) -> 1 | AL98: =IF(AL97="Matin",1,IF(AL97="AM",1,0)) -> 0 | AM98: =IF(AM97="Matin",1,IF(AM97="AM",1,0)) -> 0 | AN98: =IF(AN97="Matin",1,IF(AN97="AM",1,0)) -> 0 | AO98: =SUM(AH98:AN98) -> 4 | AP98: =IF(AP97="Matin",1,IF(AP97="AM",1,0)) -> 0 | AQ98: =IF(AQ97="Matin",1,IF(AQ97="AM",1,0)) -> 0 | AR98: =SUM(AP98:AQ98) -> 0 | AS98: =I98+Q98+Y98+AG98+AO98+AR98 -> 13
A99: Travailler | B99: =IF(B100>=1,1,0) -> 0 | C99: =IF(C100>=1,1,0) -> 0 | D99: =IF(D100>=1,1,0) -> 1 | E99: =IF(E100>=1,1,0) -> 0 | F99: =IF(F100>=1,1,0) -> 0 | G99: =IF(G100>=1,1,0) -> 0 | H99: =IF(H100>=1,1,0) -> 1 | I99: =SUM(B99:H99) -> 2 | J99: =IF(J100>=1,1,0) -> 1 | K99: =IF(K100>=1,1,0) -> 1 | L99: =IF(L100>=1,1,0) -> 1 | M99: =IF(M100>=1,1,0) -> 1 | N99: =IF(N100>=1,1,0) -> 1 | O99: =IF(O100>=1,1,0) -> 0 | P99: =IF(P100>=1,1,0) -> 0 | Q99: =SUM(J99:P99) -> 5 | R99: =IF(R100>=1,1,0) -> 0 | S99: =IF(S100>=1,1,0) -> 0 | T99: =IF(T100>=1,1,0) -> 0 | U99: =IF(U100>=1,1,0) -> 0 | V99: =IF(V100>=1,1,0) -> 0 | W99: =IF(W100>=1,1,0) -> 0 | X99: =IF(X100>=1,1,0) -> 0 | Y99: =SUM(R99:X99) -> 0 | Z99: =IF(Z100>=1,1,0) -> 1 | AA99: =IF(AA100>=1,1,0) -> 1 | AB99: =IF(AB100>=1,1,0) -> 1 | AC99: =IF(AC100>=1,1,0) -> 1 | AD99: =IF(AD100>=1,1,0) -> 1 | AE99: =IF(AE100>=1,1,0) -> 0 | AF99: =IF(AF100>=1,1,0) -> 0 | AG99: =SUM(Z99:AF99) -> 5 | AH99: =IF(AH100>=1,1,0) -> 1 | AI99: =IF(AI100>=1,1,0) -> 1 | AJ99: =IF(AJ100>=1,1,0) -> 1 | AK99: =IF(AK100>=1,1,0) -> 1 | AL99: =IF(AL100>=1,1,0) -> 0 | AM99: =IF(AM100>=1,1,0) -> 0 | AN99: =IF(AN100>=1,1,0) -> 0 | AO99: =SUM(AH99:AN99) -> 4 | AP99: =IF(AP100>=1,1,0) -> 0 | AQ99: =IF(AQ100>=1,1,0) -> 0 | AR99: =SUM(AP99:AQ99) -> 0 | AS99: =I99+Q99+Y99+AG99+AO99+AR99 -> 16
A100: Nbr heure | D100: 8 | H100: 8 | I100: =SUM(B100:H100) -> 16 | J100: 8 | K100: 8 | L100: 8 | M100: 8 | N100: 8 | Q100: =SUM(J100:P100) -> 40 | Y100: =SUM(R100:X100) -> 0 | Z100: 8 | AA100: 8 | AB100: 8 | AC100: 8 | AD100: 8 | AG100: =SUM(Z100:AF100) -> 40 | AH100: 8 | AI100: 8 | AJ100: 8 | AK100: 8 | AO100: =SUM(AH100:AN100) -> 32 | AR100: =SUM(AP100:AQ100) -> 0 | AS100: =I100+Q100+Y100+AG100+AO100+AR100 -> 128
A101: Heure comp | B101: =IF(B95<>"Dim",IF(B100>32,MIN(B100,35)-32,0),0) -> 0 | C101: =IF(C95<>"Dim",IF(SUM($B100:C100)>32,MIN(SUM($B100:C100),35)-32-SUM($B101:B101),0),0) -> 0 | D101: =IF(D95<>"Dim",IF(SUM($B100:D100)>32,MIN(SUM($B100:D100),35)-32-SUM($B101:C101),0),0) -> 0 | E101: =IF(E95<>"Dim",IF(SUM($B100:E100)>32,MIN(SUM($B100:E100),35)-32-SUM($B101:D101),0),0) -> 0 | F101: =IF(F95<>"Dim",IF(SUM($B100:F100)>32,MIN(SUM($B100:F100),35)-32-SUM($B101:E101),0),0) -> 0 | G101: =IF(G95<>"Dim",IF(SUM($B100:G100)>32,MIN(SUM($B100:G100),35)-32-SUM($B101:F101),0),0) -> 0 | H101: =IF(H95<>"Dim",IF(SUM($B100:H100)>32,MIN(SUM($B100:H100),35)-32-SUM($B101:G101),0),0) -> 0 | I101: =SUM(B101:H101) -> 0 | J101: =IF(J95<>"Dim",IF(J100>32,MIN(J100,35)-32,0),0) -> 0 | K101: =IF(K95<>"Dim",IF(SUM($J100:K100)>32,MIN(SUM($J100:K100),35)-32-SUM($J101:J101),0),0) -> 0 | L101: =IF(L95<>"Dim",IF(SUM($J100:L100)>32,MIN(SUM($J100:L100),35)-32-SUM($J101:K101),0),0) -> 0 | M101: =IF(M95<>"Dim",IF(SUM($J100:M100)>32,MIN(SUM($J100:M100),35)-32-SUM($J101:L101),0),0) -> 0 | P101: =IF(P95<>"Dim",IF(SUM($J100:P100)>32,MIN(SUM($J100:P100),35)-32-SUM($J101:O101),0),0) -> 0 | Q101: =SUM(J101:P101) -> 0 | R101: =IF(R95<>"Dim",IF(R100>32,MIN(R100,35)-32,0),0) -> 0 | S101: =IF(S95<>"Dim",IF(SUM($R100:S100)>32,MIN(SUM($R100:S100),35)-32-SUM($R101:R101),0),0) -> 0 | T101: =IF(T95<>"Dim",IF(SUM($R100:T100)>32,MIN(SUM($R100:T100),35)-32-SUM($R101:S101),0),0) -> 0 | U101: =IF(U95<>"Dim",IF(SUM($R100:U100)>32,MIN(SUM($R100:U100),35)-32-SUM($R101:T101),0),0) -> 0 | V101: =IF(V95<>"Dim",IF(SUM($R100:V100)>32,MIN(SUM($R100:V100),35)-32-SUM($R101:U101),0),0) -> 0 | W101: =IF(W95<>"Dim",IF(SUM($R100:W100)>32,MIN(SUM($R100:W100),35)-32-SUM($R101:V101),0),0) -> 0 | X101: =IF(X95<>"Dim",IF(SUM($R100:X100)>32,MIN(SUM($R100:X100),35)-32-SUM($R101:W101),0),0) -> 0 | Y101: =SUM(R101:X101) -> 0 | Z101: =IF(Z95<>"Dim",IF(Z100>32,MIN(Z100,35)-32,0),0) -> 0 | AA101: =IF(AA95<>"Dim",IF(SUM($Z100:AA100)>32,MIN(SUM($Z100:AA100),35)-32-SUM($Z101:Z101),0),0) -> 0 | AB101: =IF(AB95<>"Dim",IF(SUM($Z100:AB100)>32,MIN(SUM($Z100:AB100),35)-32-SUM($Z101:AA101),0),0) -> 0 | AC101: =IF(AC95<>"Dim",IF(SUM($Z100:AC100)>32,MIN(SUM($Z100:AC100),35)-32-SUM($Z101:AB101),0),0) -> 0 | AF101: =IF(AF95<>"Dim",IF(SUM($Z100:AF100)>32,MIN(SUM($Z100:AF100),35)-32-SUM($Z101:AE101),0),0) -> 0 | AG101: =SUM(Z101:AF101) -> 0 | AH101: =IF(AH95<>"Dim",IF(AH100>32,MIN(AH100,35)-32,0),0) -> 0 | AI101: =IF(AI95<>"Dim",IF(SUM($AH100:AI100)>32,MIN(SUM($AH100:AI100),35)-32-SUM($AH101:AH101),0),0) -> 0 | AJ101: =IF(AJ95<>"Dim",IF(SUM($AH100:AJ100)>32,MIN(SUM($AH100:AJ100),35)-32-SUM($AH101:AI101),0),0) -> 0 | AK101: =IF(AK95<>"Dim",IF(SUM($AH100:AK100)>32,MIN(SUM($AH100:AK100),35)-32-SUM($AH101:AJ101),0),0) -> 0 | AL101: =IF(AL95<>"Dim",IF(SUM($AH100:AL100)>32,MIN(SUM($AH100:AL100),35)-32-SUM($AH101:AK101),0),0) -> 0 | AM101: =IF(AM95<>"Dim",IF(SUM($AH100:AM100)>32,MIN(SUM($AH100:AM100),35)-32-SUM($AH101:AL101),0),0) -> 0 | AN101: =IF(AN95<>"Dim",IF(SUM($AH100:AN100)>32,MIN(SUM($AH100:AN100),35)-32-SUM($AH101:AM101),0),0) -> 0 | AO101: =SUM(AH101:AN101) -> 0 | AP101: =IF(AP95<>"Dim",IF(AP100>32,MIN(AP100,35)-32,0),0) -> 0 | AQ101: =IF(AQ95<>"Dim",IF(SUM($AP100:AQ100)>32,MIN(SUM($AP100:AQ100),35)-32-SUM($AP101:AP101),0),0) -> 0 | AR101: =SUM(AP101:AQ101) -> 0 | AS101: =I101+Q101+Y101+AG101+AO101+AR101 -> 0
A102: HS 25% | B102: =IF(B95<>"Dim",IF(B100>35,(MIN(B100,43)-35),0),0) -> 0 | C102: =IF(C95<>"Dim",IF(SUM($B100:C100)>35,(MIN(SUM($B100:C100),43)-35-SUM($B102:B102)),0),0) -> 0 | D102: =IF(D95<>"Dim",IF(SUM($B100:D100)>35,(MIN(SUM($B100:D100),43)-35-SUM($B102:C102)),0),0) -> 0 | E102: =IF(E95<>"Dim",IF(SUM($B100:E100)>35,(MIN(SUM($B100:E100),43)-35-SUM($B102:D102)),0),0) -> 0 | F102: =IF(F95<>"Dim",IF(SUM($B100:F100)>35,(MIN(SUM($B100:F100),43)-35-SUM($B102:E102)),0),0) -> 0 | G102: =IF(G95<>"Dim",IF(SUM($B100:G100)>35,(MIN(SUM($B100:G100),43)-35-SUM($B102:F102)),0),0) -> 0 | H102: =IF(H95<>"Dim",IF(SUM($B100:H100)>35,(MIN(SUM($B100:H100),43)-35-SUM($B102:G102)),0),0) -> 0 | I102: =SUM(B102:H102) -> 0 | J102: =IF(J95<>"Dim",IF(J100>35,(MIN(J100,43)-35),0),0) -> 0 | K102: =IF(K95<>"Dim",IF(SUM($J100:K100)>35,(MIN(SUM($J100:K100),43)-35-SUM($J102:J102)),0),0) -> 0 | L102: =IF(L95<>"Dim",IF(SUM($J100:L100)>35,(MIN(SUM($J100:L100),43)-35-SUM($J102:K102)),0),0) -> 0 | M102: =IF(M95<>"Dim",IF(SUM($J100:M100)>35,(MIN(SUM($J100:M100),43)-35-SUM($J102:L102)),0),0) -> 0 | P102: =IF(P95<>"Dim",IF(SUM($J100:P100)>35,(MIN(SUM($J100:P100),43)-35-SUM($J102:O102)),0),0) -> 0 | Q102: =SUM(J102:P102) -> 0 | R102: =IF(R95<>"Dim",IF(R100>35,(MIN(R100,43)-35),0),0) -> 0 | S102: =IF(S95<>"Dim",IF(SUM($R100:S100)>35,(MIN(SUM($R100:S100),43)-35-SUM($R102:R102)),0),0) -> 0 | T102: =IF(T95<>"Dim",IF(SUM($R100:T100)>35,(MIN(SUM($R100:T100),43)-35-SUM($R102:S102)),0),0) -> 0 | U102: =IF(U95<>"Dim",IF(SUM($R100:U100)>35,(MIN(SUM($R100:U100),43)-35-SUM($R102:T102)),0),0) -> 0 | V102: =IF(V95<>"Dim",IF(SUM($R100:V100)>35,(MIN(SUM($R100:V100),43)-35-SUM($R102:U102)),0),0) -> 0 | W102: =IF(W95<>"Dim",IF(SUM($R100:W100)>35,(MIN(SUM($R100:W100),43)-35-SUM($R102:V102)),0),0) -> 0 | X102: =IF(X95<>"Dim",IF(SUM($R100:X100)>35,(MIN(SUM($R100:X100),43)-35-SUM($R102:W102)),0),0) -> 0 | Y102: =SUM(R102:X102) -> 0 | Z102: =IF(Z95<>"Dim",IF(Z100>35,(MIN(Z100,43)-35),0),0) -> 0 | AA102: =IF(AA95<>"Dim",IF(SUM($Z100:AA100)>35,(MIN(SUM($Z100:AA100),43)-35-SUM($Z102:Z102)),0),0) -> 0 | AB102: =IF(AB95<>"Dim",IF(SUM($Z100:AB100)>35,(MIN(SUM($Z100:AB100),43)-35-SUM($Z102:AA102)),0),0) -> 0 | AC102: =IF(AC95<>"Dim",IF(SUM($Z100:AC100)>35,(MIN(SUM($Z100:AC100),43)-35-SUM($Z102:AB102)),0),0) -> 0 | AF102: =IF(AF95<>"Dim",IF(SUM($Z100:AF100)>35,(MIN(SUM($Z100:AF100),43)-35-SUM($Z102:AE102)),0),0) -> 0 | AG102: =SUM(Z102:AF102) -> 0 | AH102: =IF(AH95<>"Dim",IF(AH100>35,(MIN(AH100,43)-35),0),0) -> 0 | AI102: =IF(AI95<>"Dim",IF(SUM($AH100:AI100)>35,(MIN(SUM($AH100:AI100),43)-35-SUM($AH102:AH102)),0),0) -> 0 | AJ102: =IF(AJ95<>"Dim",IF(SUM($AH100:AJ100)>35,(MIN(SUM($AH100:AJ100),43)-35-SUM($AH102:AI102)),0),0) -> 0 | AK102: =IF(AK95<>"Dim",IF(SUM($AH100:AK100)>35,(MIN(SUM($AH100:AK100),43)-35-SUM($AH102:AJ102)),0),0) -> 0 | AL102: =IF(AL95<>"Dim",IF(SUM($AH100:AL100)>35,(MIN(SUM($AH100:AL100),43)-35-SUM($AH102:AK102)),0),0) -> 0 | AM102: =IF(AM95<>"Dim",IF(SUM($AH100:AM100)>35,(MIN(SUM($AH100:AM100),43)-35-SUM($AH102:AL102)),0),0) -> 0 | AN102: =IF(AN95<>"Dim",IF(SUM($AH100:AN100)>35,(MIN(SUM($AH100:AN100),43)-35-SUM($AH102:AM102)),0),0) -> 0 | AO102: =SUM(AH102:AN102) -> 0 | AP102: =IF(AP95<>"Dim",IF(AP100>35,(MIN(AP100,43)-35),0),0) -> 0 | AQ102: =IF(AQ95<>"Dim",IF(SUM($AP100:AQ100)>35,(MIN(SUM($AP100:AQ100),43)-35-SUM($AP102:AP102)),0),0) -> 0 | AR102: =SUM(AP102:AQ102) -> 0 | AS102: =I102+Q102+Y102+AG102+AO102+AR102 -> 0
A103: HS 50% | B103: =IF(B95<>"Dim",IF(B100>43,(MIN(B100,48)-43),0),0) -> 0 | C103: =IF(C95<>"Dim",IF(SUM($B100:C100)>43,(MIN(SUM($B100:C100),48)-43-SUM($B103:B103)),0),0) -> 0 | D103: =IF(D95<>"Dim",IF(SUM($B100:D100)>43,(MIN(SUM($B100:D100),48)-43-SUM($B103:C103)),0),0) -> 0 | E103: =IF(E95<>"Dim",IF(SUM($B100:E100)>43,(MIN(SUM($B100:E100),48)-43-SUM($B103:D103)),0),0) -> 0 | F103: =IF(F95<>"Dim",IF(SUM($B100:F100)>43,(MIN(SUM($B100:F100),48)-43-SUM($B103:E103)),0),0) -> 0 | G103: =IF(G95<>"Dim",IF(SUM($B100:G100)>43,(MIN(SUM($B100:G100),48)-43-SUM($B103:F103)),0),0) -> 0 | H103: =IF(H95<>"Dim",IF(SUM($B100:H100)>43,(MIN(SUM($B100:H100),48)-43-SUM($B103:G103)),0),0) -> 0 | I103: =SUM(B103:H103) -> 0 | J103: =IF(J95<>"Dim",IF(J100>43,(MIN(J100,48)-43),0),0) -> 0 | K103: =IF(K95<>"Dim",IF(SUM($J100:K100)>43,(MIN(SUM($J100:K100),48)-43-SUM($J103:J103)),0),0) -> 0 | L103: =IF(L95<>"Dim",IF(SUM($J100:L100)>43,(MIN(SUM($J100:L100),48)-43-SUM($J103:K103)),0),0) -> 0 | M103: =IF(M95<>"Dim",IF(SUM($J100:M100)>43,(MIN(SUM($J100:M100),48)-43-SUM($J103:L103)),0),0) -> 0 | N103: =IF(N95<>"Dim",IF(SUM($J100:N100)>43,(MIN(SUM($J100:N100),48)-43-SUM($J103:M103)),0),0) -> 0 | O103: =IF(O95<>"Dim",IF(SUM($J100:O100)>43,(MIN(SUM($J100:O100),48)-43-SUM($J103:N103)),0),0) -> 0 | P103: =IF(P95<>"Dim",IF(SUM($J100:P100)>43,(MIN(SUM($J100:P100),48)-43-SUM($J103:O103)),0),0) -> 0 | Q103: =SUM(J103:P103) -> 0 | R103: =IF(R95<>"Dim",IF(R100>43,(MIN(R100,48)-43),0),0) -> 0 | S103: =IF(S95<>"Dim",IF(SUM($R100:S100)>43,(MIN(SUM($R100:S100),48)-43-SUM($R103:R103)),0),0) -> 0 | T103: =IF(T95<>"Dim",IF(SUM($R100:T100)>43,(MIN(SUM($R100:T100),48)-43-SUM($R103:S103)),0),0) -> 0 | U103: =IF(U95<>"Dim",IF(SUM($R100:U100)>43,(MIN(SUM($R100:U100),48)-43-SUM($R103:T103)),0),0) -> 0 | V103: =IF(V95<>"Dim",IF(SUM($R100:V100)>43,(MIN(SUM($R100:V100),48)-43-SUM($R103:U103)),0),0) -> 0 | W103: =IF(W95<>"Dim",IF(SUM($R100:W100)>43,(MIN(SUM($R100:W100),48)-43-SUM($R103:V103)),0),0) -> 0 | X103: =IF(X95<>"Dim",IF(SUM($R100:X100)>43,(MIN(SUM($R100:X100),48)-43-SUM($R103:W103)),0),0) -> 0 | Y103: =SUM(R103:X103) -> 0 | Z103: =IF(Z95<>"Dim",IF(Z100>43,(MIN(Z100,48)-43),0),0) -> 0 | AA103: =IF(AA95<>"Dim",IF(SUM($Z100:AA100)>43,(MIN(SUM($Z100:AA100),48)-43-SUM($Z103:Z103)),0),0) -> 0 | AB103: =IF(AB95<>"Dim",IF(SUM($Z100:AB100)>43,(MIN(SUM($Z100:AB100),48)-43-SUM($Z103:AA103)),0),0) -> 0 | AC103: =IF(AC95<>"Dim",IF(SUM($Z100:AC100)>43,(MIN(SUM($Z100:AC100),48)-43-SUM($Z103:AB103)),0),0) -> 0 | AD103: =IF(AD95<>"Dim",IF(SUM($Z100:AD100)>43,(MIN(SUM($Z100:AD100),48)-43-SUM($Z103:AC103)),0),0) -> 0 | AE103: =IF(AE95<>"Dim",IF(SUM($Z100:AE100)>43,(MIN(SUM($Z100:AE100),48)-43-SUM($Z103:AD103)),0),0) -> 0 | AF103: =IF(AF95<>"Dim",IF(SUM($Z100:AF100)>43,(MIN(SUM($Z100:AF100),48)-43-SUM($Z103:AE103)),0),0) -> 0 | AG103: =SUM(Z103:AF103) -> 0 | AH103: =IF(AH95<>"Dim",IF(AH100>43,(MIN(AH100,48)-43),0),0) -> 0 | AI103: =IF(AI95<>"Dim",IF(SUM($AH100:AI100)>43,(MIN(SUM($AH100:AI100),48)-43-SUM($AH103:AH103)),0),0) -> 0 | AJ103: =IF(AJ95<>"Dim",IF(SUM($AH100:AJ100)>43,(MIN(SUM($AH100:AJ100),48)-43-SUM($AH103:AI103)),0),0) -> 0 | AK103: =IF(AK95<>"Dim",IF(SUM($AH100:AK100)>43,(MIN(SUM($AH100:AK100),48)-43-SUM($AH103:AJ103)),0),0) -> 0 | AL103: =IF(AL95<>"Dim",IF(SUM($AH100:AL100)>43,(MIN(SUM($AH100:AL100),48)-43-SUM($AH103:AK103)),0),0) -> 0 | AM103: =IF(AM95<>"Dim",IF(SUM($AH100:AM100)>43,(MIN(SUM($AH100:AM100),48)-43-SUM($AH103:AL103)),0),0) -> 0 | AN103: =IF(AN95<>"Dim",IF(SUM($AH100:AN100)>43,(MIN(SUM($AH100:AN100),48)-43-SUM($AH103:AM103)),0),0) -> 0 | AO103: =SUM(AH103:AN103) -> 0 | AP103: =IF(AP95<>"Dim",IF(AP100>43,(MIN(AP100,48)-43),0),0) -> 0 | AQ103: =IF(AQ95<>"Dim",IF(SUM($AP100:AQ100)>43,(MIN(SUM($AP100:AQ100),48)-43-SUM($AP103:AP103)),0),0) -> 0 | AR103: =SUM(AP103:AQ103) -> 0 | AS103: =I103+Q103+Y103+AG103+AO103+AR103 -> 0
A104: HS 200% | B104: =IF(B95="Dim",B100,IF(B110="ferie",B100,0)) -> 0 | C104: =IF(C95="Dim",C100,IF(C110="ferie",C100,0)) -> 0 | D104: =IF(D95="Dim",D100,IF(D110="ferie",D100,0)) -> 0 | E104: =IF(E95="Dim",E100,IF(E110="ferie",E100,0)) -> 0 | F104: =IF(F95="Dim",F100,IF(F110="ferie",F100,0)) -> 0 | G104: =IF(G95="Dim",G100,IF(G110="ferie",G100,0)) -> 0 | H104: =IF(H95="Dim",H100,IF(H110="ferie",H100,0)) -> 8 | I104: =SUM(B104:H104) -> 8 | J104: =IF(J95="Dim",J100,IF(J110="ferie",J100,0)) -> 0 | K104: =IF(K95="Dim",K100,IF(K110="ferie",K100,0)) -> 0 | L104: =IF(L95="Dim",L100,IF(L110="ferie",L100,0)) -> 0 | M104: =IF(M95="Dim",M100,IF(M110="ferie",M100,0)) -> 0 | N104: =IF(N95="Dim",N100,IF(N110="ferie",N100,0)) -> 0 | O104: =IF(O95="Dim",O100,IF(O110="ferie",O100,0)) -> 0 | P104: =IF(P95="Dim",P100,IF(P110="ferie",P100,0)) -> 0 | Q104: =SUM(J104:P104) -> 0 | R104: =IF(R95="Dim",R100,IF(R110="ferie",R100,0)) -> 0 | S104: =IF(S95="Dim",S100,IF(S110="ferie",S100,0)) -> 0 | T104: =IF(T95="Dim",T100,IF(T110="ferie",T100,0)) -> 0 | U104: =IF(U95="Dim",U100,IF(U110="ferie",U100,0)) -> 0 | V104: =IF(V95="Dim",V100,IF(V110="ferie",V100,0)) -> 0 | W104: =IF(W95="Dim",W100,IF(W110="ferie",W100,0)) -> 0 | X104: =IF(X95="Dim",X100,IF(X110="ferie",X100,0)) -> 0 | Y104: =SUM(R104:X104) -> 0 | Z104: =IF(Z95="Dim",Z100,IF(Z110="ferie",Z100,0)) -> 0 | AA104: =IF(AA95="Dim",AA100,IF(AA110="ferie",AA100,0)) -> 0 | AB104: =IF(AB95="Dim",AB100,IF(AB110="ferie",AB100,0)) -> 0 | AC104: =IF(AC95="Dim",AC100,IF(AC110="ferie",AC100,0)) -> 0 | AD104: =IF(AD95="Dim",AD100,IF(AD110="ferie",AD100,0)) -> 0 | AE104: =IF(AE95="Dim",AE100,IF(AE110="ferie",AE100,0)) -> 0 | AF104: =IF(AF95="Dim",AF100,IF(AF110="ferie",AF100,0)) -> 0 | AG104: =SUM(Z104:AF104) -> 0 | AH104: =IF(AH95="Dim",AH100,IF(AH110="ferie",AH100,0)) -> 0 | AI104: =IF(AI95="Dim",AI100,IF(AI110="ferie",AI100,0)) -> 0 | AJ104: =IF(AJ95="Dim",AJ100,IF(AJ110="ferie",AJ100,0)) -> 0 | AK104: =IF(AK95="Dim",AK100,IF(AK110="ferie",AK100,0)) -> 0 | AL104: =IF(AL95="Dim",AL100,IF(AL110="ferie",AL100,0)) -> 0 | AM104: =IF(AM95="Dim",AM100,IF(AM110="ferie",AM100,0)) -> 0 | AN104: =IF(AN95="Dim",AN100,IF(AN110="ferie",AN100,0)) -> 0 | AO104: =SUM(AH104:AN104) -> 0 | AP104: =IF(AP95="Dim",AP100,IF(AP110="ferie",AP100,0)) -> 0 | AQ104: =IF(AQ95="Dim",AQ100,IF(AQ110="ferie",AQ100,0)) -> 0 | AR104: =SUM(AP104:AQ104) -> 0 | AS104: =I104+Q104+Y104+AG104+AO104+AR104 -> 8
A105: HR + | I105: =SUM(B105:H105) -> 0 | Q105: =SUM(J105:P105) -> 0 | S105: 8 | Y105: =SUM(R105:X105) -> 8 | AG105: =SUM(Z105:AF105) -> 0 | AO105: =SUM(AH105:AN105) -> 0 | AR105: =SUM(AP105:AQ105) -> 0 | AS105: =I105+Q105+Y105+AG105+AO105+AR105 -> 8
A106: HR - | I106: =SUM(B106:H106) -> 0 | Q106: =SUM(J106:P106) -> 0 | U106: 8 | V106: 8 | Y106: =SUM(R106:X106) -> 16 | AG106: =SUM(Z106:AF106) -> 0 | AO106: =SUM(AH106:AN106) -> 0 | AR106: =SUM(AP106:AQ106) -> 0 | AS106: =I106+Q106+Y106+AG106+AO106+AR106 -> 16
...

Sheet Synthése
C1: Janv | D1: Fev | E1: Mars | F1: Avril | G1: Mai | H1: Juin | I1: Juil | J1: Aout | K1: Sept | L1: Oct | M1: Nov | N1: Dec | P1: Total
A2: HR n-1 | B2: 31.42
A3: RC n-1 | B3: 77.6
A4: CP n-1 | B4: 9
A5: CP mai | B5: 21 | G5: =B5 -> 21 | H5: =G5-H18 -> 21 | I5: =H5-I18 -> 21 | J5: =I5-J18 -> 14 | K5: =J5-K18 -> 14 | L5: =K5-L18 -> 14 | M5: =L5-M18 -> 14 | N5: =M5-N18 -> 14 | P5: =N5 -> 14 | Q5: Année en cours
A6: CP à prendre | C6: =B4-C18 -> 9 | D6: =C6-D18 -> 4 | E6: =D6-E18 -> 4 | F6: =E6-F18 -> 0 | P6: =F6 -> 0 | Q6: Reste de l'année derniére
A7: HR à prendre | C7: =B2-C17+C16 -> 23.42 | D7: =C7-D17+D16 -> 39.42 | E7: =D7-E17+E16 -> 31.42 | F7: =E7-F17+F16 -> 31.42 | G7: =F7-G17+G16 -> 31.42 | H7: =G7-H17+H16 -> 23.42 | I7: =H7-I17+I16 -> 23.42 | J7: =I7-J17+J16 -> 23.42 | K7: =J7-K17+K16 -> 23.42 | ... N7: =M7-N17+N16 -> 23.42 | P7: =N7 -> 23.42
A8: RC à prendre | C8: =B3-C19+C20 -> 78.4 | D8: =C8-D19+D20 -> 78.4 | E8: =D8-E19+E20 -> 79.2 | F8: =E8-F19+F20 -> 79.36 | G8: =F8-G19+G20 -> 64.32 | H8: =G8-H19+H20 -> 65.12 | I8: =H8-I19+I20 -> 51.46 | J8: =I8-J19+J20 -> 51.46 | K8: =J8-K19+K20 -> 51.46 | ... N8: =M8-N19+N20 -> 51.46 | P8: =N8 -> 51.46
A9: Ticket resto | C9: =Travail!AS8 -> 12 | D9: =Travail!AS26 -> 13 | E9: =Travail!AS44 -> 15 | F9: =Travail!AS62 -> 13 | G9: =Travail!AS80 -> 12 | H9: =Travail!AS98 -> 13 | I9: =Travail!AS116 -> 6 | J9: =Travail!AS134 -> 8 | K9: =Travail!AS152 -> 2 | L9: =Travail!AS170 -> 0 | M9: =Travail!AS188 -> 0 | N9: =Travail!AS206 -> 0 | P9: =SUM(C9:N9) -> 94
A10: Travailler | C10: =Travail!AS9 -> 17 | D10: =Travail!AS27 -> 14 | E10: =Travail!AS45 -> 20 | F10: =Travail!AS63 -> 14 | G10: =Travail!AS81 -> 17 | H10: =Travail!AS99 -> 16 | I10: =Travail!AS117 -> 21 | J10: =Travail!AS135 -> 5 | K10: =Travail!AS153 -> 0 | L10: =Travail!AS171 -> 0 | M10: =Travail!AS189 -> 0 | N10: =Travail!AS207 -> 0 | P10: =SUM(C10:N10) -> 124
A11: Nbr heure | C11: =Travail!AS10 -> 138 | D11: =Travail!AS28 -> 112 | E11: =Travail!AS46 -> 160 | F11: =Travail!AS64 -> 112 | G11: =Travail!AS82 -> 135 | H11: =Travail!AS100 -> 128 | I11: =Travail!AS118 -> 165 | J11: =Travail!AS136 -> 40 | K11: =Travail!AS154 -> 0 | L11: =Travail!AS172 -> 0 | M11: =Travail!AS190 -> 0 | N11: =Travail!AS208 -> 0 | P11: =SUM(C11:N11) -> 990
A12: Heure comp | C12: =Travail!AS11 -> 0 | D12: =Travail!AS29 -> 3 | E12: =Travail!AS47 -> 3 | F12: =Travail!AS65 -> 6 | G12: =Travail!AS83 -> 0 | H12: =Travail!AS101 -> 0 | I12: =Travail!AS119 -> 9 | J12: =Travail!AS137 -> 3 | K12: =Travail!AS155 -> 0 | L12: =Travail!AS173 -> 0 | M12: =Travail!AS191 -> 0 | N12: =Travail!AS209 -> 0 | P12: =SUM(C12:N12) -> 24
A13: HS 25% | C13: =Travail!AS12 -> 2 | D13: =Travail!AS30 -> 5 | E13: =Travail!AS48 -> 5 | F13: =Travail!AS66 -> 10 | G13: =Travail!AS84 -> 0 | H13: =Travail!AS102 -> 0 | I13: =Travail!AS120 -> 10 | J13: =Travail!AS138 -> 5 | K13: =Travail!AS156 -> 0 | L13: =Travail!AS174 -> 0 | M13: =Travail!AS192 -> 0 | N13: =Travail!AS210 -> 0 | P13: =SUM(C13:N13) -> 37
A14: HS 50% | C14: =Travail!AS13 -> 0 | D14: =Travail!AS31 -> 0 | E14: =Travail!AS49 -> 0 | F14: =Travail!AS67 -> 0 | G14: =Travail!AS85 -> 0 | H14: =Travail!AS103 -> 0 | I14: =Travail!AS121 -> 0 | J14: =Travail!AS139 -> 0 | K14: =Travail!AS157 -> 0 | L14: =Travail!AS175 -> 0 | M14: =Travail!AS193 -> 0 | N14: =Travail!AS211 -> 0 | P14: =SUM(C14:N14) -> 0
A15: HS 200% | C15: =Travail!AS14 -> 0 | D15: =Travail!AS32 -> 0 | E15: =Travail!AS50 -> 8 | F15: =Travail!AS68 -> 8 | G15: =Travail!AS86 -> 8 | H15: =Travail!AS104 -> 8 | I15: =Travail!AS122 -> 16 | J15: =Travail!AS140 -> 0 | K15: =Travail!AS158 -> 0 | L15: =Travail!AS176 -> 0 | M15: =Travail!AS194 -> 0 | N15: =Travail!AS212 -> 0 | P15: =SUM(C15:N15) -> 48
A16: HR + | C16: =Travail!AS15 -> 0 | D16: =Travail!AS33 -> 16 | E16: =Travail!AS51 -> 0 | F16: =Travail!AS69 -> 16 | G16: =Travail!AS87 -> 0 | H16: =Travail!AS105 -> 8 | I16: =Travail!AS123 -> 0 | J16: =Travail!AS141 -> 0 | K16: =Travail!AS159 -> 0 | L16: =Travail!AS177 -> 0 | M16: =Travail!AS195 -> 0 | N16: =Travail!AS213 -> 0 | P16: =SUM(C16:N16) -> 40
A17: HR - | C17: =Travail!AS16 -> 8 | D17: =Travail!AS34 -> 0 | E17: =Travail!AS52 -> 8 | F17: =Travail!AS70 -> 16 | G17: =Travail!AS88 -> 0 | H17: =Travail!AS106 -> 16 | I17: =Travail!AS124 -> 0 | J17: =Travail!AS142 -> 0 | K17: =Travail!AS160 -> 0 | L17: =Travail!AS178 -> 0 | M17: =Travail!AS196 -> 0 | N17: =Travail!AS214 -> 0 | P17: =SUM(C17:N17) -> 48
A18: CP - | C18: =Travail!AS17 -> 0 | D18: =Travail!AS35 -> 5 | E18: =Travail!AS53 -> 0 | F18: =Travail!AS71 -> 4 | G18: =Travail!AS89 -> 0 | H18: =Travail!AS107 -> 0 | I18: =Travail!AS125 -> 0 | J18: =Travail!AS143 -> 7 | K18: =Travail!AS161 -> 0 | L18: =Travail!AS179 -> 0 | M18: =Travail!AS197 -> 0 | N18: =Travail!AS215 -> 0 | P18: =SUM(C18:F18) -> 9 | Q18: Année derniére
A19: RC - | C19: =Travail!AS18 -> 0 | D19: =Travail!AS36 -> 0 | E19: =Travail!AS54 -> 0 | F19: =Travail!AS72 -> 0 | G19: =Travail!AS90 -> 16 | H19: =Travail!AS108 -> 0 | I19: =Travail!AS126 -> 16 | J19: =Travail!AS144 -> 0 | K19: =Travail!AS162 -> 0 | L19: =Travail!AS180 -> 0 | M19: =Travail!AS198 -> 0 | N19: =Travail!AS216 -> 0 | P19: =SUM(C19:N19) -> 32
A20: RC nuit | C20: =Travail!AS19 -> 0.8 | D20: =Travail!AS37 -> 0 | E20: =Travail!AS55 -> 0.8 | F20: =Travail!AS73 -> 0.16 | G20: =Travail!AS91 -> 0.96 | H20: =Travail!AS109 -> 0.8 | I20: =Travail!AS127 -> 2.34 | J20: =Travail!AS145 -> 0 | K20: =Travail!AS163 -> 0 | L20: =Travail!AS181 -> 0 | M20: =Travail!AS199 -> 0 | N20: =Travail!AS217 -> 0 | P20: =SUM(C20:N20) -> 5.86
A21: Contigent hs du mois | C21: =Travail!AT5 -> 2 | D21: =Travail!AT23 -> 5 | E21: =Travail!AT41 -> 13 | F21: =Travail!AT59 -> 18 | G21: =Travail!AT77 -> 8 | H21: =Travail!AT95 -> 8 | I21: =Travail!AT113 -> 26 | J21: =Travail!AT131 -> 5 | K21: =Travail!AT149 -> 0 | L21: =Travail!AT167 -> 0 | M21: =Travail!AT185 -> 0 | N21: =Travail!AT203 -> 0
A22: Contingent hs cummul | C22: =Travail!AU5 -> 2 | D22: =Travail!AU23 -> 7 | E22: =Travail!AU41 -> 20 | F22: =Travail!AU59 -> 38 | G22: =Travail!AU77 -> 46 | H22: =Travail!AU95 -> 54 | I22: =Travail!AU113 -> 80 | J22: =Travail!AU131 -> 85 | K22: =Travail!AU149 -> 85 | L22: =Travail!AU167 -> 85 | M22: =Travail!AU185 -> 85 | N22: =Travail!AU203 -> 85 | P22: =N22 -> 85

Sheet Calcul
A2: Taux horaire brut | B2: 13.08 | E2: HS 25 % | F2: HS 50% | G2: HS 200% | H2: CP
A3: Base | B3: 138.67 | C3: =B2*B3 -> 1813.8036 | E3: =B5*125/100 -> 12.753 | F3: =B5*150/100 -> 15.3036 | G3: =B5*2 -> 20.4048 | H3: 50
A4: Taux de charge | B4: 22
A5: Taux horaire net | B5: =(100-B4)*B2/100 -> 10.2024 | C5: =B3*B5 -> 1414.7668
A6: Prime assiduité | B6: 35
A7: Prime prod | B7: 85
A8: Prime nuit | B8: 150 | C8: =C5+B6+B7+B8 -> 1684.7668
A10: Salaire moyen | B10: 1650
A13: 32éme à 35éme heure | C13: heure complémentaire
A14: 36éme a 43éme inclus | C14: 0.25
A15: 44éme à 48éme inclus | C15: 0.5
A16: RC de nuit | C16: 0.02
A17: Dimanche | C17: 2
A18: Prime jour férier | C18: 82
A19: Calcul base de | C19: 32h

Sheet Paie
A1: Taux horaire | B1: 12.762
B3: Nombre ou base | C3: Taux ou % | D3: Montant a ajouter | E3: Montant à déduire
A4: Salaire de base | B4: 138.67 | D4: =B4*B1 -> 1769.7065
A5: Prime assiduité | D5: 35
A6: HS a 125 % | D6: =C6*B6 -> 0
A7: HS a 200 %
A8: Heure complementaire
A9: Prime anciennete | B9: 1689.3 | C9: 3 | D9: =B9*C9/100 -> 50.679
A10: Prime equipe de nuit
A11: Prime casse croute
A12: Prime exceptionnelle 2
A13: Prime objectif | D13: 80
A16: Remuneration brute | C16: Ajouter | D16: =SUM(D4:D15) -> 1935.3855
A18: S Maladie TT | B18: =D16 -> 1935.3855 | C18: 0.75 | D18: =B18*C18/100 -> 14.515392
A19: S Vieillesse TA | B19: =D16 -> 1935.3855 | C19: 6.65 | D19: =B19*C19/100 -> 128.70314
A20: S Vieillesse TT | B20: =D16 -> 1935.3855 | C20: 0.1 | D20: =C20*B20/100 -> 1.9353855
A22: S CSG deductible TT | B22: =D16 -> 1935.3855 | C22: 5.1 | D22: =C22*B22/100 -> 98.704663
A23: C Chomage rac TA | B23: =D16 -> 1935.3855 | C23: 2.4 | D23: =C23*B23/100 -> 46.449253
A25: A20 AGFF | B25: =D16 -> 1935.3855 | C25: 0.8 | D25: =C25*B25/100 -> 15.483084
A26: C20 IRSIM | B26: =D16 -> 1935.3855 | C26: 3 | D26: =C26*B26/100 -> 58.061566
A27: M Mutuelle | B27: =D16 -> 1935.3855 | C27: 2.28 | D27: =C27*B27/100 -> 44.12679
A29: 87 Prev allianz | B29: =D16 -> 1935.3855 | C29: 0.21 | D29: =C29*B29/100 -> 4.0643096
C31: Deduire | D31: =SUM(D18:D30) -> 412.04358
A33: Indemnite transport | C33: 3.51 | D33: =C33 -> 3.51
A34: Indemnite panier de nuit
C36: Ajouter | D36: =SUM(D33:D34) -> 3.51
A38: Retenue ticket restaurant | C38: 1.4 | D38: =C38*B38 -> 0
A39: S CSG TT | C39: 2.4
A40: S RDS TT | C40: 0.5
C42: Deduire | D42: =SUM(D38:D41) -> 0
C45: Toatal de la paie | D45: =D16-D31+D36-D42 -> 1526.852
