Workbook
Name Année_Calendaire: Travail!$A$1
Name Aoû_Dim1: DATE(Année_Calendaire,8,1)-WEEKDAY(DATE(Année_Calendaire,8,1))+1
Name Avr_Dim1: DATE(Année_Calendaire,4,1)-WEEKDAY(DATE(Année_Calendaire,4,1))+1
Name Déc_Dim1: DATE(Année_Calendaire,12,1)-WEEKDAY(DATE(Année_Calendaire,12,1))+1
Name Fév_Dim1: DATE(Année_Calendaire,2,1)-WEEKDAY(DATE(Année_Calendaire,2,1))+1
Name Jan_Dim1: DATE(Année_Calendaire,1,1)-WEEKDAY(DATE(Année_Calendaire,1,1))+1
Name Juil_Dim1: DATE(Année_Calendaire,7,1)-WEEKDAY(DATE(Année_Calendaire,7,1))+1
Name Juin_Dim1: DATE(Année_Calendaire,6,1)-WEEKDAY(DATE(Année_Calendaire,6,1))+1
Name Mai_Dim1: DATE(Année_Calendaire,5,1)-WEEKDAY(DATE(Année_Calendaire,5,1))+1
Name Mar_Dim1: DATE(Année_Calendaire,3,1)-WEEKDAY(DATE(Année_Calendaire,3,1))+1
Name Nov_Dim1: DATE(Année_Calendaire,11,1)-WEEKDAY(DATE(Année_Calendaire,11,1))+1
Name Oct_Dim1: DATE(Année_Calendaire,10,1)-WEEKDAY(DATE(Année_Calendaire,10,1))+1
Name Sep_Dim1: DATE(Année_Calendaire,9,1)-WEEKDAY(DATE(Année_Calendaire,9,1))+1

Sheet Travail
A1: 2016
AT2: Contigent hs du mois | AU2: Contingent hs cummul
B4: JANVIER | G4: =Année_Calendaire -> 2016 | R4: JANVIER | W4: =Année_Calendaire -> 2016 | AH4: JANVIER | AM4: =Année_Calendaire -> 2016
B5: Lun | C5: Mar | D5: Mer | E5: Jeu | F5: Ven | G5: Sam | H5: Dim | I5: Cumul | J5: Lun | K5: Mar | L5: Mer | M5: Jeu | N5: Ven | O5: Sam | P5: Dim | Q5: Cumul | R5: Lun | S5: Mar | T5: Mer | U5: Jeu | V5: Ven | W5: Sam | X5: Dim | Y5: Cumul | Z5: Lun | AA5: Mar | AB5: Mer | AC5: Jeu | AD5: Ven | AE5: Sam | AF5: Dim | AG5: Cumul | AH5: Lun | AI5: Mar | AJ5: Mer | AK5: Jeu | AL5: Ven | AM5: Sam | AN5: Dim | AO5: Cumul | AP5: Lun | AQ5: Mar | AR5: Cumul | AS5: Cumul total | AT5: =AS12+AS13+AS14 -> 2 | AU5: =AT5 -> 2
B6: =IF(DAY(Jan_Dim1)=1,"",IF(AND(YEAR(Jan_Dim1+1)=Année_Calendaire,MONTH(Jan_Dim1+1)=1),Jan_Dim1+1,"")) | C6: =IF(DAY(Jan_Dim1)=1,"",IF(AND(YEAR(Jan_Dim1+2)=Année_Calendaire,MONTH(Jan_Dim1+2)=1),Jan_Dim1+2,"")) | D6: =IF(DAY(Jan_Dim1)=1,"",IF(AND(YEAR(Jan_Dim1+3)=Année_Calendaire,MONTH(Jan_Dim1+3)=1),Jan_Dim1+3,"")) | E6: =IF(DAY(Jan_Dim1)=1,"",IF(AND(YEAR(Jan_Dim1+4)=Année_Calendaire,MONTH(Jan_Dim1+4)=1),Jan_Dim1+4,"")) | F6: =IF(DAY(Jan_Dim1)=1,"",IF(AND(YEAR(Jan_Dim1+5)=Année_Calendaire,MONTH(Jan_Dim1+5)=1),Jan_Dim1+5,"")) -> 42370 | G6: =IF(DAY(Jan_Dim1)=1,"",IF(AND(YEAR(Jan_Dim1+6)=Année_Calendaire,MONTH(Jan_Dim1+6)=1),Jan_Dim1+6,"")) -> 42371 | H6: =IF(DAY(Jan_Dim1)=1,IF(AND(YEAR(Jan_Dim1)=Année_Calendaire,MONTH(Jan_Dim1)=1),Jan_Dim1,""),IF(AND(YEAR(Jan_Dim1+7)=Année_Calendaire,MONTH(Jan_Dim1+7)=1),Jan_Dim1+7,"")) -> 42372 | J6: =IF(DAY(Jan_Dim1)=1,IF(AND(YEAR(Jan_Dim1+1)=Année_Calendaire,MONTH(Jan_Dim1+1)=1),Jan_Dim1+1,""),IF(AND(YEAR(Jan_Dim1+8)=Année_Calendaire,MONTH(Jan_Dim1+8)=1),Jan_Dim1+8,"")) -> 42373 | K6: =IF(DAY(Jan_Dim1)=1,IF(AND(YEAR(Jan_Dim1+2)=Année_Calendaire,MONTH(Jan_Dim1+2)=1),Jan_Dim1+2,""),IF(AND(YEAR(Jan_Dim1+9)=Année_Calendaire,MONTH(Jan_Dim1+9)=1),Jan_Dim1+9,"")) -> 42374 | L6: =IF(DAY(Jan_Dim1)=1,IF(AND(YEAR(Jan_Dim1+3)=Année_Calendaire,MONTH(Jan_Dim1+3)=1),Jan_Dim1+3,""),IF(AND(YEAR(Jan_Dim1+10)=Année_Calendaire,MONTH(Jan_Dim1+10)=1),Jan_Dim1+10,"")) -> 42375 | M6: =IF(DAY(Jan_Dim1)=1,IF(AND(YEAR(Jan_Dim1+4)=Année_Calendaire,MONTH(Jan_Dim1+4)=1),Jan_Dim1+4,""),IF(AND(YEAR(Jan_Dim1+11)=Année_Calendaire,MONTH(Jan_Dim1+11)=1),Jan_Dim1+11,"")) -> 42376 | N6: =IF(DAY(Jan_Dim1)=1,IF(AND(YEAR(Jan_Dim1+5)=Année_Calendaire,MONTH(Jan_Dim1+5)=1),Jan_Dim1+5,""),IF(AND(YEAR(Jan_Dim1+12)=Année_Calendaire,MONTH(Jan_Dim1+12)=1),Jan_Dim1+12,"")) -> 42377 | O6: =IF(DAY(Jan_Dim1)=1,IF(AND(YEAR(Jan_Dim1+6)=Année_Calendaire,MONTH(Jan_Dim1+6)=1),Jan_Dim1+6,""),IF(AND(YEAR(Jan_Dim1+13)=Année_Calendaire,MONTH(Jan_Dim1+13)=1),Jan_Dim1+13,"")) -> 42378 | P6: =IF(DAY(Jan_Dim1)=1,IF(AND(YEAR(Jan_Dim1+7)=Année_Calendaire,MONTH(Jan_Dim1+7)=1),Jan_Dim1+7,""),IF(AND(YEAR(Jan_Dim1+14)=Année_Calendaire,MONTH(Jan_Dim1+14)=1),Jan_Dim1+14,"")) -> 42379 | R6: =IF(DAY(Jan_Dim1)=1,IF(AND(YEAR(Jan_Dim1+8)=Année_Calendaire,MONTH(Jan_Dim1+8)=1),Jan_Dim1+8,""),IF(AND(YEAR(Jan_Dim1+15)=Année_Calendaire,MONTH(Jan_Dim1+15)=1),Jan_Dim1+15,"")) -> 42380 | S6: =IF(DAY(Jan_Dim1)=1,IF(AND(YEAR(Jan_Dim1+9)=Année_Calendaire,MONTH(Jan_Dim1+9)=1),Jan_Dim1+9,""),IF(AND(YEAR(Jan_Dim1+16)=Année_Calendaire,MONTH(Jan_Dim1+16)=1),Jan_Dim1+16,"")) -> 42381 | T6: =IF(DAY(Jan_Dim1)=1,IF(AND(YEAR(Jan_Dim1+10)=Année_Calendaire,MONTH(Jan_Dim1+10)=1),Jan_Dim1+10,""),IF(AND(YEAR(Jan_Dim1+17)=Année_Calendaire,MONTH(Jan_Dim1+17)=1),Jan_Dim1+17,"")) -> 42382 | U6: =IF(DAY(Jan_Dim1)=1,IF(AND(YEAR(Jan_Dim1+11)=Année_Calendaire,MONTH(Jan_Dim1+11)=1),Jan_Dim1+11,""),IF(AND(YEAR(Jan_Dim1+18)=Année_Calendaire,MONTH(Jan_Dim1+18)=1),Jan_Dim1+18,"")) -> 42383 | V6: =IF(DAY(Jan_Dim1)=1,IF(AND(YEAR(Jan_Dim1+12)=Année_Calendaire,MONTH(Jan_Dim1+12)=1),Jan_Dim1+12,""),IF(AND(YEAR(Jan_Dim1+19)=Année_Calendaire,MONTH(Jan_Dim1+19)=1),Jan_Dim1+19,"")) -> 42384 | W6: =IF(DAY(Jan_Dim1)=1,IF(AND(YEAR(Jan_Dim1+13)=Année_Calendaire,MONTH(Jan_Dim1+13)=1),Jan_Dim1+13,""),IF(AND(YEAR(Jan_Dim1+20)=Année_Calendaire,MONTH(Jan_Dim1+20)=1),Jan_Dim1+20,"")) -> 42385 | X6: =IF(DAY(Jan_Dim1)=1,IF(AND(YEAR(Jan_Dim1+14)=Année_Calendaire,MONTH(Jan_Dim1+14)=1),Jan_Dim1+14,""),IF(AND(YEAR(Jan_Dim1+21)=Année_Calendaire,MONTH(Jan_Dim1+21)=1),Jan_Dim1+21,"")) -> 42386 | Z6: =IF(DAY(Jan_Dim1)=1,IF(AND(YEAR(Jan_Dim1+15)=Année_Calendaire,MONTH(Jan_Dim1+15)=1),Jan_Dim1+15,""),IF(AND(YEAR(Jan_Dim1+22)=Année_Calendaire,MONTH(Jan_Dim1+22)=1),Jan_Dim1+22,"")) -> 42387 | AA6: =IF(DAY(Jan_Dim1)=1,IF(AND(YEAR(Jan_Dim1+16)=Année_Calendaire,MONTH(Jan_Dim1+16)=1),Jan_Dim1+16,""),IF(AND(YEAR(Jan_Dim1+23)=Année_Calendaire,MONTH(Jan_Dim1+23)=1),Jan_Dim1+23,"")) -> 42388 | AB6: =IF(DAY(Jan_Dim1)=1,IF(AND(YEAR(Jan_Dim1+17)=Année_Calendaire,MONTH(Jan_Dim1+17)=1),Jan_Dim1+17,""),IF(AND(YEAR(Jan_Dim1+24)=Année_Calendaire,MONTH(Jan_Dim1+24)=1),Jan_Dim1+24,"")) -> 42389 | AC6: =IF(DAY(Jan_Dim1)=1,IF(AND(YEAR(Jan_Dim1+18)=Année_Calendaire,MONTH(Jan_Dim1+18)=1),Jan_Dim1+18,""),IF(AND(YEAR(Jan_Dim1+25)=Année_Calendaire,MONTH(Jan_Dim1+25)=1),Jan_Dim1+25,"")) -> 42390 | AD6: =IF(DAY(Jan_Dim1)=1,IF(AND(YEAR(Jan_Dim1+19)=Année_Calendaire,MONTH(Jan_Dim1+19)=1),Jan_Dim1+19,""),IF(AND(YEAR(Jan_Dim1+26)=Année_Calendaire,MONTH(Jan_Dim1+26)=1),Jan_Dim1+26,"")) -> 42391 | AE6: =IF(DAY(Jan_Dim1)=1,IF(AND(YEAR(Jan_Dim1+20)=Année_Calendaire,MONTH(Jan_Dim1+20)=1),Jan_Dim1+20,""),IF(AND(YEAR(Jan_Dim1+27)=Année_Calendaire,MONTH(Jan_Dim1+27)=1),Jan_Dim1+27,"")) -> 42392 | AF6: =IF(DAY(Jan_Dim1)=1,IF(AND(YEAR(Jan_Dim1+21)=Année_Calendaire,MONTH(Jan_Dim1+21)=1),Jan_Dim1+21,""),IF(AND(YEAR(Jan_Dim1+28)=Année_Calendaire,MONTH(Jan_Dim1+28)=1),Jan_Dim1+28,"")) -> 42393 | AH6: =IF(DAY(Jan_Dim1)=1,IF(AND(YEAR(Jan_Dim1+22)=Année_Calendaire,MONTH(Jan_Dim1+22)=1),Jan_Dim1+22,""),IF(AND(YEAR(Jan_Dim1+29)=Année_Calendaire,MONTH(Jan_Dim1+29)=1),Jan_Dim1+29,"")) -> 42394 | AI6: =IF(DAY(Jan_Dim1)=1,IF(AND(YEAR(Jan_Dim1+23)=Année_Calendaire,MONTH(Jan_Dim1+23)=1),Jan_Dim1+23,""),IF(AND(YEAR(Jan_Dim1+30)=Année_Calendaire,MONTH(Jan_Dim1+30)=1),Jan_Dim1+30,"")) -> 42395 | AJ6: =IF(DAY(Jan_Dim1)=1,IF(AND(YEAR(Jan_Dim1+24)=Année_Calendaire,MONTH(Jan_Dim1+24)=1),Jan_Dim1+24,""),IF(AND(YEAR(Jan_Dim1+31)=Année_Calendaire,MONTH(Jan_Dim1+31)=1),Jan_Dim1+31,"")) -> 42396 | AK6: =IF(DAY(Jan_Dim1)=1,IF(AND(YEAR(Jan_Dim1+25)=Année_Calendaire,MONTH(Jan_Dim1+25)=1),Jan_Dim1+25,""),IF(AND(YEAR(Jan_Dim1+32)=Année_Calendaire,MONTH(Jan_Dim1+32)=1),Jan_Dim1+32,"")) -> 42397 | AL6: =IF(DAY(Jan_Dim1)=1,IF(AND(YEAR(Jan_Dim1+26)=Année_Calendaire,MONTH(Jan_Dim1+26)=1),Jan_Dim1+26,""),IF(AND(YEAR(Jan_Dim1+33)=Année_Calendaire,MONTH(Jan_Dim1+33)=1),Jan_Dim1+33,"")) -> 42398 | AM6: =IF(DAY(Jan_Dim1)=1,IF(AND(YEAR(Jan_Dim1+27)=Année_Calendaire,MONTH(Jan_Dim1+27)=1),Jan_Dim1+27,""),IF(AND(YEAR(Jan_Dim1+34)=Année_Calendaire,MONTH(Jan_Dim1+34)=1),Jan_Dim1+34,"")) -> 42399 | AN6: =IF(DAY(Jan_Dim1)=1,IF(AND(YEAR(Jan_Dim1+28)=Année_Calendaire,MONTH(Jan_Dim1+28)=1),Jan_Dim1+28,""),IF(AND(YEAR(Jan_Dim1+35)=Année_Calendaire,MONTH(Jan_Dim1+35)=1),Jan_Dim1+35,"")) -> 42400 | AP6: =IF(DAY(Jan_Dim1)=1,IF(AND(YEAR(Jan_Dim1+29)=Année_Calendaire,MONTH(Jan_Dim1+29)=1),Jan_Dim1+29,""),IF(AND(YEAR(Jan_Dim1+36)=Année_Calendaire,MONTH(Jan_Dim1+36)=1),Jan_Dim1+36,"")) | AQ6: =IF(DAY(Jan_Dim1)=1,IF(AND(YEAR(Jan_Dim1+30)=Année_Calendaire,MONTH(Jan_Dim1+30)=1),Jan_Dim1+30,""),IF(AND(YEAR(Jan_Dim1+37)=Année_Calendaire,MONTH(Jan_Dim1+37)=1),Jan_Dim1+37,""))
A7: Equipe | J7: am | K7: am | L7: am | M7: am | N7: am | R7: matin | S7: matin | T7: matin | Z7: nuit | AA7: nuit | AB7: nuit | AC7: nuit | AD7: nuit | AH7: matin | AI7: matin | AJ7: matin | AK7: matin
A8: Ticket resto | B8: =IF(B7="Matin",1,IF(B7="AM",1,0)) -> 0 | C8: =IF(C7="Matin",1,IF(C7="AM",1,0)) -> 0 | D8: =IF(D7="Matin",1,IF(D7="AM",1,0)) -> 0 | E8: =IF(E7="Matin",1,IF(E7="AM",1,0)) -> 0 | F8: =IF(F7="Matin",1,IF(F7="AM",1,0)) -> 0 | G8: =IF(G7="Matin",1,IF(G7="AM",1,0)) -> 0 | H8: =IF(H7="Matin",1,IF(H7="AM",1,0)) -> 0 | I8: =SUM(B8:H8) -> 0 | J8: =IF(J7="Matin",1,IF(J7="AM",1,0)) -> 1 | K8: =IF(K7="Matin",1,IF(K7="AM",1,0)) -> 1 | L8: =IF(L7="Matin",1,IF(L7="AM",1,0)) -> 1 | M8: =IF(M7="Matin",1,IF(M7="AM",1,0)) -> 1 | N8: =IF(N7="Matin",1,IF(N7="AM",1,0)) -> 1 | O8: =IF(O7="Matin",1,IF(O7="AM",1,0)) -> 0 | P8: =IF(P7="Matin",1,IF(P7="AM",1,0)) -> 0 | Q8: =SUM(J8:P8) -> 5 | R8: =IF(R7="Matin",1,IF(R7="AM",1,0)) -> 1 | S8: =IF(S7="Matin",1,IF(S7="AM",1,0)) -> 1 | T8: =IF(T7="Matin",1,IF(T7="AM",1,0)) -> 1 | U8: =IF(U7="Matin",1,IF(U7="AM",1,0)) -> 0 | V8: =IF(V7="Matin",1,IF(V7="AM",1,0)) -> 0 | W8: =IF(W7="Matin",1,IF(W7="AM",1,0)) -> 0 | X8: =IF(X7="Matin",1,IF(X7="AM",1,0)) -> 0 | Y8: =SUM(R8:X8) -> 3 | Z8: =IF(Z7="Matin",1,IF(Z7="AM",1,0)) -> 0 | AA8: =IF(AA7="Matin",1,IF(AA7="AM",1,0)) -> 0 | AB8: =IF(AB7="Matin",1,IF(AB7="AM",1,0)) -> 0 | AC8: =IF(AC7="Matin",1,IF(AC7="AM",1,0)) -> 0 | AD8: =IF(AD7="Matin",1,IF(AD7="AM",1,0)) -> 0 | AE8: =IF(AE7="Matin",1,IF(AE7="AM",1,0)) -> 0 | AF8: =IF(AF7="Matin",1,IF(AF7="AM",1,0)) -> 0 | AG8: =SUM(Z8:AF8) -> 0 | AH8: =IF(AH7="Matin",1,IF(AH7="AM",1,0)) -> 1 | AI8: =IF(AI7="Matin",1,IF(AI7="AM",1,0)) -> 1 | AJ8: =IF(AJ7="Matin",1,IF(AJ7="AM",1,0)) -> 1 | AK8: =IF(AK7="Matin",1,IF(AK7="AM",1,0)) -> 1 | AL8: =IF(AL7="Matin",1,IF(AL7="AM",1,0)) -> 0 | AM8: =IF(AM7="Matin",1,IF(AM7="AM",1,0)) -> 0 | AN8: =IF(AN7="Matin",1,IF(AN7="AM",1,0)) -> 0 | AO8: =SUM(AH8:AN8) -> 4 | AP8: =IF(AP7="Matin",1,IF(AP7="AM",1,0)) -> 0 | AQ8: =IF(AQ7="Matin",1,IF(AQ7="AM",1,0)) -> 0 | AR8: =SUM(AP8:AQ8) -> 0 | AS8: =I8+Q8+Y8+AG8+AO8+AR8 -> 12
A9: Travailler | B9: =IF(B10>=1,1,0) -> 0 | C9: =IF(C10>=1,1,0) -> 0 | D9: =IF(D10>=1,1,0) -> 0 | E9: =IF(E10>=1,1,0) -> 0 | F9: =IF(F10>=1,1,0) -> 0 | G9: =IF(G10>=1,1,0) -> 0 | H9: =IF(H10>=1,1,0) -> 0 | I9: =SUM(B9:H9) -> 0 | J9: =IF(J10>=1,1,0) -> 1 | K9: =IF(K10>=1,1,0) -> 1 | L9: =IF(L10>=1,1,0) -> 1 | M9: =IF(M10>=1,1,0) -> 1 | N9: =IF(N10>=1,1,0) -> 1 | O9: =IF(O10>=1,1,0) -> 0 | P9: =IF(P10>=1,1,0) -> 0 | Q9: =SUM(J9:P9) -> 5 | R9: =IF(R10>=1,1,0) -> 1 | S9: =IF(S10>=1,1,0) -> 1 | T9: =IF(T10>=1,1,0) -> 1 | U9: =IF(U10>=1,1,0) -> 0 | V9: =IF(V10>=1,1,0) -> 0 | W9: =IF(W10>=1,1,0) -> 0 | X9: =IF(X10>=1,1,0) -> 0 | Y9: =SUM(R9:X9) -> 3 | Z9: =IF(Z10>=1,1,0) -> 1 | AA9: =IF(AA10>=1,1,0) -> 1 | AB9: =IF(AB10>=1,1,0) -> 1 | AC9: =IF(AC10>=1,1,0) -> 1 | AD9: =IF(AD10>=1,1,0) -> 1 | AE9: =IF(AE10>=1,1,0) -> 0 | AF9: =IF(AF10>=1,1,0) -> 0 | AG9: =SUM(Z9:AF9) -> 5 | AH9: =IF(AH10>=1,1,0) -> 1 | AI9: =IF(AI10>=1,1,0) -> 1 | AJ9: =IF(AJ10>=1,1,0) -> 1 | AK9: =IF(AK10>=1,1,0) -> 1 | AL9: =IF(AL10>=1,1,0) -> 0 | AM9: =IF(AM10>=1,1,0) -> 0 | AN9: =IF(AN10>=1,1,0) -> 0 | AO9: =SUM(AH9:AN9) -> 4 | AP9: =IF(AP10>=1,1,0) -> 0 | AQ9: =IF(AQ10>=1,1,0) -> 0 | AR9: =SUM(AP9:AQ9) -> 0 | AS9: =I9+Q9+Y9+AG9+AO9+AR9 -> 17
A10: Nbr heure | I10: =SUM(B10:H10) -> 0 | J10: 8 | K10: 8 | L10: 8 | M10: 8.5 | N10: 9.5 | Q10: =SUM(J10:P10) -> 42 | R10: 8 | S10: 8 | T10: 8 | Y10: =SUM(R10:X10) -> 24 | Z10: 8 | AA10: 8 | AB10: 8 | AC10: 8 | AD10: 8 | AG10: =SUM(Z10:AF10) -> 40 | AH10: 8 | AI10: 8 | AJ10: 8 | AK10: 8 | AO10: =SUM(AH10:AN10) -> 32 | AR10: =SUM(AP10:AQ10) -> 0 | AS10: =I10+Q10+Y10+AG10+AO10+AR10 -> 138
A11: Heure comp | B11: =IF(B5<>"Dim",IF(B10>32,MIN(B10,35)-32,0),0) -> 0 | C11: =IF(C5<>"Dim",IF(SUM($B10:C10)>32,MIN(SUM($B10:C10),35)-32-SUM($B11:B11),0),0) -> 0 | D11: =IF(D5<>"Dim",IF(SUM($B10:D10)>32,MIN(SUM($B10:D10),35)-32-SUM($B11:C11),0),0) -> 0 | E11: =IF(E5<>"Dim",IF(SUM($B10:E10)>32,MIN(SUM($B10:E10),35)-32-SUM($B11:D11),0),0) -> 0 | F11: =IF(F5<>"Dim",IF(SUM($B10:F10)>32,MIN(SUM($B10:F10),35)-32-SUM($B11:E11),0),0) -> 0 | G11: =IF(G5<>"Dim",IF(SUM($B10:G10)>32,MIN(SUM($B10:G10),35)-32-SUM($B11:F11),0),0) -> 0 | H11: =IF(H5<>"Dim",IF(SUM($B10:H10)>32,MIN(SUM($B10:H10),35)-32-SUM($B11:G11),0),0) -> 0 | I11: =SUM(B11:H11) -> 0 | J11: =IF(J5<>"Dim",IF(J10>32,MIN(J10,35)-32,0),0) -> 0 | K11: =IF(K5<>"Dim",IF(SUM($J10:K10)>32,MIN(SUM($J10:K10),35)-32-SUM($J11:J11),0),0) -> 0 | L11: =IF(L5<>"Dim",IF(SUM($J10:L10)>32,MIN(SUM($J10:L10),35)-32-SUM($J11:K11),0),0) -> 0 | P11: =IF(P5<>"Dim",IF(SUM($J10:P10)>32,MIN(SUM($J10:P10),35)-32-SUM($J11:O11),0),0) -> 0 | Q11: =SUM(J11:P11) -> 0 | R11: =IF(R5<>"Dim",IF(R10>32,MIN(R10,35)-32,0),0) -> 0 | S11: =IF(S5<>"Dim",IF(SUM($R10:S10)>32,MIN(SUM($R10:S10),35)-32-SUM($R11:R11),0),0) -> 0 | T11: =IF(T5<>"Dim",IF(SUM($R10:T10)>32,MIN(SUM($R10:T10),35)-32-SUM($R11:S11),0),0) -> 0 | U11: =IF(U5<>"Dim",IF(SUM($R10:U10)>32,MIN(SUM($R10:U10),35)-32-SUM($R11:T11),0),0) -> 0 | V11: =IF(V5<>"Dim",IF(SUM($R10:V10)>32,MIN(SUM($R10:V10),35)-32-SUM($R11:U11),0),0) -> 0 | W11: =IF(W5<>"Dim",IF(SUM($R10:W10)>32,MIN(SUM($R10:W10),35)-32-SUM($R11:V11),0),0) -> 0 | X11: =IF(X5<>"Dim",IF(SUM($R10:X10)>32,MIN(SUM($R10:X10),35)-32-SUM($R11:W11),0),0) -> 0 | Y11: =SUM(R11:X11) -> 0 | Z11: =IF(Z5<>"Dim",IF(Z10>32,MIN(Z10,35)-32,0),0) -> 0 | AA11: =IF(AA5<>"Dim",IF(SUM($Z10:AA10)>32,MIN(SUM($Z10:AA10),35)-32-SUM($Z11:Z11),0),0) -> 0 | AB11: =IF(AB5<>"Dim",IF(SUM($Z10:AB10)>32,MIN(SUM($Z10:AB10),35)-32-SUM($Z11:AA11),0),0) -> 0 | AC11: =IF(AC5<>"Dim",IF(SUM($Z10:AC10)>32,MIN(SUM($Z10:AC10),35)-32-SUM($Z11:AB11),0),0) -> 0 | AF11: =IF(AF5<>"Dim",IF(SUM($Z10:AF10)>32,MIN(SUM($Z10:AF10),35)-32-SUM($Z11:AE11),0),0) -> 0 | AG11: =SUM(Z11:AF11) -> 0 | AH11: =IF(AH5<>"Dim",IF(AH10>32,MIN(AH10,35)-32,0),0) -> 0 | AI11: =IF(AI5<>"Dim",IF(SUM($AH10:AI10)>32,MIN(SUM($AH10:AI10),35)-32-SUM($AH11:AH11),0),0) -> 0 | AJ11: =IF(AJ5<>"Dim",IF(SUM($AH10:AJ10)>32,MIN(SUM($AH10:AJ10),35)-32-SUM($AH11:AI11),0),0) -> 0 | AK11: =IF(AK5<>"Dim",IF(SUM($AH10:AK10)>32,MIN(SUM($AH10:AK10),35)-32-SUM($AH11:AJ11),0),0) -> 0 | AL11: =IF(AL5<>"Dim",IF(SUM($AH10:AL10)>32,MIN(SUM($AH10:AL10),35)-32-SUM($AH11:AK11),0),0) -> 0 | AM11: =IF(AM5<>"Dim",IF(SUM($AH10:AM10)>32,MIN(SUM($AH10:AM10),35)-32-SUM($AH11:AL11),0),0) -> 0 | AN11: =IF(AN5<>"Dim",IF(SUM($AH10:AN10)>32,MIN(SUM($AH10:AN10),35)-32-SUM($AH11:AM11),0),0) -> 0 | AO11: =SUM(AH11:AN11) -> 0 | AP11: =IF(AP5<>"Dim",IF(AP10>32,MIN(AP10,35)-32,0),0) -> 0 | AQ11: =IF(AQ5<>"Dim",IF(SUM($AP10:AQ10)>32,MIN(SUM($AP10:AQ10),35)-32-SUM($AP11:AP11),0),0) -> 0 | AR11: =SUM(AP11:AQ11) -> 0 | AS11: =I11+Q11+Y11+AG11+AO11+AR11 -> 0
A12: HS 25% | B12: =IF(B5<>"Dim",IF(B10>35,(MIN(B10,43)-35),0),0) -> 0 | C12: =IF(C5<>"Dim",IF(SUM($B10:C10)>35,(MIN(SUM($B10:C10),43)-35-SUM($B12:B12)),0),0) -> 0 | D12: =IF(D5<>"Dim",IF(SUM($B10:D10)>35,(MIN(SUM($B10:D10),43)-35-SUM($B12:C12)),0),0) -> 0 | E12: =IF(E5<>"Dim",IF(SUM($B10:E10)>35,(MIN(SUM($B10:E10),43)-35-SUM($B12:D12)),0),0) -> 0 | F12: =IF(F5<>"Dim",IF(SUM($B10:F10)>35,(MIN(SUM($B10:F10),43)-35-SUM($B12:E12)),0),0) -> 0 | G12: =IF(G5<>"Dim",IF(SUM($B10:G10)>35,(MIN(SUM($B10:G10),43)-35-SUM($B12:F12)),0),0) -> 0 | H12: =IF(H5<>"Dim",IF(SUM($B10:H10)>35,(MIN(SUM($B10:H10),43)-35-SUM($B12:G12)),0),0) -> 0 | I12: =SUM(B12:H12) -> 0 | J12: =IF(J5<>"Dim",IF(J10>35,(MIN(J10,43)-35),0),0) -> 0 | K12: =IF(K5<>"Dim",IF(SUM($J10:K10)>35,(MIN(SUM($J10:K10),43)-35-SUM($J12:J12)),0),0) -> 0 | L12: =IF(L5<>"Dim",IF(SUM($J10:L10)>35,(MIN(SUM($J10:L10),43)-35-SUM($J12:K12)),0),0) -> 0 | M12: 0.5 | N12: 1.5 | P12: =IF(P5<>"Dim",IF(SUM($J10:P10)>35,(MIN(SUM($J10:P10),43)-35-SUM($J12:O12)),0),0) -> 0 | Q12: =SUM(J12:P12) -> 2 | R12: =IF(R5<>"Dim",IF(R10>35,(MIN(R10,43)-35),0),0) -> 0 | S12: =IF(S5<>"Dim",IF(SUM($R10:S10)>35,(MIN(SUM($R10:S10),43)-35-SUM($R12:R12)),0),0) -> 0 | T12: =IF(T5<>"Dim",IF(SUM($R10:T10)>35,(MIN(SUM($R10:T10),43)-35-SUM($R12:S12)),0),0) -> 0 | U12: =IF(U5<>"Dim",IF(SUM($R10:U10)>35,(MIN(SUM($R10:U10),43)-35-SUM($R12:T12)),0),0) -> 0 | V12: =IF(V5<>"Dim",IF(SUM($R10:V10)>35,(MIN(SUM($R10:V10),43)-35-SUM($R12:U12)),0),0) -> 0 | W12: =IF(W5<>"Dim",IF(SUM($R10:W10)>35,(MIN(SUM($R10:W10),43)-35-SUM($R12:V12)),0),0) -> 0 | X12: =IF(X5<>"Dim",IF(SUM($R10:X10)>35,(MIN(SUM($R10:X10),43)-35-SUM($R12:W12)),0),0) -> 0 | Y12: =SUM(R12:X12) -> 0 | Z12: =IF(Z5<>"Dim",IF(Z10>35,(MIN(Z10,43)-35),0),0) -> 0 | AA12: =IF(AA5<>"Dim",IF(SUM($Z10:AA10)>35,(MIN(SUM($Z10:AA10),43)-35-SUM($Z12:Z12)),0),0) -> 0 | AB12: =IF(AB5<>"Dim",IF(SUM($Z10:AB10)>35,(MIN(SUM($Z10:AB10),43)-35-SUM($Z12:AA12)),0),0) -> 0 | AC12: =IF(AC5<>"Dim",IF(SUM($Z10:AC10)>35,(MIN(SUM($Z10:AC10),43)-35-SUM($Z12:AB12)),0),0) -> 0 | AF12: =IF(AF5<>"Dim",IF(SUM($Z10:AF10)>35,(MIN(SUM($Z10:AF10),43)-35-SUM($Z12:AE12)),0),0) -> 0 | AG12: =SUM(Z12:AF12) -> 0 | AH12: =IF(AH5<>"Dim",IF(AH10>35,(MIN(AH10,43)-35),0),0) -> 0 | AI12: =IF(AI5<>"Dim",IF(SUM($AH10:AI10)>35,(MIN(SUM($AH10:AI10),43)-35-SUM($AH12:AH12)),0),0) -> 0 | AJ12: =IF(AJ5<>"Dim",IF(SUM($AH10:AJ10)>35,(MIN(SUM($AH10:AJ10),43)-35-SUM($AH12:AI12)),0),0) -> 0 | AK12: =IF(AK5<>"Dim",IF(SUM($AH10:AK10)>35,(MIN(SUM($AH10:AK10),43)-35-SUM($AH12:AJ12)),0),0) -> 0 | AL12: =IF(AL5<>"Dim",IF(SUM($AH10:AL10)>35,(MIN(SUM($AH10:AL10),43)-35-SUM($AH12:AK12)),0),0) -> 0 | AM12: =IF(AM5<>"Dim",IF(SUM($AH10:AM10)>35,(MIN(SUM($AH10:AM10),43)-35-SUM($AH12:AL12)),0),0) -> 0 | AN12: =IF(AN5<>"Dim",IF(SUM($AH10:AN10)>35,(MIN(SUM($AH10:AN10),43)-35-SUM($AH12:AM12)),0),0) -> 0 | AO12: =SUM(AH12:AN12) -> 0 | AP12: =IF(AP5<>"Dim",IF(AP10>35,(MIN(AP10,43)-35),0),0) -> 0 | AQ12: =IF(AQ5<>"Dim",IF(SUM($AP10:AQ10)>35,(MIN(SUM($AP10:AQ10),43)-35-SUM($AP12:AP12)),0),0) -> 0 | AR12: =SUM(AP12:AQ12) -> 0 | AS12: =I12+Q12+Y12+AG12+AO12+AR12 -> 2
A13: HS 50% | B13: =IF(B5<>"Dim",IF(B10>43,(MIN(B10,48)-43),0),0) -> 0 | C13: =IF(C5<>"Dim",IF(SUM($B10:C10)>43,(MIN(SUM($B10:C10),48)-43-SUM($B13:B13)),0),0) -> 0 | D13: =IF(D5<>"Dim",IF(SUM($B10:D10)>43,(MIN(SUM($B10:D10),48)-43-SUM($B13:C13)),0),0) -> 0 | E13: =IF(E5<>"Dim",IF(SUM($B10:E10)>43,(MIN(SUM($B10:E10),48)-43-SUM($B13:D13)),0),0) -> 0 | F13: =IF(F5<>"Dim",IF(SUM($B10:F10)>43,(MIN(SUM($B10:F10),48)-43-SUM($B13:E13)),0),0) -> 0 | G13: =IF(G5<>"Dim",IF(SUM($B10:G10)>43,(MIN(SUM($B10:G10),48)-43-SUM($B13:F13)),0),0) -> 0 | H13: =IF(H5<>"Dim",IF(SUM($B10:H10)>43,(MIN(SUM($B10:H10),48)-43-SUM($B13:G13)),0),0) -> 0 | I13: =SUM(B13:H13) -> 0 | J13: =IF(J5<>"Dim",IF(J10>43,(MIN(J10,48)-43),0),0) -> 0 | K13: =IF(K5<>"Dim",IF(SUM($J10:K10)>43,(MIN(SUM($J10:K10),48)-43-SUM($J13:J13)),0),0) -> 0 | L13: =IF(L5<>"Dim",IF(SUM($J10:L10)>43,(MIN(SUM($J10:L10),48)-43-SUM($J13:K13)),0),0) -> 0 | M13: =IF(M5<>"Dim",IF(SUM($J10:M10)>43,(MIN(SUM($J10:M10),48)-43-SUM($J13:L13)),0),0) -> 0 | N13: =IF(N5<>"Dim",IF(SUM($J10:N10)>43,(MIN(SUM($J10:N10),48)-43-SUM($J13:M13)),0),0) -> 0 | O13: =IF(O5<>"Dim",IF(SUM($J10:O10)>43,(MIN(SUM($J10:O10),48)-43-SUM($J13:N13)),0),0) -> 0 | P13: =IF(P5<>"Dim",IF(SUM($J10:P10)>43,(MIN(SUM($J10:P10),48)-43-SUM($J13:O13)),0),0) -> 0 | Q13: =SUM(J13:P13) -> 0 | R13: =IF(R5<>"Dim",IF(R10>43,(MIN(R10,48)-43),0),0) -> 0 | S13: =IF(S5<>"Dim",IF(SUM($R10:S10)>43,(MIN(SUM($R10:S10),48)-43-SUM($R13:R13)),0),0) -> 0 | T13: =IF(T5<>"Dim",IF(SUM($R10:T10)>43,(MIN(SUM($R10:T10),48)-43-SUM($R13:S13)),0),0) -> 0 | U13: =IF(U5<>"Dim",IF(SUM($R10:U10)>43,(MIN(SUM($R10:U10),48)-43-SUM($R13:T13)),0),0) -> 0 | V13: =IF(V5<>"Dim",IF(SUM($R10:V10)>43,(MIN(SUM($R10:V10),48)-43-SUM($R13:U13)),0),0) -> 0 | W13: =IF(W5<>"Dim",IF(SUM($R10:W10)>43,(MIN(SUM($R10:W10),48)-43-SUM($R13:V13)),0),0) -> 0 | X13: =IF(X5<>"Dim",IF(SUM($R10:X10)>43,(MIN(SUM($R10:X10),48)-43-SUM($R13:W13)),0),0) -> 0 | Y13: =SUM(R13:X13) -> 0 | Z13: =IF(Z5<>"Dim",IF(Z10>43,(MIN(Z10,48)-43),0),0) -> 0 | AA13: =IF(AA5<>"Dim",IF(SUM($Z10:AA10)>43,(MIN(SUM($Z10:AA10),48)-43-SUM($Z13:Z13)),0),0) -> 0 | AB13: =IF(AB5<>"Dim",IF(SUM($Z10:AB10)>43,(MIN(SUM($Z10:AB10),48)-43-SUM($Z13:AA13)),0),0) -> 0 | AC13: =IF(AC5<>"Dim",IF(SUM($Z10:AC10)>43,(MIN(SUM($Z10:AC10),48)-43-SUM($Z13:AB13)),0),0) -> 0 | AD13: =IF(AD5<>"Dim",IF(SUM($Z10:AD10)>43,(MIN(SUM($Z10:AD10),48)-43-SUM($Z13:AC13)),0),0) -> 0 | AE13: =IF(AE5<>"Dim",IF(SUM($Z10:AE10)>43,(MIN(SUM($Z10:AE10),48)-43-SUM($Z13:AD13)),0),0) -> 0 | AF13: =IF(AF5<>"Dim",IF(SUM($Z10:AF10)>43,(MIN(SUM($Z10:AF10),48)-43-SUM($Z13:AE13)),0),0) -> 0 | AG13: =SUM(Z13:AF13) -> 0 | AH13: =IF(AH5<>"Dim",IF(AH10>43,(MIN(AH10,48)-43),0),0) -> 0 | AI13: =IF(AI5<>"Dim",IF(SUM($AH10:AI10)>43,(MIN(SUM($AH10:AI10),48)-43-SUM($AH13:AH13)),0),0) -> 0 | AJ13: =IF(AJ5<>"Dim",IF(SUM($AH10:AJ10)>43,(MIN(SUM($AH10:AJ10),48)-43-SUM($AH13:AI13)),0),0) -> 0 | AK13: =IF(AK5<>"Dim",IF(SUM($AH10:AK10)>43,(MIN(SUM($AH10:AK10),48)-43-SUM($AH13:AJ13)),0),0) -> 0 | AL13: =IF(AL5<>"Dim",IF(SUM($AH10:AL10)>43,(MIN(SUM($AH10:AL10),48)-43-SUM($AH13:AK13)),0),0) -> 0 | AM13: =IF(AM5<>"Dim",IF(SUM($AH10:AM10)>43,(MIN(SUM($AH10:AM10),48)-43-SUM($AH13:AL13)),0),0) -> 0 | AN13: =IF(AN5<>"Dim",IF(SUM($AH10:AN10)>43,(MIN(SUM($AH10:AN10),48)-43-SUM($AH13:AM13)),0),0) -> 0 | AO13: =SUM(AH13:AN13) -> 0 | AP13: =IF(AP5<>"Dim",IF(AP10>43,(MIN(AP10,48)-43),0),0) -> 0 | AQ13: =IF(AQ5<>"Dim",IF(SUM($AP10:AQ10)>43,(MIN(SUM($AP10:AQ10),48)-43-SUM($AP13:AP13)),0),0) -> 0 | AR13: =SUM(AP13:AQ13) -> 0 | AS13: =I13+Q13+Y13+AG13+AO13+AR13 -> 0
A14: HS 200% | B14: =IF(B5="Dim",B10,IF(B20="ferie",B10,0)) -> 0 | C14: =IF(C5="Dim",C10,IF(C20="ferie",C10,0)) -> 0 | D14: =IF(D5="Dim",D10,IF(D20="ferie",D10,0)) -> 0 | E14: =IF(E5="Dim",E10,IF(E20="ferie",E10,0)) -> 0 | F14: =IF(F5="Dim",F10,IF(F20="ferie",F10,0)) -> 0 | G14: =IF(G5="Dim",G10,IF(G20="ferie",G10,0)) -> 0 | H14: =IF(H5="Dim",H10,IF(H20="ferie",H10,0)) -> 0 | I14: =SUM(B14:H14) -> 0 | J14: =IF(J5="Dim",J10,IF(J20="ferie",J10,0)) -> 0 | K14: =IF(K5="Dim",K10,IF(K20="ferie",K10,0)) -> 0 | L14: =IF(L5="Dim",L10,IF(L20="ferie",L10,0)) -> 0 | M14: =IF(M5="Dim",M10,IF(M20="ferie",M10,0)) -> 0 | N14: =IF(N5="Dim",N10,IF(N20="ferie",N10,0)) -> 0 | O14: =IF(O5="Dim",O10,IF(O20="ferie",O10,0)) -> 0 | P14: =IF(P5="Dim",P10,IF(P20="ferie",P10,0)) -> 0 | Q14: =SUM(J14:P14) -> 0 | R14: =IF(R5="Dim",R10,IF(R20="ferie",R10,0)) -> 0 | S14: =IF(S5="Dim",S10,IF(S20="ferie",S10,0)) -> 0 | T14: =IF(T5="Dim",T10,IF(T20="ferie",T10,0)) -> 0 | U14: =IF(U5="Dim",U10,IF(U20="ferie",U10,0)) -> 0 | V14: =IF(V5="Dim",V10,IF(V20="ferie",V10,0)) -> 0 | W14: =IF(W5="Dim",W10,IF(W20="ferie",W10,0)) -> 0 | X14: =IF(X5="Dim",X10,IF(X20="ferie",X10,0)) -> 0 | Y14: =SUM(R14:X14) -> 0 | Z14: =IF(Z5="Dim",Z10,IF(Z20="ferie",Z10,0)) -> 0 | AA14: =IF(AA5="Dim",AA10,IF(AA20="ferie",AA10,0)) -> 0 | AB14: =IF(AB5="Dim",AB10,IF(AB20="ferie",AB10,0)) -> 0 | AC14: =IF(AC5="Dim",AC10,IF(AC20="ferie",AC10,0)) -> 0 | AD14: =IF(AD5="Dim",AD10,IF(AD20="ferie",AD10,0)) -> 0 | AE14: =IF(AE5="Dim",AE10,IF(AE20="ferie",AE10,0)) -> 0 | AF14: =IF(AF5="Dim",AF10,IF(AF20="ferie",AF10,0)) -> 0 | AG14: =SUM(Z14:AF14) -> 0 | AH14: =IF(AH5="Dim",AH10,IF(AH20="ferie",AH10,0)) -> 0 | AI14: =IF(AI5="Dim",AI10,IF(AI20="ferie",AI10,0)) -> 0 | AJ14: =IF(AJ5="Dim",AJ10,IF(AJ20="ferie",AJ10,0)) -> 0 | AK14: =IF(AK5="Dim",AK10,IF(AK20="ferie",AK10,0)) -> 0 | AL14: =IF(AL5="Dim",AL10,IF(AL20="ferie",AL10,0)) -> 0 | AM14: =IF(AM5="Dim",AM10,IF(AM20="ferie",AM10,0)) -> 0 | AN14: =IF(AN5="Dim",AN10,IF(AN20="ferie",AN10,0)) -> 0 | AO14: =SUM(AH14:AN14) -> 0 | AP14: =IF(AP5="Dim",AP10,IF(AP20="ferie",AP10,0)) -> 0 | AQ14: =IF(AQ5="Dim",AQ10,IF(AQ20="ferie",AQ10,0)) -> 0 | AR14: =SUM(AP14:AQ14) -> 0 | AS14: =I14+Q14+Y14+AG14+AO14+AR14 -> 0
A15: HR + | I15: =SUM(B15:H15) -> 0 | Q15: =SUM(J15:P15) -> 0 | Y15: =SUM(R15:X15) -> 0 | AG15: =SUM(Z15:AF15) -> 0 | AO15: =SUM(AH15:AN15) -> 0 | AR15: =SUM(AP15:AQ15) -> 0 | AS15: =I15+Q15+Y15+AG15+AO15+AR15 -> 0
A16: HR - | I16: =SUM(B16:H16) -> 0 | Q16: =SUM(J16:P16) -> 0 | Y16: =SUM(R16:X16) -> 0 | AG16: =SUM(Z16:AF16) -> 0 | AL16: 8 | AO16: =SUM(AH16:AN16) -> 8 | AR16: =SUM(AP16:AQ16) -> 0 | AS16: =I16+Q16+Y16+AG16+AO16+AR16 -> 8
A17: CP - | I17: =SUM(B17:H17) -> 0 | Q17: =SUM(J17:P17) -> 0 | Y17: =SUM(R17:X17) -> 0 | AG17: =SUM(Z17:AF17) -> 0 | AO17: =SUM(AH17:AN17) -> 0 | AR17: =SUM(AP17:AQ17) -> 0 | AS17: =I17+Q17+Y17+AG17+AO17+AR17 -> 0
A18: RC - | I18: =SUM(B18:H18) -> 0 | Q18: =SUM(J18:P18) -> 0 | Y18: =SUM(R18:X18) -> 0 | AG18: =SUM(Z18:AF18) -> 0 | AO18: =SUM(AH18:AN18) -> 0 | AR18: =SUM(AP18:AQ18) -> 0 | AS18: =I18+Q18+Y18+AG18+AO18+AR18 -> 0
A19: RC nuit | B19: =IF(B7="nuit",B10*0.02,0) -> 0 | C19: =IF(C7="nuit",C10*0.02,0) -> 0 | D19: =IF(D7="nuit",D10*0.02,0) -> 0 | E19: =IF(E7="nuit",E10*0.02,0) -> 0 | F19: =IF(F7="nuit",F10*0.02,0) -> 0 | G19: =IF(G7="nuit",G10*0.02,0) -> 0 | H19: =IF(H7="nuit",H10*0.02,0) -> 0 | I19: =SUM(B19:H19) -> 0 | J19: =IF(J7="nuit",J10*0.02,0) -> 0 | K19: =IF(K7="nuit",K10*0.02,0) -> 0 | L19: =IF(L7="nuit",L10*0.02,0) -> 0 | M19: =IF(M7="nuit",M10*0.02,0) -> 0 | N19: =IF(N7="nuit",N10*0.02,0) -> 0 | O19: =IF(O7="nuit",O10*0.02,0) -> 0 | P19: =IF(P7="nuit",P10*0.02,0) -> 0 | Q19: =SUM(J19:P19) -> 0 | R19: =IF(R7="nuit",R10*0.02,0) -> 0 | S19: =IF(S7="nuit",S10*0.02,0) -> 0 | T19: =IF(T7="nuit",T10*0.02,0) -> 0 | U19: =IF(U7="nuit",U10*0.02,0) -> 0 | V19: =IF(V7="nuit",V10*0.02,0) -> 0 | W19: =IF(W7="nuit",W10*0.02,0) -> 0 | X19: =IF(X7="nuit",X10*0.02,0) -> 0 | Y19: =SUM(R19:X19) -> 0 | Z19: =IF(Z7="nuit",Z10*0.02,0) -> 0.16 | AA19: =IF(AA7="nuit",AA10*0.02,0) -> 0.16 | AB19: =IF(AB7="nuit",AB10*0.02,0) -> 0.16 | AC19: =IF(AC7="nuit",AC10*0.02,0) -> 0.16 | AD19: =IF(AD7="nuit",AD10*0.02,0) -> 0.16 | AE19: =IF(AE7="nuit",AE10*0.02,0) -> 0 | AF19: =IF(AF7="nuit",AF10*0.02,0) -> 0 | AG19: =SUM(Z19:AF19) -> 0.8 | AH19: =IF(AH7="nuit",AH10*0.02,0) -> 0 | AI19: =IF(AI7="nuit",AI10*0.02,0) -> 0 | AJ19: =IF(AJ7="nuit",AJ10*0.02,0) -> 0 | AK19: =IF(AK7="nuit",AK10*0.02,0) -> 0 | AL19: =IF(AL7="nuit",AL10*0.02,0) -> 0 | AM19: =IF(AM7="nuit",AM10*0.02,0) -> 0 | AN19: =IF(AN7="nuit",AN10*0.02,0) -> 0 | AO19: =SUM(AH19:AN19) -> 0 | AP19: =IF(AP7="nuit",AP10*0.02,0) -> 0 | AQ19: =IF(AQ7="nuit",AQ10*0.02,0) -> 0 | AR19: =SUM(AP19:AQ19) -> 0 | AS19: =I19+Q19+Y19+AG19+AO19+AR19 -> 0.8
A20: Note
B22: FÉVRIER | G22: =Année_Calendaire -> 2016 | R22: FÉVRIER | W22: =Année_Calendaire -> 2016 | AH22: FÉVRIER | AM22: =Année_Calendaire -> 2016
B23: Lun | C23: Mar | D23: Mer | E23: Jeu | F23: Ven | G23: Sam | H23: Dim | I23: Cumul | J23: Lun | K23: Mar | L23: Mer | M23: Jeu | N23: Ven | O23: Sam | P23: Dim | Q23: Cumul | R23: Lun | S23: Mar | T23: Mer | U23: Jeu | V23: Ven | W23: Sam | X23: Dim | Y23: Cumul | Z23: Lun | AA23: Mar | AB23: Mer | AC23: Jeu | AD23: Ven | AE23: Sam | AF23: Dim | AG23: Cumul | AH23: Lun | AI23: Mar | AJ23: Mer | AK23: Jeu | AL23: Ven | AM23: Sam | AN23: Dim | AO23: Cumul | AP23: Lun | AQ23: Mar | AR23: Cumul | AS23: Cumul total | AT23: =AS30+AS31+AS32 -> 5 | AU23: =AT23+AU5 -> 7
B24: =IF(DAY(Fév_Dim1)=1,"",IF(AND(YEAR(Fév_Dim1+1)=Année_Calendaire,MONTH(Fév_Dim1+1)=2),Fév_Dim1+1,"")) -> 42401 | C24: =IF(DAY(Fév_Dim1)=1,"",IF(AND(YEAR(Fév_Dim1+2)=Année_Calendaire,MONTH(Fév_Dim1+2)=2),Fév_Dim1+2,"")) -> 42402 | D24: =IF(DAY(Fév_Dim1)=1,"",IF(AND(YEAR(Fév_Dim1+3)=Année_Calendaire,MONTH(Fév_Dim1+3)=2),Fév_Dim1+3,"")) -> 42403 | E24: =IF(DAY(Fév_Dim1)=1,"",IF(AND(YEAR(Fév_Dim1+4)=Année_Calendaire,MONTH(Fév_Dim1+4)=2),Fév_Dim1+4,"")) -> 42404 | F24: =IF(DAY(Fév_Dim1)=1,"",IF(AND(YEAR(Fév_Dim1+5)=Année_Calendaire,MONTH(Fév_Dim1+5)=2),Fév_Dim1+5,"")) -> 42405 | G24: =IF(DAY(Fév_Dim1)=1,"",IF(AND(YEAR(Fév_Dim1+6)=Année_Calendaire,MONTH(Fév_Dim1+6)=2),Fév_Dim1+6,"")) -> 42406 | H24: =IF(DAY(Fév_Dim1)=1,IF(AND(YEAR(Fév_Dim1)=Année_Calendaire,MONTH(Fév_Dim1)=2),Fév_Dim1,""),IF(AND(YEAR(Fév_Dim1+7)=Année_Calendaire,MONTH(Fév_Dim1+7)=2),Fév_Dim1+7,"")) -> 42407 | J24: =IF(DAY(Fév_Dim1)=1,IF(AND(YEAR(Fév_Dim1+1)=Année_Calendaire,MONTH(Fév_Dim1+1)=2),Fév_Dim1+1,""),IF(AND(YEAR(Fév_Dim1+8)=Année_Calendaire,MONTH(Fév_Dim1+8)=2),Fév_Dim1+8,"")) -> 42408 | K24: =IF(DAY(Fév_Dim1)=1,IF(AND(YEAR(Fév_Dim1+2)=Année_Calendaire,MONTH(Fév_Dim1+2)=2),Fév_Dim1+2,""),IF(AND(YEAR(Fév_Dim1+9)=Année_Calendaire,MONTH(Fév_Dim1+9)=2),Fév_Dim1+9,"")) -> 42409 | L24: =IF(DAY(Fév_Dim1)=1,IF(AND(YEAR(Fév_Dim1+3)=Année_Calendaire,MONTH(Fév_Dim1+3)=2),Fév_Dim1+3,""),IF(AND(YEAR(Fév_Dim1+10)=Année_Calendaire,MONTH(Fév_Dim1+10)=2),Fév_Dim1+10,"")) -> 42410 | M24: =IF(DAY(Fév_Dim1)=1,IF(AND(YEAR(Fév_Dim1+4)=Année_Calendaire,MONTH(Fév_Dim1+4)=2),Fév_Dim1+4,""),IF(AND(YEAR(Fév_Dim1+11)=Année_Calendaire,MONTH(Fév_Dim1+11)=2),Fév_Dim1+11,"")) -> 42411 | N24: =IF(DAY(Fév_Dim1)=1,IF(AND(YEAR(Fév_Dim1+5)=Année_Calendaire,MONTH(Fév_Dim1+5)=2),Fév_Dim1+5,""),IF(AND(YEAR(Fév_Dim1+12)=Année_Calendaire,MONTH(Fév_Dim1+12)=2),Fév_Dim1+12,"")) -> 42412 | O24: =IF(DAY(Fév_Dim1)=1,IF(AND(YEAR(Fév_Dim1+6)=Année_Calendaire,MONTH(Fév_Dim1+6)=2),Fév_Dim1+6,""),IF(AND(YEAR(Fév_Dim1+13)=Année_Calendaire,MONTH(Fév_Dim1+13)=2),Fév_Dim1+13,"")) -> 42413 | P24: =IF(DAY(Fév_Dim1)=1,IF(AND(YEAR(Fév_Dim1+7)=Année_Calendaire,MONTH(Fév_Dim1+7)=2),Fév_Dim1+7,""),IF(AND(YEAR(Fév_Dim1+14)=Année_Calendaire,MONTH(Fév_Dim1+14)=2),Fév_Dim1+14,"")) -> 42414 | R24: =IF(DAY(Fév_Dim1)=1,IF(AND(YEAR(Fév_Dim1+8)=Année_Calendaire,MONTH(Fév_Dim1+8)=2),Fév_Dim1+8,""),IF(AND(YEAR(Fév_Dim1+15)=Année_Calendaire,MONTH(Fév_Dim1+15)=2),Fév_Dim1+15,"")) -> 42415 | S24: =IF(DAY(Fév_Dim1)=1,IF(AND(YEAR(Fév_Dim1+9)=Année_Calendaire,MONTH(Fév_Dim1+9)=2),Fév_Dim1+9,""),IF(AND(YEAR(Fév_Dim1+16)=Année_Calendaire,MONTH(Fév_Dim1+16)=2),Fév_Dim1+16,"")) -> 42416 | T24: =IF(DAY(Fév_Dim1)=1,IF(AND(YEAR(Fév_Dim1+10)=Année_Calendaire,MONTH(Fév_Dim1+10)=2),Fév_Dim1+10,""),IF(AND(YEAR(Fév_Dim1+17)=Année_Calendaire,MONTH(Fév_Dim1+17)=2),Fév_Dim1+17,"")) -> 42417 | U24: =IF(DAY(Fév_Dim1)=1,IF(AND(YEAR(Fév_Dim1+11)=Année_Calendaire,MONTH(Fév_Dim1+11)=2),Fév_Dim1+11,""),IF(AND(YEAR(Fév_Dim1+18)=Année_Calendaire,MONTH(Fév_Dim1+18)=2),Fév_Dim1+18,"")) -> 42418 | V24: =IF(DAY(Fév_Dim1)=1,IF(AND(YEAR(Fév_Dim1+12)=Année_Calendaire,MONTH(Fév_Dim1+12)=2),Fév_Dim1+12,""),IF(AND(YEAR(Fév_Dim1+19)=Année_Calendaire,MONTH(Fév_Dim1+19)=2),Fév_Dim1+19,"")) -> 42419 | W24: =IF(DAY(Fév_Dim1)=1,IF(AND(YEAR(Fév_Dim1+13)=Année_Calendaire,MONTH(Fév_Dim1+13)=2),Fév_Dim1+13,""),IF(AND(YEAR(Fév_Dim1+20)=Année_Calendaire,MONTH(Fév_Dim1+20)=2),Fév_Dim1+20,"")) -> 42420 | X24: =IF(DAY(Fév_Dim1)=1,IF(AND(YEAR(Fév_Dim1+14)=Année_Calendaire,MONTH(Fév_Dim1+14)=2),Fév_Dim1+14,""),IF(AND(YEAR(Fév_Dim1+21)=Année_Calendaire,MONTH(Fév_Dim1+21)=2),Fév_Dim1+21,"")) -> 42421 | Z24: =IF(DAY(Fév_Dim1)=1,IF(AND(YEAR(Fév_Dim1+15)=Année_Calendaire,MONTH(Fév_Dim1+15)=2),Fév_Dim1+15,""),IF(AND(YEAR(Fév_Dim1+22)=Année_Calendaire,MONTH(Fév_Dim1+22)=2),Fév_Dim1+22,"")) -> 42422 | AA24: =IF(DAY(Fév_Dim1)=1,IF(AND(YEAR(Fév_Dim1+16)=Année_Calendaire,MONTH(Fév_Dim1+16)=2),Fév_Dim1+16,""),IF(AND(YEAR(Fév_Dim1+23)=Année_Calendaire,MONTH(Fév_Dim1+23)=2),Fév_Dim1+23,"")) -> 42423 | AB24: =IF(DAY(Fév_Dim1)=1,IF(AND(YEAR(Fév_Dim1+17)=Année_Calendaire,MONTH(Fév_Dim1+17)=2),Fév_Dim1+17,""),IF(AND(YEAR(Fév_Dim1+24)=Année_Calendaire,MONTH(Fév_Dim1+24)=2),Fév_Dim1+24,"")) -> 42424 | AC24: =IF(DAY(Fév_Dim1)=1,IF(AND(YEAR(Fév_Dim1+18)=Année_Calendaire,MONTH(Fév_Dim1+18)=2),Fév_Dim1+18,""),IF(AND(YEAR(Fév_Dim1+25)=Année_Calendaire,MONTH(Fév_Dim1+25)=2),Fév_Dim1+25,"")) -> 42425 | AD24: =IF(DAY(Fév_Dim1)=1,IF(AND(YEAR(Fév_Dim1+19)=Année_Calendaire,MONTH(Fév_Dim1+19)=2),Fév_Dim1+19,""),IF(AND(YEAR(Fév_Dim1+26)=Année_Calendaire,MONTH(Fév_Dim1+26)=2),Fév_Dim1+26,"")) -> 42426 | AE24: =IF(DAY(Fév_Dim1)=1,IF(AND(YEAR(Fév_Dim1+20)=Année_Calendaire,MONTH(Fév_Dim1+20)=2),Fév_Dim1+20,""),IF(AND(YEAR(Fév_Dim1+27)=Année_Calendaire,MONTH(Fév_Dim1+27)=2),Fév_Dim1+27,"")) -> 42427 | AF24: =IF(DAY(Fév_Dim1)=1,IF(AND(YEAR(Fév_Dim1+21)=Année_Calendaire,MONTH(Fév_Dim1+21)=2),Fév_Dim1+21,""),IF(AND(YEAR(Fév_Dim1+28)=Année_Calendaire,MONTH(Fév_Dim1+28)=2),Fév_Dim1+28,"")) -> 42428 | AH24: =IF(DAY(Fév_Dim1)=1,IF(AND(YEAR(Fév_Dim1+22)=Année_Calendaire,MONTH(Fév_Dim1+22)=2),Fév_Dim1+22,""),IF(AND(YEAR(Fév_Dim1+29)=Année_Calendaire,MONTH(Fév_Dim1+29)=2),Fév_Dim1+29,"")) -> 42429 | AI24: =IF(DAY(Fév_Dim1)=1,IF(AND(YEAR(Fév_Dim1+23)=Année_Calendaire,MONTH(Fév_Dim1+23)=2),Fév_Dim1+23,""),IF(AND(YEAR(Fév_Dim1+30)=Année_Calendaire,MONTH(Fév_Dim1+30)=2),Fév_Dim1+30,"")) | AJ24: =IF(DAY(Fév_Dim1)=1,IF(AND(YEAR(Fév_Dim1+24)=Année_Calendaire,MONTH(Fév_Dim1+24)=2),Fév_Dim1+24,""),IF(AND(YEAR(Fév_Dim1+31)=Année_Calendaire,MONTH(Fév_Dim1+31)=2),Fév_Dim1+31,"")) | AK24: =IF(DAY(Fév_Dim1)=1,IF(AND(YEAR(Fév_Dim1+25)=Année_Calendaire,MONTH(Fév_Dim1+25)=2),Fév_Dim1+25,""),IF(AND(YEAR(Fév_Dim1+32)=Année_Calendaire,MONTH(Fév_Dim1+32)=2),Fév_Dim1+32,"")) | AL24: =IF(DAY(Fév_Dim1)=1,IF(AND(YEAR(Fév_Dim1+26)=Année_Calendaire,MONTH(Fév_Dim1+26)=2),Fév_Dim1+26,""),IF(AND(YEAR(Fév_Dim1+33)=Année_Calendaire,MONTH(Fév_Dim1+33)=2),Fév_Dim1+33,"")) | AM24: =IF(DAY(Fév_Dim1)=1,IF(AND(YEAR(Fév_Dim1+27)=Année_Calendaire,MONTH(Fév_Dim1+27)=2),Fév_Dim1+27,""),IF(AND(YEAR(Fév_Dim1+34)=Année_Calendaire,MONTH(Fév_Dim1+34)=2),Fév_Dim1+34,"")) | AN24: =IF(DAY(Fév_Dim1)=1,IF(AND(YEAR(Fév_Dim1+28)=Année_Calendaire,MONTH(Fév_Dim1+28)=2),Fév_Dim1+28,""),IF(AND(YEAR(Fév_Dim1+35)=Année_Calendaire,MONTH(Fév_Dim1+35)=2),Fév_Dim1+35,"")) | AP24: =IF(DAY(Fév_Dim1)=1,IF(AND(YEAR(Fév_Dim1+29)=Année_Calendaire,MONTH(Fév_Dim1+29)=2),Fév_Dim1+29,""),IF(AND(YEAR(Fév_Dim1+36)=Année_Calendaire,MONTH(Fév_Dim1+36)=2),Fév_Dim1+36,"")) | AQ24: =IF(DAY(Fév_Dim1)=1,IF(AND(YEAR(Fév_Dim1+30)=Année_Calendaire,MONTH(Fév_Dim1+30)=2),Fév_Dim1+30,""),IF(AND(YEAR(Fév_Dim1+37)=Année_Calendaire,MONTH(Fév_Dim1+37)=2),Fév_Dim1+37,""))
A25: Equipe | B25: am | C25: am | D25: am | E25: am | F25: am | J25: matin | K25: matin | L25: matin | M25: matin | N25: matin | Z25: journee | AC25: matin | AD25: matin | AH25: am
A26: Ticket resto | B26: =IF(B25="Matin",1,IF(B25="AM",1,0)) -> 1 | C26: =IF(C25="Matin",1,IF(C25="AM",1,0)) -> 1 | D26: =IF(D25="Matin",1,IF(D25="AM",1,0)) -> 1 | E26: =IF(E25="Matin",1,IF(E25="AM",1,0)) -> 1 | F26: =IF(F25="Matin",1,IF(F25="AM",1,0)) -> 1 | G26: =IF(G25="Matin",1,IF(G25="AM",1,0)) -> 0 | H26: =IF(H25="Matin",1,IF(H25="AM",1,0)) -> 0 | I26: =SUM(B26:H26) -> 5 | J26: =IF(J25="Matin",1,IF(J25="AM",1,0)) -> 1 | K26: =IF(K25="Matin",1,IF(K25="AM",1,0)) -> 1 | L26: =IF(L25="Matin",1,IF(L25="AM",1,0)) -> 1 | M26: =IF(M25="Matin",1,IF(M25="AM",1,0)) -> 1 | N26: =IF(N25="Matin",1,IF(N25="AM",1,0)) -> 1 | O26: =IF(O25="Matin",1,IF(O25="AM",1,0)) -> 0 | P26: =IF(P25="Matin",1,IF(P25="AM",1,0)) -> 0 | Q26: =SUM(J26:P26) -> 5 | R26: =IF(R25="Matin",1,IF(R25="AM",1,0)) -> 0 | S26: =IF(S25="Matin",1,IF(S25="AM",1,0)) -> 0 | T26: =IF(T25="Matin",1,IF(T25="AM",1,0)) -> 0 | U26: =IF(U25="Matin",1,IF(U25="AM",1,0)) -> 0 | V26: =IF(V25="Matin",1,IF(V25="AM",1,0)) -> 0 | W26: =IF(W25="Matin",1,IF(W25="AM",1,0)) -> 0 | X26: =IF(X25="Matin",1,IF(X25="AM",1,0)) -> 0 | Y26: =SUM(R26:X26) -> 0 | Z26: =IF(Z25="Matin",1,IF(Z25="AM",1,0)) -> 0 | AA26: =IF(AA25="Matin",1,IF(AA25="AM",1,0)) -> 0 | AB26: =IF(AB25="Matin",1,IF(AB25="AM",1,0)) -> 0 | AC26: =IF(AC25="Matin",1,IF(AC25="AM",1,0)) -> 1 | AD26: =IF(AD25="Matin",1,IF(AD25="AM",1,0)) -> 1 | AE26: =IF(AE25="Matin",1,IF(AE25="AM",1,0)) -> 0 | AF26: =IF(AF25="Matin",1,IF(AF25="AM",1,0)) -> 0 | AG26: =SUM(Z26:AF26) -> 2 | AH26: =IF(AH25="Matin",1,IF(AH25="AM",1,0)) -> 1 | AI26: =IF(AI25="Matin",1,IF(AI25="AM",1,0)) -> 0 | AJ26: =IF(AJ25="Matin",1,IF(AJ25="AM",1,0)) -> 0 | AK26: =IF(AK25="Matin",1,IF(AK25="AM",1,0)) -> 0 | AL26: =IF(AL25="Matin",1,IF(AL25="AM",1,0)) -> 0 | AM26: =IF(AM25="Matin",1,IF(AM25="AM",1,0)) -> 0 | AN26: =IF(AN25="Matin",1,IF(AN25="AM",1,0)) -> 0 | AO26: =SUM(AH26:AN26) -> 1 | AP26: =IF(AP25="Matin",1,IF(AP25="AM",1,0)) -> 0 | AQ26: =IF(AQ25="Matin",1,IF(AQ25="AM",1,0)) -> 0 | AR26: =SUM(AP26:AQ26) -> 0 | AS26: =I26+Q26+Y26+AG26+AO26+AR26 -> 13
A27: Travailler | B27: =IF(B28>=1,1,0) -> 1 | C27: =IF(C28>=1,1,0) -> 1 | D27: =IF(D28>=1,1,0) -> 1 | E27: =IF(E28>=1,1,0) -> 1 | F27: =IF(F28>=1,1,0) -> 1 | G27: =IF(G28>=1,1,0) -> 0 | H27: =IF(H28>=1,1,0) -> 0 | I27: =SUM(B27:H27) -> 5 | J27: =IF(J28>=1,1,0) -> 1 | K27: =IF(K28>=1,1,0) -> 1 | L27: =IF(L28>=1,1,0) -> 1 | M27: =IF(M28>=1,1,0) -> 1 | N27: =IF(N28>=1,1,0) -> 1 | O27: =IF(O28>=1,1,0) -> 0 | P27: =IF(P28>=1,1,0) -> 0 | Q27: =SUM(J27:P27) -> 5 | R27: =IF(R28>=1,1,0) -> 0 | S27: =IF(S28>=1,1,0) -> 0 | T27: =IF(T28>=1,1,0) -> 0 | U27: =IF(U28>=1,1,0) -> 0 | V27: =IF(V28>=1,1,0) -> 0 | W27: =IF(W28>=1,1,0) -> 0 | X27: =IF(X28>=1,1,0) -> 0 | Y27: =SUM(R27:X27) -> 0 | Z27: =IF(Z28>=1,1,0) -> 1 | AA27: =IF(AA28>=1,1,0) -> 0 | AB27: =IF(AB28>=1,1,0) -> 0 | AC27: =IF(AC28>=1,1,0) -> 1 | AD27: =IF(AD28>=1,1,0) -> 1 | AE27: =IF(AE28>=1,1,0) -> 0 | AF27: =IF(AF28>=1,1,0) -> 0 | AG27: =SUM(Z27:AF27) -> 3 | AH27: =IF(AH28>=1,1,0) -> 1 | AI27: =IF(AI28>=1,1,0) -> 0 | AJ27: =IF(AJ28>=1,1,0) -> 0 | AK27: =IF(AK28>=1,1,0) -> 0 | AL27: =IF(AL28>=1,1,0) -> 0 | AM27: =IF(AM28>=1,1,0) -> 0 | AN27: =IF(AN28>=1,1,0) -> 0 | AO27: =SUM(AH27:AN27) -> 1 | AP27: =IF(AP28>=1,1,0) -> 0 | AQ27: =IF(AQ28>=1,1,0) -> 0 | AR27: =SUM(AP27:AQ27) -> 0 | AS27: =I27+Q27+Y27+AG27+AO27+AR27 -> 14
A28: Nbr heure | B28: 8 | C28: 8 | D28: 8 | E28: 8 | F28: 8 | I28: =SUM(B28:H28) -> 40 | J28: 8 | K28: 8 | L28: 8 | M28: 8 | N28: 8 | Q28: =SUM(J28:P28) -> 40 | Y28: =SUM(R28:X28) -> 0 | Z28: 8 | AC28: 8 | AD28: 8 | AG28: =SUM(Z28:AF28) -> 24 | AH28: 8 | AO28: =SUM(AH28:AN28) -> 8 | AR28: =SUM(AP28:AQ28) -> 0 | AS28: =I28+Q28+Y28+AG28+AO28+AR28 -> 112
A29: Heure comp | B29: =IF(B23<>"Dim",IF(B28>32,MIN(B28,35)-32,0),0) -> 0 | C29: =IF(C23<>"Dim",IF(SUM($B28:C28)>32,MIN(SUM($B28:C28),35)-32-SUM($B29:B29),0),0) -> 0 | D29: =IF(D23<>"Dim",IF(SUM($B28:D28)>32,MIN(SUM($B28:D28),35)-32-SUM($B29:C29),0),0) -> 0 | E29: =IF(E23<>"Dim",IF(SUM($B28:E28)>32,MIN(SUM($B28:E28),35)-32-SUM($B29:D29),0),0) -> 0 | H29: =IF(H23<>"Dim",IF(SUM($B28:H28)>32,MIN(SUM($B28:H28),35)-32-SUM($B29:G29),0),0) -> 0 | I29: =SUM(B29:H29) -> 0 | J29: =IF(J23<>"Dim",IF(J28>32,MIN(J28,35)-32,0),0) -> 0 | K29: =IF(K23<>"Dim",IF(SUM($J28:K28)>32,MIN(SUM($J28:K28),35)-32-SUM($J29:J29),0),0) -> 0 | L29: =IF(L23<>"Dim",IF(SUM($J28:L28)>32,MIN(SUM($J28:L28),35)-32-SUM($J29:K29),0),0) -> 0 | M29: =IF(M23<>"Dim",IF(SUM($J28:M28)>32,MIN(SUM($J28:M28),35)-32-SUM($J29:L29),0),0) -> 0 | N29: =IF(N23<>"Dim",IF(SUM($J28:N28)>32,MIN(SUM($J28:N28),35)-32-SUM($J29:M29),0),0) -> 3 | O29: =IF(O23<>"Dim",IF(SUM($J28:O28)>32,MIN(SUM($J28:O28),35)-32-SUM($J29:N29),0),0) -> 0 | P29: =IF(P23<>"Dim",IF(SUM($J28:P28)>32,MIN(SUM($J28:P28),35)-32-SUM($J29:O29),0),0) -> 0 | Q29: =SUM(J29:P29) -> 3 | R29: =IF(R23<>"Dim",IF(R28>32,MIN(R28,35)-32,0),0) -> 0 | S29: =IF(S23<>"Dim",IF(SUM($R28:S28)>32,MIN(SUM($R28:S28),35)-32-SUM($R29:R29),0),0) -> 0 | T29: =IF(T23<>"Dim",IF(SUM($R28:T28)>32,MIN(SUM($R28:T28),35)-32-SUM($R29:S29),0),0) -> 0 | U29: =IF(U23<>"Dim",IF(SUM($R28:U28)>32,MIN(SUM($R28:U28),35)-32-SUM($R29:T29),0),0) -> 0 | V29: =IF(V23<>"Dim",IF(SUM($R28:V28)>32,MIN(SUM($R28:V28),35)-32-SUM($R29:U29),0),0) -> 0 | W29: =IF(W23<>"Dim",IF(SUM($R28:W28)>32,MIN(SUM($R28:W28),35)-32-SUM($R29:V29),0),0) -> 0 | X29: =IF(X23<>"Dim",IF(SUM($R28:X28)>32,MIN(SUM($R28:X28),35)-32-SUM($R29:W29),0),0) -> 0 | Y29: =SUM(R29:X29) -> 0 | Z29: =IF(Z23<>"Dim",IF(Z28>32,MIN(Z28,35)-32,0),0) -> 0 | AA29: =IF(AA23<>"Dim",IF(SUM($Z28:AA28)>32,MIN(SUM($Z28:AA28),35)-32-SUM($Z29:Z29),0),0) -> 0 | AB29: =IF(AB23<>"Dim",IF(SUM($Z28:AB28)>32,MIN(SUM($Z28:AB28),35)-32-SUM($Z29:AA29),0),0) -> 0 | AC29: =IF(AC23<>"Dim",IF(SUM($Z28:AC28)>32,MIN(SUM($Z28:AC28),35)-32-SUM($Z29:AB29),0),0) -> 0 | AD29: =IF(AD23<>"Dim",IF(SUM($Z28:AD28)>32,MIN(SUM($Z28:AD28),35)-32-SUM($Z29:AC29),0),0) -> 0 | AE29: =IF(AE23<>"Dim",IF(SUM($Z28:AE28)>32,MIN(SUM($Z28:AE28),35)-32-SUM($Z29:AD29),0),0) -> 0 | AF29: =IF(AF23<>"Dim",IF(SUM($Z28:AF28)>32,MIN(SUM($Z28:AF28),35)-32-SUM($Z29:AE29),0),0) -> 0 | AG29: =SUM(Z29:AF29) -> 0 | AH29: =IF(AH23<>"Dim",IF(AH28>32,MIN(AH28,35)-32,0),0) -> 0 | AI29: =IF(AI23<>"Dim",IF(SUM($AH28:AI28)>32,MIN(SUM($AH28:AI28),35)-32-SUM($AH29:AH29),0),0) -> 0 | AJ29: =IF(AJ23<>"Dim",IF(SUM($AH28:AJ28)>32,MIN(SUM($AH28:AJ28),35)-32-SUM($AH29:AI29),0),0) -> 0 | AK29: =IF(AK23<>"Dim",IF(SUM($AH28:AK28)>32,MIN(SUM($AH28:AK28),35)-32-SUM($AH29:AJ29),0),0) -> 0 | AL29: =IF(AL23<>"Dim",IF(SUM($AH28:AL28)>32,MIN(SUM($AH28:AL28),35)-32-SUM($AH29:AK29),0),0) -> 0 | AM29: =IF(AM23<>"Dim",IF(SUM($AH28:AM28)>32,MIN(SUM($AH28:AM28),35)-32-SUM($AH29:AL29),0),0) -> 0 | AN29: =IF(AN23<>"Dim",IF(SUM($AH28:AN28)>32,MIN(SUM($AH28:AN28),35)-32-SUM($AH29:AM29),0),0) -> 0 | AO29: =SUM(AH29:AN29) -> 0 | AP29: =IF(AP23<>"Dim",IF(AP28>32,MIN(AP28,35)-32,0),0) -> 0 | AQ29: =IF(AQ23<>"Dim",IF(SUM($AP28:AQ28)>32,MIN(SUM($AP28:AQ28),35)-32-SUM($AP29:AP29),0),0) -> 0 | AR29: =SUM(AP29:AQ29) -> 0 | AS29: =I29+Q29+Y29+AG29+AO29+AR29 -> 3
A30: HS 25% | B30: =IF(B23<>"Dim",IF(B28>35,(MIN(B28,43)-35),0),0) -> 0 | C30: =IF(C23<>"Dim",IF(SUM($B28:C28)>35,(MIN(SUM($B28:C28),43)-35-SUM($B30:B30)),0),0) -> 0 | D30: =IF(D23<>"Dim",IF(SUM($B28:D28)>35,(MIN(SUM($B28:D28),43)-35-SUM($B30:C30)),0),0) -> 0 | E30: =IF(E23<>"Dim",IF(SUM($B28:E28)>35,(MIN(SUM($B28:E28),43)-35-SUM($B30:D30)),0),0) -> 0 | H30: =IF(H23<>"Dim",IF(SUM($B28:H28)>35,(MIN(SUM($B28:H28),43)-35-SUM($B30:G30)),0),0) -> 0 | I30: =SUM(B30:H30) -> 0 | J30: =IF(J23<>"Dim",IF(J28>35,(MIN(J28,43)-35),0),0) -> 0 | K30: =IF(K23<>"Dim",IF(SUM($J28:K28)>35,(MIN(SUM($J28:K28),43)-35-SUM($J30:J30)),0),0) -> 0 | L30: =IF(L23<>"Dim",IF(SUM($J28:L28)>35,(MIN(SUM($J28:L28),43)-35-SUM($J30:K30)),0),0) -> 0 | M30: =IF(M23<>"Dim",IF(SUM($J28:M28)>35,(MIN(SUM($J28:M28),43)-35-SUM($J30:L30)),0),0) -> 0 | N30: =IF(N23<>"Dim",IF(SUM($J28:N28)>35,(MIN(SUM($J28:N28),43)-35-SUM($J30:M30)),0),0) -> 5 | O30: =IF(O23<>"Dim",IF(SUM($J28:O28)>35,(MIN(SUM($J28:O28),43)-35-SUM($J30:N30)),0),0) -> 0 | P30: =IF(P23<>"Dim",IF(SUM($J28:P28)>35,(MIN(SUM($J28:P28),43)-35-SUM($J30:O30)),0),0) -> 0 | Q30: =SUM(J30:P30) -> 5 | R30: =IF(R23<>"Dim",IF(R28>35,(MIN(R28,43)-35),0),0) -> 0 | S30: =IF(S23<>"Dim",IF(SUM($R28:S28)>35,(MIN(SUM($R28:S28),43)-35-SUM($R30:R30)),0),0) -> 0 | T30: =IF(T23<>"Dim",IF(SUM($R28:T28)>35,(MIN(SUM($R28:T28),43)-35-SUM($R30:S30)),0),0) -> 0 | U30: =IF(U23<>"Dim",IF(SUM($R28:U28)>35,(MIN(SUM($R28:U28),43)-35-SUM($R30:T30)),0),0) -> 0 | V30: =IF(V23<>"Dim",IF(SUM($R28:V28)>35,(MIN(SUM($R28:V28),43)-35-SUM($R30:U30)),0),0) -> 0 | W30: =IF(W23<>"Dim",IF(SUM($R28:W28)>35,(MIN(SUM($R28:W28),43)-35-SUM($R30:V30)),0),0) -> 0 | X30: =IF(X23<>"Dim",IF(SUM($R28:X28)>35,(MIN(SUM($R28:X28),43)-35-SUM($R30:W30)),0),0) -> 0 | Y30: =SUM(R30:X30) -> 0 | Z30: =IF(Z23<>"Dim",IF(Z28>35,(MIN(Z28,43)-35),0),0) -> 0 | AA30: =IF(AA23<>"Dim",IF(SUM($Z28:AA28)>35,(MIN(SUM($Z28:AA28),43)-35-SUM($Z30:Z30)),0),0) -> 0 | AB30: =IF(AB23<>"Dim",IF(SUM($Z28:AB28)>35,(MIN(SUM($Z28:AB28),43)-35-SUM($Z30:AA30)),0),0) -> 0 | AC30: =IF(AC23<>"Dim",IF(SUM($Z28:AC28)>35,(MIN(SUM($Z28:AC28),43)-35-SUM($Z30:AB30)),0),0) -> 0 | AD30: =IF(AD23<>"Dim",IF(SUM($Z28:AD28)>35,(MIN(SUM($Z28:AD28),43)-35-SUM($Z30:AC30)),0),0) -> 0 | AE30: =IF(AE23<>"Dim",IF(SUM($Z28:AE28)>35,(MIN(SUM($Z28:AE28),43)-35-SUM($Z30:AD30)),0),0) -> 0 | AF30: =IF(AF23<>"Dim",IF(SUM($Z28:AF28)>35,(MIN(SUM($Z28:AF28),43)-35-SUM($Z30:AE30)),0),0) -> 0 | AG30: =SUM(Z30:AF30) -> 0 | AH30: =IF(AH23<>"Dim",IF(AH28>35,(MIN(AH28,43)-35),0),0) -> 0 | AI30: =IF(AI23<>"Dim",IF(SUM($AH28:AI28)>35,(MIN(SUM($AH28:AI28),43)-35-SUM($AH30:AH30)),0),0) -> 0 | AJ30: =IF(AJ23<>"Dim",IF(SUM($AH28:AJ28)>35,(MIN(SUM($AH28:AJ28),43)-35-SUM($AH30:AI30)),0),0) -> 0 | AK30: =IF(AK23<>"Dim",IF(SUM($AH28:AK28)>35,(MIN(SUM($AH28:AK28),43)-35-SUM($AH30:AJ30)),0),0) -> 0 | AL30: =IF(AL23<>"Dim",IF(SUM($AH28:AL28)>35,(MIN(SUM($AH28:AL28),43)-35-SUM($AH30:AK30)),0),0) -> 0 | AM30: =IF(AM23<>"Dim",IF(SUM($AH28:AM28)>35,(MIN(SUM($AH28:AM28),43)-35-SUM($AH30:AL30)),0),0) -> 0 | AN30: =IF(AN23<>"Dim",IF(SUM($AH28:AN28)>35,(MIN(SUM($AH28:AN28),43)-35-SUM($AH30:AM30)),0),0) -> 0 | AO30: =SUM(AH30:AN30) -> 0 | AP30: =IF(AP23<>"Dim",IF(AP28>35,(MIN(AP28,43)-35),0),0) -> 0 | AQ30: =IF(AQ23<>"Dim",IF(SUM($AP28:AQ28)>35,(MIN(SUM($AP28:AQ28),43)-35-SUM($AP30:AP30)),0),0) -> 0 | AR30: =SUM(AP30:AQ30) -> 0 | AS30: =I30+Q30+Y30+AG30+AO30+AR30 -> 5
A31: HS 50% | B31: =IF(B23<>"Dim",IF(B28>43,(MIN(B28,48)-43),0),0) -> 0 | C31: =IF(C23<>"Dim",IF(SUM($B28:C28)>43,(MIN(SUM($B28:C28),48)-43-SUM($B31:B31)),0),0) -> 0 | D31: =IF(D23<>"Dim",IF(SUM($B28:D28)>43,(MIN(SUM($B28:D28),48)-43-SUM($B31:C31)),0),0) -> 0 | E31: =IF(E23<>"Dim",IF(SUM($B28:E28)>43,(MIN(SUM($B28:E28),48)-43-SUM($B31:D31)),0),0) -> 0 | F31: =IF(F23<>"Dim",IF(SUM($B28:F28)>43,(MIN(SUM($B28:F28),48)-43-SUM($B31:E31)),0),0) -> 0 | G31: =IF(G23<>"Dim",IF(SUM($B28:G28)>43,(MIN(SUM($B28:G28),48)-43-SUM($B31:F31)),0),0) -> 0 | H31: =IF(H23<>"Dim",IF(SUM($B28:H28)>43,(MIN(SUM($B28:H28),48)-43-SUM($B31:G31)),0),0) -> 0 | I31: =SUM(B31:H31) -> 0 | J31: =IF(J23<>"Dim",IF(J28>43,(MIN(J28,48)-43),0),0) -> 0 | K31: =IF(K23<>"Dim",IF(SUM($J28:K28)>43,(MIN(SUM($J28:K28),48)-43-SUM($J31:J31)),0),0) -> 0 | L31: =IF(L23<>"Dim",IF(SUM($J28:L28)>43,(MIN(SUM($J28:L28),48)-43-SUM($J31:K31)),0),0) -> 0 | M31: =IF(M23<>"Dim",IF(SUM($J28:M28)>43,(MIN(SUM($J28:M28),48)-43-SUM($J31:L31)),0),0) -> 0 | N31: =IF(N23<>"Dim",IF(SUM($J28:N28)>43,(MIN(SUM($J28:N28),48)-43-SUM($J31:M31)),0),0) -> 0 | O31: =IF(O23<>"Dim",IF(SUM($J28:O28)>43,(MIN(SUM($J28:O28),48)-43-SUM($J31:N31)),0),0) -> 0 | P31: =IF(P23<>"Dim",IF(SUM($J28:P28)>43,(MIN(SUM($J28:P28),48)-43-SUM($J31:O31)),0),0) -> 0 | Q31: =SUM(J31:P31) -> 0 | R31: =IF(R23<>"Dim",IF(R28>43,(MIN(R28,48)-43),0),0) -> 0 | S31: =IF(S23<>"Dim",IF(SUM($R28:S28)>43,(MIN(SUM($R28:S28),48)-43-SUM($R31:R31)),0),0) -> 0 | T31: =IF(T23<>"Dim",IF(SUM($R28:T28)>43,(MIN(SUM($R28:T28),48)-43-SUM($R31:S31)),0),0) -> 0 | U31: =IF(U23<>"Dim",IF(SUM($R28:U28)>43,(MIN(SUM($R28:U28),48)-43-SUM($R31:T31)),0),0) -> 0 | V31: =IF(V23<>"Dim",IF(SUM($R28:V28)>43,(MIN(SUM($R28:V28),48)-43-SUM($R31:U31)),0),0) -> 0 | W31: =IF(W23<>"Dim",IF(SUM($R28:W28)>43,(MIN(SUM($R28:W28),48)-43-SUM($R31:V31)),0),0) -> 0 | X31: =IF(X23<>"Dim",IF(SUM($R28:X28)>43,(MIN(SUM($R28:X28),48)-43-SUM($R31:W31)),0),0) -> 0 | Y31: =SUM(R31:X31) -> 0 | Z31: =IF(Z23<>"Dim",IF(Z28>43,(MIN(Z28,48)-43),0),0) -> 0 | AA31: =IF(AA23<>"Dim",IF(SUM($Z28:AA28)>43,(MIN(SUM($Z28:AA28),48)-43-SUM($Z31:Z31)),0),0) -> 0 | AB31: =IF(AB23<>"Dim",IF(SUM($Z28:AB28)>43,(MIN(SUM($Z28:AB28),48)-43-SUM($Z31:AA31)),0),0) -> 0 | AC31: =IF(AC23<>"Dim",IF(SUM($Z28:AC28)>43,(MIN(SUM($Z28:AC28),48)-43-SUM($Z31:AB31)),0),0) -> 0 | AD31: =IF(AD23<>"Dim",IF(SUM($Z28:AD28)>43,(MIN(SUM($Z28:AD28),48)-43-SUM($Z31:AC31)),0),0) -> 0 | AE31: =IF(AE23<>"Dim",IF(SUM($Z28:AE28)>43,(MIN(SUM($Z28:AE28),48)-43-SUM($Z31:AD31)),0),0) -> 0 | AF31: =IF(AF23<>"Dim",IF(SUM($Z28:AF28)>43,(MIN(SUM($Z28:AF28),48)-43-SUM($Z31:AE31)),0),0) -> 0 | AG31: =SUM(Z31:AF31) -> 0 | AH31: =IF(AH23<>"Dim",IF(AH28>43,(MIN(AH28,48)-43),0),0) -> 0 | AI31: =IF(AI23<>"Dim",IF(SUM($AH28:AI28)>43,(MIN(SUM($AH28:AI28),48)-43-SUM($AH31:AH31)),0),0) -> 0 | AJ31: =IF(AJ23<>"Dim",IF(SUM($AH28:AJ28)>43,(MIN(SUM($AH28:AJ28),48)-43-SUM($AH31:AI31)),0),0) -> 0 | AK31: =IF(AK23<>"Dim",IF(SUM($AH28:AK28)>43,(MIN(SUM($AH28:AK28),48)-43-SUM($AH31:AJ31)),0),0) -> 0 | AL31: =IF(AL23<>"Dim",IF(SUM($AH28:AL28)>43,(MIN(SUM($AH28:AL28),48)-43-SUM($AH31:AK31)),0),0) -> 0 | AM31: =IF(AM23<>"Dim",IF(SUM($AH28:AM28)>43,(MIN(SUM($AH28:AM28),48)-43-SUM($AH31:AL31)),0),0) -> 0 | AN31: =IF(AN23<>"Dim",IF(SUM($AH28:AN28)>43,(MIN(SUM($AH28:AN28),48)-43-SUM($AH31:AM31)),0),0) -> 0 | AO31: =SUM(AH31:AN31) -> 0 | AP31: =IF(AP23<>"Dim",IF(AP28>43,(MIN(AP28,48)-43),0),0) -> 0 | AQ31: =IF(AQ23<>"Dim",IF(SUM($AP28:AQ28)>43,(MIN(SUM($AP28:AQ28),48)-43-SUM($AP31:AP31)),0),0) -> 0 | AR31: =SUM(AP31:AQ31) -> 0 | AS31: =I31+Q31+Y31+AG31+AO31+AR31 -> 0
A32: HS 200% | B32: =IF(B23="Dim",B28,IF(B38="ferie",B28,0)) -> 0 | C32: =IF(C23="Dim",C28,IF(C38="ferie",C28,0)) -> 0 | D32: =IF(D23="Dim",D28,IF(D38="ferie",D28,0)) -> 0 | E32: =IF(E23="Dim",E28,IF(E38="ferie",E28,0)) -> 0 | F32: =IF(F23="Dim",F28,IF(F38="ferie",F28,0)) -> 0 | G32: =IF(G23="Dim",G28,IF(G38="ferie",G28,0)) -> 0 | H32: =IF(H23="Dim",H28,IF(H38="ferie",H28,0)) -> 0 | I32: =SUM(B32:H32) -> 0 | J32: =IF(J23="Dim",J28,IF(J38="ferie",J28,0)) -> 0 | K32: =IF(K23="Dim",K28,IF(K38="ferie",K28,0)) -> 0 | L32: =IF(L23="Dim",L28,IF(L38="ferie",L28,0)) -> 0 | M32: =IF(M23="Dim",M28,IF(M38="ferie",M28,0)) -> 0 | N32: =IF(N23="Dim",N28,IF(N38="ferie",N28,0)) -> 0 | O32: =IF(O23="Dim",O28,IF(O38="ferie",O28,0)) -> 0 | P32: =IF(P23="Dim",P28,IF(P38="ferie",P28,0)) -> 0 | Q32: =SUM(J32:P32) -> 0 | R32: =IF(R23="Dim",R28,IF(R38="ferie",R28,0)) -> 0 | S32: =IF(S23="Dim",S28,IF(S38="ferie",S28,0)) -> 0 | T32: =IF(T23="Dim",T28,IF(T38="ferie",T28,0)) -> 0 | U32: =IF(U23="Dim",U28,IF(U38="ferie",U28,0)) -> 0 | V32: =IF(V23="Dim",V28,IF(V38="ferie",V28,0)) -> 0 | W32: =IF(W23="Dim",W28,IF(W38="ferie",W28,0)) -> 0 | X32: =IF(X23="Dim",X28,IF(X38="ferie",X28,0)) -> 0 | Y32: =SUM(R32:X32) -> 0 | Z32: =IF(Z23="Dim",Z28,IF(Z38="ferie",Z28,0)) -> 0 | AA32: =IF(AA23="Dim",AA28,IF(AA38="ferie",AA28,0)) -> 0 | AB32: =IF(AB23="Dim",AB28,IF(AB38="ferie",AB28,0)) -> 0 | AC32: =IF(AC23="Dim",AC28,IF(AC38="ferie",AC28,0)) -> 0 | AD32: =IF(AD23="Dim",AD28,IF(AD38="ferie",AD28,0)) -> 0 | AE32: =IF(AE23="Dim",AE28,IF(AE38="ferie",AE28,0)) -> 0 | AF32: =IF(AF23="Dim",AF28,IF(AF38="ferie",AF28,0)) -> 0 | AG32: =SUM(Z32:AF32) -> 0 | AH32: =IF(AH23="Dim",AH28,IF(AH38="ferie",AH28,0)) -> 0 | AI32: =IF(AI23="Dim",AI28,IF(AI38="ferie",AI28,0)) -> 0 | AJ32: =IF(AJ23="Dim",AJ28,IF(AJ38="ferie",AJ28,0)) -> 0 | AK32: =IF(AK23="Dim",AK28,IF(AK38="ferie",AK28,0)) -> 0 | AL32: =IF(AL23="Dim",AL28,IF(AL38="ferie",AL28,0)) -> 0 | AM32: =IF(AM23="Dim",AM28,IF(AM38="ferie",AM28,0)) -> 0 | AN32: =IF(AN23="Dim",AN28,IF(AN38="ferie",AN28,0)) -> 0 | AO32: =SUM(AH32:AN32) -> 0 | AP32: =IF(AP23="Dim",AP28,IF(AP38="ferie",AP28,0)) -> 0 | AQ32: =IF(AQ23="Dim",AQ28,IF(AQ38="ferie",AQ28,0)) -> 0 | AR32: =SUM(AP32:AQ32) -> 0 | AS32: =I32+Q32+Y32+AG32+AO32+AR32 -> 0
A33: HR + | I33: =SUM(B33:H33) -> 0 | M33: 8 | N33: 8 | Q33: =SUM(J33:P33) -> 16 | Y33: =SUM(R33:X33) -> 0 | AG33: =SUM(Z33:AF33) -> 0 | AO33: =SUM(AH33:AN33) -> 0 | AR33: =SUM(AP33:AQ33) -> 0 | AS33: =I33+Q33+Y33+AG33+AO33+AR33 -> 16
A34: HR - | I34: =SUM(B34:H34) -> 0 | Q34: =SUM(J34:P34) -> 0 | Y34: =SUM(R34:X34) -> 0 | AG34: =SUM(Z34:AF34) -> 0 | AO34: =SUM(AH34:AN34) -> 0 | AR34: =SUM(AP34:AQ34) -> 0 | AS34: =I34+Q34+Y34+AG34+AO34+AR34 -> 0
A35: CP - | I35: =SUM(B35:H35) -> 0 | Q35: =SUM(J35:P35) -> 0 | R35: 1 | S35: 1 | T35: 1 | U35: 1 | V35: 1 | Y35: =SUM(R35:X35) -> 5 | AG35: =SUM(Z35:AF35) -> 0 | AO35: =SUM(AH35:AN35) -> 0 | AR35: =SUM(AP35:AQ35) -> 0 | AS35: =I35+Q35+Y35+AG35+AO35+AR35 -> 5
A36: RC - | I36: =SUM(B36:H36) -> 0 | Q36: =SUM(J36:P36) -> 0 | Y36: =SUM(R36:X36) -> 0 | AG36: =SUM(Z36:AF36) -> 0 | AO36: =SUM(AH36:AN36) -> 0 | AR36: =SUM(AP36:AQ36) -> 0 | AS36: =I36+Q36+Y36+AG36+AO36+AR36 -> 0
A37: RC nuit | B37: =IF(B25="nuit",B28*0.02,0) -> 0 | C37: =IF(C25="nuit",C28*0.02,0) -> 0 | D37: =IF(D25="nuit",D28*0.02,0) -> 0 | E37: =IF(E25="nuit",E28*0.02,0) -> 0 | F37: =IF(F25="nuit",F28*0.02,0) -> 0 | G37: =IF(G25="nuit",G28*0.02,0) -> 0 | H37: =IF(H25="nuit",H28*0.02,0) -> 0 | I37: =SUM(B37:H37) -> 0 | J37: =IF(J25="nuit",J28*0.02,0) -> 0 | K37: =IF(K25="nuit",K28*0.02,0) -> 0 | L37: =IF(L25="nuit",L28*0.02,0) -> 0 | M37: =IF(M25="nuit",M28*0.02,0) -> 0 | N37: =IF(N25="nuit",N28*0.02,0) -> 0 | O37: =IF(O25="nuit",O28*0.02,0) -> 0 | P37: =IF(P25="nuit",P28*0.02,0) -> 0 | Q37: =SUM(J37:P37) -> 0 | R37: =IF(R25="nuit",R28*0.02,0) -> 0 | S37: =IF(S25="nuit",S28*0.02,0) -> 0 | T37: =IF(T25="nuit",T28*0.02,0) -> 0 | U37: =IF(U25="nuit",U28*0.02,0) -> 0 | V37: =IF(V25="nuit",V28*0.02,0) -> 0 | W37: =IF(W25="nuit",W28*0.02,0) -> 0 | X37: =IF(X25="nuit",X28*0.02,0) -> 0 | Y37: =SUM(R37:X37) -> 0 | Z37: =IF(Z25="nuit",Z28*0.02,0) -> 0 | AA37: =IF(AA25="nuit",AA28*0.02,0) -> 0 | AB37: =IF(AB25="nuit",AB28*0.02,0) -> 0 | AC37: =IF(AC25="nuit",AC28*0.02,0) -> 0 | AD37: =IF(AD25="nuit",AD28*0.02,0) -> 0 | AE37: =IF(AE25="nuit",AE28*0.02,0) -> 0 | AF37: =IF(AF25="nuit",AF28*0.02,0) -> 0 | AG37: =SUM(Z37:AF37) -> 0 | AH37: =IF(AH25="nuit",AH28*0.02,0) -> 0 | AI37: =IF(AI25="nuit",AI28*0.02,0) -> 0 | AJ37: =IF(AJ25="nuit",AJ28*0.02,0) -> 0 | AK37: =IF(AK25="nuit",AK28*0.02,0) -> 0 | AL37: =IF(AL25="nuit",AL28*0.02,0) -> 0 | AM37: =IF(AM25="nuit",AM28*0.02,0) -> 0 | AN37: =IF(AN25="nuit",AN28*0.02,0) -> 0 | AO37: =SUM(AH37:AN37) -> 0 | AP37: =IF(AP25="nuit",AP28*0.02,0) -> 0 | AQ37: =IF(AQ25="nuit",AQ28*0.02,0) -> 0 | AR37: =SUM(AP37:AQ37) -> 0 | AS37: =I37+Q37+Y37+AG37+AO37+AR37 -> 0
A38: Note | Z38: Formation
B40: Mars | G40: =Année_Calendaire -> 2016 | R40: Mars | W40: =Année_Calendaire -> 2016 | AH40: Mars | AM40: =Année_Calendaire -> 2016
B41: Lun | C41: Mar | D41: Mer | E41: Jeu | F41: Ven | G41: Sam | H41: Dim | I41: Cumul | J41: Lun | K41: Mar | L41: Mer | M41: Jeu | N41: Ven | O41: Sam | P41: Dim | Q41: Cumul | R41: Lun | S41: Mar | T41: Mer | U41: Jeu | V41: Ven | W41: Sam | X41: Dim | Y41: Cumul | Z41: Lun | AA41: Mar | AB41: Mer | AC41: Jeu | AD41: Ven | AE41: Sam | AF41: Dim | AG41: Cumul | AH41: Lun | AI41: Mar | AJ41: Mer | AK41: Jeu | AL41: Ven | AM41: Sam | AN41: Dim | AO41: Cumul | AP41: Lun | AQ41: Mar | AR41: Cumul | AS41: Cumul total | AT41: =AS48+AS49+AS50 -> 13 | AU41: =AT41+AU23 -> 20
