Workbook
Name ANNEES: #REF!

Sheet Importation
A1: Janvier 01 | F1: Février 02 | K1: Mars 03 | P1: Avril 04 | U1: Mai 05 | Z1: Juin 06 | AE1: Juillet 07 | AJ1: Aout 08 | AO1: Septembre 09 | AT1: Octobre 10 | AY1: Novembre 11 | BD1: Décembre 12
A2: Montant | B2: Pointage | C2: Objet | D2: Débit | E2: Crédit | F2: Montant | G2: Pointage | H2: Objet | I2: Débit | J2: Crédit | K2: Montant | L2: Pointage | M2: Objet | N2: Débit | O2: Crédit | P2: Montant | Q2: Pointage | R2: Objet | S2: Débit | T2: Crédit | U2: Montant | V2: Pointage | W2: Objet | X2: Débit | Y2: Crédit | Z2: Montant | AA2: Pointage | AB2: Objet | AC2: Débit | AD2: Crédit | AE2: Montant | AF2: Pointage | AG2: Objet | AH2: Débit | AI2: Crédit | AJ2: Montant | AK2: Pointage | AL2: Objet | AM2: Débit | AN2: Crédit | AO2: Montant | AP2: Pointage | AQ2: Objet | AR2: Débit | AS2: Crédit | AT2: Montant | AU2: Pointage | AV2: Objet | AW2: Débit | AX2: Crédit | AY2: Montant | AZ2: Pointage | BA2: Objet | BB2: Débit | BC2: Crédit | BD2: Montant | BE2: Pointage | BF2: Objet | BG2: Débit | BH2: Crédit
A3: =E3+D3 -> -23.8 | B3: 43467 | C3: CB intermarche 01012019 | D3: -23.8 | F3: =J3+I3 -> 0 | K3: =O3+N3 -> 0 | P3: =T3+S3 -> 0 | U3: =Y3+X3 -> 0 | Z3: =AD3+AC3 -> 0 | AE3: =AI3+AH3 -> 0 | AJ3: =AN3+AM3 -> 0 | AO3: =AS3+AR3 -> 0 | AT3: =AX3+AW3 -> 0 | AY3: =BC3+BB3 -> 0 | BD3: =BH3+BG3 -> 0
A4: =E4+D4 -> -55 | B4: 43477 | C4: CB norauto | D4: -55 | F4: =J4+I4 -> 0 | K4: =O4+N4 -> 0 | P4: =T4+S4 -> 0 | U4: =Y4+X4 -> 0 | Z4: =AD4+AC4 -> 0 | AE4: =AI4+AH4 -> 0 | AJ4: =AN4+AM4 -> 0 | AO4: =AS4+AR4 -> 0 | AT4: =AX4+AW4 -> 0 | AY4: =BC4+BB4 -> 0 | BD4: =BH4+BG4 -> 0
A5: =E5+D5 -> 300 | B5: 43477 | C5: Depot 12012019 | E5: 300 | F5: =J5+I5 -> 0 | K5: =O5+N5 -> 0 | P5: =T5+S5 -> 0 | U5: =Y5+X5 -> 0 | Z5: =AD5+AC5 -> 0 | AE5: =AI5+AH5 -> 0 | AJ5: =AN5+AM5 -> 0 | AO5: =AS5+AR5 -> 0 | AT5: =AX5+AW5 -> 0 | AY5: =BC5+BB5 -> 0 | BD5: =BH5+BG5 -> 0
A6: =E6+D6 -> -3.59 | B6: 43483 | C6: CB boulangerie 13012019 | D6: -3.59 | F6: =J6+I6 -> 0 | K6: =O6+N6 -> 0 | P6: =T6+S6 -> 0 | U6: =Y6+X6 -> 0 | Z6: =AD6+AC6 -> 0 | AE6: =AI6+AH6 -> 0 | AJ6: =AN6+AM6 -> 0 | AO6: =AS6+AR6 -> 0 | AT6: =AX6+AW6 -> 0 | AY6: =BC6+BB6 -> 0 | BD6: =BH6+BG6 -> 0
A7: =E7+D7 -> -10 | B7: 43481 | C7: Orange mobile | D7: -10 | F7: =J7+I7 -> 0 | K7: =O7+N7 -> 0 | P7: =T7+S7 -> 0 | U7: =Y7+X7 -> 0 | Z7: =AD7+AC7 -> 0 | AE7: =AI7+AH7 -> 0 | AJ7: =AN7+AM7 -> 0 | AO7: =AS7+AR7 -> 0 | AT7: =AX7+AW7 -> 0 | AY7: =BC7+BB7 -> 0 | BD7: =BH7+BG7 -> 0
A8: =E8+D8 -> -54.39 | B8: 43480 | C8: BPCE assurance | D8: -54.39 | F8: =J8+I8 -> 0 | K8: =O8+N8 -> 0 | P8: =T8+S8 -> 0 | U8: =Y8+X8 -> 0 | Z8: =AD8+AC8 -> 0 | AE8: =AI8+AH8 -> 0 | AJ8: =AN8+AM8 -> 0 | AO8: =AS8+AR8 -> 0 | AT8: =AX8+AW8 -> 0 | AY8: =BC8+BB8 -> 0 | BD8: =BH8+BG8 -> 0
A9: =E9+D9 -> -33.42 | B9: 43483 | C9: Veolia | D9: -33.42 | F9: =J9+I9 -> 0 | K9: =O9+N9 -> 0 | P9: =T9+S9 -> 0 | U9: =Y9+X9 -> 0 | Z9: =AD9+AC9 -> 0 | AE9: =AI9+AH9 -> 0 | AJ9: =AN9+AM9 -> 0 | AO9: =AS9+AR9 -> 0 | AT9: =AX9+AW9 -> 0 | AY9: =BC9+BB9 -> 0 | BD9: =BH9+BG9 -> 0
A10: =E10+D10 -> -10 | B10: 43488 | C10: Netflix | D10: -10 | F10: =J10+I10 -> 0 | K10: =O10+N10 -> 0 | P10: =T10+S10 -> 0 | U10: =Y10+X10 -> 0 | Z10: =AD10+AC10 -> 0 | AE10: =AI10+AH10 -> 0 | AJ10: =AN10+AM10 -> 0 | AO10: =AS10+AR10 -> 0 | AT10: =AX10+AW10 -> 0 | AY10: =BC10+BB10 -> 0 | BD10: =BH10+BG10 -> 0
A11: =E11+D11 -> -9.99 | B11: 43490 | C11: Sosh mobile | D11: -9.99 | F11: =J11+I11 -> 0 | K11: =O11+N11 -> 0 | P11: =T11+S11 -> 0 | U11: =Y11+X11 -> 0 | Z11: =AD11+AC11 -> 0 | AE11: =AI11+AH11 -> 0 | AJ11: =AN11+AM11 -> 0 | AO11: =AS11+AR11 -> 0 | AT11: =AX11+AW11 -> 0 | AY11: =BC11+BB11 -> 0 | BD11: =BH11+BG11 -> 0
A12: =E12+D12 -> 0 | F12: =J12+I12 -> 0 | K12: =O12+N12 -> 0 | P12: =T12+S12 -> 0 | U12: =Y12+X12 -> 0 | Z12: =AD12+AC12 -> 0 | AE12: =AI12+AH12 -> 0 | AJ12: =AN12+AM12 -> 0 | AO12: =AS12+AR12 -> 0 | AT12: =AX12+AW12 -> 0 | AY12: =BC12+BB12 -> 0 | BD12: =BH12+BG12 -> 0
A13: =E13+D13 -> 0 | F13: =J13+I13 -> 0 | K13: =O13+N13 -> 0 | P13: =T13+S13 -> 0 | U13: =Y13+X13 -> 0 | Z13: =AD13+AC13 -> 0 | AE13: =AI13+AH13 -> 0 | AJ13: =AN13+AM13 -> 0 | AO13: =AS13+AR13 -> 0 | AT13: =AX13+AW13 -> 0 | AY13: =BC13+BB13 -> 0 | BD13: =BH13+BG13 -> 0
A14: =E14+D14 -> 0 | F14: =J14+I14 -> 0 | K14: =O14+N14 -> 0 | P14: =T14+S14 -> 0 | U14: =Y14+X14 -> 0 | Z14: =AD14+AC14 -> 0 | AE14: =AI14+AH14 -> 0 | AJ14: =AN14+AM14 -> 0 | AO14: =AS14+AR14 -> 0 | AT14: =AX14+AW14 -> 0 | AY14: =BC14+BB14 -> 0 | BD14: =BH14+BG14 -> 0
A15: =E15+D15 -> 0 | F15: =J15+I15 -> 0 | K15: =O15+N15 -> 0 | P15: =T15+S15 -> 0 | U15: =Y15+X15 -> 0 | Z15: =AD15+AC15 -> 0 | AE15: =AI15+AH15 -> 0 | AJ15: =AN15+AM15 -> 0 | AO15: =AS15+AR15 -> 0 | AT15: =AX15+AW15 -> 0 | AY15: =BC15+BB15 -> 0 | BD15: =BH15+BG15 -> 0
A16: =E16+D16 -> 0 | F16: =J16+I16 -> 0 | K16: =O16+N16 -> 0 | P16: =T16+S16 -> 0 | U16: =Y16+X16 -> 0 | Z16: =AD16+AC16 -> 0 | AE16: =AI16+AH16 -> 0 | AJ16: =AN16+AM16 -> 0 | AO16: =AS16+AR16 -> 0 | AT16: =AX16+AW16 -> 0 | AY16: =BC16+BB16 -> 0 | BD16: =BH16+BG16 -> 0
A17: =E17+D17 -> 0 | F17: =J17+I17 -> 0 | K17: =O17+N17 -> 0 | P17: =T17+S17 -> 0 | U17: =Y17+X17 -> 0 | Z17: =AD17+AC17 -> 0 | AE17: =AI17+AH17 -> 0 | AJ17: =AN17+AM17 -> 0 | AO17: =AS17+AR17 -> 0 | AT17: =AX17+AW17 -> 0 | AY17: =BC17+BB17 -> 0 | BD17: =BH17+BG17 -> 0
A18: =E18+D18 -> 0 | F18: =J18+I18 -> 0 | K18: =O18+N18 -> 0 | P18: =T18+S18 -> 0 | U18: =Y18+X18 -> 0 | Z18: =AD18+AC18 -> 0 | AE18: =AI18+AH18 -> 0 | AJ18: =AN18+AM18 -> 0 | AO18: =AS18+AR18 -> 0 | AT18: =AX18+AW18 -> 0 | AY18: =BC18+BB18 -> 0 | BD18: =BH18+BG18 -> 0
A19: =E19+D19 -> 0 | F19: =J19+I19 -> 0 | K19: =O19+N19 -> 0 | P19: =T19+S19 -> 0 | U19: =Y19+X19 -> 0 | Z19: =AD19+AC19 -> 0 | AE19: =AI19+AH19 -> 0 | AJ19: =AN19+AM19 -> 0 | AO19: =AS19+AR19 -> 0 | AT19: =AX19+AW19 -> 0 | AY19: =BC19+BB19 -> 0 | BD19: =BH19+BG19 -> 0
A20: =E20+D20 -> 0 | F20: =J20+I20 -> 0 | K20: =O20+N20 -> 0 | P20: =T20+S20 -> 0 | U20: =Y20+X20 -> 0 | Z20: =AD20+AC20 -> 0 | AE20: =AI20+AH20 -> 0 | AJ20: =AN20+AM20 -> 0 | AO20: =AS20+AR20 -> 0 | AT20: =AX20+AW20 -> 0 | AY20: =BC20+BB20 -> 0 | BD20: =BH20+BG20 -> 0
A21: =E21+D21 -> 0 | F21: =J21+I21 -> 0 | K21: =O21+N21 -> 0 | P21: =T21+S21 -> 0 | U21: =Y21+X21 -> 0 | Z21: =AD21+AC21 -> 0 | AE21: =AI21+AH21 -> 0 | AJ21: =AN21+AM21 -> 0 | AO21: =AS21+AR21 -> 0 | AT21: =AX21+AW21 -> 0 | AY21: =BC21+BB21 -> 0 | BD21: =BH21+BG21 -> 0
A22: =E22+D22 -> 0 | F22: =J22+I22 -> 0 | K22: =O22+N22 -> 0 | P22: =T22+S22 -> 0 | U22: =Y22+X22 -> 0 | Z22: =AD22+AC22 -> 0 | AE22: =AI22+AH22 -> 0 | AJ22: =AN22+AM22 -> 0 | AO22: =AS22+AR22 -> 0 | AT22: =AX22+AW22 -> 0 | AY22: =BC22+BB22 -> 0 | BD22: =BH22+BG22 -> 0
A23: =E23+D23 -> 0 | F23: =J23+I23 -> 0 | K23: =O23+N23 -> 0 | P23: =T23+S23 -> 0 | U23: =Y23+X23 -> 0 | Z23: =AD23+AC23 -> 0 | AE23: =AI23+AH23 -> 0 | AJ23: =AN23+AM23 -> 0 | AO23: =AS23+AR23 -> 0 | AT23: =AX23+AW23 -> 0 | AY23: =BC23+BB23 -> 0 | BD23: =BH23+BG23 -> 0
... A350: =E350+D350 -> 0 | F350: =J350+I350 -> 0 | K350: =O350+N350 -> 0 | P350: =T350+S350 -> 0 | U350: =Y350+X350 -> 0 | Z350: =AD350+AC350 -> 0 | AE350: =AI350+AH350 -> 0 | AJ350: =AN350+AM350 -> 0 | AO350: =AS350+AR350 -> 0 | AT350: =AX350+AW350 -> 0 | AY350: =BC350+BB350 -> 0 | BD350: =BH350+BG350 -> 0

Sheet Cpt
C1: =$BH$350 -> 100.81 | D1: Faire enregistrement | H1: =$BH$350 -> 100.81 | M1: =$BH$350 -> 100.81 | R1: =$BH$350 -> 100.81 | W1: =$BH$350 -> 100.81 | AB1: =$BH$350 -> 100.81 | AG1: =$BH$350 -> 100.81 | AL1: =$BH$350 -> 100.81 | AQ1: =$BH$350 -> 100.81 | AV1: =$BH$350 -> 100.81 | BA1: =$BH$350 -> 100.81 | BF1: =$BH$350 -> 100.81
D2: trie pointage
A4: Janvier 01 | F4: Février 02 | K4: Mars 03 | P4: Avril 04 | U4: Mai 05 | Z4: Juin 06 | AE4: Juillet 07 | AJ4: Aout 08 | AO4: Septembre 09 | AT4: Octobre 10 | AY4: Novembre 11 | BD4: Décembre 12
A5: Date | B5: Pointage | C5: Objet | D5: Montant | E5: Total | F5: Date | G5: Pointage | H5: Objet | I5: Montant | J5: Total | K5: Date | L5: Pointage | M5: Objet | N5: Montant | O5: Total | P5: Date | Q5: Pointage | R5: Objet | S5: Montant | T5: Total | U5: Date | V5: Pointage | W5: Objet | X5: Montant | Y5: Total | Z5: Date | AA5: Pointage | AB5: Objet | AC5: Montant | AD5: Total | AE5: Date | AF5: Pointage | AG5: Objet | AH5: Montant | AI5: Total | AJ5: Date | AK5: Pointage | AL5: Objet | AM5: Montant | AN5: Total | AO5: Date | AP5: Pointage | AQ5: Objet | AR5: Montant | AS5: Total | AT5: Date | AU5: Pointage | AV5: Objet | AW5: Montant | AX5: Total | AY5: Date | AZ5: Pointage | BA5: Objet | BB5: Montant | BC5: Total | BD5: Date | BE5: Pointage | BF5: Objet | BG5: Montant | BH5: Total
A6: 43466 | B6: =A6 -> 43466 | C6: Montant initial | D6: 1 | E6: =D6 -> 1 | F6: 43497 | G6: =F6 -> 43497 | H6: Montant reporté | I6: =E350 -> 100.81 | J6: =I6 -> 100.81 | K6: 43525 | L6: =K6 -> 43525 | M6: Montant reporté | N6: =J350 -> 100.81 | O6: =N6 -> 100.81 | P6: 43556 | Q6: =P6 -> 43556 | R6: Montant reporté | S6: =O350 -> 100.81 | T6: =S6 -> 100.81 | U6: 43586 | V6: =U6 -> 43586 | W6: Montant reporté | X6: =T350 -> 100.81 | Y6: =X6 -> 100.81 | Z6: 43617 | AA6: =Z6 -> 43617 | AB6: Montant reporté | AC6: =Y350 -> 100.81 | AD6: =AC6 -> 100.81 | AE6: 43647 | AF6: =AE6 -> 43647 | AG6: Montant reporté | AH6: =AD350 -> 100.81 | AI6: =AH6 -> 100.81 | AJ6: 43678 | AK6: =AJ6 -> 43678 | AL6: Montant reporté | AM6: =AI350 -> 100.81 | AN6: =AM6 -> 100.81 | AO6: 43709 | AP6: =AO6 -> 43709 | AQ6: Montant reporté | AR6: =AN350 -> 100.81 | AS6: =AR6 -> 100.81 | AT6: 43739 | AU6: =AT6 -> 43739 | AV6: Montant reporté | AW6: =AS350 -> 100.81 | AX6: =AW6 -> 100.81 | AY6: 43770 | AZ6: =AY6 -> 43770 | BA6: Montant reporté | BB6: =AX350 -> 100.81 | BC6: =BB6 -> 100.81 | BD6: 43800 | BE6: =BD6 -> 43800 | BF6: Montant reporté | BG6: =BC350 -> 100.81 | BH6: =BG6 -> 100.81
A7: 43466 | B7: =VLOOKUP(D7,Importation!$A$1:$E$350,2,FALSE) -> 43467 | C7: CB intermarche 01012019 | D7: -23.8 | E7: =E6+D7 -> -22.8 | G7: =VLOOKUP(I7,Importation!$F$1:$J$350,2,FALSE) -> 0 | J7: =J6+I7 -> 100.81 | L7: =VLOOKUP(N7,Importation!$K$1:$O$350,2,FALSE) -> 0 | O7: =O6+N7 -> 100.81 | Q7: =VLOOKUP(S7,Importation!$P$1:$T$350,2,FALSE) -> 0 | T7: =T6+S7 -> 100.81 | V7: =VLOOKUP(X7,Importation!$U$1:$Y$350,2,FALSE) -> 0 | Y7: =Y6+X7 -> 100.81 | AA7: =VLOOKUP(AC7,Importation!$Z$1:$AD$350,2,FALSE) -> 0 | AD7: =AD6+AC7 -> 100.81 | AF7: =VLOOKUP(AH7,Importation!$AE$1:$AI$350,2,FALSE) -> 0 | AI7: =AI6+AH7 -> 100.81 | AK7: =VLOOKUP(AM7,Importation!$AJ$1:$AN$350,2,FALSE) -> 0 | AN7: =AN6+AM7 -> 100.81 | AP7: =VLOOKUP(AR7,Importation!$AO$1:$AS$350,2,FALSE) -> 0 | AS7: =AS6+AR7 -> 100.81 | AU7: =VLOOKUP(AW7,Importation!$AT$1:$AX$350,2,FALSE) -> 0 | AX7: =AX6+AW7 -> 100.81 | AZ7: =VLOOKUP(BB7,Importation!$AY$1:$BC$350,2,FALSE) -> 0 | BC7: =BC6+BB7 -> 100.81 | BE7: =VLOOKUP(BG7,Importation!$BD$1:$BH$350,2,FALSE) -> 0 | BH7: =BH6+BG7 -> 100.81
A8: 43475 | B8: =VLOOKUP(D8,Importation!$A$1:$E$350,2,FALSE) -> 43477 | C8: CB norauto | D8: -55 | E8: =E7+D8 -> -77.8 | G8: =VLOOKUP(I8,Importation!$F$1:$J$350,2,FALSE) -> 0 | J8: =J7+I8 -> 100.81 | L8: =VLOOKUP(N8,Importation!$K$1:$O$350,2,FALSE) -> 0 | O8: =O7+N8 -> 100.81 | Q8: =VLOOKUP(S8,Importation!$P$1:$T$350,2,FALSE) -> 0 | T8: =T7+S8 -> 100.81 | V8: =VLOOKUP(X8,Importation!$U$1:$Y$350,2,FALSE) -> 0 | Y8: =Y7+X8 -> 100.81 | AA8: =VLOOKUP(AC8,Importation!$Z$1:$AD$350,2,FALSE) -> 0 | AD8: =AD7+AC8 -> 100.81 | AF8: =VLOOKUP(AH8,Importation!$AE$1:$AI$350,2,FALSE) -> 0 | AI8: =AI7+AH8 -> 100.81 | AK8: =VLOOKUP(AM8,Importation!$AJ$1:$AN$350,2,FALSE) -> 0 | AN8: =AN7+AM8 -> 100.81 | AP8: =VLOOKUP(AR8,Importation!$AO$1:$AS$350,2,FALSE) -> 0 | AS8: =AS7+AR8 -> 100.81 | AU8: =VLOOKUP(AW8,Importation!$AT$1:$AX$350,2,FALSE) -> 0 | AX8: =AX7+AW8 -> 100.81 | AZ8: =VLOOKUP(BB8,Importation!$AY$1:$BC$350,2,FALSE) -> 0 | BC8: =BC7+BB8 -> 100.81 | BE8: =VLOOKUP(BG8,Importation!$BD$1:$BH$350,2,FALSE) -> 0 | BH8: =BH7+BG8 -> 100.81
A9: 43477 | B9: =VLOOKUP(D9,Importation!$A$1:$E$350,2,FALSE) -> 43477 | C9: Depot 12012019 | D9: 300 | E9: =E8+D9 -> 222.2 | G9: =VLOOKUP(I9,Importation!$F$1:$J$350,2,FALSE) -> 0 | J9: =J8+I9 -> 100.81 | L9: =VLOOKUP(N9,Importation!$K$1:$O$350,2,FALSE) -> 0 | O9: =O8+N9 -> 100.81 | Q9: =VLOOKUP(S9,Importation!$P$1:$T$350,2,FALSE) -> 0 | T9: =T8+S9 -> 100.81 | V9: =VLOOKUP(X9,Importation!$U$1:$Y$350,2,FALSE) -> 0 | Y9: =Y8+X9 -> 100.81 | AA9: =VLOOKUP(AC9,Importation!$Z$1:$AD$350,2,FALSE) -> 0 | AD9: =AD8+AC9 -> 100.81 | AF9: =VLOOKUP(AH9,Importation!$AE$1:$AI$350,2,FALSE) -> 0 | AI9: =AI8+AH9 -> 100.81 | AK9: =VLOOKUP(AM9,Importation!$AJ$1:$AN$350,2,FALSE) -> 0 | AN9: =AN8+AM9 -> 100.81 | AP9: =VLOOKUP(AR9,Importation!$AO$1:$AS$350,2,FALSE) -> 0 | AS9: =AS8+AR9 -> 100.81 | AU9: =VLOOKUP(AW9,Importation!$AT$1:$AX$350,2,FALSE) -> 0 | AX9: =AX8+AW9 -> 100.81 | AZ9: =VLOOKUP(BB9,Importation!$AY$1:$BC$350,2,FALSE) -> 0 | BC9: =BC8+BB9 -> 100.81 | BE9: =VLOOKUP(BG9,Importation!$BD$1:$BH$350,2,FALSE) -> 0 | BH9: =BH8+BG9 -> 100.81
A10: 43480 | B10: =VLOOKUP(D10,Importation!$A$1:$E$350,2,FALSE) -> 43483 | C10: CB boulangerie 13012019 | D10: -3.59 | E10: =E9+D10 -> 218.61 | G10: =VLOOKUP(I10,Importation!$F$1:$J$350,2,FALSE) -> 0 | J10: =J9+I10 -> 100.81 | L10: =VLOOKUP(N10,Importation!$K$1:$O$350,2,FALSE) -> 0 | O10: =O9+N10 -> 100.81 | Q10: =VLOOKUP(S10,Importation!$P$1:$T$350,2,FALSE) -> 0 | T10: =T9+S10 -> 100.81 | V10: =VLOOKUP(X10,Importation!$U$1:$Y$350,2,FALSE) -> 0 | Y10: =Y9+X10 -> 100.81 | AA10: =VLOOKUP(AC10,Importation!$Z$1:$AD$350,2,FALSE) -> 0 | AD10: =AD9+AC10 -> 100.81 | AF10: =VLOOKUP(AH10,Importation!$AE$1:$AI$350,2,FALSE) -> 0 | AI10: =AI9+AH10 -> 100.81 | AK10: =VLOOKUP(AM10,Importation!$AJ$1:$AN$350,2,FALSE) -> 0 | AN10: =AN9+AM10 -> 100.81 | AP10: =VLOOKUP(AR10,Importation!$AO$1:$AS$350,2,FALSE) -> 0 | AS10: =AS9+AR10 -> 100.81 | AU10: =VLOOKUP(AW10,Importation!$AT$1:$AX$350,2,FALSE) -> 0 | AX10: =AX9+AW10 -> 100.81 | AZ10: =VLOOKUP(BB10,Importation!$AY$1:$BC$350,2,FALSE) -> 0 | BC10: =BC9+BB10 -> 100.81 | BE10: =VLOOKUP(BG10,Importation!$BD$1:$BH$350,2,FALSE) -> 0 | BH10: =BH9+BG10 -> 100.81
A11: 43480 | B11: =VLOOKUP(D11,Importation!$A$1:$E$350,2,FALSE) -> 43481 | C11: Orange mobile | D11: -10 | E11: =E10+D11 -> 208.61 | G11: =VLOOKUP(I11,Importation!$F$1:$J$350,2,FALSE) -> 0 | J11: =J10+I11 -> 100.81 | L11: =VLOOKUP(N11,Importation!$K$1:$O$350,2,FALSE) -> 0 | O11: =O10+N11 -> 100.81 | Q11: =VLOOKUP(S11,Importation!$P$1:$T$350,2,FALSE) -> 0 | T11: =T10+S11 -> 100.81 | V11: =VLOOKUP(X11,Importation!$U$1:$Y$350,2,FALSE) -> 0 | Y11: =Y10+X11 -> 100.81 | AA11: =VLOOKUP(AC11,Importation!$Z$1:$AD$350,2,FALSE) -> 0 | AD11: =AD10+AC11 -> 100.81 | AF11: =VLOOKUP(AH11,Importation!$AE$1:$AI$350,2,FALSE) -> 0 | AI11: =AI10+AH11 -> 100.81 | AK11: =VLOOKUP(AM11,Importation!$AJ$1:$AN$350,2,FALSE) -> 0 | AN11: =AN10+AM11 -> 100.81 | AP11: =VLOOKUP(AR11,Importation!$AO$1:$AS$350,2,FALSE) -> 0 | AS11: =AS10+AR11 -> 100.81 | AU11: =VLOOKUP(AW11,Importation!$AT$1:$AX$350,2,FALSE) -> 0 | AX11: =AX10+AW11 -> 100.81 | AZ11: =VLOOKUP(BB11,Importation!$AY$1:$BC$350,2,FALSE) -> 0 | BC11: =BC10+BB11 -> 100.81 | BE11: =VLOOKUP(BG11,Importation!$BD$1:$BH$350,2,FALSE) -> 0 | BH11: =BH10+BG11 -> 100.81
A12: 43480 | B12: =VLOOKUP(D12,Importation!$A$1:$E$350,2,FALSE) -> 43480 | C12: BPCE assurance | D12: -54.39 | E12: =E11+D12 -> 154.22 | G12: =VLOOKUP(I12,Importation!$F$1:$J$350,2,FALSE) -> 0 | J12: =J11+I12 -> 100.81 | L12: =VLOOKUP(N12,Importation!$K$1:$O$350,2,FALSE) -> 0 | O12: =O11+N12 -> 100.81 | Q12: =VLOOKUP(S12,Importation!$P$1:$T$350,2,FALSE) -> 0 | T12: =T11+S12 -> 100.81 | V12: =VLOOKUP(X12,Importation!$U$1:$Y$350,2,FALSE) -> 0 | Y12: =Y11+X12 -> 100.81 | AA12: =VLOOKUP(AC12,Importation!$Z$1:$AD$350,2,FALSE) -> 0 | AD12: =AD11+AC12 -> 100.81 | AF12: =VLOOKUP(AH12,Importation!$AE$1:$AI$350,2,FALSE) -> 0 | AI12: =AI11+AH12 -> 100.81 | AK12: =VLOOKUP(AM12,Importation!$AJ$1:$AN$350,2,FALSE) -> 0 | AN12: =AN11+AM12 -> 100.81 | AP12: =VLOOKUP(AR12,Importation!$AO$1:$AS$350,2,FALSE) -> 0 | AS12: =AS11+AR12 -> 100.81 | AU12: =VLOOKUP(AW12,Importation!$AT$1:$AX$350,2,FALSE) -> 0 | AX12: =AX11+AW12 -> 100.81 | AZ12: =VLOOKUP(BB12,Importation!$AY$1:$BC$350,2,FALSE) -> 0 | BC12: =BC11+BB12 -> 100.81 | BE12: =VLOOKUP(BG12,Importation!$BD$1:$BH$350,2,FALSE) -> 0 | BH12: =BH11+BG12 -> 100.81
A13: 43487 | B13: =VLOOKUP(D13,Importation!$A$1:$E$350,2,FALSE) -> 43483 | C13: Veolia | D13: -33.42 | E13: =E12+D13 -> 120.8 | G13: =VLOOKUP(I13,Importation!$F$1:$J$350,2,FALSE) -> 0 | J13: =J12+I13 -> 100.81 | L13: =VLOOKUP(N13,Importation!$K$1:$O$350,2,FALSE) -> 0 | O13: =O12+N13 -> 100.81 | Q13: =VLOOKUP(S13,Importation!$P$1:$T$350,2,FALSE) -> 0 | T13: =T12+S13 -> 100.81 | V13: =VLOOKUP(X13,Importation!$U$1:$Y$350,2,FALSE) -> 0 | Y13: =Y12+X13 -> 100.81 | AA13: =VLOOKUP(AC13,Importation!$Z$1:$AD$350,2,FALSE) -> 0 | AD13: =AD12+AC13 -> 100.81 | AF13: =VLOOKUP(AH13,Importation!$AE$1:$AI$350,2,FALSE) -> 0 | AI13: =AI12+AH13 -> 100.81 | AK13: =VLOOKUP(AM13,Importation!$AJ$1:$AN$350,2,FALSE) -> 0 | AN13: =AN12+AM13 -> 100.81 | AP13: =VLOOKUP(AR13,Importation!$AO$1:$AS$350,2,FALSE) -> 0 | AS13: =AS12+AR13 -> 100.81 | AU13: =VLOOKUP(AW13,Importation!$AT$1:$AX$350,2,FALSE) -> 0 | AX13: =AX12+AW13 -> 100.81 | AZ13: =VLOOKUP(BB13,Importation!$AY$1:$BC$350,2,FALSE) -> 0 | BC13: =BC12+BB13 -> 100.81 | BE13: =VLOOKUP(BG13,Importation!$BD$1:$BH$350,2,FALSE) -> 0 | BH13: =BH12+BG13 -> 100.81
A14: 43488 | B14: =VLOOKUP(D14,Importation!$A$1:$E$350,2,FALSE) -> 43481 | C14: Netflix | D14: -10 | E14: =E13+D14 -> 110.8 | G14: =VLOOKUP(I14,Importation!$F$1:$J$350,2,FALSE) -> 0 | J14: =J13+I14 -> 100.81 | L14: =VLOOKUP(N14,Importation!$K$1:$O$350,2,FALSE) -> 0 | O14: =O13+N14 -> 100.81 | Q14: =VLOOKUP(S14,Importation!$P$1:$T$350,2,FALSE) -> 0 | T14: =T13+S14 -> 100.81 | V14: =VLOOKUP(X14,Importation!$U$1:$Y$350,2,FALSE) -> 0 | Y14: =Y13+X14 -> 100.81 | AA14: =VLOOKUP(AC14,Importation!$Z$1:$AD$350,2,FALSE) -> 0 | AD14: =AD13+AC14 -> 100.81 | AF14: =VLOOKUP(AH14,Importation!$AE$1:$AI$350,2,FALSE) -> 0 | AI14: =AI13+AH14 -> 100.81 | AK14: =VLOOKUP(AM14,Importation!$AJ$1:$AN$350,2,FALSE) -> 0 | AN14: =AN13+AM14 -> 100.81 | AP14: =VLOOKUP(AR14,Importation!$AO$1:$AS$350,2,FALSE) -> 0 | AS14: =AS13+AR14 -> 100.81 | AU14: =VLOOKUP(AW14,Importation!$AT$1:$AX$350,2,FALSE) -> 0 | AX14: =AX13+AW14 -> 100.81 | AZ14: =VLOOKUP(BB14,Importation!$AY$1:$BC$350,2,FALSE) -> 0 | BC14: =BC13+BB14 -> 100.81 | BE14: =VLOOKUP(BG14,Importation!$BD$1:$BH$350,2,FALSE) -> 0 | BH14: =BH13+BG14 -> 100.81
A15: 43490 | B15: =VLOOKUP(D15,Importation!$A$1:$E$350,2,FALSE) -> 43490 | C15: Sosh mobile | D15: -9.99 | E15: =E14+D15 -> 100.81 | G15: =VLOOKUP(I15,Importation!$F$1:$J$350,2,FALSE) -> 0 | J15: =J14+I15 -> 100.81 | L15: =VLOOKUP(N15,Importation!$K$1:$O$350,2,FALSE) -> 0 | O15: =O14+N15 -> 100.81 | Q15: =VLOOKUP(S15,Importation!$P$1:$T$350,2,FALSE) -> 0 | T15: =T14+S15 -> 100.81 | V15: =VLOOKUP(X15,Importation!$U$1:$Y$350,2,FALSE) -> 0 | Y15: =Y14+X15 -> 100.81 | AA15: =VLOOKUP(AC15,Importation!$Z$1:$AD$350,2,FALSE) -> 0 | AD15: =AD14+AC15 -> 100.81 | AF15: =VLOOKUP(AH15,Importation!$AE$1:$AI$350,2,FALSE) -> 0 | AI15: =AI14+AH15 -> 100.81 | AK15: =VLOOKUP(AM15,Importation!$AJ$1:$AN$350,2,FALSE) -> 0 | AN15: =AN14+AM15 -> 100.81 | AP15: =VLOOKUP(AR15,Importation!$AO$1:$AS$350,2,FALSE) -> 0 | AS15: =AS14+AR15 -> 100.81 | AU15: =VLOOKUP(AW15,Importation!$AT$1:$AX$350,2,FALSE) -> 0 | AX15: =AX14+AW15 -> 100.81 | AZ15: =VLOOKUP(BB15,Importation!$AY$1:$BC$350,2,FALSE) -> 0 | BC15: =BC14+BB15 -> 100.81 | BE15: =VLOOKUP(BG15,Importation!$BD$1:$BH$350,2,FALSE) -> 0 | BH15: =BH14+BG15 -> 100.81
B16: =VLOOKUP(D16,Importation!$A$1:$E$350,2,FALSE) -> 0 | E16: =E15+D16 -> 100.81 | G16: =VLOOKUP(I16,Importation!$F$1:$J$350,2,FALSE) -> 0 | J16: =J15+I16 -> 100.81 | L16: =VLOOKUP(N16,Importation!$K$1:$O$350,2,FALSE) -> 0 | O16: =O15+N16 -> 100.81 | Q16: =VLOOKUP(S16,Importation!$P$1:$T$350,2,FALSE) -> 0 | T16: =T15+S16 -> 100.81 | V16: =VLOOKUP(X16,Importation!$U$1:$Y$350,2,FALSE) -> 0 | Y16: =Y15+X16 -> 100.81 | AA16: =VLOOKUP(AC16,Importation!$Z$1:$AD$350,2,FALSE) -> 0 | AD16: =AD15+AC16 -> 100.81 | AF16: =VLOOKUP(AH16,Importation!$AE$1:$AI$350,2,FALSE) -> 0 | AI16: =AI15+AH16 -> 100.81 | AK16: =VLOOKUP(AM16,Importation!$AJ$1:$AN$350,2,FALSE) -> 0 | AN16: =AN15+AM16 -> 100.81 | AP16: =VLOOKUP(AR16,Importation!$AO$1:$AS$350,2,FALSE) -> 0 | AS16: =AS15+AR16 -> 100.81 | AU16: =VLOOKUP(AW16,Importation!$AT$1:$AX$350,2,FALSE) -> 0 | AX16: =AX15+AW16 -> 100.81 | AZ16: =VLOOKUP(BB16,Importation!$AY$1:$BC$350,2,FALSE) -> 0 | BC16: =BC15+BB16 -> 100.81 | BE16: =VLOOKUP(BG16,Importation!$BD$1:$BH$350,2,FALSE) -> 0 | BH16: =BH15+BG16 -> 100.81
B17: =VLOOKUP(D17,Importation!$A$1:$E$350,2,FALSE) -> 0 | E17: =E16+D17 -> 100.81 | G17: =VLOOKUP(I17,Importation!$F$1:$J$350,2,FALSE) -> 0 | J17: =J16+I17 -> 100.81 | L17: =VLOOKUP(N17,Importation!$K$1:$O$350,2,FALSE) -> 0 | O17: =O16+N17 -> 100.81 | Q17: =VLOOKUP(S17,Importation!$P$1:$T$350,2,FALSE) -> 0 | T17: =T16+S17 -> 100.81 | V17: =VLOOKUP(X17,Importation!$U$1:$Y$350,2,FALSE) -> 0 | Y17: =Y16+X17 -> 100.81 | AA17: =VLOOKUP(AC17,Importation!$Z$1:$AD$350,2,FALSE) -> 0 | AD17: =AD16+AC17 -> 100.81 | AF17: =VLOOKUP(AH17,Importation!$AE$1:$AI$350,2,FALSE) -> 0 | AI17: =AI16+AH17 -> 100.81 | AK17: =VLOOKUP(AM17,Importation!$AJ$1:$AN$350,2,FALSE) -> 0 | AN17: =AN16+AM17 -> 100.81 | AP17: =VLOOKUP(AR17,Importation!$AO$1:$AS$350,2,FALSE) -> 0 | AS17: =AS16+AR17 -> 100.81 | AU17: =VLOOKUP(AW17,Importation!$AT$1:$AX$350,2,FALSE) -> 0 | AX17: =AX16+AW17 -> 100.81 | AZ17: =VLOOKUP(BB17,Importation!$AY$1:$BC$350,2,FALSE) -> 0 | BC17: =BC16+BB17 -> 100.81 | BE17: =VLOOKUP(BG17,Importation!$BD$1:$BH$350,2,FALSE) -> 0 | BH17: =BH16+BG17 -> 100.81
B18: =VLOOKUP(D18,Importation!$A$1:$E$350,2,FALSE) -> 0 | E18: =E17+D18 -> 100.81 | G18: =VLOOKUP(I18,Importation!$F$1:$J$350,2,FALSE) -> 0 | J18: =J17+I18 -> 100.81 | L18: =VLOOKUP(N18,Importation!$K$1:$O$350,2,FALSE) -> 0 | O18: =O17+N18 -> 100.81 | Q18: =VLOOKUP(S18,Importation!$P$1:$T$350,2,FALSE) -> 0 | T18: =T17+S18 -> 100.81 | V18: =VLOOKUP(X18,Importation!$U$1:$Y$350,2,FALSE) -> 0 | Y18: =Y17+X18 -> 100.81 | AA18: =VLOOKUP(AC18,Importation!$Z$1:$AD$350,2,FALSE) -> 0 | AD18: =AD17+AC18 -> 100.81 | AF18: =VLOOKUP(AH18,Importation!$AE$1:$AI$350,2,FALSE) -> 0 | AI18: =AI17+AH18 -> 100.81 | AK18: =VLOOKUP(AM18,Importation!$AJ$1:$AN$350,2,FALSE) -> 0 | AN18: =AN17+AM18 -> 100.81 | AP18: =VLOOKUP(AR18,Importation!$AO$1:$AS$350,2,FALSE) -> 0 | AS18: =AS17+AR18 -> 100.81 | AU18: =VLOOKUP(AW18,Importation!$AT$1:$AX$350,2,FALSE) -> 0 | AX18: =AX17+AW18 -> 100.81 | AZ18: =VLOOKUP(BB18,Importation!$AY$1:$BC$350,2,FALSE) -> 0 | BC18: =BC17+BB18 -> 100.81 | BE18: =VLOOKUP(BG18,Importation!$BD$1:$BH$350,2,FALSE) -> 0 | BH18: =BH17+BG18 -> 100.81
B19: =VLOOKUP(D19,Importation!$A$1:$E$350,2,FALSE) -> 0 | E19: =E18+D19 -> 100.81 | G19: =VLOOKUP(I19,Importation!$F$1:$J$350,2,FALSE) -> 0 | J19: =J18+I19 -> 100.81 | L19: =VLOOKUP(N19,Importation!$K$1:$O$350,2,FALSE) -> 0 | O19: =O18+N19 -> 100.81 | Q19: =VLOOKUP(S19,Importation!$P$1:$T$350,2,FALSE) -> 0 | T19: =T18+S19 -> 100.81 | V19: =VLOOKUP(X19,Importation!$U$1:$Y$350,2,FALSE) -> 0 | Y19: =Y18+X19 -> 100.81 | AA19: =VLOOKUP(AC19,Importation!$Z$1:$AD$350,2,FALSE) -> 0 | AD19: =AD18+AC19 -> 100.81 | AF19: =VLOOKUP(AH19,Importation!$AE$1:$AI$350,2,FALSE) -> 0 | AI19: =AI18+AH19 -> 100.81 | AK19: =VLOOKUP(AM19,Importation!$AJ$1:$AN$350,2,FALSE) -> 0 | AN19: =AN18+AM19 -> 100.81 | AP19: =VLOOKUP(AR19,Importation!$AO$1:$AS$350,2,FALSE) -> 0 | AS19: =AS18+AR19 -> 100.81 | AU19: =VLOOKUP(AW19,Importation!$AT$1:$AX$350,2,FALSE) -> 0 | AX19: =AX18+AW19 -> 100.81 | AZ19: =VLOOKUP(BB19,Importation!$AY$1:$BC$350,2,FALSE) -> 0 | BC19: =BC18+BB19 -> 100.81 | BE19: =VLOOKUP(BG19,Importation!$BD$1:$BH$350,2,FALSE) -> 0 | BH19: =BH18+BG19 -> 100.81
B20: =VLOOKUP(D20,Importation!$A$1:$E$350,2,FALSE) -> 0 | E20: =E19+D20 -> 100.81 | G20: =VLOOKUP(I20,Importation!$F$1:$J$350,2,FALSE) -> 0 | J20: =J19+I20 -> 100.81 | L20: =VLOOKUP(N20,Importation!$K$1:$O$350,2,FALSE) -> 0 | O20: =O19+N20 -> 100.81 | Q20: =VLOOKUP(S20,Importation!$P$1:$T$350,2,FALSE) -> 0 | T20: =T19+S20 -> 100.81 | V20: =VLOOKUP(X20,Importation!$U$1:$Y$350,2,FALSE) -> 0 | Y20: =Y19+X20 -> 100.81 | AA20: =VLOOKUP(AC20,Importation!$Z$1:$AD$350,2,FALSE) -> 0 | AD20: =AD19+AC20 -> 100.81 | AF20: =VLOOKUP(AH20,Importation!$AE$1:$AI$350,2,FALSE) -> 0 | AI20: =AI19+AH20 -> 100.81 | AK20: =VLOOKUP(AM20,Importation!$AJ$1:$AN$350,2,FALSE) -> 0 | AN20: =AN19+AM20 -> 100.81 | AP20: =VLOOKUP(AR20,Importation!$AO$1:$AS$350,2,FALSE) -> 0 | AS20: =AS19+AR20 -> 100.81 | AU20: =VLOOKUP(AW20,Importation!$AT$1:$AX$350,2,FALSE) -> 0 | AX20: =AX19+AW20 -> 100.81 | AZ20: =VLOOKUP(BB20,Importation!$AY$1:$BC$350,2,FALSE) -> 0 | BC20: =BC19+BB20 -> 100.81 | BE20: =VLOOKUP(BG20,Importation!$BD$1:$BH$350,2,FALSE) -> 0 | BH20: =BH19+BG20 -> 100.81
B21: =VLOOKUP(D21,Importation!$A$1:$E$350,2,FALSE) -> 0 | E21: =E20+D21 -> 100.81 | G21: =VLOOKUP(I21,Importation!$F$1:$J$350,2,FALSE) -> 0 | J21: =J20+I21 -> 100.81 | L21: =VLOOKUP(N21,Importation!$K$1:$O$350,2,FALSE) -> 0 | O21: =O20+N21 -> 100.81 | Q21: =VLOOKUP(S21,Importation!$P$1:$T$350,2,FALSE) -> 0 | T21: =T20+S21 -> 100.81 | V21: =VLOOKUP(X21,Importation!$U$1:$Y$350,2,FALSE) -> 0 | Y21: =Y20+X21 -> 100.81 | AA21: =VLOOKUP(AC21,Importation!$Z$1:$AD$350,2,FALSE) -> 0 | AD21: =AD20+AC21 -> 100.81 | AF21: =VLOOKUP(AH21,Importation!$AE$1:$AI$350,2,FALSE) -> 0 | AI21: =AI20+AH21 -> 100.81 | AK21: =VLOOKUP(AM21,Importation!$AJ$1:$AN$350,2,FALSE) -> 0 | AN21: =AN20+AM21 -> 100.81 | AP21: =VLOOKUP(AR21,Importation!$AO$1:$AS$350,2,FALSE) -> 0 | AS21: =AS20+AR21 -> 100.81 | AU21: =VLOOKUP(AW21,Importation!$AT$1:$AX$350,2,FALSE) -> 0 | AX21: =AX20+AW21 -> 100.81 | AZ21: =VLOOKUP(BB21,Importation!$AY$1:$BC$350,2,FALSE) -> 0 | BC21: =BC20+BB21 -> 100.81 | BE21: =VLOOKUP(BG21,Importation!$BD$1:$BH$350,2,FALSE) -> 0 | BH21: =BH20+BG21 -> 100.81
B22: =VLOOKUP(D22,Importation!$A$1:$E$350,2,FALSE) -> 0 | E22: =E21+D22 -> 100.81 | G22: =VLOOKUP(I22,Importation!$F$1:$J$350,2,FALSE) -> 0 | J22: =J21+I22 -> 100.81 | L22: =VLOOKUP(N22,Importation!$K$1:$O$350,2,FALSE) -> 0 | O22: =O21+N22 -> 100.81 | Q22: =VLOOKUP(S22,Importation!$P$1:$T$350,2,FALSE) -> 0 | T22: =T21+S22 -> 100.81 | V22: =VLOOKUP(X22,Importation!$U$1:$Y$350,2,FALSE) -> 0 | Y22: =Y21+X22 -> 100.81 | AA22: =VLOOKUP(AC22,Importation!$Z$1:$AD$350,2,FALSE) -> 0 | AD22: =AD21+AC22 -> 100.81 | AF22: =VLOOKUP(AH22,Importation!$AE$1:$AI$350,2,FALSE) -> 0 | AI22: =AI21+AH22 -> 100.81 | AK22: =VLOOKUP(AM22,Importation!$AJ$1:$AN$350,2,FALSE) -> 0 | AN22: =AN21+AM22 -> 100.81 | AP22: =VLOOKUP(AR22,Importation!$AO$1:$AS$350,2,FALSE) -> 0 | AS22: =AS21+AR22 -> 100.81 | AU22: =VLOOKUP(AW22,Importation!$AT$1:$AX$350,2,FALSE) -> 0 | AX22: =AX21+AW22 -> 100.81 | AZ22: =VLOOKUP(BB22,Importation!$AY$1:$BC$350,2,FALSE) -> 0 | BC22: =BC21+BB22 -> 100.81 | BE22: =VLOOKUP(BG22,Importation!$BD$1:$BH$350,2,FALSE) -> 0 | BH22: =BH21+BG22 -> 100.81
B23: =VLOOKUP(D23,Importation!$A$1:$E$350,2,FALSE) -> 0 | E23: =E22+D23 -> 100.81 | G23: =VLOOKUP(I23,Importation!$F$1:$J$350,2,FALSE) -> 0 | J23: =J22+I23 -> 100.81 | L23: =VLOOKUP(N23,Importation!$K$1:$O$350,2,FALSE) -> 0 | O23: =O22+N23 -> 100.81 | Q23: =VLOOKUP(S23,Importation!$P$1:$T$350,2,FALSE) -> 0 | T23: =T22+S23 -> 100.81 | V23: =VLOOKUP(X23,Importation!$U$1:$Y$350,2,FALSE) -> 0 | Y23: =Y22+X23 -> 100.81 | AA23: =VLOOKUP(AC23,Importation!$Z$1:$AD$350,2,FALSE) -> 0 | AD23: =AD22+AC23 -> 100.81 | AF23: =VLOOKUP(AH23,Importation!$AE$1:$AI$350,2,FALSE) -> 0 | AI23: =AI22+AH23 -> 100.81 | AK23: =VLOOKUP(AM23,Importation!$AJ$1:$AN$350,2,FALSE) -> 0 | AN23: =AN22+AM23 -> 100.81 | AP23: =VLOOKUP(AR23,Importation!$AO$1:$AS$350,2,FALSE) -> 0 | AS23: =AS22+AR23 -> 100.81 | AU23: =VLOOKUP(AW23,Importation!$AT$1:$AX$350,2,FALSE) -> 0 | AX23: =AX22+AW23 -> 100.81 | AZ23: =VLOOKUP(BB23,Importation!$AY$1:$BC$350,2,FALSE) -> 0 | BC23: =BC22+BB23 -> 100.81 | BE23: =VLOOKUP(BG23,Importation!$BD$1:$BH$350,2,FALSE) -> 0 | BH23: =BH22+BG23 -> 100.81
B24: =VLOOKUP(D24,Importation!$A$1:$E$350,2,FALSE) -> 0 | E24: =E23+D24 -> 100.81 | G24: =VLOOKUP(I24,Importation!$F$1:$J$350,2,FALSE) -> 0 | J24: =J23+I24 -> 100.81 | L24: =VLOOKUP(N24,Importation!$K$1:$O$350,2,FALSE) -> 0 | O24: =O23+N24 -> 100.81 | Q24: =VLOOKUP(S24,Importation!$P$1:$T$350,2,FALSE) -> 0 | T24: =T23+S24 -> 100.81 | V24: =VLOOKUP(X24,Importation!$U$1:$Y$350,2,FALSE) -> 0 | Y24: =Y23+X24 -> 100.81 | AA24: =VLOOKUP(AC24,Importation!$Z$1:$AD$350,2,FALSE) -> 0 | AD24: =AD23+AC24 -> 100.81 | AF24: =VLOOKUP(AH24,Importation!$AE$1:$AI$350,2,FALSE) -> 0 | AI24: =AI23+AH24 -> 100.81 | AK24: =VLOOKUP(AM24,Importation!$AJ$1:$AN$350,2,FALSE) -> 0 | AN24: =AN23+AM24 -> 100.81 | AP24: =VLOOKUP(AR24,Importation!$AO$1:$AS$350,2,FALSE) -> 0 | AS24: =AS23+AR24 -> 100.81 | AU24: =VLOOKUP(AW24,Importation!$AT$1:$AX$350,2,FALSE) -> 0 | AX24: =AX23+AW24 -> 100.81 | AZ24: =VLOOKUP(BB24,Importation!$AY$1:$BC$350,2,FALSE) -> 0 | BC24: =BC23+BB24 -> 100.81 | BE24: =VLOOKUP(BG24,Importation!$BD$1:$BH$350,2,FALSE) -> 0 | BH24: =BH23+BG24 -> 100.81
B25: =VLOOKUP(D25,Importation!$A$1:$E$350,2,FALSE) -> 0 | E25: =E24+D25 -> 100.81 | G25: =VLOOKUP(I25,Importation!$F$1:$J$350,2,FALSE) -> 0 | J25: =J24+I25 -> 100.81 | L25: =VLOOKUP(N25,Importation!$K$1:$O$350,2,FALSE) -> 0 | O25: =O24+N25 -> 100.81 | Q25: =VLOOKUP(S25,Importation!$P$1:$T$350,2,FALSE) -> 0 | T25: =T24+S25 -> 100.81 | V25: =VLOOKUP(X25,Importation!$U$1:$Y$350,2,FALSE) -> 0 | Y25: =Y24+X25 -> 100.81 | AA25: =VLOOKUP(AC25,Importation!$Z$1:$AD$350,2,FALSE) -> 0 | AD25: =AD24+AC25 -> 100.81 | AF25: =VLOOKUP(AH25,Importation!$AE$1:$AI$350,2,FALSE) -> 0 | AI25: =AI24+AH25 -> 100.81 | AK25: =VLOOKUP(AM25,Importation!$AJ$1:$AN$350,2,FALSE) -> 0 | AN25: =AN24+AM25 -> 100.81 | AP25: =VLOOKUP(AR25,Importation!$AO$1:$AS$350,2,FALSE) -> 0 | AS25: =AS24+AR25 -> 100.81 | AU25: =VLOOKUP(AW25,Importation!$AT$1:$AX$350,2,FALSE) -> 0 | AX25: =AX24+AW25 -> 100.81 | AZ25: =VLOOKUP(BB25,Importation!$AY$1:$BC$350,2,FALSE) -> 0 | BC25: =BC24+BB25 -> 100.81 | BE25: =VLOOKUP(BG25,Importation!$BD$1:$BH$350,2,FALSE) -> 0 | BH25: =BH24+BG25 -> 100.81
B26: =VLOOKUP(D26,Importation!$A$1:$E$350,2,FALSE) -> 0 | E26: =E25+D26 -> 100.81 | G26: =VLOOKUP(I26,Importation!$F$1:$J$350,2,FALSE) -> 0 | J26: =J25+I26 -> 100.81 | L26: =VLOOKUP(N26,Importation!$K$1:$O$350,2,FALSE) -> 0 | O26: =O25+N26 -> 100.81 | Q26: =VLOOKUP(S26,Importation!$P$1:$T$350,2,FALSE) -> 0 | T26: =T25+S26 -> 100.81 | V26: =VLOOKUP(X26,Importation!$U$1:$Y$350,2,FALSE) -> 0 | Y26: =Y25+X26 -> 100.81 | AA26: =VLOOKUP(AC26,Importation!$Z$1:$AD$350,2,FALSE) -> 0 | AD26: =AD25+AC26 -> 100.81 | AF26: =VLOOKUP(AH26,Importation!$AE$1:$AI$350,2,FALSE) -> 0 | AI26: =AI25+AH26 -> 100.81 | AK26: =VLOOKUP(AM26,Importation!$AJ$1:$AN$350,2,FALSE) -> 0 | AN26: =AN25+AM26 -> 100.81 | AP26: =VLOOKUP(AR26,Importation!$AO$1:$AS$350,2,FALSE) -> 0 | AS26: =AS25+AR26 -> 100.81 | AU26: =VLOOKUP(AW26,Importation!$AT$1:$AX$350,2,FALSE) -> 0 | AX26: =AX25+AW26 -> 100.81 | AZ26: =VLOOKUP(BB26,Importation!$AY$1:$BC$350,2,FALSE) -> 0 | BC26: =BC25+BB26 -> 100.81 | BE26: =VLOOKUP(BG26,Importation!$BD$1:$BH$350,2,FALSE) -> 0 | BH26: =BH25+BG26 -> 100.81
B27: =VLOOKUP(D27,Importation!$A$1:$E$350,2,FALSE) -> 0 | E27: =E26+D27 -> 100.81 | G27: =VLOOKUP(I27,Importation!$F$1:$J$350,2,FALSE) -> 0 | J27: =J26+I27 -> 100.81 | L27: =VLOOKUP(N27,Importation!$K$1:$O$350,2,FALSE) -> 0 | O27: =O26+N27 -> 100.81 | Q27: =VLOOKUP(S27,Importation!$P$1:$T$350,2,FALSE) -> 0 | T27: =T26+S27 -> 100.81 | V27: =VLOOKUP(X27,Importation!$U$1:$Y$350,2,FALSE) -> 0 | Y27: =Y26+X27 -> 100.81 | AA27: =VLOOKUP(AC27,Importation!$Z$1:$AD$350,2,FALSE) -> 0 | AD27: =AD26+AC27 -> 100.81 | AF27: =VLOOKUP(AH27,Importation!$AE$1:$AI$350,2,FALSE) -> 0 | AI27: =AI26+AH27 -> 100.81 | AK27: =VLOOKUP(AM27,Importation!$AJ$1:$AN$350,2,FALSE) -> 0 | AN27: =AN26+AM27 -> 100.81 | AP27: =VLOOKUP(AR27,Importation!$AO$1:$AS$350,2,FALSE) -> 0 | AS27: =AS26+AR27 -> 100.81 | AU27: =VLOOKUP(AW27,Importation!$AT$1:$AX$350,2,FALSE) -> 0 | AX27: =AX26+AW27 -> 100.81 | AZ27: =VLOOKUP(BB27,Importation!$AY$1:$BC$350,2,FALSE) -> 0 | BC27: =BC26+BB27 -> 100.81 | BE27: =VLOOKUP(BG27,Importation!$BD$1:$BH$350,2,FALSE) -> 0 | BH27: =BH26+BG27 -> 100.81
... B348: =VLOOKUP(D348,Importation!$A$1:$E$350,2,FALSE) -> 0 | E348: =E347+D348 -> 100.81 | G348: =VLOOKUP(I348,Importation!$F$1:$J$350,2,FALSE) -> 0 | J348: =J347+I348 -> 100.81 | L348: =VLOOKUP(N348,Importation!$K$1:$O$350,2,FALSE) -> 0 | O348: =O347+N348 -> 100.81 | Q348: =VLOOKUP(S348,Importation!$P$1:$T$350,2,FALSE) -> 0 | T348: =T347+S348 -> 100.81 | V348: =VLOOKUP(X348,Importation!$U$1:$Y$350,2,FALSE) -> 0 | Y348: =Y347+X348 -> 100.81 | AA348: =VLOOKUP(AC348,Importation!$Z$1:$AD$350,2,FALSE) -> 0 | AD348: =AD347+AC348 -> 100.81 | AF348: =VLOOKUP(AH348,Importation!$AE$1:$AI$350,2,FALSE) -> 0 | AI348: =AI347+AH348 -> 100.81 | AK348: =VLOOKUP(AM348,Importation!$AJ$1:$AN$350,2,FALSE) -> 0 | AN348: =AN347+AM348 -> 100.81 | AP348: =VLOOKUP(AR348,Importation!$AO$1:$AS$350,2,FALSE) -> 0 | AS348: =AS347+AR348 -> 100.81 | AU348: =VLOOKUP(AW348,Importation!$AT$1:$AX$350,2,FALSE) -> 0 | AX348: =AX347+AW348 -> 100.81 | AZ348: =VLOOKUP(BB348,Importation!$AY$1:$BC$350,2,FALSE) -> 0 | BC348: =BC347+BB348 -> 100.81 | BE348: =VLOOKUP(BG348,Importation!$BD$1:$BH$350,2,FALSE) -> 0 | BH348: =BH347+BG348 -> 100.81
E349: =E348+D349 -> 100.81 | G349: =VLOOKUP(I349,Importation!$F$1:$J$350,2,FALSE) -> 0 | J349: =J348+I349 -> 100.81 | L349: =VLOOKUP(N349,Importation!$K$1:$O$350,2,FALSE) -> 0 | O349: =O348+N349 -> 100.81 | Q349: =VLOOKUP(S349,Importation!$P$1:$T$350,2,FALSE) -> 0 | T349: =T348+S349 -> 100.81 | V349: =VLOOKUP(X349,Importation!$U$1:$Y$350,2,FALSE) -> 0 | Y349: =Y348+X349 -> 100.81 | AA349: =VLOOKUP(AC349,Importation!$Z$1:$AD$350,2,FALSE) -> 0 | AD349: =AD348+AC349 -> 100.81 | AF349: =VLOOKUP(AH349,Importation!$AE$1:$AI$350,2,FALSE) -> 0 | AI349: =AI348+AH349 -> 100.81 | AK349: =VLOOKUP(AM349,Importation!$AJ$1:$AN$350,2,FALSE) -> 0 | AN349: =AN348+AM349 -> 100.81 | AP349: =VLOOKUP(AR349,Importation!$AO$1:$AS$350,2,FALSE) -> 0 | AS349: =AS348+AR349 -> 100.81 | AU349: =VLOOKUP(AW349,Importation!$AT$1:$AX$350,2,FALSE) -> 0 | AX349: =AX348+AW349 -> 100.81 | AZ349: =VLOOKUP(BB349,Importation!$AY$1:$BC$350,2,FALSE) -> 0 | BC349: =BC348+BB349 -> 100.81 | BE349: =VLOOKUP(BG349,Importation!$BD$1:$BH$350,2,FALSE) -> 0 | BH349: =BH348+BG349 -> 100.81
E350: =E349+D350 -> 100.81 | G350: =VLOOKUP(I350,Importation!$F$1:$J$350,2,FALSE) -> 0 | J350: =J349+I350 -> 100.81 | L350: =VLOOKUP(N350,Importation!$K$1:$O$350,2,FALSE) -> 0 | O350: =O349+N350 -> 100.81 | Q350: =VLOOKUP(S350,Importation!$P$1:$T$350,2,FALSE) -> 0 | T350: =T349+S350 -> 100.81 | V350: =VLOOKUP(X350,Importation!$U$1:$Y$350,2,FALSE) -> 0 | Y350: =Y349+X350 -> 100.81 | AA350: =VLOOKUP(AC350,Importation!$Z$1:$AD$350,2,FALSE) -> 0 | AD350: =AD349+AC350 -> 100.81 | AF350: =VLOOKUP(AH350,Importation!$AE$1:$AI$350,2,FALSE) -> 0 | AI350: =AI349+AH350 -> 100.81 | AK350: =VLOOKUP(AM350,Importation!$AJ$1:$AN$350,2,FALSE) -> 0 | AN350: =AN349+AM350 -> 100.81 | AP350: =VLOOKUP(AR350,Importation!$AO$1:$AS$350,2,FALSE) -> 0 | AS350: =AS349+AR350 -> 100.81 | AU350: =VLOOKUP(AW350,Importation!$AT$1:$AX$350,2,FALSE) -> 0 | AX350: =AX349+AW350 -> 100.81 | AZ350: =VLOOKUP(BB350,Importation!$AY$1:$BC$350,2,FALSE) -> 0 | BC350: =BC349+BB350 -> 100.81 | BH350: =BH349+BG350 -> 100.81
