Workbook
Name Année_Calendaire: Travail!$A$1
Name Aoû_Dim1: DATE(Année_Calendaire,8,1)-WEEKDAY(DATE(Année_Calendaire,8,1))+1
Name Avr_Dim1: DATE(Année_Calendaire,4,1)-WEEKDAY(DATE(Année_Calendaire,4,1))+1
Name Déc_Dim1: DATE(Année_Calendaire,12,1)-WEEKDAY(DATE(Année_Calendaire,12,1))+1
Name Fév_Dim1: DATE(Année_Calendaire,2,1)-WEEKDAY(DATE(Année_Calendaire,2,1))+1
Name Jan_Dim1: DATE(Année_Calendaire,1,1)-WEEKDAY(DATE(Année_Calendaire,1,1))+1
Name Juil_Dim1: DATE(Année_Calendaire,7,1)-WEEKDAY(DATE(Année_Calendaire,7,1))+1
Name Juin_Dim1: DATE(Année_Calendaire,6,1)-WEEKDAY(DATE(Année_Calendaire,6,1))+1
Name Mai_Dim1: DATE(Année_Calendaire,5,1)-WEEKDAY(DATE(Année_Calendaire,5,1))+1
Name Mar_Dim1: DATE(Année_Calendaire,3,1)-WEEKDAY(DATE(Année_Calendaire,3,1))+1
Name Nov_Dim1: DATE(Année_Calendaire,11,1)-WEEKDAY(DATE(Année_Calendaire,11,1))+1
Name Oct_Dim1: DATE(Année_Calendaire,10,1)-WEEKDAY(DATE(Année_Calendaire,10,1))+1
Name Sep_Dim1: DATE(Année_Calendaire,9,1)-WEEKDAY(DATE(Année_Calendaire,9,1))+1

Sheet Travail
A1: 2016 | B1: c1 : matin LMM | E1: c2 : nuit | G1: C3 : matin LJV | I1: C4 : am | M1: SI(C7="c1";2;SI(C7="c3";2;""))
AZ2: Contigent hs du mois | BA2: Contingent hs cummul
C4: JANVIER | H4: =Année_Calendaire -> 2016 | U4: JANVIER | Z4: =Année_Calendaire -> 2016 | AM4: JANVIER | AR4: =Année_Calendaire -> 2016
B5: c1 | C5: Lun | D5: Mar | E5: Mer | F5: Jeu | G5: Ven | H5: Sam | I5: Dim | J5: Cumul | K5: c2 | L5: Lun | M5: Mar | N5: Mer | O5: Jeu | P5: Ven | Q5: Sam | R5: Dim | S5: Cumul | T5: c3 | U5: Lun | V5: Mar | W5: Mer | X5: Jeu | Y5: Ven | Z5: Sam | AA5: Dim | AB5: Cumul | AC5: c4 | AD5: Lun | AE5: Mar | AF5: Mer | AG5: Jeu | AH5: Ven | AI5: Sam | AJ5: Dim | AK5: Cumul | AL5: c1 | AM5: Lun | AN5: Mar | AO5: Mer | AP5: Jeu | AQ5: Ven | AR5: Sam | AS5: Dim | AT5: Cumul | AU5: c2 | AV5: Lun | AW5: Mar | AX5: Cumul | AY5: Cumul total | AZ5: =AY12+AY13+AY14 -> 10 | BA5: =AZ5 -> 10
C6: =IF(DAY(Jan_Dim1)=1,"",IF(AND(YEAR(Jan_Dim1+1)=Année_Calendaire,MONTH(Jan_Dim1+1)=1),Jan_Dim1+1,"")) | D6: =IF(DAY(Jan_Dim1)=1,"",IF(AND(YEAR(Jan_Dim1+2)=Année_Calendaire,MONTH(Jan_Dim1+2)=1),Jan_Dim1+2,"")) | E6: =IF(DAY(Jan_Dim1)=1,"",IF(AND(YEAR(Jan_Dim1+3)=Année_Calendaire,MONTH(Jan_Dim1+3)=1),Jan_Dim1+3,"")) | F6: =IF(DAY(Jan_Dim1)=1,"",IF(AND(YEAR(Jan_Dim1+4)=Année_Calendaire,MONTH(Jan_Dim1+4)=1),Jan_Dim1+4,"")) | G6: =IF(DAY(Jan_Dim1)=1,"",IF(AND(YEAR(Jan_Dim1+5)=Année_Calendaire,MONTH(Jan_Dim1+5)=1),Jan_Dim1+5,"")) -> 42370 | H6: =IF(DAY(Jan_Dim1)=1,"",IF(AND(YEAR(Jan_Dim1+6)=Année_Calendaire,MONTH(Jan_Dim1+6)=1),Jan_Dim1+6,"")) -> 42371 | I6: =IF(DAY(Jan_Dim1)=1,IF(AND(YEAR(Jan_Dim1)=Année_Calendaire,MONTH(Jan_Dim1)=1),Jan_Dim1,""),IF(AND(YEAR(Jan_Dim1+7)=Année_Calendaire,MONTH(Jan_Dim1+7)=1),Jan_Dim1+7,"")) -> 42372 | L6: =IF(DAY(Jan_Dim1)=1,IF(AND(YEAR(Jan_Dim1+1)=Année_Calendaire,MONTH(Jan_Dim1+1)=1),Jan_Dim1+1,""),IF(AND(YEAR(Jan_Dim1+8)=Année_Calendaire,MONTH(Jan_Dim1+8)=1),Jan_Dim1+8,"")) -> 42373 | M6: =IF(DAY(Jan_Dim1)=1,IF(AND(YEAR(Jan_Dim1+2)=Année_Calendaire,MONTH(Jan_Dim1+2)=1),Jan_Dim1+2,""),IF(AND(YEAR(Jan_Dim1+9)=Année_Calendaire,MONTH(Jan_Dim1+9)=1),Jan_Dim1+9,"")) -> 42374 | N6: =IF(DAY(Jan_Dim1)=1,IF(AND(YEAR(Jan_Dim1+3)=Année_Calendaire,MONTH(Jan_Dim1+3)=1),Jan_Dim1+3,""),IF(AND(YEAR(Jan_Dim1+10)=Année_Calendaire,MONTH(Jan_Dim1+10)=1),Jan_Dim1+10,"")) -> 42375 | O6: =IF(DAY(Jan_Dim1)=1,IF(AND(YEAR(Jan_Dim1+4)=Année_Calendaire,MONTH(Jan_Dim1+4)=1),Jan_Dim1+4,""),IF(AND(YEAR(Jan_Dim1+11)=Année_Calendaire,MONTH(Jan_Dim1+11)=1),Jan_Dim1+11,"")) -> 42376 | P6: =IF(DAY(Jan_Dim1)=1,IF(AND(YEAR(Jan_Dim1+5)=Année_Calendaire,MONTH(Jan_Dim1+5)=1),Jan_Dim1+5,""),IF(AND(YEAR(Jan_Dim1+12)=Année_Calendaire,MONTH(Jan_Dim1+12)=1),Jan_Dim1+12,"")) -> 42377 | Q6: =IF(DAY(Jan_Dim1)=1,IF(AND(YEAR(Jan_Dim1+6)=Année_Calendaire,MONTH(Jan_Dim1+6)=1),Jan_Dim1+6,""),IF(AND(YEAR(Jan_Dim1+13)=Année_Calendaire,MONTH(Jan_Dim1+13)=1),Jan_Dim1+13,"")) -> 42378 | R6: =IF(DAY(Jan_Dim1)=1,IF(AND(YEAR(Jan_Dim1+7)=Année_Calendaire,MONTH(Jan_Dim1+7)=1),Jan_Dim1+7,""),IF(AND(YEAR(Jan_Dim1+14)=Année_Calendaire,MONTH(Jan_Dim1+14)=1),Jan_Dim1+14,"")) -> 42379 | U6: =IF(DAY(Jan_Dim1)=1,IF(AND(YEAR(Jan_Dim1+8)=Année_Calendaire,MONTH(Jan_Dim1+8)=1),Jan_Dim1+8,""),IF(AND(YEAR(Jan_Dim1+15)=Année_Calendaire,MONTH(Jan_Dim1+15)=1),Jan_Dim1+15,"")) -> 42380 | V6: =IF(DAY(Jan_Dim1)=1,IF(AND(YEAR(Jan_Dim1+9)=Année_Calendaire,MONTH(Jan_Dim1+9)=1),Jan_Dim1+9,""),IF(AND(YEAR(Jan_Dim1+16)=Année_Calendaire,MONTH(Jan_Dim1+16)=1),Jan_Dim1+16,"")) -> 42381 | W6: =IF(DAY(Jan_Dim1)=1,IF(AND(YEAR(Jan_Dim1+10)=Année_Calendaire,MONTH(Jan_Dim1+10)=1),Jan_Dim1+10,""),IF(AND(YEAR(Jan_Dim1+17)=Année_Calendaire,MONTH(Jan_Dim1+17)=1),Jan_Dim1+17,"")) -> 42382 | X6: =IF(DAY(Jan_Dim1)=1,IF(AND(YEAR(Jan_Dim1+11)=Année_Calendaire,MONTH(Jan_Dim1+11)=1),Jan_Dim1+11,""),IF(AND(YEAR(Jan_Dim1+18)=Année_Calendaire,MONTH(Jan_Dim1+18)=1),Jan_Dim1+18,"")) -> 42383 | Y6: =IF(DAY(Jan_Dim1)=1,IF(AND(YEAR(Jan_Dim1+12)=Année_Calendaire,MONTH(Jan_Dim1+12)=1),Jan_Dim1+12,""),IF(AND(YEAR(Jan_Dim1+19)=Année_Calendaire,MONTH(Jan_Dim1+19)=1),Jan_Dim1+19,"")) -> 42384 | Z6: =IF(DAY(Jan_Dim1)=1,IF(AND(YEAR(Jan_Dim1+13)=Année_Calendaire,MONTH(Jan_Dim1+13)=1),Jan_Dim1+13,""),IF(AND(YEAR(Jan_Dim1+20)=Année_Calendaire,MONTH(Jan_Dim1+20)=1),Jan_Dim1+20,"")) -> 42385 | AA6: =IF(DAY(Jan_Dim1)=1,IF(AND(YEAR(Jan_Dim1+14)=Année_Calendaire,MONTH(Jan_Dim1+14)=1),Jan_Dim1+14,""),IF(AND(YEAR(Jan_Dim1+21)=Année_Calendaire,MONTH(Jan_Dim1+21)=1),Jan_Dim1+21,"")) -> 42386 | AD6: =IF(DAY(Jan_Dim1)=1,IF(AND(YEAR(Jan_Dim1+15)=Année_Calendaire,MONTH(Jan_Dim1+15)=1),Jan_Dim1+15,""),IF(AND(YEAR(Jan_Dim1+22)=Année_Calendaire,MONTH(Jan_Dim1+22)=1),Jan_Dim1+22,"")) -> 42387 | AE6: =IF(DAY(Jan_Dim1)=1,IF(AND(YEAR(Jan_Dim1+16)=Année_Calendaire,MONTH(Jan_Dim1+16)=1),Jan_Dim1+16,""),IF(AND(YEAR(Jan_Dim1+23)=Année_Calendaire,MONTH(Jan_Dim1+23)=1),Jan_Dim1+23,"")) -> 42388 | AF6: =IF(DAY(Jan_Dim1)=1,IF(AND(YEAR(Jan_Dim1+17)=Année_Calendaire,MONTH(Jan_Dim1+17)=1),Jan_Dim1+17,""),IF(AND(YEAR(Jan_Dim1+24)=Année_Calendaire,MONTH(Jan_Dim1+24)=1),Jan_Dim1+24,"")) -> 42389 | AG6: =IF(DAY(Jan_Dim1)=1,IF(AND(YEAR(Jan_Dim1+18)=Année_Calendaire,MONTH(Jan_Dim1+18)=1),Jan_Dim1+18,""),IF(AND(YEAR(Jan_Dim1+25)=Année_Calendaire,MONTH(Jan_Dim1+25)=1),Jan_Dim1+25,"")) -> 42390 | AH6: =IF(DAY(Jan_Dim1)=1,IF(AND(YEAR(Jan_Dim1+19)=Année_Calendaire,MONTH(Jan_Dim1+19)=1),Jan_Dim1+19,""),IF(AND(YEAR(Jan_Dim1+26)=Année_Calendaire,MONTH(Jan_Dim1+26)=1),Jan_Dim1+26,"")) -> 42391 | AI6: =IF(DAY(Jan_Dim1)=1,IF(AND(YEAR(Jan_Dim1+20)=Année_Calendaire,MONTH(Jan_Dim1+20)=1),Jan_Dim1+20,""),IF(AND(YEAR(Jan_Dim1+27)=Année_Calendaire,MONTH(Jan_Dim1+27)=1),Jan_Dim1+27,"")) -> 42392 | AJ6: =IF(DAY(Jan_Dim1)=1,IF(AND(YEAR(Jan_Dim1+21)=Année_Calendaire,MONTH(Jan_Dim1+21)=1),Jan_Dim1+21,""),IF(AND(YEAR(Jan_Dim1+28)=Année_Calendaire,MONTH(Jan_Dim1+28)=1),Jan_Dim1+28,"")) -> 42393 | AM6: =IF(DAY(Jan_Dim1)=1,IF(AND(YEAR(Jan_Dim1+22)=Année_Calendaire,MONTH(Jan_Dim1+22)=1),Jan_Dim1+22,""),IF(AND(YEAR(Jan_Dim1+29)=Année_Calendaire,MONTH(Jan_Dim1+29)=1),Jan_Dim1+29,"")) -> 42394 | AN6: =IF(DAY(Jan_Dim1)=1,IF(AND(YEAR(Jan_Dim1+23)=Année_Calendaire,MONTH(Jan_Dim1+23)=1),Jan_Dim1+23,""),IF(AND(YEAR(Jan_Dim1+30)=Année_Calendaire,MONTH(Jan_Dim1+30)=1),Jan_Dim1+30,"")) -> 42395 | AO6: =IF(DAY(Jan_Dim1)=1,IF(AND(YEAR(Jan_Dim1+24)=Année_Calendaire,MONTH(Jan_Dim1+24)=1),Jan_Dim1+24,""),IF(AND(YEAR(Jan_Dim1+31)=Année_Calendaire,MONTH(Jan_Dim1+31)=1),Jan_Dim1+31,"")) -> 42396 | AP6: =IF(DAY(Jan_Dim1)=1,IF(AND(YEAR(Jan_Dim1+25)=Année_Calendaire,MONTH(Jan_Dim1+25)=1),Jan_Dim1+25,""),IF(AND(YEAR(Jan_Dim1+32)=Année_Calendaire,MONTH(Jan_Dim1+32)=1),Jan_Dim1+32,"")) -> 42397 | AQ6: =IF(DAY(Jan_Dim1)=1,IF(AND(YEAR(Jan_Dim1+26)=Année_Calendaire,MONTH(Jan_Dim1+26)=1),Jan_Dim1+26,""),IF(AND(YEAR(Jan_Dim1+33)=Année_Calendaire,MONTH(Jan_Dim1+33)=1),Jan_Dim1+33,"")) -> 42398 | AR6: =IF(DAY(Jan_Dim1)=1,IF(AND(YEAR(Jan_Dim1+27)=Année_Calendaire,MONTH(Jan_Dim1+27)=1),Jan_Dim1+27,""),IF(AND(YEAR(Jan_Dim1+34)=Année_Calendaire,MONTH(Jan_Dim1+34)=1),Jan_Dim1+34,"")) -> 42399 | AS6: =IF(DAY(Jan_Dim1)=1,IF(AND(YEAR(Jan_Dim1+28)=Année_Calendaire,MONTH(Jan_Dim1+28)=1),Jan_Dim1+28,""),IF(AND(YEAR(Jan_Dim1+35)=Année_Calendaire,MONTH(Jan_Dim1+35)=1),Jan_Dim1+35,"")) -> 42400 | AV6: =IF(DAY(Jan_Dim1)=1,IF(AND(YEAR(Jan_Dim1+29)=Année_Calendaire,MONTH(Jan_Dim1+29)=1),Jan_Dim1+29,""),IF(AND(YEAR(Jan_Dim1+36)=Année_Calendaire,MONTH(Jan_Dim1+36)=1),Jan_Dim1+36,"")) | AW6: =IF(DAY(Jan_Dim1)=1,IF(AND(YEAR(Jan_Dim1+30)=Année_Calendaire,MONTH(Jan_Dim1+30)=1),Jan_Dim1+30,""),IF(AND(YEAR(Jan_Dim1+37)=Année_Calendaire,MONTH(Jan_Dim1+37)=1),Jan_Dim1+37,""))
A7: Equipe | C7: =IFERROR(VLOOKUP(B5,DATA!$A:$H,2,TRUE),0) -> matin | D7: =IFERROR(VLOOKUP(B5,DATA!$A:$H,3,TRUE),0) -> matin | E7: =IFERROR(VLOOKUP(B5,DATA!$A:$H,4,TRUE),0) -> matin | F7: =IFERROR(VLOOKUP(B5,DATA!$A:$H,5,TRUE),0) -> 0 | G7: =IFERROR(VLOOKUP(B5,DATA!$A:$H,6,TRUE),0) -> 0 | H7: =IFERROR(VLOOKUP(B5,DATA!$A:$H,7,TRUE),0) -> 0 | I7: =IFERROR(VLOOKUP(B5,DATA!$A:$H,8,TRUE),0) -> 0 | L7: =IFERROR(VLOOKUP(K5,DATA!$A:$H,2,TRUE),0) -> nuit | M7: =IFERROR(VLOOKUP(K5,DATA!$A:$H,3,TRUE),0) -> nuit | N7: =IFERROR(VLOOKUP(K5,DATA!$A:$H,4,TRUE),0) -> nuit | O7: =IFERROR(VLOOKUP(K5,DATA!$A:$H,5,TRUE),0) -> nuit | P7: =IFERROR(VLOOKUP(K5,DATA!$A:$H,6,TRUE),0) -> nuit | Q7: =IFERROR(VLOOKUP(K5,DATA!$A:$H,7,TRUE),0) -> 0 | R7: =IFERROR(VLOOKUP(K5,DATA!$A:$H,8,TRUE),0) -> 0 | U7: =IFERROR(VLOOKUP(T5,DATA!$A:$H,2,TRUE),0) -> matin | V7: =IFERROR(VLOOKUP(T5,DATA!$A:$H,3,TRUE),0) -> 0 | W7: =IFERROR(VLOOKUP(T5,DATA!$A:$H,4,TRUE),0) -> 0 | X7: =IFERROR(VLOOKUP(T5,DATA!$A:$H,5,TRUE),0) -> matin | Y7: =IFERROR(VLOOKUP(T5,DATA!$A:$H,6,TRUE),0) -> matin | Z7: =IFERROR(VLOOKUP(T5,DATA!$A:$H,7,TRUE),0) -> 0 | AA7: =IFERROR(VLOOKUP(T5,DATA!$A:$H,8,TRUE),0) -> 0 | AD7: =IFERROR(VLOOKUP(AC5,DATA!$A:$H,2,TRUE),0) -> am | AE7: =IFERROR(VLOOKUP(AC5,DATA!$A:$H,3,TRUE),0) -> am | AF7: =IFERROR(VLOOKUP(AC5,DATA!$A:$H,4,TRUE),0) -> am | AG7: =IFERROR(VLOOKUP(AC5,DATA!$A:$H,5,TRUE),0) -> am | AH7: =IFERROR(VLOOKUP(AC5,DATA!$A:$H,6,TRUE),0) -> am | AI7: =IFERROR(VLOOKUP(AC5,DATA!$A:$H,7,TRUE),0) -> 0 | AJ7: =IFERROR(VLOOKUP(AC5,DATA!$A:$H,8,TRUE),0) -> 0 | AM7: =IFERROR(VLOOKUP(AL5,DATA!$A:$H,2,TRUE),0) -> matin | AN7: =IFERROR(VLOOKUP(AL5,DATA!$A:$H,3,TRUE),0) -> matin | AO7: =IFERROR(VLOOKUP(AL5,DATA!$A:$H,4,TRUE),0) -> matin | AP7: =IFERROR(VLOOKUP(AL5,DATA!$A:$H,5,TRUE),0) -> 0 | AQ7: =IFERROR(VLOOKUP(AL5,DATA!$A:$H,6,TRUE),0) -> 0 | AR7: =IFERROR(VLOOKUP(AL5,DATA!$A:$H,7,TRUE),0) -> 0 | AS7: =IFERROR(VLOOKUP(AL5,DATA!$A:$H,8,TRUE),0) -> 0 | AV7: =IFERROR(VLOOKUP(AU5,DATA!$A:$H,2,TRUE),0) -> nuit | AW7: =IFERROR(VLOOKUP(AU5,DATA!$A:$H,3,TRUE),0) -> nuit
A8: Ticket resto | C8: =IF(C7="Matin",1,IF(C7="AM",1,0)) -> 1 | D8: =IF(D7="Matin",1,IF(D7="AM",1,0)) -> 1 | E8: =IF(E7="Matin",1,IF(E7="AM",1,0)) -> 1 | F8: =IF(F7="Matin",1,IF(F7="AM",1,0)) -> 0 | G8: =IF(G7="Matin",1,IF(G7="AM",1,0)) -> 0 | H8: =IF(H7="Matin",1,IF(H7="AM",1,0)) -> 0 | I8: =IF(I7="Matin",1,IF(I7="AM",1,0)) -> 0 | J8: =SUM(C8:I8) -> 3 | L8: =IF(L7="Matin",1,IF(L7="AM",1,0)) -> 0 | M8: =IF(M7="Matin",1,IF(M7="AM",1,0)) -> 0 | N8: =IF(N7="Matin",1,IF(N7="AM",1,0)) -> 0 | O8: =IF(O7="Matin",1,IF(O7="AM",1,0)) -> 0 | P8: =IF(P7="Matin",1,IF(P7="AM",1,0)) -> 0 | Q8: =IF(Q7="Matin",1,IF(Q7="AM",1,0)) -> 0 | R8: =IF(R7="Matin",1,IF(R7="AM",1,0)) -> 0 | S8: =SUM(L8:R8) -> 0 | U8: =IF(U7="Matin",1,IF(U7="AM",1,0)) -> 1 | V8: =IF(V7="Matin",1,IF(V7="AM",1,0)) -> 0 | W8: =IF(W7="Matin",1,IF(W7="AM",1,0)) -> 0 | X8: =IF(X7="Matin",1,IF(X7="AM",1,0)) -> 1 | Y8: =IF(Y7="Matin",1,IF(Y7="AM",1,0)) -> 1 | Z8: =IF(Z7="Matin",1,IF(Z7="AM",1,0)) -> 0 | AA8: =IF(AA7="Matin",1,IF(AA7="AM",1,0)) -> 0 | AB8: =SUM(U8:AA8) -> 3 | AD8: =IF(AD7="Matin",1,IF(AD7="AM",1,0)) -> 1 | AE8: =IF(AE7="Matin",1,IF(AE7="AM",1,0)) -> 1 | AF8: =IF(AF7="Matin",1,IF(AF7="AM",1,0)) -> 1 | AG8: =IF(AG7="Matin",1,IF(AG7="AM",1,0)) -> 1 | AH8: =IF(AH7="Matin",1,IF(AH7="AM",1,0)) -> 1 | AI8: =IF(AI7="Matin",1,IF(AI7="AM",1,0)) -> 0 | AJ8: =IF(AJ7="Matin",1,IF(AJ7="AM",1,0)) -> 0 | AK8: =SUM(AD8:AJ8) -> 5 | AM8: =IF(AM7="Matin",1,IF(AM7="AM",1,0)) -> 1 | AN8: =IF(AN7="Matin",1,IF(AN7="AM",1,0)) -> 1 | AO8: =IF(AO7="Matin",1,IF(AO7="AM",1,0)) -> 1 | AP8: =IF(AP7="Matin",1,IF(AP7="AM",1,0)) -> 0 | AQ8: =IF(AQ7="Matin",1,IF(AQ7="AM",1,0)) -> 0 | AR8: =IF(AR7="Matin",1,IF(AR7="AM",1,0)) -> 0 | AS8: =IF(AS7="Matin",1,IF(AS7="AM",1,0)) -> 0 | AT8: =SUM(AM8:AS8) -> 3 | AV8: =IF(AV7="Matin",1,IF(AV7="AM",1,0)) -> 0 | AW8: =IF(AW7="Matin",1,IF(AW7="AM",1,0)) -> 0 | AX8: =SUM(AV8:AW8) -> 0 | AY8: =J8+S8+AB8+AK8+AT8+AX8 -> 14
A9: Travailler | C9: =IF(C10>=1,1,0) -> 1 | D9: =IF(D10>=1,1,0) -> 1 | E9: =IF(E10>=1,1,0) -> 1 | F9: =IF(F10>=1,1,0) -> 0 | G9: =IF(G10>=1,1,0) -> 0 | H9: =IF(H10>=1,1,0) -> 0 | I9: =IF(I10>=1,1,0) -> 0 | J9: =SUM(C9:I9) -> 3 | L9: =IF(L10>=1,1,0) -> 1 | M9: =IF(M10>=1,1,0) -> 1 | N9: =IF(N10>=1,1,0) -> 1 | O9: =IF(O10>=1,1,0) -> 1 | P9: =IF(P10>=1,1,0) -> 1 | Q9: =IF(Q10>=1,1,0) -> 0 | R9: =IF(R10>=1,1,0) -> 0 | S9: =SUM(L9:R9) -> 5 | U9: =IF(U10>=1,1,0) -> 1 | V9: =IF(V10>=1,1,0) -> 0 | W9: =IF(W10>=1,1,0) -> 0 | X9: =IF(X10>=1,1,0) -> 1 | Y9: =IF(Y10>=1,1,0) -> 1 | Z9: =IF(Z10>=1,1,0) -> 0 | AA9: =IF(AA10>=1,1,0) -> 0 | AB9: =SUM(U9:AA9) -> 3 | AD9: =IF(AD10>=1,1,0) -> 1 | AE9: =IF(AE10>=1,1,0) -> 1 | AF9: =IF(AF10>=1,1,0) -> 1 | AG9: =IF(AG10>=1,1,0) -> 1 | AH9: =IF(AH10>=1,1,0) -> 1 | AI9: =IF(AI10>=1,1,0) -> 0 | AJ9: =IF(AJ10>=1,1,0) -> 0 | AK9: =SUM(AD9:AJ9) -> 5 | AM9: =IF(AM10>=1,1,0) -> 1 | AN9: =IF(AN10>=1,1,0) -> 1 | AO9: =IF(AO10>=1,1,0) -> 1 | AP9: =IF(AP10>=1,1,0) -> 0 | AQ9: =IF(AQ10>=1,1,0) -> 0 | AR9: =IF(AR10>=1,1,0) -> 0 | AS9: =IF(AS10>=1,1,0) -> 0 | AT9: =SUM(AM9:AS9) -> 3 | AV9: =IF(AV10>=1,1,0) -> 1 | AW9: =IF(AW10>=1,1,0) -> 1 | AX9: =SUM(AV9:AW9) -> 2 | AY9: =J9+S9+AB9+AK9+AT9+AX9 -> 21
A10: Nbr heure | C10: =IF(C7="Matin",8,IF(C7="AM",8,IF(C7="nuit",8,0))) -> 8 | D10: =IF(D7="Matin",8,IF(D7="AM",8,IF(D7="nuit",8,0))) -> 8 | E10: =IF(E7="Matin",8,IF(E7="AM",8,IF(E7="nuit",8,0))) -> 8 | F10: =IF(F7="Matin",8,IF(F7="AM",8,IF(F7="nuit",8,0))) -> 0 | G10: =IF(G7="Matin",8,IF(G7="AM",8,IF(G7="nuit",8,0))) -> 0 | H10: =IF(H7="Matin",8,IF(H7="AM",8,IF(H7="nuit",8,0))) -> 0 | I10: =IF(I7="Matin",8,IF(I7="AM",8,IF(I7="nuit",8,0))) -> 0 | J10: =SUM(C10:I10) -> 24 | L10: =IF(L7="Matin",8,IF(L7="AM",8,IF(L7="nuit",8,0))) -> 8 | M10: =IF(M7="Matin",8,IF(M7="AM",8,IF(M7="nuit",8,0))) -> 8 | N10: =IF(N7="Matin",8,IF(N7="AM",8,IF(N7="nuit",8,0))) -> 8 | O10: =IF(O7="Matin",8,IF(O7="AM",8,IF(O7="nuit",8,0))) -> 8 | P10: =IF(P7="Matin",8,IF(P7="AM",8,IF(P7="nuit",8,0))) -> 8 | Q10: =IF(Q7="Matin",8,IF(Q7="AM",8,IF(Q7="nuit",8,0))) -> 0 | R10: =IF(R7="Matin",8,IF(R7="AM",8,IF(R7="nuit",8,0))) -> 0 | S10: =SUM(L10:R10) -> 40 | U10: =IF(U7="Matin",8,IF(U7="AM",8,IF(U7="nuit",8,0))) -> 8 | V10: =IF(V7="Matin",8,IF(V7="AM",8,IF(V7="nuit",8,0))) -> 0 | W10: =IF(W7="Matin",8,IF(W7="AM",8,IF(W7="nuit",8,0))) -> 0 | X10: =IF(X7="Matin",8,IF(X7="AM",8,IF(X7="nuit",8,0))) -> 8 | Y10: =IF(Y7="Matin",8,IF(Y7="AM",8,IF(Y7="nuit",8,0))) -> 8 | Z10: =IF(Z7="Matin",8,IF(Z7="AM",8,IF(Z7="nuit",8,0))) -> 0 | AA10: =IF(AA7="Matin",8,IF(AA7="AM",8,IF(AA7="nuit",8,0))) -> 0 | AB10: =SUM(U10:AA10) -> 24 | AD10: =IF(AD7="Matin",8,IF(AD7="AM",8,IF(AD7="nuit",8,0))) -> 8 | AE10: =IF(AE7="Matin",8,IF(AE7="AM",8,IF(AE7="nuit",8,0))) -> 8 | AF10: =IF(AF7="Matin",8,IF(AF7="AM",8,IF(AF7="nuit",8,0))) -> 8 | AG10: =IF(AG7="Matin",8,IF(AG7="AM",8,IF(AG7="nuit",8,0))) -> 8 | AH10: =IF(AH7="Matin",8,IF(AH7="AM",8,IF(AH7="nuit",8,0))) -> 8 | AI10: =IF(AI7="Matin",8,IF(AI7="AM",8,IF(AI7="nuit",8,0))) -> 0 | AJ10: =IF(AJ7="Matin",8,IF(AJ7="AM",8,IF(AJ7="nuit",8,0))) -> 0 | AK10: =SUM(AD10:AJ10) -> 40 | AM10: =IF(AM7="Matin",8,IF(AM7="AM",8,IF(AM7="nuit",8,0))) -> 8 | AN10: =IF(AN7="Matin",8,IF(AN7="AM",8,IF(AN7="nuit",8,0))) -> 8 | AO10: =IF(AO7="Matin",8,IF(AO7="AM",8,IF(AO7="nuit",8,0))) -> 8 | AP10: =IF(AP7="Matin",8,IF(AP7="AM",8,IF(AP7="nuit",8,0))) -> 0 | AQ10: =IF(AQ7="Matin",8,IF(AQ7="AM",8,IF(AQ7="nuit",8,0))) -> 0 | AR10: =IF(AR7="Matin",8,IF(AR7="AM",8,IF(AR7="nuit",8,0))) -> 0 | AS10: =IF(AS7="Matin",8,IF(AS7="AM",8,IF(AS7="nuit",8,0))) -> 0 | AT10: =SUM(AM10:AS10) -> 24 | AV10: =IF(AV7="Matin",8,IF(AV7="AM",8,IF(AV7="nuit",8,0))) -> 8 | AW10: =IF(AW7="Matin",8,IF(AW7="AM",8,IF(AW7="nuit",8,0))) -> 8 | AX10: =SUM(AV10:AW10) -> 16 | AY10: =J10+S10+AB10+AK10+AT10+AX10 -> 168
A11: Heure comp | C11: =IF(C5<>"Dim",IF(C10>32,MIN(C10,35)-32,0),0) -> 0 | D11: =IF(D5<>"Dim",IF(SUM($C10:D10)>32,MIN(SUM($C10:D10),35)-32-SUM($C11:C11),0),0) -> 0 | E11: =IF(E5<>"Dim",IF(SUM($C10:E10)>32,MIN(SUM($C10:E10),35)-32-SUM($C11:D11),0),0) -> 0 | F11: =IF(F5<>"Dim",IF(SUM($C10:F10)>32,MIN(SUM($C10:F10),35)-32-SUM($C11:E11),0),0) -> 0 | G11: =IF(G5<>"Dim",IF(SUM($C10:G10)>32,MIN(SUM($C10:G10),35)-32-SUM($C11:F11),0),0) -> 0 | H11: =IF(H5<>"Dim",IF(SUM($C10:H10)>32,MIN(SUM($C10:H10),35)-32-SUM($C11:G11),0),0) -> 0 | I11: =IF(I5<>"Dim",IF(SUM($C10:I10)>32,MIN(SUM($C10:I10),35)-32-SUM($C11:H11),0),0) -> 0 | J11: =SUM(C11:I11) -> 0 | L11: =IF(L5<>"Dim",IF(L10>32,MIN(L10,35)-32,0),0) -> 0 | M11: =IF(M5<>"Dim",IF(SUM($L10:M10)>32,MIN(SUM($L10:M10),35)-32-SUM($L11:L11),0),0) -> 0 | N11: =IF(N5<>"Dim",IF(SUM($L10:N10)>32,MIN(SUM($L10:N10),35)-32-SUM($L11:M11),0),0) -> 0 | O11: =IF(O5<>"Dim",IF(SUM($L10:O10)>32,MIN(SUM($L10:O10),35)-32-SUM($L11:N11),0),0) -> 0 | P11: =IF(P5<>"Dim",IF(SUM($L10:P10)>32,MIN(SUM($L10:P10),35)-32-SUM($L11:O11),0),0) -> 3 | Q11: =IF(Q5<>"Dim",IF(SUM($L10:Q10)>32,MIN(SUM($L10:Q10),35)-32-SUM($L11:P11),0),0) -> 0 | R11: =IF(R5<>"Dim",IF(SUM($L10:R10)>32,MIN(SUM($L10:R10),35)-32-SUM($L11:Q11),0),0) -> 0 | S11: =SUM(L11:R11) -> 3 | U11: =IF(U5<>"Dim",IF(U10>32,MIN(U10,35)-32,0),0) -> 0 | V11: =IF(V5<>"Dim",IF(SUM($U10:V10)>32,MIN(SUM($U10:V10),35)-32-SUM($U11:U11),0),0) -> 0 | W11: =IF(W5<>"Dim",IF(SUM($U10:W10)>32,MIN(SUM($U10:W10),35)-32-SUM($U11:V11),0),0) -> 0 | X11: =IF(X5<>"Dim",IF(SUM($U10:X10)>32,MIN(SUM($U10:X10),35)-32-SUM($U11:W11),0),0) -> 0 | Y11: =IF(Y5<>"Dim",IF(SUM($U10:Y10)>32,MIN(SUM($U10:Y10),35)-32-SUM($U11:X11),0),0) -> 0 | Z11: =IF(Z5<>"Dim",IF(SUM($U10:Z10)>32,MIN(SUM($U10:Z10),35)-32-SUM($U11:Y11),0),0) -> 0 | AA11: =IF(AA5<>"Dim",IF(SUM($U10:AA10)>32,MIN(SUM($U10:AA10),35)-32-SUM($U11:Z11),0),0) -> 0 | AB11: =SUM(U11:AA11) -> 0 | AD11: =IF(AD5<>"Dim",IF(AD10>32,MIN(AD10,35)-32,0),0) -> 0 | AE11: =IF(AE5<>"Dim",IF(SUM($AD10:AE10)>32,MIN(SUM($AD10:AE10),35)-32-SUM($AD11:AD11),0),0) -> 0 | AF11: =IF(AF5<>"Dim",IF(SUM($AD10:AF10)>32,MIN(SUM($AD10:AF10),35)-32-SUM($AD11:AE11),0),0) -> 0 | AG11: =IF(AG5<>"Dim",IF(SUM($AD10:AG10)>32,MIN(SUM($AD10:AG10),35)-32-SUM($AD11:AF11),0),0) -> 0 | AH11: =IF(AH5<>"Dim",IF(SUM($AD10:AH10)>32,MIN(SUM($AD10:AH10),35)-32-SUM($AD11:AG11),0),0) -> 3 | AI11: =IF(AI5<>"Dim",IF(SUM($AD10:AI10)>32,MIN(SUM($AD10:AI10),35)-32-SUM($AD11:AH11),0),0) -> 0 | AJ11: =IF(AJ5<>"Dim",IF(SUM($AD10:AJ10)>32,MIN(SUM($AD10:AJ10),35)-32-SUM($AD11:AI11),0),0) -> 0 | AK11: =SUM(AD11:AJ11) -> 3 | AM11: =IF(AM5<>"Dim",IF(AM10>32,MIN(AM10,35)-32,0),0) -> 0 | AN11: =IF(AN5<>"Dim",IF(SUM($AM10:AN10)>32,MIN(SUM($AM10:AN10),35)-32-SUM($AM11:AM11),0),0) -> 0 | AO11: =IF(AO5<>"Dim",IF(SUM($AM10:AO10)>32,MIN(SUM($AM10:AO10),35)-32-SUM($AM11:AN11),0),0) -> 0 | AP11: =IF(AP5<>"Dim",IF(SUM($AM10:AP10)>32,MIN(SUM($AM10:AP10),35)-32-SUM($AM11:AO11),0),0) -> 0 | AQ11: =IF(AQ5<>"Dim",IF(SUM($AM10:AQ10)>32,MIN(SUM($AM10:AQ10),35)-32-SUM($AM11:AP11),0),0) -> 0 | AR11: =IF(AR5<>"Dim",IF(SUM($AM10:AR10)>32,MIN(SUM($AM10:AR10),35)-32-SUM($AM11:AQ11),0),0) -> 0 | AS11: =IF(AS5<>"Dim",IF(SUM($AM10:AS10)>32,MIN(SUM($AM10:AS10),35)-32-SUM($AM11:AR11),0),0) -> 0 | AT11: =SUM(AM11:AS11) -> 0 | AV11: =IF(AV5<>"Dim",IF(AV10>32,MIN(AV10,35)-32,0),0) -> 0 | AW11: =IF(AW5<>"Dim",IF(SUM($AV10:AW10)>32,MIN(SUM($AV10:AW10),35)-32-SUM($AV11:AV11),0),0) -> 0 | AX11: =SUM(AV11:AW11) -> 0 | AY11: =J11+S11+AB11+AK11+AT11+AX11 -> 6
A12: HS 25% | C12: =IF(C5<>"Dim",IF(C10>35,(MIN(C10,43)-35),0),0) -> 0 | D12: =IF(D5<>"Dim",IF(SUM($C10:D10)>35,(MIN(SUM($C10:D10),43)-35-SUM($C12:C12)),0),0) -> 0 | E12: =IF(E5<>"Dim",IF(SUM($C10:E10)>35,(MIN(SUM($C10:E10),43)-35-SUM($C12:D12)),0),0) -> 0 | F12: =IF(F5<>"Dim",IF(SUM($C10:F10)>35,(MIN(SUM($C10:F10),43)-35-SUM($C12:E12)),0),0) -> 0 | G12: =IF(G5<>"Dim",IF(SUM($C10:G10)>35,(MIN(SUM($C10:G10),43)-35-SUM($C12:F12)),0),0) -> 0 | H12: =IF(H5<>"Dim",IF(SUM($C10:H10)>35,(MIN(SUM($C10:H10),43)-35-SUM($C12:G12)),0),0) -> 0 | I12: =IF(I5<>"Dim",IF(SUM($C10:I10)>35,(MIN(SUM($C10:I10),43)-35-SUM($C12:H12)),0),0) -> 0 | J12: =SUM(C12:I12) -> 0 | L12: =IF(L5<>"Dim",IF(L10>35,(MIN(L10,43)-35),0),0) -> 0 | M12: =IF(M5<>"Dim",IF(SUM($L10:M10)>35,(MIN(SUM($L10:M10),43)-35-SUM($L12:L12)),0),0) -> 0 | N12: =IF(N5<>"Dim",IF(SUM($L10:N10)>35,(MIN(SUM($L10:N10),43)-35-SUM($L12:M12)),0),0) -> 0 | O12: =IF(O5<>"Dim",IF(SUM($L10:O10)>35,(MIN(SUM($L10:O10),43)-35-SUM($L12:N12)),0),0) -> 0 | P12: =IF(P5<>"Dim",IF(SUM($L10:P10)>35,(MIN(SUM($L10:P10),43)-35-SUM($L12:O12)),0),0) -> 5 | Q12: =IF(Q5<>"Dim",IF(SUM($L10:Q10)>35,(MIN(SUM($L10:Q10),43)-35-SUM($L12:P12)),0),0) -> 0 | R12: =IF(R5<>"Dim",IF(SUM($L10:R10)>35,(MIN(SUM($L10:R10),43)-35-SUM($L12:Q12)),0),0) -> 0 | S12: =SUM(L12:R12) -> 5 | U12: =IF(U5<>"Dim",IF(U10>35,(MIN(U10,43)-35),0),0) -> 0 | V12: =IF(V5<>"Dim",IF(SUM($U10:V10)>35,(MIN(SUM($U10:V10),43)-35-SUM($U12:U12)),0),0) -> 0 | W12: =IF(W5<>"Dim",IF(SUM($U10:W10)>35,(MIN(SUM($U10:W10),43)-35-SUM($U12:V12)),0),0) -> 0 | X12: =IF(X5<>"Dim",IF(SUM($U10:X10)>35,(MIN(SUM($U10:X10),43)-35-SUM($U12:W12)),0),0) -> 0 | Y12: =IF(Y5<>"Dim",IF(SUM($U10:Y10)>35,(MIN(SUM($U10:Y10),43)-35-SUM($U12:X12)),0),0) -> 0 | Z12: =IF(Z5<>"Dim",IF(SUM($U10:Z10)>35,(MIN(SUM($U10:Z10),43)-35-SUM($U12:Y12)),0),0) -> 0 | AA12: =IF(AA5<>"Dim",IF(SUM($U10:AA10)>35,(MIN(SUM($U10:AA10),43)-35-SUM($U12:Z12)),0),0) -> 0 | AB12: =SUM(U12:AA12) -> 0 | AD12: =IF(AD5<>"Dim",IF(AD10>35,(MIN(AD10,43)-35),0),0) -> 0 | AE12: =IF(AE5<>"Dim",IF(SUM($AD10:AE10)>35,(MIN(SUM($AD10:AE10),43)-35-SUM($AD12:AD12)),0),0) -> 0 | AF12: =IF(AF5<>"Dim",IF(SUM($AD10:AF10)>35,(MIN(SUM($AD10:AF10),43)-35-SUM($AD12:AE12)),0),0) -> 0 | AG12: =IF(AG5<>"Dim",IF(SUM($AD10:AG10)>35,(MIN(SUM($AD10:AG10),43)-35-SUM($AD12:AF12)),0),0) -> 0 | AH12: =IF(AH5<>"Dim",IF(SUM($AD10:AH10)>35,(MIN(SUM($AD10:AH10),43)-35-SUM($AD12:AG12)),0),0) -> 5 | AI12: =IF(AI5<>"Dim",IF(SUM($AD10:AI10)>35,(MIN(SUM($AD10:AI10),43)-35-SUM($AD12:AH12)),0),0) -> 0 | AJ12: =IF(AJ5<>"Dim",IF(SUM($AD10:AJ10)>35,(MIN(SUM($AD10:AJ10),43)-35-SUM($AD12:AI12)),0),0) -> 0 | AK12: =SUM(AD12:AJ12) -> 5 | AM12: =IF(AM5<>"Dim",IF(AM10>35,(MIN(AM10,43)-35),0),0) -> 0 | AN12: =IF(AN5<>"Dim",IF(SUM($AM10:AN10)>35,(MIN(SUM($AM10:AN10),43)-35-SUM($AM12:AM12)),0),0) -> 0 | AO12: =IF(AO5<>"Dim",IF(SUM($AM10:AO10)>35,(MIN(SUM($AM10:AO10),43)-35-SUM($AM12:AN12)),0),0) -> 0 | AP12: =IF(AP5<>"Dim",IF(SUM($AM10:AP10)>35,(MIN(SUM($AM10:AP10),43)-35-SUM($AM12:AO12)),0),0) -> 0 | AQ12: =IF(AQ5<>"Dim",IF(SUM($AM10:AQ10)>35,(MIN(SUM($AM10:AQ10),43)-35-SUM($AM12:AP12)),0),0) -> 0 | AR12: =IF(AR5<>"Dim",IF(SUM($AM10:AR10)>35,(MIN(SUM($AM10:AR10),43)-35-SUM($AM12:AQ12)),0),0) -> 0 | AS12: =IF(AS5<>"Dim",IF(SUM($AM10:AS10)>35,(MIN(SUM($AM10:AS10),43)-35-SUM($AM12:AR12)),0),0) -> 0 | AT12: =SUM(AM12:AS12) -> 0 | AV12: =IF(AV5<>"Dim",IF(AV10>35,(MIN(AV10,43)-35),0),0) -> 0 | AW12: =IF(AW5<>"Dim",IF(SUM($AV10:AW10)>35,(MIN(SUM($AV10:AW10),43)-35-SUM($AV12:AV12)),0),0) -> 0 | AX12: =SUM(AV12:AW12) -> 0 | AY12: =J12+S12+AB12+AK12+AT12+AX12 -> 10
A13: HS 50% | C13: =IF(C5<>"Dim",IF(C10>43,(MIN(C10,48)-43),0),0) -> 0 | D13: =IF(D5<>"Dim",IF(SUM($C10:D10)>43,(MIN(SUM($C10:D10),48)-43-SUM($C13:C13)),0),0) -> 0 | E13: =IF(E5<>"Dim",IF(SUM($C10:E10)>43,(MIN(SUM($C10:E10),48)-43-SUM($C13:D13)),0),0) -> 0 | F13: =IF(F5<>"Dim",IF(SUM($C10:F10)>43,(MIN(SUM($C10:F10),48)-43-SUM($C13:E13)),0),0) -> 0 | G13: =IF(G5<>"Dim",IF(SUM($C10:G10)>43,(MIN(SUM($C10:G10),48)-43-SUM($C13:F13)),0),0) -> 0 | H13: =IF(H5<>"Dim",IF(SUM($C10:H10)>43,(MIN(SUM($C10:H10),48)-43-SUM($C13:G13)),0),0) -> 0 | I13: =IF(I5<>"Dim",IF(SUM($C10:I10)>43,(MIN(SUM($C10:I10),48)-43-SUM($C13:H13)),0),0) -> 0 | J13: =SUM(C13:I13) -> 0 | L13: =IF(L5<>"Dim",IF(L10>43,(MIN(L10,48)-43),0),0) -> 0 | M13: =IF(M5<>"Dim",IF(SUM($L10:M10)>43,(MIN(SUM($L10:M10),48)-43-SUM($L13:L13)),0),0) -> 0 | N13: =IF(N5<>"Dim",IF(SUM($L10:N10)>43,(MIN(SUM($L10:N10),48)-43-SUM($L13:M13)),0),0) -> 0 | O13: =IF(O5<>"Dim",IF(SUM($L10:O10)>43,(MIN(SUM($L10:O10),48)-43-SUM($L13:N13)),0),0) -> 0 | P13: =IF(P5<>"Dim",IF(SUM($L10:P10)>43,(MIN(SUM($L10:P10),48)-43-SUM($L13:O13)),0),0) -> 0 | Q13: =IF(Q5<>"Dim",IF(SUM($L10:Q10)>43,(MIN(SUM($L10:Q10),48)-43-SUM($L13:P13)),0),0) -> 0 | R13: =IF(R5<>"Dim",IF(SUM($L10:R10)>43,(MIN(SUM($L10:R10),48)-43-SUM($L13:Q13)),0),0) -> 0 | S13: =SUM(L13:R13) -> 0 | U13: =IF(U5<>"Dim",IF(U10>43,(MIN(U10,48)-43),0),0) -> 0 | V13: =IF(V5<>"Dim",IF(SUM($U10:V10)>43,(MIN(SUM($U10:V10),48)-43-SUM($U13:U13)),0),0) -> 0 | W13: =IF(W5<>"Dim",IF(SUM($U10:W10)>43,(MIN(SUM($U10:W10),48)-43-SUM($U13:V13)),0),0) -> 0 | X13: =IF(X5<>"Dim",IF(SUM($U10:X10)>43,(MIN(SUM($U10:X10),48)-43-SUM($U13:W13)),0),0) -> 0 | Y13: =IF(Y5<>"Dim",IF(SUM($U10:Y10)>43,(MIN(SUM($U10:Y10),48)-43-SUM($U13:X13)),0),0) -> 0 | Z13: =IF(Z5<>"Dim",IF(SUM($U10:Z10)>43,(MIN(SUM($U10:Z10),48)-43-SUM($U13:Y13)),0),0) -> 0 | AA13: =IF(AA5<>"Dim",IF(SUM($U10:AA10)>43,(MIN(SUM($U10:AA10),48)-43-SUM($U13:Z13)),0),0) -> 0 | AB13: =SUM(U13:AA13) -> 0 | AD13: =IF(AD5<>"Dim",IF(AD10>43,(MIN(AD10,48)-43),0),0) -> 0 | AE13: =IF(AE5<>"Dim",IF(SUM($AD10:AE10)>43,(MIN(SUM($AD10:AE10),48)-43-SUM($AD13:AD13)),0),0) -> 0 | AF13: =IF(AF5<>"Dim",IF(SUM($AD10:AF10)>43,(MIN(SUM($AD10:AF10),48)-43-SUM($AD13:AE13)),0),0) -> 0 | AG13: =IF(AG5<>"Dim",IF(SUM($AD10:AG10)>43,(MIN(SUM($AD10:AG10),48)-43-SUM($AD13:AF13)),0),0) -> 0 | AH13: =IF(AH5<>"Dim",IF(SUM($AD10:AH10)>43,(MIN(SUM($AD10:AH10),48)-43-SUM($AD13:AG13)),0),0) -> 0 | AI13: =IF(AI5<>"Dim",IF(SUM($AD10:AI10)>43,(MIN(SUM($AD10:AI10),48)-43-SUM($AD13:AH13)),0),0) -> 0 | AJ13: =IF(AJ5<>"Dim",IF(SUM($AD10:AJ10)>43,(MIN(SUM($AD10:AJ10),48)-43-SUM($AD13:AI13)),0),0) -> 0 | AK13: =SUM(AD13:AJ13) -> 0 | AM13: =IF(AM5<>"Dim",IF(AM10>43,(MIN(AM10,48)-43),0),0) -> 0 | AN13: =IF(AN5<>"Dim",IF(SUM($AM10:AN10)>43,(MIN(SUM($AM10:AN10),48)-43-SUM($AM13:AM13)),0),0) -> 0 | AO13: =IF(AO5<>"Dim",IF(SUM($AM10:AO10)>43,(MIN(SUM($AM10:AO10),48)-43-SUM($AM13:AN13)),0),0) -> 0 | AP13: =IF(AP5<>"Dim",IF(SUM($AM10:AP10)>43,(MIN(SUM($AM10:AP10),48)-43-SUM($AM13:AO13)),0),0) -> 0 | AQ13: =IF(AQ5<>"Dim",IF(SUM($AM10:AQ10)>43,(MIN(SUM($AM10:AQ10),48)-43-SUM($AM13:AP13)),0),0) -> 0 | AR13: =IF(AR5<>"Dim",IF(SUM($AM10:AR10)>43,(MIN(SUM($AM10:AR10),48)-43-SUM($AM13:AQ13)),0),0) -> 0 | AS13: =IF(AS5<>"Dim",IF(SUM($AM10:AS10)>43,(MIN(SUM($AM10:AS10),48)-43-SUM($AM13:AR13)),0),0) -> 0 | AT13: =SUM(AM13:AS13) -> 0 | AV13: =IF(AV5<>"Dim",IF(AV10>43,(MIN(AV10,48)-43),0),0) -> 0 | AW13: =IF(AW5<>"Dim",IF(SUM($AV10:AW10)>43,(MIN(SUM($AV10:AW10),48)-43-SUM($AV13:AV13)),0),0) -> 0 | AX13: =SUM(AV13:AW13) -> 0 | AY13: =J13+S13+AB13+AK13+AT13+AX13 -> 0
A14: HS 200% | C14: =IF(C5="Dim",C10,IF(C20="ferie",C10,0)) -> 0 | D14: =IF(D5="Dim",D10,IF(D20="ferie",D10,0)) -> 0 | E14: =IF(E5="Dim",E10,IF(E20="ferie",E10,0)) -> 0 | F14: =IF(F5="Dim",F10,IF(F20="ferie",F10,0)) -> 0 | G14: =IF(G5="Dim",G10,IF(G20="ferie",G10,0)) -> 0 | H14: =IF(H5="Dim",H10,IF(H20="ferie",H10,0)) -> 0 | I14: =IF(I5="Dim",I10,IF(I20="ferie",I10,0)) -> 0 | J14: =SUM(C14:I14) -> 0 | L14: =IF(L5="Dim",L10,IF(L20="ferie",L10,0)) -> 0 | M14: =IF(M5="Dim",M10,IF(M20="ferie",M10,0)) -> 0 | N14: =IF(N5="Dim",N10,IF(N20="ferie",N10,0)) -> 0 | O14: =IF(O5="Dim",O10,IF(O20="ferie",O10,0)) -> 0 | P14: =IF(P5="Dim",P10,IF(P20="ferie",P10,0)) -> 0 | Q14: =IF(Q5="Dim",Q10,IF(Q20="ferie",Q10,0)) -> 0 | R14: =IF(R5="Dim",R10,IF(R20="ferie",R10,0)) -> 0 | S14: =SUM(L14:R14) -> 0 | U14: =IF(U5="Dim",U10,IF(U20="ferie",U10,0)) -> 0 | V14: =IF(V5="Dim",V10,IF(V20="ferie",V10,0)) -> 0 | W14: =IF(W5="Dim",W10,IF(W20="ferie",W10,0)) -> 0 | X14: =IF(X5="Dim",X10,IF(X20="ferie",X10,0)) -> 0 | Y14: =IF(Y5="Dim",Y10,IF(Y20="ferie",Y10,0)) -> 0 | Z14: =IF(Z5="Dim",Z10,IF(Z20="ferie",Z10,0)) -> 0 | AA14: =IF(AA5="Dim",AA10,IF(AA20="ferie",AA10,0)) -> 0 | AB14: =SUM(U14:AA14) -> 0 | AD14: =IF(AD5="Dim",AD10,IF(AD20="ferie",AD10,0)) -> 0 | AE14: =IF(AE5="Dim",AE10,IF(AE20="ferie",AE10,0)) -> 0 | AF14: =IF(AF5="Dim",AF10,IF(AF20="ferie",AF10,0)) -> 0 | AG14: =IF(AG5="Dim",AG10,IF(AG20="ferie",AG10,0)) -> 0 | AH14: =IF(AH5="Dim",AH10,IF(AH20="ferie",AH10,0)) -> 0 | AI14: =IF(AI5="Dim",AI10,IF(AI20="ferie",AI10,0)) -> 0 | AJ14: =IF(AJ5="Dim",AJ10,IF(AJ20="ferie",AJ10,0)) -> 0 | AK14: =SUM(AD14:AJ14) -> 0 | AM14: =IF(AM5="Dim",AM10,IF(AM20="ferie",AM10,0)) -> 0 | AN14: =IF(AN5="Dim",AN10,IF(AN20="ferie",AN10,0)) -> 0 | AO14: =IF(AO5="Dim",AO10,IF(AO20="ferie",AO10,0)) -> 0 | AP14: =IF(AP5="Dim",AP10,IF(AP20="ferie",AP10,0)) -> 0 | AQ14: =IF(AQ5="Dim",AQ10,IF(AQ20="ferie",AQ10,0)) -> 0 | AR14: =IF(AR5="Dim",AR10,IF(AR20="ferie",AR10,0)) -> 0 | AS14: =IF(AS5="Dim",AS10,IF(AS20="ferie",AS10,0)) -> 0 | AT14: =SUM(AM14:AS14) -> 0 | AV14: =IF(AV5="Dim",AV10,IF(AV20="ferie",AV10,0)) -> 0 | AW14: =IF(AW5="Dim",AW10,IF(AW20="ferie",AW10,0)) -> 0 | AX14: =SUM(AV14:AW14) -> 0 | AY14: =J14+S14+AB14+AK14+AT14+AX14 -> 0
A15: HR + | J15: =SUM(C15:I15) -> 0 | S15: =SUM(L15:R15) -> 0 | AB15: =SUM(U15:AA15) -> 0 | AK15: =SUM(AD15:AJ15) -> 0 | AT15: =SUM(AM15:AS15) -> 0 | AX15: =SUM(AV15:AW15) -> 0 | AY15: =J15+S15+AB15+AK15+AT15+AX15 -> 0
A16: HR - | J16: =SUM(C16:I16) -> 0 | S16: =SUM(L16:R16) -> 0 | AB16: =SUM(U16:AA16) -> 0 | AK16: =SUM(AD16:AJ16) -> 0 | AT16: =SUM(AM16:AS16) -> 0 | AX16: =SUM(AV16:AW16) -> 0 | AY16: =J16+S16+AB16+AK16+AT16+AX16 -> 0
A17: CP - | J17: =SUM(C17:I17) -> 0 | S17: =SUM(L17:R17) -> 0 | AB17: =SUM(U17:AA17) -> 0 | AK17: =SUM(AD17:AJ17) -> 0 | AT17: =SUM(AM17:AS17) -> 0 | AX17: =SUM(AV17:AW17) -> 0 | AY17: =J17+S17+AB17+AK17+AT17+AX17 -> 0
A18: RC - | J18: =SUM(C18:I18) -> 0 | S18: =SUM(L18:R18) -> 0 | AB18: =SUM(U18:AA18) -> 0 | AK18: =SUM(AD18:AJ18) -> 0 | AT18: =SUM(AM18:AS18) -> 0 | AX18: =SUM(AV18:AW18) -> 0 | AY18: =J18+S18+AB18+AK18+AT18+AX18 -> 0
A19: RC nuit | C19: =IF(C7="nuit",C10*0.02,0) -> 0 | D19: =IF(D7="nuit",D10*0.02,0) -> 0 | E19: =IF(E7="nuit",E10*0.02,0) -> 0 | F19: =IF(F7="nuit",F10*0.02,0) -> 0 | G19: =IF(G7="nuit",G10*0.02,0) -> 0 | H19: =IF(H7="nuit",H10*0.02,0) -> 0 | I19: =IF(I7="nuit",I10*0.02,0) -> 0 | J19: =SUM(C19:I19) -> 0 | L19: =IF(L7="nuit",L10*0.02,0) -> 0.16 | M19: =IF(M7="nuit",M10*0.02,0) -> 0.16 | N19: =IF(N7="nuit",N10*0.02,0) -> 0.16 | O19: =IF(O7="nuit",O10*0.02,0) -> 0.16 | P19: =IF(P7="nuit",P10*0.02,0) -> 0.16 | Q19: =IF(Q7="nuit",Q10*0.02,0) -> 0 | R19: =IF(R7="nuit",R10*0.02,0) -> 0 | S19: =SUM(L19:R19) -> 0.8 | U19: =IF(U7="nuit",U10*0.02,0) -> 0 | V19: =IF(V7="nuit",V10*0.02,0) -> 0 | W19: =IF(W7="nuit",W10*0.02,0) -> 0 | X19: =IF(X7="nuit",X10*0.02,0) -> 0 | Y19: =IF(Y7="nuit",Y10*0.02,0) -> 0 | Z19: =IF(Z7="nuit",Z10*0.02,0) -> 0 | AA19: =IF(AA7="nuit",AA10*0.02,0) -> 0 | AB19: =SUM(U19:AA19) -> 0 | AD19: =IF(AD7="nuit",AD10*0.02,0) -> 0 | AE19: =IF(AE7="nuit",AE10*0.02,0) -> 0 | AF19: =IF(AF7="nuit",AF10*0.02,0) -> 0 | AG19: =IF(AG7="nuit",AG10*0.02,0) -> 0 | AH19: =IF(AH7="nuit",AH10*0.02,0) -> 0 | AI19: =IF(AI7="nuit",AI10*0.02,0) -> 0 | AJ19: =IF(AJ7="nuit",AJ10*0.02,0) -> 0 | AK19: =SUM(AD19:AJ19) -> 0 | AM19: =IF(AM7="nuit",AM10*0.02,0) -> 0 | AN19: =IF(AN7="nuit",AN10*0.02,0) -> 0 | AO19: =IF(AO7="nuit",AO10*0.02,0) -> 0 | AP19: =IF(AP7="nuit",AP10*0.02,0) -> 0 | AQ19: =IF(AQ7="nuit",AQ10*0.02,0) -> 0 | AR19: =IF(AR7="nuit",AR10*0.02,0) -> 0 | AS19: =IF(AS7="nuit",AS10*0.02,0) -> 0 | AT19: =SUM(AM19:AS19) -> 0 | AV19: =IF(AV7="nuit",AV10*0.02,0) -> 0.16 | AW19: =IF(AW7="nuit",AW10*0.02,0) -> 0.16 | AX19: =SUM(AV19:AW19) -> 0.32 | AY19: =J19+S19+AB19+AK19+AT19+AX19 -> 1.12
A20: Note
C22: FÉVRIER | H22: =Année_Calendaire -> 2016 | U22: FÉVRIER | Z22: =Année_Calendaire -> 2016 | AM22: FÉVRIER | AR22: =Année_Calendaire -> 2016
C23: Lun | D23: Mar | E23: Mer | F23: Jeu | G23: Ven | H23: Sam | I23: Dim | J23: Cumul | L23: Lun | M23: Mar | N23: Mer | O23: Jeu | P23: Ven | Q23: Sam | R23: Dim | S23: Cumul | U23: Lun | V23: Mar | W23: Mer | X23: Jeu | Y23: Ven | Z23: Sam | AA23: Dim | AB23: Cumul | AD23: Lun | AE23: Mar | AF23: Mer | AG23: Jeu | AH23: Ven | AI23: Sam | AJ23: Dim | AK23: Cumul | AM23: Lun | AN23: Mar | AO23: Mer | AP23: Jeu | AQ23: Ven | AR23: Sam | AS23: Dim | AT23: Cumul | AU23: c1 | AV23: Lun | AW23: Mar | AX23: Cumul | AY23: Cumul total | AZ23: =AY30+AY31+AY32 -> 0 | BA23: =AZ23+BA5 -> 10
C24: =IF(DAY(Fév_Dim1)=1,"",IF(AND(YEAR(Fév_Dim1+1)=Année_Calendaire,MONTH(Fév_Dim1+1)=2),Fév_Dim1+1,"")) -> 42401 | D24: =IF(DAY(Fév_Dim1)=1,"",IF(AND(YEAR(Fév_Dim1+2)=Année_Calendaire,MONTH(Fév_Dim1+2)=2),Fév_Dim1+2,"")) -> 42402 | E24: =IF(DAY(Fév_Dim1)=1,"",IF(AND(YEAR(Fév_Dim1+3)=Année_Calendaire,MONTH(Fév_Dim1+3)=2),Fév_Dim1+3,"")) -> 42403 | F24: =IF(DAY(Fév_Dim1)=1,"",IF(AND(YEAR(Fév_Dim1+4)=Année_Calendaire,MONTH(Fév_Dim1+4)=2),Fév_Dim1+4,"")) -> 42404 | G24: =IF(DAY(Fév_Dim1)=1,"",IF(AND(YEAR(Fév_Dim1+5)=Année_Calendaire,MONTH(Fév_Dim1+5)=2),Fév_Dim1+5,"")) -> 42405 | H24: =IF(DAY(Fév_Dim1)=1,"",IF(AND(YEAR(Fév_Dim1+6)=Année_Calendaire,MONTH(Fév_Dim1+6)=2),Fév_Dim1+6,"")) -> 42406 | I24: =IF(DAY(Fév_Dim1)=1,IF(AND(YEAR(Fév_Dim1)=Année_Calendaire,MONTH(Fév_Dim1)=2),Fév_Dim1,""),IF(AND(YEAR(Fév_Dim1+7)=Année_Calendaire,MONTH(Fév_Dim1+7)=2),Fév_Dim1+7,"")) -> 42407 | L24: =IF(DAY(Fév_Dim1)=1,IF(AND(YEAR(Fév_Dim1+1)=Année_Calendaire,MONTH(Fév_Dim1+1)=2),Fév_Dim1+1,""),IF(AND(YEAR(Fév_Dim1+8)=Année_Calendaire,MONTH(Fév_Dim1+8)=2),Fév_Dim1+8,"")) -> 42408 | M24: =IF(DAY(Fév_Dim1)=1,IF(AND(YEAR(Fév_Dim1+2)=Année_Calendaire,MONTH(Fév_Dim1+2)=2),Fév_Dim1+2,""),IF(AND(YEAR(Fév_Dim1+9)=Année_Calendaire,MONTH(Fév_Dim1+9)=2),Fév_Dim1+9,"")) -> 42409 | N24: =IF(DAY(Fév_Dim1)=1,IF(AND(YEAR(Fév_Dim1+3)=Année_Calendaire,MONTH(Fév_Dim1+3)=2),Fév_Dim1+3,""),IF(AND(YEAR(Fév_Dim1+10)=Année_Calendaire,MONTH(Fév_Dim1+10)=2),Fév_Dim1+10,"")) -> 42410 | O24: =IF(DAY(Fév_Dim1)=1,IF(AND(YEAR(Fév_Dim1+4)=Année_Calendaire,MONTH(Fév_Dim1+4)=2),Fév_Dim1+4,""),IF(AND(YEAR(Fév_Dim1+11)=Année_Calendaire,MONTH(Fév_Dim1+11)=2),Fév_Dim1+11,"")) -> 42411 | P24: =IF(DAY(Fév_Dim1)=1,IF(AND(YEAR(Fév_Dim1+5)=Année_Calendaire,MONTH(Fév_Dim1+5)=2),Fév_Dim1+5,""),IF(AND(YEAR(Fév_Dim1+12)=Année_Calendaire,MONTH(Fév_Dim1+12)=2),Fév_Dim1+12,"")) -> 42412 | Q24: =IF(DAY(Fév_Dim1)=1,IF(AND(YEAR(Fév_Dim1+6)=Année_Calendaire,MONTH(Fév_Dim1+6)=2),Fév_Dim1+6,""),IF(AND(YEAR(Fév_Dim1+13)=Année_Calendaire,MONTH(Fév_Dim1+13)=2),Fév_Dim1+13,"")) -> 42413 | R24: =IF(DAY(Fév_Dim1)=1,IF(AND(YEAR(Fév_Dim1+7)=Année_Calendaire,MONTH(Fév_Dim1+7)=2),Fév_Dim1+7,""),IF(AND(YEAR(Fév_Dim1+14)=Année_Calendaire,MONTH(Fév_Dim1+14)=2),Fév_Dim1+14,"")) -> 42414 | U24: =IF(DAY(Fév_Dim1)=1,IF(AND(YEAR(Fév_Dim1+8)=Année_Calendaire,MONTH(Fév_Dim1+8)=2),Fév_Dim1+8,""),IF(AND(YEAR(Fév_Dim1+15)=Année_Calendaire,MONTH(Fév_Dim1+15)=2),Fév_Dim1+15,"")) -> 42415 | V24: =IF(DAY(Fév_Dim1)=1,IF(AND(YEAR(Fév_Dim1+9)=Année_Calendaire,MONTH(Fév_Dim1+9)=2),Fév_Dim1+9,""),IF(AND(YEAR(Fév_Dim1+16)=Année_Calendaire,MONTH(Fév_Dim1+16)=2),Fév_Dim1+16,"")) -> 42416 | W24: =IF(DAY(Fév_Dim1)=1,IF(AND(YEAR(Fév_Dim1+10)=Année_Calendaire,MONTH(Fév_Dim1+10)=2),Fév_Dim1+10,""),IF(AND(YEAR(Fév_Dim1+17)=Année_Calendaire,MONTH(Fév_Dim1+17)=2),Fév_Dim1+17,"")) -> 42417 | X24: =IF(DAY(Fév_Dim1)=1,IF(AND(YEAR(Fév_Dim1+11)=Année_Calendaire,MONTH(Fév_Dim1+11)=2),Fév_Dim1+11,""),IF(AND(YEAR(Fév_Dim1+18)=Année_Calendaire,MONTH(Fév_Dim1+18)=2),Fév_Dim1+18,"")) -> 42418 | Y24: =IF(DAY(Fév_Dim1)=1,IF(AND(YEAR(Fév_Dim1+12)=Année_Calendaire,MONTH(Fév_Dim1+12)=2),Fév_Dim1+12,""),IF(AND(YEAR(Fév_Dim1+19)=Année_Calendaire,MONTH(Fév_Dim1+19)=2),Fév_Dim1+19,"")) -> 42419 | Z24: =IF(DAY(Fév_Dim1)=1,IF(AND(YEAR(Fév_Dim1+13)=Année_Calendaire,MONTH(Fév_Dim1+13)=2),Fév_Dim1+13,""),IF(AND(YEAR(Fév_Dim1+20)=Année_Calendaire,MONTH(Fév_Dim1+20)=2),Fév_Dim1+20,"")) -> 42420 | AA24: =IF(DAY(Fév_Dim1)=1,IF(AND(YEAR(Fév_Dim1+14)=Année_Calendaire,MONTH(Fév_Dim1+14)=2),Fév_Dim1+14,""),IF(AND(YEAR(Fév_Dim1+21)=Année_Calendaire,MONTH(Fév_Dim1+21)=2),Fév_Dim1+21,"")) -> 42421 | AD24: =IF(DAY(Fév_Dim1)=1,IF(AND(YEAR(Fév_Dim1+15)=Année_Calendaire,MONTH(Fév_Dim1+15)=2),Fév_Dim1+15,""),IF(AND(YEAR(Fév_Dim1+22)=Année_Calendaire,MONTH(Fév_Dim1+22)=2),Fév_Dim1+22,"")) -> 42422 | AE24: =IF(DAY(Fév_Dim1)=1,IF(AND(YEAR(Fév_Dim1+16)=Année_Calendaire,MONTH(Fév_Dim1+16)=2),Fév_Dim1+16,""),IF(AND(YEAR(Fév_Dim1+23)=Année_Calendaire,MONTH(Fév_Dim1+23)=2),Fév_Dim1+23,"")) -> 42423 | AF24: =IF(DAY(Fév_Dim1)=1,IF(AND(YEAR(Fév_Dim1+17)=Année_Calendaire,MONTH(Fév_Dim1+17)=2),Fév_Dim1+17,""),IF(AND(YEAR(Fév_Dim1+24)=Année_Calendaire,MONTH(Fév_Dim1+24)=2),Fév_Dim1+24,"")) -> 42424 | AG24: =IF(DAY(Fév_Dim1)=1,IF(AND(YEAR(Fév_Dim1+18)=Année_Calendaire,MONTH(Fév_Dim1+18)=2),Fév_Dim1+18,""),IF(AND(YEAR(Fév_Dim1+25)=Année_Calendaire,MONTH(Fév_Dim1+25)=2),Fév_Dim1+25,"")) -> 42425 | AH24: =IF(DAY(Fév_Dim1)=1,IF(AND(YEAR(Fév_Dim1+19)=Année_Calendaire,MONTH(Fév_Dim1+19)=2),Fév_Dim1+19,""),IF(AND(YEAR(Fév_Dim1+26)=Année_Calendaire,MONTH(Fév_Dim1+26)=2),Fév_Dim1+26,"")) -> 42426 | AI24: =IF(DAY(Fév_Dim1)=1,IF(AND(YEAR(Fév_Dim1+20)=Année_Calendaire,MONTH(Fév_Dim1+20)=2),Fév_Dim1+20,""),IF(AND(YEAR(Fév_Dim1+27)=Année_Calendaire,MONTH(Fév_Dim1+27)=2),Fév_Dim1+27,"")) -> 42427 | AJ24: =IF(DAY(Fév_Dim1)=1,IF(AND(YEAR(Fév_Dim1+21)=Année_Calendaire,MONTH(Fév_Dim1+21)=2),Fév_Dim1+21,""),IF(AND(YEAR(Fév_Dim1+28)=Année_Calendaire,MONTH(Fév_Dim1+28)=2),Fév_Dim1+28,"")) -> 42428 | AM24: =IF(DAY(Fév_Dim1)=1,IF(AND(YEAR(Fév_Dim1+22)=Année_Calendaire,MONTH(Fév_Dim1+22)=2),Fév_Dim1+22,""),IF(AND(YEAR(Fév_Dim1+29)=Année_Calendaire,MONTH(Fév_Dim1+29)=2),Fév_Dim1+29,"")) -> 42429 | AN24: =IF(DAY(Fév_Dim1)=1,IF(AND(YEAR(Fév_Dim1+23)=Année_Calendaire,MONTH(Fév_Dim1+23)=2),Fév_Dim1+23,""),IF(AND(YEAR(Fév_Dim1+30)=Année_Calendaire,MONTH(Fév_Dim1+30)=2),Fév_Dim1+30,"")) | AO24: =IF(DAY(Fév_Dim1)=1,IF(AND(YEAR(Fév_Dim1+24)=Année_Calendaire,MONTH(Fév_Dim1+24)=2),Fév_Dim1+24,""),IF(AND(YEAR(Fév_Dim1+31)=Année_Calendaire,MONTH(Fév_Dim1+31)=2),Fév_Dim1+31,"")) | AP24: =IF(DAY(Fév_Dim1)=1,IF(AND(YEAR(Fév_Dim1+25)=Année_Calendaire,MONTH(Fév_Dim1+25)=2),Fév_Dim1+25,""),IF(AND(YEAR(Fév_Dim1+32)=Année_Calendaire,MONTH(Fév_Dim1+32)=2),Fév_Dim1+32,"")) | AQ24: =IF(DAY(Fév_Dim1)=1,IF(AND(YEAR(Fév_Dim1+26)=Année_Calendaire,MONTH(Fév_Dim1+26)=2),Fév_Dim1+26,""),IF(AND(YEAR(Fév_Dim1+33)=Année_Calendaire,MONTH(Fév_Dim1+33)=2),Fév_Dim1+33,"")) | AR24: =IF(DAY(Fév_Dim1)=1,IF(AND(YEAR(Fév_Dim1+27)=Année_Calendaire,MONTH(Fév_Dim1+27)=2),Fév_Dim1+27,""),IF(AND(YEAR(Fév_Dim1+34)=Année_Calendaire,MONTH(Fév_Dim1+34)=2),Fév_Dim1+34,"")) | AS24: =IF(DAY(Fév_Dim1)=1,IF(AND(YEAR(Fév_Dim1+28)=Année_Calendaire,MONTH(Fév_Dim1+28)=2),Fév_Dim1+28,""),IF(AND(YEAR(Fév_Dim1+35)=Année_Calendaire,MONTH(Fév_Dim1+35)=2),Fév_Dim1+35,"")) | AV24: =IF(DAY(Fév_Dim1)=1,IF(AND(YEAR(Fév_Dim1+29)=Année_Calendaire,MONTH(Fév_Dim1+29)=2),Fév_Dim1+29,""),IF(AND(YEAR(Fév_Dim1+36)=Année_Calendaire,MONTH(Fév_Dim1+36)=2),Fév_Dim1+36,"")) | AW24: =IF(DAY(Fév_Dim1)=1,IF(AND(YEAR(Fév_Dim1+30)=Année_Calendaire,MONTH(Fév_Dim1+30)=2),Fév_Dim1+30,""),IF(AND(YEAR(Fév_Dim1+37)=Année_Calendaire,MONTH(Fév_Dim1+37)=2),Fév_Dim1+37,""))
A25: Equipe | C25: =IFERROR(VLOOKUP(B23,DATA!$A:$H,2,TRUE),0) -> 0 | D25: =IFERROR(VLOOKUP(B23,DATA!$A:$H,3,TRUE),0) -> 0 | E25: =IFERROR(VLOOKUP(B23,DATA!$A:$H,4,TRUE),0) -> 0 | F25: =IFERROR(VLOOKUP(B23,DATA!$A:$H,5,TRUE),0) -> 0 | G25: =IFERROR(VLOOKUP(B23,DATA!$A:$H,6,TRUE),0) -> 0 | H25: =IFERROR(VLOOKUP(B23,DATA!$A:$H,7,TRUE),0) -> 0 | I25: =IFERROR(VLOOKUP(B23,DATA!$A:$H,8,TRUE),0) -> 0 | L25: =IFERROR(VLOOKUP(K23,DATA!$A:$H,2,TRUE),0) -> 0 | M25: =IFERROR(VLOOKUP(K23,DATA!$A:$H,3,TRUE),0) -> 0 | N25: =IFERROR(VLOOKUP(K23,DATA!$A:$H,4,TRUE),0) -> 0 | O25: =IFERROR(VLOOKUP(K23,DATA!$A:$H,5,TRUE),0) -> 0 | P25: =IFERROR(VLOOKUP(K23,DATA!$A:$H,6,TRUE),0) -> 0 | Q25: =IFERROR(VLOOKUP(K23,DATA!$A:$H,7,TRUE),0) -> 0 | R25: =IFERROR(VLOOKUP(K23,DATA!$A:$H,8,TRUE),0) -> 0 | U25: =IFERROR(VLOOKUP(T23,DATA!$A:$H,2,TRUE),0) -> 0 | V25: =IFERROR(VLOOKUP(T23,DATA!$A:$H,3,TRUE),0) -> 0 | W25: =IFERROR(VLOOKUP(T23,DATA!$A:$H,4,TRUE),0) -> 0 | X25: =IFERROR(VLOOKUP(T23,DATA!$A:$H,5,TRUE),0) -> 0 | Y25: =IFERROR(VLOOKUP(T23,DATA!$A:$H,6,TRUE),0) -> 0 | Z25: =IFERROR(VLOOKUP(T23,DATA!$A:$H,7,TRUE),0) -> 0 | AA25: =IFERROR(VLOOKUP(T23,DATA!$A:$H,8,TRUE),0) -> 0 | AD25: =IFERROR(VLOOKUP(AC23,DATA!$A:$H,2,TRUE),0) -> 0 | AE25: =IFERROR(VLOOKUP(AC23,DATA!$A:$H,3,TRUE),0) -> 0 | AF25: =IFERROR(VLOOKUP(AC23,DATA!$A:$H,4,TRUE),0) -> 0 | AG25: =IFERROR(VLOOKUP(AC23,DATA!$A:$H,5,TRUE),0) -> 0 | AH25: =IFERROR(VLOOKUP(AC23,DATA!$A:$H,6,TRUE),0) -> 0 | AI25: =IFERROR(VLOOKUP(AC23,DATA!$A:$H,7,TRUE),0) -> 0 | AJ25: =IFERROR(VLOOKUP(AC23,DATA!$A:$H,8,TRUE),0) -> 0 | AM25: =IFERROR(VLOOKUP(AL23,DATA!$A:$H,2,TRUE),0) -> 0 | AN25: =IFERROR(VLOOKUP(AL23,DATA!$A:$H,3,TRUE),0) -> 0 | AO25: =IFERROR(VLOOKUP(AL23,DATA!$A:$H,4,TRUE),0) -> 0 | AP25: =IFERROR(VLOOKUP(AL23,DATA!$A:$H,5,TRUE),0) -> 0 | AQ25: =IFERROR(VLOOKUP(AL23,DATA!$A:$H,6,TRUE),0) -> 0 | AR25: =IFERROR(VLOOKUP(AL23,DATA!$A:$H,7,TRUE),0) -> 0 | AS25: =IFERROR(VLOOKUP(AL23,DATA!$A:$H,8,TRUE),0) -> 0 | AV25: =IFERROR(VLOOKUP(AU23,DATA!$A:$H,2,TRUE),0) -> matin | AW25: =IFERROR(VLOOKUP(AU23,DATA!$A:$H,3,TRUE),0) -> matin
A26: Ticket resto | C26: =IF(C25="Matin",1,IF(C25="AM",1,0)) -> 0 | D26: =IF(D25="Matin",1,IF(D25="AM",1,0)) -> 0 | E26: =IF(E25="Matin",1,IF(E25="AM",1,0)) -> 0 | F26: =IF(F25="Matin",1,IF(F25="AM",1,0)) -> 0 | G26: =IF(G25="Matin",1,IF(G25="AM",1,0)) -> 0 | H26: =IF(H25="Matin",1,IF(H25="AM",1,0)) -> 0 | I26: =IF(I25="Matin",1,IF(I25="AM",1,0)) -> 0 | J26: =SUM(C26:I26) -> 0 | L26: =IF(L25="Matin",1,IF(L25="AM",1,0)) -> 0 | M26: =IF(M25="Matin",1,IF(M25="AM",1,0)) -> 0 | N26: =IF(N25="Matin",1,IF(N25="AM",1,0)) -> 0 | O26: =IF(O25="Matin",1,IF(O25="AM",1,0)) -> 0 | P26: =IF(P25="Matin",1,IF(P25="AM",1,0)) -> 0 | Q26: =IF(Q25="Matin",1,IF(Q25="AM",1,0)) -> 0 | R26: =IF(R25="Matin",1,IF(R25="AM",1,0)) -> 0 | S26: =SUM(L26:R26) -> 0 | U26: =IF(U25="Matin",1,IF(U25="AM",1,0)) -> 0 | V26: =IF(V25="Matin",1,IF(V25="AM",1,0)) -> 0 | W26: =IF(W25="Matin",1,IF(W25="AM",1,0)) -> 0 | X26: =IF(X25="Matin",1,IF(X25="AM",1,0)) -> 0 | Y26: =IF(Y25="Matin",1,IF(Y25="AM",1,0)) -> 0 | Z26: =IF(Z25="Matin",1,IF(Z25="AM",1,0)) -> 0 | AA26: =IF(AA25="Matin",1,IF(AA25="AM",1,0)) -> 0 | AB26: =SUM(U26:AA26) -> 0 | AD26: =IF(AD25="Matin",1,IF(AD25="AM",1,0)) -> 0 | AE26: =IF(AE25="Matin",1,IF(AE25="AM",1,0)) -> 0 | AF26: =IF(AF25="Matin",1,IF(AF25="AM",1,0)) -> 0 | AG26: =IF(AG25="Matin",1,IF(AG25="AM",1,0)) -> 0 | AH26: =IF(AH25="Matin",1,IF(AH25="AM",1,0)) -> 0 | AI26: =IF(AI25="Matin",1,IF(AI25="AM",1,0)) -> 0 | AJ26: =IF(AJ25="Matin",1,IF(AJ25="AM",1,0)) -> 0 | AK26: =SUM(AD26:AJ26) -> 0 | AM26: =IF(AM25="Matin",1,IF(AM25="AM",1,0)) -> 0 | AN26: =IF(AN25="Matin",1,IF(AN25="AM",1,0)) -> 0 | AO26: =IF(AO25="Matin",1,IF(AO25="AM",1,0)) -> 0 | AP26: =IF(AP25="Matin",1,IF(AP25="AM",1,0)) -> 0 | AQ26: =IF(AQ25="Matin",1,IF(AQ25="AM",1,0)) -> 0 | AR26: =IF(AR25="Matin",1,IF(AR25="AM",1,0)) -> 0 | AS26: =IF(AS25="Matin",1,IF(AS25="AM",1,0)) -> 0 | AT26: =SUM(AM26:AS26) -> 0 | AV26: =IF(AV25="Matin",1,IF(AV25="AM",1,0)) -> 1 | AW26: =IF(AW25="Matin",1,IF(AW25="AM",1,0)) -> 1 | AX26: =SUM(AV26:AW26) -> 2 | AY26: =J26+S26+AB26+AK26+AT26+AX26 -> 2
A27: Travailler | C27: =IF(C28>=1,1,0) -> 0 | D27: =IF(D28>=1,1,0) -> 0 | E27: =IF(E28>=1,1,0) -> 0 | F27: =IF(F28>=1,1,0) -> 0 | G27: =IF(G28>=1,1,0) -> 0 | H27: =IF(H28>=1,1,0) -> 0 | I27: =IF(I28>=1,1,0) -> 0 | J27: =SUM(C27:I27) -> 0 | L27: =IF(L28>=1,1,0) -> 0 | M27: =IF(M28>=1,1,0) -> 0 | N27: =IF(N28>=1,1,0) -> 0 | O27: =IF(O28>=1,1,0) -> 0 | P27: =IF(P28>=1,1,0) -> 0 | Q27: =IF(Q28>=1,1,0) -> 0 | R27: =IF(R28>=1,1,0) -> 0 | S27: =SUM(L27:R27) -> 0 | U27: =IF(U28>=1,1,0) -> 0 | V27: =IF(V28>=1,1,0) -> 0 | W27: =IF(W28>=1,1,0) -> 0 | X27: =IF(X28>=1,1,0) -> 0 | Y27: =IF(Y28>=1,1,0) -> 0 | Z27: =IF(Z28>=1,1,0) -> 0 | AA27: =IF(AA28>=1,1,0) -> 0 | AB27: =SUM(U27:AA27) -> 0 | AD27: =IF(AD28>=1,1,0) -> 0 | AE27: =IF(AE28>=1,1,0) -> 0 | AF27: =IF(AF28>=1,1,0) -> 0 | AG27: =IF(AG28>=1,1,0) -> 0 | AH27: =IF(AH28>=1,1,0) -> 0 | AI27: =IF(AI28>=1,1,0) -> 0 | AJ27: =IF(AJ28>=1,1,0) -> 0 | AK27: =SUM(AD27:AJ27) -> 0 | AM27: =IF(AM28>=1,1,0) -> 0 | AN27: =IF(AN28>=1,1,0) -> 0 | AO27: =IF(AO28>=1,1,0) -> 0 | AP27: =IF(AP28>=1,1,0) -> 0 | AQ27: =IF(AQ28>=1,1,0) -> 0 | AR27: =IF(AR28>=1,1,0) -> 0 | AS27: =IF(AS28>=1,1,0) -> 0 | AT27: =SUM(AM27:AS27) -> 0 | AV27: =IF(AV28>=1,1,0) -> 1 | AW27: =IF(AW28>=1,1,0) -> 1 | AX27: =SUM(AV27:AW27) -> 2 | AY27: =J27+S27+AB27+AK27+AT27+AX27 -> 2
A28: Nbr heure | C28: =IF(C25="Matin",8,IF(C25="AM",8,IF(C25="nuit",8,0))) -> 0 | D28: =IF(D25="Matin",8,IF(D25="AM",8,IF(D25="nuit",8,0))) -> 0 | E28: =IF(E25="Matin",8,IF(E25="AM",8,IF(E25="nuit",8,0))) -> 0 | F28: =IF(F25="Matin",8,IF(F25="AM",8,IF(F25="nuit",8,0))) -> 0 | G28: =IF(G25="Matin",8,IF(G25="AM",8,IF(G25="nuit",8,0))) -> 0 | H28: =IF(H25="Matin",8,IF(H25="AM",8,IF(H25="nuit",8,0))) -> 0 | I28: =IF(I25="Matin",8,IF(I25="AM",8,IF(I25="nuit",8,0))) -> 0 | J28: =SUM(C28:I28) -> 0 | L28: =IF(L25="Matin",8,IF(L25="AM",8,IF(L25="nuit",8,0))) -> 0 | M28: =IF(M25="Matin",8,IF(M25="AM",8,IF(M25="nuit",8,0))) -> 0 | N28: =IF(N25="Matin",8,IF(N25="AM",8,IF(N25="nuit",8,0))) -> 0 | O28: =IF(O25="Matin",8,IF(O25="AM",8,IF(O25="nuit",8,0))) -> 0 | P28: =IF(P25="Matin",8,IF(P25="AM",8,IF(P25="nuit",8,0))) -> 0 | Q28: =IF(Q25="Matin",8,IF(Q25="AM",8,IF(Q25="nuit",8,0))) -> 0 | R28: =IF(R25="Matin",8,IF(R25="AM",8,IF(R25="nuit",8,0))) -> 0 | S28: =SUM(L28:R28) -> 0 | U28: =IF(U25="Matin",8,IF(U25="AM",8,IF(U25="nuit",8,0))) -> 0 | V28: =IF(V25="Matin",8,IF(V25="AM",8,IF(V25="nuit",8,0))) -> 0 | W28: =IF(W25="Matin",8,IF(W25="AM",8,IF(W25="nuit",8,0))) -> 0 | X28: =IF(X25="Matin",8,IF(X25="AM",8,IF(X25="nuit",8,0))) -> 0 | Y28: =IF(Y25="Matin",8,IF(Y25="AM",8,IF(Y25="nuit",8,0))) -> 0 | Z28: =IF(Z25="Matin",8,IF(Z25="AM",8,IF(Z25="nuit",8,0))) -> 0 | AA28: =IF(AA25="Matin",8,IF(AA25="AM",8,IF(AA25="nuit",8,0))) -> 0 | AB28: =SUM(U28:AA28) -> 0 | AD28: =IF(AD25="Matin",8,IF(AD25="AM",8,IF(AD25="nuit",8,0))) -> 0 | AE28: =IF(AE25="Matin",8,IF(AE25="AM",8,IF(AE25="nuit",8,0))) -> 0 | AF28: =IF(AF25="Matin",8,IF(AF25="AM",8,IF(AF25="nuit",8,0))) -> 0 | AG28: =IF(AG25="Matin",8,IF(AG25="AM",8,IF(AG25="nuit",8,0))) -> 0 | AH28: =IF(AH25="Matin",8,IF(AH25="AM",8,IF(AH25="nuit",8,0))) -> 0 | AI28: =IF(AI25="Matin",8,IF(AI25="AM",8,IF(AI25="nuit",8,0))) -> 0 | AJ28: =IF(AJ25="Matin",8,IF(AJ25="AM",8,IF(AJ25="nuit",8,0))) -> 0 | AK28: =SUM(AD28:AJ28) -> 0 | AM28: =IF(AM25="Matin",8,IF(AM25="AM",8,IF(AM25="nuit",8,0))) -> 0 | AN28: =IF(AN25="Matin",8,IF(AN25="AM",8,IF(AN25="nuit",8,0))) -> 0 | AO28: =IF(AO25="Matin",8,IF(AO25="AM",8,IF(AO25="nuit",8,0))) -> 0 | AP28: =IF(AP25="Matin",8,IF(AP25="AM",8,IF(AP25="nuit",8,0))) -> 0 | AQ28: =IF(AQ25="Matin",8,IF(AQ25="AM",8,IF(AQ25="nuit",8,0))) -> 0 | AR28: =IF(AR25="Matin",8,IF(AR25="AM",8,IF(AR25="nuit",8,0))) -> 0 | AS28: =IF(AS25="Matin",8,IF(AS25="AM",8,IF(AS25="nuit",8,0))) -> 0 | AT28: =SUM(AM28:AS28) -> 0 | AV28: =IF(AV25="Matin",8,IF(AV25="AM",8,IF(AV25="nuit",8,0))) -> 8 | AW28: =IF(AW25="Matin",8,IF(AW25="AM",8,IF(AW25="nuit",8,0))) -> 8 | AX28: =SUM(AV28:AW28) -> 16 | AY28: =J28+S28+AB28+AK28+AT28+AX28 -> 16
A29: Heure comp | C29: =IF(C23<>"Dim",IF(C28>32,MIN(C28,35)-32,0),0) -> 0 | D29: =IF(D23<>"Dim",IF(SUM($C28:D28)>32,MIN(SUM($C28:D28),35)-32-SUM($C29:C29),0),0) -> 0 | E29: =IF(E23<>"Dim",IF(SUM($C28:E28)>32,MIN(SUM($C28:E28),35)-32-SUM($C29:D29),0),0) -> 0 | F29: =IF(F23<>"Dim",IF(SUM($C28:F28)>32,MIN(SUM($C28:F28),35)-32-SUM($C29:E29),0),0) -> 0 | G29: =IF(G23<>"Dim",IF(SUM($C28:G28)>32,MIN(SUM($C28:G28),35)-32-SUM($C29:F29),0),0) -> 0 | H29: =IF(H23<>"Dim",IF(SUM($C28:H28)>32,MIN(SUM($C28:H28),35)-32-SUM($C29:G29),0),0) -> 0 | I29: =IF(I23<>"Dim",IF(SUM($C28:I28)>32,MIN(SUM($C28:I28),35)-32-SUM($C29:H29),0),0) -> 0 | J29: =SUM(C29:I29) -> 0 | L29: =IF(L23<>"Dim",IF(L28>32,MIN(L28,35)-32,0),0) -> 0 | M29: =IF(M23<>"Dim",IF(SUM($L28:M28)>32,MIN(SUM($L28:M28),35)-32-SUM($L29:L29),0),0) -> 0 | N29: =IF(N23<>"Dim",IF(SUM($L28:N28)>32,MIN(SUM($L28:N28),35)-32-SUM($L29:M29),0),0) -> 0 | O29: =IF(O23<>"Dim",IF(SUM($L28:O28)>32,MIN(SUM($L28:O28),35)-32-SUM($L29:N29),0),0) -> 0 | P29: =IF(P23<>"Dim",IF(SUM($L28:P28)>32,MIN(SUM($L28:P28),35)-32-SUM($L29:O29),0),0) -> 0 | Q29: =IF(Q23<>"Dim",IF(SUM($L28:Q28)>32,MIN(SUM($L28:Q28),35)-32-SUM($L29:P29),0),0) -> 0 | R29: =IF(R23<>"Dim",IF(SUM($L28:R28)>32,MIN(SUM($L28:R28),35)-32-SUM($L29:Q29),0),0) -> 0 | S29: =SUM(L29:R29) -> 0 | U29: =IF(U23<>"Dim",IF(U28>32,MIN(U28,35)-32,0),0) -> 0 | V29: =IF(V23<>"Dim",IF(SUM($U28:V28)>32,MIN(SUM($U28:V28),35)-32-SUM($U29:U29),0),0) -> 0 | W29: =IF(W23<>"Dim",IF(SUM($U28:W28)>32,MIN(SUM($U28:W28),35)-32-SUM($U29:V29),0),0) -> 0 | X29: =IF(X23<>"Dim",IF(SUM($U28:X28)>32,MIN(SUM($U28:X28),35)-32-SUM($U29:W29),0),0) -> 0 | Y29: =IF(Y23<>"Dim",IF(SUM($U28:Y28)>32,MIN(SUM($U28:Y28),35)-32-SUM($U29:X29),0),0) -> 0 | Z29: =IF(Z23<>"Dim",IF(SUM($U28:Z28)>32,MIN(SUM($U28:Z28),35)-32-SUM($U29:Y29),0),0) -> 0 | AA29: =IF(AA23<>"Dim",IF(SUM($U28:AA28)>32,MIN(SUM($U28:AA28),35)-32-SUM($U29:Z29),0),0) -> 0 | AB29: =SUM(U29:AA29) -> 0 | AD29: =IF(AD23<>"Dim",IF(AD28>32,MIN(AD28,35)-32,0),0) -> 0 | AE29: =IF(AE23<>"Dim",IF(SUM($AD28:AE28)>32,MIN(SUM($AD28:AE28),35)-32-SUM($AD29:AD29),0),0) -> 0 | AF29: =IF(AF23<>"Dim",IF(SUM($AD28:AF28)>32,MIN(SUM($AD28:AF28),35)-32-SUM($AD29:AE29),0),0) -> 0 | AG29: =IF(AG23<>"Dim",IF(SUM($AD28:AG28)>32,MIN(SUM($AD28:AG28),35)-32-SUM($AD29:AF29),0),0) -> 0 | AH29: =IF(AH23<>"Dim",IF(SUM($AD28:AH28)>32,MIN(SUM($AD28:AH28),35)-32-SUM($AD29:AG29),0),0) -> 0 | AI29: =IF(AI23<>"Dim",IF(SUM($AD28:AI28)>32,MIN(SUM($AD28:AI28),35)-32-SUM($AD29:AH29),0),0) -> 0 | AJ29: =IF(AJ23<>"Dim",IF(SUM($AD28:AJ28)>32,MIN(SUM($AD28:AJ28),35)-32-SUM($AD29:AI29),0),0) -> 0 | AK29: =SUM(AD29:AJ29) -> 0 | AM29: =IF(AM23<>"Dim",IF(AM28>32,MIN(AM28,35)-32,0),0) -> 0 | AN29: =IF(AN23<>"Dim",IF(SUM($AM28:AN28)>32,MIN(SUM($AM28:AN28),35)-32-SUM($AM29:AM29),0),0) -> 0 | AO29: =IF(AO23<>"Dim",IF(SUM($AM28:AO28)>32,MIN(SUM($AM28:AO28),35)-32-SUM($AM29:AN29),0),0) -> 0 | AP29: =IF(AP23<>"Dim",IF(SUM($AM28:AP28)>32,MIN(SUM($AM28:AP28),35)-32-SUM($AM29:AO29),0),0) -> 0 | AQ29: =IF(AQ23<>"Dim",IF(SUM($AM28:AQ28)>32,MIN(SUM($AM28:AQ28),35)-32-SUM($AM29:AP29),0),0) -> 0 | AR29: =IF(AR23<>"Dim",IF(SUM($AM28:AR28)>32,MIN(SUM($AM28:AR28),35)-32-SUM($AM29:AQ29),0),0) -> 0 | AS29: =IF(AS23<>"Dim",IF(SUM($AM28:AS28)>32,MIN(SUM($AM28:AS28),35)-32-SUM($AM29:AR29),0),0) -> 0 | AT29: =SUM(AM29:AS29) -> 0 | AV29: =IF(AV23<>"Dim",IF(AV28>32,MIN(AV28,35)-32,0),0) -> 0 | AW29: =IF(AW23<>"Dim",IF(SUM($AV28:AW28)>32,MIN(SUM($AV28:AW28),35)-32-SUM($AV29:AV29),0),0) -> 0 | AX29: =SUM(AV29:AW29) -> 0 | AY29: =J29+S29+AB29+AK29+AT29+AX29 -> 0
A30: HS 25% | C30: =IF(C23<>"Dim",IF(C28>35,(MIN(C28,43)-35),0),0) -> 0 | D30: =IF(D23<>"Dim",IF(SUM($C28:D28)>35,(MIN(SUM($C28:D28),43)-35-SUM($C30:C30)),0),0) -> 0 | E30: =IF(E23<>"Dim",IF(SUM($C28:E28)>35,(MIN(SUM($C28:E28),43)-35-SUM($C30:D30)),0),0) -> 0 | F30: =IF(F23<>"Dim",IF(SUM($C28:F28)>35,(MIN(SUM($C28:F28),43)-35-SUM($C30:E30)),0),0) -> 0 | G30: =IF(G23<>"Dim",IF(SUM($C28:G28)>35,(MIN(SUM($C28:G28),43)-35-SUM($C30:F30)),0),0) -> 0 | H30: =IF(H23<>"Dim",IF(SUM($C28:H28)>35,(MIN(SUM($C28:H28),43)-35-SUM($C30:G30)),0),0) -> 0 | I30: =IF(I23<>"Dim",IF(SUM($C28:I28)>35,(MIN(SUM($C28:I28),43)-35-SUM($C30:H30)),0),0) -> 0 | J30: =SUM(C30:I30) -> 0 | L30: =IF(L23<>"Dim",IF(L28>35,(MIN(L28,43)-35),0),0) -> 0 | M30: =IF(M23<>"Dim",IF(SUM($L28:M28)>35,(MIN(SUM($L28:M28),43)-35-SUM($L30:L30)),0),0) -> 0 | N30: =IF(N23<>"Dim",IF(SUM($L28:N28)>35,(MIN(SUM($L28:N28),43)-35-SUM($L30:M30)),0),0) -> 0 | O30: =IF(O23<>"Dim",IF(SUM($L28:O28)>35,(MIN(SUM($L28:O28),43)-35-SUM($L30:N30)),0),0) -> 0 | P30: =IF(P23<>"Dim",IF(SUM($L28:P28)>35,(MIN(SUM($L28:P28),43)-35-SUM($L30:O30)),0),0) -> 0 | Q30: =IF(Q23<>"Dim",IF(SUM($L28:Q28)>35,(MIN(SUM($L28:Q28),43)-35-SUM($L30:P30)),0),0) -> 0 | R30: =IF(R23<>"Dim",IF(SUM($L28:R28)>35,(MIN(SUM($L28:R28),43)-35-SUM($L30:Q30)),0),0) -> 0 | S30: =SUM(L30:R30) -> 0 | U30: =IF(U23<>"Dim",IF(U28>35,(MIN(U28,43)-35),0),0) -> 0 | V30: =IF(V23<>"Dim",IF(SUM($U28:V28)>35,(MIN(SUM($U28:V28),43)-35-SUM($U30:U30)),0),0) -> 0 | W30: =IF(W23<>"Dim",IF(SUM($U28:W28)>35,(MIN(SUM($U28:W28),43)-35-SUM($U30:V30)),0),0) -> 0 | X30: =IF(X23<>"Dim",IF(SUM($U28:X28)>35,(MIN(SUM($U28:X28),43)-35-SUM($U30:W30)),0),0) -> 0 | Y30: =IF(Y23<>"Dim",IF(SUM($U28:Y28)>35,(MIN(SUM($U28:Y28),43)-35-SUM($U30:X30)),0),0) -> 0 | Z30: =IF(Z23<>"Dim",IF(SUM($U28:Z28)>35,(MIN(SUM($U28:Z28),43)-35-SUM($U30:Y30)),0),0) -> 0 | AA30: =IF(AA23<>"Dim",IF(SUM($U28:AA28)>35,(MIN(SUM($U28:AA28),43)-35-SUM($U30:Z30)),0),0) -> 0 | AB30: =SUM(U30:AA30) -> 0 | AD30: =IF(AD23<>"Dim",IF(AD28>35,(MIN(AD28,43)-35),0),0) -> 0 | AE30: =IF(AE23<>"Dim",IF(SUM($AD28:AE28)>35,(MIN(SUM($AD28:AE28),43)-35-SUM($AD30:AD30)),0),0) -> 0 | AF30: =IF(AF23<>"Dim",IF(SUM($AD28:AF28)>35,(MIN(SUM($AD28:AF28),43)-35-SUM($AD30:AE30)),0),0) -> 0 | AG30: =IF(AG23<>"Dim",IF(SUM($AD28:AG28)>35,(MIN(SUM($AD28:AG28),43)-35-SUM($AD30:AF30)),0),0) -> 0 | AH30: =IF(AH23<>"Dim",IF(SUM($AD28:AH28)>35,(MIN(SUM($AD28:AH28),43)-35-SUM($AD30:AG30)),0),0) -> 0 | AI30: =IF(AI23<>"Dim",IF(SUM($AD28:AI28)>35,(MIN(SUM($AD28:AI28),43)-35-SUM($AD30:AH30)),0),0) -> 0 | AJ30: =IF(AJ23<>"Dim",IF(SUM($AD28:AJ28)>35,(MIN(SUM($AD28:AJ28),43)-35-SUM($AD30:AI30)),0),0) -> 0 | AK30: =SUM(AD30:AJ30) -> 0 | AM30: =IF(AM23<>"Dim",IF(AM28>35,(MIN(AM28,43)-35),0),0) -> 0 | AN30: =IF(AN23<>"Dim",IF(SUM($AM28:AN28)>35,(MIN(SUM($AM28:AN28),43)-35-SUM($AM30:AM30)),0),0) -> 0 | AO30: =IF(AO23<>"Dim",IF(SUM($AM28:AO28)>35,(MIN(SUM($AM28:AO28),43)-35-SUM($AM30:AN30)),0),0) -> 0 | AP30: =IF(AP23<>"Dim",IF(SUM($AM28:AP28)>35,(MIN(SUM($AM28:AP28),43)-35-SUM($AM30:AO30)),0),0) -> 0 | AQ30: =IF(AQ23<>"Dim",IF(SUM($AM28:AQ28)>35,(MIN(SUM($AM28:AQ28),43)-35-SUM($AM30:AP30)),0),0) -> 0 | AR30: =IF(AR23<>"Dim",IF(SUM($AM28:AR28)>35,(MIN(SUM($AM28:AR28),43)-35-SUM($AM30:AQ30)),0),0) -> 0 | AS30: =IF(AS23<>"Dim",IF(SUM($AM28:AS28)>35,(MIN(SUM($AM28:AS28),43)-35-SUM($AM30:AR30)),0),0) -> 0 | AT30: =SUM(AM30:AS30) -> 0 | AV30: =IF(AV23<>"Dim",IF(AV28>35,(MIN(AV28,43)-35),0),0) -> 0 | AW30: =IF(AW23<>"Dim",IF(SUM($AV28:AW28)>35,(MIN(SUM($AV28:AW28),43)-35-SUM($AV30:AV30)),0),0) -> 0 | AX30: =SUM(AV30:AW30) -> 0 | AY30: =J30+S30+AB30+AK30+AT30+AX30 -> 0
A31: HS 50% | C31: =IF(C23<>"Dim",IF(C28>43,(MIN(C28,48)-43),0),0) -> 0 | D31: =IF(D23<>"Dim",IF(SUM($C28:D28)>43,(MIN(SUM($C28:D28),48)-43-SUM($C31:C31)),0),0) -> 0 | E31: =IF(E23<>"Dim",IF(SUM($C28:E28)>43,(MIN(SUM($C28:E28),48)-43-SUM($C31:D31)),0),0) -> 0 | F31: =IF(F23<>"Dim",IF(SUM($C28:F28)>43,(MIN(SUM($C28:F28),48)-43-SUM($C31:E31)),0),0) -> 0 | G31: =IF(G23<>"Dim",IF(SUM($C28:G28)>43,(MIN(SUM($C28:G28),48)-43-SUM($C31:F31)),0),0) -> 0 | H31: =IF(H23<>"Dim",IF(SUM($C28:H28)>43,(MIN(SUM($C28:H28),48)-43-SUM($C31:G31)),0),0) -> 0 | I31: =IF(I23<>"Dim",IF(SUM($C28:I28)>43,(MIN(SUM($C28:I28),48)-43-SUM($C31:H31)),0),0) -> 0 | J31: =SUM(C31:I31) -> 0 | L31: =IF(L23<>"Dim",IF(L28>43,(MIN(L28,48)-43),0),0) -> 0 | M31: =IF(M23<>"Dim",IF(SUM($L28:M28)>43,(MIN(SUM($L28:M28),48)-43-SUM($L31:L31)),0),0) -> 0 | N31: =IF(N23<>"Dim",IF(SUM($L28:N28)>43,(MIN(SUM($L28:N28),48)-43-SUM($L31:M31)),0),0) -> 0 | O31: =IF(O23<>"Dim",IF(SUM($L28:O28)>43,(MIN(SUM($L28:O28),48)-43-SUM($L31:N31)),0),0) -> 0 | P31: =IF(P23<>"Dim",IF(SUM($L28:P28)>43,(MIN(SUM($L28:P28),48)-43-SUM($L31:O31)),0),0) -> 0 | Q31: =IF(Q23<>"Dim",IF(SUM($L28:Q28)>43,(MIN(SUM($L28:Q28),48)-43-SUM($L31:P31)),0),0) -> 0 | R31: =IF(R23<>"Dim",IF(SUM($L28:R28)>43,(MIN(SUM($L28:R28),48)-43-SUM($L31:Q31)),0),0) -> 0 | S31: =SUM(L31:R31) -> 0 | U31: =IF(U23<>"Dim",IF(U28>43,(MIN(U28,48)-43),0),0) -> 0 | V31: =IF(V23<>"Dim",IF(SUM($U28:V28)>43,(MIN(SUM($U28:V28),48)-43-SUM($U31:U31)),0),0) -> 0 | W31: =IF(W23<>"Dim",IF(SUM($U28:W28)>43,(MIN(SUM($U28:W28),48)-43-SUM($U31:V31)),0),0) -> 0 | X31: =IF(X23<>"Dim",IF(SUM($U28:X28)>43,(MIN(SUM($U28:X28),48)-43-SUM($U31:W31)),0),0) -> 0 | Y31: =IF(Y23<>"Dim",IF(SUM($U28:Y28)>43,(MIN(SUM($U28:Y28),48)-43-SUM($U31:X31)),0),0) -> 0 | Z31: =IF(Z23<>"Dim",IF(SUM($U28:Z28)>43,(MIN(SUM($U28:Z28),48)-43-SUM($U31:Y31)),0),0) -> 0 | AA31: =IF(AA23<>"Dim",IF(SUM($U28:AA28)>43,(MIN(SUM($U28:AA28),48)-43-SUM($U31:Z31)),0),0) -> 0 | AB31: =SUM(U31:AA31) -> 0 | AD31: =IF(AD23<>"Dim",IF(AD28>43,(MIN(AD28,48)-43),0),0) -> 0 | AE31: =IF(AE23<>"Dim",IF(SUM($AD28:AE28)>43,(MIN(SUM($AD28:AE28),48)-43-SUM($AD31:AD31)),0),0) -> 0 | AF31: =IF(AF23<>"Dim",IF(SUM($AD28:AF28)>43,(MIN(SUM($AD28:AF28),48)-43-SUM($AD31:AE31)),0),0) -> 0 | AG31: =IF(AG23<>"Dim",IF(SUM($AD28:AG28)>43,(MIN(SUM($AD28:AG28),48)-43-SUM($AD31:AF31)),0),0) -> 0 | AH31: =IF(AH23<>"Dim",IF(SUM($AD28:AH28)>43,(MIN(SUM($AD28:AH28),48)-43-SUM($AD31:AG31)),0),0) -> 0 | AI31: =IF(AI23<>"Dim",IF(SUM($AD28:AI28)>43,(MIN(SUM($AD28:AI28),48)-43-SUM($AD31:AH31)),0),0) -> 0 | AJ31: =IF(AJ23<>"Dim",IF(SUM($AD28:AJ28)>43,(MIN(SUM($AD28:AJ28),48)-43-SUM($AD31:AI31)),0),0) -> 0 | AK31: =SUM(AD31:AJ31) -> 0 | AM31: =IF(AM23<>"Dim",IF(AM28>43,(MIN(AM28,48)-43),0),0) -> 0 | AN31: =IF(AN23<>"Dim",IF(SUM($AM28:AN28)>43,(MIN(SUM($AM28:AN28),48)-43-SUM($AM31:AM31)),0),0) -> 0 | AO31: =IF(AO23<>"Dim",IF(SUM($AM28:AO28)>43,(MIN(SUM($AM28:AO28),48)-43-SUM($AM31:AN31)),0),0) -> 0 | AP31: =IF(AP23<>"Dim",IF(SUM($AM28:AP28)>43,(MIN(SUM($AM28:AP28),48)-43-SUM($AM31:AO31)),0),0) -> 0 | AQ31: =IF(AQ23<>"Dim",IF(SUM($AM28:AQ28)>43,(MIN(SUM($AM28:AQ28),48)-43-SUM($AM31:AP31)),0),0) -> 0 | AR31: =IF(AR23<>"Dim",IF(SUM($AM28:AR28)>43,(MIN(SUM($AM28:AR28),48)-43-SUM($AM31:AQ31)),0),0) -> 0 | AS31: =IF(AS23<>"Dim",IF(SUM($AM28:AS28)>43,(MIN(SUM($AM28:AS28),48)-43-SUM($AM31:AR31)),0),0) -> 0 | AT31: =SUM(AM31:AS31) -> 0 | AV31: =IF(AV23<>"Dim",IF(AV28>43,(MIN(AV28,48)-43),0),0) -> 0 | AW31: =IF(AW23<>"Dim",IF(SUM($AV28:AW28)>43,(MIN(SUM($AV28:AW28),48)-43-SUM($AV31:AV31)),0),0) -> 0 | AX31: =SUM(AV31:AW31) -> 0 | AY31: =J31+S31+AB31+AK31+AT31+AX31 -> 0
A32: HS 200% | C32: =IF(C23="Dim",C28,IF(C38="ferie",C28,0)) -> 0 | D32: =IF(D23="Dim",D28,IF(D38="ferie",D28,0)) -> 0 | E32: =IF(E23="Dim",E28,IF(E38="ferie",E28,0)) -> 0 | F32: =IF(F23="Dim",F28,IF(F38="ferie",F28,0)) -> 0 | G32: =IF(G23="Dim",G28,IF(G38="ferie",G28,0)) -> 0 | H32: =IF(H23="Dim",H28,IF(H38="ferie",H28,0)) -> 0 | I32: =IF(I23="Dim",I28,IF(I38="ferie",I28,0)) -> 0 | J32: =SUM(C32:I32) -> 0 | L32: =IF(L23="Dim",L28,IF(L38="ferie",L28,0)) -> 0 | M32: =IF(M23="Dim",M28,IF(M38="ferie",M28,0)) -> 0 | N32: =IF(N23="Dim",N28,IF(N38="ferie",N28,0)) -> 0 | O32: =IF(O23="Dim",O28,IF(O38="ferie",O28,0)) -> 0 | P32: =IF(P23="Dim",P28,IF(P38="ferie",P28,0)) -> 0 | Q32: =IF(Q23="Dim",Q28,IF(Q38="ferie",Q28,0)) -> 0 | R32: =IF(R23="Dim",R28,IF(R38="ferie",R28,0)) -> 0 | S32: =SUM(L32:R32) -> 0 | U32: =IF(U23="Dim",U28,IF(U38="ferie",U28,0)) -> 0 | V32: =IF(V23="Dim",V28,IF(V38="ferie",V28,0)) -> 0 | W32: =IF(W23="Dim",W28,IF(W38="ferie",W28,0)) -> 0 | X32: =IF(X23="Dim",X28,IF(X38="ferie",X28,0)) -> 0 | Y32: =IF(Y23="Dim",Y28,IF(Y38="ferie",Y28,0)) -> 0 | Z32: =IF(Z23="Dim",Z28,IF(Z38="ferie",Z28,0)) -> 0 | AA32: =IF(AA23="Dim",AA28,IF(AA38="ferie",AA28,0)) -> 0 | AB32: =SUM(U32:AA32) -> 0 | AD32: =IF(AD23="Dim",AD28,IF(AD38="ferie",AD28,0)) -> 0 | AE32: =IF(AE23="Dim",AE28,IF(AE38="ferie",AE28,0)) -> 0 | AF32: =IF(AF23="Dim",AF28,IF(AF38="ferie",AF28,0)) -> 0 | AG32: =IF(AG23="Dim",AG28,IF(AG38="ferie",AG28,0)) -> 0 | AH32: =IF(AH23="Dim",AH28,IF(AH38="ferie",AH28,0)) -> 0 | AI32: =IF(AI23="Dim",AI28,IF(AI38="ferie",AI28,0)) -> 0 | AJ32: =IF(AJ23="Dim",AJ28,IF(AJ38="ferie",AJ28,0)) -> 0 | AK32: =SUM(AD32:AJ32) -> 0 | AM32: =IF(AM23="Dim",AM28,IF(AM38="ferie",AM28,0)) -> 0 | AN32: =IF(AN23="Dim",AN28,IF(AN38="ferie",AN28,0)) -> 0 | AO32: =IF(AO23="Dim",AO28,IF(AO38="ferie",AO28,0)) -> 0 | AP32: =IF(AP23="Dim",AP28,IF(AP38="ferie",AP28,0)) -> 0 | AQ32: =IF(AQ23="Dim",AQ28,IF(AQ38="ferie",AQ28,0)) -> 0 | AR32: =IF(AR23="Dim",AR28,IF(AR38="ferie",AR28,0)) -> 0 | AS32: =IF(AS23="Dim",AS28,IF(AS38="ferie",AS28,0)) -> 0 | AT32: =SUM(AM32:AS32) -> 0 | AV32: =IF(AV23="Dim",AV28,IF(AV38="ferie",AV28,0)) -> 0 | AW32: =IF(AW23="Dim",AW28,IF(AW38="ferie",AW28,0)) -> 0 | AX32: =SUM(AV32:AW32) -> 0 | AY32: =J32+S32+AB32+AK32+AT32+AX32 -> 0
A33: HR + | J33: =SUM(C33:I33) -> 0 | S33: =SUM(L33:R33) -> 0 | AB33: =SUM(U33:AA33) -> 0 | AK33: =SUM(AD33:AJ33) -> 0 | AT33: =SUM(AM33:AS33) -> 0 | AX33: =SUM(AV33:AW33) -> 0 | AY33: =J33+S33+AB33+AK33+AT33+AX33 -> 0
A34: HR - | J34: =SUM(C34:I34) -> 0 | S34: =SUM(L34:R34) -> 0 | AB34: =SUM(U34:AA34) -> 0 | AK34: =SUM(AD34:AJ34) -> 0 | AT34: =SUM(AM34:AS34) -> 0 | AX34: =SUM(AV34:AW34) -> 0 | AY34: =J34+S34+AB34+AK34+AT34+AX34 -> 0
A35: CP - | J35: =SUM(C35:I35) -> 0 | S35: =SUM(L35:R35) -> 0 | AB35: =SUM(U35:AA35) -> 0 | AK35: =SUM(AD35:AJ35) -> 0 | AT35: =SUM(AM35:AS35) -> 0 | AX35: =SUM(AV35:AW35) -> 0 | AY35: =J35+S35+AB35+AK35+AT35+AX35 -> 0
A36: RC - | J36: =SUM(C36:I36) -> 0 | S36: =SUM(L36:R36) -> 0 | AB36: =SUM(U36:AA36) -> 0 | AK36: =SUM(AD36:AJ36) -> 0 | AT36: =SUM(AM36:AS36) -> 0 | AX36: =SUM(AV36:AW36) -> 0 | AY36: =J36+S36+AB36+AK36+AT36+AX36 -> 0
A37: RC nuit | C37: =IF(C25="nuit",C28*0.02,0) -> 0 | D37: =IF(D25="nuit",D28*0.02,0) -> 0 | E37: =IF(E25="nuit",E28*0.02,0) -> 0 | F37: =IF(F25="nuit",F28*0.02,0) -> 0 | G37: =IF(G25="nuit",G28*0.02,0) -> 0 | H37: =IF(H25="nuit",H28*0.02,0) -> 0 | I37: =IF(I25="nuit",I28*0.02,0) -> 0 | J37: =SUM(C37:I37) -> 0 | L37: =IF(L25="nuit",L28*0.02,0) -> 0 | M37: =IF(M25="nuit",M28*0.02,0) -> 0 | N37: =IF(N25="nuit",N28*0.02,0) -> 0 | O37: =IF(O25="nuit",O28*0.02,0) -> 0 | P37: =IF(P25="nuit",P28*0.02,0) -> 0 | Q37: =IF(Q25="nuit",Q28*0.02,0) -> 0 | R37: =IF(R25="nuit",R28*0.02,0) -> 0 | S37: =SUM(L37:R37) -> 0 | U37: =IF(U25="nuit",U28*0.02,0) -> 0 | V37: =IF(V25="nuit",V28*0.02,0) -> 0 | W37: =IF(W25="nuit",W28*0.02,0) -> 0 | X37: =IF(X25="nuit",X28*0.02,0) -> 0 | Y37: =IF(Y25="nuit",Y28*0.02,0) -> 0 | Z37: =IF(Z25="nuit",Z28*0.02,0) -> 0 | AA37: =IF(AA25="nuit",AA28*0.02,0) -> 0 | AB37: =SUM(U37:AA37) -> 0 | AD37: =IF(AD25="nuit",AD28*0.02,0) -> 0 | AE37: =IF(AE25="nuit",AE28*0.02,0) -> 0 | AF37: =IF(AF25="nuit",AF28*0.02,0) -> 0 | AG37: =IF(AG25="nuit",AG28*0.02,0) -> 0 | AH37: =IF(AH25="nuit",AH28*0.02,0) -> 0 | AI37: =IF(AI25="nuit",AI28*0.02,0) -> 0 | AJ37: =IF(AJ25="nuit",AJ28*0.02,0) -> 0 | AK37: =SUM(AD37:AJ37) -> 0 | AM37: =IF(AM25="nuit",AM28*0.02,0) -> 0 | AN37: =IF(AN25="nuit",AN28*0.02,0) -> 0 | AO37: =IF(AO25="nuit",AO28*0.02,0) -> 0 | AP37: =IF(AP25="nuit",AP28*0.02,0) -> 0 | AQ37: =IF(AQ25="nuit",AQ28*0.02,0) -> 0 | AR37: =IF(AR25="nuit",AR28*0.02,0) -> 0 | AS37: =IF(AS25="nuit",AS28*0.02,0) -> 0 | AT37: =SUM(AM37:AS37) -> 0 | AV37: =IF(AV25="nuit",AV28*0.02,0) -> 0 | AW37: =IF(AW25="nuit",AW28*0.02,0) -> 0 | AX37: =SUM(AV37:AW37) -> 0 | AY37: =J37+S37+AB37+AK37+AT37+AX37 -> 0
A38: Note
C40: Mars | H40: =Année_Calendaire -> 2016 | U40: Mars | Z40: =Année_Calendaire -> 2016 | AM40: Mars | AR40: =Année_Calendaire -> 2016
C41: Lun | D41: Mar | E41: Mer | F41: Jeu | G41: Ven | H41: Sam | I41: Dim | J41: Cumul | L41: Lun | M41: Mar | N41: Mer | O41: Jeu | P41: Ven | Q41: Sam | R41: Dim | S41: Cumul | U41: Lun | V41: Mar | W41: Mer | X41: Jeu | Y41: Ven | Z41: Sam | AA41: Dim | AB41: Cumul | AD41: Lun | AE41: Mar | AF41: Mer | AG41: Jeu | AH41: Ven | AI41: Sam | AJ41: Dim | AK41: Cumul | AM41: Lun | AN41: Mar | AO41: Mer | AP41: Jeu | AQ41: Ven | AR41: Sam | AS41: Dim | AT41: Cumul | AU41: c3 | AV41: Lun | AW41: Mar | AX41: Cumul | AY41: Cumul total | AZ41: =AY48+AY49+AY50 -> 0 | BA41: =AZ41+BA23 -> 10
C42: =IF(DAY(Mar_Dim1)=1,"",IF(AND(YEAR(Mar_Dim1+1)=Année_Calendaire,MONTH(Mar_Dim1+1)=3),Mar_Dim1+1,"")) | D42: =IF(DAY(Mar_Dim1)=1,"",IF(AND(YEAR(Mar_Dim1+2)=Année_Calendaire,MONTH(Mar_Dim1+2)=3),Mar_Dim1+2,"")) -> 42430 | E42: =IF(DAY(Mar_Dim1)=1,"",IF(AND(YEAR(Mar_Dim1+3)=Année_Calendaire,MONTH(Mar_Dim1+3)=3),Mar_Dim1+3,"")) -> 42431 | F42: =IF(DAY(Mar_Dim1)=1,"",IF(AND(YEAR(Mar_Dim1+4)=Année_Calendaire,MONTH(Mar_Dim1+4)=3),Mar_Dim1+4,"")) -> 42432 | G42: =IF(DAY(Mar_Dim1)=1,"",IF(AND(YEAR(Mar_Dim1+5)=Année_Calendaire,MONTH(Mar_Dim1+5)=3),Mar_Dim1+5,"")) -> 42433 | H42: =IF(DAY(Mar_Dim1)=1,"",IF(AND(YEAR(Mar_Dim1+6)=Année_Calendaire,MONTH(Mar_Dim1+6)=3),Mar_Dim1+6,"")) -> 42434 | I42: =IF(DAY(Mar_Dim1)=1,IF(AND(YEAR(Mar_Dim1)=Année_Calendaire,MONTH(Mar_Dim1)=3),Mar_Dim1,""),IF(AND(YEAR(Mar_Dim1+7)=Année_Calendaire,MONTH(Mar_Dim1+7)=3),Mar_Dim1+7,"")) -> 42435 | L42: =IF(DAY(Mar_Dim1)=1,IF(AND(YEAR(Mar_Dim1+1)=Année_Calendaire,MONTH(Mar_Dim1+1)=3),Mar_Dim1+1,""),IF(AND(YEAR(Mar_Dim1+8)=Année_Calendaire,MONTH(Mar_Dim1+8)=3),Mar_Dim1+8,"")) -> 42436 | M42: =IF(DAY(Mar_Dim1)=1,IF(AND(YEAR(Mar_Dim1+2)=Année_Calendaire,MONTH(Mar_Dim1+2)=3),Mar_Dim1+2,""),IF(AND(YEAR(Mar_Dim1+9)=Année_Calendaire,MONTH(Mar_Dim1+9)=3),Mar_Dim1+9,"")) -> 42437 | N42: =IF(DAY(Mar_Dim1)=1,IF(AND(YEAR(Mar_Dim1+3)=Année_Calendaire,MONTH(Mar_Dim1+3)=3),Mar_Dim1+3,""),IF(AND(YEAR(Mar_Dim1+10)=Année_Calendaire,MONTH(Mar_Dim1+10)=3),Mar_Dim1+10,"")) -> 42438 | O42: =IF(DAY(Mar_Dim1)=1,IF(AND(YEAR(Mar_Dim1+4)=Année_Calendaire,MONTH(Mar_Dim1+4)=3),Mar_Dim1+4,""),IF(AND(YEAR(Mar_Dim1+11)=Année_Calendaire,MONTH(Mar_Dim1+11)=3),Mar_Dim1+11,"")) -> 42439 | P42: =IF(DAY(Mar_Dim1)=1,IF(AND(YEAR(Mar_Dim1+5)=Année_Calendaire,MONTH(Mar_Dim1+5)=3),Mar_Dim1+5,""),IF(AND(YEAR(Mar_Dim1+12)=Année_Calendaire,MONTH(Mar_Dim1+12)=3),Mar_Dim1+12,"")) -> 42440 | Q42: =IF(DAY(Mar_Dim1)=1,IF(AND(YEAR(Mar_Dim1+6)=Année_Calendaire,MONTH(Mar_Dim1+6)=3),Mar_Dim1+6,""),IF(AND(YEAR(Mar_Dim1+13)=Année_Calendaire,MONTH(Mar_Dim1+13)=3),Mar_Dim1+13,"")) -> 42441 | R42: =IF(DAY(Mar_Dim1)=1,IF(AND(YEAR(Mar_Dim1+7)=Année_Calendaire,MONTH(Mar_Dim1+7)=3),Mar_Dim1+7,""),IF(AND(YEAR(Mar_Dim1+14)=Année_Calendaire,MONTH(Mar_Dim1+14)=3),Mar_Dim1+14,"")) -> 42442 | U42: =IF(DAY(Mar_Dim1)=1,IF(AND(YEAR(Mar_Dim1+8)=Année_Calendaire,MONTH(Mar_Dim1+8)=3),Mar_Dim1+8,""),IF(AND(YEAR(Mar_Dim1+15)=Année_Calendaire,MONTH(Mar_Dim1+15)=3),Mar_Dim1+15,"")) -> 42443 | V42: =IF(DAY(Mar_Dim1)=1,IF(AND(YEAR(Mar_Dim1+9)=Année_Calendaire,MONTH(Mar_Dim1+9)=3),Mar_Dim1+9,""),IF(AND(YEAR(Mar_Dim1+16)=Année_Calendaire,MONTH(Mar_Dim1+16)=3),Mar_Dim1+16,"")) -> 42444 | W42: =IF(DAY(Mar_Dim1)=1,IF(AND(YEAR(Mar_Dim1+10)=Année_Calendaire,MONTH(Mar_Dim1+10)=3),Mar_Dim1+10,""),IF(AND(YEAR(Mar_Dim1+17)=Année_Calendaire,MONTH(Mar_Dim1+17)=3),Mar_Dim1+17,"")) -> 42445 | X42: =IF(DAY(Mar_Dim1)=1,IF(AND(YEAR(Mar_Dim1+11)=Année_Calendaire,MONTH(Mar_Dim1+11)=3),Mar_Dim1+11,""),IF(AND(YEAR(Mar_Dim1+18)=Année_Calendaire,MONTH(Mar_Dim1+18)=3),Mar_Dim1+18,"")) -> 42446 | Y42: =IF(DAY(Mar_Dim1)=1,IF(AND(YEAR(Mar_Dim1+12)=Année_Calendaire,MONTH(Mar_Dim1+12)=3),Mar_Dim1+12,""),IF(AND(YEAR(Mar_Dim1+19)=Année_Calendaire,MONTH(Mar_Dim1+19)=3),Mar_Dim1+19,"")) -> 42447 | Z42: =IF(DAY(Mar_Dim1)=1,IF(AND(YEAR(Mar_Dim1+13)=Année_Calendaire,MONTH(Mar_Dim1+13)=3),Mar_Dim1+13,""),IF(AND(YEAR(Mar_Dim1+20)=Année_Calendaire,MONTH(Mar_Dim1+20)=3),Mar_Dim1+20,"")) -> 42448 | AA42: =IF(DAY(Mar_Dim1)=1,IF(AND(YEAR(Mar_Dim1+14)=Année_Calendaire,MONTH(Mar_Dim1+14)=3),Mar_Dim1+14,""),IF(AND(YEAR(Mar_Dim1+21)=Année_Calendaire,MONTH(Mar_Dim1+21)=3),Mar_Dim1+21,"")) -> 42449 | AD42: =IF(DAY(Mar_Dim1)=1,IF(AND(YEAR(Mar_Dim1+15)=Année_Calendaire,MONTH(Mar_Dim1+15)=3),Mar_Dim1+15,""),IF(AND(YEAR(Mar_Dim1+22)=Année_Calendaire,MONTH(Mar_Dim1+22)=3),Mar_Dim1+22,"")) -> 42450 | AE42: =IF(DAY(Mar_Dim1)=1,IF(AND(YEAR(Mar_Dim1+16)=Année_Calendaire,MONTH(Mar_Dim1+16)=3),Mar_Dim1+16,""),IF(AND(YEAR(Mar_Dim1+23)=Année_Calendaire,MONTH(Mar_Dim1+23)=3),Mar_Dim1+23,"")) -> 42451 | AF42: =IF(DAY(Mar_Dim1)=1,IF(AND(YEAR(Mar_Dim1+17)=Année_Calendaire,MONTH(Mar_Dim1+17)=3),Mar_Dim1+17,""),IF(AND(YEAR(Mar_Dim1+24)=Année_Calendaire,MONTH(Mar_Dim1+24)=3),Mar_Dim1+24,"")) -> 42452 | AG42: =IF(DAY(Mar_Dim1)=1,IF(AND(YEAR(Mar_Dim1+18)=Année_Calendaire,MONTH(Mar_Dim1+18)=3),Mar_Dim1+18,""),IF(AND(YEAR(Mar_Dim1+25)=Année_Calendaire,MONTH(Mar_Dim1+25)=3),Mar_Dim1+25,"")) -> 42453 | AH42: =IF(DAY(Mar_Dim1)=1,IF(AND(YEAR(Mar_Dim1+19)=Année_Calendaire,MONTH(Mar_Dim1+19)=3),Mar_Dim1+19,""),IF(AND(YEAR(Mar_Dim1+26)=Année_Calendaire,MONTH(Mar_Dim1+26)=3),Mar_Dim1+26,"")) -> 42454 | AI42: =IF(DAY(Mar_Dim1)=1,IF(AND(YEAR(Mar_Dim1+20)=Année_Calendaire,MONTH(Mar_Dim1+20)=3),Mar_Dim1+20,""),IF(AND(YEAR(Mar_Dim1+27)=Année_Calendaire,MONTH(Mar_Dim1+27)=3),Mar_Dim1+27,"")) -> 42455 | AJ42: =IF(DAY(Mar_Dim1)=1,IF(AND(YEAR(Mar_Dim1+21)=Année_Calendaire,MONTH(Mar_Dim1+21)=3),Mar_Dim1+21,""),IF(AND(YEAR(Mar_Dim1+28)=Année_Calendaire,MONTH(Mar_Dim1+28)=3),Mar_Dim1+28,"")) -> 42456 | AM42: =IF(DAY(Mar_Dim1)=1,IF(AND(YEAR(Mar_Dim1+22)=Année_Calendaire,MONTH(Mar_Dim1+22)=3),Mar_Dim1+22,""),IF(AND(YEAR(Mar_Dim1+29)=Année_Calendaire,MONTH(Mar_Dim1+29)=3),Mar_Dim1+29,"")) -> 42457 | AN42: =IF(DAY(Mar_Dim1)=1,IF(AND(YEAR(Mar_Dim1+23)=Année_Calendaire,MONTH(Mar_Dim1+23)=3),Mar_Dim1+23,""),IF(AND(YEAR(Mar_Dim1+30)=Année_Calendaire,MONTH(Mar_Dim1+30)=3),Mar_Dim1+30,"")) -> 42458 | AO42: =IF(DAY(Mar_Dim1)=1,IF(AND(YEAR(Mar_Dim1+24)=Année_Calendaire,MONTH(Mar_Dim1+24)=3),Mar_Dim1+24,""),IF(AND(YEAR(Mar_Dim1+31)=Année_Calendaire,MONTH(Mar_Dim1+31)=3),Mar_Dim1+31,"")) -> 42459 | AP42: =IF(DAY(Mar_Dim1)=1,IF(AND(YEAR(Mar_Dim1+25)=Année_Calendaire,MONTH(Mar_Dim1+25)=3),Mar_Dim1+25,""),IF(AND(YEAR(Mar_Dim1+32)=Année_Calendaire,MONTH(Mar_Dim1+32)=3),Mar_Dim1+32,"")) -> 42460 | AQ42: =IF(DAY(Mar_Dim1)=1,IF(AND(YEAR(Mar_Dim1+26)=Année_Calendaire,MONTH(Mar_Dim1+26)=3),Mar_Dim1+26,""),IF(AND(YEAR(Mar_Dim1+33)=Année_Calendaire,MONTH(Mar_Dim1+33)=3),Mar_Dim1+33,"")) | AR42: =IF(DAY(Mar_Dim1)=1,IF(AND(YEAR(Mar_Dim1+27)=Année_Calendaire,MONTH(Mar_Dim1+27)=3),Mar_Dim1+27,""),IF(AND(YEAR(Mar_Dim1+34)=Année_Calendaire,MONTH(Mar_Dim1+34)=3),Mar_Dim1+34,"")) | AS42: =IF(DAY(Mar_Dim1)=1,IF(AND(YEAR(Mar_Dim1+28)=Année_Calendaire,MONTH(Mar_Dim1+28)=3),Mar_Dim1+28,""),IF(AND(YEAR(Mar_Dim1+35)=Année_Calendaire,MONTH(Mar_Dim1+35)=3),Mar_Dim1+35,"")) | AV42: =IF(DAY(Mar_Dim1)=1,IF(AND(YEAR(Mar_Dim1+29)=Année_Calendaire,MONTH(Mar_Dim1+29)=3),Mar_Dim1+29,""),IF(AND(YEAR(Mar_Dim1+36)=Année_Calendaire,MONTH(Mar_Dim1+36)=3),Mar_Dim1+36,"")) | AW42: =IF(DAY(Mar_Dim1)=1,IF(AND(YEAR(Mar_Dim1+30)=Année_Calendaire,MONTH(Mar_Dim1+30)=3),Mar_Dim1+30,""),IF(AND(YEAR(Mar_Dim1+37)=Année_Calendaire,MONTH(Mar_Dim1+37)=3),Mar_Dim1+37,""))
A43: Equipe | C43: =IFERROR(VLOOKUP(B41,DATA!$A:$H,2,TRUE),0) -> 0 | D43: =IFERROR(VLOOKUP(B41,DATA!$A:$H,3,TRUE),0) -> 0 | E43: =IFERROR(VLOOKUP(B41,DATA!$A:$H,4,TRUE),0) -> 0 | F43: =IFERROR(VLOOKUP(B41,DATA!$A:$H,5,TRUE),0) -> 0 | G43: =IFERROR(VLOOKUP(B41,DATA!$A:$H,6,TRUE),0) -> 0 | H43: =IFERROR(VLOOKUP(B41,DATA!$A:$H,7,TRUE),0) -> 0 | I43: =IFERROR(VLOOKUP(B41,DATA!$A:$H,8,TRUE),0) -> 0 | L43: =IFERROR(VLOOKUP(K41,DATA!$A:$H,2,TRUE),0) -> 0 | M43: =IFERROR(VLOOKUP(K41,DATA!$A:$H,3,TRUE),0) -> 0 | N43: =IFERROR(VLOOKUP(K41,DATA!$A:$H,4,TRUE),0) -> 0 | O43: =IFERROR(VLOOKUP(K41,DATA!$A:$H,5,TRUE),0) -> 0 | P43: =IFERROR(VLOOKUP(K41,DATA!$A:$H,6,TRUE),0) -> 0 | Q43: =IFERROR(VLOOKUP(K41,DATA!$A:$H,7,TRUE),0) -> 0 | R43: =IFERROR(VLOOKUP(K41,DATA!$A:$H,8,TRUE),0) -> 0 | U43: =IFERROR(VLOOKUP(T41,DATA!$A:$H,2,TRUE),0) -> 0 | V43: =IFERROR(VLOOKUP(T41,DATA!$A:$H,3,TRUE),0) -> 0 | W43: =IFERROR(VLOOKUP(T41,DATA!$A:$H,4,TRUE),0) -> 0 | X43: =IFERROR(VLOOKUP(T41,DATA!$A:$H,5,TRUE),0) -> 0 | Y43: =IFERROR(VLOOKUP(T41,DATA!$A:$H,6,TRUE),0) -> 0 | Z43: =IFERROR(VLOOKUP(T41,DATA!$A:$H,7,TRUE),0) -> 0 | AA43: =IFERROR(VLOOKUP(T41,DATA!$A:$H,8,TRUE),0) -> 0 | AD43: =IFERROR(VLOOKUP(AC41,DATA!$A:$H,2,TRUE),0) -> 0 | AE43: =IFERROR(VLOOKUP(AC41,DATA!$A:$H,3,TRUE),0) -> 0 | AF43: =IFERROR(VLOOKUP(AC41,DATA!$A:$H,4,TRUE),0) -> 0 | AG43: =IFERROR(VLOOKUP(AC41,DATA!$A:$H,5,TRUE),0) -> 0 | AH43: =IFERROR(VLOOKUP(AC41,DATA!$A:$H,6,TRUE),0) -> 0 | AI43: =IFERROR(VLOOKUP(AC41,DATA!$A:$H,7,TRUE),0) -> 0 | AJ43: =IFERROR(VLOOKUP(AC41,DATA!$A:$H,8,TRUE),0) -> 0 | AM43: =IFERROR(VLOOKUP(AL41,DATA!$A:$H,2,TRUE),0) -> 0 | AN43: =IFERROR(VLOOKUP(AL41,DATA!$A:$H,3,TRUE),0) -> 0 | AO43: =IFERROR(VLOOKUP(AL41,DATA!$A:$H,4,TRUE),0) -> 0 | AP43: =IFERROR(VLOOKUP(AL41,DATA!$A:$H,5,TRUE),0) -> 0 | AQ43: =IFERROR(VLOOKUP(AL41,DATA!$A:$H,6,TRUE),0) -> 0 | AR43: =IFERROR(VLOOKUP(AL41,DATA!$A:$H,7,TRUE),0) -> 0 | AS43: =IFERROR(VLOOKUP(AL41,DATA!$A:$H,8,TRUE),0) -> 0 | AV43: =IFERROR(VLOOKUP(AU41,DATA!$A:$H,2,TRUE),0) -> matin | AW43: =IFERROR(VLOOKUP(AU41,DATA!$A:$H,3,TRUE),0) -> 0
A44: Ticket resto | C44: =IF(C43="Matin",1,IF(C43="AM",1,0)) -> 0 | D44: =IF(D43="Matin",1,IF(D43="AM",1,0)) -> 0 | E44: =IF(E43="Matin",1,IF(E43="AM",1,0)) -> 0 | F44: =IF(F43="Matin",1,IF(F43="AM",1,0)) -> 0 | G44: =IF(G43="Matin",1,IF(G43="AM",1,0)) -> 0 | H44: =IF(H43="Matin",1,IF(H43="AM",1,0)) -> 0 | I44: =IF(I43="Matin",1,IF(I43="AM",1,0)) -> 0 | J44: =SUM(C44:I44) -> 0 | L44: =IF(L43="Matin",1,IF(L43="AM",1,0)) -> 0 | M44: =IF(M43="Matin",1,IF(M43="AM",1,0)) -> 0 | N44: =IF(N43="Matin",1,IF(N43="AM",1,0)) -> 0 | O44: =IF(O43="Matin",1,IF(O43="AM",1,0)) -> 0 | P44: =IF(P43="Matin",1,IF(P43="AM",1,0)) -> 0 | Q44: =IF(Q43="Matin",1,IF(Q43="AM",1,0)) -> 0 | R44: =IF(R43="Matin",1,IF(R43="AM",1,0)) -> 0 | S44: =SUM(L44:R44) -> 0 | U44: =IF(U43="Matin",1,IF(U43="AM",1,0)) -> 0 | V44: =IF(V43="Matin",1,IF(V43="AM",1,0)) -> 0 | W44: =IF(W43="Matin",1,IF(W43="AM",1,0)) -> 0 | X44: =IF(X43="Matin",1,IF(X43="AM",1,0)) -> 0 | Y44: =IF(Y43="Matin",1,IF(Y43="AM",1,0)) -> 0 | Z44: =IF(Z43="Matin",1,IF(Z43="AM",1,0)) -> 0 | AA44: =IF(AA43="Matin",1,IF(AA43="AM",1,0)) -> 0 | AB44: =SUM(U44:AA44) -> 0 | AD44: =IF(AD43="Matin",1,IF(AD43="AM",1,0)) -> 0 | AE44: =IF(AE43="Matin",1,IF(AE43="AM",1,0)) -> 0 | AF44: =IF(AF43="Matin",1,IF(AF43="AM",1,0)) -> 0 | AG44: =IF(AG43="Matin",1,IF(AG43="AM",1,0)) -> 0 | AH44: =IF(AH43="Matin",1,IF(AH43="AM",1,0)) -> 0 | AI44: =IF(AI43="Matin",1,IF(AI43="AM",1,0)) -> 0 | AJ44: =IF(AJ43="Matin",1,IF(AJ43="AM",1,0)) -> 0 | AK44: =SUM(AD44:AJ44) -> 0 | AM44: =IF(AM43="Matin",1,IF(AM43="AM",1,0)) -> 0 | AN44: =IF(AN43="Matin",1,IF(AN43="AM",1,0)) -> 0 | AO44: =IF(AO43="Matin",1,IF(AO43="AM",1,0)) -> 0 | AP44: =IF(AP43="Matin",1,IF(AP43="AM",1,0)) -> 0 | AQ44: =IF(AQ43="Matin",1,IF(AQ43="AM",1,0)) -> 0 | AR44: =IF(AR43="Matin",1,IF(AR43="AM",1,0)) -> 0 | AS44: =IF(AS43="Matin",1,IF(AS43="AM",1,0)) -> 0 | AT44: =SUM(AM44:AS44) -> 0 | AV44: =IF(AV43="Matin",1,IF(AV43="AM",1,0)) -> 1 | AW44: =IF(AW43="Matin",1,IF(AW43="AM",1,0)) -> 0 | AX44: =SUM(AV44:AW44) -> 1 | AY44: =J44+S44+AB44+AK44+AT44+AX44 -> 1
A45: Travailler | C45: =IF(C46>=1,1,0) -> 0 | D45: =IF(D46>=1,1,0) -> 0 | E45: =IF(E46>=1,1,0) -> 0 | F45: =IF(F46>=1,1,0) -> 0 | G45: =IF(G46>=1,1,0) -> 0 | H45: =IF(H46>=1,1,0) -> 0 | I45: =IF(I46>=1,1,0) -> 0 | J45: =SUM(C45:I45) -> 0 | L45: =IF(L46>=1,1,0) -> 0 | M45: =IF(M46>=1,1,0) -> 0 | N45: =IF(N46>=1,1,0) -> 0 | O45: =IF(O46>=1,1,0) -> 0 | P45: =IF(P46>=1,1,0) -> 0 | Q45: =IF(Q46>=1,1,0) -> 0 | R45: =IF(R46>=1,1,0) -> 0 | S45: =SUM(L45:R45) -> 0 | U45: =IF(U46>=1,1,0) -> 0 | V45: =IF(V46>=1,1,0) -> 0 | W45: =IF(W46>=1,1,0) -> 0 | X45: =IF(X46>=1,1,0) -> 0 | Y45: =IF(Y46>=1,1,0) -> 0 | Z45: =IF(Z46>=1,1,0) -> 0 | AA45: =IF(AA46>=1,1,0) -> 0 | AB45: =SUM(U45:AA45) -> 0 | AD45: =IF(AD46>=1,1,0) -> 0 | AE45: =IF(AE46>=1,1,0) -> 0 | AF45: =IF(AF46>=1,1,0) -> 0 | AG45: =IF(AG46>=1,1,0) -> 0 | AH45: =IF(AH46>=1,1,0) -> 0 | AI45: =IF(AI46>=1,1,0) -> 0 | AJ45: =IF(AJ46>=1,1,0) -> 0 | AK45: =SUM(AD45:AJ45) -> 0 | AM45: =IF(AM46>=1,1,0) -> 0 | AN45: =IF(AN46>=1,1,0) -> 0 | AO45: =IF(AO46>=1,1,0) -> 0 | AP45: =IF(AP46>=1,1,0) -> 0 | AQ45: =IF(AQ46>=1,1,0) -> 0 | AR45: =IF(AR46>=1,1,0) -> 0 | AS45: =IF(AS46>=1,1,0) -> 0 | AT45: =SUM(AM45:AS45) -> 0 | AV45: =IF(AV46>=1,1,0) -> 1 | AW45: =IF(AW46>=1,1,0) -> 0 | AX45: =SUM(AV45:AW45) -> 1 | AY45: =J45+S45+AB45+AK45+AT45+AX45 -> 1
A46: Nbr heure | C46: =IF(C43="Matin",8,IF(C43="AM",8,IF(C43="nuit",8,0))) -> 0 | D46: =IF(D43="Matin",8,IF(D43="AM",8,IF(D43="nuit",8,0))) -> 0 | E46: =IF(E43="Matin",8,IF(E43="AM",8,IF(E43="nuit",8,0))) -> 0 | F46: =IF(F43="Matin",8,IF(F43="AM",8,IF(F43="nuit",8,0))) -> 0 | G46: =IF(G43="Matin",8,IF(G43="AM",8,IF(G43="nuit",8,0))) -> 0 | H46: =IF(H43="Matin",8,IF(H43="AM",8,IF(H43="nuit",8,0))) -> 0 | I46: =IF(I43="Matin",8,IF(I43="AM",8,IF(I43="nuit",8,0))) -> 0 | J46: =SUM(C46:I46) -> 0 | L46: =IF(L43="Matin",8,IF(L43="AM",8,IF(L43="nuit",8,0))) -> 0 | M46: =IF(M43="Matin",8,IF(M43="AM",8,IF(M43="nuit",8,0))) -> 0 | N46: =IF(N43="Matin",8,IF(N43="AM",8,IF(N43="nuit",8,0))) -> 0 | O46: =IF(O43="Matin",8,IF(O43="AM",8,IF(O43="nuit",8,0))) -> 0 | P46: =IF(P43="Matin",8,IF(P43="AM",8,IF(P43="nuit",8,0))) -> 0 | Q46: =IF(Q43="Matin",8,IF(Q43="AM",8,IF(Q43="nuit",8,0))) -> 0 | R46: =IF(R43="Matin",8,IF(R43="AM",8,IF(R43="nuit",8,0))) -> 0 | S46: =SUM(L46:R46) -> 0 | U46: =IF(U43="Matin",8,IF(U43="AM",8,IF(U43="nuit",8,0))) -> 0 | V46: =IF(V43="Matin",8,IF(V43="AM",8,IF(V43="nuit",8,0))) -> 0 | W46: =IF(W43="Matin",8,IF(W43="AM",8,IF(W43="nuit",8,0))) -> 0 | X46: =IF(X43="Matin",8,IF(X43="AM",8,IF(X43="nuit",8,0))) -> 0 | Y46: =IF(Y43="Matin",8,IF(Y43="AM",8,IF(Y43="nuit",8,0))) -> 0 | Z46: =IF(Z43="Matin",8,IF(Z43="AM",8,IF(Z43="nuit",8,0))) -> 0 | AA46: =IF(AA43="Matin",8,IF(AA43="AM",8,IF(AA43="nuit",8,0))) -> 0 | AB46: =SUM(U46:AA46) -> 0 | AD46: =IF(AD43="Matin",8,IF(AD43="AM",8,IF(AD43="nuit",8,0))) -> 0 | AE46: =IF(AE43="Matin",8,IF(AE43="AM",8,IF(AE43="nuit",8,0))) -> 0 | AF46: =IF(AF43="Matin",8,IF(AF43="AM",8,IF(AF43="nuit",8,0))) -> 0 | AG46: =IF(AG43="Matin",8,IF(AG43="AM",8,IF(AG43="nuit",8,0))) -> 0 | AH46: =IF(AH43="Matin",8,IF(AH43="AM",8,IF(AH43="nuit",8,0))) -> 0 | AI46: =IF(AI43="Matin",8,IF(AI43="AM",8,IF(AI43="nuit",8,0))) -> 0 | AJ46: =IF(AJ43="Matin",8,IF(AJ43="AM",8,IF(AJ43="nuit",8,0))) -> 0 | AK46: =SUM(AD46:AJ46) -> 0 | AM46: =IF(AM43="Matin",8,IF(AM43="AM",8,IF(AM43="nuit",8,0))) -> 0 | AN46: =IF(AN43="Matin",8,IF(AN43="AM",8,IF(AN43="nuit",8,0))) -> 0 | AO46: =IF(AO43="Matin",8,IF(AO43="AM",8,IF(AO43="nuit",8,0))) -> 0 | AP46: =IF(AP43="Matin",8,IF(AP43="AM",8,IF(AP43="nuit",8,0))) -> 0 | AQ46: =IF(AQ43="Matin",8,IF(AQ43="AM",8,IF(AQ43="nuit",8,0))) -> 0 | AR46: =IF(AR43="Matin",8,IF(AR43="AM",8,IF(AR43="nuit",8,0))) -> 0 | AS46: =IF(AS43="Matin",8,IF(AS43="AM",8,IF(AS43="nuit",8,0))) -> 0 | AT46: =SUM(AM46:AS46) -> 0 | AV46: =IF(AV43="Matin",8,IF(AV43="AM",8,IF(AV43="nuit",8,0))) -> 8 | AW46: =IF(AW43="Matin",8,IF(AW43="AM",8,IF(AW43="nuit",8,0))) -> 0 | AX46: =SUM(AV46:AW46) -> 8 | AY46: =J46+S46+AB46+AK46+AT46+AX46 -> 8
A47: Heure comp | C47: =IF(C41<>"Dim",IF(C46>32,MIN(C46,35)-32,0),0) -> 0 | D47: =IF(D41<>"Dim",IF(SUM($C46:D46)>32,MIN(SUM($C46:D46),35)-32-SUM($C47:C47),0),0) -> 0 | E47: =IF(E41<>"Dim",IF(SUM($C46:E46)>32,MIN(SUM($C46:E46),35)-32-SUM($C47:D47),0),0) -> 0 | F47: =IF(F41<>"Dim",IF(SUM($C46:F46)>32,MIN(SUM($C46:F46),35)-32-SUM($C47:E47),0),0) -> 0 | G47: =IF(G41<>"Dim",IF(SUM($C46:G46)>32,MIN(SUM($C46:G46),35)-32-SUM($C47:F47),0),0) -> 0 | H47: =IF(H41<>"Dim",IF(SUM($C46:H46)>32,MIN(SUM($C46:H46),35)-32-SUM($C47:G47),0),0) -> 0 | I47: =IF(I41<>"Dim",IF(SUM($C46:I46)>32,MIN(SUM($C46:I46),35)-32-SUM($C47:H47),0),0) -> 0 | J47: =SUM(C47:I47) -> 0 | L47: =IF(L41<>"Dim",IF(L46>32,MIN(L46,35)-32,0),0) -> 0 | M47: =IF(M41<>"Dim",IF(SUM($L46:M46)>32,MIN(SUM($L46:M46),35)-32-SUM($L47:L47),0),0) -> 0 | N47: =IF(N41<>"Dim",IF(SUM($L46:N46)>32,MIN(SUM($L46:N46),35)-32-SUM($L47:M47),0),0) -> 0 | O47: =IF(O41<>"Dim",IF(SUM($L46:O46)>32,MIN(SUM($L46:O46),35)-32-SUM($L47:N47),0),0) -> 0 | P47: =IF(P41<>"Dim",IF(SUM($L46:P46)>32,MIN(SUM($L46:P46),35)-32-SUM($L47:O47),0),0) -> 0 | Q47: =IF(Q41<>"Dim",IF(SUM($L46:Q46)>32,MIN(SUM($L46:Q46),35)-32-SUM($L47:P47),0),0) -> 0 | R47: =IF(R41<>"Dim",IF(SUM($L46:R46)>32,MIN(SUM($L46:R46),35)-32-SUM($L47:Q47),0),0) -> 0 | S47: =SUM(L47:R47) -> 0 | U47: =IF(U41<>"Dim",IF(U46>32,MIN(U46,35)-32,0),0) -> 0 | V47: =IF(V41<>"Dim",IF(SUM($U46:V46)>32,MIN(SUM($U46:V46),35)-32-SUM($U47:U47),0),0) -> 0 | W47: =IF(W41<>"Dim",IF(SUM($U46:W46)>32,MIN(SUM($U46:W46),35)-32-SUM($U47:V47),0),0) -> 0 | X47: =IF(X41<>"Dim",IF(SUM($U46:X46)>32,MIN(SUM($U46:X46),35)-32-SUM($U47:W47),0),0) -> 0 | Y47: =IF(Y41<>"Dim",IF(SUM($U46:Y46)>32,MIN(SUM($U46:Y46),35)-32-SUM($U47:X47),0),0) -> 0 | Z47: =IF(Z41<>"Dim",IF(SUM($U46:Z46)>32,MIN(SUM($U46:Z46),35)-32-SUM($U47:Y47),0),0) -> 0 | AA47: =IF(AA41<>"Dim",IF(SUM($U46:AA46)>32,MIN(SUM($U46:AA46),35)-32-SUM($U47:Z47),0),0) -> 0 | AB47: =SUM(U47:AA47) -> 0 | AD47: =IF(AD41<>"Dim",IF(AD46>32,MIN(AD46,35)-32,0),0) -> 0 | AE47: =IF(AE41<>"Dim",IF(SUM($AD46:AE46)>32,MIN(SUM($AD46:AE46),35)-32-SUM($AD47:AD47),0),0) -> 0 | AF47: =IF(AF41<>"Dim",IF(SUM($AD46:AF46)>32,MIN(SUM($AD46:AF46),35)-32-SUM($AD47:AE47),0),0) -> 0 | AG47: =IF(AG41<>"Dim",IF(SUM($AD46:AG46)>32,MIN(SUM($AD46:AG46),35)-32-SUM($AD47:AF47),0),0) -> 0 | AH47: =IF(AH41<>"Dim",IF(SUM($AD46:AH46)>32,MIN(SUM($AD46:AH46),35)-32-SUM($AD47:AG47),0),0) -> 0 | AI47: =IF(AI41<>"Dim",IF(SUM($AD46:AI46)>32,MIN(SUM($AD46:AI46),35)-32-SUM($AD47:AH47),0),0) -> 0 | AJ47: =IF(AJ41<>"Dim",IF(SUM($AD46:AJ46)>32,MIN(SUM($AD46:AJ46),35)-32-SUM($AD47:AI47),0),0) -> 0 | AK47: =SUM(AD47:AJ47) -> 0 | AM47: =IF(AM41<>"Dim",IF(AM46>32,MIN(AM46,35)-32,0),0) -> 0 | AN47: =IF(AN41<>"Dim",IF(SUM($AM46:AN46)>32,MIN(SUM($AM46:AN46),35)-32-SUM($AM47:AM47),0),0) -> 0 | AO47: =IF(AO41<>"Dim",IF(SUM($AM46:AO46)>32,MIN(SUM($AM46:AO46),35)-32-SUM($AM47:AN47),0),0) -> 0 | AP47: =IF(AP41<>"Dim",IF(SUM($AM46:AP46)>32,MIN(SUM($AM46:AP46),35)-32-SUM($AM47:AO47),0),0) -> 0 | AQ47: =IF(AQ41<>"Dim",IF(SUM($AM46:AQ46)>32,MIN(SUM($AM46:AQ46),35)-32-SUM($AM47:AP47),0),0) -> 0 | AR47: =IF(AR41<>"Dim",IF(SUM($AM46:AR46)>32,MIN(SUM($AM46:AR46),35)-32-SUM($AM47:AQ47),0),0) -> 0 | AS47: =IF(AS41<>"Dim",IF(SUM($AM46:AS46)>32,MIN(SUM($AM46:AS46),35)-32-SUM($AM47:AR47),0),0) -> 0 | AT47: =SUM(AM47:AS47) -> 0 | AV47: =IF(AV41<>"Dim",IF(AV46>32,MIN(AV46,35)-32,0),0) -> 0 | AW47: =IF(AW41<>"Dim",IF(SUM($AV46:AW46)>32,MIN(SUM($AV46:AW46),35)-32-SUM($AV47:AV47),0),0) -> 0 | AX47: =SUM(AV47:AW47) -> 0 | AY47: =J47+S47+AB47+AK47+AT47+AX47 -> 0
A48: HS 25% | C48: =IF(C41<>"Dim",IF(C46>35,(MIN(C46,43)-35),0),0) -> 0 | D48: =IF(D41<>"Dim",IF(SUM($C46:D46)>35,(MIN(SUM($C46:D46),43)-35-SUM($C48:C48)),0),0) -> 0 | E48: =IF(E41<>"Dim",IF(SUM($C46:E46)>35,(MIN(SUM($C46:E46),43)-35-SUM($C48:D48)),0),0) -> 0 | F48: =IF(F41<>"Dim",IF(SUM($C46:F46)>35,(MIN(SUM($C46:F46),43)-35-SUM($C48:E48)),0),0) -> 0 | G48: =IF(G41<>"Dim",IF(SUM($C46:G46)>35,(MIN(SUM($C46:G46),43)-35-SUM($C48:F48)),0),0) -> 0 | H48: =IF(H41<>"Dim",IF(SUM($C46:H46)>35,(MIN(SUM($C46:H46),43)-35-SUM($C48:G48)),0),0) -> 0 | I48: =IF(I41<>"Dim",IF(SUM($C46:I46)>35,(MIN(SUM($C46:I46),43)-35-SUM($C48:H48)),0),0) -> 0 | J48: =SUM(C48:I48) -> 0 | L48: =IF(L41<>"Dim",IF(L46>35,(MIN(L46,43)-35),0),0) -> 0 | M48: =IF(M41<>"Dim",IF(SUM($L46:M46)>35,(MIN(SUM($L46:M46),43)-35-SUM($L48:L48)),0),0) -> 0 | N48: =IF(N41<>"Dim",IF(SUM($L46:N46)>35,(MIN(SUM($L46:N46),43)-35-SUM($L48:M48)),0),0) -> 0 | O48: =IF(O41<>"Dim",IF(SUM($L46:O46)>35,(MIN(SUM($L46:O46),43)-35-SUM($L48:N48)),0),0) -> 0 | P48: =IF(P41<>"Dim",IF(SUM($L46:P46)>35,(MIN(SUM($L46:P46),43)-35-SUM($L48:O48)),0),0) -> 0 | Q48: =IF(Q41<>"Dim",IF(SUM($L46:Q46)>35,(MIN(SUM($L46:Q46),43)-35-SUM($L48:P48)),0),0) -> 0 | R48: =IF(R41<>"Dim",IF(SUM($L46:R46)>35,(MIN(SUM($L46:R46),43)-35-SUM($L48:Q48)),0),0) -> 0 | S48: =SUM(L48:R48) -> 0 | U48: =IF(U41<>"Dim",IF(U46>35,(MIN(U46,43)-35),0),0) -> 0 | V48: =IF(V41<>"Dim",IF(SUM($U46:V46)>35,(MIN(SUM($U46:V46),43)-35-SUM($U48:U48)),0),0) -> 0 | W48: =IF(W41<>"Dim",IF(SUM($U46:W46)>35,(MIN(SUM($U46:W46),43)-35-SUM($U48:V48)),0),0) -> 0 | X48: =IF(X41<>"Dim",IF(SUM($U46:X46)>35,(MIN(SUM($U46:X46),43)-35-SUM($U48:W48)),0),0) -> 0 | Y48: =IF(Y41<>"Dim",IF(SUM($U46:Y46)>35,(MIN(SUM($U46:Y46),43)-35-SUM($U48:X48)),0),0) -> 0 | Z48: =IF(Z41<>"Dim",IF(SUM($U46:Z46)>35,(MIN(SUM($U46:Z46),43)-35-SUM($U48:Y48)),0),0) -> 0 | AA48: =IF(AA41<>"Dim",IF(SUM($U46:AA46)>35,(MIN(SUM($U46:AA46),43)-35-SUM($U48:Z48)),0),0) -> 0 | AB48: =SUM(U48:AA48) -> 0 | AD48: =IF(AD41<>"Dim",IF(AD46>35,(MIN(AD46,43)-35),0),0) -> 0 | AE48: =IF(AE41<>"Dim",IF(SUM($AD46:AE46)>35,(MIN(SUM($AD46:AE46),43)-35-SUM($AD48:AD48)),0),0) -> 0 | AF48: =IF(AF41<>"Dim",IF(SUM($AD46:AF46)>35,(MIN(SUM($AD46:AF46),43)-35-SUM($AD48:AE48)),0),0) -> 0 | AG48: =IF(AG41<>"Dim",IF(SUM($AD46:AG46)>35,(MIN(SUM($AD46:AG46),43)-35-SUM($AD48:AF48)),0),0) -> 0 | AH48: =IF(AH41<>"Dim",IF(SUM($AD46:AH46)>35,(MIN(SUM($AD46:AH46),43)-35-SUM($AD48:AG48)),0),0) -> 0 | AI48: =IF(AI41<>"Dim",IF(SUM($AD46:AI46)>35,(MIN(SUM($AD46:AI46),43)-35-SUM($AD48:AH48)),0),0) -> 0 | AJ48: =IF(AJ41<>"Dim",IF(SUM($AD46:AJ46)>35,(MIN(SUM($AD46:AJ46),43)-35-SUM($AD48:AI48)),0),0) -> 0 | AK48: =SUM(AD48:AJ48) -> 0 | AM48: =IF(AM41<>"Dim",IF(AM46>35,(MIN(AM46,43)-35),0),0) -> 0 | AN48: =IF(AN41<>"Dim",IF(SUM($AM46:AN46)>35,(MIN(SUM($AM46:AN46),43)-35-SUM($AM48:AM48)),0),0) -> 0 | AO48: =IF(AO41<>"Dim",IF(SUM($AM46:AO46)>35,(MIN(SUM($AM46:AO46),43)-35-SUM($AM48:AN48)),0),0) -> 0 | AP48: =IF(AP41<>"Dim",IF(SUM($AM46:AP46)>35,(MIN(SUM($AM46:AP46),43)-35-SUM($AM48:AO48)),0),0) -> 0 | AQ48: =IF(AQ41<>"Dim",IF(SUM($AM46:AQ46)>35,(MIN(SUM($AM46:AQ46),43)-35-SUM($AM48:AP48)),0),0) -> 0 | AR48: =IF(AR41<>"Dim",IF(SUM($AM46:AR46)>35,(MIN(SUM($AM46:AR46),43)-35-SUM($AM48:AQ48)),0),0) -> 0 | AS48: =IF(AS41<>"Dim",IF(SUM($AM46:AS46)>35,(MIN(SUM($AM46:AS46),43)-35-SUM($AM48:AR48)),0),0) -> 0 | AT48: =SUM(AM48:AS48) -> 0 | AV48: =IF(AV41<>"Dim",IF(AV46>35,(MIN(AV46,43)-35),0),0) -> 0 | AW48: =IF(AW41<>"Dim",IF(SUM($AV46:AW46)>35,(MIN(SUM($AV46:AW46),43)-35-SUM($AV48:AV48)),0),0) -> 0 | AX48: =SUM(AV48:AW48) -> 0 | AY48: =J48+S48+AB48+AK48+AT48+AX48 -> 0
A49: HS 50% | C49: =IF(C41<>"Dim",IF(C46>43,(MIN(C46,48)-43),0),0) -> 0 | D49: =IF(D41<>"Dim",IF(SUM($C46:D46)>43,(MIN(SUM($C46:D46),48)-43-SUM($C49:C49)),0),0) -> 0 | E49: =IF(E41<>"Dim",IF(SUM($C46:E46)>43,(MIN(SUM($C46:E46),48)-43-SUM($C49:D49)),0),0) -> 0 | F49: =IF(F41<>"Dim",IF(SUM($C46:F46)>43,(MIN(SUM($C46:F46),48)-43-SUM($C49:E49)),0),0) -> 0 | G49: =IF(G41<>"Dim",IF(SUM($C46:G46)>43,(MIN(SUM($C46:G46),48)-43-SUM($C49:F49)),0),0) -> 0 | H49: =IF(H41<>"Dim",IF(SUM($C46:H46)>43,(MIN(SUM($C46:H46),48)-43-SUM($C49:G49)),0),0) -> 0 | I49: =IF(I41<>"Dim",IF(SUM($C46:I46)>43,(MIN(SUM($C46:I46),48)-43-SUM($C49:H49)),0),0) -> 0 | J49: =SUM(C49:I49) -> 0 | L49: =IF(L41<>"Dim",IF(L46>43,(MIN(L46,48)-43),0),0) -> 0 | M49: =IF(M41<>"Dim",IF(SUM($L46:M46)>43,(MIN(SUM($L46:M46),48)-43-SUM($L49:L49)),0),0) -> 0 | N49: =IF(N41<>"Dim",IF(SUM($L46:N46)>43,(MIN(SUM($L46:N46),48)-43-SUM($L49:M49)),0),0) -> 0 | O49: =IF(O41<>"Dim",IF(SUM($L46:O46)>43,(MIN(SUM($L46:O46),48)-43-SUM($L49:N49)),0),0) -> 0 | P49: =IF(P41<>"Dim",IF(SUM($L46:P46)>43,(MIN(SUM($L46:P46),48)-43-SUM($L49:O49)),0),0) -> 0 | Q49: =IF(Q41<>"Dim",IF(SUM($L46:Q46)>43,(MIN(SUM($L46:Q46),48)-43-SUM($L49:P49)),0),0) -> 0 | R49: =IF(R41<>"Dim",IF(SUM($L46:R46)>43,(MIN(SUM($L46:R46),48)-43-SUM($L49:Q49)),0),0) -> 0 | S49: =SUM(L49:R49) -> 0 | U49: =IF(U41<>"Dim",IF(U46>43,(MIN(U46,48)-43),0),0) -> 0 | V49: =IF(V41<>"Dim",IF(SUM($U46:V46)>43,(MIN(SUM($U46:V46),48)-43-SUM($U49:U49)),0),0) -> 0 | W49: =IF(W41<>"Dim",IF(SUM($U46:W46)>43,(MIN(SUM($U46:W46),48)-43-SUM($U49:V49)),0),0) -> 0 | X49: =IF(X41<>"Dim",IF(SUM($U46:X46)>43,(MIN(SUM($U46:X46),48)-43-SUM($U49:W49)),0),0) -> 0 | Y49: =IF(Y41<>"Dim",IF(SUM($U46:Y46)>43,(MIN(SUM($U46:Y46),48)-43-SUM($U49:X49)),0),0) -> 0 | Z49: =IF(Z41<>"Dim",IF(SUM($U46:Z46)>43,(MIN(SUM($U46:Z46),48)-43-SUM($U49:Y49)),0),0) -> 0 | AA49: =IF(AA41<>"Dim",IF(SUM($U46:AA46)>43,(MIN(SUM($U46:AA46),48)-43-SUM($U49:Z49)),0),0) -> 0 | AB49: =SUM(U49:AA49) -> 0 | AD49: =IF(AD41<>"Dim",IF(AD46>43,(MIN(AD46,48)-43),0),0) -> 0 | AE49: =IF(AE41<>"Dim",IF(SUM($AD46:AE46)>43,(MIN(SUM($AD46:AE46),48)-43-SUM($AD49:AD49)),0),0) -> 0 | AF49: =IF(AF41<>"Dim",IF(SUM($AD46:AF46)>43,(MIN(SUM($AD46:AF46),48)-43-SUM($AD49:AE49)),0),0) -> 0 | AG49: =IF(AG41<>"Dim",IF(SUM($AD46:AG46)>43,(MIN(SUM($AD46:AG46),48)-43-SUM($AD49:AF49)),0),0) -> 0 | AH49: =IF(AH41<>"Dim",IF(SUM($AD46:AH46)>43,(MIN(SUM($AD46:AH46),48)-43-SUM($AD49:AG49)),0),0) -> 0 | AI49: =IF(AI41<>"Dim",IF(SUM($AD46:AI46)>43,(MIN(SUM($AD46:AI46),48)-43-SUM($AD49:AH49)),0),0) -> 0 | AJ49: =IF(AJ41<>"Dim",IF(SUM($AD46:AJ46)>43,(MIN(SUM($AD46:AJ46),48)-43-SUM($AD49:AI49)),0),0) -> 0 | AK49: =SUM(AD49:AJ49) -> 0 | AM49: =IF(AM41<>"Dim",IF(AM46>43,(MIN(AM46,48)-43),0),0) -> 0 | AN49: =IF(AN41<>"Dim",IF(SUM($AM46:AN46)>43,(MIN(SUM($AM46:AN46),48)-43-SUM($AM49:AM49)),0),0) -> 0 | AO49: =IF(AO41<>"Dim",IF(SUM($AM46:AO46)>43,(MIN(SUM($AM46:AO46),48)-43-SUM($AM49:AN49)),0),0) -> 0 | AP49: =IF(AP41<>"Dim",IF(SUM($AM46:AP46)>43,(MIN(SUM($AM46:AP46),48)-43-SUM($AM49:AO49)),0),0) -> 0 | AQ49: =IF(AQ41<>"Dim",IF(SUM($AM46:AQ46)>43,(MIN(SUM($AM46:AQ46),48)-43-SUM($AM49:AP49)),0),0) -> 0 | AR49: =IF(AR41<>"Dim",IF(SUM($AM46:AR46)>43,(MIN(SUM($AM46:AR46),48)-43-SUM($AM49:AQ49)),0),0) -> 0 | AS49: =IF(AS41<>"Dim",IF(SUM($AM46:AS46)>43,(MIN(SUM($AM46:AS46),48)-43-SUM($AM49:AR49)),0),0) -> 0 | AT49: =SUM(AM49:AS49) -> 0 | AV49: =IF(AV41<>"Dim",IF(AV46>43,(MIN(AV46,48)-43),0),0) -> 0 | AW49: =IF(AW41<>"Dim",IF(SUM($AV46:AW46)>43,(MIN(SUM($AV46:AW46),48)-43-SUM($AV49:AV49)),0),0) -> 0 | AX49: =SUM(AV49:AW49) -> 0 | AY49: =J49+S49+AB49+AK49+AT49+AX49 -> 0
A50: HS 200% | C50: =IF(C41="Dim",C46,IF(C56="ferie",C46,0)) -> 0 | D50: =IF(D41="Dim",D46,IF(D56="ferie",D46,0)) -> 0 | E50: =IF(E41="Dim",E46,IF(E56="ferie",E46,0)) -> 0 | F50: =IF(F41="Dim",F46,IF(F56="ferie",F46,0)) -> 0 | G50: =IF(G41="Dim",G46,IF(G56="ferie",G46,0)) -> 0 | H50: =IF(H41="Dim",H46,IF(H56="ferie",H46,0)) -> 0 | I50: =IF(I41="Dim",I46,IF(I56="ferie",I46,0)) -> 0 | J50: =SUM(C50:I50) -> 0 | L50: =IF(L41="Dim",L46,IF(L56="ferie",L46,0)) -> 0 | M50: =IF(M41="Dim",M46,IF(M56="ferie",M46,0)) -> 0 | N50: =IF(N41="Dim",N46,IF(N56="ferie",N46,0)) -> 0 | O50: =IF(O41="Dim",O46,IF(O56="ferie",O46,0)) -> 0 | P50: =IF(P41="Dim",P46,IF(P56="ferie",P46,0)) -> 0 | Q50: =IF(Q41="Dim",Q46,IF(Q56="ferie",Q46,0)) -> 0 | R50: =IF(R41="Dim",R46,IF(R56="ferie",R46,0)) -> 0 | S50: =SUM(L50:R50) -> 0 | U50: =IF(U41="Dim",U46,IF(U56="ferie",U46,0)) -> 0 | V50: =IF(V41="Dim",V46,IF(V56="ferie",V46,0)) -> 0 | W50: =IF(W41="Dim",W46,IF(W56="ferie",W46,0)) -> 0 | X50: =IF(X41="Dim",X46,IF(X56="ferie",X46,0)) -> 0 | Y50: =IF(Y41="Dim",Y46,IF(Y56="ferie",Y46,0)) -> 0 | Z50: =IF(Z41="Dim",Z46,IF(Z56="ferie",Z46,0)) -> 0 | AA50: =IF(AA41="Dim",AA46,IF(AA56="ferie",AA46,0)) -> 0 | AB50: =SUM(U50:AA50) -> 0 | AD50: =IF(AD41="Dim",AD46,IF(AD56="ferie",AD46,0)) -> 0 | AE50: =IF(AE41="Dim",AE46,IF(AE56="ferie",AE46,0)) -> 0 | AF50: =IF(AF41="Dim",AF46,IF(AF56="ferie",AF46,0)) -> 0 | AG50: =IF(AG41="Dim",AG46,IF(AG56="ferie",AG46,0)) -> 0 | AH50: =IF(AH41="Dim",AH46,IF(AH56="ferie",AH46,0)) -> 0 | AI50: =IF(AI41="Dim",AI46,IF(AI56="ferie",AI46,0)) -> 0 | AJ50: =IF(AJ41="Dim",AJ46,IF(AJ56="ferie",AJ46,0)) -> 0 | AK50: =SUM(AD50:AJ50) -> 0 | AM50: =IF(AM41="Dim",AM46,IF(AM56="ferie",AM46,0)) -> 0 | AN50: =IF(AN41="Dim",AN46,IF(AN56="ferie",AN46,0)) -> 0 | AO50: =IF(AO41="Dim",AO46,IF(AO56="ferie",AO46,0)) -> 0 | AP50: =IF(AP41="Dim",AP46,IF(AP56="ferie",AP46,0)) -> 0 | AQ50: =IF(AQ41="Dim",AQ46,IF(AQ56="ferie",AQ46,0)) -> 0 | AR50: =IF(AR41="Dim",AR46,IF(AR56="ferie",AR46,0)) -> 0 | AS50: =IF(AS41="Dim",AS46,IF(AS56="ferie",AS46,0)) -> 0 | AT50: =SUM(AM50:AS50) -> 0 | AV50: =IF(AV41="Dim",AV46,IF(AV56="ferie",AV46,0)) -> 0 | AW50: =IF(AW41="Dim",AW46,IF(AW56="ferie",AW46,0)) -> 0 | AX50: =SUM(AV50:AW50) -> 0 | AY50: =J50+S50+AB50+AK50+AT50+AX50 -> 0
A51: HR + | J51: =SUM(C51:I51) -> 0 | S51: =SUM(L51:R51) -> 0 | AB51: =SUM(U51:AA51) -> 0 | AK51: =SUM(AD51:AJ51) -> 0 | AT51: =SUM(AM51:AS51) -> 0 | AX51: =SUM(AV51:AW51) -> 0 | AY51: =J51+S51+AB51+AK51+AT51+AX51 -> 0
A52: HR - | J52: =SUM(C52:I52) -> 0 | S52: =SUM(L52:R52) -> 0 | AB52: =SUM(U52:AA52) -> 0 | AK52: =SUM(AD52:AJ52) -> 0 | AT52: =SUM(AM52:AS52) -> 0 | AX52: =SUM(AV52:AW52) -> 0 | AY52: =J52+S52+AB52+AK52+AT52+AX52 -> 0
A53: CP - | J53: =SUM(C53:I53) -> 0 | S53: =SUM(L53:R53) -> 0 | AB53: =SUM(U53:AA53) -> 0 | AK53: =SUM(AD53:AJ53) -> 0 | AT53: =SUM(AM53:AS53) -> 0 | AX53: =SUM(AV53:AW53) -> 0 | AY53: =J53+S53+AB53+AK53+AT53+AX53 -> 0
A54: RC - | J54: =SUM(C54:I54) -> 0 | S54: =SUM(L54:R54) -> 0 | AB54: =SUM(U54:AA54) -> 0 | AK54: =SUM(AD54:AJ54) -> 0 | AT54: =SUM(AM54:AS54) -> 0 | AX54: =SUM(AV54:AW54) -> 0 | AY54: =J54+S54+AB54+AK54+AT54+AX54 -> 0
A55: RC nuit | C55: =IF(C43="nuit",C46*0.02,0) -> 0 | D55: =IF(D43="nuit",D46*0.02,0) -> 0 | E55: =IF(E43="nuit",E46*0.02,0) -> 0 | F55: =IF(F43="nuit",F46*0.02,0) -> 0 | G55: =IF(G43="nuit",G46*0.02,0) -> 0 | H55: =IF(H43="nuit",H46*0.02,0) -> 0 | I55: =IF(I43="nuit",I46*0.02,0) -> 0 | J55: =SUM(C55:I55) -> 0 | L55: =IF(L43="nuit",L46*0.02,0) -> 0 | M55: =IF(M43="nuit",M46*0.02,0) -> 0 | N55: =IF(N43="nuit",N46*0.02,0) -> 0 | O55: =IF(O43="nuit",O46*0.02,0) -> 0 | P55: =IF(P43="nuit",P46*0.02,0) -> 0 | Q55: =IF(Q43="nuit",Q46*0.02,0) -> 0 | R55: =IF(R43="nuit",R46*0.02,0) -> 0 | S55: =SUM(L55:R55) -> 0 | U55: =IF(U43="nuit",U46*0.02,0) -> 0 | V55: =IF(V43="nuit",V46*0.02,0) -> 0 | W55: =IF(W43="nuit",W46*0.02,0) -> 0 | X55: =IF(X43="nuit",X46*0.02,0) -> 0 | Y55: =IF(Y43="nuit",Y46*0.02,0) -> 0 | Z55: =IF(Z43="nuit",Z46*0.02,0) -> 0 | AA55: =IF(AA43="nuit",AA46*0.02,0) -> 0 | AB55: =SUM(U55:AA55) -> 0 | AD55: =IF(AD43="nuit",AD46*0.02,0) -> 0 | AE55: =IF(AE43="nuit",AE46*0.02,0) -> 0 | AF55: =IF(AF43="nuit",AF46*0.02,0) -> 0 | AG55: =IF(AG43="nuit",AG46*0.02,0) -> 0 | AH55: =IF(AH43="nuit",AH46*0.02,0) -> 0 | AI55: =IF(AI43="nuit",AI46*0.02,0) -> 0 | AJ55: =IF(AJ43="nuit",AJ46*0.02,0) -> 0 | AK55: =SUM(AD55:AJ55) -> 0 | AM55: =IF(AM43="nuit",AM46*0.02,0) -> 0 | AN55: =IF(AN43="nuit",AN46*0.02,0) -> 0 | AO55: =IF(AO43="nuit",AO46*0.02,0) -> 0 | AP55: =IF(AP43="nuit",AP46*0.02,0) -> 0 | AQ55: =IF(AQ43="nuit",AQ46*0.02,0) -> 0 | AR55: =IF(AR43="nuit",AR46*0.02,0) -> 0 | AS55: =IF(AS43="nuit",AS46*0.02,0) -> 0 | AT55: =SUM(AM55:AS55) -> 0 | AV55: =IF(AV43="nuit",AV46*0.02,0) -> 0 | AW55: =IF(AW43="nuit",AW46*0.02,0) -> 0 | AX55: =SUM(AV55:AW55) -> 0 | AY55: =J55+S55+AB55+AK55+AT55+AX55 -> 0
A56: Note
C58: Avril | H58: =Année_Calendaire -> 2016 | U58: Avril | Z58: =Année_Calendaire -> 2016 | AM58: Avril | AR58: =Année_Calendaire -> 2016
C59: Lun | D59: Mar | E59: Mer | F59: Jeu | G59: Ven | H59: Sam | I59: Dim | J59: Cumul | L59: Lun | M59: Mar | N59: Mer | O59: Jeu | P59: Ven | Q59: Sam | R59: Dim | S59: Cumul | U59: Lun | V59: Mar | W59: Mer | X59: Jeu | Y59: Ven | Z59: Sam | AA59: Dim | AB59: Cumul | AD59: Lun | AE59: Mar | AF59: Mer | AG59: Jeu | AH59: Ven | AI59: Sam | AJ59: Dim | AK59: Cumul | AM59: Lun | AN59: Mar | AO59: Mer | AP59: Jeu | AQ59: Ven | AR59: Sam | AS59: Dim | AT59: Cumul | AU59: c3 | AV59: Lun | AW59: Mar | AX59: Cumul | AY59: Cumul total | AZ59: =AY66+AY67+AY68 -> 0 | BA59: =AZ59+BA41 -> 10
C60: =IF(DAY(Avr_Dim1)=1,"",IF(AND(YEAR(Avr_Dim1+1)=Année_Calendaire,MONTH(Avr_Dim1+1)=4),Avr_Dim1+1,"")) | D60: =IF(DAY(Avr_Dim1)=1,"",IF(AND(YEAR(Avr_Dim1+2)=Année_Calendaire,MONTH(Avr_Dim1+2)=4),Avr_Dim1+2,"")) | E60: =IF(DAY(Avr_Dim1)=1,"",IF(AND(YEAR(Avr_Dim1+3)=Année_Calendaire,MONTH(Avr_Dim1+3)=4),Avr_Dim1+3,"")) | F60: =IF(DAY(Avr_Dim1)=1,"",IF(AND(YEAR(Avr_Dim1+4)=Année_Calendaire,MONTH(Avr_Dim1+4)=4),Avr_Dim1+4,"")) | G60: =IF(DAY(Avr_Dim1)=1,"",IF(AND(YEAR(Avr_Dim1+5)=Année_Calendaire,MONTH(Avr_Dim1+5)=4),Avr_Dim1+5,"")) -> 42461 | H60: =IF(DAY(Avr_Dim1)=1,"",IF(AND(YEAR(Avr_Dim1+6)=Année_Calendaire,MONTH(Avr_Dim1+6)=4),Avr_Dim1+6,"")) -> 42462 | I60: =IF(DAY(Avr_Dim1)=1,IF(AND(YEAR(Avr_Dim1)=Année_Calendaire,MONTH(Avr_Dim1)=4),Avr_Dim1,""),IF(AND(YEAR(Avr_Dim1+7)=Année_Calendaire,MONTH(Avr_Dim1+7)=4),Avr_Dim1+7,"")) -> 42463 | L60: =IF(DAY(Avr_Dim1)=1,IF(AND(YEAR(Avr_Dim1+1)=Année_Calendaire,MONTH(Avr_Dim1+1)=4),Avr_Dim1+1,""),IF(AND(YEAR(Avr_Dim1+8)=Année_Calendaire,MONTH(Avr_Dim1+8)=4),Avr_Dim1+8,"")) -> 42464 | M60: =IF(DAY(Avr_Dim1)=1,IF(AND(YEAR(Avr_Dim1+2)=Année_Calendaire,MONTH(Avr_Dim1+2)=4),Avr_Dim1+2,""),IF(AND(YEAR(Avr_Dim1+9)=Année_Calendaire,MONTH(Avr_Dim1+9)=4),Avr_Dim1+9,"")) -> 42465 | N60: =IF(DAY(Avr_Dim1)=1,IF(AND(YEAR(Avr_Dim1+3)=Année_Calendaire,MONTH(Avr_Dim1+3)=4),Avr_Dim1+3,""),IF(AND(YEAR(Avr_Dim1+10)=Année_Calendaire,MONTH(Avr_Dim1+10)=4),Avr_Dim1+10,"")) -> 42466 | O60: =IF(DAY(Avr_Dim1)=1,IF(AND(YEAR(Avr_Dim1+4)=Année_Calendaire,MONTH(Avr_Dim1+4)=4),Avr_Dim1+4,""),IF(AND(YEAR(Avr_Dim1+11)=Année_Calendaire,MONTH(Avr_Dim1+11)=4),Avr_Dim1+11,"")) -> 42467 | P60: =IF(DAY(Avr_Dim1)=1,IF(AND(YEAR(Avr_Dim1+5)=Année_Calendaire,MONTH(Avr_Dim1+5)=4),Avr_Dim1+5,""),IF(AND(YEAR(Avr_Dim1+12)=Année_Calendaire,MONTH(Avr_Dim1+12)=4),Avr_Dim1+12,"")) -> 42468 | Q60: =IF(DAY(Avr_Dim1)=1,IF(AND(YEAR(Avr_Dim1+6)=Année_Calendaire,MONTH(Avr_Dim1+6)=4),Avr_Dim1+6,""),IF(AND(YEAR(Avr_Dim1+13)=Année_Calendaire,MONTH(Avr_Dim1+13)=4),Avr_Dim1+13,"")) -> 42469 | R60: =IF(DAY(Avr_Dim1)=1,IF(AND(YEAR(Avr_Dim1+7)=Année_Calendaire,MONTH(Avr_Dim1+7)=4),Avr_Dim1+7,""),IF(AND(YEAR(Avr_Dim1+14)=Année_Calendaire,MONTH(Avr_Dim1+14)=4),Avr_Dim1+14,"")) -> 42470 | U60: =IF(DAY(Avr_Dim1)=1,IF(AND(YEAR(Avr_Dim1+8)=Année_Calendaire,MONTH(Avr_Dim1+8)=4),Avr_Dim1+8,""),IF(AND(YEAR(Avr_Dim1+15)=Année_Calendaire,MONTH(Avr_Dim1+15)=4),Avr_Dim1+15,"")) -> 42471 | V60: =IF(DAY(Avr_Dim1)=1,IF(AND(YEAR(Avr_Dim1+9)=Année_Calendaire,MONTH(Avr_Dim1+9)=4),Avr_Dim1+9,""),IF(AND(YEAR(Avr_Dim1+16)=Année_Calendaire,MONTH(Avr_Dim1+16)=4),Avr_Dim1+16,"")) -> 42472 | W60: =IF(DAY(Avr_Dim1)=1,IF(AND(YEAR(Avr_Dim1+10)=Année_Calendaire,MONTH(Avr_Dim1+10)=4),Avr_Dim1+10,""),IF(AND(YEAR(Avr_Dim1+17)=Année_Calendaire,MONTH(Avr_Dim1+17)=4),Avr_Dim1+17,"")) -> 42473 | X60: =IF(DAY(Avr_Dim1)=1,IF(AND(YEAR(Avr_Dim1+11)=Année_Calendaire,MONTH(Avr_Dim1+11)=4),Avr_Dim1+11,""),IF(AND(YEAR(Avr_Dim1+18)=Année_Calendaire,MONTH(Avr_Dim1+18)=4),Avr_Dim1+18,"")) -> 42474 | Y60: =IF(DAY(Avr_Dim1)=1,IF(AND(YEAR(Avr_Dim1+12)=Année_Calendaire,MONTH(Avr_Dim1+12)=4),Avr_Dim1+12,""),IF(AND(YEAR(Avr_Dim1+19)=Année_Calendaire,MONTH(Avr_Dim1+19)=4),Avr_Dim1+19,"")) -> 42475 | Z60: =IF(DAY(Avr_Dim1)=1,IF(AND(YEAR(Avr_Dim1+13)=Année_Calendaire,MONTH(Avr_Dim1+13)=4),Avr_Dim1+13,""),IF(AND(YEAR(Avr_Dim1+20)=Année_Calendaire,MONTH(Avr_Dim1+20)=4),Avr_Dim1+20,"")) -> 42476 | AA60: =IF(DAY(Avr_Dim1)=1,IF(AND(YEAR(Avr_Dim1+14)=Année_Calendaire,MONTH(Avr_Dim1+14)=4),Avr_Dim1+14,""),IF(AND(YEAR(Avr_Dim1+21)=Année_Calendaire,MONTH(Avr_Dim1+21)=4),Avr_Dim1+21,"")) -> 42477 | AD60: =IF(DAY(Avr_Dim1)=1,IF(AND(YEAR(Avr_Dim1+15)=Année_Calendaire,MONTH(Avr_Dim1+15)=4),Avr_Dim1+15,""),IF(AND(YEAR(Avr_Dim1+22)=Année_Calendaire,MONTH(Avr_Dim1+22)=4),Avr_Dim1+22,"")) -> 42478 | AE60: =IF(DAY(Avr_Dim1)=1,IF(AND(YEAR(Avr_Dim1+16)=Année_Calendaire,MONTH(Avr_Dim1+16)=4),Avr_Dim1+16,""),IF(AND(YEAR(Avr_Dim1+23)=Année_Calendaire,MONTH(Avr_Dim1+23)=4),Avr_Dim1+23,"")) -> 42479 | AF60: =IF(DAY(Avr_Dim1)=1,IF(AND(YEAR(Avr_Dim1+17)=Année_Calendaire,MONTH(Avr_Dim1+17)=4),Avr_Dim1+17,""),IF(AND(YEAR(Avr_Dim1+24)=Année_Calendaire,MONTH(Avr_Dim1+24)=4),Avr_Dim1+24,"")) -> 42480 | AG60: =IF(DAY(Avr_Dim1)=1,IF(AND(YEAR(Avr_Dim1+18)=Année_Calendaire,MONTH(Avr_Dim1+18)=4),Avr_Dim1+18,""),IF(AND(YEAR(Avr_Dim1+25)=Année_Calendaire,MONTH(Avr_Dim1+25)=4),Avr_Dim1+25,"")) -> 42481 | AH60: =IF(DAY(Avr_Dim1)=1,IF(AND(YEAR(Avr_Dim1+19)=Année_Calendaire,MONTH(Avr_Dim1+19)=4),Avr_Dim1+19,""),IF(AND(YEAR(Avr_Dim1+26)=Année_Calendaire,MONTH(Avr_Dim1+26)=4),Avr_Dim1+26,"")) -> 42482 | AI60: =IF(DAY(Avr_Dim1)=1,IF(AND(YEAR(Avr_Dim1+20)=Année_Calendaire,MONTH(Avr_Dim1+20)=4),Avr_Dim1+20,""),IF(AND(YEAR(Avr_Dim1+27)=Année_Calendaire,MONTH(Avr_Dim1+27)=4),Avr_Dim1+27,"")) -> 42483 | AJ60: =IF(DAY(Avr_Dim1)=1,IF(AND(YEAR(Avr_Dim1+21)=Année_Calendaire,MONTH(Avr_Dim1+21)=4),Avr_Dim1+21,""),IF(AND(YEAR(Avr_Dim1+28)=Année_Calendaire,MONTH(Avr_Dim1+28)=4),Avr_Dim1+28,"")) -> 42484 | AM60: =IF(DAY(Avr_Dim1)=1,IF(AND(YEAR(Avr_Dim1+22)=Année_Calendaire,MONTH(Avr_Dim1+22)=4),Avr_Dim1+22,""),IF(AND(YEAR(Avr_Dim1+29)=Année_Calendaire,MONTH(Avr_Dim1+29)=4),Avr_Dim1+29,"")) -> 42485 | AN60: =IF(DAY(Avr_Dim1)=1,IF(AND(YEAR(Avr_Dim1+23)=Année_Calendaire,MONTH(Avr_Dim1+23)=4),Avr_Dim1+23,""),IF(AND(YEAR(Avr_Dim1+30)=Année_Calendaire,MONTH(Avr_Dim1+30)=4),Avr_Dim1+30,"")) -> 42486 | AO60: =IF(DAY(Avr_Dim1)=1,IF(AND(YEAR(Avr_Dim1+24)=Année_Calendaire,MONTH(Avr_Dim1+24)=4),Avr_Dim1+24,""),IF(AND(YEAR(Avr_Dim1+31)=Année_Calendaire,MONTH(Avr_Dim1+31)=4),Avr_Dim1+31,"")) -> 42487 | AP60: =IF(DAY(Avr_Dim1)=1,IF(AND(YEAR(Avr_Dim1+25)=Année_Calendaire,MONTH(Avr_Dim1+25)=4),Avr_Dim1+25,""),IF(AND(YEAR(Avr_Dim1+32)=Année_Calendaire,MONTH(Avr_Dim1+32)=4),Avr_Dim1+32,"")) -> 42488 | AQ60: =IF(DAY(Avr_Dim1)=1,IF(AND(YEAR(Avr_Dim1+26)=Année_Calendaire,MONTH(Avr_Dim1+26)=4),Avr_Dim1+26,""),IF(AND(YEAR(Avr_Dim1+33)=Année_Calendaire,MONTH(Avr_Dim1+33)=4),Avr_Dim1+33,"")) -> 42489 | AR60: =IF(DAY(Avr_Dim1)=1,IF(AND(YEAR(Avr_Dim1+27)=Année_Calendaire,MONTH(Avr_Dim1+27)=4),Avr_Dim1+27,""),IF(AND(YEAR(Avr_Dim1+34)=Année_Calendaire,MONTH(Avr_Dim1+34)=4),Avr_Dim1+34,"")) -> 42490 | AS60: =IF(DAY(Avr_Dim1)=1,IF(AND(YEAR(Avr_Dim1+28)=Année_Calendaire,MONTH(Avr_Dim1+28)=4),Avr_Dim1+28,""),IF(AND(YEAR(Avr_Dim1+35)=Année_Calendaire,MONTH(Avr_Dim1+35)=4),Avr_Dim1+35,"")) | AV60: =IF(DAY(Avr_Dim1)=1,IF(AND(YEAR(Avr_Dim1+29)=Année_Calendaire,MONTH(Avr_Dim1+29)=4),Avr_Dim1+29,""),IF(AND(YEAR(Avr_Dim1+36)=Année_Calendaire,MONTH(Avr_Dim1+36)=4),Avr_Dim1+36,"")) | AW60: =IF(DAY(Avr_Dim1)=1,IF(AND(YEAR(Avr_Dim1+30)=Année_Calendaire,MONTH(Avr_Dim1+30)=4),Avr_Dim1+30,""),IF(AND(YEAR(Avr_Dim1+37)=Année_Calendaire,MONTH(Avr_Dim1+37)=4),Avr_Dim1+37,""))
A61: Equipe | C61: =IFERROR(VLOOKUP(B59,DATA!$A:$H,2,TRUE),0) -> 0 | D61: =IFERROR(VLOOKUP(B59,DATA!$A:$H,3,TRUE),0) -> 0 | E61: =IFERROR(VLOOKUP(B59,DATA!$A:$H,4,TRUE),0) -> 0 | F61: =IFERROR(VLOOKUP(B59,DATA!$A:$H,5,TRUE),0) -> 0 | G61: =IFERROR(VLOOKUP(B59,DATA!$A:$H,6,TRUE),0) -> 0 | H61: =IFERROR(VLOOKUP(B59,DATA!$A:$H,7,TRUE),0) -> 0 | I61: =IFERROR(VLOOKUP(B59,DATA!$A:$H,8,TRUE),0) -> 0 | L61: =IFERROR(VLOOKUP(K59,DATA!$A:$H,2,TRUE),0) -> 0 | M61: =IFERROR(VLOOKUP(K59,DATA!$A:$H,3,TRUE),0) -> 0 | N61: =IFERROR(VLOOKUP(K59,DATA!$A:$H,4,TRUE),0) -> 0 | O61: =IFERROR(VLOOKUP(K59,DATA!$A:$H,5,TRUE),0) -> 0 | P61: =IFERROR(VLOOKUP(K59,DATA!$A:$H,6,TRUE),0) -> 0 | Q61: =IFERROR(VLOOKUP(K59,DATA!$A:$H,7,TRUE),0) -> 0 | R61: =IFERROR(VLOOKUP(K59,DATA!$A:$H,8,TRUE),0) -> 0 | U61: =IFERROR(VLOOKUP(T59,DATA!$A:$H,2,TRUE),0) -> 0 | V61: =IFERROR(VLOOKUP(T59,DATA!$A:$H,3,TRUE),0) -> 0 | W61: =IFERROR(VLOOKUP(T59,DATA!$A:$H,4,TRUE),0) -> 0 | X61: =IFERROR(VLOOKUP(T59,DATA!$A:$H,5,TRUE),0) -> 0 | Y61: =IFERROR(VLOOKUP(T59,DATA!$A:$H,6,TRUE),0) -> 0 | Z61: =IFERROR(VLOOKUP(T59,DATA!$A:$H,7,TRUE),0) -> 0 | AA61: =IFERROR(VLOOKUP(T59,DATA!$A:$H,8,TRUE),0) -> 0 | AD61: =IFERROR(VLOOKUP(AC59,DATA!$A:$H,2,TRUE),0) -> 0 | AE61: =IFERROR(VLOOKUP(AC59,DATA!$A:$H,3,TRUE),0) -> 0 | AF61: =IFERROR(VLOOKUP(AC59,DATA!$A:$H,4,TRUE),0) -> 0 | AG61: =IFERROR(VLOOKUP(AC59,DATA!$A:$H,5,TRUE),0) -> 0 | AH61: =IFERROR(VLOOKUP(AC59,DATA!$A:$H,6,TRUE),0) -> 0 | AI61: =IFERROR(VLOOKUP(AC59,DATA!$A:$H,7,TRUE),0) -> 0 | AJ61: =IFERROR(VLOOKUP(AC59,DATA!$A:$H,8,TRUE),0) -> 0 | AM61: =IFERROR(VLOOKUP(AL59,DATA!$A:$H,2,TRUE),0) -> 0 | AN61: =IFERROR(VLOOKUP(AL59,DATA!$A:$H,3,TRUE),0) -> 0 | AO61: =IFERROR(VLOOKUP(AL59,DATA!$A:$H,4,TRUE),0) -> 0 | AP61: =IFERROR(VLOOKUP(AL59,DATA!$A:$H,5,TRUE),0) -> 0 | AQ61: =IFERROR(VLOOKUP(AL59,DATA!$A:$H,6,TRUE),0) -> 0 | AR61: =IFERROR(VLOOKUP(AL59,DATA!$A:$H,7,TRUE),0) -> 0 | AS61: =IFERROR(VLOOKUP(AL59,DATA!$A:$H,8,TRUE),0) -> 0 | AV61: =IFERROR(VLOOKUP(AU59,DATA!$A:$H,2,TRUE),0) -> matin | AW61: =IFERROR(VLOOKUP(AU59,DATA!$A:$H,3,TRUE),0) -> 0
A62: Ticket resto | C62: =IF(C61="Matin",1,IF(C61="AM",1,0)) -> 0 | D62: =IF(D61="Matin",1,IF(D61="AM",1,0)) -> 0 | E62: =IF(E61="Matin",1,IF(E61="AM",1,0)) -> 0 | F62: =IF(F61="Matin",1,IF(F61="AM",1,0)) -> 0 | G62: =IF(G61="Matin",1,IF(G61="AM",1,0)) -> 0 | H62: =IF(H61="Matin",1,IF(H61="AM",1,0)) -> 0 | I62: =IF(I61="Matin",1,IF(I61="AM",1,0)) -> 0 | J62: =SUM(C62:I62) -> 0 | L62: =IF(L61="Matin",1,IF(L61="AM",1,0)) -> 0 | M62: =IF(M61="Matin",1,IF(M61="AM",1,0)) -> 0 | N62: =IF(N61="Matin",1,IF(N61="AM",1,0)) -> 0 | O62: =IF(O61="Matin",1,IF(O61="AM",1,0)) -> 0 | P62: =IF(P61="Matin",1,IF(P61="AM",1,0)) -> 0 | Q62: =IF(Q61="Matin",1,IF(Q61="AM",1,0)) -> 0 | R62: =IF(R61="Matin",1,IF(R61="AM",1,0)) -> 0 | S62: =SUM(L62:R62) -> 0 | U62: =IF(U61="Matin",1,IF(U61="AM",1,0)) -> 0 | V62: =IF(V61="Matin",1,IF(V61="AM",1,0)) -> 0 | W62: =IF(W61="Matin",1,IF(W61="AM",1,0)) -> 0 | X62: =IF(X61="Matin",1,IF(X61="AM",1,0)) -> 0 | Y62: =IF(Y61="Matin",1,IF(Y61="AM",1,0)) -> 0 | Z62: =IF(Z61="Matin",1,IF(Z61="AM",1,0)) -> 0 | AA62: =IF(AA61="Matin",1,IF(AA61="AM",1,0)) -> 0 | AB62: =SUM(U62:AA62) -> 0 | AD62: =IF(AD61="Matin",1,IF(AD61="AM",1,0)) -> 0 | AE62: =IF(AE61="Matin",1,IF(AE61="AM",1,0)) -> 0 | AF62: =IF(AF61="Matin",1,IF(AF61="AM",1,0)) -> 0 | AG62: =IF(AG61="Matin",1,IF(AG61="AM",1,0)) -> 0 | AH62: =IF(AH61="Matin",1,IF(AH61="AM",1,0)) -> 0 | AI62: =IF(AI61="Matin",1,IF(AI61="AM",1,0)) -> 0 | AJ62: =IF(AJ61="Matin",1,IF(AJ61="AM",1,0)) -> 0 | AK62: =SUM(AD62:AJ62) -> 0 | AM62: =IF(AM61="Matin",1,IF(AM61="AM",1,0)) -> 0 | AN62: =IF(AN61="Matin",1,IF(AN61="AM",1,0)) -> 0 | AO62: =IF(AO61="Matin",1,IF(AO61="AM",1,0)) -> 0 | AP62: =IF(AP61="Matin",1,IF(AP61="AM",1,0)) -> 0 | AQ62: =IF(AQ61="Matin",1,IF(AQ61="AM",1,0)) -> 0 | AR62: =IF(AR61="Matin",1,IF(AR61="AM",1,0)) -> 0 | AS62: =IF(AS61="Matin",1,IF(AS61="AM",1,0)) -> 0 | AT62: =SUM(AM62:AS62) -> 0 | AV62: =IF(AV61="Matin",1,IF(AV61="AM",1,0)) -> 1 | AW62: =IF(AW61="Matin",1,IF(AW61="AM",1,0)) -> 0 | AX62: =SUM(AV62:AW62) -> 1 | AY62: =J62+S62+AB62+AK62+AT62+AX62 -> 1
A63: Travailler | C63: =IF(C64>=1,1,0) -> 0 | D63: =IF(D64>=1,1,0) -> 0 | E63: =IF(E64>=1,1,0) -> 0 | F63: =IF(F64>=1,1,0) -> 0 | G63: =IF(G64>=1,1,0) -> 0 | H63: =IF(H64>=1,1,0) -> 0 | I63: =IF(I64>=1,1,0) -> 0 | J63: =SUM(C63:I63) -> 0 | L63: =IF(L64>=1,1,0) -> 0 | M63: =IF(M64>=1,1,0) -> 0 | N63: =IF(N64>=1,1,0) -> 0 | O63: =IF(O64>=1,1,0) -> 0 | P63: =IF(P64>=1,1,0) -> 0 | Q63: =IF(Q64>=1,1,0) -> 0 | R63: =IF(R64>=1,1,0) -> 0 | S63: =SUM(L63:R63) -> 0 | U63: =IF(U64>=1,1,0) -> 0 | V63: =IF(V64>=1,1,0) -> 0 | W63: =IF(W64>=1,1,0) -> 0 | X63: =IF(X64>=1,1,0) -> 0 | Y63: =IF(Y64>=1,1,0) -> 0 | Z63: =IF(Z64>=1,1,0) -> 0 | AA63: =IF(AA64>=1,1,0) -> 0 | AB63: =SUM(U63:AA63) -> 0 | AD63: =IF(AD64>=1,1,0) -> 0 | AE63: =IF(AE64>=1,1,0) -> 0 | AF63: =IF(AF64>=1,1,0) -> 0 | AG63: =IF(AG64>=1,1,0) -> 0 | AH63: =IF(AH64>=1,1,0) -> 0 | AI63: =IF(AI64>=1,1,0) -> 0 | AJ63: =IF(AJ64>=1,1,0) -> 0 | AK63: =SUM(AD63:AJ63) -> 0 | AM63: =IF(AM64>=1,1,0) -> 0 | AN63: =IF(AN64>=1,1,0) -> 0 | AO63: =IF(AO64>=1,1,0) -> 0 | AP63: =IF(AP64>=1,1,0) -> 0 | AQ63: =IF(AQ64>=1,1,0) -> 0 | AR63: =IF(AR64>=1,1,0) -> 0 | AS63: =IF(AS64>=1,1,0) -> 0 | AT63: =SUM(AM63:AS63) -> 0 | AV63: =IF(AV64>=1,1,0) -> 1 | AW63: =IF(AW64>=1,1,0) -> 0 | AX63: =SUM(AV63:AW63) -> 1 | AY63: =J63+S63+AB63+AK63+AT63+AX63 -> 1
A64: Nbr heure | C64: =IF(C61="Matin",8,IF(C61="AM",8,IF(C61="nuit",8,0))) -> 0 | D64: =IF(D61="Matin",8,IF(D61="AM",8,IF(D61="nuit",8,0))) -> 0 | E64: =IF(E61="Matin",8,IF(E61="AM",8,IF(E61="nuit",8,0))) -> 0 | F64: =IF(F61="Matin",8,IF(F61="AM",8,IF(F61="nuit",8,0))) -> 0 | G64: =IF(G61="Matin",8,IF(G61="AM",8,IF(G61="nuit",8,0))) -> 0 | H64: =IF(H61="Matin",8,IF(H61="AM",8,IF(H61="nuit",8,0))) -> 0 | I64: =IF(I61="Matin",8,IF(I61="AM",8,IF(I61="nuit",8,0))) -> 0 | J64: =SUM(C64:I64) -> 0 | L64: =IF(L61="Matin",8,IF(L61="AM",8,IF(L61="nuit",8,0))) -> 0 | M64: =IF(M61="Matin",8,IF(M61="AM",8,IF(M61="nuit",8,0))) -> 0 | N64: =IF(N61="Matin",8,IF(N61="AM",8,IF(N61="nuit",8,0))) -> 0 | O64: =IF(O61="Matin",8,IF(O61="AM",8,IF(O61="nuit",8,0))) -> 0 | P64: =IF(P61="Matin",8,IF(P61="AM",8,IF(P61="nuit",8,0))) -> 0 | Q64: =IF(Q61="Matin",8,IF(Q61="AM",8,IF(Q61="nuit",8,0))) -> 0 | R64: =IF(R61="Matin",8,IF(R61="AM",8,IF(R61="nuit",8,0))) -> 0 | S64: =SUM(L64:R64) -> 0 | U64: =IF(U61="Matin",8,IF(U61="AM",8,IF(U61="nuit",8,0))) -> 0 | V64: =IF(V61="Matin",8,IF(V61="AM",8,IF(V61="nuit",8,0))) -> 0 | W64: =IF(W61="Matin",8,IF(W61="AM",8,IF(W61="nuit",8,0))) -> 0 | X64: =IF(X61="Matin",8,IF(X61="AM",8,IF(X61="nuit",8,0))) -> 0 | Y64: =IF(Y61="Matin",8,IF(Y61="AM",8,IF(Y61="nuit",8,0))) -> 0 | Z64: =IF(Z61="Matin",8,IF(Z61="AM",8,IF(Z61="nuit",8,0))) -> 0 | AA64: =IF(AA61="Matin",8,IF(AA61="AM",8,IF(AA61="nuit",8,0))) -> 0 | AB64: =SUM(U64:AA64) -> 0 | AD64: =IF(AD61="Matin",8,IF(AD61="AM",8,IF(AD61="nuit",8,0))) -> 0 | AE64: =IF(AE61="Matin",8,IF(AE61="AM",8,IF(AE61="nuit",8,0))) -> 0 | AF64: =IF(AF61="Matin",8,IF(AF61="AM",8,IF(AF61="nuit",8,0))) -> 0 | AG64: =IF(AG61="Matin",8,IF(AG61="AM",8,IF(AG61="nuit",8,0))) -> 0 | AH64: =IF(AH61="Matin",8,IF(AH61="AM",8,IF(AH61="nuit",8,0))) -> 0 | AI64: =IF(AI61="Matin",8,IF(AI61="AM",8,IF(AI61="nuit",8,0))) -> 0 | AJ64: =IF(AJ61="Matin",8,IF(AJ61="AM",8,IF(AJ61="nuit",8,0))) -> 0 | AK64: =SUM(AD64:AJ64) -> 0 | AM64: =IF(AM61="Matin",8,IF(AM61="AM",8,IF(AM61="nuit",8,0))) -> 0 | AN64: =IF(AN61="Matin",8,IF(AN61="AM",8,IF(AN61="nuit",8,0))) -> 0 | AO64: =IF(AO61="Matin",8,IF(AO61="AM",8,IF(AO61="nuit",8,0))) -> 0 | AP64: =IF(AP61="Matin",8,IF(AP61="AM",8,IF(AP61="nuit",8,0))) -> 0 | AQ64: =IF(AQ61="Matin",8,IF(AQ61="AM",8,IF(AQ61="nuit",8,0))) -> 0 | AR64: =IF(AR61="Matin",8,IF(AR61="AM",8,IF(AR61="nuit",8,0))) -> 0 | AS64: =IF(AS61="Matin",8,IF(AS61="AM",8,IF(AS61="nuit",8,0))) -> 0 | AT64: =SUM(AM64:AS64) -> 0 | AV64: =IF(AV61="Matin",8,IF(AV61="AM",8,IF(AV61="nuit",8,0))) -> 8 | AW64: =IF(AW61="Matin",8,IF(AW61="AM",8,IF(AW61="nuit",8,0))) -> 0 | AX64: =SUM(AV64:AW64) -> 8 | AY64: =J64+S64+AB64+AK64+AT64+AX64 -> 8
A65: Heure comp | C65: =IF(C59<>"Dim",IF(C64>32,MIN(C64,35)-32,0),0) -> 0 | D65: =IF(D59<>"Dim",IF(SUM($C64:D64)>32,MIN(SUM($C64:D64),35)-32-SUM($C65:C65),0),0) -> 0 | E65: =IF(E59<>"Dim",IF(SUM($C64:E64)>32,MIN(SUM($C64:E64),35)-32-SUM($C65:D65),0),0) -> 0 | F65: =IF(F59<>"Dim",IF(SUM($C64:F64)>32,MIN(SUM($C64:F64),35)-32-SUM($C65:E65),0),0) -> 0 | G65: =IF(G59<>"Dim",IF(SUM($C64:G64)>32,MIN(SUM($C64:G64),35)-32-SUM($C65:F65),0),0) -> 0 | H65: =IF(H59<>"Dim",IF(SUM($C64:H64)>32,MIN(SUM($C64:H64),35)-32-SUM($C65:G65),0),0) -> 0 | I65: =IF(I59<>"Dim",IF(SUM($C64:I64)>32,MIN(SUM($C64:I64),35)-32-SUM($C65:H65),0),0) -> 0 | J65: =SUM(C65:I65) -> 0 | L65: =IF(L59<>"Dim",IF(L64>32,MIN(L64,35)-32,0),0) -> 0 | M65: =IF(M59<>"Dim",IF(SUM($L64:M64)>32,MIN(SUM($L64:M64),35)-32-SUM($L65:L65),0),0) -> 0 | N65: =IF(N59<>"Dim",IF(SUM($L64:N64)>32,MIN(SUM($L64:N64),35)-32-SUM($L65:M65),0),0) -> 0 | O65: =IF(O59<>"Dim",IF(SUM($L64:O64)>32,MIN(SUM($L64:O64),35)-32-SUM($L65:N65),0),0) -> 0 | P65: =IF(P59<>"Dim",IF(SUM($L64:P64)>32,MIN(SUM($L64:P64),35)-32-SUM($L65:O65),0),0) -> 0 | Q65: =IF(Q59<>"Dim",IF(SUM($L64:Q64)>32,MIN(SUM($L64:Q64),35)-32-SUM($L65:P65),0),0) -> 0 | R65: =IF(R59<>"Dim",IF(SUM($L64:R64)>32,MIN(SUM($L64:R64),35)-32-SUM($L65:Q65),0),0) -> 0 | S65: =SUM(L65:R65) -> 0 | U65: =IF(U59<>"Dim",IF(U64>32,MIN(U64,35)-32,0),0) -> 0 | V65: =IF(V59<>"Dim",IF(SUM($U64:V64)>32,MIN(SUM($U64:V64),35)-32-SUM($U65:U65),0),0) -> 0 | W65: =IF(W59<>"Dim",IF(SUM($U64:W64)>32,MIN(SUM($U64:W64),35)-32-SUM($U65:V65),0),0) -> 0 | X65: =IF(X59<>"Dim",IF(SUM($U64:X64)>32,MIN(SUM($U64:X64),35)-32-SUM($U65:W65),0),0) -> 0 | Y65: =IF(Y59<>"Dim",IF(SUM($U64:Y64)>32,MIN(SUM($U64:Y64),35)-32-SUM($U65:X65),0),0) -> 0 | Z65: =IF(Z59<>"Dim",IF(SUM($U64:Z64)>32,MIN(SUM($U64:Z64),35)-32-SUM($U65:Y65),0),0) -> 0 | AA65: =IF(AA59<>"Dim",IF(SUM($U64:AA64)>32,MIN(SUM($U64:AA64),35)-32-SUM($U65:Z65),0),0) -> 0 | AB65: =SUM(U65:AA65) -> 0 | AD65: =IF(AD59<>"Dim",IF(AD64>32,MIN(AD64,35)-32,0),0) -> 0 | AE65: =IF(AE59<>"Dim",IF(SUM($AD64:AE64)>32,MIN(SUM($AD64:AE64),35)-32-SUM($AD65:AD65),0),0) -> 0 | AF65: =IF(AF59<>"Dim",IF(SUM($AD64:AF64)>32,MIN(SUM($AD64:AF64),35)-32-SUM($AD65:AE65),0),0) -> 0 | AG65: =IF(AG59<>"Dim",IF(SUM($AD64:AG64)>32,MIN(SUM($AD64:AG64),35)-32-SUM($AD65:AF65),0),0) -> 0 | AH65: =IF(AH59<>"Dim",IF(SUM($AD64:AH64)>32,MIN(SUM($AD64:AH64),35)-32-SUM($AD65:AG65),0),0) -> 0 | AI65: =IF(AI59<>"Dim",IF(SUM($AD64:AI64)>32,MIN(SUM($AD64:AI64),35)-32-SUM($AD65:AH65),0),0) -> 0 | AJ65: =IF(AJ59<>"Dim",IF(SUM($AD64:AJ64)>32,MIN(SUM($AD64:AJ64),35)-32-SUM($AD65:AI65),0),0) -> 0 | AK65: =SUM(AD65:AJ65) -> 0 | AM65: =IF(AM59<>"Dim",IF(AM64>32,MIN(AM64,35)-32,0),0) -> 0 | AN65: =IF(AN59<>"Dim",IF(SUM($AM64:AN64)>32,MIN(SUM($AM64:AN64),35)-32-SUM($AM65:AM65),0),0) -> 0 | AO65: =IF(AO59<>"Dim",IF(SUM($AM64:AO64)>32,MIN(SUM($AM64:AO64),35)-32-SUM($AM65:AN65),0),0) -> 0 | AP65: =IF(AP59<>"Dim",IF(SUM($AM64:AP64)>32,MIN(SUM($AM64:AP64),35)-32-SUM($AM65:AO65),0),0) -> 0 | AQ65: =IF(AQ59<>"Dim",IF(SUM($AM64:AQ64)>32,MIN(SUM($AM64:AQ64),35)-32-SUM($AM65:AP65),0),0) -> 0 | AR65: =IF(AR59<>"Dim",IF(SUM($AM64:AR64)>32,MIN(SUM($AM64:AR64),35)-32-SUM($AM65:AQ65),0),0) -> 0 | AS65: =IF(AS59<>"Dim",IF(SUM($AM64:AS64)>32,MIN(SUM($AM64:AS64),35)-32-SUM($AM65:AR65),0),0) -> 0 | AT65: =SUM(AM65:AS65) -> 0 | AV65: =IF(AV59<>"Dim",IF(AV64>32,MIN(AV64,35)-32,0),0) -> 0 | AW65: =IF(AW59<>"Dim",IF(SUM($AV64:AW64)>32,MIN(SUM($AV64:AW64),35)-32-SUM($AV65:AV65),0),0) -> 0 | AX65: =SUM(AV65:AW65) -> 0 | AY65: =J65+S65+AB65+AK65+AT65+AX65 -> 0
A66: HS 25% | C66: =IF(C59<>"Dim",IF(C64>35,(MIN(C64,43)-35),0),0) -> 0 | D66: =IF(D59<>"Dim",IF(SUM($C64:D64)>35,(MIN(SUM($C64:D64),43)-35-SUM($C66:C66)),0),0) -> 0 | E66: =IF(E59<>"Dim",IF(SUM($C64:E64)>35,(MIN(SUM($C64:E64),43)-35-SUM($C66:D66)),0),0) -> 0 | F66: =IF(F59<>"Dim",IF(SUM($C64:F64)>35,(MIN(SUM($C64:F64),43)-35-SUM($C66:E66)),0),0) -> 0 | G66: =IF(G59<>"Dim",IF(SUM($C64:G64)>35,(MIN(SUM($C64:G64),43)-35-SUM($C66:F66)),0),0) -> 0 | H66: =IF(H59<>"Dim",IF(SUM($C64:H64)>35,(MIN(SUM($C64:H64),43)-35-SUM($C66:G66)),0),0) -> 0 | I66: =IF(I59<>"Dim",IF(SUM($C64:I64)>35,(MIN(SUM($C64:I64),43)-35-SUM($C66:H66)),0),0) -> 0 | J66: =SUM(C66:I66) -> 0 | L66: =IF(L59<>"Dim",IF(L64>35,(MIN(L64,43)-35),0),0) -> 0 | M66: =IF(M59<>"Dim",IF(SUM($L64:M64)>35,(MIN(SUM($L64:M64),43)-35-SUM($L66:L66)),0),0) -> 0 | N66: =IF(N59<>"Dim",IF(SUM($L64:N64)>35,(MIN(SUM($L64:N64),43)-35-SUM($L66:M66)),0),0) -> 0 | O66: =IF(O59<>"Dim",IF(SUM($L64:O64)>35,(MIN(SUM($L64:O64),43)-35-SUM($L66:N66)),0),0) -> 0 | P66: =IF(P59<>"Dim",IF(SUM($L64:P64)>35,(MIN(SUM($L64:P64),43)-35-SUM($L66:O66)),0),0) -> 0 | Q66: =IF(Q59<>"Dim",IF(SUM($L64:Q64)>35,(MIN(SUM($L64:Q64),43)-35-SUM($L66:P66)),0),0) -> 0 | R66: =IF(R59<>"Dim",IF(SUM($L64:R64)>35,(MIN(SUM($L64:R64),43)-35-SUM($L66:Q66)),0),0) -> 0 | S66: =SUM(L66:R66) -> 0 | U66: =IF(U59<>"Dim",IF(U64>35,(MIN(U64,43)-35),0),0) -> 0 | V66: =IF(V59<>"Dim",IF(SUM($U64:V64)>35,(MIN(SUM($U64:V64),43)-35-SUM($U66:U66)),0),0) -> 0 | W66: =IF(W59<>"Dim",IF(SUM($U64:W64)>35,(MIN(SUM($U64:W64),43)-35-SUM($U66:V66)),0),0) -> 0 | X66: =IF(X59<>"Dim",IF(SUM($U64:X64)>35,(MIN(SUM($U64:X64),43)-35-SUM($U66:W66)),0),0) -> 0 | Y66: =IF(Y59<>"Dim",IF(SUM($U64:Y64)>35,(MIN(SUM($U64:Y64),43)-35-SUM($U66:X66)),0),0) -> 0 | Z66: =IF(Z59<>"Dim",IF(SUM($U64:Z64)>35,(MIN(SUM($U64:Z64),43)-35-SUM($U66:Y66)),0),0) -> 0 | AA66: =IF(AA59<>"Dim",IF(SUM($U64:AA64)>35,(MIN(SUM($U64:AA64),43)-35-SUM($U66:Z66)),0),0) -> 0 | AB66: =SUM(U66:AA66) -> 0 | AD66: =IF(AD59<>"Dim",IF(AD64>35,(MIN(AD64,43)-35),0),0) -> 0 | AE66: =IF(AE59<>"Dim",IF(SUM($AD64:AE64)>35,(MIN(SUM($AD64:AE64),43)-35-SUM($AD66:AD66)),0),0) -> 0 | AF66: =IF(AF59<>"Dim",IF(SUM($AD64:AF64)>35,(MIN(SUM($AD64:AF64),43)-35-SUM($AD66:AE66)),0),0) -> 0 | AG66: =IF(AG59<>"Dim",IF(SUM($AD64:AG64)>35,(MIN(SUM($AD64:AG64),43)-35-SUM($AD66:AF66)),0),0) -> 0 | AH66: =IF(AH59<>"Dim",IF(SUM($AD64:AH64)>35,(MIN(SUM($AD64:AH64),43)-35-SUM($AD66:AG66)),0),0) -> 0 | AI66: =IF(AI59<>"Dim",IF(SUM($AD64:AI64)>35,(MIN(SUM($AD64:AI64),43)-35-SUM($AD66:AH66)),0),0) -> 0 | AJ66: =IF(AJ59<>"Dim",IF(SUM($AD64:AJ64)>35,(MIN(SUM($AD64:AJ64),43)-35-SUM($AD66:AI66)),0),0) -> 0 | AK66: =SUM(AD66:AJ66) -> 0 | AM66: =IF(AM59<>"Dim",IF(AM64>35,(MIN(AM64,43)-35),0),0) -> 0 | AN66: =IF(AN59<>"Dim",IF(SUM($AM64:AN64)>35,(MIN(SUM($AM64:AN64),43)-35-SUM($AM66:AM66)),0),0) -> 0 | AO66: =IF(AO59<>"Dim",IF(SUM($AM64:AO64)>35,(MIN(SUM($AM64:AO64),43)-35-SUM($AM66:AN66)),0),0) -> 0 | AP66: =IF(AP59<>"Dim",IF(SUM($AM64:AP64)>35,(MIN(SUM($AM64:AP64),43)-35-SUM($AM66:AO66)),0),0) -> 0 | AQ66: =IF(AQ59<>"Dim",IF(SUM($AM64:AQ64)>35,(MIN(SUM($AM64:AQ64),43)-35-SUM($AM66:AP66)),0),0) -> 0 | AR66: =IF(AR59<>"Dim",IF(SUM($AM64:AR64)>35,(MIN(SUM($AM64:AR64),43)-35-SUM($AM66:AQ66)),0),0) -> 0 | AS66: =IF(AS59<>"Dim",IF(SUM($AM64:AS64)>35,(MIN(SUM($AM64:AS64),43)-35-SUM($AM66:AR66)),0),0) -> 0 | AT66: =SUM(AM66:AS66) -> 0 | AV66: =IF(AV59<>"Dim",IF(AV64>35,(MIN(AV64,43)-35),0),0) -> 0 | AW66: =IF(AW59<>"Dim",IF(SUM($AV64:AW64)>35,(MIN(SUM($AV64:AW64),43)-35-SUM($AV66:AV66)),0),0) -> 0 | AX66: =SUM(AV66:AW66) -> 0 | AY66: =J66+S66+AB66+AK66+AT66+AX66 -> 0
A67: HS 50% | C67: =IF(C59<>"Dim",IF(C64>43,(MIN(C64,48)-43),0),0) -> 0 | D67: =IF(D59<>"Dim",IF(SUM($C64:D64)>43,(MIN(SUM($C64:D64),48)-43-SUM($C67:C67)),0),0) -> 0 | E67: =IF(E59<>"Dim",IF(SUM($C64:E64)>43,(MIN(SUM($C64:E64),48)-43-SUM($C67:D67)),0),0) -> 0 | F67: =IF(F59<>"Dim",IF(SUM($C64:F64)>43,(MIN(SUM($C64:F64),48)-43-SUM($C67:E67)),0),0) -> 0 | G67: =IF(G59<>"Dim",IF(SUM($C64:G64)>43,(MIN(SUM($C64:G64),48)-43-SUM($C67:F67)),0),0) -> 0 | H67: =IF(H59<>"Dim",IF(SUM($C64:H64)>43,(MIN(SUM($C64:H64),48)-43-SUM($C67:G67)),0),0) -> 0 | I67: =IF(I59<>"Dim",IF(SUM($C64:I64)>43,(MIN(SUM($C64:I64),48)-43-SUM($C67:H67)),0),0) -> 0 | J67: =SUM(C67:I67) -> 0 | L67: =IF(L59<>"Dim",IF(L64>43,(MIN(L64,48)-43),0),0) -> 0 | M67: =IF(M59<>"Dim",IF(SUM($L64:M64)>43,(MIN(SUM($L64:M64),48)-43-SUM($L67:L67)),0),0) -> 0 | N67: =IF(N59<>"Dim",IF(SUM($L64:N64)>43,(MIN(SUM($L64:N64),48)-43-SUM($L67:M67)),0),0) -> 0 | O67: =IF(O59<>"Dim",IF(SUM($L64:O64)>43,(MIN(SUM($L64:O64),48)-43-SUM($L67:N67)),0),0) -> 0 | P67: =IF(P59<>"Dim",IF(SUM($L64:P64)>43,(MIN(SUM($L64:P64),48)-43-SUM($L67:O67)),0),0) -> 0 | Q67: =IF(Q59<>"Dim",IF(SUM($L64:Q64)>43,(MIN(SUM($L64:Q64),48)-43-SUM($L67:P67)),0),0) -> 0 | R67: =IF(R59<>"Dim",IF(SUM($L64:R64)>43,(MIN(SUM($L64:R64),48)-43-SUM($L67:Q67)),0),0) -> 0 | S67: =SUM(L67:R67) -> 0 | U67: =IF(U59<>"Dim",IF(U64>43,(MIN(U64,48)-43),0),0) -> 0 | V67: =IF(V59<>"Dim",IF(SUM($U64:V64)>43,(MIN(SUM($U64:V64),48)-43-SUM($U67:U67)),0),0) -> 0 | W67: =IF(W59<>"Dim",IF(SUM($U64:W64)>43,(MIN(SUM($U64:W64),48)-43-SUM($U67:V67)),0),0) -> 0 | X67: =IF(X59<>"Dim",IF(SUM($U64:X64)>43,(MIN(SUM($U64:X64),48)-43-SUM($U67:W67)),0),0) -> 0 | Y67: =IF(Y59<>"Dim",IF(SUM($U64:Y64)>43,(MIN(SUM($U64:Y64),48)-43-SUM($U67:X67)),0),0) -> 0 | Z67: =IF(Z59<>"Dim",IF(SUM($U64:Z64)>43,(MIN(SUM($U64:Z64),48)-43-SUM($U67:Y67)),0),0) -> 0 | AA67: =IF(AA59<>"Dim",IF(SUM($U64:AA64)>43,(MIN(SUM($U64:AA64),48)-43-SUM($U67:Z67)),0),0) -> 0 | AB67: =SUM(U67:AA67) -> 0 | AD67: =IF(AD59<>"Dim",IF(AD64>43,(MIN(AD64,48)-43),0),0) -> 0 | AE67: =IF(AE59<>"Dim",IF(SUM($AD64:AE64)>43,(MIN(SUM($AD64:AE64),48)-43-SUM($AD67:AD67)),0),0) -> 0 | AF67: =IF(AF59<>"Dim",IF(SUM($AD64:AF64)>43,(MIN(SUM($AD64:AF64),48)-43-SUM($AD67:AE67)),0),0) -> 0 | AG67: =IF(AG59<>"Dim",IF(SUM($AD64:AG64)>43,(MIN(SUM($AD64:AG64),48)-43-SUM($AD67:AF67)),0),0) -> 0 | AH67: =IF(AH59<>"Dim",IF(SUM($AD64:AH64)>43,(MIN(SUM($AD64:AH64),48)-43-SUM($AD67:AG67)),0),0) -> 0 | AI67: =IF(AI59<>"Dim",IF(SUM($AD64:AI64)>43,(MIN(SUM($AD64:AI64),48)-43-SUM($AD67:AH67)),0),0) -> 0 | AJ67: =IF(AJ59<>"Dim",IF(SUM($AD64:AJ64)>43,(MIN(SUM($AD64:AJ64),48)-43-SUM($AD67:AI67)),0),0) -> 0 | AK67: =SUM(AD67:AJ67) -> 0 | AM67: =IF(AM59<>"Dim",IF(AM64>43,(MIN(AM64,48)-43),0),0) -> 0 | AN67: =IF(AN59<>"Dim",IF(SUM($AM64:AN64)>43,(MIN(SUM($AM64:AN64),48)-43-SUM($AM67:AM67)),0),0) -> 0 | AO67: =IF(AO59<>"Dim",IF(SUM($AM64:AO64)>43,(MIN(SUM($AM64:AO64),48)-43-SUM($AM67:AN67)),0),0) -> 0 | AP67: =IF(AP59<>"Dim",IF(SUM($AM64:AP64)>43,(MIN(SUM($AM64:AP64),48)-43-SUM($AM67:AO67)),0),0) -> 0 | AQ67: =IF(AQ59<>"Dim",IF(SUM($AM64:AQ64)>43,(MIN(SUM($AM64:AQ64),48)-43-SUM($AM67:AP67)),0),0) -> 0 | AR67: =IF(AR59<>"Dim",IF(SUM($AM64:AR64)>43,(MIN(SUM($AM64:AR64),48)-43-SUM($AM67:AQ67)),0),0) -> 0 | AS67: =IF(AS59<>"Dim",IF(SUM($AM64:AS64)>43,(MIN(SUM($AM64:AS64),48)-43-SUM($AM67:AR67)),0),0) -> 0 | AT67: =SUM(AM67:AS67) -> 0 | AV67: =IF(AV59<>"Dim",IF(AV64>43,(MIN(AV64,48)-43),0),0) -> 0 | AW67: =IF(AW59<>"Dim",IF(SUM($AV64:AW64)>43,(MIN(SUM($AV64:AW64),48)-43-SUM($AV67:AV67)),0),0) -> 0 | AX67: =SUM(AV67:AW67) -> 0 | AY67: =J67+S67+AB67+AK67+AT67+AX67 -> 0
A68: HS 200% | C68: =IF(C59="Dim",C64,IF(C74="ferie",C64,0)) -> 0 | D68: =IF(D59="Dim",D64,IF(D74="ferie",D64,0)) -> 0 | E68: =IF(E59="Dim",E64,IF(E74="ferie",E64,0)) -> 0 | F68: =IF(F59="Dim",F64,IF(F74="ferie",F64,0)) -> 0 | G68: =IF(G59="Dim",G64,IF(G74="ferie",G64,0)) -> 0 | H68: =IF(H59="Dim",H64,IF(H74="ferie",H64,0)) -> 0 | I68: =IF(I59="Dim",I64,IF(I74="ferie",I64,0)) -> 0 | J68: =SUM(C68:I68) -> 0 | L68: =IF(L59="Dim",L64,IF(L74="ferie",L64,0)) -> 0 | M68: =IF(M59="Dim",M64,IF(M74="ferie",M64,0)) -> 0 | N68: =IF(N59="Dim",N64,IF(N74="ferie",N64,0)) -> 0 | O68: =IF(O59="Dim",O64,IF(O74="ferie",O64,0)) -> 0 | P68: =IF(P59="Dim",P64,IF(P74="ferie",P64,0)) -> 0 | Q68: =IF(Q59="Dim",Q64,IF(Q74="ferie",Q64,0)) -> 0 | R68: =IF(R59="Dim",R64,IF(R74="ferie",R64,0)) -> 0 | S68: =SUM(L68:R68) -> 0 | U68: =IF(U59="Dim",U64,IF(U74="ferie",U64,0)) -> 0 | V68: =IF(V59="Dim",V64,IF(V74="ferie",V64,0)) -> 0 | W68: =IF(W59="Dim",W64,IF(W74="ferie",W64,0)) -> 0 | X68: =IF(X59="Dim",X64,IF(X74="ferie",X64,0)) -> 0 | Y68: =IF(Y59="Dim",Y64,IF(Y74="ferie",Y64,0)) -> 0 | Z68: =IF(Z59="Dim",Z64,IF(Z74="ferie",Z64,0)) -> 0 | AA68: =IF(AA59="Dim",AA64,IF(AA74="ferie",AA64,0)) -> 0 | AB68: =SUM(U68:AA68) -> 0 | AD68: =IF(AD59="Dim",AD64,IF(AD74="ferie",AD64,0)) -> 0 | AE68: =IF(AE59="Dim",AE64,IF(AE74="ferie",AE64,0)) -> 0 | AF68: =IF(AF59="Dim",AF64,IF(AF74="ferie",AF64,0)) -> 0 | AG68: =IF(AG59="Dim",AG64,IF(AG74="ferie",AG64,0)) -> 0 | AH68: =IF(AH59="Dim",AH64,IF(AH74="ferie",AH64,0)) -> 0 | AI68: =IF(AI59="Dim",AI64,IF(AI74="ferie",AI64,0)) -> 0 | AJ68: =IF(AJ59="Dim",AJ64,IF(AJ74="ferie",AJ64,0)) -> 0 | AK68: =SUM(AD68:AJ68) -> 0 | AM68: =IF(AM59="Dim",AM64,IF(AM74="ferie",AM64,0)) -> 0 | AN68: =IF(AN59="Dim",AN64,IF(AN74="ferie",AN64,0)) -> 0 | AO68: =IF(AO59="Dim",AO64,IF(AO74="ferie",AO64,0)) -> 0 | AP68: =IF(AP59="Dim",AP64,IF(AP74="ferie",AP64,0)) -> 0 | AQ68: =IF(AQ59="Dim",AQ64,IF(AQ74="ferie",AQ64,0)) -> 0 | AR68: =IF(AR59="Dim",AR64,IF(AR74="ferie",AR64,0)) -> 0 | AS68: =IF(AS59="Dim",AS64,IF(AS74="ferie",AS64,0)) -> 0 | AT68: =SUM(AM68:AS68) -> 0 | AV68: =IF(AV59="Dim",AV64,IF(AV74="ferie",AV64,0)) -> 0 | AW68: =IF(AW59="Dim",AW64,IF(AW74="ferie",AW64,0)) -> 0 | AX68: =SUM(AV68:AW68) -> 0 | AY68: =J68+S68+AB68+AK68+AT68+AX68 -> 0
A69: HR + | J69: =SUM(C69:I69) -> 0 | S69: =SUM(L69:R69) -> 0 | AB69: =SUM(U69:AA69) -> 0 | AK69: =SUM(AD69:AJ69) -> 0 | AT69: =SUM(AM69:AS69) -> 0 | AX69: =SUM(AV69:AW69) -> 0 | AY69: =J69+S69+AB69+AK69+AT69+AX69 -> 0
A70: HR - | J70: =SUM(C70:I70) -> 0 | S70: =SUM(L70:R70) -> 0 | AB70: =SUM(U70:AA70) -> 0 | AK70: =SUM(AD70:AJ70) -> 0 | AT70: =SUM(AM70:AS70) -> 0 | AX70: =SUM(AV70:AW70) -> 0 | AY70: =J70+S70+AB70+AK70+AT70+AX70 -> 0
A71: CP - | J71: =SUM(C71:I71) -> 0 | S71: =SUM(L71:R71) -> 0 | AB71: =SUM(U71:AA71) -> 0 | AK71: =SUM(AD71:AJ71) -> 0 | AT71: =SUM(AM71:AS71) -> 0 | AX71: =SUM(AV71:AW71) -> 0 | AY71: =J71+S71+AB71+AK71+AT71+AX71 -> 0
A72: RC - | J72: =SUM(C72:I72) -> 0 | S72: =SUM(L72:R72) -> 0 | AB72: =SUM(U72:AA72) -> 0 | AK72: =SUM(AD72:AJ72) -> 0 | AT72: =SUM(AM72:AS72) -> 0 | AX72: =SUM(AV72:AW72) -> 0 | AY72: =J72+S72+AB72+AK72+AT72+AX72 -> 0
A73: RC nuit | C73: =IF(C61="nuit",C64*0.02,0) -> 0 | D73: =IF(D61="nuit",D64*0.02,0) -> 0 | E73: =IF(E61="nuit",E64*0.02,0) -> 0 | F73: =IF(F61="nuit",F64*0.02,0) -> 0 | G73: =IF(G61="nuit",G64*0.02,0) -> 0 | H73: =IF(H61="nuit",H64*0.02,0) -> 0 | I73: =IF(I61="nuit",I64*0.02,0) -> 0 | J73: =SUM(C73:I73) -> 0 | L73: =IF(L61="nuit",L64*0.02,0) -> 0 | M73: =IF(M61="nuit",M64*0.02,0) -> 0 | N73: =IF(N61="nuit",N64*0.02,0) -> 0 | O73: =IF(O61="nuit",O64*0.02,0) -> 0 | P73: =IF(P61="nuit",P64*0.02,0) -> 0 | Q73: =IF(Q61="nuit",Q64*0.02,0) -> 0 | R73: =IF(R61="nuit",R64*0.02,0) -> 0 | S73: =SUM(L73:R73) -> 0 | U73: =IF(U61="nuit",U64*0.02,0) -> 0 | V73: =IF(V61="nuit",V64*0.02,0) -> 0 | W73: =IF(W61="nuit",W64*0.02,0) -> 0 | X73: =IF(X61="nuit",X64*0.02,0) -> 0 | Y73: =IF(Y61="nuit",Y64*0.02,0) -> 0 | Z73: =IF(Z61="nuit",Z64*0.02,0) -> 0 | AA73: =IF(AA61="nuit",AA64*0.02,0) -> 0 | AB73: =SUM(U73:AA73) -> 0 | AD73: =IF(AD61="nuit",AD64*0.02,0) -> 0 | AE73: =IF(AE61="nuit",AE64*0.02,0) -> 0 | AF73: =IF(AF61="nuit",AF64*0.02,0) -> 0 | AG73: =IF(AG61="nuit",AG64*0.02,0) -> 0 | AH73: =IF(AH61="nuit",AH64*0.02,0) -> 0 | AI73: =IF(AI61="nuit",AI64*0.02,0) -> 0 | AJ73: =IF(AJ61="nuit",AJ64*0.02,0) -> 0 | AK73: =SUM(AD73:AJ73) -> 0 | AM73: =IF(AM61="nuit",AM64*0.02,0) -> 0 | AN73: =IF(AN61="nuit",AN64*0.02,0) -> 0 | AO73: =IF(AO61="nuit",AO64*0.02,0) -> 0 | AP73: =IF(AP61="nuit",AP64*0.02,0) -> 0 | AQ73: =IF(AQ61="nuit",AQ64*0.02,0) -> 0 | AR73: =IF(AR61="nuit",AR64*0.02,0) -> 0 | AS73: =IF(AS61="nuit",AS64*0.02,0) -> 0 | AT73: =SUM(AM73:AS73) -> 0 | AV73: =IF(AV61="nuit",AV64*0.02,0) -> 0 | AW73: =IF(AW61="nuit",AW64*0.02,0) -> 0 | AX73: =SUM(AV73:AW73) -> 0 | AY73: =J73+S73+AB73+AK73+AT73+AX73 -> 0
A74: Note
C76: Mai | H76: =Année_Calendaire -> 2016 | U76: Mai | Z76: =Année_Calendaire -> 2016 | AM76: Mai | AR76: =Année_Calendaire -> 2016
C77: Lun | D77: Mar | E77: Mer | F77: Jeu | G77: Ven | H77: Sam | I77: Dim | J77: Cumul | L77: Lun | M77: Mar | N77: Mer | O77: Jeu | P77: Ven | Q77: Sam | R77: Dim | S77: Cumul | U77: Lun | V77: Mar | W77: Mer | X77: Jeu | Y77: Ven | Z77: Sam | AA77: Dim | AB77: Cumul | AD77: Lun | AE77: Mar | AF77: Mer | AG77: Jeu | AH77: Ven | AI77: Sam | AJ77: Dim | AK77: Cumul | AM77: Lun | AN77: Mar | AO77: Mer | AP77: Jeu | AQ77: Ven | AR77: Sam | AS77: Dim | AT77: Cumul | AU77: c3 | AV77: Lun | AW77: Mar | AX77: Cumul | AY77: Cumul total | AZ77: =AY84+AY85+AY86 -> 0 | BA77: =AZ77+BA59 -> 10
C78: =IF(DAY(Mai_Dim1)=1,"",IF(AND(YEAR(Mai_Dim1+1)=Année_Calendaire,MONTH(Mai_Dim1+1)=5),Mai_Dim1+1,"")) | D78: =IF(DAY(Mai_Dim1)=1,"",IF(AND(YEAR(Mai_Dim1+2)=Année_Calendaire,MONTH(Mai_Dim1+2)=5),Mai_Dim1+2,"")) | E78: =IF(DAY(Mai_Dim1)=1,"",IF(AND(YEAR(Mai_Dim1+3)=Année_Calendaire,MONTH(Mai_Dim1+3)=5),Mai_Dim1+3,"")) | F78: =IF(DAY(Mai_Dim1)=1,"",IF(AND(YEAR(Mai_Dim1+4)=Année_Calendaire,MONTH(Mai_Dim1+4)=5),Mai_Dim1+4,"")) | G78: =IF(DAY(Mai_Dim1)=1,"",IF(AND(YEAR(Mai_Dim1+5)=Année_Calendaire,MONTH(Mai_Dim1+5)=5),Mai_Dim1+5,"")) | H78: =IF(DAY(Mai_Dim1)=1,"",IF(AND(YEAR(Mai_Dim1+6)=Année_Calendaire,MONTH(Mai_Dim1+6)=5),Mai_Dim1+6,"")) | I78: =IF(DAY(Mai_Dim1)=1,IF(AND(YEAR(Mai_Dim1)=Année_Calendaire,MONTH(Mai_Dim1)=5),Mai_Dim1,""),IF(AND(YEAR(Mai_Dim1+7)=Année_Calendaire,MONTH(Mai_Dim1+7)=5),Mai_Dim1+7,"")) -> 42491 | L78: =IF(DAY(Mai_Dim1)=1,IF(AND(YEAR(Mai_Dim1+1)=Année_Calendaire,MONTH(Mai_Dim1+1)=5),Mai_Dim1+1,""),IF(AND(YEAR(Mai_Dim1+8)=Année_Calendaire,MONTH(Mai_Dim1+8)=5),Mai_Dim1+8,"")) -> 42492 | M78: =IF(DAY(Mai_Dim1)=1,IF(AND(YEAR(Mai_Dim1+2)=Année_Calendaire,MONTH(Mai_Dim1+2)=5),Mai_Dim1+2,""),IF(AND(YEAR(Mai_Dim1+9)=Année_Calendaire,MONTH(Mai_Dim1+9)=5),Mai_Dim1+9,"")) -> 42493 | N78: =IF(DAY(Mai_Dim1)=1,IF(AND(YEAR(Mai_Dim1+3)=Année_Calendaire,MONTH(Mai_Dim1+3)=5),Mai_Dim1+3,""),IF(AND(YEAR(Mai_Dim1+10)=Année_Calendaire,MONTH(Mai_Dim1+10)=5),Mai_Dim1+10,"")) -> 42494 | O78: =IF(DAY(Mai_Dim1)=1,IF(AND(YEAR(Mai_Dim1+4)=Année_Calendaire,MONTH(Mai_Dim1+4)=5),Mai_Dim1+4,""),IF(AND(YEAR(Mai_Dim1+11)=Année_Calendaire,MONTH(Mai_Dim1+11)=5),Mai_Dim1+11,"")) -> 42495 | P78: =IF(DAY(Mai_Dim1)=1,IF(AND(YEAR(Mai_Dim1+5)=Année_Calendaire,MONTH(Mai_Dim1+5)=5),Mai_Dim1+5,""),IF(AND(YEAR(Mai_Dim1+12)=Année_Calendaire,MONTH(Mai_Dim1+12)=5),Mai_Dim1+12,"")) -> 42496 | Q78: =IF(DAY(Mai_Dim1)=1,IF(AND(YEAR(Mai_Dim1+6)=Année_Calendaire,MONTH(Mai_Dim1+6)=5),Mai_Dim1+6,""),IF(AND(YEAR(Mai_Dim1+13)=Année_Calendaire,MONTH(Mai_Dim1+13)=5),Mai_Dim1+13,"")) -> 42497 | R78: =IF(DAY(Mai_Dim1)=1,IF(AND(YEAR(Mai_Dim1+7)=Année_Calendaire,MONTH(Mai_Dim1+7)=5),Mai_Dim1+7,""),IF(AND(YEAR(Mai_Dim1+14)=Année_Calendaire,MONTH(Mai_Dim1+14)=5),Mai_Dim1+14,"")) -> 42498 | U78: =IF(DAY(Mai_Dim1)=1,IF(AND(YEAR(Mai_Dim1+8)=Année_Calendaire,MONTH(Mai_Dim1+8)=5),Mai_Dim1+8,""),IF(AND(YEAR(Mai_Dim1+15)=Année_Calendaire,MONTH(Mai_Dim1+15)=5),Mai_Dim1+15,"")) -> 42499 | V78: =IF(DAY(Mai_Dim1)=1,IF(AND(YEAR(Mai_Dim1+9)=Année_Calendaire,MONTH(Mai_Dim1+9)=5),Mai_Dim1+9,""),IF(AND(YEAR(Mai_Dim1+16)=Année_Calendaire,MONTH(Mai_Dim1+16)=5),Mai_Dim1+16,"")) -> 42500 | W78: =IF(DAY(Mai_Dim1)=1,IF(AND(YEAR(Mai_Dim1+10)=Année_Calendaire,MONTH(Mai_Dim1+10)=5),Mai_Dim1+10,""),IF(AND(YEAR(Mai_Dim1+17)=Année_Calendaire,MONTH(Mai_Dim1+17)=5),Mai_Dim1+17,"")) -> 42501 | X78: =IF(DAY(Mai_Dim1)=1,IF(AND(YEAR(Mai_Dim1+11)=Année_Calendaire,MONTH(Mai_Dim1+11)=5),Mai_Dim1+11,""),IF(AND(YEAR(Mai_Dim1+18)=Année_Calendaire,MONTH(Mai_Dim1+18)=5),Mai_Dim1+18,"")) -> 42502 | Y78: =IF(DAY(Mai_Dim1)=1,IF(AND(YEAR(Mai_Dim1+12)=Année_Calendaire,MONTH(Mai_Dim1+12)=5),Mai_Dim1+12,""),IF(AND(YEAR(Mai_Dim1+19)=Année_Calendaire,MONTH(Mai_Dim1+19)=5),Mai_Dim1+19,"")) -> 42503 | Z78: =IF(DAY(Mai_Dim1)=1,IF(AND(YEAR(Mai_Dim1+13)=Année_Calendaire,MONTH(Mai_Dim1+13)=5),Mai_Dim1+13,""),IF(AND(YEAR(Mai_Dim1+20)=Année_Calendaire,MONTH(Mai_Dim1+20)=5),Mai_Dim1+20,"")) -> 42504 | AA78: =IF(DAY(Mai_Dim1)=1,IF(AND(YEAR(Mai_Dim1+14)=Année_Calendaire,MONTH(Mai_Dim1+14)=5),Mai_Dim1+14,""),IF(AND(YEAR(Mai_Dim1+21)=Année_Calendaire,MONTH(Mai_Dim1+21)=5),Mai_Dim1+21,"")) -> 42505 | AD78: =IF(DAY(Mai_Dim1)=1,IF(AND(YEAR(Mai_Dim1+15)=Année_Calendaire,MONTH(Mai_Dim1+15)=5),Mai_Dim1+15,""),IF(AND(YEAR(Mai_Dim1+22)=Année_Calendaire,MONTH(Mai_Dim1+22)=5),Mai_Dim1+22,"")) -> 42506 | AE78: =IF(DAY(Mai_Dim1)=1,IF(AND(YEAR(Mai_Dim1+16)=Année_Calendaire,MONTH(Mai_Dim1+16)=5),Mai_Dim1+16,""),IF(AND(YEAR(Mai_Dim1+23)=Année_Calendaire,MONTH(Mai_Dim1+23)=5),Mai_Dim1+23,"")) -> 42507 | AF78: =IF(DAY(Mai_Dim1)=1,IF(AND(YEAR(Mai_Dim1+17)=Année_Calendaire,MONTH(Mai_Dim1+17)=5),Mai_Dim1+17,""),IF(AND(YEAR(Mai_Dim1+24)=Année_Calendaire,MONTH(Mai_Dim1+24)=5),Mai_Dim1+24,"")) -> 42508 | AG78: =IF(DAY(Mai_Dim1)=1,IF(AND(YEAR(Mai_Dim1+18)=Année_Calendaire,MONTH(Mai_Dim1+18)=5),Mai_Dim1+18,""),IF(AND(YEAR(Mai_Dim1+25)=Année_Calendaire,MONTH(Mai_Dim1+25)=5),Mai_Dim1+25,"")) -> 42509 | AH78: =IF(DAY(Mai_Dim1)=1,IF(AND(YEAR(Mai_Dim1+19)=Année_Calendaire,MONTH(Mai_Dim1+19)=5),Mai_Dim1+19,""),IF(AND(YEAR(Mai_Dim1+26)=Année_Calendaire,MONTH(Mai_Dim1+26)=5),Mai_Dim1+26,"")) -> 42510 | AI78: =IF(DAY(Mai_Dim1)=1,IF(AND(YEAR(Mai_Dim1+20)=Année_Calendaire,MONTH(Mai_Dim1+20)=5),Mai_Dim1+20,""),IF(AND(YEAR(Mai_Dim1+27)=Année_Calendaire,MONTH(Mai_Dim1+27)=5),Mai_Dim1+27,"")) -> 42511 | AJ78: =IF(DAY(Mai_Dim1)=1,IF(AND(YEAR(Mai_Dim1+21)=Année_Calendaire,MONTH(Mai_Dim1+21)=5),Mai_Dim1+21,""),IF(AND(YEAR(Mai_Dim1+28)=Année_Calendaire,MONTH(Mai_Dim1+28)=5),Mai_Dim1+28,"")) -> 42512 | AM78: =IF(DAY(Mai_Dim1)=1,IF(AND(YEAR(Mai_Dim1+22)=Année_Calendaire,MONTH(Mai_Dim1+22)=5),Mai_Dim1+22,""),IF(AND(YEAR(Mai_Dim1+29)=Année_Calendaire,MONTH(Mai_Dim1+29)=5),Mai_Dim1+29,"")) -> 42513 | AN78: =IF(DAY(Mai_Dim1)=1,IF(AND(YEAR(Mai_Dim1+23)=Année_Calendaire,MONTH(Mai_Dim1+23)=5),Mai_Dim1+23,""),IF(AND(YEAR(Mai_Dim1+30)=Année_Calendaire,MONTH(Mai_Dim1+30)=5),Mai_Dim1+30,"")) -> 42514 | AO78: =IF(DAY(Mai_Dim1)=1,IF(AND(YEAR(Mai_Dim1+24)=Année_Calendaire,MONTH(Mai_Dim1+24)=5),Mai_Dim1+24,""),IF(AND(YEAR(Mai_Dim1+31)=Année_Calendaire,MONTH(Mai_Dim1+31)=5),Mai_Dim1+31,"")) -> 42515 | AP78: =IF(DAY(Mai_Dim1)=1,IF(AND(YEAR(Mai_Dim1+25)=Année_Calendaire,MONTH(Mai_Dim1+25)=5),Mai_Dim1+25,""),IF(AND(YEAR(Mai_Dim1+32)=Année_Calendaire,MONTH(Mai_Dim1+32)=5),Mai_Dim1+32,"")) -> 42516 | AQ78: =IF(DAY(Mai_Dim1)=1,IF(AND(YEAR(Mai_Dim1+26)=Année_Calendaire,MONTH(Mai_Dim1+26)=5),Mai_Dim1+26,""),IF(AND(YEAR(Mai_Dim1+33)=Année_Calendaire,MONTH(Mai_Dim1+33)=5),Mai_Dim1+33,"")) -> 42517 | AR78: =IF(DAY(Mai_Dim1)=1,IF(AND(YEAR(Mai_Dim1+27)=Année_Calendaire,MONTH(Mai_Dim1+27)=5),Mai_Dim1+27,""),IF(AND(YEAR(Mai_Dim1+34)=Année_Calendaire,MONTH(Mai_Dim1+34)=5),Mai_Dim1+34,"")) -> 42518 | AS78: =IF(DAY(Mai_Dim1)=1,IF(AND(YEAR(Mai_Dim1+28)=Année_Calendaire,MONTH(Mai_Dim1+28)=5),Mai_Dim1+28,""),IF(AND(YEAR(Mai_Dim1+35)=Année_Calendaire,MONTH(Mai_Dim1+35)=5),Mai_Dim1+35,"")) -> 42519 | AV78: =IF(DAY(Mai_Dim1)=1,IF(AND(YEAR(Mai_Dim1+29)=Année_Calendaire,MONTH(Mai_Dim1+29)=5),Mai_Dim1+29,""),IF(AND(YEAR(Mai_Dim1+36)=Année_Calendaire,MONTH(Mai_Dim1+36)=5),Mai_Dim1+36,"")) -> 42520 | AW78: =IF(DAY(Mai_Dim1)=1,IF(AND(YEAR(Mai_Dim1+30)=Année_Calendaire,MONTH(Mai_Dim1+30)=5),Mai_Dim1+30,""),IF(AND(YEAR(Mai_Dim1+37)=Année_Calendaire,MONTH(Mai_Dim1+37)=5),Mai_Dim1+37,"")) -> 42521
A79: Equipe | C79: =IFERROR(VLOOKUP(B77,DATA!$A:$H,2,TRUE),0) -> 0 | D79: =IFERROR(VLOOKUP(B77,DATA!$A:$H,3,TRUE),0) -> 0 | E79: =IFERROR(VLOOKUP(B77,DATA!$A:$H,4,TRUE),0) -> 0 | F79: =IFERROR(VLOOKUP(B77,DATA!$A:$H,5,TRUE),0) -> 0 | G79: =IFERROR(VLOOKUP(B77,DATA!$A:$H,6,TRUE),0) -> 0 | H79: =IFERROR(VLOOKUP(B77,DATA!$A:$H,7,TRUE),0) -> 0 | I79: =IFERROR(VLOOKUP(B77,DATA!$A:$H,8,TRUE),0) -> 0 | L79: =IFERROR(VLOOKUP(K77,DATA!$A:$H,2,TRUE),0) -> 0 | M79: =IFERROR(VLOOKUP(K77,DATA!$A:$H,3,TRUE),0) -> 0 | N79: =IFERROR(VLOOKUP(K77,DATA!$A:$H,4,TRUE),0) -> 0 | O79: =IFERROR(VLOOKUP(K77,DATA!$A:$H,5,TRUE),0) -> 0 | P79: =IFERROR(VLOOKUP(K77,DATA!$A:$H,6,TRUE),0) -> 0 | Q79: =IFERROR(VLOOKUP(K77,DATA!$A:$H,7,TRUE),0) -> 0 | R79: =IFERROR(VLOOKUP(K77,DATA!$A:$H,8,TRUE),0) -> 0 | U79: =IFERROR(VLOOKUP(T77,DATA!$A:$H,2,TRUE),0) -> 0 | V79: =IFERROR(VLOOKUP(T77,DATA!$A:$H,3,TRUE),0) -> 0 | W79: =IFERROR(VLOOKUP(T77,DATA!$A:$H,4,TRUE),0) -> 0 | X79: =IFERROR(VLOOKUP(T77,DATA!$A:$H,5,TRUE),0) -> 0 | Y79: =IFERROR(VLOOKUP(T77,DATA!$A:$H,6,TRUE),0) -> 0 | Z79: =IFERROR(VLOOKUP(T77,DATA!$A:$H,7,TRUE),0) -> 0 | AA79: =IFERROR(VLOOKUP(T77,DATA!$A:$H,8,TRUE),0) -> 0 | AD79: =IFERROR(VLOOKUP(AC77,DATA!$A:$H,2,TRUE),0) -> 0 | AE79: =IFERROR(VLOOKUP(AC77,DATA!$A:$H,3,TRUE),0) -> 0 | AF79: =IFERROR(VLOOKUP(AC77,DATA!$A:$H,4,TRUE),0) -> 0 | AG79: =IFERROR(VLOOKUP(AC77,DATA!$A:$H,5,TRUE),0) -> 0 | AH79: =IFERROR(VLOOKUP(AC77,DATA!$A:$H,6,TRUE),0) -> 0 | AI79: =IFERROR(VLOOKUP(AC77,DATA!$A:$H,7,TRUE),0) -> 0 | AJ79: =IFERROR(VLOOKUP(AC77,DATA!$A:$H,8,TRUE),0) -> 0 | AM79: =IFERROR(VLOOKUP(AL77,DATA!$A:$H,2,TRUE),0) -> 0 | AN79: =IFERROR(VLOOKUP(AL77,DATA!$A:$H,3,TRUE),0) -> 0 | AO79: =IFERROR(VLOOKUP(AL77,DATA!$A:$H,4,TRUE),0) -> 0 | AP79: =IFERROR(VLOOKUP(AL77,DATA!$A:$H,5,TRUE),0) -> 0 | AQ79: =IFERROR(VLOOKUP(AL77,DATA!$A:$H,6,TRUE),0) -> 0 | AR79: =IFERROR(VLOOKUP(AL77,DATA!$A:$H,7,TRUE),0) -> 0 | AS79: =IFERROR(VLOOKUP(AL77,DATA!$A:$H,8,TRUE),0) -> 0 | AV79: =IFERROR(VLOOKUP(AU77,DATA!$A:$H,2,TRUE),0) -> matin | AW79: =IFERROR(VLOOKUP(AU77,DATA!$A:$H,3,TRUE),0) -> 0
A80: Ticket resto | C80: =IF(C79="Matin",1,IF(C79="AM",1,0)) -> 0 | D80: =IF(D79="Matin",1,IF(D79="AM",1,0)) -> 0 | E80: =IF(E79="Matin",1,IF(E79="AM",1,0)) -> 0 | F80: =IF(F79="Matin",1,IF(F79="AM",1,0)) -> 0 | G80: =IF(G79="Matin",1,IF(G79="AM",1,0)) -> 0 | H80: =IF(H79="Matin",1,IF(H79="AM",1,0)) -> 0 | I80: =IF(I79="Matin",1,IF(I79="AM",1,0)) -> 0 | J80: =SUM(C80:I80) -> 0 | L80: =IF(L79="Matin",1,IF(L79="AM",1,0)) -> 0 | M80: =IF(M79="Matin",1,IF(M79="AM",1,0)) -> 0 | N80: =IF(N79="Matin",1,IF(N79="AM",1,0)) -> 0 | O80: =IF(O79="Matin",1,IF(O79="AM",1,0)) -> 0 | P80: =IF(P79="Matin",1,IF(P79="AM",1,0)) -> 0 | Q80: =IF(Q79="Matin",1,IF(Q79="AM",1,0)) -> 0 | R80: =IF(R79="Matin",1,IF(R79="AM",1,0)) -> 0 | S80: =SUM(L80:R80) -> 0 | U80: =IF(U79="Matin",1,IF(U79="AM",1,0)) -> 0 | V80: =IF(V79="Matin",1,IF(V79="AM",1,0)) -> 0 | W80: =IF(W79="Matin",1,IF(W79="AM",1,0)) -> 0 | X80: =IF(X79="Matin",1,IF(X79="AM",1,0)) -> 0 | Y80: =IF(Y79="Matin",1,IF(Y79="AM",1,0)) -> 0 | Z80: =IF(Z79="Matin",1,IF(Z79="AM",1,0)) -> 0 | AA80: =IF(AA79="Matin",1,IF(AA79="AM",1,0)) -> 0 | AB80: =SUM(U80:AA80) -> 0 | AD80: =IF(AD79="Matin",1,IF(AD79="AM",1,0)) -> 0 | AE80: =IF(AE79="Matin",1,IF(AE79="AM",1,0)) -> 0 | AF80: =IF(AF79="Matin",1,IF(AF79="AM",1,0)) -> 0 | AG80: =IF(AG79="Matin",1,IF(AG79="AM",1,0)) -> 0 | AH80: =IF(AH79="Matin",1,IF(AH79="AM",1,0)) -> 0 | AI80: =IF(AI79="Matin",1,IF(AI79="AM",1,0)) -> 0 | AJ80: =IF(AJ79="Matin",1,IF(AJ79="AM",1,0)) -> 0 | AK80: =SUM(AD80:AJ80) -> 0 | AM80: =IF(AM79="Matin",1,IF(AM79="AM",1,0)) -> 0 | AN80: =IF(AN79="Matin",1,IF(AN79="AM",1,0)) -> 0 | AO80: =IF(AO79="Matin",1,IF(AO79="AM",1,0)) -> 0 | AP80: =IF(AP79="Matin",1,IF(AP79="AM",1,0)) -> 0 | AQ80: =IF(AQ79="Matin",1,IF(AQ79="AM",1,0)) -> 0 | AR80: =IF(AR79="Matin",1,IF(AR79="AM",1,0)) -> 0 | AS80: =IF(AS79="Matin",1,IF(AS79="AM",1,0)) -> 0 | AT80: =SUM(AM80:AS80) -> 0 | AV80: =IF(AV79="Matin",1,IF(AV79="AM",1,0)) -> 1 | AW80: =IF(AW79="Matin",1,IF(AW79="AM",1,0)) -> 0 | AX80: =SUM(AV80:AW80) -> 1 | AY80: =J80+S80+AB80+AK80+AT80+AX80 -> 1
A81: Travailler | C81: =IF(C82>=1,1,0) -> 0 | D81: =IF(D82>=1,1,0) -> 0 | E81: =IF(E82>=1,1,0) -> 0 | F81: =IF(F82>=1,1,0) -> 0 | G81: =IF(G82>=1,1,0) -> 0 | H81: =IF(H82>=1,1,0) -> 0 | I81: =IF(I82>=1,1,0) -> 0 | J81: =SUM(C81:I81) -> 0 | L81: =IF(L82>=1,1,0) -> 0 | M81: =IF(M82>=1,1,0) -> 0 | N81: =IF(N82>=1,1,0) -> 0 | O81: =IF(O82>=1,1,0) -> 0 | P81: =IF(P82>=1,1,0) -> 0 | Q81: =IF(Q82>=1,1,0) -> 0 | R81: =IF(R82>=1,1,0) -> 0 | S81: =SUM(L81:R81) -> 0 | U81: =IF(U82>=1,1,0) -> 0 | V81: =IF(V82>=1,1,0) -> 0 | W81: =IF(W82>=1,1,0) -> 0 | X81: =IF(X82>=1,1,0) -> 0 | Y81: =IF(Y82>=1,1,0) -> 0 | Z81: =IF(Z82>=1,1,0) -> 0 | AA81: =IF(AA82>=1,1,0) -> 0 | AB81: =SUM(U81:AA81) -> 0 | AD81: =IF(AD82>=1,1,0) -> 0 | AE81: =IF(AE82>=1,1,0) -> 0 | AF81: =IF(AF82>=1,1,0) -> 0 | AG81: =IF(AG82>=1,1,0) -> 0 | AH81: =IF(AH82>=1,1,0) -> 0 | AI81: =IF(AI82>=1,1,0) -> 0 | AJ81: =IF(AJ82>=1,1,0) -> 0 | AK81: =SUM(AD81:AJ81) -> 0 | AM81: =IF(AM82>=1,1,0) -> 0 | AN81: =IF(AN82>=1,1,0) -> 0 | AO81: =IF(AO82>=1,1,0) -> 0 | AP81: =IF(AP82>=1,1,0) -> 0 | AQ81: =IF(AQ82>=1,1,0) -> 0 | AR81: =IF(AR82>=1,1,0) -> 0 | AS81: =IF(AS82>=1,1,0) -> 0 | AT81: =SUM(AM81:AS81) -> 0 | AV81: =IF(AV82>=1,1,0) -> 1 | AW81: =IF(AW82>=1,1,0) -> 0 | AX81: =SUM(AV81:AW81) -> 1 | AY81: =J81+S81+AB81+AK81+AT81+AX81 -> 1
A82: Nbr heure | C82: =IF(C79="Matin",8,IF(C79="AM",8,IF(C79="nuit",8,0))) -> 0 | D82: =IF(D79="Matin",8,IF(D79="AM",8,IF(D79="nuit",8,0))) -> 0 | E82: =IF(E79="Matin",8,IF(E79="AM",8,IF(E79="nuit",8,0))) -> 0 | F82: =IF(F79="Matin",8,IF(F79="AM",8,IF(F79="nuit",8,0))) -> 0 | G82: =IF(G79="Matin",8,IF(G79="AM",8,IF(G79="nuit",8,0))) -> 0 | H82: =IF(H79="Matin",8,IF(H79="AM",8,IF(H79="nuit",8,0))) -> 0 | I82: =IF(I79="Matin",8,IF(I79="AM",8,IF(I79="nuit",8,0))) -> 0 | J82: =SUM(C82:I82) -> 0 | L82: =IF(L79="Matin",8,IF(L79="AM",8,IF(L79="nuit",8,0))) -> 0 | M82: =IF(M79="Matin",8,IF(M79="AM",8,IF(M79="nuit",8,0))) -> 0 | N82: =IF(N79="Matin",8,IF(N79="AM",8,IF(N79="nuit",8,0))) -> 0 | O82: =IF(O79="Matin",8,IF(O79="AM",8,IF(O79="nuit",8,0))) -> 0 | P82: =IF(P79="Matin",8,IF(P79="AM",8,IF(P79="nuit",8,0))) -> 0 | Q82: =IF(Q79="Matin",8,IF(Q79="AM",8,IF(Q79="nuit",8,0))) -> 0 | R82: =IF(R79="Matin",8,IF(R79="AM",8,IF(R79="nuit",8,0))) -> 0 | S82: =SUM(L82:R82) -> 0 | U82: =IF(U79="Matin",8,IF(U79="AM",8,IF(U79="nuit",8,0))) -> 0 | V82: =IF(V79="Matin",8,IF(V79="AM",8,IF(V79="nuit",8,0))) -> 0 | W82: =IF(W79="Matin",8,IF(W79="AM",8,IF(W79="nuit",8,0))) -> 0 | X82: =IF(X79="Matin",8,IF(X79="AM",8,IF(X79="nuit",8,0))) -> 0 | Y82: =IF(Y79="Matin",8,IF(Y79="AM",8,IF(Y79="nuit",8,0))) -> 0 | Z82: =IF(Z79="Matin",8,IF(Z79="AM",8,IF(Z79="nuit",8,0))) -> 0 | AA82: =IF(AA79="Matin",8,IF(AA79="AM",8,IF(AA79="nuit",8,0))) -> 0 | AB82: =SUM(U82:AA82) -> 0 | AD82: =IF(AD79="Matin",8,IF(AD79="AM",8,IF(AD79="nuit",8,0))) -> 0 | AE82: =IF(AE79="Matin",8,IF(AE79="AM",8,IF(AE79="nuit",8,0))) -> 0 | AF82: =IF(AF79="Matin",8,IF(AF79="AM",8,IF(AF79="nuit",8,0))) -> 0 | AG82: =IF(AG79="Matin",8,IF(AG79="AM",8,IF(AG79="nuit",8,0))) -> 0 | AH82: =IF(AH79="Matin",8,IF(AH79="AM",8,IF(AH79="nuit",8,0))) -> 0 | AI82: =IF(AI79="Matin",8,IF(AI79="AM",8,IF(AI79="nuit",8,0))) -> 0 | AJ82: =IF(AJ79="Matin",8,IF(AJ79="AM",8,IF(AJ79="nuit",8,0))) -> 0 | AK82: =SUM(AD82:AJ82) -> 0 | AM82: =IF(AM79="Matin",8,IF(AM79="AM",8,IF(AM79="nuit",8,0))) -> 0 | AN82: =IF(AN79="Matin",8,IF(AN79="AM",8,IF(AN79="nuit",8,0))) -> 0 | AO82: =IF(AO79="Matin",8,IF(AO79="AM",8,IF(AO79="nuit",8,0))) -> 0 | AP82: =IF(AP79="Matin",8,IF(AP79="AM",8,IF(AP79="nuit",8,0))) -> 0 | AQ82: =IF(AQ79="Matin",8,IF(AQ79="AM",8,IF(AQ79="nuit",8,0))) -> 0 | AR82: =IF(AR79="Matin",8,IF(AR79="AM",8,IF(AR79="nuit",8,0))) -> 0 | AS82: =IF(AS79="Matin",8,IF(AS79="AM",8,IF(AS79="nuit",8,0))) -> 0 | AT82: =SUM(AM82:AS82) -> 0 | AV82: =IF(AV79="Matin",8,IF(AV79="AM",8,IF(AV79="nuit",8,0))) -> 8 | AW82: =IF(AW79="Matin",8,IF(AW79="AM",8,IF(AW79="nuit",8,0))) -> 0 | AX82: =SUM(AV82:AW82) -> 8 | AY82: =J82+S82+AB82+AK82+AT82+AX82 -> 8
A83: Heure comp | C83: =IF(C77<>"Dim",IF(C82>32,MIN(C82,35)-32,0),0) -> 0 | D83: =IF(D77<>"Dim",IF(SUM($C82:D82)>32,MIN(SUM($C82:D82),35)-32-SUM($C83:C83),0),0) -> 0 | E83: =IF(E77<>"Dim",IF(SUM($C82:E82)>32,MIN(SUM($C82:E82),35)-32-SUM($C83:D83),0),0) -> 0 | F83: =IF(F77<>"Dim",IF(SUM($C82:F82)>32,MIN(SUM($C82:F82),35)-32-SUM($C83:E83),0),0) -> 0 | G83: =IF(G77<>"Dim",IF(SUM($C82:G82)>32,MIN(SUM($C82:G82),35)-32-SUM($C83:F83),0),0) -> 0 | H83: =IF(H77<>"Dim",IF(SUM($C82:H82)>32,MIN(SUM($C82:H82),35)-32-SUM($C83:G83),0),0) -> 0 | I83: =IF(I77<>"Dim",IF(SUM($C82:I82)>32,MIN(SUM($C82:I82),35)-32-SUM($C83:H83),0),0) -> 0 | J83: =SUM(C83:I83) -> 0 | L83: =IF(L77<>"Dim",IF(L82>32,MIN(L82,35)-32,0),0) -> 0 | M83: =IF(M77<>"Dim",IF(SUM($L82:M82)>32,MIN(SUM($L82:M82),35)-32-SUM($L83:L83),0),0) -> 0 | N83: =IF(N77<>"Dim",IF(SUM($L82:N82)>32,MIN(SUM($L82:N82),35)-32-SUM($L83:M83),0),0) -> 0 | O83: =IF(O77<>"Dim",IF(SUM($L82:O82)>32,MIN(SUM($L82:O82),35)-32-SUM($L83:N83),0),0) -> 0 | P83: =IF(P77<>"Dim",IF(SUM($L82:P82)>32,MIN(SUM($L82:P82),35)-32-SUM($L83:O83),0),0) -> 0 | Q83: =IF(Q77<>"Dim",IF(SUM($L82:Q82)>32,MIN(SUM($L82:Q82),35)-32-SUM($L83:P83),0),0) -> 0 | R83: =IF(R77<>"Dim",IF(SUM($L82:R82)>32,MIN(SUM($L82:R82),35)-32-SUM($L83:Q83),0),0) -> 0 | S83: =SUM(L83:R83) -> 0 | U83: =IF(U77<>"Dim",IF(U82>32,MIN(U82,35)-32,0),0) -> 0 | V83: =IF(V77<>"Dim",IF(SUM($U82:V82)>32,MIN(SUM($U82:V82),35)-32-SUM($U83:U83),0),0) -> 0 | W83: =IF(W77<>"Dim",IF(SUM($U82:W82)>32,MIN(SUM($U82:W82),35)-32-SUM($U83:V83),0),0) -> 0 | X83: =IF(X77<>"Dim",IF(SUM($U82:X82)>32,MIN(SUM($U82:X82),35)-32-SUM($U83:W83),0),0) -> 0 | Y83: =IF(Y77<>"Dim",IF(SUM($U82:Y82)>32,MIN(SUM($U82:Y82),35)-32-SUM($U83:X83),0),0) -> 0 | Z83: =IF(Z77<>"Dim",IF(SUM($U82:Z82)>32,MIN(SUM($U82:Z82),35)-32-SUM($U83:Y83),0),0) -> 0 | AA83: =IF(AA77<>"Dim",IF(SUM($U82:AA82)>32,MIN(SUM($U82:AA82),35)-32-SUM($U83:Z83),0),0) -> 0 | AB83: =SUM(U83:AA83) -> 0 | AD83: =IF(AD77<>"Dim",IF(AD82>32,MIN(AD82,35)-32,0),0) -> 0 | AE83: =IF(AE77<>"Dim",IF(SUM($AD82:AE82)>32,MIN(SUM($AD82:AE82),35)-32-SUM($AD83:AD83),0),0) -> 0 | AF83: =IF(AF77<>"Dim",IF(SUM($AD82:AF82)>32,MIN(SUM($AD82:AF82),35)-32-SUM($AD83:AE83),0),0) -> 0 | AG83: =IF(AG77<>"Dim",IF(SUM($AD82:AG82)>32,MIN(SUM($AD82:AG82),35)-32-SUM($AD83:AF83),0),0) -> 0 | AH83: =IF(AH77<>"Dim",IF(SUM($AD82:AH82)>32,MIN(SUM($AD82:AH82),35)-32-SUM($AD83:AG83),0),0) -> 0 | AI83: =IF(AI77<>"Dim",IF(SUM($AD82:AI82)>32,MIN(SUM($AD82:AI82),35)-32-SUM($AD83:AH83),0),0) -> 0 | AJ83: =IF(AJ77<>"Dim",IF(SUM($AD82:AJ82)>32,MIN(SUM($AD82:AJ82),35)-32-SUM($AD83:AI83),0),0) -> 0 | AK83: =SUM(AD83:AJ83) -> 0 | AM83: =IF(AM77<>"Dim",IF(AM82>32,MIN(AM82,35)-32,0),0) -> 0 | AN83: =IF(AN77<>"Dim",IF(SUM($AM82:AN82)>32,MIN(SUM($AM82:AN82),35)-32-SUM($AM83:AM83),0),0) -> 0 | AO83: =IF(AO77<>"Dim",IF(SUM($AM82:AO82)>32,MIN(SUM($AM82:AO82),35)-32-SUM($AM83:AN83),0),0) -> 0 | AP83: =IF(AP77<>"Dim",IF(SUM($AM82:AP82)>32,MIN(SUM($AM82:AP82),35)-32-SUM($AM83:AO83),0),0) -> 0 | AQ83: =IF(AQ77<>"Dim",IF(SUM($AM82:AQ82)>32,MIN(SUM($AM82:AQ82),35)-32-SUM($AM83:AP83),0),0) -> 0 | AR83: =IF(AR77<>"Dim",IF(SUM($AM82:AR82)>32,MIN(SUM($AM82:AR82),35)-32-SUM($AM83:AQ83),0),0) -> 0 | AS83: =IF(AS77<>"Dim",IF(SUM($AM82:AS82)>32,MIN(SUM($AM82:AS82),35)-32-SUM($AM83:AR83),0),0) -> 0 | AT83: =SUM(AM83:AS83) -> 0 | AV83: =IF(AV77<>"Dim",IF(AV82>32,MIN(AV82,35)-32,0),0) -> 0 | AW83: =IF(AW77<>"Dim",IF(SUM($AV82:AW82)>32,MIN(SUM($AV82:AW82),35)-32-SUM($AV83:AV83),0),0) -> 0 | AX83: =SUM(AV83:AW83) -> 0 | AY83: =J83+S83+AB83+AK83+AT83+AX83 -> 0
A84: HS 25% | C84: =IF(C77<>"Dim",IF(C82>35,(MIN(C82,43)-35),0),0) -> 0 | D84: =IF(D77<>"Dim",IF(SUM($C82:D82)>35,(MIN(SUM($C82:D82),43)-35-SUM($C84:C84)),0),0) -> 0 | E84: =IF(E77<>"Dim",IF(SUM($C82:E82)>35,(MIN(SUM($C82:E82),43)-35-SUM($C84:D84)),0),0) -> 0 | F84: =IF(F77<>"Dim",IF(SUM($C82:F82)>35,(MIN(SUM($C82:F82),43)-35-SUM($C84:E84)),0),0) -> 0 | G84: =IF(G77<>"Dim",IF(SUM($C82:G82)>35,(MIN(SUM($C82:G82),43)-35-SUM($C84:F84)),0),0) -> 0 | H84: =IF(H77<>"Dim",IF(SUM($C82:H82)>35,(MIN(SUM($C82:H82),43)-35-SUM($C84:G84)),0),0) -> 0 | I84: =IF(I77<>"Dim",IF(SUM($C82:I82)>35,(MIN(SUM($C82:I82),43)-35-SUM($C84:H84)),0),0) -> 0 | J84: =SUM(C84:I84) -> 0 | L84: =IF(L77<>"Dim",IF(L82>35,(MIN(L82,43)-35),0),0) -> 0 | M84: =IF(M77<>"Dim",IF(SUM($L82:M82)>35,(MIN(SUM($L82:M82),43)-35-SUM($L84:L84)),0),0) -> 0 | N84: =IF(N77<>"Dim",IF(SUM($L82:N82)>35,(MIN(SUM($L82:N82),43)-35-SUM($L84:M84)),0),0) -> 0 | O84: =IF(O77<>"Dim",IF(SUM($L82:O82)>35,(MIN(SUM($L82:O82),43)-35-SUM($L84:N84)),0),0) -> 0 | P84: =IF(P77<>"Dim",IF(SUM($L82:P82)>35,(MIN(SUM($L82:P82),43)-35-SUM($L84:O84)),0),0) -> 0 | Q84: =IF(Q77<>"Dim",IF(SUM($L82:Q82)>35,(MIN(SUM($L82:Q82),43)-35-SUM($L84:P84)),0),0) -> 0 | R84: =IF(R77<>"Dim",IF(SUM($L82:R82)>35,(MIN(SUM($L82:R82),43)-35-SUM($L84:Q84)),0),0) -> 0 | S84: =SUM(L84:R84) -> 0 | U84: =IF(U77<>"Dim",IF(U82>35,(MIN(U82,43)-35),0),0) -> 0 | V84: =IF(V77<>"Dim",IF(SUM($U82:V82)>35,(MIN(SUM($U82:V82),43)-35-SUM($U84:U84)),0),0) -> 0 | W84: =IF(W77<>"Dim",IF(SUM($U82:W82)>35,(MIN(SUM($U82:W82),43)-35-SUM($U84:V84)),0),0) -> 0 | X84: =IF(X77<>"Dim",IF(SUM($U82:X82)>35,(MIN(SUM($U82:X82),43)-35-SUM($U84:W84)),0),0) -> 0 | Y84: =IF(Y77<>"Dim",IF(SUM($U82:Y82)>35,(MIN(SUM($U82:Y82),43)-35-SUM($U84:X84)),0),0) -> 0 | Z84: =IF(Z77<>"Dim",IF(SUM($U82:Z82)>35,(MIN(SUM($U82:Z82),43)-35-SUM($U84:Y84)),0),0) -> 0 | AA84: =IF(AA77<>"Dim",IF(SUM($U82:AA82)>35,(MIN(SUM($U82:AA82),43)-35-SUM($U84:Z84)),0),0) -> 0 | AB84: =SUM(U84:AA84) -> 0 | AD84: =IF(AD77<>"Dim",IF(AD82>35,(MIN(AD82,43)-35),0),0) -> 0 | AE84: =IF(AE77<>"Dim",IF(SUM($AD82:AE82)>35,(MIN(SUM($AD82:AE82),43)-35-SUM($AD84:AD84)),0),0) -> 0 | AF84: =IF(AF77<>"Dim",IF(SUM($AD82:AF82)>35,(MIN(SUM($AD82:AF82),43)-35-SUM($AD84:AE84)),0),0) -> 0 | AG84: =IF(AG77<>"Dim",IF(SUM($AD82:AG82)>35,(MIN(SUM($AD82:AG82),43)-35-SUM($AD84:AF84)),0),0) -> 0 | AH84: =IF(AH77<>"Dim",IF(SUM($AD82:AH82)>35,(MIN(SUM($AD82:AH82),43)-35-SUM($AD84:AG84)),0),0) -> 0 | AI84: =IF(AI77<>"Dim",IF(SUM($AD82:AI82)>35,(MIN(SUM($AD82:AI82),43)-35-SUM($AD84:AH84)),0),0) -> 0 | AJ84: =IF(AJ77<>"Dim",IF(SUM($AD82:AJ82)>35,(MIN(SUM($AD82:AJ82),43)-35-SUM($AD84:AI84)),0),0) -> 0 | AK84: =SUM(AD84:AJ84) -> 0 | AM84: =IF(AM77<>"Dim",IF(AM82>35,(MIN(AM82,43)-35),0),0) -> 0 | AN84: =IF(AN77<>"Dim",IF(SUM($AM82:AN82)>35,(MIN(SUM($AM82:AN82),43)-35-SUM($AM84:AM84)),0),0) -> 0 | AO84: =IF(AO77<>"Dim",IF(SUM($AM82:AO82)>35,(MIN(SUM($AM82:AO82),43)-35-SUM($AM84:AN84)),0),0) -> 0 | AP84: =IF(AP77<>"Dim",IF(SUM($AM82:AP82)>35,(MIN(SUM($AM82:AP82),43)-35-SUM($AM84:AO84)),0),0) -> 0 | AQ84: =IF(AQ77<>"Dim",IF(SUM($AM82:AQ82)>35,(MIN(SUM($AM82:AQ82),43)-35-SUM($AM84:AP84)),0),0) -> 0 | AR84: =IF(AR77<>"Dim",IF(SUM($AM82:AR82)>35,(MIN(SUM($AM82:AR82),43)-35-SUM($AM84:AQ84)),0),0) -> 0 | AS84: =IF(AS77<>"Dim",IF(SUM($AM82:AS82)>35,(MIN(SUM($AM82:AS82),43)-35-SUM($AM84:AR84)),0),0) -> 0 | AT84: =SUM(AM84:AS84) -> 0 | AV84: =IF(AV77<>"Dim",IF(AV82>35,(MIN(AV82,43)-35),0),0) -> 0 | AW84: =IF(AW77<>"Dim",IF(SUM($AV82:AW82)>35,(MIN(SUM($AV82:AW82),43)-35-SUM($AV84:AV84)),0),0) -> 0 | AX84: =SUM(AV84:AW84) -> 0 | AY84: =J84+S84+AB84+AK84+AT84+AX84 -> 0
A85: HS 50% | C85: =IF(C77<>"Dim",IF(C82>43,(MIN(C82,48)-43),0),0) -> 0 | D85: =IF(D77<>"Dim",IF(SUM($C82:D82)>43,(MIN(SUM($C82:D82),48)-43-SUM($C85:C85)),0),0) -> 0 | E85: =IF(E77<>"Dim",IF(SUM($C82:E82)>43,(MIN(SUM($C82:E82),48)-43-SUM($C85:D85)),0),0) -> 0 | F85: =IF(F77<>"Dim",IF(SUM($C82:F82)>43,(MIN(SUM($C82:F82),48)-43-SUM($C85:E85)),0),0) -> 0 | G85: =IF(G77<>"Dim",IF(SUM($C82:G82)>43,(MIN(SUM($C82:G82),48)-43-SUM($C85:F85)),0),0) -> 0 | H85: =IF(H77<>"Dim",IF(SUM($C82:H82)>43,(MIN(SUM($C82:H82),48)-43-SUM($C85:G85)),0),0) -> 0 | I85: =IF(I77<>"Dim",IF(SUM($C82:I82)>43,(MIN(SUM($C82:I82),48)-43-SUM($C85:H85)),0),0) -> 0 | J85: =SUM(C85:I85) -> 0 | L85: =IF(L77<>"Dim",IF(L82>43,(MIN(L82,48)-43),0),0) -> 0 | M85: =IF(M77<>"Dim",IF(SUM($L82:M82)>43,(MIN(SUM($L82:M82),48)-43-SUM($L85:L85)),0),0) -> 0 | N85: =IF(N77<>"Dim",IF(SUM($L82:N82)>43,(MIN(SUM($L82:N82),48)-43-SUM($L85:M85)),0),0) -> 0 | O85: =IF(O77<>"Dim",IF(SUM($L82:O82)>43,(MIN(SUM($L82:O82),48)-43-SUM($L85:N85)),0),0) -> 0 | P85: =IF(P77<>"Dim",IF(SUM($L82:P82)>43,(MIN(SUM($L82:P82),48)-43-SUM($L85:O85)),0),0) -> 0 | Q85: =IF(Q77<>"Dim",IF(SUM($L82:Q82)>43,(MIN(SUM($L82:Q82),48)-43-SUM($L85:P85)),0),0) -> 0 | R85: =IF(R77<>"Dim",IF(SUM($L82:R82)>43,(MIN(SUM($L82:R82),48)-43-SUM($L85:Q85)),0),0) -> 0 | S85: =SUM(L85:R85) -> 0 | U85: =IF(U77<>"Dim",IF(U82>43,(MIN(U82,48)-43),0),0) -> 0 | V85: =IF(V77<>"Dim",IF(SUM($U82:V82)>43,(MIN(SUM($U82:V82),48)-43-SUM($U85:U85)),0),0) -> 0 | W85: =IF(W77<>"Dim",IF(SUM($U82:W82)>43,(MIN(SUM($U82:W82),48)-43-SUM($U85:V85)),0),0) -> 0 | X85: =IF(X77<>"Dim",IF(SUM($U82:X82)>43,(MIN(SUM($U82:X82),48)-43-SUM($U85:W85)),0),0) -> 0 | Y85: =IF(Y77<>"Dim",IF(SUM($U82:Y82)>43,(MIN(SUM($U82:Y82),48)-43-SUM($U85:X85)),0),0) -> 0 | Z85: =IF(Z77<>"Dim",IF(SUM($U82:Z82)>43,(MIN(SUM($U82:Z82),48)-43-SUM($U85:Y85)),0),0) -> 0 | AA85: =IF(AA77<>"Dim",IF(SUM($U82:AA82)>43,(MIN(SUM($U82:AA82),48)-43-SUM($U85:Z85)),0),0) -> 0 | AB85: =SUM(U85:AA85) -> 0 | AD85: =IF(AD77<>"Dim",IF(AD82>43,(MIN(AD82,48)-43),0),0) -> 0 | AE85: =IF(AE77<>"Dim",IF(SUM($AD82:AE82)>43,(MIN(SUM($AD82:AE82),48)-43-SUM($AD85:AD85)),0),0) -> 0 | AF85: =IF(AF77<>"Dim",IF(SUM($AD82:AF82)>43,(MIN(SUM($AD82:AF82),48)-43-SUM($AD85:AE85)),0),0) -> 0 | AG85: =IF(AG77<>"Dim",IF(SUM($AD82:AG82)>43,(MIN(SUM($AD82:AG82),48)-43-SUM($AD85:AF85)),0),0) -> 0 | AH85: =IF(AH77<>"Dim",IF(SUM($AD82:AH82)>43,(MIN(SUM($AD82:AH82),48)-43-SUM($AD85:AG85)),0),0) -> 0 | AI85: =IF(AI77<>"Dim",IF(SUM($AD82:AI82)>43,(MIN(SUM($AD82:AI82),48)-43-SUM($AD85:AH85)),0),0) -> 0 | AJ85: =IF(AJ77<>"Dim",IF(SUM($AD82:AJ82)>43,(MIN(SUM($AD82:AJ82),48)-43-SUM($AD85:AI85)),0),0) -> 0 | AK85: =SUM(AD85:AJ85) -> 0 | AM85: =IF(AM77<>"Dim",IF(AM82>43,(MIN(AM82,48)-43),0),0) -> 0 | AN85: =IF(AN77<>"Dim",IF(SUM($AM82:AN82)>43,(MIN(SUM($AM82:AN82),48)-43-SUM($AM85:AM85)),0),0) -> 0 | AO85: =IF(AO77<>"Dim",IF(SUM($AM82:AO82)>43,(MIN(SUM($AM82:AO82),48)-43-SUM($AM85:AN85)),0),0) -> 0 | AP85: =IF(AP77<>"Dim",IF(SUM($AM82:AP82)>43,(MIN(SUM($AM82:AP82),48)-43-SUM($AM85:AO85)),0),0) -> 0 | AQ85: =IF(AQ77<>"Dim",IF(SUM($AM82:AQ82)>43,(MIN(SUM($AM82:AQ82),48)-43-SUM($AM85:AP85)),0),0) -> 0 | AR85: =IF(AR77<>"Dim",IF(SUM($AM82:AR82)>43,(MIN(SUM($AM82:AR82),48)-43-SUM($AM85:AQ85)),0),0) -> 0 | AS85: =IF(AS77<>"Dim",IF(SUM($AM82:AS82)>43,(MIN(SUM($AM82:AS82),48)-43-SUM($AM85:AR85)),0),0) -> 0 | AT85: =SUM(AM85:AS85) -> 0 | AV85: =IF(AV77<>"Dim",IF(AV82>43,(MIN(AV82,48)-43),0),0) -> 0 | AW85: =IF(AW77<>"Dim",IF(SUM($AV82:AW82)>43,(MIN(SUM($AV82:AW82),48)-43-SUM($AV85:AV85)),0),0) -> 0 | AX85: =SUM(AV85:AW85) -> 0 | AY85: =J85+S85+AB85+AK85+AT85+AX85 -> 0
A86: HS 200% | C86: =IF(C77="Dim",C82,IF(C92="ferie",C82,0)) -> 0 | D86: =IF(D77="Dim",D82,IF(D92="ferie",D82,0)) -> 0 | E86: =IF(E77="Dim",E82,IF(E92="ferie",E82,0)) -> 0 | F86: =IF(F77="Dim",F82,IF(F92="ferie",F82,0)) -> 0 | G86: =IF(G77="Dim",G82,IF(G92="ferie",G82,0)) -> 0 | H86: =IF(H77="Dim",H82,IF(H92="ferie",H82,0)) -> 0 | I86: =IF(I77="Dim",I82,IF(I92="ferie",I82,0)) -> 0 | J86: =SUM(C86:I86) -> 0 | L86: =IF(L77="Dim",L82,IF(L92="ferie",L82,0)) -> 0 | M86: =IF(M77="Dim",M82,IF(M92="ferie",M82,0)) -> 0 | N86: =IF(N77="Dim",N82,IF(N92="ferie",N82,0)) -> 0 | O86: =IF(O77="Dim",O82,IF(O92="ferie",O82,0)) -> 0 | P86: =IF(P77="Dim",P82,IF(P92="ferie",P82,0)) -> 0 | Q86: =IF(Q77="Dim",Q82,IF(Q92="ferie",Q82,0)) -> 0 | R86: =IF(R77="Dim",R82,IF(R92="ferie",R82,0)) -> 0 | S86: =SUM(L86:R86) -> 0 | U86: =IF(U77="Dim",U82,IF(U92="ferie",U82,0)) -> 0 | V86: =IF(V77="Dim",V82,IF(V92="ferie",V82,0)) -> 0 | W86: =IF(W77="Dim",W82,IF(W92="ferie",W82,0)) -> 0 | X86: =IF(X77="Dim",X82,IF(X92="ferie",X82,0)) -> 0 | Y86: =IF(Y77="Dim",Y82,IF(Y92="ferie",Y82,0)) -> 0 | Z86: =IF(Z77="Dim",Z82,IF(Z92="ferie",Z82,0)) -> 0 | AA86: =IF(AA77="Dim",AA82,IF(AA92="ferie",AA82,0)) -> 0 | AB86: =SUM(U86:AA86) -> 0 | AD86: =IF(AD77="Dim",AD82,IF(AD92="ferie",AD82,0)) -> 0 | AE86: =IF(AE77="Dim",AE82,IF(AE92="ferie",AE82,0)) -> 0 | AF86: =IF(AF77="Dim",AF82,IF(AF92="ferie",AF82,0)) -> 0 | AG86: =IF(AG77="Dim",AG82,IF(AG92="ferie",AG82,0)) -> 0 | AH86: =IF(AH77="Dim",AH82,IF(AH92="ferie",AH82,0)) -> 0 | AI86: =IF(AI77="Dim",AI82,IF(AI92="ferie",AI82,0)) -> 0 | AJ86: =IF(AJ77="Dim",AJ82,IF(AJ92="ferie",AJ82,0)) -> 0 | AK86: =SUM(AD86:AJ86) -> 0 | AM86: =IF(AM77="Dim",AM82,IF(AM92="ferie",AM82,0)) -> 0 | AN86: =IF(AN77="Dim",AN82,IF(AN92="ferie",AN82,0)) -> 0 | AO86: =IF(AO77="Dim",AO82,IF(AO92="ferie",AO82,0)) -> 0 | AP86: =IF(AP77="Dim",AP82,IF(AP92="ferie",AP82,0)) -> 0 | AQ86: =IF(AQ77="Dim",AQ82,IF(AQ92="ferie",AQ82,0)) -> 0 | AR86: =IF(AR77="Dim",AR82,IF(AR92="ferie",AR82,0)) -> 0 | AS86: =IF(AS77="Dim",AS82,IF(AS92="ferie",AS82,0)) -> 0 | AT86: =SUM(AM86:AS86) -> 0 | AV86: =IF(AV77="Dim",AV82,IF(AV92="ferie",AV82,0)) -> 0 | AW86: =IF(AW77="Dim",AW82,IF(AW92="ferie",AW82,0)) -> 0 | AX86: =SUM(AV86:AW86) -> 0 | AY86: =J86+S86+AB86+AK86+AT86+AX86 -> 0
A87: HR + | J87: =SUM(C87:I87) -> 0 | S87: =SUM(L87:R87) -> 0 | AB87: =SUM(U87:AA87) -> 0 | AK87: =SUM(AD87:AJ87) -> 0 | AT87: =SUM(AM87:AS87) -> 0 | AX87: =SUM(AV87:AW87) -> 0 | AY87: =J87+S87+AB87+AK87+AT87+AX87 -> 0
A88: HR - | J88: =SUM(C88:I88) -> 0 | S88: =SUM(L88:R88) -> 0 | AB88: =SUM(U88:AA88) -> 0 | AK88: =SUM(AD88:AJ88) -> 0 | AT88: =SUM(AM88:AS88) -> 0 | AX88: =SUM(AV88:AW88) -> 0 | AY88: =J88+S88+AB88+AK88+AT88+AX88 -> 0
A89: CP - | J89: =SUM(C89:I89) -> 0 | S89: =SUM(L89:R89) -> 0 | AB89: =SUM(U89:AA89) -> 0 | AK89: =SUM(AD89:AJ89) -> 0 | AT89: =SUM(AM89:AS89) -> 0 | AX89: =SUM(AV89:AW89) -> 0 | AY89: =J89+S89+AB89+AK89+AT89+AX89 -> 0
A90: RC - | J90: =SUM(C90:I90) -> 0 | S90: =SUM(L90:R90) -> 0 | AB90: =SUM(U90:AA90) -> 0 | AK90: =SUM(AD90:AJ90) -> 0 | AT90: =SUM(AM90:AS90) -> 0 | AX90: =SUM(AV90:AW90) -> 0 | AY90: =J90+S90+AB90+AK90+AT90+AX90 -> 0
A91: RC nuit | C91: =IF(C79="nuit",C82*0.02,0) -> 0 | D91: =IF(D79="nuit",D82*0.02,0) -> 0 | E91: =IF(E79="nuit",E82*0.02,0) -> 0 | F91: =IF(F79="nuit",F82*0.02,0) -> 0 | G91: =IF(G79="nuit",G82*0.02,0) -> 0 | H91: =IF(H79="nuit",H82*0.02,0) -> 0 | I91: =IF(I79="nuit",I82*0.02,0) -> 0 | J91: =SUM(C91:I91) -> 0 | L91: =IF(L79="nuit",L82*0.02,0) -> 0 | M91: =IF(M79="nuit",M82*0.02,0) -> 0 | N91: =IF(N79="nuit",N82*0.02,0) -> 0 | O91: =IF(O79="nuit",O82*0.02,0) -> 0 | P91: =IF(P79="nuit",P82*0.02,0) -> 0 | Q91: =IF(Q79="nuit",Q82*0.02,0) -> 0 | R91: =IF(R79="nuit",R82*0.02,0) -> 0 | S91: =SUM(L91:R91) -> 0 | U91: =IF(U79="nuit",U82*0.02,0) -> 0 | V91: =IF(V79="nuit",V82*0.02,0) -> 0 | W91: =IF(W79="nuit",W82*0.02,0) -> 0 | X91: =IF(X79="nuit",X82*0.02,0) -> 0 | Y91: =IF(Y79="nuit",Y82*0.02,0) -> 0 | Z91: =IF(Z79="nuit",Z82*0.02,0) -> 0 | AA91: =IF(AA79="nuit",AA82*0.02,0) -> 0 | AB91: =SUM(U91:AA91) -> 0 | AD91: =IF(AD79="nuit",AD82*0.02,0) -> 0 | AE91: =IF(AE79="nuit",AE82*0.02,0) -> 0 | AF91: =IF(AF79="nuit",AF82*0.02,0) -> 0 | AG91: =IF(AG79="nuit",AG82*0.02,0) -> 0 | AH91: =IF(AH79="nuit",AH82*0.02,0) -> 0 | AI91: =IF(AI79="nuit",AI82*0.02,0) -> 0 | AJ91: =IF(AJ79="nuit",AJ82*0.02,0) -> 0 | AK91: =SUM(AD91:AJ91) -> 0 | AM91: =IF(AM79="nuit",AM82*0.02,0) -> 0 | AN91: =IF(AN79="nuit",AN82*0.02,0) -> 0 | AO91: =IF(AO79="nuit",AO82*0.02,0) -> 0 | AP91: =IF(AP79="nuit",AP82*0.02,0) -> 0 | AQ91: =IF(AQ79="nuit",AQ82*0.02,0) -> 0 | AR91: =IF(AR79="nuit",AR82*0.02,0) -> 0 | AS91: =IF(AS79="nuit",AS82*0.02,0) -> 0 | AT91: =SUM(AM91:AS91) -> 0 | AV91: =IF(AV79="nuit",AV82*0.02,0) -> 0 | AW91: =IF(AW79="nuit",AW82*0.02,0) -> 0 | AX91: =SUM(AV91:AW91) -> 0 | AY91: =J91+S91+AB91+AK91+AT91+AX91 -> 0
A92: Note
C94: Juin | H94: =Année_Calendaire -> 2016 | U94: Juin | Z94: =Année_Calendaire -> 2016 | AM94: Juin | AR94: =Année_Calendaire -> 2016
C95: Lun | D95: Mar | E95: Mer | F95: Jeu | G95: Ven | H95: Sam | I95: Dim | J95: Cumul | L95: Lun | M95: Mar | N95: Mer | O95: Jeu | P95: Ven | Q95: Sam | R95: Dim | S95: Cumul | U95: Lun | V95: Mar | W95: Mer | X95: Jeu | Y95: Ven | Z95: Sam | AA95: Dim | AB95: Cumul | AD95: Lun | AE95: Mar | AF95: Mer | AG95: Jeu | AH95: Ven | AI95: Sam | AJ95: Dim | AK95: Cumul | AM95: Lun | AN95: Mar | AO95: Mer | AP95: Jeu | AQ95: Ven | AR95: Sam | AS95: Dim | AT95: Cumul | AU95: c3 | AV95: Lun | AW95: Mar | AX95: Cumul | AY95: Cumul total | AZ95: =AY102+AY103+AY104 -> 0 | BA95: =AZ95+BA77 -> 10
C96: =IF(DAY(Juin_Dim1)=1,"",IF(AND(YEAR(Juin_Dim1+1)=Année_Calendaire,MONTH(Juin_Dim1+1)=6),Juin_Dim1+1,"")) | D96: =IF(DAY(Juin_Dim1)=1,"",IF(AND(YEAR(Juin_Dim1+2)=Année_Calendaire,MONTH(Juin_Dim1+2)=6),Juin_Dim1+2,"")) | E96: =IF(DAY(Juin_Dim1)=1,"",IF(AND(YEAR(Juin_Dim1+3)=Année_Calendaire,MONTH(Juin_Dim1+3)=6),Juin_Dim1+3,"")) -> 42522 | F96: =IF(DAY(Juin_Dim1)=1,"",IF(AND(YEAR(Juin_Dim1+4)=Année_Calendaire,MONTH(Juin_Dim1+4)=6),Juin_Dim1+4,"")) -> 42523 | G96: =IF(DAY(Juin_Dim1)=1,"",IF(AND(YEAR(Juin_Dim1+5)=Année_Calendaire,MONTH(Juin_Dim1+5)=6),Juin_Dim1+5,"")) -> 42524 | H96: =IF(DAY(Juin_Dim1)=1,"",IF(AND(YEAR(Juin_Dim1+6)=Année_Calendaire,MONTH(Juin_Dim1+6)=6),Juin_Dim1+6,"")) -> 42525 | I96: =IF(DAY(Juin_Dim1)=1,IF(AND(YEAR(Juin_Dim1)=Année_Calendaire,MONTH(Juin_Dim1)=6),Juin_Dim1,""),IF(AND(YEAR(Juin_Dim1+7)=Année_Calendaire,MONTH(Juin_Dim1+7)=6),Juin_Dim1+7,"")) -> 42526 | L96: =IF(DAY(Juin_Dim1)=1,IF(AND(YEAR(Juin_Dim1+1)=Année_Calendaire,MONTH(Juin_Dim1+1)=6),Juin_Dim1+1,""),IF(AND(YEAR(Juin_Dim1+8)=Année_Calendaire,MONTH(Juin_Dim1+8)=6),Juin_Dim1+8,"")) -> 42527 | M96: =IF(DAY(Juin_Dim1)=1,IF(AND(YEAR(Juin_Dim1+2)=Année_Calendaire,MONTH(Juin_Dim1+2)=6),Juin_Dim1+2,""),IF(AND(YEAR(Juin_Dim1+9)=Année_Calendaire,MONTH(Juin_Dim1+9)=6),Juin_Dim1+9,"")) -> 42528 | N96: =IF(DAY(Juin_Dim1)=1,IF(AND(YEAR(Juin_Dim1+3)=Année_Calendaire,MONTH(Juin_Dim1+3)=6),Juin_Dim1+3,""),IF(AND(YEAR(Juin_Dim1+10)=Année_Calendaire,MONTH(Juin_Dim1+10)=6),Juin_Dim1+10,"")) -> 42529 | O96: =IF(DAY(Juin_Dim1)=1,IF(AND(YEAR(Juin_Dim1+4)=Année_Calendaire,MONTH(Juin_Dim1+4)=6),Juin_Dim1+4,""),IF(AND(YEAR(Juin_Dim1+11)=Année_Calendaire,MONTH(Juin_Dim1+11)=6),Juin_Dim1+11,"")) -> 42530 | P96: =IF(DAY(Juin_Dim1)=1,IF(AND(YEAR(Juin_Dim1+5)=Année_Calendaire,MONTH(Juin_Dim1+5)=6),Juin_Dim1+5,""),IF(AND(YEAR(Juin_Dim1+12)=Année_Calendaire,MONTH(Juin_Dim1+12)=6),Juin_Dim1+12,"")) -> 42531 | Q96: =IF(DAY(Juin_Dim1)=1,IF(AND(YEAR(Juin_Dim1+6)=Année_Calendaire,MONTH(Juin_Dim1+6)=6),Juin_Dim1+6,""),IF(AND(YEAR(Juin_Dim1+13)=Année_Calendaire,MONTH(Juin_Dim1+13)=6),Juin_Dim1+13,"")) -> 42532 | R96: =IF(DAY(Juin_Dim1)=1,IF(AND(YEAR(Juin_Dim1+7)=Année_Calendaire,MONTH(Juin_Dim1+7)=6),Juin_Dim1+7,""),IF(AND(YEAR(Juin_Dim1+14)=Année_Calendaire,MONTH(Juin_Dim1+14)=6),Juin_Dim1+14,"")) -> 42533 | U96: =IF(DAY(Juin_Dim1)=1,IF(AND(YEAR(Juin_Dim1+8)=Année_Calendaire,MONTH(Juin_Dim1+8)=6),Juin_Dim1+8,""),IF(AND(YEAR(Juin_Dim1+15)=Année_Calendaire,MONTH(Juin_Dim1+15)=6),Juin_Dim1+15,"")) -> 42534 | V96: =IF(DAY(Juin_Dim1)=1,IF(AND(YEAR(Juin_Dim1+9)=Année_Calendaire,MONTH(Juin_Dim1+9)=6),Juin_Dim1+9,""),IF(AND(YEAR(Juin_Dim1+16)=Année_Calendaire,MONTH(Juin_Dim1+16)=6),Juin_Dim1+16,"")) -> 42535 | W96: =IF(DAY(Juin_Dim1)=1,IF(AND(YEAR(Juin_Dim1+10)=Année_Calendaire,MONTH(Juin_Dim1+10)=6),Juin_Dim1+10,""),IF(AND(YEAR(Juin_Dim1+17)=Année_Calendaire,MONTH(Juin_Dim1+17)=6),Juin_Dim1+17,"")) -> 42536 | X96: =IF(DAY(Juin_Dim1)=1,IF(AND(YEAR(Juin_Dim1+11)=Année_Calendaire,MONTH(Juin_Dim1+11)=6),Juin_Dim1+11,""),IF(AND(YEAR(Juin_Dim1+18)=Année_Calendaire,MONTH(Juin_Dim1+18)=6),Juin_Dim1+18,"")) -> 42537 | Y96: =IF(DAY(Juin_Dim1)=1,IF(AND(YEAR(Juin_Dim1+12)=Année_Calendaire,MONTH(Juin_Dim1+12)=6),Juin_Dim1+12,""),IF(AND(YEAR(Juin_Dim1+19)=Année_Calendaire,MONTH(Juin_Dim1+19)=6),Juin_Dim1+19,"")) -> 42538 | Z96: =IF(DAY(Juin_Dim1)=1,IF(AND(YEAR(Juin_Dim1+13)=Année_Calendaire,MONTH(Juin_Dim1+13)=6),Juin_Dim1+13,""),IF(AND(YEAR(Juin_Dim1+20)=Année_Calendaire,MONTH(Juin_Dim1+20)=6),Juin_Dim1+20,"")) -> 42539 | AA96: =IF(DAY(Juin_Dim1)=1,IF(AND(YEAR(Juin_Dim1+14)=Année_Calendaire,MONTH(Juin_Dim1+14)=6),Juin_Dim1+14,""),IF(AND(YEAR(Juin_Dim1+21)=Année_Calendaire,MONTH(Juin_Dim1+21)=6),Juin_Dim1+21,"")) -> 42540 | AD96: =IF(DAY(Juin_Dim1)=1,IF(AND(YEAR(Juin_Dim1+15)=Année_Calendaire,MONTH(Juin_Dim1+15)=6),Juin_Dim1+15,""),IF(AND(YEAR(Juin_Dim1+22)=Année_Calendaire,MONTH(Juin_Dim1+22)=6),Juin_Dim1+22,"")) -> 42541 | AE96: =IF(DAY(Juin_Dim1)=1,IF(AND(YEAR(Juin_Dim1+16)=Année_Calendaire,MONTH(Juin_Dim1+16)=6),Juin_Dim1+16,""),IF(AND(YEAR(Juin_Dim1+23)=Année_Calendaire,MONTH(Juin_Dim1+23)=6),Juin_Dim1+23,"")) -> 42542 | AF96: =IF(DAY(Juin_Dim1)=1,IF(AND(YEAR(Juin_Dim1+17)=Année_Calendaire,MONTH(Juin_Dim1+17)=6),Juin_Dim1+17,""),IF(AND(YEAR(Juin_Dim1+24)=Année_Calendaire,MONTH(Juin_Dim1+24)=6),Juin_Dim1+24,"")) -> 42543 | AG96: =IF(DAY(Juin_Dim1)=1,IF(AND(YEAR(Juin_Dim1+18)=Année_Calendaire,MONTH(Juin_Dim1+18)=6),Juin_Dim1+18,""),IF(AND(YEAR(Juin_Dim1+25)=Année_Calendaire,MONTH(Juin_Dim1+25)=6),Juin_Dim1+25,"")) -> 42544 | AH96: =IF(DAY(Juin_Dim1)=1,IF(AND(YEAR(Juin_Dim1+19)=Année_Calendaire,MONTH(Juin_Dim1+19)=6),Juin_Dim1+19,""),IF(AND(YEAR(Juin_Dim1+26)=Année_Calendaire,MONTH(Juin_Dim1+26)=6),Juin_Dim1+26,"")) -> 42545 | AI96: =IF(DAY(Juin_Dim1)=1,IF(AND(YEAR(Juin_Dim1+20)=Année_Calendaire,MONTH(Juin_Dim1+20)=6),Juin_Dim1+20,""),IF(AND(YEAR(Juin_Dim1+27)=Année_Calendaire,MONTH(Juin_Dim1+27)=6),Juin_Dim1+27,"")) -> 42546 | AJ96: =IF(DAY(Juin_Dim1)=1,IF(AND(YEAR(Juin_Dim1+21)=Année_Calendaire,MONTH(Juin_Dim1+21)=6),Juin_Dim1+21,""),IF(AND(YEAR(Juin_Dim1+28)=Année_Calendaire,MONTH(Juin_Dim1+28)=6),Juin_Dim1+28,"")) -> 42547 | AM96: =IF(DAY(Juin_Dim1)=1,IF(AND(YEAR(Juin_Dim1+22)=Année_Calendaire,MONTH(Juin_Dim1+22)=6),Juin_Dim1+22,""),IF(AND(YEAR(Juin_Dim1+29)=Année_Calendaire,MONTH(Juin_Dim1+29)=6),Juin_Dim1+29,"")) -> 42548 | AN96: =IF(DAY(Juin_Dim1)=1,IF(AND(YEAR(Juin_Dim1+23)=Année_Calendaire,MONTH(Juin_Dim1+23)=6),Juin_Dim1+23,""),IF(AND(YEAR(Juin_Dim1+30)=Année_Calendaire,MONTH(Juin_Dim1+30)=6),Juin_Dim1+30,"")) -> 42549 | AO96: =IF(DAY(Juin_Dim1)=1,IF(AND(YEAR(Juin_Dim1+24)=Année_Calendaire,MONTH(Juin_Dim1+24)=6),Juin_Dim1+24,""),IF(AND(YEAR(Juin_Dim1+31)=Année_Calendaire,MONTH(Juin_Dim1+31)=6),Juin_Dim1+31,"")) -> 42550 | AP96: =IF(DAY(Juin_Dim1)=1,IF(AND(YEAR(Juin_Dim1+25)=Année_Calendaire,MONTH(Juin_Dim1+25)=6),Juin_Dim1+25,""),IF(AND(YEAR(Juin_Dim1+32)=Année_Calendaire,MONTH(Juin_Dim1+32)=6),Juin_Dim1+32,"")) -> 42551 | AQ96: =IF(DAY(Juin_Dim1)=1,IF(AND(YEAR(Juin_Dim1+26)=Année_Calendaire,MONTH(Juin_Dim1+26)=6),Juin_Dim1+26,""),IF(AND(YEAR(Juin_Dim1+33)=Année_Calendaire,MONTH(Juin_Dim1+33)=6),Juin_Dim1+33,"")) | AR96: =IF(DAY(Juin_Dim1)=1,IF(AND(YEAR(Juin_Dim1+27)=Année_Calendaire,MONTH(Juin_Dim1+27)=6),Juin_Dim1+27,""),IF(AND(YEAR(Juin_Dim1+34)=Année_Calendaire,MONTH(Juin_Dim1+34)=6),Juin_Dim1+34,"")) | AS96: =IF(DAY(Juin_Dim1)=1,IF(AND(YEAR(Juin_Dim1+28)=Année_Calendaire,MONTH(Juin_Dim1+28)=6),Juin_Dim1+28,""),IF(AND(YEAR(Juin_Dim1+35)=Année_Calendaire,MONTH(Juin_Dim1+35)=6),Juin_Dim1+35,"")) | AV96: =IF(DAY(Juin_Dim1)=1,IF(AND(YEAR(Juin_Dim1+29)=Année_Calendaire,MONTH(Juin_Dim1+29)=6),Juin_Dim1+29,""),IF(AND(YEAR(Juin_Dim1+36)=Année_Calendaire,MONTH(Juin_Dim1+36)=6),Juin_Dim1+36,"")) | AW96: =IF(DAY(Juin_Dim1)=1,IF(AND(YEAR(Juin_Dim1+30)=Année_Calendaire,MONTH(Juin_Dim1+30)=6),Juin_Dim1+30,""),IF(AND(YEAR(Juin_Dim1+37)=Année_Calendaire,MONTH(Juin_Dim1+37)=6),Juin_Dim1+37,""))
A97: Equipe | C97: =IFERROR(VLOOKUP(B95,DATA!$A:$H,2,TRUE),0) -> 0 | D97: =IFERROR(VLOOKUP(B95,DATA!$A:$H,3,TRUE),0) -> 0 | E97: =IFERROR(VLOOKUP(B95,DATA!$A:$H,4,TRUE),0) -> 0 | F97: =IFERROR(VLOOKUP(B95,DATA!$A:$H,5,TRUE),0) -> 0 | G97: =IFERROR(VLOOKUP(B95,DATA!$A:$H,6,TRUE),0) -> 0 | H97: =IFERROR(VLOOKUP(B95,DATA!$A:$H,7,TRUE),0) -> 0 | I97: =IFERROR(VLOOKUP(B95,DATA!$A:$H,8,TRUE),0) -> 0 | L97: =IFERROR(VLOOKUP(K95,DATA!$A:$H,2,TRUE),0) -> 0 | M97: =IFERROR(VLOOKUP(K95,DATA!$A:$H,3,TRUE),0) -> 0 | N97: =IFERROR(VLOOKUP(K95,DATA!$A:$H,4,TRUE),0) -> 0 | O97: =IFERROR(VLOOKUP(K95,DATA!$A:$H,5,TRUE),0) -> 0 | P97: =IFERROR(VLOOKUP(K95,DATA!$A:$H,6,TRUE),0) -> 0 | Q97: =IFERROR(VLOOKUP(K95,DATA!$A:$H,7,TRUE),0) -> 0 | R97: =IFERROR(VLOOKUP(K95,DATA!$A:$H,8,TRUE),0) -> 0 | U97: =IFERROR(VLOOKUP(T95,DATA!$A:$H,2,TRUE),0) -> 0 | V97: =IFERROR(VLOOKUP(T95,DATA!$A:$H,3,TRUE),0) -> 0 | W97: =IFERROR(VLOOKUP(T95,DATA!$A:$H,4,TRUE),0) -> 0 | X97: =IFERROR(VLOOKUP(T95,DATA!$A:$H,5,TRUE),0) -> 0 | Y97: =IFERROR(VLOOKUP(T95,DATA!$A:$H,6,TRUE),0) -> 0 | Z97: =IFERROR(VLOOKUP(T95,DATA!$A:$H,7,TRUE),0) -> 0 | AA97: =IFERROR(VLOOKUP(T95,DATA!$A:$H,8,TRUE),0) -> 0 | AD97: =IFERROR(VLOOKUP(AC95,DATA!$A:$H,2,TRUE),0) -> 0 | AE97: =IFERROR(VLOOKUP(AC95,DATA!$A:$H,3,TRUE),0) -> 0 | AF97: =IFERROR(VLOOKUP(AC95,DATA!$A:$H,4,TRUE),0) -> 0 | AG97: =IFERROR(VLOOKUP(AC95,DATA!$A:$H,5,TRUE),0) -> 0 | AH97: =IFERROR(VLOOKUP(AC95,DATA!$A:$H,6,TRUE),0) -> 0 | AI97: =IFERROR(VLOOKUP(AC95,DATA!$A:$H,7,TRUE),0) -> 0 | AJ97: =IFERROR(VLOOKUP(AC95,DATA!$A:$H,8,TRUE),0) -> 0 | AM97: =IFERROR(VLOOKUP(AL95,DATA!$A:$H,2,TRUE),0) -> 0 | AN97: =IFERROR(VLOOKUP(AL95,DATA!$A:$H,3,TRUE),0) -> 0 | AO97: =IFERROR(VLOOKUP(AL95,DATA!$A:$H,4,TRUE),0) -> 0 | AP97: =IFERROR(VLOOKUP(AL95,DATA!$A:$H,5,TRUE),0) -> 0 | AQ97: =IFERROR(VLOOKUP(AL95,DATA!$A:$H,6,TRUE),0) -> 0 | AR97: =IFERROR(VLOOKUP(AL95,DATA!$A:$H,7,TRUE),0) -> 0 | AS97: =IFERROR(VLOOKUP(AL95,DATA!$A:$H,8,TRUE),0) -> 0 | AV97: =IFERROR(VLOOKUP(AU95,DATA!$A:$H,2,TRUE),0) -> matin | AW97: =IFERROR(VLOOKUP(AU95,DATA!$A:$H,3,TRUE),0) -> 0
A98: Ticket resto | C98: =IF(C97="Matin",1,IF(C97="AM",1,0)) -> 0 | D98: =IF(D97="Matin",1,IF(D97="AM",1,0)) -> 0 | E98: =IF(E97="Matin",1,IF(E97="AM",1,0)) -> 0 | F98: =IF(F97="Matin",1,IF(F97="AM",1,0)) -> 0 | G98: =IF(G97="Matin",1,IF(G97="AM",1,0)) -> 0 | H98: =IF(H97="Matin",1,IF(H97="AM",1,0)) -> 0 | I98: =IF(I97="Matin",1,IF(I97="AM",1,0)) -> 0 | J98: =SUM(C98:I98) -> 0 | L98: =IF(L97="Matin",1,IF(L97="AM",1,0)) -> 0 | M98: =IF(M97="Matin",1,IF(M97="AM",1,0)) -> 0 | N98: =IF(N97="Matin",1,IF(N97="AM",1,0)) -> 0 | O98: =IF(O97="Matin",1,IF(O97="AM",1,0)) -> 0 | P98: =IF(P97="Matin",1,IF(P97="AM",1,0)) -> 0 | Q98: =IF(Q97="Matin",1,IF(Q97="AM",1,0)) -> 0 | R98: =IF(R97="Matin",1,IF(R97="AM",1,0)) -> 0 | S98: =SUM(L98:R98) -> 0 | U98: =IF(U97="Matin",1,IF(U97="AM",1,0)) -> 0 | V98: =IF(V97="Matin",1,IF(V97="AM",1,0)) -> 0 | W98: =IF(W97="Matin",1,IF(W97="AM",1,0)) -> 0 | X98: =IF(X97="Matin",1,IF(X97="AM",1,0)) -> 0 | Y98: =IF(Y97="Matin",1,IF(Y97="AM",1,0)) -> 0 | Z98: =IF(Z97="Matin",1,IF(Z97="AM",1,0)) -> 0 | AA98: =IF(AA97="Matin",1,IF(AA97="AM",1,0)) -> 0 | AB98: =SUM(U98:AA98) -> 0 | AD98: =IF(AD97="Matin",1,IF(AD97="AM",1,0)) -> 0 | AE98: =IF(AE97="Matin",1,IF(AE97="AM",1,0)) -> 0 | AF98: =IF(AF97="Matin",1,IF(AF97="AM",1,0)) -> 0 | AG98: =IF(AG97="Matin",1,IF(AG97="AM",1,0)) -> 0 | AH98: =IF(AH97="Matin",1,IF(AH97="AM",1,0)) -> 0 | AI98: =IF(AI97="Matin",1,IF(AI97="AM",1,0)) -> 0 | AJ98: =IF(AJ97="Matin",1,IF(AJ97="AM",1,0)) -> 0 | AK98: =SUM(AD98:AJ98) -> 0 | AM98: =IF(AM97="Matin",1,IF(AM97="AM",1,0)) -> 0 | AN98: =IF(AN97="Matin",1,IF(AN97="AM",1,0)) -> 0 | AO98: =IF(AO97="Matin",1,IF(AO97="AM",1,0)) -> 0 | AP98: =IF(AP97="Matin",1,IF(AP97="AM",1,0)) -> 0 | AQ98: =IF(AQ97="Matin",1,IF(AQ97="AM",1,0)) -> 0 | AR98: =IF(AR97="Matin",1,IF(AR97="AM",1,0)) -> 0 | AS98: =IF(AS97="Matin",1,IF(AS97="AM",1,0)) -> 0 | AT98: =SUM(AM98:AS98) -> 0 | AV98: =IF(AV97="Matin",1,IF(AV97="AM",1,0)) -> 1 | AW98: =IF(AW97="Matin",1,IF(AW97="AM",1,0)) -> 0 | AX98: =SUM(AV98:AW98) -> 1 | AY98: =J98+S98+AB98+AK98+AT98+AX98 -> 1
A99: Travailler | C99: =IF(C100>=1,1,0) -> 0 | D99: =IF(D100>=1,1,0) -> 0 | E99: =IF(E100>=1,1,0) -> 0 | F99: =IF(F100>=1,1,0) -> 0 | G99: =IF(G100>=1,1,0) -> 0 | H99: =IF(H100>=1,1,0) -> 0 | I99: =IF(I100>=1,1,0) -> 0 | J99: =SUM(C99:I99) -> 0 | L99: =IF(L100>=1,1,0) -> 0 | M99: =IF(M100>=1,1,0) -> 0 | N99: =IF(N100>=1,1,0) -> 0 | O99: =IF(O100>=1,1,0) -> 0 | P99: =IF(P100>=1,1,0) -> 0 | Q99: =IF(Q100>=1,1,0) -> 0 | R99: =IF(R100>=1,1,0) -> 0 | S99: =SUM(L99:R99) -> 0 | U99: =IF(U100>=1,1,0) -> 0 | V99: =IF(V100>=1,1,0) -> 0 | W99: =IF(W100>=1,1,0) -> 0 | X99: =IF(X100>=1,1,0) -> 0 | Y99: =IF(Y100>=1,1,0) -> 0 | Z99: =IF(Z100>=1,1,0) -> 0 | AA99: =IF(AA100>=1,1,0) -> 0 | AB99: =SUM(U99:AA99) -> 0 | AD99: =IF(AD100>=1,1,0) -> 0 | AE99: =IF(AE100>=1,1,0) -> 0 | AF99: =IF(AF100>=1,1,0) -> 0 | AG99: =IF(AG100>=1,1,0) -> 0 | AH99: =IF(AH100>=1,1,0) -> 0 | AI99: =IF(AI100>=1,1,0) -> 0 | AJ99: =IF(AJ100>=1,1,0) -> 0 | AK99: =SUM(AD99:AJ99) -> 0 | AM99: =IF(AM100>=1,1,0) -> 0 | AN99: =IF(AN100>=1,1,0) -> 0 | AO99: =IF(AO100>=1,1,0) -> 0 | AP99: =IF(AP100>=1,1,0) -> 0 | AQ99: =IF(AQ100>=1,1,0) -> 0 | AR99: =IF(AR100>=1,1,0) -> 0 | AS99: =IF(AS100>=1,1,0) -> 0 | AT99: =SUM(AM99:AS99) -> 0 | AV99: =IF(AV100>=1,1,0) -> 1 | AW99: =IF(AW100>=1,1,0) -> 0 | AX99: =SUM(AV99:AW99) -> 1 | AY99: =J99+S99+AB99+AK99+AT99+AX99 -> 1
A100: Nbr heure | C100: =IF(C97="Matin",8,IF(C97="AM",8,IF(C97="nuit",8,0))) -> 0 | D100: =IF(D97="Matin",8,IF(D97="AM",8,IF(D97="nuit",8,0))) -> 0 | E100: =IF(E97="Matin",8,IF(E97="AM",8,IF(E97="nuit",8,0))) -> 0 | F100: =IF(F97="Matin",8,IF(F97="AM",8,IF(F97="nuit",8,0))) -> 0 | G100: =IF(G97="Matin",8,IF(G97="AM",8,IF(G97="nuit",8,0))) -> 0 | H100: =IF(H97="Matin",8,IF(H97="AM",8,IF(H97="nuit",8,0))) -> 0 | I100: =IF(I97="Matin",8,IF(I97="AM",8,IF(I97="nuit",8,0))) -> 0 | J100: =SUM(C100:I100) -> 0 | L100: =IF(L97="Matin",8,IF(L97="AM",8,IF(L97="nuit",8,0))) -> 0 | M100: =IF(M97="Matin",8,IF(M97="AM",8,IF(M97="nuit",8,0))) -> 0 | N100: =IF(N97="Matin",8,IF(N97="AM",8,IF(N97="nuit",8,0))) -> 0 | O100: =IF(O97="Matin",8,IF(O97="AM",8,IF(O97="nuit",8,0))) -> 0 | P100: =IF(P97="Matin",8,IF(P97="AM",8,IF(P97="nuit",8,0))) -> 0 | Q100: =IF(Q97="Matin",8,IF(Q97="AM",8,IF(Q97="nuit",8,0))) -> 0 | R100: =IF(R97="Matin",8,IF(R97="AM",8,IF(R97="nuit",8,0))) -> 0 | S100: =SUM(L100:R100) -> 0 | U100: =IF(U97="Matin",8,IF(U97="AM",8,IF(U97="nuit",8,0))) -> 0 | V100: =IF(V97="Matin",8,IF(V97="AM",8,IF(V97="nuit",8,0))) -> 0 | W100: =IF(W97="Matin",8,IF(W97="AM",8,IF(W97="nuit",8,0))) -> 0 | X100: =IF(X97="Matin",8,IF(X97="AM",8,IF(X97="nuit",8,0))) -> 0 | Y100: =IF(Y97="Matin",8,IF(Y97="AM",8,IF(Y97="nuit",8,0))) -> 0 | Z100: =IF(Z97="Matin",8,IF(Z97="AM",8,IF(Z97="nuit",8,0))) -> 0 | AA100: =IF(AA97="Matin",8,IF(AA97="AM",8,IF(AA97="nuit",8,0))) -> 0 | AB100: =SUM(U100:AA100) -> 0 | AD100: =IF(AD97="Matin",8,IF(AD97="AM",8,IF(AD97="nuit",8,0))) -> 0 | AE100: =IF(AE97="Matin",8,IF(AE97="AM",8,IF(AE97="nuit",8,0))) -> 0 | AF100: =IF(AF97="Matin",8,IF(AF97="AM",8,IF(AF97="nuit",8,0))) -> 0 | AG100: =IF(AG97="Matin",8,IF(AG97="AM",8,IF(AG97="nuit",8,0))) -> 0 | AH100: =IF(AH97="Matin",8,IF(AH97="AM",8,IF(AH97="nuit",8,0))) -> 0 | AI100: =IF(AI97="Matin",8,IF(AI97="AM",8,IF(AI97="nuit",8,0))) -> 0 | AJ100: =IF(AJ97="Matin",8,IF(AJ97="AM",8,IF(AJ97="nuit",8,0))) -> 0 | AK100: =SUM(AD100:AJ100) -> 0 | AM100: =IF(AM97="Matin",8,IF(AM97="AM",8,IF(AM97="nuit",8,0))) -> 0 | AN100: =IF(AN97="Matin",8,IF(AN97="AM",8,IF(AN97="nuit",8,0))) -> 0 | AO100: =IF(AO97="Matin",8,IF(AO97="AM",8,IF(AO97="nuit",8,0))) -> 0 | AP100: =IF(AP97="Matin",8,IF(AP97="AM",8,IF(AP97="nuit",8,0))) -> 0 | AQ100: =IF(AQ97="Matin",8,IF(AQ97="AM",8,IF(AQ97="nuit",8,0))) -> 0 | AR100: =IF(AR97="Matin",8,IF(AR97="AM",8,IF(AR97="nuit",8,0))) -> 0 | AS100: =IF(AS97="Matin",8,IF(AS97="AM",8,IF(AS97="nuit",8,0))) -> 0 | AT100: =SUM(AM100:AS100) -> 0 | AV100: =IF(AV97="Matin",8,IF(AV97="AM",8,IF(AV97="nuit",8,0))) -> 8 | AW100: =IF(AW97="Matin",8,IF(AW97="AM",8,IF(AW97="nuit",8,0))) -> 0 | AX100: =SUM(AV100:AW100) -> 8 | AY100: =J100+S100+AB100+AK100+AT100+AX100 -> 8
A101: Heure comp | C101: =IF(C95<>"Dim",IF(C100>32,MIN(C100,35)-32,0),0) -> 0 | D101: =IF(D95<>"Dim",IF(SUM($C100:D100)>32,MIN(SUM($C100:D100),35)-32-SUM($C101:C101),0),0) -> 0 | E101: =IF(E95<>"Dim",IF(SUM($C100:E100)>32,MIN(SUM($C100:E100),35)-32-SUM($C101:D101),0),0) -> 0 | F101: =IF(F95<>"Dim",IF(SUM($C100:F100)>32,MIN(SUM($C100:F100),35)-32-SUM($C101:E101),0),0) -> 0 | G101: =IF(G95<>"Dim",IF(SUM($C100:G100)>32,MIN(SUM($C100:G100),35)-32-SUM($C101:F101),0),0) -> 0 | H101: =IF(H95<>"Dim",IF(SUM($C100:H100)>32,MIN(SUM($C100:H100),35)-32-SUM($C101:G101),0),0) -> 0 | I101: =IF(I95<>"Dim",IF(SUM($C100:I100)>32,MIN(SUM($C100:I100),35)-32-SUM($C101:H101),0),0) -> 0 | J101: =SUM(C101:I101) -> 0 | L101: =IF(L95<>"Dim",IF(L100>32,MIN(L100,35)-32,0),0) -> 0 | M101: =IF(M95<>"Dim",IF(SUM($L100:M100)>32,MIN(SUM($L100:M100),35)-32-SUM($L101:L101),0),0) -> 0 | N101: =IF(N95<>"Dim",IF(SUM($L100:N100)>32,MIN(SUM($L100:N100),35)-32-SUM($L101:M101),0),0) -> 0 | O101: =IF(O95<>"Dim",IF(SUM($L100:O100)>32,MIN(SUM($L100:O100),35)-32-SUM($L101:N101),0),0) -> 0 | P101: =IF(P95<>"Dim",IF(SUM($L100:P100)>32,MIN(SUM($L100:P100),35)-32-SUM($L101:O101),0),0) -> 0 | Q101: =IF(Q95<>"Dim",IF(SUM($L100:Q100)>32,MIN(SUM($L100:Q100),35)-32-SUM($L101:P101),0),0) -> 0 | R101: =IF(R95<>"Dim",IF(SUM($L100:R100)>32,MIN(SUM($L100:R100),35)-32-SUM($L101:Q101),0),0) -> 0 | S101: =SUM(L101:R101) -> 0 | U101: =IF(U95<>"Dim",IF(U100>32,MIN(U100,35)-32,0),0) -> 0 | V101: =IF(V95<>"Dim",IF(SUM($U100:V100)>32,MIN(SUM($U100:V100),35)-32-SUM($U101:U101),0),0) -> 0 | W101: =IF(W95<>"Dim",IF(SUM($U100:W100)>32,MIN(SUM($U100:W100),35)-32-SUM($U101:V101),0),0) -> 0 | X101: =IF(X95<>"Dim",IF(SUM($U100:X100)>32,MIN(SUM($U100:X100),35)-32-SUM($U101:W101),0),0) -> 0 | Y101: =IF(Y95<>"Dim",IF(SUM($U100:Y100)>32,MIN(SUM($U100:Y100),35)-32-SUM($U101:X101),0),0) -> 0 | Z101: =IF(Z95<>"Dim",IF(SUM($U100:Z100)>32,MIN(SUM($U100:Z100),35)-32-SUM($U101:Y101),0),0) -> 0 | AA101: =IF(AA95<>"Dim",IF(SUM($U100:AA100)>32,MIN(SUM($U100:AA100),35)-32-SUM($U101:Z101),0),0) -> 0 | AB101: =SUM(U101:AA101) -> 0 | AD101: =IF(AD95<>"Dim",IF(AD100>32,MIN(AD100,35)-32,0),0) -> 0 | AE101: =IF(AE95<>"Dim",IF(SUM($AD100:AE100)>32,MIN(SUM($AD100:AE100),35)-32-SUM($AD101:AD101),0),0) -> 0 | AF101: =IF(AF95<>"Dim",IF(SUM($AD100:AF100)>32,MIN(SUM($AD100:AF100),35)-32-SUM($AD101:AE101),0),0) -> 0 | AG101: =IF(AG95<>"Dim",IF(SUM($AD100:AG100)>32,MIN(SUM($AD100:AG100),35)-32-SUM($AD101:AF101),0),0) -> 0 | AH101: =IF(AH95<>"Dim",IF(SUM($AD100:AH100)>32,MIN(SUM($AD100:AH100),35)-32-SUM($AD101:AG101),0),0) -> 0 | AI101: =IF(AI95<>"Dim",IF(SUM($AD100:AI100)>32,MIN(SUM($AD100:AI100),35)-32-SUM($AD101:AH101),0),0) -> 0 | AJ101: =IF(AJ95<>"Dim",IF(SUM($AD100:AJ100)>32,MIN(SUM($AD100:AJ100),35)-32-SUM($AD101:AI101),0),0) -> 0 | AK101: =SUM(AD101:AJ101) -> 0 | AM101: =IF(AM95<>"Dim",IF(AM100>32,MIN(AM100,35)-32,0),0) -> 0 | AN101: =IF(AN95<>"Dim",IF(SUM($AM100:AN100)>32,MIN(SUM($AM100:AN100),35)-32-SUM($AM101:AM101),0),0) -> 0 | AO101: =IF(AO95<>"Dim",IF(SUM($AM100:AO100)>32,MIN(SUM($AM100:AO100),35)-32-SUM($AM101:AN101),0),0) -> 0 | AP101: =IF(AP95<>"Dim",IF(SUM($AM100:AP100)>32,MIN(SUM($AM100:AP100),35)-32-SUM($AM101:AO101),0),0) -> 0 | AQ101: =IF(AQ95<>"Dim",IF(SUM($AM100:AQ100)>32,MIN(SUM($AM100:AQ100),35)-32-SUM($AM101:AP101),0),0) -> 0 | AR101: =IF(AR95<>"Dim",IF(SUM($AM100:AR100)>32,MIN(SUM($AM100:AR100),35)-32-SUM($AM101:AQ101),0),0) -> 0 | AS101: =IF(AS95<>"Dim",IF(SUM($AM100:AS100)>32,MIN(SUM($AM100:AS100),35)-32-SUM($AM101:AR101),0),0) -> 0 | AT101: =SUM(AM101:AS101) -> 0 | AV101: =IF(AV95<>"Dim",IF(AV100>32,MIN(AV100,35)-32,0),0) -> 0 | AW101: =IF(AW95<>"Dim",IF(SUM($AV100:AW100)>32,MIN(SUM($AV100:AW100),35)-32-SUM($AV101:AV101),0),0) -> 0 | AX101: =SUM(AV101:AW101) -> 0 | AY101: =J101+S101+AB101+AK101+AT101+AX101 -> 0
A102: HS 25% | C102: =IF(C95<>"Dim",IF(C100>35,(MIN(C100,43)-35),0),0) -> 0 | D102: =IF(D95<>"Dim",IF(SUM($C100:D100)>35,(MIN(SUM($C100:D100),43)-35-SUM($C102:C102)),0),0) -> 0 | E102: =IF(E95<>"Dim",IF(SUM($C100:E100)>35,(MIN(SUM($C100:E100),43)-35-SUM($C102:D102)),0),0) -> 0 | F102: =IF(F95<>"Dim",IF(SUM($C100:F100)>35,(MIN(SUM($C100:F100),43)-35-SUM($C102:E102)),0),0) -> 0 | G102: =IF(G95<>"Dim",IF(SUM($C100:G100)>35,(MIN(SUM($C100:G100),43)-35-SUM($C102:F102)),0),0) -> 0 | H102: =IF(H95<>"Dim",IF(SUM($C100:H100)>35,(MIN(SUM($C100:H100),43)-35-SUM($C102:G102)),0),0) -> 0 | I102: =IF(I95<>"Dim",IF(SUM($C100:I100)>35,(MIN(SUM($C100:I100),43)-35-SUM($C102:H102)),0),0) -> 0 | J102: =SUM(C102:I102) -> 0 | L102: =IF(L95<>"Dim",IF(L100>35,(MIN(L100,43)-35),0),0) -> 0 | M102: =IF(M95<>"Dim",IF(SUM($L100:M100)>35,(MIN(SUM($L100:M100),43)-35-SUM($L102:L102)),0),0) -> 0 | N102: =IF(N95<>"Dim",IF(SUM($L100:N100)>35,(MIN(SUM($L100:N100),43)-35-SUM($L102:M102)),0),0) -> 0 | O102: =IF(O95<>"Dim",IF(SUM($L100:O100)>35,(MIN(SUM($L100:O100),43)-35-SUM($L102:N102)),0),0) -> 0 | P102: =IF(P95<>"Dim",IF(SUM($L100:P100)>35,(MIN(SUM($L100:P100),43)-35-SUM($L102:O102)),0),0) -> 0 | Q102: =IF(Q95<>"Dim",IF(SUM($L100:Q100)>35,(MIN(SUM($L100:Q100),43)-35-SUM($L102:P102)),0),0) -> 0 | R102: =IF(R95<>"Dim",IF(SUM($L100:R100)>35,(MIN(SUM($L100:R100),43)-35-SUM($L102:Q102)),0),0) -> 0 | S102: =SUM(L102:R102) -> 0 | U102: =IF(U95<>"Dim",IF(U100>35,(MIN(U100,43)-35),0),0) -> 0 | V102: =IF(V95<>"Dim",IF(SUM($U100:V100)>35,(MIN(SUM($U100:V100),43)-35-SUM($U102:U102)),0),0) -> 0 | W102: =IF(W95<>"Dim",IF(SUM($U100:W100)>35,(MIN(SUM($U100:W100),43)-35-SUM($U102:V102)),0),0) -> 0 | X102: =IF(X95<>"Dim",IF(SUM($U100:X100)>35,(MIN(SUM($U100:X100),43)-35-SUM($U102:W102)),0),0) -> 0 | Y102: =IF(Y95<>"Dim",IF(SUM($U100:Y100)>35,(MIN(SUM($U100:Y100),43)-35-SUM($U102:X102)),0),0) -> 0 | Z102: =IF(Z95<>"Dim",IF(SUM($U100:Z100)>35,(MIN(SUM($U100:Z100),43)-35-SUM($U102:Y102)),0),0) -> 0 | AA102: =IF(AA95<>"Dim",IF(SUM($U100:AA100)>35,(MIN(SUM($U100:AA100),43)-35-SUM($U102:Z102)),0),0) -> 0 | AB102: =SUM(U102:AA102) -> 0 | AD102: =IF(AD95<>"Dim",IF(AD100>35,(MIN(AD100,43)-35),0),0) -> 0 | AE102: =IF(AE95<>"Dim",IF(SUM($AD100:AE100)>35,(MIN(SUM($AD100:AE100),43)-35-SUM($AD102:AD102)),0),0) -> 0 | AF102: =IF(AF95<>"Dim",IF(SUM($AD100:AF100)>35,(MIN(SUM($AD100:AF100),43)-35-SUM($AD102:AE102)),0),0) -> 0 | AG102: =IF(AG95<>"Dim",IF(SUM($AD100:AG100)>35,(MIN(SUM($AD100:AG100),43)-35-SUM($AD102:AF102)),0),0) -> 0 | AH102: =IF(AH95<>"Dim",IF(SUM($AD100:AH100)>35,(MIN(SUM($AD100:AH100),43)-35-SUM($AD102:AG102)),0),0) -> 0 | AI102: =IF(AI95<>"Dim",IF(SUM($AD100:AI100)>35,(MIN(SUM($AD100:AI100),43)-35-SUM($AD102:AH102)),0),0) -> 0 | AJ102: =IF(AJ95<>"Dim",IF(SUM($AD100:AJ100)>35,(MIN(SUM($AD100:AJ100),43)-35-SUM($AD102:AI102)),0),0) -> 0 | AK102: =SUM(AD102:AJ102) -> 0 | AM102: =IF(AM95<>"Dim",IF(AM100>35,(MIN(AM100,43)-35),0),0) -> 0 | AN102: =IF(AN95<>"Dim",IF(SUM($AM100:AN100)>35,(MIN(SUM($AM100:AN100),43)-35-SUM($AM102:AM102)),0),0) -> 0 | AO102: =IF(AO95<>"Dim",IF(SUM($AM100:AO100)>35,(MIN(SUM($AM100:AO100),43)-35-SUM($AM102:AN102)),0),0) -> 0 | AP102: =IF(AP95<>"Dim",IF(SUM($AM100:AP100)>35,(MIN(SUM($AM100:AP100),43)-35-SUM($AM102:AO102)),0),0) -> 0 | AQ102: =IF(AQ95<>"Dim",IF(SUM($AM100:AQ100)>35,(MIN(SUM($AM100:AQ100),43)-35-SUM($AM102:AP102)),0),0) -> 0 | AR102: =IF(AR95<>"Dim",IF(SUM($AM100:AR100)>35,(MIN(SUM($AM100:AR100),43)-35-SUM($AM102:AQ102)),0),0) -> 0 | AS102: =IF(AS95<>"Dim",IF(SUM($AM100:AS100)>35,(MIN(SUM($AM100:AS100),43)-35-SUM($AM102:AR102)),0),0) -> 0 | AT102: =SUM(AM102:AS102) -> 0 | AV102: =IF(AV95<>"Dim",IF(AV100>35,(MIN(AV100,43)-35),0),0) -> 0 | AW102: =IF(AW95<>"Dim",IF(SUM($AV100:AW100)>35,(MIN(SUM($AV100:AW100),43)-35-SUM($AV102:AV102)),0),0) -> 0 | AX102: =SUM(AV102:AW102) -> 0 | AY102: =J102+S102+AB102+AK102+AT102+AX102 -> 0
A103: HS 50% | C103: =IF(C95<>"Dim",IF(C100>43,(MIN(C100,48)-43),0),0) -> 0 | D103: =IF(D95<>"Dim",IF(SUM($C100:D100)>43,(MIN(SUM($C100:D100),48)-43-SUM($C103:C103)),0),0) -> 0 | E103: =IF(E95<>"Dim",IF(SUM($C100:E100)>43,(MIN(SUM($C100:E100),48)-43-SUM($C103:D103)),0),0) -> 0 | F103: =IF(F95<>"Dim",IF(SUM($C100:F100)>43,(MIN(SUM($C100:F100),48)-43-SUM($C103:E103)),0),0) -> 0 | G103: =IF(G95<>"Dim",IF(SUM($C100:G100)>43,(MIN(SUM($C100:G100),48)-43-SUM($C103:F103)),0),0) -> 0 | H103: =IF(H95<>"Dim",IF(SUM($C100:H100)>43,(MIN(SUM($C100:H100),48)-43-SUM($C103:G103)),0),0) -> 0 | I103: =IF(I95<>"Dim",IF(SUM($C100:I100)>43,(MIN(SUM($C100:I100),48)-43-SUM($C103:H103)),0),0) -> 0 | J103: =SUM(C103:I103) -> 0 | L103: =IF(L95<>"Dim",IF(L100>43,(MIN(L100,48)-43),0),0) -> 0 | M103: =IF(M95<>"Dim",IF(SUM($L100:M100)>43,(MIN(SUM($L100:M100),48)-43-SUM($L103:L103)),0),0) -> 0 | N103: =IF(N95<>"Dim",IF(SUM($L100:N100)>43,(MIN(SUM($L100:N100),48)-43-SUM($L103:M103)),0),0) -> 0 | O103: =IF(O95<>"Dim",IF(SUM($L100:O100)>43,(MIN(SUM($L100:O100),48)-43-SUM($L103:N103)),0),0) -> 0 | P103: =IF(P95<>"Dim",IF(SUM($L100:P100)>43,(MIN(SUM($L100:P100),48)-43-SUM($L103:O103)),0),0) -> 0 | Q103: =IF(Q95<>"Dim",IF(SUM($L100:Q100)>43,(MIN(SUM($L100:Q100),48)-43-SUM($L103:P103)),0),0) -> 0 | R103: =IF(R95<>"Dim",IF(SUM($L100:R100)>43,(MIN(SUM($L100:R100),48)-43-SUM($L103:Q103)),0),0) -> 0 | S103: =SUM(L103:R103) -> 0 | U103: =IF(U95<>"Dim",IF(U100>43,(MIN(U100,48)-43),0),0) -> 0 | V103: =IF(V95<>"Dim",IF(SUM($U100:V100)>43,(MIN(SUM($U100:V100),48)-43-SUM($U103:U103)),0),0) -> 0 | W103: =IF(W95<>"Dim",IF(SUM($U100:W100)>43,(MIN(SUM($U100:W100),48)-43-SUM($U103:V103)),0),0) -> 0 | X103: =IF(X95<>"Dim",IF(SUM($U100:X100)>43,(MIN(SUM($U100:X100),48)-43-SUM($U103:W103)),0),0) -> 0 | Y103: =IF(Y95<>"Dim",IF(SUM($U100:Y100)>43,(MIN(SUM($U100:Y100),48)-43-SUM($U103:X103)),0),0) -> 0 | Z103: =IF(Z95<>"Dim",IF(SUM($U100:Z100)>43,(MIN(SUM($U100:Z100),48)-43-SUM($U103:Y103)),0),0) -> 0 | AA103: =IF(AA95<>"Dim",IF(SUM($U100:AA100)>43,(MIN(SUM($U100:AA100),48)-43-SUM($U103:Z103)),0),0) -> 0 | AB103: =SUM(U103:AA103) -> 0 | AD103: =IF(AD95<>"Dim",IF(AD100>43,(MIN(AD100,48)-43),0),0) -> 0 | AE103: =IF(AE95<>"Dim",IF(SUM($AD100:AE100)>43,(MIN(SUM($AD100:AE100),48)-43-SUM($AD103:AD103)),0),0) -> 0 | AF103: =IF(AF95<>"Dim",IF(SUM($AD100:AF100)>43,(MIN(SUM($AD100:AF100),48)-43-SUM($AD103:AE103)),0),0) -> 0 | AG103: =IF(AG95<>"Dim",IF(SUM($AD100:AG100)>43,(MIN(SUM($AD100:AG100),48)-43-SUM($AD103:AF103)),0),0) -> 0 | AH103: =IF(AH95<>"Dim",IF(SUM($AD100:AH100)>43,(MIN(SUM($AD100:AH100),48)-43-SUM($AD103:AG103)),0),0) -> 0 | AI103: =IF(AI95<>"Dim",IF(SUM($AD100:AI100)>43,(MIN(SUM($AD100:AI100),48)-43-SUM($AD103:AH103)),0),0) -> 0 | AJ103: =IF(AJ95<>"Dim",IF(SUM($AD100:AJ100)>43,(MIN(SUM($AD100:AJ100),48)-43-SUM($AD103:AI103)),0),0) -> 0 | AK103: =SUM(AD103:AJ103) -> 0 | AM103: =IF(AM95<>"Dim",IF(AM100>43,(MIN(AM100,48)-43),0),0) -> 0 | AN103: =IF(AN95<>"Dim",IF(SUM($AM100:AN100)>43,(MIN(SUM($AM100:AN100),48)-43-SUM($AM103:AM103)),0),0) -> 0 | AO103: =IF(AO95<>"Dim",IF(SUM($AM100:AO100)>43,(MIN(SUM($AM100:AO100),48)-43-SUM($AM103:AN103)),0),0) -> 0 | AP103: =IF(AP95<>"Dim",IF(SUM($AM100:AP100)>43,(MIN(SUM($AM100:AP100),48)-43-SUM($AM103:AO103)),0),0) -> 0 | AQ103: =IF(AQ95<>"Dim",IF(SUM($AM100:AQ100)>43,(MIN(SUM($AM100:AQ100),48)-43-SUM($AM103:AP103)),0),0) -> 0 | AR103: =IF(AR95<>"Dim",IF(SUM($AM100:AR100)>43,(MIN(SUM($AM100:AR100),48)-43-SUM($AM103:AQ103)),0),0) -> 0 | AS103: =IF(AS95<>"Dim",IF(SUM($AM100:AS100)>43,(MIN(SUM($AM100:AS100),48)-43-SUM($AM103:AR103)),0),0) -> 0 | AT103: =SUM(AM103:AS103) -> 0 | AV103: =IF(AV95<>"Dim",IF(AV100>43,(MIN(AV100,48)-43),0),0) -> 0 | AW103: =IF(AW95<>"Dim",IF(SUM($AV100:AW100)>43,(MIN(SUM($AV100:AW100),48)-43-SUM($AV103:AV103)),0),0) -> 0 | AX103: =SUM(AV103:AW103) -> 0 | AY103: =J103+S103+AB103+AK103+AT103+AX103 -> 0
A104: HS 200% | C104: =IF(C95="Dim",C100,IF(C110="ferie",C100,0)) -> 0 | D104: =IF(D95="Dim",D100,IF(D110="ferie",D100,0)) -> 0 | E104: =IF(E95="Dim",E100,IF(E110="ferie",E100,0)) -> 0 | F104: =IF(F95="Dim",F100,IF(F110="ferie",F100,0)) -> 0 | G104: =IF(G95="Dim",G100,IF(G110="ferie",G100,0)) -> 0 | H104: =IF(H95="Dim",H100,IF(H110="ferie",H100,0)) -> 0 | I104: =IF(I95="Dim",I100,IF(I110="ferie",I100,0)) -> 0 | J104: =SUM(C104:I104) -> 0 | L104: =IF(L95="Dim",L100,IF(L110="ferie",L100,0)) -> 0 | M104: =IF(M95="Dim",M100,IF(M110="ferie",M100,0)) -> 0 | N104: =IF(N95="Dim",N100,IF(N110="ferie",N100,0)) -> 0 | O104: =IF(O95="Dim",O100,IF(O110="ferie",O100,0)) -> 0 | P104: =IF(P95="Dim",P100,IF(P110="ferie",P100,0)) -> 0 | Q104: =IF(Q95="Dim",Q100,IF(Q110="ferie",Q100,0)) -> 0 | R104: =IF(R95="Dim",R100,IF(R110="ferie",R100,0)) -> 0 | S104: =SUM(L104:R104) -> 0 | U104: =IF(U95="Dim",U100,IF(U110="ferie",U100,0)) -> 0 | V104: =IF(V95="Dim",V100,IF(V110="ferie",V100,0)) -> 0 | W104: =IF(W95="Dim",W100,IF(W110="ferie",W100,0)) -> 0 | X104: =IF(X95="Dim",X100,IF(X110="ferie",X100,0)) -> 0 | Y104: =IF(Y95="Dim",Y100,IF(Y110="ferie",Y100,0)) -> 0 | Z104: =IF(Z95="Dim",Z100,IF(Z110="ferie",Z100,0)) -> 0 | AA104: =IF(AA95="Dim",AA100,IF(AA110="ferie",AA100,0)) -> 0 | AB104: =SUM(U104:AA104) -> 0 | AD104: =IF(AD95="Dim",AD100,IF(AD110="ferie",AD100,0)) -> 0 | AE104: =IF(AE95="Dim",AE100,IF(AE110="ferie",AE100,0)) -> 0 | AF104: =IF(AF95="Dim",AF100,IF(AF110="ferie",AF100,0)) -> 0 | AG104: =IF(AG95="Dim",AG100,IF(AG110="ferie",AG100,0)) -> 0 | AH104: =IF(AH95="Dim",AH100,IF(AH110="ferie",AH100,0)) -> 0 | AI104: =IF(AI95="Dim",AI100,IF(AI110="ferie",AI100,0)) -> 0 | AJ104: =IF(AJ95="Dim",AJ100,IF(AJ110="ferie",AJ100,0)) -> 0 | AK104: =SUM(AD104:AJ104) -> 0 | AM104: =IF(AM95="Dim",AM100,IF(AM110="ferie",AM100,0)) -> 0 | AN104: =IF(AN95="Dim",AN100,IF(AN110="ferie",AN100,0)) -> 0 | AO104: =IF(AO95="Dim",AO100,IF(AO110="ferie",AO100,0)) -> 0 | AP104: =IF(AP95="Dim",AP100,IF(AP110="ferie",AP100,0)) -> 0 | AQ104: =IF(AQ95="Dim",AQ100,IF(AQ110="ferie",AQ100,0)) -> 0 | AR104: =IF(AR95="Dim",AR100,IF(AR110="ferie",AR100,0)) -> 0 | AS104: =IF(AS95="Dim",AS100,IF(AS110="ferie",AS100,0)) -> 0 | AT104: =SUM(AM104:AS104) -> 0 | AV104: =IF(AV95="Dim",AV100,IF(AV110="ferie",AV100,0)) -> 0 | AW104: =IF(AW95="Dim",AW100,IF(AW110="ferie",AW100,0)) -> 0 | AX104: =SUM(AV104:AW104) -> 0 | AY104: =J104+S104+AB104+AK104+AT104+AX104 -> 0
A105: HR + | J105: =SUM(C105:I105) -> 0 | S105: =SUM(L105:R105) -> 0 | AB105: =SUM(U105:AA105) -> 0 | AK105: =SUM(AD105:AJ105) -> 0 | AT105: =SUM(AM105:AS105) -> 0 | AX105: =SUM(AV105:AW105) -> 0 | AY105: =J105+S105+AB105+AK105+AT105+AX105 -> 0
A106: HR - | J106: =SUM(C106:I106) -> 0 | S106: =SUM(L106:R106) -> 0 | AB106: =SUM(U106:AA106) -> 0 | AK106: =SUM(AD106:AJ106) -> 0 | AT106: =SUM(AM106:AS106) -> 0 | AX106: =SUM(AV106:AW106) -> 0 | AY106: =J106+S106+AB106+AK106+AT106+AX106 -> 0
...

Sheet Synthése
C1: Janv | D1: Fev | E1: Mars | F1: Avril | G1: Mai | H1: Juin | I1: Juil | J1: Aout | K1: Sept | L1: Oct | M1: Nov | N1: Dec | P1: Total
A2: HR n-1
A3: RC n-1
A4: CP n-1
A5: CP mai | B5: 21 | G5: =B5 -> 21 | H5: =G5-H18 -> 21 | I5: =H5-I18 -> 21 | J5: =I5-J18 -> 21 | K5: =J5-K18 -> 21 | L5: =K5-L18 -> 21 | M5: =L5-M18 -> 21 | N5: =M5-N18 -> 21 | P5: =N5 -> 21 | Q5: Année en cours
A6: CP à prendre | C6: =B4-C18 -> 0 | D6: =C6-D18 -> 0 | E6: =D6-E18 -> 0 | F6: =E6-F18 -> 0 | P6: =F6 -> 0 | Q6: Reste de l'année derniére
A7: HR à prendre | C7: =B2-C17+C16 -> 0 | D7: =C7-D17+D16 -> 0 | E7: =D7-E17+E16 -> 0 | F7: =E7-F17+F16 -> 0 | G7: =F7-G17+G16 -> 0 | H7: =G7-H17+H16 -> 0 | I7: =H7-I17+I16 -> 0 | J7: =I7-J17+J16 -> 0 | K7: =J7-K17+K16 -> 0 | ... N7: =M7-N17+N16 -> 0 | P7: =N7 -> 0
A8: RC à prendre | C8: =B3-C19+C20 -> 1.12 | D8: =C8-D19+D20 -> 1.12 | E8: =D8-E19+E20 -> 1.12 | F8: =E8-F19+F20 -> 1.12 | G8: =F8-G19+G20 -> 1.12 | H8: =G8-H19+H20 -> 1.12 | I8: =H8-I19+I20 -> 1.12 | J8: =I8-J19+J20 -> 1.12 | K8: =J8-K19+K20 -> 1.12 | ... N8: =M8-N19+N20 -> 1.12 | P8: =N8 -> 1.12
A9: Ticket resto | C9: =Travail!AY8 -> 14 | D9: =Travail!AY26 -> 2 | E9: =Travail!AY44 -> 1 | F9: =Travail!AY62 -> 1 | G9: =Travail!AY80 -> 1 | H9: =Travail!AY98 -> 1 | I9: =Travail!AY116 -> 1 | J9: =Travail!AY134 -> 1 | K9: =Travail!AY152 -> 1 | L9: =Travail!AY170 -> 1 | M9: =Travail!AY188 -> 1 | N9: =Travail!AY206 -> 6 | P9: =SUM(C9:N9) -> 31
A10: Travailler | C10: =Travail!AY9 -> 21 | D10: =Travail!AY27 -> 2 | E10: =Travail!AY45 -> 1 | F10: =Travail!AY63 -> 1 | G10: =Travail!AY81 -> 1 | H10: =Travail!AY99 -> 1 | I10: =Travail!AY117 -> 1 | J10: =Travail!AY135 -> 1 | K10: =Travail!AY153 -> 1 | L10: =Travail!AY171 -> 1 | M10: =Travail!AY189 -> 1 | N10: =Travail!AY207 -> 6 | P10: =SUM(C10:N10) -> 38
A11: Nbr heure | C11: =Travail!AY10 -> 168 | D11: =Travail!AY28 -> 16 | E11: =Travail!AY46 -> 8 | F11: =Travail!AY64 -> 8 | G11: =Travail!AY82 -> 8 | H11: =Travail!AY100 -> 8 | I11: =Travail!AY118 -> 8 | J11: =Travail!AY136 -> 8 | K11: =Travail!AY154 -> 8 | L11: =Travail!AY172 -> 8 | M11: =Travail!AY190 -> 8 | N11: =Travail!AY208 -> 48 | P11: =SUM(C11:N11) -> 304
A12: Heure comp | C12: =Travail!AY11 -> 6 | D12: =Travail!AY29 -> 0 | E12: =Travail!AY47 -> 0 | F12: =Travail!AY65 -> 0 | G12: =Travail!AY83 -> 0 | H12: =Travail!AY101 -> 0 | I12: =Travail!AY119 -> 0 | J12: =Travail!AY137 -> 0 | K12: =Travail!AY155 -> 0 | L12: =Travail!AY173 -> 0 | M12: =Travail!AY191 -> 0 | N12: =Travail!AY209 -> 3 | P12: =SUM(C12:N12) -> 9
A13: HS 25% | C13: =Travail!AY12 -> 10 | D13: =Travail!AY30 -> 0 | E13: =Travail!AY48 -> 0 | F13: =Travail!AY66 -> 0 | G13: =Travail!AY84 -> 0 | H13: =Travail!AY102 -> 0 | I13: =Travail!AY120 -> 0 | J13: =Travail!AY138 -> 0 | K13: =Travail!AY156 -> 0 | L13: =Travail!AY174 -> 0 | M13: =Travail!AY192 -> 0 | N13: =Travail!AY210 -> 5 | P13: =SUM(C13:N13) -> 15
A14: HS 50% | C14: =Travail!AY13 -> 0 | D14: =Travail!AY31 -> 0 | E14: =Travail!AY49 -> 0 | F14: =Travail!AY67 -> 0 | G14: =Travail!AY85 -> 0 | H14: =Travail!AY103 -> 0 | I14: =Travail!AY121 -> 0 | J14: =Travail!AY139 -> 0 | K14: =Travail!AY157 -> 0 | L14: =Travail!AY175 -> 0 | M14: =Travail!AY193 -> 0 | N14: =Travail!AY211 -> 0 | P14: =SUM(C14:N14) -> 0
A15: HS 200% | C15: =Travail!AY14 -> 0 | D15: =Travail!AY32 -> 0 | E15: =Travail!AY50 -> 0 | F15: =Travail!AY68 -> 0 | G15: =Travail!AY86 -> 0 | H15: =Travail!AY104 -> 0 | I15: =Travail!AY122 -> 0 | J15: =Travail!AY140 -> 0 | K15: =Travail!AY158 -> 0 | L15: =Travail!AY176 -> 0 | M15: =Travail!AY194 -> 0 | N15: =Travail!AY212 -> 0 | P15: =SUM(C15:N15) -> 0
A16: HR + | C16: =Travail!AY15 -> 0 | D16: =Travail!AY33 -> 0 | E16: =Travail!AY51 -> 0 | F16: =Travail!AY69 -> 0 | G16: =Travail!AY87 -> 0 | H16: =Travail!AY105 -> 0 | I16: =Travail!AY123 -> 0 | J16: =Travail!AY141 -> 0 | K16: =Travail!AY159 -> 0 | L16: =Travail!AY177 -> 0 | M16: =Travail!AY195 -> 0 | N16: =Travail!AY213 -> 0 | P16: =SUM(C16:N16) -> 0
A17: HR - | C17: =Travail!AY16 -> 0 | D17: =Travail!AY34 -> 0 | E17: =Travail!AY52 -> 0 | F17: =Travail!AY70 -> 0 | G17: =Travail!AY88 -> 0 | H17: =Travail!AY106 -> 0 | I17: =Travail!AY124 -> 0 | J17: =Travail!AY142 -> 0 | K17: =Travail!AY160 -> 0 | L17: =Travail!AY178 -> 0 | M17: =Travail!AY196 -> 0 | N17: =Travail!AY214 -> 0 | P17: =SUM(C17:N17) -> 0
A18: CP - | C18: =Travail!AY17 -> 0 | D18: =Travail!AY35 -> 0 | E18: =Travail!AY53 -> 0 | F18: =Travail!AY71 -> 0 | G18: =Travail!AY89 -> 0 | H18: =Travail!AY107 -> 0 | I18: =Travail!AY125 -> 0 | J18: =Travail!AY143 -> 0 | K18: =Travail!AY161 -> 0 | L18: =Travail!AY179 -> 0 | M18: =Travail!AY197 -> 0 | N18: =Travail!AY215 -> 0 | P18: =SUM(C18:F18) -> 0 | Q18: Année derniére
A19: RC - | C19: =Travail!AY18 -> 0 | D19: =Travail!AY36 -> 0 | E19: =Travail!AY54 -> 0 | F19: =Travail!AY72 -> 0 | G19: =Travail!AY90 -> 0 | H19: =Travail!AY108 -> 0 | I19: =Travail!AY126 -> 0 | J19: =Travail!AY144 -> 0 | K19: =Travail!AY162 -> 0 | L19: =Travail!AY180 -> 0 | M19: =Travail!AY198 -> 0 | N19: =Travail!AY216 -> 0 | P19: =SUM(C19:N19) -> 0
A20: RC nuit | C20: =Travail!AY19 -> 1.12 | D20: =Travail!AY37 -> 0 | E20: =Travail!AY55 -> 0 | F20: =Travail!AY73 -> 0 | G20: =Travail!AY91 -> 0 | H20: =Travail!AY109 -> 0 | I20: =Travail!AY127 -> 0 | J20: =Travail!AY145 -> 0 | K20: =Travail!AY163 -> 0 | L20: =Travail!AY181 -> 0 | M20: =Travail!AY199 -> 0 | N20: =Travail!AY217 -> 0 | P20: =SUM(C20:N20) -> 1.12
A21: Contigent hs du mois | C21: =Travail!AZ5 -> 10 | D21: =Travail!AZ23 -> 0 | E21: =Travail!AZ41 -> 0 | F21: =Travail!AZ59 -> 0 | G21: =Travail!AZ77 -> 0 | H21: =Travail!AZ95 -> 0 | I21: =Travail!AZ113 -> 0 | J21: =Travail!AZ131 -> 0 | K21: =Travail!AZ149 -> 0 | L21: =Travail!AZ167 -> 0 | M21: =Travail!AZ185 -> 0 | N21: =Travail!AZ203 -> 5
A22: Contingent hs cummul | C22: =Travail!BA5 -> 10 | D22: =Travail!BA23 -> 10 | E22: =Travail!BA41 -> 10 | F22: =Travail!BA59 -> 10 | G22: =Travail!BA77 -> 10 | H22: =Travail!BA95 -> 10 | I22: =Travail!BA113 -> 10 | J22: =Travail!BA131 -> 10 | K22: =Travail!BA149 -> 10 | L22: =Travail!BA167 -> 10 | M22: =Travail!BA185 -> 10 | N22: =Travail!BA203 -> 15 | P22: =N22 -> 15

Sheet DATA
A1: Postes:
A2: M | B2: Matin
A3: N | B3: Nuit
A4: AM | B4: Après-Midi
B5: Lundi | C5: Mardi | D5: Mercredi | E5: Jeudi | F5: Vendredi | G5: Samedi | H5: Dimanche
A6: C1 | B6: matin | C6: matin | D6: matin
A7: C2 | B7: nuit | C7: nuit | D7: nuit | E7: nuit | F7: nuit
A8: C3 | B8: matin | E8: matin | F8: matin
A9: C4 | B9: am | C9: am | D9: am | E9: am | F9: am

Sheet Feuil1
A1: 2018
AZ2: Contigent hs du mois | BA2: Contingent hs cummul
C4: JANVIER | H4: =Année_Calendaire -> 2016 | U4: JANVIER | Z4: =Année_Calendaire -> 2016 | AM4: JANVIER | AR4: =Année_Calendaire -> 2016
B5: c1 | C5: Lun | D5: Mar | E5: Mer | F5: Jeu | G5: Ven | H5: Sam | I5: Dim | J5: Cumul | K5: c2 | L5: Lun | M5: Mar | N5: Mer | O5: Jeu | P5: Ven | Q5: Sam | R5: Dim | S5: Cumul | T5: c3 | U5: Lun | V5: Mar | W5: Mer | X5: Jeu | Y5: Ven | Z5: Sam | AA5: Dim | AB5: Cumul | AC5: c4 | AD5: Lun | AE5: Mar | AF5: Mer | AG5: Jeu | AH5: Ven | AI5: Sam | AJ5: Dim | AK5: Cumul | AM5: Lun | AN5: Mar | AO5: Mer | AP5: Jeu | AQ5: Ven | AR5: Sam | AS5: Dim | AT5: Cumul | AV5: Lun | AW5: Mar | AX5: Cumul | AY5: Cumul total | AZ5: =AY12+AY13+AY14 -> 15 | BA5: =AZ5 -> 15
