Workbook
Name Année_Calendaire: Travail!$A$1
Name Aoû_Dim1: DATE(Année_Calendaire,8,1)-WEEKDAY(DATE(Année_Calendaire,8,1))+1
Name Avr_Dim1: DATE(Année_Calendaire,4,1)-WEEKDAY(DATE(Année_Calendaire,4,1))+1
Name Déc_Dim1: DATE(Année_Calendaire,12,1)-WEEKDAY(DATE(Année_Calendaire,12,1))+1
Name Fév_Dim1: DATE(Année_Calendaire,2,1)-WEEKDAY(DATE(Année_Calendaire,2,1))+1
Name Jan_Dim1: DATE(Année_Calendaire,1,1)-WEEKDAY(DATE(Année_Calendaire,1,1))+1
Name Juil_Dim1: DATE(Année_Calendaire,7,1)-WEEKDAY(DATE(Année_Calendaire,7,1))+1
Name Juin_Dim1: DATE(Année_Calendaire,6,1)-WEEKDAY(DATE(Année_Calendaire,6,1))+1
Name Mai_Dim1: DATE(Année_Calendaire,5,1)-WEEKDAY(DATE(Année_Calendaire,5,1))+1
Name Mar_Dim1: DATE(Année_Calendaire,3,1)-WEEKDAY(DATE(Année_Calendaire,3,1))+1
Name Nov_Dim1: DATE(Année_Calendaire,11,1)-WEEKDAY(DATE(Année_Calendaire,11,1))+1
Name Oct_Dim1: DATE(Année_Calendaire,10,1)-WEEKDAY(DATE(Année_Calendaire,10,1))+1
Name Sep_Dim1: DATE(Année_Calendaire,9,1)-WEEKDAY(DATE(Année_Calendaire,9,1))+1

Sheet Travail
A1: 2016 | B1: c1 : matin LMM | E1: c2 : nuit | G1: C3 : matin LJV | I1: C4 : am | M1: SI(C7="c1";2;SI(C7="c3";2;""))
AZ2: Contigent hs du mois | BA2: Contingent hs cummul
C4: JANVIER | H4: =Année_Calendaire -> 2016 | U4: JANVIER | Z4: =Année_Calendaire -> 2016 | AM4: JANVIER | AR4: =Année_Calendaire -> 2016
B5: c1 | C5: Lun | D5: Mar | E5: Mer | F5: Jeu | G5: Ven | H5: Sam | I5: Dim | J5: Cumul | K5: c2 | L5: Lun | M5: Mar | N5: Mer | O5: Jeu | P5: Ven | Q5: Sam | R5: Dim | S5: Cumul | T5: c3 | U5: Lun | V5: Mar | W5: Mer | X5: Jeu | Y5: Ven | Z5: Sam | AA5: Dim | AB5: Cumul | AC5: c4 | AD5: Lun | AE5: Mar | AF5: Mer | AG5: Jeu | AH5: Ven | AI5: Sam | AJ5: Dim | AK5: Cumul | AL5: c1 | AM5: Lun | AN5: Mar | AO5: Mer | AP5: Jeu | AQ5: Ven | AR5: Sam | AS5: Dim | AT5: Cumul | AU5: c2 | AV5: Lun | AW5: Mar | AX5: Cumul | AY5: Cumul total | AZ5: =AY12+AY13+AY14 -> 10 | BA5: =AZ5 -> 10
C6: =IF(DAY(Jan_Dim1)=1,"",IF(AND(YEAR(Jan_Dim1+1)=Année_Calendaire,MONTH(Jan_Dim1+1)=1),Jan_Dim1+1,"")) | D6: =IF(DAY(Jan_Dim1)=1,"",IF(AND(YEAR(Jan_Dim1+2)=Année_Calendaire,MONTH(Jan_Dim1+2)=1),Jan_Dim1+2,"")) | E6: =IF(DAY(Jan_Dim1)=1,"",IF(AND(YEAR(Jan_Dim1+3)=Année_Calendaire,MONTH(Jan_Dim1+3)=1),Jan_Dim1+3,"")) | F6: =IF(DAY(Jan_Dim1)=1,"",IF(AND(YEAR(Jan_Dim1+4)=Année_Calendaire,MONTH(Jan_Dim1+4)=1),Jan_Dim1+4,"")) | G6: =IF(DAY(Jan_Dim1)=1,"",IF(AND(YEAR(Jan_Dim1+5)=Année_Calendaire,MONTH(Jan_Dim1+5)=1),Jan_Dim1+5,"")) -> 42370 | H6: =IF(DAY(Jan_Dim1)=1,"",IF(AND(YEAR(Jan_Dim1+6)=Année_Calendaire,MONTH(Jan_Dim1+6)=1),Jan_Dim1+6,"")) -> 42371 | I6: =IF(DAY(Jan_Dim1)=1,IF(AND(YEAR(Jan_Dim1)=Année_Calendaire,MONTH(Jan_Dim1)=1),Jan_Dim1,""),IF(AND(YEAR(Jan_Dim1+7)=Année_Calendaire,MONTH(Jan_Dim1+7)=1),Jan_Dim1+7,"")) -> 42372 | L6: =IF(DAY(Jan_Dim1)=1,IF(AND(YEAR(Jan_Dim1+1)=Année_Calendaire,MONTH(Jan_Dim1+1)=1),Jan_Dim1+1,""),IF(AND(YEAR(Jan_Dim1+8)=Année_Calendaire,MONTH(Jan_Dim1+8)=1),Jan_Dim1+8,"")) -> 42373 | M6: =IF(DAY(Jan_Dim1)=1,IF(AND(YEAR(Jan_Dim1+2)=Année_Calendaire,MONTH(Jan_Dim1+2)=1),Jan_Dim1+2,""),IF(AND(YEAR(Jan_Dim1+9)=Année_Calendaire,MONTH(Jan_Dim1+9)=1),Jan_Dim1+9,"")) -> 42374 | N6: =IF(DAY(Jan_Dim1)=1,IF(AND(YEAR(Jan_Dim1+3)=Année_Calendaire,MONTH(Jan_Dim1+3)=1),Jan_Dim1+3,""),IF(AND(YEAR(Jan_Dim1+10)=Année_Calendaire,MONTH(Jan_Dim1+10)=1),Jan_Dim1+10,"")) -> 42375 | O6: =IF(DAY(Jan_Dim1)=1,IF(AND(YEAR(Jan_Dim1+4)=Année_Calendaire,MONTH(Jan_Dim1+4)=1),Jan_Dim1+4,""),IF(AND(YEAR(Jan_Dim1+11)=Année_Calendaire,MONTH(Jan_Dim1+11)=1),Jan_Dim1+11,"")) -> 42376 | P6: =IF(DAY(Jan_Dim1)=1,IF(AND(YEAR(Jan_Dim1+5)=Année_Calendaire,MONTH(Jan_Dim1+5)=1),Jan_Dim1+5,""),IF(AND(YEAR(Jan_Dim1+12)=Année_Calendaire,MONTH(Jan_Dim1+12)=1),Jan_Dim1+12,"")) -> 42377 | Q6: =IF(DAY(Jan_Dim1)=1,IF(AND(YEAR(Jan_Dim1+6)=Année_Calendaire,MONTH(Jan_Dim1+6)=1),Jan_Dim1+6,""),IF(AND(YEAR(Jan_Dim1+13)=Année_Calendaire,MONTH(Jan_Dim1+13)=1),Jan_Dim1+13,"")) -> 42378 | R6: =IF(DAY(Jan_Dim1)=1,IF(AND(YEAR(Jan_Dim1+7)=Année_Calendaire,MONTH(Jan_Dim1+7)=1),Jan_Dim1+7,""),IF(AND(YEAR(Jan_Dim1+14)=Année_Calendaire,MONTH(Jan_Dim1+14)=1),Jan_Dim1+14,"")) -> 42379 | U6: =IF(DAY(Jan_Dim1)=1,IF(AND(YEAR(Jan_Dim1+8)=Année_Calendaire,MONTH(Jan_Dim1+8)=1),Jan_Dim1+8,""),IF(AND(YEAR(Jan_Dim1+15)=Année_Calendaire,MONTH(Jan_Dim1+15)=1),Jan_Dim1+15,"")) -> 42380 | V6: =IF(DAY(Jan_Dim1)=1,IF(AND(YEAR(Jan_Dim1+9)=Année_Calendaire,MONTH(Jan_Dim1+9)=1),Jan_Dim1+9,""),IF(AND(YEAR(Jan_Dim1+16)=Année_Calendaire,MONTH(Jan_Dim1+16)=1),Jan_Dim1+16,"")) -> 42381 | W6: =IF(DAY(Jan_Dim1)=1,IF(AND(YEAR(Jan_Dim1+10)=Année_Calendaire,MONTH(Jan_Dim1+10)=1),Jan_Dim1+10,""),IF(AND(YEAR(Jan_Dim1+17)=Année_Calendaire,MONTH(Jan_Dim1+17)=1),Jan_Dim1+17,"")) -> 42382 | X6: =IF(DAY(Jan_Dim1)=1,IF(AND(YEAR(Jan_Dim1+11)=Année_Calendaire,MONTH(Jan_Dim1+11)=1),Jan_Dim1+11,""),IF(AND(YEAR(Jan_Dim1+18)=Année_Calendaire,MONTH(Jan_Dim1+18)=1),Jan_Dim1+18,"")) -> 42383 | Y6: =IF(DAY(Jan_Dim1)=1,IF(AND(YEAR(Jan_Dim1+12)=Année_Calendaire,MONTH(Jan_Dim1+12)=1),Jan_Dim1+12,""),IF(AND(YEAR(Jan_Dim1+19)=Année_Calendaire,MONTH(Jan_Dim1+19)=1),Jan_Dim1+19,"")) -> 42384 | Z6: =IF(DAY(Jan_Dim1)=1,IF(AND(YEAR(Jan_Dim1+13)=Année_Calendaire,MONTH(Jan_Dim1+13)=1),Jan_Dim1+13,""),IF(AND(YEAR(Jan_Dim1+20)=Année_Calendaire,MONTH(Jan_Dim1+20)=1),Jan_Dim1+20,"")) -> 42385 | AA6: =IF(DAY(Jan_Dim1)=1,IF(AND(YEAR(Jan_Dim1+14)=Année_Calendaire,MONTH(Jan_Dim1+14)=1),Jan_Dim1+14,""),IF(AND(YEAR(Jan_Dim1+21)=Année_Calendaire,MONTH(Jan_Dim1+21)=1),Jan_Dim1+21,"")) -> 42386 | AD6: =IF(DAY(Jan_Dim1)=1,IF(AND(YEAR(Jan_Dim1+15)=Année_Calendaire,MONTH(Jan_Dim1+15)=1),Jan_Dim1+15,""),IF(AND(YEAR(Jan_Dim1+22)=Année_Calendaire,MONTH(Jan_Dim1+22)=1),Jan_Dim1+22,"")) -> 42387 | AE6: =IF(DAY(Jan_Dim1)=1,IF(AND(YEAR(Jan_Dim1+16)=Année_Calendaire,MONTH(Jan_Dim1+16)=1),Jan_Dim1+16,""),IF(AND(YEAR(Jan_Dim1+23)=Année_Calendaire,MONTH(Jan_Dim1+23)=1),Jan_Dim1+23,"")) -> 42388 | AF6: =IF(DAY(Jan_Dim1)=1,IF(AND(YEAR(Jan_Dim1+17)=Année_Calendaire,MONTH(Jan_Dim1+17)=1),Jan_Dim1+17,""),IF(AND(YEAR(Jan_Dim1+24)=Année_Calendaire,MONTH(Jan_Dim1+24)=1),Jan_Dim1+24,"")) -> 42389 | AG6: =IF(DAY(Jan_Dim1)=1,IF(AND(YEAR(Jan_Dim1+18)=Année_Calendaire,MONTH(Jan_Dim1+18)=1),Jan_Dim1+18,""),IF(AND(YEAR(Jan_Dim1+25)=Année_Calendaire,MONTH(Jan_Dim1+25)=1),Jan_Dim1+25,"")) -> 42390 | AH6: =IF(DAY(Jan_Dim1)=1,IF(AND(YEAR(Jan_Dim1+19)=Année_Calendaire,MONTH(Jan_Dim1+19)=1),Jan_Dim1+19,""),IF(AND(YEAR(Jan_Dim1+26)=Année_Calendaire,MONTH(Jan_Dim1+26)=1),Jan_Dim1+26,"")) -> 42391 | AI6: =IF(DAY(Jan_Dim1)=1,IF(AND(YEAR(Jan_Dim1+20)=Année_Calendaire,MONTH(Jan_Dim1+20)=1),Jan_Dim1+20,""),IF(AND(YEAR(Jan_Dim1+27)=Année_Calendaire,MONTH(Jan_Dim1+27)=1),Jan_Dim1+27,"")) -> 42392 | AJ6: =IF(DAY(Jan_Dim1)=1,IF(AND(YEAR(Jan_Dim1+21)=Année_Calendaire,MONTH(Jan_Dim1+21)=1),Jan_Dim1+21,""),IF(AND(YEAR(Jan_Dim1+28)=Année_Calendaire,MONTH(Jan_Dim1+28)=1),Jan_Dim1+28,"")) -> 42393 | AM6: =IF(DAY(Jan_Dim1)=1,IF(AND(YEAR(Jan_Dim1+22)=Année_Calendaire,MONTH(Jan_Dim1+22)=1),Jan_Dim1+22,""),IF(AND(YEAR(Jan_Dim1+29)=Année_Calendaire,MONTH(Jan_Dim1+29)=1),Jan_Dim1+29,"")) -> 42394 | AN6: =IF(DAY(Jan_Dim1)=1,IF(AND(YEAR(Jan_Dim1+23)=Année_Calendaire,MONTH(Jan_Dim1+23)=1),Jan_Dim1+23,""),IF(AND(YEAR(Jan_Dim1+30)=Année_Calendaire,MONTH(Jan_Dim1+30)=1),Jan_Dim1+30,"")) -> 42395 | AO6: =IF(DAY(Jan_Dim1)=1,IF(AND(YEAR(Jan_Dim1+24)=Année_Calendaire,MONTH(Jan_Dim1+24)=1),Jan_Dim1+24,""),IF(AND(YEAR(Jan_Dim1+31)=Année_Calendaire,MONTH(Jan_Dim1+31)=1),Jan_Dim1+31,"")) -> 42396 | AP6: =IF(DAY(Jan_Dim1)=1,IF(AND(YEAR(Jan_Dim1+25)=Année_Calendaire,MONTH(Jan_Dim1+25)=1),Jan_Dim1+25,""),IF(AND(YEAR(Jan_Dim1+32)=Année_Calendaire,MONTH(Jan_Dim1+32)=1),Jan_Dim1+32,"")) -> 42397 | AQ6: =IF(DAY(Jan_Dim1)=1,IF(AND(YEAR(Jan_Dim1+26)=Année_Calendaire,MONTH(Jan_Dim1+26)=1),Jan_Dim1+26,""),IF(AND(YEAR(Jan_Dim1+33)=Année_Calendaire,MONTH(Jan_Dim1+33)=1),Jan_Dim1+33,"")) -> 42398 | AR6: =IF(DAY(Jan_Dim1)=1,IF(AND(YEAR(Jan_Dim1+27)=Année_Calendaire,MONTH(Jan_Dim1+27)=1),Jan_Dim1+27,""),IF(AND(YEAR(Jan_Dim1+34)=Année_Calendaire,MONTH(Jan_Dim1+34)=1),Jan_Dim1+34,"")) -> 42399 | AS6: =IF(DAY(Jan_Dim1)=1,IF(AND(YEAR(Jan_Dim1+28)=Année_Calendaire,MONTH(Jan_Dim1+28)=1),Jan_Dim1+28,""),IF(AND(YEAR(Jan_Dim1+35)=Année_Calendaire,MONTH(Jan_Dim1+35)=1),Jan_Dim1+35,"")) -> 42400 | AV6: =IF(DAY(Jan_Dim1)=1,IF(AND(YEAR(Jan_Dim1+29)=Année_Calendaire,MONTH(Jan_Dim1+29)=1),Jan_Dim1+29,""),IF(AND(YEAR(Jan_Dim1+36)=Année_Calendaire,MONTH(Jan_Dim1+36)=1),Jan_Dim1+36,"")) | AW6: =IF(DAY(Jan_Dim1)=1,IF(AND(YEAR(Jan_Dim1+30)=Année_Calendaire,MONTH(Jan_Dim1+30)=1),Jan_Dim1+30,""),IF(AND(YEAR(Jan_Dim1+37)=Année_Calendaire,MONTH(Jan_Dim1+37)=1),Jan_Dim1+37,""))
A7: Equipe | C7: =IFERROR(VLOOKUP(B5,DATA!$A:$H,2,TRUE),0) -> matin | D7: =IFERROR(VLOOKUP(B5,DATA!$A:$H,3,TRUE),0) -> matin | E7: =IFERROR(VLOOKUP(B5,DATA!$A:$H,4,TRUE),0) -> matin | F7: =IFERROR(VLOOKUP(B5,DATA!$A:$H,5,TRUE),0) -> 0 | G7: =IFERROR(VLOOKUP(B5,DATA!$A:$H,6,TRUE),0) -> 0 | H7: =IFERROR(VLOOKUP(B5,DATA!$A:$H,7,TRUE),0) -> 0 | I7: =IFERROR(VLOOKUP(B5,DATA!$A:$H,8,TRUE),0) -> 0 | L7: =IFERROR(VLOOKUP(K5,DATA!$A:$H,2,TRUE),0) -> nuit | M7: =IFERROR(VLOOKUP(K5,DATA!$A:$H,3,TRUE),0) -> nuit | N7: =IFERROR(VLOOKUP(K5,DATA!$A:$H,4,TRUE),0) -> nuit | O7: =IFERROR(VLOOKUP(K5,DATA!$A:$H,5,TRUE),0) -> nuit | P7: =IFERROR(VLOOKUP(K5,DATA!$A:$H,6,TRUE),0) -> nuit | Q7: =IFERROR(VLOOKUP(K5,DATA!$A:$H,7,TRUE),0) -> 0 | R7: =IFERROR(VLOOKUP(K5,DATA!$A:$H,8,TRUE),0) -> 0 | U7: =IFERROR(VLOOKUP(T5,DATA!$A:$H,2,TRUE),0) -> matin | V7: =IFERROR(VLOOKUP(T5,DATA!$A:$H,3,TRUE),0) -> 0 | W7: =IFERROR(VLOOKUP(T5,DATA!$A:$H,4,TRUE),0) -> 0 | X7: =IFERROR(VLOOKUP(T5,DATA!$A:$H,5,TRUE),0) -> matin | Y7: =IFERROR(VLOOKUP(T5,DATA!$A:$H,6,TRUE),0) -> matin | Z7: =IFERROR(VLOOKUP(T5,DATA!$A:$H,7,TRUE),0) -> 0 | AA7: =IFERROR(VLOOKUP(T5,DATA!$A:$H,8,TRUE),0) -> 0 | AD7: =IFERROR(VLOOKUP(AC5,DATA!$A:$H,2,TRUE),0) -> am | AE7: =IFERROR(VLOOKUP(AC5,DATA!$A:$H,3,TRUE),0) -> am | AF7: =IFERROR(VLOOKUP(AC5,DATA!$A:$H,4,TRUE),0) -> am | AG7: =IFERROR(VLOOKUP(AC5,DATA!$A:$H,5,TRUE),0) -> am | AH7: =IFERROR(VLOOKUP(AC5,DATA!$A:$H,6,TRUE),0) -> am | AI7: =IFERROR(VLOOKUP(AC5,DATA!$A:$H,7,TRUE),0) -> 0 | AJ7: =IFERROR(VLOOKUP(AC5,DATA!$A:$H,8,TRUE),0) -> 0 | AM7: =IFERROR(VLOOKUP(AL5,DATA!$A:$H,2,TRUE),0) -> matin | AN7: =IFERROR(VLOOKUP(AL5,DATA!$A:$H,3,TRUE),0) -> matin | AO7: =IFERROR(VLOOKUP(AL5,DATA!$A:$H,4,TRUE),0) -> matin | AP7: =IFERROR(VLOOKUP(AL5,DATA!$A:$H,5,TRUE),0) -> 0 | AQ7: =IFERROR(VLOOKUP(AL5,DATA!$A:$H,6,TRUE),0) -> 0 | AR7: =IFERROR(VLOOKUP(AL5,DATA!$A:$H,7,TRUE),0) -> 0 | AS7: =IFERROR(VLOOKUP(AL5,DATA!$A:$H,8,TRUE),0) -> 0 | AV7: =IFERROR(VLOOKUP(AU5,DATA!$A:$H,2,TRUE),0) -> nuit | AW7: =IFERROR(VLOOKUP(AU5,DATA!$A:$H,3,TRUE),0) -> nuit
A8: Ticket resto | C8: =IF(C7="Matin",1,IF(C7="AM",1,0)) -> 1 | D8: =IF(D7="Matin",1,IF(D7="AM",1,0)) -> 1 | E8: =IF(E7="Matin",1,IF(E7="AM",1,0)) -> 1 | F8: =IF(F7="Matin",1,IF(F7="AM",1,0)) -> 0 | G8: =IF(G7="Matin",1,IF(G7="AM",1,0)) -> 0 | H8: =IF(H7="Matin",1,IF(H7="AM",1,0)) -> 0 | I8: =IF(I7="Matin",1,IF(I7="AM",1,0)) -> 0 | J8: =SUM(C8:I8) -> 3 | L8: =IF(L7="Matin",1,IF(L7="AM",1,0)) -> 0 | M8: =IF(M7="Matin",1,IF(M7="AM",1,0)) -> 0 | N8: =IF(N7="Matin",1,IF(N7="AM",1,0)) -> 0 | O8: =IF(O7="Matin",1,IF(O7="AM",1,0)) -> 0 | P8: =IF(P7="Matin",1,IF(P7="AM",1,0)) -> 0 | Q8: =IF(Q7="Matin",1,IF(Q7="AM",1,0)) -> 0 | R8: =IF(R7="Matin",1,IF(R7="AM",1,0)) -> 0 | S8: =SUM(L8:R8) -> 0 | U8: =IF(U7="Matin",1,IF(U7="AM",1,0)) -> 1 | V8: =IF(V7="Matin",1,IF(V7="AM",1,0)) -> 0 | W8: =IF(W7="Matin",1,IF(W7="AM",1,0)) -> 0 | X8: =IF(X7="Matin",1,IF(X7="AM",1,0)) -> 1 | Y8: =IF(Y7="Matin",1,IF(Y7="AM",1,0)) -> 1 | Z8: =IF(Z7="Matin",1,IF(Z7="AM",1,0)) -> 0 | AA8: =IF(AA7="Matin",1,IF(AA7="AM",1,0)) -> 0 | AB8: =SUM(U8:AA8) -> 3 | AD8: =IF(AD7="Matin",1,IF(AD7="AM",1,0)) -> 1 | AE8: =IF(AE7="Matin",1,IF(AE7="AM",1,0)) -> 1 | AF8: =IF(AF7="Matin",1,IF(AF7="AM",1,0)) -> 1 | AG8: =IF(AG7="Matin",1,IF(AG7="AM",1,0)) -> 1 | AH8: =IF(AH7="Matin",1,IF(AH7="AM",1,0)) -> 1 | AI8: =IF(AI7="Matin",1,IF(AI7="AM",1,0)) -> 0 | AJ8: =IF(AJ7="Matin",1,IF(AJ7="AM",1,0)) -> 0 | AK8: =SUM(AD8:AJ8) -> 5 | AM8: =IF(AM7="Matin",1,IF(AM7="AM",1,0)) -> 1 | AN8: =IF(AN7="Matin",1,IF(AN7="AM",1,0)) -> 1 | AO8: =IF(AO7="Matin",1,IF(AO7="AM",1,0)) -> 1 | AP8: =IF(AP7="Matin",1,IF(AP7="AM",1,0)) -> 0 | AQ8: =IF(AQ7="Matin",1,IF(AQ7="AM",1,0)) -> 0 | AR8: =IF(AR7="Matin",1,IF(AR7="AM",1,0)) -> 0 | AS8: =IF(AS7="Matin",1,IF(AS7="AM",1,0)) -> 0 | AT8: =SUM(AM8:AS8) -> 3 | AV8: =IF(AV7="Matin",1,IF(AV7="AM",1,0)) -> 0 | AW8: =IF(AW7="Matin",1,IF(AW7="AM",1,0)) -> 0 | AX8: =SUM(AV8:AW8) -> 0 | AY8: =J8+S8+AB8+AK8+AT8+AX8 -> 14
A9: Travailler | C9: =IF(C10>=1,1,0) -> 1 | D9: =IF(D10>=1,1,0) -> 1 | E9: =IF(E10>=1,1,0) -> 1 | F9: =IF(F10>=1,1,0) -> 0 | G9: =IF(G10>=1,1,0) -> 0 | H9: =IF(H10>=1,1,0) -> 0 | I9: =IF(I10>=1,1,0) -> 0 | J9: =SUM(C9:I9) -> 3 | L9: =IF(L10>=1,1,0) -> 1 | M9: =IF(M10>=1,1,0) -> 1 | N9: =IF(N10>=1,1,0) -> 1 | O9: =IF(O10>=1,1,0) -> 1 | P9: =IF(P10>=1,1,0) -> 1 | Q9: =IF(Q10>=1,1,0) -> 0 | R9: =IF(R10>=1,1,0) -> 0 | S9: =SUM(L9:R9) -> 5 | U9: =IF(U10>=1,1,0) -> 1 | V9: =IF(V10>=1,1,0) -> 0 | W9: =IF(W10>=1,1,0) -> 0 | X9: =IF(X10>=1,1,0) -> 1 | Y9: =IF(Y10>=1,1,0) -> 1 | Z9: =IF(Z10>=1,1,0) -> 0 | AA9: =IF(AA10>=1,1,0) -> 0 | AB9: =SUM(U9:AA9) -> 3 | AD9: =IF(AD10>=1,1,0) -> 1 | AE9: =IF(AE10>=1,1,0) -> 1 | AF9: =IF(AF10>=1,1,0) -> 1 | AG9: =IF(AG10>=1,1,0) -> 1 | AH9: =IF(AH10>=1,1,0) -> 1 | AI9: =IF(AI10>=1,1,0) -> 0 | AJ9: =IF(AJ10>=1,1,0) -> 0 | AK9: =SUM(AD9:AJ9) -> 5 | AM9: =IF(AM10>=1,1,0) -> 1 | AN9: =IF(AN10>=1,1,0) -> 1 | AO9: =IF(AO10>=1,1,0) -> 1 | AP9: =IF(AP10>=1,1,0) -> 0 | AQ9: =IF(AQ10>=1,1,0) -> 0 | AR9: =IF(AR10>=1,1,0) -> 0 | AS9: =IF(AS10>=1,1,0) -> 0 | AT9: =SUM(AM9:AS9) -> 3 | AV9: =IF(AV10>=1,1,0) -> 1 | AW9: =IF(AW10>=1,1,0) -> 1 | AX9: =SUM(AV9:AW9) -> 2 | AY9: =J9+S9+AB9+AK9+AT9+AX9 -> 21
A10: Nbr heure | C10: =IF(C7="Matin",8,IF(C7="AM",8,IF(C7="nuit",8,0))) -> 8 | D10: =IF(D7="Matin",8,IF(D7="AM",8,IF(D7="nuit",8,0))) -> 8 | E10: =IF(E7="Matin",8,IF(E7="AM",8,IF(E7="nuit",8,0))) -> 8 | F10: =IF(F7="Matin",8,IF(F7="AM",8,IF(F7="nuit",8,0))) -> 0 | G10: =IF(G7="Matin",8,IF(G7="AM",8,IF(G7="nuit",8,0))) -> 0 | H10: =IF(H7="Matin",8,IF(H7="AM",8,IF(H7="nuit",8,0))) -> 0 | I10: =IF(I7="Matin",8,IF(I7="AM",8,IF(I7="nuit",8,0))) -> 0 | J10: =SUM(C10:I10) -> 24 | L10: =IF(L7="Matin",8,IF(L7="AM",8,IF(L7="nuit",8,0))) -> 8 | M10: =IF(M7="Matin",8,IF(M7="AM",8,IF(M7="nuit",8,0))) -> 8 | N10: =IF(N7="Matin",8,IF(N7="AM",8,IF(N7="nuit",8,0))) -> 8 | O10: =IF(O7="Matin",8,IF(O7="AM",8,IF(O7="nuit",8,0))) -> 8 | P10: =IF(P7="Matin",8,IF(P7="AM",8,IF(P7="nuit",8,0))) -> 8 | Q10: =IF(Q7="Matin",8,IF(Q7="AM",8,IF(Q7="nuit",8,0))) -> 0 | R10: =IF(R7="Matin",8,IF(R7="AM",8,IF(R7="nuit",8,0))) -> 0 | S10: =SUM(L10:R10) -> 40 | U10: =IF(U7="Matin",8,IF(U7="AM",8,IF(U7="nuit",8,0))) -> 8 | V10: =IF(V7="Matin",8,IF(V7="AM",8,IF(V7="nuit",8,0))) -> 0 | W10: =IF(W7="Matin",8,IF(W7="AM",8,IF(W7="nuit",8,0))) -> 0 | X10: =IF(X7="Matin",8,IF(X7="AM",8,IF(X7="nuit",8,0))) -> 8 | Y10: =IF(Y7="Matin",8,IF(Y7="AM",8,IF(Y7="nuit",8,0))) -> 8 | Z10: =IF(Z7="Matin",8,IF(Z7="AM",8,IF(Z7="nuit",8,0))) -> 0 | AA10: =IF(AA7="Matin",8,IF(AA7="AM",8,IF(AA7="nuit",8,0))) -> 0 | AB10: =SUM(U10:AA10) -> 24 | AD10: =IF(AD7="Matin",8,IF(AD7="AM",8,IF(AD7="nuit",8,0))) -> 8 | AE10: =IF(AE7="Matin",8,IF(AE7="AM",8,IF(AE7="nuit",8,0))) -> 8 | AF10: =IF(AF7="Matin",8,IF(AF7="AM",8,IF(AF7="nuit",8,0))) -> 8 | AG10: =IF(AG7="Matin",8,IF(AG7="AM",8,IF(AG7="nuit",8,0))) -> 8 | AH10: =IF(AH7="Matin",8,IF(AH7="AM",8,IF(AH7="nuit",8,0))) -> 8 | AI10: =IF(AI7="Matin",8,IF(AI7="AM",8,IF(AI7="nuit",8,0))) -> 0 | AJ10: =IF(AJ7="Matin",8,IF(AJ7="AM",8,IF(AJ7="nuit",8,0))) -> 0 | AK10: =SUM(AD10:AJ10) -> 40 | AM10: =IF(AM7="Matin",8,IF(AM7="AM",8,IF(AM7="nuit",8,0))) -> 8 | AN10: =IF(AN7="Matin",8,IF(AN7="AM",8,IF(AN7="nuit",8,0))) -> 8 | AO10: =IF(AO7="Matin",8,IF(AO7="AM",8,IF(AO7="nuit",8,0))) -> 8 | AP10: =IF(AP7="Matin",8,IF(AP7="AM",8,IF(AP7="nuit",8,0))) -> 0 | AQ10: =IF(AQ7="Matin",8,IF(AQ7="AM",8,IF(AQ7="nuit",8,0))) -> 0 | AR10: =IF(AR7="Matin",8,IF(AR7="AM",8,IF(AR7="nuit",8,0))) -> 0 | AS10: =IF(AS7="Matin",8,IF(AS7="AM",8,IF(AS7="nuit",8,0))) -> 0 | AT10: =SUM(AM10:AS10) -> 24 | AV10: =IF(AV7="Matin",8,IF(AV7="AM",8,IF(AV7="nuit",8,0))) -> 8 | AW10: =IF(AW7="Matin",8,IF(AW7="AM",8,IF(AW7="nuit",8,0))) -> 8 | AX10: =SUM(AV10:AW10) -> 16 | AY10: =J10+S10+AB10+AK10+AT10+AX10 -> 168
A11: Heure comp | C11: =IF(C5<>"Dim",IF(C10>32,MIN(C10,35)-32,0),0) -> 0 | D11: =IF(D5<>"Dim",IF(SUM($C10:D10)>32,MIN(SUM($C10:D10),35)-32-SUM($C11:C11),0),0) -> 0 | E11: =IF(E5<>"Dim",IF(SUM($C10:E10)>32,MIN(SUM($C10:E10),35)-32-SUM($C11:D11),0),0) -> 0 | F11: =IF(F5<>"Dim",IF(SUM($C10:F10)>32,MIN(SUM($C10:F10),35)-32-SUM($C11:E11),0),0) -> 0 | G11: =IF(G5<>"Dim",IF(SUM($C10:G10)>32,MIN(SUM($C10:G10),35)-32-SUM($C11:F11),0),0) -> 0 | H11: =IF(H5<>"Dim",IF(SUM($C10:H10)>32,MIN(SUM($C10:H10),35)-32-SUM($C11:G11),0),0) -> 0 | I11: =IF(I5<>"Dim",IF(SUM($C10:I10)>32,MIN(SUM($C10:I10),35)-32-SUM($C11:H11),0),0) -> 0 | J11: =SUM(C11:I11) -> 0 | L11: =IF(L5<>"Dim",IF(L10>32,MIN(L10,35)-32,0),0) -> 0 | M11: =IF(M5<>"Dim",IF(SUM($L10:M10)>32,MIN(SUM($L10:M10),35)-32-SUM($L11:L11),0),0) -> 0 | N11: =IF(N5<>"Dim",IF(SUM($L10:N10)>32,MIN(SUM($L10:N10),35)-32-SUM($L11:M11),0),0) -> 0 | O11: =IF(O5<>"Dim",IF(SUM($L10:O10)>32,MIN(SUM($L10:O10),35)-32-SUM($L11:N11),0),0) -> 0 | P11: =IF(P5<>"Dim",IF(SUM($L10:P10)>32,MIN(SUM($L10:P10),35)-32-SUM($L11:O11),0),0) -> 3 | Q11: =IF(Q5<>"Dim",IF(SUM($L10:Q10)>32,MIN(SUM($L10:Q10),35)-32-SUM($L11:P11),0),0) -> 0 | R11: =IF(R5<>"Dim",IF(SUM($L10:R10)>32,MIN(SUM($L10:R10),35)-32-SUM($L11:Q11),0),0) -> 0 | S11: =SUM(L11:R11) -> 3 | U11: =IF(U5<>"Dim",IF(U10>32,MIN(U10,35)-32,0),0) -> 0 | V11: =IF(V5<>"Dim",IF(SUM($U10:V10)>32,MIN(SUM($U10:V10),35)-32-SUM($U11:U11),0),0) -> 0 | W11: =IF(W5<>"Dim",IF(SUM($U10:W10)>32,MIN(SUM($U10:W10),35)-32-SUM($U11:V11),0),0) -> 0 | X11: =IF(X5<>"Dim",IF(SUM($U10:X10)>32,MIN(SUM($U10:X10),35)-32-SUM($U11:W11),0),0) -> 0 | Y11: =IF(Y5<>"Dim",IF(SUM($U10:Y10)>32,MIN(SUM($U10:Y10),35)-32-SUM($U11:X11),0),0) -> 0 | Z11: =IF(Z5<>"Dim",IF(SUM($U10:Z10)>32,MIN(SUM($U10:Z10),35)-32-SUM($U11:Y11),0),0) -> 0 | AA11: =IF(AA5<>"Dim",IF(SUM($U10:AA10)>32,MIN(SUM($U10:AA10),35)-32-SUM($U11:Z11),0),0) -> 0 | AB11: =SUM(U11:AA11) -> 0 | AD11: =IF(AD5<>"Dim",IF(AD10>32,MIN(AD10,35)-32,0),0) -> 0 | AE11: =IF(AE5<>"Dim",IF(SUM($AD10:AE10)>32,MIN(SUM($AD10:AE10),35)-32-SUM($AD11:AD11),0),0) -> 0 | AF11: =IF(AF5<>"Dim",IF(SUM($AD10:AF10)>32,MIN(SUM($AD10:AF10),35)-32-SUM($AD11:AE11),0),0) -> 0 | AG11: =IF(AG5<>"Dim",IF(SUM($AD10:AG10)>32,MIN(SUM($AD10:AG10),35)-32-SUM($AD11:AF11),0),0) -> 0 | AH11: =IF(AH5<>"Dim",IF(SUM($AD10:AH10)>32,MIN(SUM($AD10:AH10),35)-32-SUM($AD11:AG11),0),0) -> 3 | AI11: =IF(AI5<>"Dim",IF(SUM($AD10:AI10)>32,MIN(SUM($AD10:AI10),35)-32-SUM($AD11:AH11),0),0) -> 0 | AJ11: =IF(AJ5<>"Dim",IF(SUM($AD10:AJ10)>32,MIN(SUM($AD10:AJ10),35)-32-SUM($AD11:AI11),0),0) -> 0 | AK11: =SUM(AD11:AJ11) -> 3 | AM11: =IF(AM5<>"Dim",IF(AM10>32,MIN(AM10,35)-32,0),0) -> 0 | AN11: =IF(AN5<>"Dim",IF(SUM($AM10:AN10)>32,MIN(SUM($AM10:AN10),35)-32-SUM($AM11:AM11),0),0) -> 0 | AO11: =IF(AO5<>"Dim",IF(SUM($AM10:AO10)>32,MIN(SUM($AM10:AO10),35)-32-SUM($AM11:AN11),0),0) -> 0 | AP11: =IF(AP5<>"Dim",IF(SUM($AM10:AP10)>32,MIN(SUM($AM10:AP10),35)-32-SUM($AM11:AO11),0),0) -> 0 | AQ11: =IF(AQ5<>"Dim",IF(SUM($AM10:AQ10)>32,MIN(SUM($AM10:AQ10),35)-32-SUM($AM11:AP11),0),0) -> 0 | AR11: =IF(AR5<>"Dim",IF(SUM($AM10:AR10)>32,MIN(SUM($AM10:AR10),35)-32-SUM($AM11:AQ11),0),0) -> 0 | AS11: =IF(AS5<>"Dim",IF(SUM($AM10:AS10)>32,MIN(SUM($AM10:AS10),35)-32-SUM($AM11:AR11),0),0) -> 0 | AT11: =SUM(AM11:AS11) -> 0 | AV11: =IF(AV5<>"Dim",IF(AV10>32,MIN(AV10,35)-32,0),0) -> 0 | AW11: =IF(AW5<>"Dim",IF(SUM($AV10:AW10)>32,MIN(SUM($AV10:AW10),35)-32-SUM($AV11:AV11),0),0) -> 0 | AX11: =SUM(AV11:AW11) -> 0 | AY11: =J11+S11+AB11+AK11+AT11+AX11 -> 6
A12: HS 25% | C12: =IF(C5<>"Dim",IF(C10>35,(MIN(C10,43)-35),0),0) -> 0 | D12: =IF(D5<>"Dim",IF(SUM($C10:D10)>35,(MIN(SUM($C10:D10),43)-35-SUM($C12:C12)),0),0) -> 0 | E12: =IF(E5<>"Dim",IF(SUM($C10:E10)>35,(MIN(SUM($C10:E10),43)-35-SUM($C12:D12)),0),0) -> 0 | F12: =IF(F5<>"Dim",IF(SUM($C10:F10)>35,(MIN(SUM($C10:F10),43)-35-SUM($C12:E12)),0),0) -> 0 | G12: =IF(G5<>"Dim",IF(SUM($C10:G10)>35,(MIN(SUM($C10:G10),43)-35-SUM($C12:F12)),0),0) -> 0 | H12: =IF(H5<>"Dim",IF(SUM($C10:H10)>35,(MIN(SUM($C10:H10),43)-35-SUM($C12:G12)),0),0) -> 0 | I12: =IF(I5<>"Dim",IF(SUM($C10:I10)>35,(MIN(SUM($C10:I10),43)-35-SUM($C12:H12)),0),0) -> 0 | J12: =SUM(C12:I12) -> 0 | L12: =IF(L5<>"Dim",IF(L10>35,(MIN(L10,43)-35),0),0) -> 0 | M12: =IF(M5<>"Dim",IF(SUM($L10:M10)>35,(MIN(SUM($L10:M10),43)-35-SUM($L12:L12)),0),0) -> 0 | N12: =IF(N5<>"Dim",IF(SUM($L10:N10)>35,(MIN(SUM($L10:N10),43)-35-SUM($L12:M12)),0),0) -> 0 | O12: =IF(O5<>"Dim",IF(SUM($L10:O10)>35,(MIN(SUM($L10:O10),43)-35-SUM($L12:N12)),0),0) -> 0 | P12: =IF(P5<>"Dim",IF(SUM($L10:P10)>35,(MIN(SUM($L10:P10),43)-35-SUM($L12:O12)),0),0) -> 5 | Q12: =IF(Q5<>"Dim",IF(SUM($L10:Q10)>35,(MIN(SUM($L10:Q10),43)-35-SUM($L12:P12)),0),0) -> 0 | R12: =IF(R5<>"Dim",IF(SUM($L10:R10)>35,(MIN(SUM($L10:R10),43)-35-SUM($L12:Q12)),0),0) -> 0 | S12: =SUM(L12:R12) -> 5 | U12: =IF(U5<>"Dim",IF(U10>35,(MIN(U10,43)-35),0),0) -> 0 | V12: =IF(V5<>"Dim",IF(SUM($U10:V10)>35,(MIN(SUM($U10:V10),43)-35-SUM($U12:U12)),0),0) -> 0 | W12: =IF(W5<>"Dim",IF(SUM($U10:W10)>35,(MIN(SUM($U10:W10),43)-35-SUM($U12:V12)),0),0) -> 0 | X12: =IF(X5<>"Dim",IF(SUM($U10:X10)>35,(MIN(SUM($U10:X10),43)-35-SUM($U12:W12)),0),0) -> 0 | Y12: =IF(Y5<>"Dim",IF(SUM($U10:Y10)>35,(MIN(SUM($U10:Y10),43)-35-SUM($U12:X12)),0),0) -> 0 | Z12: =IF(Z5<>"Dim",IF(SUM($U10:Z10)>35,(MIN(SUM($U10:Z10),43)-35-SUM($U12:Y12)),0),0) -> 0 | AA12: =IF(AA5<>"Dim",IF(SUM($U10:AA10)>35,(MIN(SUM($U10:AA10),43)-35-SUM($U12:Z12)),0),0) -> 0 | AB12: =SUM(U12:AA12) -> 0 | AD12: =IF(AD5<>"Dim",IF(AD10>35,(MIN(AD10,43)-35),0),0) -> 0 | AE12: =IF(AE5<>"Dim",IF(SUM($AD10:AE10)>35,(MIN(SUM($AD10:AE10),43)-35-SUM($AD12:AD12)),0),0) -> 0 | AF12: =IF(AF5<>"Dim",IF(SUM($AD10:AF10)>35,(MIN(SUM($AD10:AF10),43)-35-SUM($AD12:AE12)),0),0) -> 0 | AG12: =IF(AG5<>"Dim",IF(SUM($AD10:AG10)>35,(MIN(SUM($AD10:AG10),43)-35-SUM($AD12:AF12)),0),0) -> 0 | AH12: =IF(AH5<>"Dim",IF(SUM($AD10:AH10)>35,(MIN(SUM($AD10:AH10),43)-35-SUM($AD12:AG12)),0),0) -> 5 | AI12: =IF(AI5<>"Dim",IF(SUM($AD10:AI10)>35,(MIN(SUM($AD10:AI10),43)-35-SUM($AD12:AH12)),0),0) -> 0 | AJ12: =IF(AJ5<>"Dim",IF(SUM($AD10:AJ10)>35,(MIN(SUM($AD10:AJ10),43)-35-SUM($AD12:AI12)),0),0) -> 0 | AK12: =SUM(AD12:AJ12) -> 5 | AM12: =IF(AM5<>"Dim",IF(AM10>35,(MIN(AM10,43)-35),0),0) -> 0 | AN12: =IF(AN5<>"Dim",IF(SUM($AM10:AN10)>35,(MIN(SUM($AM10:AN10),43)-35-SUM($AM12:AM12)),0),0) -> 0 | AO12: =IF(AO5<>"Dim",IF(SUM($AM10:AO10)>35,(MIN(SUM($AM10:AO10),43)-35-SUM($AM12:AN12)),0),0) -> 0 | AP12: =IF(AP5<>"Dim",IF(SUM($AM10:AP10)>35,(MIN(SUM($AM10:AP10),43)-35-SUM($AM12:AO12)),0),0) -> 0 | AQ12: =IF(AQ5<>"Dim",IF(SUM($AM10:AQ10)>35,(MIN(SUM($AM10:AQ10),43)-35-SUM($AM12:AP12)),0),0) -> 0 | AR12: =IF(AR5<>"Dim",IF(SUM($AM10:AR10)>35,(MIN(SUM($AM10:AR10),43)-35-SUM($AM12:AQ12)),0),0) -> 0 | AS12: =IF(AS5<>"Dim",IF(SUM($AM10:AS10)>35,(MIN(SUM($AM10:AS10),43)-35-SUM($AM12:AR12)),0),0) -> 0 | AT12: =SUM(AM12:AS12) -> 0 | AV12: =IF(AV5<>"Dim",IF(AV10>35,(MIN(AV10,43)-35),0),0) -> 0 | AW12: =IF(AW5<>"Dim",IF(SUM($AV10:AW10)>35,(MIN(SUM($AV10:AW10),43)-35-SUM($AV12:AV12)),0),0) -> 0 | AX12: =SUM(AV12:AW12) -> 0 | AY12: =J12+S12+AB12+AK12+AT12+AX12 -> 10
A13: HS 50% | C13: =IF(C5<>"Dim",IF(C10>43,(MIN(C10,48)-43),0),0) -> 0 | D13: =IF(D5<>"Dim",IF(SUM($C10:D10)>43,(MIN(SUM($C10:D10),48)-43-SUM($C13:C13)),0),0) -> 0 | E13: =IF(E5<>"Dim",IF(SUM($C10:E10)>43,(MIN(SUM($C10:E10),48)-43-SUM($C13:D13)),0),0) -> 0 | F13: =IF(F5<>"Dim",IF(SUM($C10:F10)>43,(MIN(SUM($C10:F10),48)-43-SUM($C13:E13)),0),0) -> 0 | G13: =IF(G5<>"Dim",IF(SUM($C10:G10)>43,(MIN(SUM($C10:G10),48)-43-SUM($C13:F13)),0),0) -> 0 | H13: =IF(H5<>"Dim",IF(SUM($C10:H10)>43,(MIN(SUM($C10:H10),48)-43-SUM($C13:G13)),0),0) -> 0 | I13: =IF(I5<>"Dim",IF(SUM($C10:I10)>43,(MIN(SUM($C10:I10),48)-43-SUM($C13:H13)),0),0) -> 0 | J13: =SUM(C13:I13) -> 0 | L13: =IF(L5<>"Dim",IF(L10>43,(MIN(L10,48)-43),0),0) -> 0 | M13: =IF(M5<>"Dim",IF(SUM($L10:M10)>43,(MIN(SUM($L10:M10),48)-43-SUM($L13:L13)),0),0) -> 0 | N13: =IF(N5<>"Dim",IF(SUM($L10:N10)>43,(MIN(SUM($L10:N10),48)-43-SUM($L13:M13)),0),0) -> 0 | O13: =IF(O5<>"Dim",IF(SUM($L10:O10)>43,(MIN(SUM($L10:O10),48)-43-SUM($L13:N13)),0),0) -> 0 | P13: =IF(P5<>"Dim",IF(SUM($L10:P10)>43,(MIN(SUM($L10:P10),48)-43-SUM($L13:O13)),0),0) -> 0 | Q13: =IF(Q5<>"Dim",IF(SUM($L10:Q10)>43,(MIN(SUM($L10:Q10),48)-43-SUM($L13:P13)),0),0) -> 0 | R13: =IF(R5<>"Dim",IF(SUM($L10:R10)>43,(MIN(SUM($L10:R10),48)-43-SUM($L13:Q13)),0),0) -> 0 | S13: =SUM(L13:R13) -> 0 | U13: =IF(U5<>"Dim",IF(U10>43,(MIN(U10,48)-43),0),0) -> 0 | V13: =IF(V5<>"Dim",IF(SUM($U10:V10)>43,(MIN(SUM($U10:V10),48)-43-SUM($U13:U13)),0),0) -> 0 | W13: =IF(W5<>"Dim",IF(SUM($U10:W10)>43,(MIN(SUM($U10:W10),48)-43-SUM($U13:V13)),0),0) -> 0 | X13: =IF(X5<>"Dim",IF(SUM($U10:X10)>43,(MIN(SUM($U10:X10),48)-43-SUM($U13:W13)),0),0) -> 0 | Y13: =IF(Y5<>"Dim",IF(SUM($U10:Y10)>43,(MIN(SUM($U10:Y10),48)-43-SUM($U13:X13)),0),0) -> 0 | Z13: =IF(Z5<>"Dim",IF(SUM($U10:Z10)>43,(MIN(SUM($U10:Z10),48)-43-SUM($U13:Y13)),0),0) -> 0 | AA13: =IF(AA5<>"Dim",IF(SUM($U10:AA10)>43,(MIN(SUM($U10:AA10),48)-43-SUM($U13:Z13)),0),0) -> 0 | AB13: =SUM(U13:AA13) -> 0 | AD13: =IF(AD5<>"Dim",IF(AD10>43,(MIN(AD10,48)-43),0),0) -> 0 | AE13: =IF(AE5<>"Dim",IF(SUM($AD10:AE10)>43,(MIN(SUM($AD10:AE10),48)-43-SUM($AD13:AD13)),0),0) -> 0 | AF13: =IF(AF5<>"Dim",IF(SUM($AD10:AF10)>43,(MIN(SUM($AD10:AF10),48)-43-SUM($AD13:AE13)),0),0) -> 0 | AG13: =IF(AG5<>"Dim",IF(SUM($AD10:AG10)>43,(MIN(SUM($AD10:AG10),48)-43-SUM($AD13:AF13)),0),0) -> 0 | AH13: =IF(AH5<>"Dim",IF(SUM($AD10:AH10)>43,(MIN(SUM($AD10:AH10),48)-43-SUM($AD13:AG13)),0),0) -> 0 | AI13: =IF(AI5<>"Dim",IF(SUM($AD10:AI10)>43,(MIN(SUM($AD10:AI10),48)-43-SUM($AD13:AH13)),0),0) -> 0 | AJ13: =IF(AJ5<>"Dim",IF(SUM($AD10:AJ10)>43,(MIN(SUM($AD10:AJ10),48)-43-SUM($AD13:AI13)),0),0) -> 0 | AK13: =SUM(AD13:AJ13) -> 0 | AM13: =IF(AM5<>"Dim",IF(AM10>43,(MIN(AM10,48)-43),0),0) -> 0 | AN13: =IF(AN5<>"Dim",IF(SUM($AM10:AN10)>43,(MIN(SUM($AM10:AN10),48)-43-SUM($AM13:AM13)),0),0) -> 0 | AO13: =IF(AO5<>"Dim",IF(SUM($AM10:AO10)>43,(MIN(SUM($AM10:AO10),48)-43-SUM($AM13:AN13)),0),0) -> 0 | AP13: =IF(AP5<>"Dim",IF(SUM($AM10:AP10)>43,(MIN(SUM($AM10:AP10),48)-43-SUM($AM13:AO13)),0),0) -> 0 | AQ13: =IF(AQ5<>"Dim",IF(SUM($AM10:AQ10)>43,(MIN(SUM($AM10:AQ10),48)-43-SUM($AM13:AP13)),0),0) -> 0 | AR13: =IF(AR5<>"Dim",IF(SUM($AM10:AR10)>43,(MIN(SUM($AM10:AR10),48)-43-SUM($AM13:AQ13)),0),0) -> 0 | AS13: =IF(AS5<>"Dim",IF(SUM($AM10:AS10)>43,(MIN(SUM($AM10:AS10),48)-43-SUM($AM13:AR13)),0),0) -> 0 | AT13: =SUM(AM13:AS13) -> 0 | AV13: =IF(AV5<>"Dim",IF(AV10>43,(MIN(AV10,48)-43),0),0) -> 0 | AW13: =IF(AW5<>"Dim",IF(SUM($AV10:AW10)>43,(MIN(SUM($AV10:AW10),48)-43-SUM($AV13:AV13)),0),0) -> 0 | AX13: =SUM(AV13:AW13) -> 0 | AY13: =J13+S13+AB13+AK13+AT13+AX13 -> 0
A14: HS 200% | C14: =IF(C5="Dim",C10,IF(C20="ferie",C10,0)) -> 0 | D14: =IF(D5="Dim",D10,IF(D20="ferie",D10,0)) -> 0 | E14: =IF(E5="Dim",E10,IF(E20="ferie",E10,0)) -> 0 | F14: =IF(F5="Dim",F10,IF(F20="ferie",F10,0)) -> 0 | G14: =IF(G5="Dim",G10,IF(G20="ferie",G10,0)) -> 0 | H14: =IF(H5="Dim",H10,IF(H20="ferie",H10,0)) -> 0 | I14: =IF(I5="Dim",I10,IF(I20="ferie",I10,0)) -> 0 | J14: =SUM(C14:I14) -> 0 | L14: =IF(L5="Dim",L10,IF(L20="ferie",L10,0)) -> 0 | M14: =IF(M5="Dim",M10,IF(M20="ferie",M10,0)) -> 0 | N14: =IF(N5="Dim",N10,IF(N20="ferie",N10,0)) -> 0 | O14: =IF(O5="Dim",O10,IF(O20="ferie",O10,0)) -> 0 | P14: =IF(P5="Dim",P10,IF(P20="ferie",P10,0)) -> 0 | Q14: =IF(Q5="Dim",Q10,IF(Q20="ferie",Q10,0)) -> 0 | R14: =IF(R5="Dim",R10,IF(R20="ferie",R10,0)) -> 0 | S14: =SUM(L14:R14) -> 0 | U14: =IF(U5="Dim",U10,IF(U20="ferie",U10,0)) -> 0 | V14: =IF(V5="Dim",V10,IF(V20="ferie",V10,0)) -> 0 | W14: =IF(W5="Dim",W10,IF(W20="ferie",W10,0)) -> 0 | X14: =IF(X5="Dim",X10,IF(X20="ferie",X10,0)) -> 0 | Y14: =IF(Y5="Dim",Y10,IF(Y20="ferie",Y10,0)) -> 0 | Z14: =IF(Z5="Dim",Z10,IF(Z20="ferie",Z10,0)) -> 0 | AA14: =IF(AA5="Dim",AA10,IF(AA20="ferie",AA10,0)) -> 0 | AB14: =SUM(U14:AA14) -> 0 | AD14: =IF(AD5="Dim",AD10,IF(AD20="ferie",AD10,0)) -> 0 | AE14: =IF(AE5="Dim",AE10,IF(AE20="ferie",AE10,0)) -> 0 | AF14: =IF(AF5="Dim",AF10,IF(AF20="ferie",AF10,0)) -> 0 | AG14: =IF(AG5="Dim",AG10,IF(AG20="ferie",AG10,0)) -> 0 | AH14: =IF(AH5="Dim",AH10,IF(AH20="ferie",AH10,0)) -> 0 | AI14: =IF(AI5="Dim",AI10,IF(AI20="ferie",AI10,0)) -> 0 | AJ14: =IF(AJ5="Dim",AJ10,IF(AJ20="ferie",AJ10,0)) -> 0 | AK14: =SUM(AD14:AJ14) -> 0 | AM14: =IF(AM5="Dim",AM10,IF(AM20="ferie",AM10,0)) -> 0 | AN14: =IF(AN5="Dim",AN10,IF(AN20="ferie",AN10,0)) -> 0 | AO14: =IF(AO5="Dim",AO10,IF(AO20="ferie",AO10,0)) -> 0 | AP14: =IF(AP5="Dim",AP10,IF(AP20="ferie",AP10,0)) -> 0 | AQ14: =IF(AQ5="Dim",AQ10,IF(AQ20="ferie",AQ10,0)) -> 0 | AR14: =IF(AR5="Dim",AR10,IF(AR20="ferie",AR10,0)) -> 0 | AS14: =IF(AS5="Dim",AS10,IF(AS20="ferie",AS10,0)) -> 0 | AT14: =SUM(AM14:AS14) -> 0 | AV14: =IF(AV5="Dim",AV10,IF(AV20="ferie",AV10,0)) -> 0 | AW14: =IF(AW5="Dim",AW10,IF(AW20="ferie",AW10,0)) -> 0 | AX14: =SUM(AV14:AW14) -> 0 | AY14: =J14+S14+AB14+AK14+AT14+AX14 -> 0
A15: HR + | J15: =SUM(C15:I15) -> 0 | S15: =SUM(L15:R15) -> 0 | AB15: =SUM(U15:AA15) -> 0 | AK15: =SUM(AD15:AJ15) -> 0 | AT15: =SUM(AM15:AS15) -> 0 | AX15: =SUM(AV15:AW15) -> 0 | AY15: =J15+S15+AB15+AK15+AT15+AX15 -> 0
A16: HR - | J16: =SUM(C16:I16) -> 0 | S16: =SUM(L16:R16) -> 0 | AB16: =SUM(U16:AA16) -> 0 | AK16: =SUM(AD16:AJ16) -> 0 | AT16: =SUM(AM16:AS16) -> 0 | AX16: =SUM(AV16:AW16) -> 0 | AY16: =J16+S16+AB16+AK16+AT16+AX16 -> 0
A17: CP - | J17: =SUM(C17:I17) -> 0 | S17: =SUM(L17:R17) -> 0 | AB17: =SUM(U17:AA17) -> 0 | AK17: =SUM(AD17:AJ17) -> 0 | AT17: =SUM(AM17:AS17) -> 0 | AX17: =SUM(AV17:AW17) -> 0 | AY17: =J17+S17+AB17+AK17+AT17+AX17 -> 0
A18: RC - | J18: =SUM(C18:I18) -> 0 | S18: =SUM(L18:R18) -> 0 | AB18: =SUM(U18:AA18) -> 0 | AK18: =SUM(AD18:AJ18) -> 0 | AT18: =SUM(AM18:AS18) -> 0 | AX18: =SUM(AV18:AW18) -> 0 | AY18: =J18+S18+AB18+AK18+AT18+AX18 -> 0
A19: RC nuit | C19: =IF(C7="nuit",C10*0.02,0) -> 0 | D19: =IF(D7="nuit",D10*0.02,0) -> 0 | E19: =IF(E7="nuit",E10*0.02,0) -> 0 | F19: =IF(F7="nuit",F10*0.02,0) -> 0 | G19: =IF(G7="nuit",G10*0.02,0) -> 0 | H19: =IF(H7="nuit",H10*0.02,0) -> 0 | I19: =IF(I7="nuit",I10*0.02,0) -> 0 | J19: =SUM(C19:I19) -> 0 | L19: =IF(L7="nuit",L10*0.02,0) -> 0.16 | M19: =IF(M7="nuit",M10*0.02,0) -> 0.16 | N19: =IF(N7="nuit",N10*0.02,0) -> 0.16 | O19: =IF(O7="nuit",O10*0.02,0) -> 0.16 | P19: =IF(P7="nuit",P10*0.02,0) -> 0.16 | Q19: =IF(Q7="nuit",Q10*0.02,0) -> 0 | R19: =IF(R7="nuit",R10*0.02,0) -> 0 | S19: =SUM(L19:R19) -> 0.8 | U19: =IF(U7="nuit",U10*0.02,0) -> 0 | V19: =IF(V7="nuit",V10*0.02,0) -> 0 | W19: =IF(W7="nuit",W10*0.02,0) -> 0 | X19: =IF(X7="nuit",X10*0.02,0) -> 0 | Y19: =IF(Y7="nuit",Y10*0.02,0) -> 0 | Z19: =IF(Z7="nuit",Z10*0.02,0) -> 0 | AA19: =IF(AA7="nuit",AA10*0.02,0) -> 0 | AB19: =SUM(U19:AA19) -> 0 | AD19: =IF(AD7="nuit",AD10*0.02,0) -> 0 | AE19: =IF(AE7="nuit",AE10*0.02,0) -> 0 | AF19: =IF(AF7="nuit",AF10*0.02,0) -> 0 | AG19: =IF(AG7="nuit",AG10*0.02,0) -> 0 | AH19: =IF(AH7="nuit",AH10*0.02,0) -> 0 | AI19: =IF(AI7="nuit",AI10*0.02,0) -> 0 | AJ19: =IF(AJ7="nuit",AJ10*0.02,0) -> 0 | AK19: =SUM(AD19:AJ19) -> 0 | AM19: =IF(AM7="nuit",AM10*0.02,0) -> 0 | AN19: =IF(AN7="nuit",AN10*0.02,0) -> 0 | AO19: =IF(AO7="nuit",AO10*0.02,0) -> 0 | AP19: =IF(AP7="nuit",AP10*0.02,0) -> 0 | AQ19: =IF(AQ7="nuit",AQ10*0.02,0) -> 0 | AR19: =IF(AR7="nuit",AR10*0.02,0) -> 0 | AS19: =IF(AS7="nuit",AS10*0.02,0) -> 0 | AT19: =SUM(AM19:AS19) -> 0 | AV19: =IF(AV7="nuit",AV10*0.02,0) -> 0.16 | AW19: =IF(AW7="nuit",AW10*0.02,0) -> 0.16 | AX19: =SUM(AV19:AW19) -> 0.32 | AY19: =J19+S19+AB19+AK19+AT19+AX19 -> 1.12
A20: Note
C22: FÉVRIER | H22: =Année_Calendaire -> 2016 | U22: FÉVRIER | Z22: =Année_Calendaire -> 2016 | AM22: FÉVRIER | AR22: =Année_Calendaire -> 2016
C23: Lun | D23: Mar | E23: Mer | F23: Jeu | G23: Ven | H23: Sam | I23: Dim | J23: Cumul | L23: Lun | M23: Mar | N23: Mer | O23: Jeu | P23: Ven | Q23: Sam | R23: Dim | S23: Cumul | U23: Lun | V23: Mar | W23: Mer | X23: Jeu | Y23: Ven | Z23: Sam | AA23: Dim | AB23: Cumul | AD23: Lun | AE23: Mar | AF23: Mer | AG23: Jeu | AH23: Ven | AI23: Sam | AJ23: Dim | AK23: Cumul | AM23: Lun | AN23: Mar | AO23: Mer | AP23: Jeu | AQ23: Ven | AR23: Sam | AS23: Dim | AT23: Cumul | AU23: c1 | AV23: Lun | AW23: Mar | AX23: Cumul | AY23: Cumul total | AZ23: =AY30+AY31+AY32 -> 0 | BA23: =AZ23+BA5 -> 10
C24: =IF(DAY(Fév_Dim1)=1,"",IF(AND(YEAR(Fév_Dim1+1)=Année_Calendaire,MONTH(Fév_Dim1+1)=2),Fév_Dim1+1,"")) -> 42401 | D24: =IF(DAY(Fév_Dim1)=1,"",IF(AND(YEAR(Fév_Dim1+2)=Année_Calendaire,MONTH(Fév_Dim1+2)=2),Fév_Dim1+2,"")) -> 42402 | E24: =IF(DAY(Fév_Dim1)=1,"",IF(AND(YEAR(Fév_Dim1+3)=Année_Calendaire,MONTH(Fév_Dim1+3)=2),Fév_Dim1+3,"")) -> 42403 | F24: =IF(DAY(Fév_Dim1)=1,"",IF(AND(YEAR(Fév_Dim1+4)=Année_Calendaire,MONTH(Fév_Dim1+4)=2),Fév_Dim1+4,"")) -> 42404 | G24: =IF(DAY(Fév_Dim1)=1,"",IF(AND(YEAR(Fév_Dim1+5)=Année_Calendaire,MONTH(Fév_Dim1+5)=2),Fév_Dim1+5,"")) -> 42405 | H24: =IF(DAY(Fév_Dim1)=1,"",IF(AND(YEAR(Fév_Dim1+6)=Année_Calendaire,MONTH(Fév_Dim1+6)=2),Fév_Dim1+6,"")) -> 42406 | I24: =IF(DAY(Fév_Dim1)=1,IF(AND(YEAR(Fév_Dim1)=Année_Calendaire,MONTH(Fév_Dim1)=2),Fév_Dim1,""),IF(AND(YEAR(Fév_Dim1+7)=Année_Calendaire,MONTH(Fév_Dim1+7)=2),Fév_Dim1+7,"")) -> 42407 | L24: =IF(DAY(Fév_Dim1)=1,IF(AND(YEAR(Fév_Dim1+1)=Année_Calendaire,MONTH(Fév_Dim1+1)=2),Fév_Dim1+1,""),IF(AND(YEAR(Fév_Dim1+8)=Année_Calendaire,MONTH(Fév_Dim1+8)=2),Fév_Dim1+8,"")) -> 42408 | M24: =IF(DAY(Fév_Dim1)=1,IF(AND(YEAR(Fév_Dim1+2)=Année_Calendaire,MONTH(Fév_Dim1+2)=2),Fév_Dim1+2,""),IF(AND(YEAR(Fév_Dim1+9)=Année_Calendaire,MONTH(Fév_Dim1+9)=2),Fév_Dim1+9,"")) -> 42409 | N24: =IF(DAY(Fév_Dim1)=1,IF(AND(YEAR(Fév_Dim1+3)=Année_Calendaire,MONTH(Fév_Dim1+3)=2),Fév_Dim1+3,""),IF(AND(YEAR(Fév_Dim1+10)=Année_Calendaire,MONTH(Fév_Dim1+10)=2),Fév_Dim1+10,"")) -> 42410 | O24: =IF(DAY(Fév_Dim1)=1,IF(AND(YEAR(Fév_Dim1+4)=Année_Calendaire,MONTH(Fév_Dim1+4)=2),Fév_Dim1+4,""),IF(AND(YEAR(Fév_Dim1+11)=Année_Calendaire,MONTH(Fév_Dim1+11)=2),Fév_Dim1+11,"")) -> 42411 | P24: =IF(DAY(Fév_Dim1)=1,IF(AND(YEAR(Fév_Dim1+5)=Année_Calendaire,MONTH(Fév_Dim1+5)=2),Fév_Dim1+5,""),IF(AND(YEAR(Fév_Dim1+12)=Année_Calendaire,MONTH(Fév_Dim1+12)=2),Fév_Dim1+12,"")) -> 42412 | Q24: =IF(DAY(Fév_Dim1)=1,IF(AND(YEAR(Fév_Dim1+6)=Année_Calendaire,MONTH(Fév_Dim1+6)=2),Fév_Dim1+6,""),IF(AND(YEAR(Fév_Dim1+13)=Année_Calendaire,MONTH(Fév_Dim1+13)=2),Fév_Dim1+13,"")) -> 42413 | R24: =IF(DAY(Fév_Dim1)=1,IF(AND(YEAR(Fév_Dim1+7)=Année_Calendaire,MONTH(Fév_Dim1+7)=2),Fév_Dim1+7,""),IF(AND(YEAR(Fév_Dim1+14)=Année_Calendaire,MONTH(Fév_Dim1+14)=2),Fév_Dim1+14,"")) -> 42414 | U24: =IF(DAY(Fév_Dim1)=1,IF(AND(YEAR(Fév_Dim1+8)=Année_Calendaire,MONTH(Fév_Dim1+8)=2),Fév_Dim1+8,""),IF(AND(YEAR(Fév_Dim1+15)=Année_Calendaire,MONTH(Fév_Dim1+15)=2),Fév_Dim1+15,"")) -> 42415 | V24: =IF(DAY(Fév_Dim1)=1,IF(AND(YEAR(Fév_Dim1+9)=Année_Calendaire,MONTH(Fév_Dim1+9)=2),Fév_Dim1+9,""),IF(AND(YEAR(Fév_Dim1+16)=Année_Calendaire,MONTH(Fév_Dim1+16)=2),Fév_Dim1+16,"")) -> 42416 | W24: =IF(DAY(Fév_Dim1)=1,IF(AND(YEAR(Fév_Dim1+10)=Année_Calendaire,MONTH(Fév_Dim1+10)=2),Fév_Dim1+10,""),IF(AND(YEAR(Fév_Dim1+17)=Année_Calendaire,MONTH(Fév_Dim1+17)=2),Fév_Dim1+17,"")) -> 42417 | X24: =IF(DAY(Fév_Dim1)=1,IF(AND(YEAR(Fév_Dim1+11)=Année_Calendaire,MONTH(Fév_Dim1+11)=2),Fév_Dim1+11,""),IF(AND(YEAR(Fév_Dim1+18)=Année_Calendaire,MONTH(Fév_Dim1+18)=2),Fév_Dim1+18,"")) -> 42418 | Y24: =IF(DAY(Fév_Dim1)=1,IF(AND(YEAR(Fév_Dim1+12)=Année_Calendaire,MONTH(Fév_Dim1+12)=2),Fév_Dim1+12,""),IF(AND(YEAR(Fév_Dim1+19)=Année_Calendaire,MONTH(Fév_Dim1+19)=2),Fév_Dim1+19,"")) -> 42419 | Z24: =IF(DAY(Fév_Dim1)=1,IF(AND(YEAR(Fév_Dim1+13)=Année_Calendaire,MONTH(Fév_Dim1+13)=2),Fév_Dim1+13,""),IF(AND(YEAR(Fév_Dim1+20)=Année_Calendaire,MONTH(Fév_Dim1+20)=2),Fév_Dim1+20,"")) -> 42420 | AA24: =IF(DAY(Fév_Dim1)=1,IF(AND(YEAR(Fév_Dim1+14)=Année_Calendaire,MONTH(Fév_Dim1+14)=2),Fév_Dim1+14,""),IF(AND(YEAR(Fév_Dim1+21)=Année_Calendaire,MONTH(Fév_Dim1+21)=2),Fév_Dim1+21,"")) -> 42421 | AD24: =IF(DAY(Fév_Dim1)=1,IF(AND(YEAR(Fév_Dim1+15)=Année_Calendaire,MONTH(Fév_Dim1+15)=2),Fév_Dim1+15,""),IF(AND(YEAR(Fév_Dim1+22)=Année_Calendaire,MONTH(Fév_Dim1+22)=2),Fév_Dim1+22,"")) -> 42422 | AE24: =IF(DAY(Fév_Dim1)=1,IF(AND(YEAR(Fév_Dim1+16)=Année_Calendaire,MONTH(Fév_Dim1+16)=2),Fév_Dim1+16,""),IF(AND(YEAR(Fév_Dim1+23)=Année_Calendaire,MONTH(Fév_Dim1+23)=2),Fév_Dim1+23,"")) -> 42423 | AF24: =IF(DAY(Fév_Dim1)=1,IF(AND(YEAR(Fév_Dim1+17)=Année_Calendaire,MONTH(Fév_Dim1+17)=2),Fév_Dim1+17,""),IF(AND(YEAR(Fév_Dim1+24)=Année_Calendaire,MONTH(Fév_Dim1+24)=2),Fév_Dim1+24,"")) -> 42424 | AG24: =IF(DAY(Fév_Dim1)=1,IF(AND(YEAR(Fév_Dim1+18)=Année_Calendaire,MONTH(Fév_Dim1+18)=2),Fév_Dim1+18,""),IF(AND(YEAR(Fév_Dim1+25)=Année_Calendaire,MONTH(Fév_Dim1+25)=2),Fév_Dim1+25,"")) -> 42425 | AH24: =IF(DAY(Fév_Dim1)=1,IF(AND(YEAR(Fév_Dim1+19)=Année_Calendaire,MONTH(Fév_Dim1+19)=2),Fév_Dim1+19,""),IF(AND(YEAR(Fév_Dim1+26)=Année_Calendaire,MONTH(Fév_Dim1+26)=2),Fév_Dim1+26,"")) -> 42426 | AI24: =IF(DAY(Fév_Dim1)=1,IF(AND(YEAR(Fév_Dim1+20)=Année_Calendaire,MONTH(Fév_Dim1+20)=2),Fév_Dim1+20,""),IF(AND(YEAR(Fév_Dim1+27)=Année_Calendaire,MONTH(Fév_Dim1+27)=2),Fév_Dim1+27,"")) -> 42427 | AJ24: =IF(DAY(Fév_Dim1)=1,IF(AND(YEAR(Fév_Dim1+21)=Année_Calendaire,MONTH(Fév_Dim1+21)=2),Fév_Dim1+21,""),IF(AND(YEAR(Fév_Dim1+28)=Année_Calendaire,MONTH(Fév_Dim1+28)=2),Fév_Dim1+28,"")) -> 42428 | AM24: =IF(DAY(Fév_Dim1)=1,IF(AND(YEAR(Fév_Dim1+22)=Année_Calendaire,MONTH(Fév_Dim1+22)=2),Fév_Dim1+22,""),IF(AND(YEAR(Fév_Dim1+29)=Année_Calendaire,MONTH(Fév_Dim1+29)=2),Fév_Dim1+29,"")) -> 42429 | AN24: =IF(DAY(Fév_Dim1)=1,IF(AND(YEAR(Fév_Dim1+23)=Année_Calendaire,MONTH(Fév_Dim1+23)=2),Fév_Dim1+23,""),IF(AND(YEAR(Fév_Dim1+30)=Année_Calendaire,MONTH(Fév_Dim1+30)=2),Fév_Dim1+30,"")) | AO24: =IF(DAY(Fév_Dim1)=1,IF(AND(YEAR(Fév_Dim1+24)=Année_Calendaire,MONTH(Fév_Dim1+24)=2),Fév_Dim1+24,""),IF(AND(YEAR(Fév_Dim1+31)=Année_Calendaire,MONTH(Fév_Dim1+31)=2),Fév_Dim1+31,"")) | AP24: =IF(DAY(Fév_Dim1)=1,IF(AND(YEAR(Fév_Dim1+25)=Année_Calendaire,MONTH(Fév_Dim1+25)=2),Fév_Dim1+25,""),IF(AND(YEAR(Fév_Dim1+32)=Année_Calendaire,MONTH(Fév_Dim1+32)=2),Fév_Dim1+32,"")) | AQ24: =IF(DAY(Fév_Dim1)=1,IF(AND(YEAR(Fév_Dim1+26)=Année_Calendaire,MONTH(Fév_Dim1+26)=2),Fév_Dim1+26,""),IF(AND(YEAR(Fév_Dim1+33)=Année_Calendaire,MONTH(Fév_Dim1+33)=2),Fév_Dim1+33,"")) | AR24: =IF(DAY(Fév_Dim1)=1,IF(AND(YEAR(Fév_Dim1+27)=Année_Calendaire,MONTH(Fév_Dim1+27)=2),Fév_Dim1+27,""),IF(AND(YEAR(Fév_Dim1+34)=Année_Calendaire,MONTH(Fév_Dim1+34)=2),Fév_Dim1+34,"")) | AS24: =IF(DAY(Fév_Dim1)=1,IF(AND(YEAR(Fév_Dim1+28)=Année_Calendaire,MONTH(Fév_Dim1+28)=2),Fév_Dim1+28,""),IF(AND(YEAR(Fév_Dim1+35)=Année_Calendaire,MONTH(Fév_Dim1+35)=2),Fév_Dim1+35,"")) | AV24: =IF(DAY(Fév_Dim1)=1,IF(AND(YEAR(Fév_Dim1+29)=Année_Calendaire,MONTH(Fév_Dim1+29)=2),Fév_Dim1+29,""),IF(AND(YEAR(Fév_Dim1+36)=Année_Calendaire,MONTH(Fév_Dim1+36)=2),Fév_Dim1+36,"")) | AW24: =IF(DAY(Fév_Dim1)=1,IF(AND(YEAR(Fév_Dim1+30)=Année_Calendaire,MONTH(Fév_Dim1+30)=2),Fév_Dim1+30,""),IF(AND(YEAR(Fév_Dim1+37)=Année_Calendaire,MONTH(Fév_Dim1+37)=2),Fév_Dim1+37,""))
A25: Equipe | C25: =IFERROR(VLOOKUP(B23,DATA!$A:$H,2,TRUE),0) -> 0 | D25: =IFERROR(VLOOKUP(B23,DATA!$A:$H,3,TRUE),0) -> 0 | E25: =IFERROR(VLOOKUP(B23,DATA!$A:$H,4,TRUE),0) -> 0 | F25: =IFERROR(VLOOKUP(B23,DATA!$A:$H,5,TRUE),0) -> 0 | G25: =IFERROR(VLOOKUP(B23,DATA!$A:$H,6,TRUE),0) -> 0 | H25: =IFERROR(VLOOKUP(B23,DATA!$A:$H,7,TRUE),0) -> 0 | I25: =IFERROR(VLOOKUP(B23,DATA!$A:$H,8,TRUE),0) -> 0 | L25: =IFERROR(VLOOKUP(K23,DATA!$A:$H,2,TRUE),0) -> 0 | M25: =IFERROR(VLOOKUP(K23,DATA!$A:$H,3,TRUE),0) -> 0 | N25: =IFERROR(VLOOKUP(K23,DATA!$A:$H,4,TRUE),0) -> 0 | O25: =IFERROR(VLOOKUP(K23,DATA!$A:$H,5,TRUE),0) -> 0 | P25: =IFERROR(VLOOKUP(K23,DATA!$A:$H,6,TRUE),0) -> 0 | Q25: =IFERROR(VLOOKUP(K23,DATA!$A:$H,7,TRUE),0) -> 0 | R25: =IFERROR(VLOOKUP(K23,DATA!$A:$H,8,TRUE),0) -> 0 | U25: =IFERROR(VLOOKUP(T23,DATA!$A:$H,2,TRUE),0) -> 0 | V25: =IFERROR(VLOOKUP(T23,DATA!$A:$H,3,TRUE),0) -> 0 | W25: =IFERROR(VLOOKUP(T23,DATA!$A:$H,4,TRUE),0) -> 0 | X25: =IFERROR(VLOOKUP(T23,DATA!$A:$H,5,TRUE),0) -> 0 | Y25: =IFERROR(VLOOKUP(T23,DATA!$A:$H,6,TRUE),0) -> 0 | Z25: =IFERROR(VLOOKUP(T23,DATA!$A:$H,7,TRUE),0) -> 0 | AA25: =IFERROR(VLOOKUP(T23,DATA!$A:$H,8,TRUE),0) -> 0 | AD25: =IFERROR(VLOOKUP(AC23,DATA!$A:$H,2,TRUE),0) -> 0 | AE25: =IFERROR(VLOOKUP(AC23,DATA!$A:$H,3,TRUE),0) -> 0 | AF25: =IFERROR(VLOOKUP(AC23,DATA!$A:$H,4,TRUE),0) -> 0 | AG25: =IFERROR(VLOOKUP(AC23,DATA!$A:$H,5,TRUE),0) -> 0 | AH25: =IFERROR(VLOOKUP(AC23,DATA!$A:$H,6,TRUE),0) -> 0 | AI25: =IFERROR(VLOOKUP(AC23,DATA!$A:$H,7,TRUE),0) -> 0 | AJ25: =IFERROR(VLOOKUP(AC23,DATA!$A:$H,8,TRUE),0) -> 0 | AM25: =IFERROR(VLOOKUP(AL23,DATA!$A:$H,2,TRUE),0) -> 0 | AN25: =IFERROR(VLOOKUP(AL23,DATA!$A:$H,3,TRUE),0) -> 0 | AO25: =IFERROR(VLOOKUP(AL23,DATA!$A:$H,4,TRUE),0) -> 0 | AP25: =IFERROR(VLOOKUP(AL23,DATA!$A:$H,5,TRUE),0) -> 0 | AQ25: =IFERROR(VLOOKUP(AL23,DATA!$A:$H,6,TRUE),0) -> 0 | AR25: =IFERROR(VLOOKUP(AL23,DATA!$A:$H,7,TRUE),0) -> 0 | AS25: =IFERROR(VLOOKUP(AL23,DATA!$A:$H,8,TRUE),0) -> 0 | AV25: =IFERROR(VLOOKUP(AU23,DATA!$A:$H,2,TRUE),0) -> matin | AW25: =IFERROR(VLOOKUP(AU23,DATA!$A:$H,3,TRUE),0) -> matin
A26: Ticket resto | C26: =IF(C25="Matin",1,IF(C25="AM",1,0)) -> 0 | D26: =IF(D25="Matin",1,IF(D25="AM",1,0)) -> 0 | E26: =IF(E25="Matin",1,IF(E25="AM",1,0)) -> 0 | F26: =IF(F25="Matin",1,IF(F25="AM",1,0)) -> 0 | G26: =IF(G25="Matin",1,IF(G25="AM",1,0)) -> 0 | H26: =IF(H25="Matin",1,IF(H25="AM",1,0)) -> 0 | I26: =IF(I25="Matin",1,IF(I25="AM",1,0)) -> 0 | J26: =SUM(C26:I26) -> 0 | L26: =IF(L25="Matin",1,IF(L25="AM",1,0)) -> 0 | M26: =IF(M25="Matin",1,IF(M25="AM",1,0)) -> 0 | N26: =IF(N25="Matin",1,IF(N25="AM",1,0)) -> 0 | O26: =IF(O25="Matin",1,IF(O25="AM",1,0)) -> 0 | P26: =IF(P25="Matin",1,IF(P25="AM",1,0)) -> 0 | Q26: =IF(Q25="Matin",1,IF(Q25="AM",1,0)) -> 0 | R26: =IF(R25="Matin",1,IF(R25="AM",1,0)) -> 0 | S26: =SUM(L26:R26) -> 0 | U26: =IF(U25="Matin",1,IF(U25="AM",1,0)) -> 0 | V26: =IF(V25="Matin",1,IF(V25="AM",1,0)) -> 0 | W26: =IF(W25="Matin",1,IF(W25="AM",1,0)) -> 0 | X26: =IF(X25="Matin",1,IF(X25="AM",1,0)) -> 0 | Y26: =IF(Y25="Matin",1,IF(Y25="AM",1,0)) -> 0 | Z26: =IF(Z25="Matin",1,IF(Z25="AM",1,0)) -> 0 | AA26: =IF(AA25="Matin",1,IF(AA25="AM",1,0)) -> 0 | AB26: =SUM(U26:AA26) -> 0 | AD26: =IF(AD25="Matin",1,IF(AD25="AM",1,0)) -> 0 | AE26: =IF(AE25="Matin",1,IF(AE25="AM",1,0)) -> 0 | AF26: =IF(AF25="Matin",1,IF(AF25="AM",1,0)) -> 0 | AG26: =IF(AG25="Matin",1,IF(AG25="AM",1,0)) -> 0 | AH26: =IF(AH25="Matin",1,IF(AH25="AM",1,0)) -> 0 | AI26: =IF(AI25="Matin",1,IF(AI25="AM",1,0)) -> 0 | AJ26: =IF(AJ25="Matin",1,IF(AJ25="AM",1,0)) -> 0 | AK26: =SUM(AD26:AJ26) -> 0 | AM26: =IF(AM25="Matin",1,IF(AM25="AM",1,0)) -> 0 | AN26: =IF(AN25="Matin",1,IF(AN25="AM",1,0)) -> 0 | AO26: =IF(AO25="Matin",1,IF(AO25="AM",1,0)) -> 0 | AP26: =IF(AP25="Matin",1,IF(AP25="AM",1,0)) -> 0 | AQ26: =IF(AQ25="Matin",1,IF(AQ25="AM",1,0)) -> 0 | AR26: =IF(AR25="Matin",1,IF(AR25="AM",1,0)) -> 0 | AS26: =IF(AS25="Matin",1,IF(AS25="AM",1,0)) -> 0 | AT26: =SUM(AM26:AS26) -> 0 | AV26: =IF(AV25="Matin",1,IF(AV25="AM",1,0)) -> 1 | AW26: =IF(AW25="Matin",1,IF(AW25="AM",1,0)) -> 1 | AX26: =SUM(AV26:AW26) -> 2 | AY26: =J26+S26+AB26+AK26+AT26+AX26 -> 2
A27: Travailler | C27: =IF(C28>=1,1,0) -> 0 | D27: =IF(D28>=1,1,0) -> 0 | E27: =IF(E28>=1,1,0) -> 0 | F27: =IF(F28>=1,1,0) -> 0 | G27: =IF(G28>=1,1,0) -> 0 | H27: =IF(H28>=1,1,0) -> 0 | I27: =IF(I28>=1,1,0) -> 0 | J27: =SUM(C27:I27) -> 0 | L27: =IF(L28>=1,1,0) -> 0 | M27: =IF(M28>=1,1,0) -> 0 | N27: =IF(N28>=1,1,0) -> 0 | O27: =IF(O28>=1,1,0) -> 0 | P27: =IF(P28>=1,1,0) -> 0 | Q27: =IF(Q28>=1,1,0) -> 0 | R27: =IF(R28>=1,1,0) -> 0 | S27: =SUM(L27:R27) -> 0 | U27: =IF(U28>=1,1,0) -> 0 | V27: =IF(V28>=1,1,0) -> 0 | W27: =IF(W28>=1,1,0) -> 0 | X27: =IF(X28>=1,1,0) -> 0 | Y27: =IF(Y28>=1,1,0) -> 0 | Z27: =IF(Z28>=1,1,0) -> 0 | AA27: =IF(AA28>=1,1,0) -> 0 | AB27: =SUM(U27:AA27) -> 0 | AD27: =IF(AD28>=1,1,0) -> 0 | AE27: =IF(AE28>=1,1,0) -> 0 | AF27: =IF(AF28>=1,1,0) -> 0 | AG27: =IF(AG28>=1,1,0) -> 0 | AH27: =IF(AH28>=1,1,0) -> 0 | AI27: =IF(AI28>=1,1,0) -> 0 | AJ27: =IF(AJ28>=1,1,0) -> 0 | AK27: =SUM(AD27:AJ27) -> 0 | AM27: =IF(AM28>=1,1,0) -> 0 | AN27: =IF(AN28>=1,1,0) -> 0 | AO27: =IF(AO28>=1,1,0) -> 0 | AP27: =IF(AP28>=1,1,0) -> 0 | AQ27: =IF(AQ28>=1,1,0) -> 0 | AR27: =IF(AR28>=1,1,0) -> 0 | AS27: =IF(AS28>=1,1,0) -> 0 | AT27: =SUM(AM27:AS27) -> 0 | AV27: =IF(AV28>=1,1,0) -> 1 | AW27: =IF(AW28>=1,1,0) -> 1 | AX27: =SUM(AV27:AW27) -> 2 | AY27: =J27+S27+AB27+AK27+AT27+AX27 -> 2
A28: Nbr heure | C28: =IF(C25="Matin",8,IF(C25="AM",8,IF(C25="nuit",8,0))) -> 0 | D28: =IF(D25="Matin",8,IF(D25="AM",8,IF(D25="nuit",8,0))) -> 0 | E28: =IF(E25="Matin",8,IF(E25="AM",8,IF(E25="nuit",8,0))) -> 0 | F28: =IF(F25="Matin",8,IF(F25="AM",8,IF(F25="nuit",8,0))) -> 0 | G28: =IF(G25="Matin",8,IF(G25="AM",8,IF(G25="nuit",8,0))) -> 0 | H28: =IF(H25="Matin",8,IF(H25="AM",8,IF(H25="nuit",8,0))) -> 0 | I28: =IF(I25="Matin",8,IF(I25="AM",8,IF(I25="nuit",8,0))) -> 0 | J28: =SUM(C28:I28) -> 0 | L28: =IF(L25="Matin",8,IF(L25="AM",8,IF(L25="nuit",8,0))) -> 0 | M28: =IF(M25="Matin",8,IF(M25="AM",8,IF(M25="nuit",8,0))) -> 0 | N28: =IF(N25="Matin",8,IF(N25="AM",8,IF(N25="nuit",8,0))) -> 0 | O28: =IF(O25="Matin",8,IF(O25="AM",8,IF(O25="nuit",8,0))) -> 0 | P28: =IF(P25="Matin",8,IF(P25="AM",8,IF(P25="nuit",8,0))) -> 0 | Q28: =IF(Q25="Matin",8,IF(Q25="AM",8,IF(Q25="nuit",8,0))) -> 0 | R28: =IF(R25="Matin",8,IF(R25="AM",8,IF(R25="nuit",8,0))) -> 0 | S28: =SUM(L28:R28) -> 0 | U28: =IF(U25="Matin",8,IF(U25="AM",8,IF(U25="nuit",8,0))) -> 0 | V28: =IF(V25="Matin",8,IF(V25="AM",8,IF(V25="nuit",8,0))) -> 0 | W28: =IF(W25="Matin",8,IF(W25="AM",8,IF(W25="nuit",8,0))) -> 0 | X28: =IF(X25="Matin",8,IF(X25="AM",8,IF(X25="nuit",8,0))) -> 0 | Y28: =IF(Y25="Matin",8,IF(Y25="AM",8,IF(Y25="nuit",8,0))) -> 0 | Z28: =IF(Z25="Matin",8,IF(Z25="AM",8,IF(Z25="nuit",8,0))) -> 0 | AA28: =IF(AA25="Matin",8,IF(AA25="AM",8,IF(AA25="nuit",8,0))) -> 0 | AB28: =SUM(U28:AA28) -> 0 | AD28: =IF(AD25="Matin",8,IF(AD25="AM",8,IF(AD25="nuit",8,0))) -> 0 | AE28: =IF(AE25="Matin",8,IF(AE25="AM",8,IF(AE25="nuit",8,0))) -> 0 | AF28: =IF(AF25="Matin",8,IF(AF25="AM",8,IF(AF25="nuit",8,0))) -> 0 | AG28: =IF(AG25="Matin",8,IF(AG25="AM",8,IF(AG25="nuit",8,0))) -> 0 | AH28: =IF(AH25="Matin",8,IF(AH25="AM",8,IF(AH25="nuit",8,0))) -> 0 | AI28: =IF(AI25="Matin",8,IF(AI25="AM",8,IF(AI25="nuit",8,0))) -> 0 | AJ28: =IF(AJ25="Matin",8,IF(AJ25="AM",8,IF(AJ25="nuit",8,0))) -> 0 | AK28: =SUM(AD28:AJ28) -> 0 | AM28: =IF(AM25="Matin",8,IF(AM25="AM",8,IF(AM25="nuit",8,0))) -> 0 | AN28: =IF(AN25="Matin",8,IF(AN25="AM",8,IF(AN25="nuit",8,0))) -> 0 | AO28: =IF(AO25="Matin",8,IF(AO25="AM",8,IF(AO25="nuit",8,0))) -> 0 | AP28: =IF(AP25="Matin",8,IF(AP25="AM",8,IF(AP25="nuit",8,0))) -> 0 | AQ28: =IF(AQ25="Matin",8,IF(AQ25="AM",8,IF(AQ25="nuit",8,0))) -> 0 | AR28: =IF(AR25="Matin",8,IF(AR25="AM",8,IF(AR25="nuit",8,0))) -> 0 | AS28: =IF(AS25="Matin",8,IF(AS25="AM",8,IF(AS25="nuit",8,0))) -> 0 | AT28: =SUM(AM28:AS28) -> 0 | AV28: =IF(AV25="Matin",8,IF(AV25="AM",8,IF(AV25="nuit",8,0))) -> 8 | AW28: =IF(AW25="Matin",8,IF(AW25="AM",8,IF(AW25="nuit",8,0))) -> 8 | AX28: =SUM(AV28:AW28) -> 16 | AY28: =J28+S28+AB28+AK28+AT28+AX28 -> 16
A29: Heure comp | C29: =IF(C23<>"Dim",IF(C28>32,MIN(C28,35)-32,0),0) -> 0 | D29: =IF(D23<>"Dim",IF(SUM($C28:D28)>32,MIN(SUM($C28:D28),35)-32-SUM($C29:C29),0),0) -> 0 | E29: =IF(E23<>"Dim",IF(SUM($C28:E28)>32,MIN(SUM($C28:E28),35)-32-SUM($C29:D29),0),0) -> 0 | F29: =IF(F23<>"Dim",IF(SUM($C28:F28)>32,MIN(SUM($C28:F28),35)-32-SUM($C29:E29),0),0) -> 0 | G29: =IF(G23<>"Dim",IF(SUM($C28:G28)>32,MIN(SUM($C28:G28),35)-32-SUM($C29:F29),0),0) -> 0 | H29: =IF(H23<>"Dim",IF(SUM($C28:H28)>32,MIN(SUM($C28:H28),35)-32-SUM($C29:G29),0),0) -> 0 | I29: =IF(I23<>"Dim",IF(SUM($C28:I28)>32,MIN(SUM($C28:I28),35)-32-SUM($C29:H29),0),0) -> 0 | J29: =SUM(C29:I29) -> 0 | L29: =IF(L23<>"Dim",IF(L28>32,MIN(L28,35)-32,0),0) -> 0 | M29: =IF(M23<>"Dim",IF(SUM($L28:M28)>32,MIN(SUM($L28:M28),35)-32-SUM($L29:L29),0),0) -> 0 | N29: =IF(N23<>"Dim",IF(SUM($L28:N28)>32,MIN(SUM($L28:N28),35)-32-SUM($L29:M29),0),0) -> 0 | O29: =IF(O23<>"Dim",IF(SUM($L28:O28)>32,MIN(SUM($L28:O28),35)-32-SUM($L29:N29),0),0) -> 0 | P29: =IF(P23<>"Dim",IF(SUM($L28:P28)>32,MIN(SUM($L28:P28),35)-32-SUM($L29:O29),0),0) -> 0 | Q29: =IF(Q23<>"Dim",IF(SUM($L28:Q28)>32,MIN(SUM($L28:Q28),35)-32-SUM($L29:P29),0),0) -> 0 | R29: =IF(R23<>"Dim",IF(SUM($L28:R28)>32,MIN(SUM($L28:R28),35)-32-SUM($L29:Q29),0),0) -> 0 | S29: =SUM(L29:R29) -> 0 | U29: =IF(U23<>"Dim",IF(U28>32,MIN(U28,35)-32,0),0) -> 0 | V29: =IF(V23<>"Dim",IF(SUM($U28:V28)>32,MIN(SUM($U28:V28),35)-32-SUM($U29:U29),0),0) -> 0 | W29: =IF(W23<>"Dim",IF(SUM($U28:W28)>32,MIN(SUM($U28:W28),35)-32-SUM($U29:V29),0),0) -> 0 | X29: =IF(X23<>"Dim",IF(SUM($U28:X28)>32,MIN(SUM($U28:X28),35)-32-SUM($U29:W29),0),0) -> 0 | Y29: =IF(Y23<>"Dim",IF(SUM($U28:Y28)>32,MIN(SUM($U28:Y28),35)-32-SUM($U29:X29),0),0) -> 0 | Z29: =IF(Z23<>"Dim",IF(SUM($U28:Z28)>32,MIN(SUM($U28:Z28),35)-32-SUM($U29:Y29),0),0) -> 0 | AA29: =IF(AA23<>"Dim",IF(SUM($U28:AA28)>32,MIN(SUM($U28:AA28),35)-32-SUM($U29:Z29),0),0) -> 0 | AB29: =SUM(U29:AA29) -> 0 | AD29: =IF(AD23<>"Dim",IF(AD28>32,MIN(AD28,35)-32,0),0) -> 0 | AE29: =IF(AE23<>"Dim",IF(SUM($AD28:AE28)>32,MIN(SUM($AD28:AE28),35)-32-SUM($AD29:AD29),0),0) -> 0 | AF29: =IF(AF23<>"Dim",IF(SUM($AD28:AF28)>32,MIN(SUM($AD28:AF28),35)-32-SUM($AD29:AE29),0),0) -> 0 | AG29: =IF(AG23<>"Dim",IF(SUM($AD28:AG28)>32,MIN(SUM($AD28:AG28),35)-32-SUM($AD29:AF29),0),0) -> 0 | AH29: =IF(AH23<>"Dim",IF(SUM($AD28:AH28)>32,MIN(SUM($AD28:AH28),35)-32-SUM($AD29:AG29),0),0) -> 0 | AI29: =IF(AI23<>"Dim",IF(SUM($AD28:AI28)>32,MIN(SUM($AD28:AI28),35)-32-SUM($AD29:AH29),0),0) -> 0 | AJ29: =IF(AJ23<>"Dim",IF(SUM($AD28:AJ28)>32,MIN(SUM($AD28:AJ28),35)-32-SUM($AD29:AI29),0),0) -> 0 | AK29: =SUM(AD29:AJ29) -> 0 | AM29: =IF(AM23<>"Dim",IF(AM28>32,MIN(AM28,35)-32,0),0) -> 0 | AN29: =IF(AN23<>"Dim",IF(SUM($AM28:AN28)>32,MIN(SUM($AM28:AN28),35)-32-SUM($AM29:AM29),0),0) -> 0 | AO29: =IF(AO23<>"Dim",IF(SUM($AM28:AO28)>32,MIN(SUM($AM28:AO28),35)-32-SUM($AM29:AN29),0),0) -> 0 | AP29: =IF(AP23<>"Dim",IF(SUM($AM28:AP28)>32,MIN(SUM($AM28:AP28),35)-32-SUM($AM29:AO29),0),0) -> 0 | AQ29: =IF(AQ23<>"Dim",IF(SUM($AM28:AQ28)>32,MIN(SUM($AM28:AQ28),35)-32-SUM($AM29:AP29),0),0) -> 0 | AR29: =IF(AR23<>"Dim",IF(SUM($AM28:AR28)>32,MIN(SUM($AM28:AR28),35)-32-SUM($AM29:AQ29),0),0) -> 0 | AS29: =IF(AS23<>"Dim",IF(SUM($AM28:AS28)>32,MIN(SUM($AM28:AS28),35)-32-SUM($AM29:AR29),0),0) -> 0 | AT29: =SUM(AM29:AS29) -> 0 | AV29: =IF(AV23<>"Dim",IF(AV28>32,MIN(AV28,35)-32,0),0) -> 0 | AW29: =IF(AW23<>"Dim",IF(SUM($AV28:AW28)>32,MIN(SUM($AV28:AW28),35)-32-SUM($AV29:AV29),0),0) -> 0 | AX29: =SUM(AV29:AW29) -> 0 | AY29: =J29+S29+AB29+AK29+AT29+AX29 -> 0
A30: HS 25% | C30: =IF(C23<>"Dim",IF(C28>35,(MIN(C28,43)-35),0),0) -> 0 | D30: =IF(D23<>"Dim",IF(SUM($C28:D28)>35,(MIN(SUM($C28:D28),43)-35-SUM($C30:C30)),0),0) -> 0 | E30: =IF(E23<>"Dim",IF(SUM($C28:E28)>35,(MIN(SUM($C28:E28),43)-35-SUM($C30:D30)),0),0) -> 0 | F30: =IF(F23<>"Dim",IF(SUM($C28:F28)>35,(MIN(SUM($C28:F28),43)-35-SUM($C30:E30)),0),0) -> 0 | G30: =IF(G23<>"Dim",IF(SUM($C28:G28)>35,(MIN(SUM($C28:G28),43)-35-SUM($C30:F30)),0),0) -> 0 | H30: =IF(H23<>"Dim",IF(SUM($C28:H28)>35,(MIN(SUM($C28:H28),43)-35-SUM($C30:G30)),0),0) -> 0 | I30: =IF(I23<>"Dim",IF(SUM($C28:I28)>35,(MIN(SUM($C28:I28),43)-35-SUM($C30:H30)),0),0) -> 0 | J30: =SUM(C30:I30) -> 0 | L30: =IF(L23<>"Dim",IF(L28>35,(MIN(L28,43)-35),0),0) -> 0 | M30: =IF(M23<>"Dim",IF(SUM($L28:M28)>35,(MIN(SUM($L28:M28),43)-35-SUM($L30:L30)),0),0) -> 0 | N30: =IF(N23<>"Dim",IF(SUM($L28:N28)>35,(MIN(SUM($L28:N28),43)-35-SUM($L30:M30)),0),0) -> 0 | O30: =IF(O23<>"Dim",IF(SUM($L28:O28)>35,(MIN(SUM($L28:O28),43)-35-SUM($L30:N30)),0),0) -> 0 | P30: =IF(P23<>"Dim",IF(SUM($L28:P28)>35,(MIN(SUM($L28:P28),43)-35-SUM($L30:O30)),0),0) -> 0 | Q30: =IF(Q23<>"Dim",IF(SUM($L28:Q28)>35,(MIN(SUM($L28:Q28),43)-35-SUM($L30:P30)),0),0) -> 0 | R30: =IF(R23<>"Dim",IF(SUM($L28:R28)>35,(MIN(SUM($L28:R28),43)-35-SUM($L30:Q30)),0),0) -> 0 | S30: =SUM(L30:R30) -> 0 | U30: =IF(U23<>"Dim",IF(U28>35,(MIN(U28,43)-35),0),0) -> 0 | V30: =IF(V23<>"Dim",IF(SUM($U28:V28)>35,(MIN(SUM($U28:V28),43)-35-SUM($U30:U30)),0),0) -> 0 | W30: =IF(W23<>"Dim",IF(SUM($U28:W28)>35,(MIN(SUM($U28:W28),43)-35-SUM($U30:V30)),0),0) -> 0 | X30: =IF(X23<>"Dim",IF(SUM($U28:X28)>35,(MIN(SUM($U28:X28),43)-35-SUM($U30:W30)),0),0) -> 0 | Y30: =IF(Y23<>"Dim",IF(SUM($U28:Y28)>35,(MIN(SUM($U28:Y28),43)-35-SUM($U30:X30)),0),0) -> 0 | Z30: =IF(Z23<>"Dim",IF(SUM($U28:Z28)>35,(MIN(SUM($U28:Z28),43)-35-SUM($U30:Y30)),0),0) -> 0 | AA30: =IF(AA23<>"Dim",IF(SUM($U28:AA28)>35,(MIN(SUM($U28:AA28),43)-35-SUM($U30:Z30)),0),0) -> 0 | AB30: =SUM(U30:AA30) -> 0 | AD30: =IF(AD23<>"Dim",IF(AD28>35,(MIN(AD28,43)-35),0),0) -> 0 | AE30: =IF(AE23<>"Dim",IF(SUM($AD28:AE28)>35,(MIN(SUM($AD28:AE28),43)-35-SUM($AD30:AD30)),0),0) -> 0 | AF30: =IF(AF23<>"Dim",IF(SUM($AD28:AF28)>35,(MIN(SUM($AD28:AF28),43)-35-SUM($AD30:AE30)),0),0) -> 0 | AG30: =IF(AG23<>"Dim",IF(SUM($AD28:AG28)>35,(MIN(SUM($AD28:AG28),43)-35-SUM($AD30:AF30)),0),0) -> 0 | AH30: =IF(AH23<>"Dim",IF(SUM($AD28:AH28)>35,(MIN(SUM($AD28:AH28),43)-35-SUM($AD30:AG30)),0),0) -> 0 | AI30: =IF(AI23<>"Dim",IF(SUM($AD28:AI28)>35,(MIN(SUM($AD28:AI28),43)-35-SUM($AD30:AH30)),0),0) -> 0 | AJ30: =IF(AJ23<>"Dim",IF(SUM($AD28:AJ28)>35,(MIN(SUM($AD28:AJ28),43)-35-SUM($AD30:AI30)),0),0) -> 0 | AK30: =SUM(AD30:AJ30) -> 0 | AM30: =IF(AM23<>"Dim",IF(AM28>35,(MIN(AM28,43)-35),0),0) -> 0 | AN30: =IF(AN23<>"Dim",IF(SUM($AM28:AN28)>35,(MIN(SUM($AM28:AN28),43)-35-SUM($AM30:AM30)),0),0) -> 0 | AO30: =IF(AO23<>"Dim",IF(SUM($AM28:AO28)>35,(MIN(SUM($AM28:AO28),43)-35-SUM($AM30:AN30)),0),0) -> 0 | AP30: =IF(AP23<>"Dim",IF(SUM($AM28:AP28)>35,(MIN(SUM($AM28:AP28),43)-35-SUM($AM30:AO30)),0),0) -> 0 | AQ30: =IF(AQ23<>"Dim",IF(SUM($AM28:AQ28)>35,(MIN(SUM($AM28:AQ28),43)-35-SUM($AM30:AP30)),0),0) -> 0 | AR30: =IF(AR23<>"Dim",IF(SUM($AM28:AR28)>35,(MIN(SUM($AM28:AR28),43)-35-SUM($AM30:AQ30)),0),0) -> 0 | AS30: =IF(AS23<>"Dim",IF(SUM($AM28:AS28)>35,(MIN(SUM($AM28:AS28),43)-35-SUM($AM30:AR30)),0),0) -> 0 | AT30: =SUM(AM30:AS30) -> 0 | AV30: =IF(AV23<>"Dim",IF(AV28>35,(MIN(AV28,43)-35),0),0) -> 0 | AW30: =IF(AW23<>"Dim",IF(SUM($AV28:AW28)>35,(MIN(SUM($AV28:AW28),43)-35-SUM($AV30:AV30)),0),0) -> 0 | AX30: =SUM(AV30:AW30) -> 0 | AY30: =J30+S30+AB30+AK30+AT30+AX30 -> 0
A31: HS 50% | C31: =IF(C23<>"Dim",IF(C28>43,(MIN(C28,48)-43),0),0) -> 0 | D31: =IF(D23<>"Dim",IF(SUM($C28:D28)>43,(MIN(SUM($C28:D28),48)-43-SUM($C31:C31)),0),0) -> 0 | E31: =IF(E23<>"Dim",IF(SUM($C28:E28)>43,(MIN(SUM($C28:E28),48)-43-SUM($C31:D31)),0),0) -> 0 | F31: =IF(F23<>"Dim",IF(SUM($C28:F28)>43,(MIN(SUM($C28:F28),48)-43-SUM($C31:E31)),0),0) -> 0 | G31: =IF(G23<>"Dim",IF(SUM($C28:G28)>43,(MIN(SUM($C28:G28),48)-43-SUM($C31:F31)),0),0) -> 0 | H31: =IF(H23<>"Dim",IF(SUM($C28:H28)>43,(MIN(SUM($C28:H28),48)-43-SUM($C31:G31)),0),0) -> 0 | I31: =IF(I23<>"Dim",IF(SUM($C28:I28)>43,(MIN(SUM($C28:I28),48)-43-SUM($C31:H31)),0),0) -> 0 | J31: =SUM(C31:I31) -> 0 | L31: =IF(L23<>"Dim",IF(L28>43,(MIN(L28,48)-43),0),0) -> 0 | M31: =IF(M23<>"Dim",IF(SUM($L28:M28)>43,(MIN(SUM($L28:M28),48)-43-SUM($L31:L31)),0),0) -> 0 | N31: =IF(N23<>"Dim",IF(SUM($L28:N28)>43,(MIN(SUM($L28:N28),48)-43-SUM($L31:M31)),0),0) -> 0 | O31: =IF(O23<>"Dim",IF(SUM($L28:O28)>43,(MIN(SUM($L28:O28),48)-43-SUM($L31:N31)),0),0) -> 0 | P31: =IF(P23<>"Dim",IF(SUM($L28:P28)>43,(MIN(SUM($L28:P28),48)-43-SUM($L31:O31)),0),0) -> 0 | Q31: =IF(Q23<>"Dim",IF(SUM($L28:Q28)>43,(MIN(SUM($L28:Q28),48)-43-SUM($L31:P31)),0),0) -> 0 | R31: =IF(R23<>"Dim",IF(SUM($L28:R28)>43,(MIN(SUM($L28:R28),48)-43-SUM($L31:Q31)),0),0) -> 0 | S31: =SUM(L31:R31) -> 0 | U31: =IF(U23<>"Dim",IF(U28>43,(MIN(U28,48)-43),0),0) -> 0 | V31: =IF(V23<>"Dim",IF(SUM($U28:V28)>43,(MIN(SUM($U28:V28),48)-43-SUM($U31:U31)),0),0) -> 0 | W31: =IF(W23<>"Dim",IF(SUM($U28:W28)>43,(MIN(SUM($U28:W28),48)-43-SUM($U31:V31)),0),0) -> 0 | X31: =IF(X23<>"Dim",IF(SUM($U28:X28)>43,(MIN(SUM($U28:X28),48)-43-SUM($U31:W31)),0),0) -> 0 | Y31: =IF(Y23<>"Dim",IF(SUM($U28:Y28)>43,(MIN(SUM($U28:Y28),48)-43-SUM($U31:X31)),0),0) -> 0 | Z31: =IF(Z23<>"Dim",IF(SUM($U28:Z28)>43,(MIN(SUM($U28:Z28),48)-43-SUM($U31:Y31)),0),0) -> 0 | AA31: =IF(AA23<>"Dim",IF(SUM($U28:AA28)>43,(MIN(SUM($U28:AA28),48)-43-SUM($U31:Z31)),0),0) -> 0 | AB31: =SUM(U31:AA31) -> 0 | AD31: =IF(AD23<>"Dim",IF(AD28>43,(MIN(AD28,48)-43),0),0) -> 0 | AE31: =IF(AE23<>"Dim",IF(SUM($AD28:AE28)>43,(MIN(SUM($AD28:AE28),48)-43-SUM($AD31:AD31)),0),0) -> 0 | AF31: =IF(AF23<>"Dim",IF(SUM($AD28:AF28)>43,(MIN(SUM($AD28:AF28),48)-43-SUM($AD31:AE31)),0),0) -> 0 | AG31: =IF(AG23<>"Dim",IF(SUM($AD28:AG28)>43,(MIN(SUM($AD28:AG28),48)-43-SUM($AD31:AF31)),0),0) -> 0 | AH31: =IF(AH23<>"Dim",IF(SUM($AD28:AH28)>43,(MIN(SUM($AD28:AH28),48)-43-SUM($AD31:AG31)),0),0) -> 0 | AI31: =IF(AI23<>"Dim",IF(SUM($AD28:AI28)>43,(MIN(SUM($AD28:AI28),48)-43-SUM($AD31:AH31)),0),0) -> 0 | AJ31: =IF(AJ23<>"Dim",IF(SUM($AD28:AJ28)>43,(MIN(SUM($AD28:AJ28),48)-43-SUM($AD31:AI31)),0),0) -> 0 | AK31: =SUM(AD31:AJ31) -> 0 | AM31: =IF(AM23<>"Dim",IF(AM28>43,(MIN(AM28,48)-43),0),0) -> 0 | AN31: =IF(AN23<>"Dim",IF(SUM($AM28:AN28)>43,(MIN(SUM($AM28:AN28),48)-43-SUM($AM31:AM31)),0),0) -> 0 | AO31: =IF(AO23<>"Dim",IF(SUM($AM28:AO28)>43,(MIN(SUM($AM28:AO28),48)-43-SUM($AM31:AN31)),0),0) -> 0 | AP31: =IF(AP23<>"Dim",IF(SUM($AM28:AP28)>43,(MIN(SUM($AM28:AP28),48)-43-SUM($AM31:AO31)),0),0) -> 0 | AQ31: =IF(AQ23<>"Dim",IF(SUM($AM28:AQ28)>43,(MIN(SUM($AM28:AQ28),48)-43-SUM($AM31:AP31)),0),0) -> 0 | AR31: =IF(AR23<>"Dim",IF(SUM($AM28:AR28)>43,(MIN(SUM($AM28:AR28),48)-43-SUM($AM31:AQ31)),0),0) -> 0 | AS31: =IF(AS23<>"Dim",IF(SUM($AM28:AS28)>43,(MIN(SUM($AM28:AS28),48)-43-SUM($AM31:AR31)),0),0) -> 0 | AT31: =SUM(AM31:AS31) -> 0 | AV31: =IF(AV23<>"Dim",IF(AV28>43,(MIN(AV28,48)-43),0),0) -> 0 | AW31: =IF(AW23<>"Dim",IF(SUM($AV28:AW28)>43,(MIN(SUM($AV28:AW28),48)-43-SUM($AV31:AV31)),0),0) -> 0 | AX31: =SUM(AV31:AW31) -> 0 | AY31: =J31+S31+AB31+AK31+AT31+AX31 -> 0
