Workbook
Name magasins: magasins!$A$1:$A$3

Sheet 1ere semaine
A1: REPORTING | O1: Modification + ou -
A2: AGENCE | B2: CLIENT | C2: DATE DE VENTE | D2: METRER LE : | E2: DOSSIER METRE | F2: MONTANT HT | G2: COMMANDER LE : | H2: DOSSIER COMMANDE | I2: MONTANT HT | J2: NON COMMANDE | K2: FOURNISSEUR | M2: PRODUIT | O2: MONTANT | P2: MODIF
A3: NARBONNE | F3: 5
A4: BEZIERS | F4: 3
A5: PERPIGNAN
A6: NARBONNE | F6: 3
A7: NARBONNE
A8: NARBONNE
A9: BEZIERS
A38: TOTAL | D38: =COUNTIF(A3:A32,"narbonne") -> 4 | F38: TOTAL | J38: =COUNTIFS(A3:A32,"narbonne",H3:H32,1) -> 0
D40: =COUNTIF(A3:A32,"beziers") -> 2 | J40: =COUNTIFS(A3:A32,"beziers",H3:H32,1) -> 0
D42: =COUNTIF(A3:A32,"perpignan") -> 1 | J42: =COUNTIFS(A3:A32,"perpignan",H3:H32,1) -> 0

Sheet recapitulatif
A1: REPORTING
A2: RECAPITULATIF | F2: METRE | H2: COMMANDE | J2: NON COMMANDE | K2: DOSSIER MANQUANT
A5: RECAPITULATIF S1 | F5: =SUM('1ere semaine'!E3:E32) -> 0 | G5: =SUM('1ere semaine'!F3:F32) -> 11 | H5: =SUM('1ere semaine'!D36:G37) -> 0 | I5: =SUM('1ere semaine'!I3:I32) -> 0 | J5: =G5-I5 -> 11 | K5: =(F5-H5) -> 0
A8: RECAPITULATIF S2 | F8: =SUM(#REF!) -> #REF! | G8: =SUM(#REF!) -> #REF! | H8: =SUM(#REF!) -> #REF! | I8: =SUM(#REF!) -> #REF! | J8: =G8-I8 -> #REF! | K8: =(F8-H8) -> #REF!
A11: RECAPITULATIF S3 | F11: =SUM(#REF!) -> #REF! | G11: =SUM(#REF!) -> #REF! | H11: =SUM(#REF!) -> #REF! | I11: =SUM(#REF!) -> #REF! | J11: =G11-I11 -> #REF! | K11: =(F11-H11) -> #REF!
A14: RECAPITULATIF S4 | F14: =SUM(#REF!) -> #REF! | G14: =SUM(#REF!) -> #REF! | H14: =SUM(#REF!) -> #REF! | I14: =SUM(#REF!) -> #REF! | J14: =G14-I14 -> #REF! | K14: =(F14-H14) -> #REF!
A17: RECAPITULATIF S5 | F17: =SUM(#REF!) -> #REF! | G17: =SUM(#REF!) -> #REF! | H17: =SUM(#REF!) -> #REF! | I17: =SUM(#REF!) -> #REF! | J17: =G17-I17 -> #REF! | K17: =(F17-H17) -> #REF!
A20: TOTAL MOIS | F20: =SUM(F5:F19) -> #REF! | G20: =SUM(G5:G19) -> #REF! | H20: =SUM(H5:H19) -> #REF! | I20: =SUM(H5:I19) -> #REF! | J20: =SUM(J5:J19) -> #REF! | K20: =SUM(K5:K19) -> #REF!
A24: PANNIER MOYEN= | F24: =(G20/F20) -> #REF! | G24: Dossiers métrés | I24: =(I20/H20) -> #REF! | J24: Dossiers commandés | K24: Dossiers non commandés | L24: %
A27: PAR MAGASIN = | D27: NARBONNE | F27: =SUM('1ere semaine'!D38:E39,#REF!,#REF!,#REF!,#REF!) -> #REF! | G27: Dossiers métrés | I27: =SUM('1ere semaine'!J38:K39,#REF!,#REF!,#REF!,#REF!) -> #REF! | J27: Dossiers commandés | K27: =(F27-I27) -> #REF! | L27: =(I27/H20) -> #REF!
D29: BEZIERS | F29: =SUM('1ere semaine'!D40:E41,#REF!,#REF!,#REF!,#REF!) -> #REF! | G29: Dossiers métrés | I29: =SUM('1ere semaine'!J40:K41,#REF!,#REF!,#REF!,#REF!) -> #REF! | J29: Dossiers commandés | K29: =(F29-I29) -> #REF! | L29: =(I29/H20) -> #REF!
D31: PERPIGNAN | F31: =SUM('1ere semaine'!D42:E43,#REF!,#REF!,#REF!,#REF!) -> #REF! | G31: Dossiers métrés | I31: =SUM('1ere semaine'!J42:K43,#REF!,#REF!,#REF!,#REF!) -> #REF! | J31: Dossiers commandés | K31: =(F31-I31) -> #REF! | L31: =(I31/H20) -> #REF!
D33: AUTRES | F33: =SUM('1ere semaine'!D44:E45,#REF!,#REF!,#REF!,#REF!) -> #REF! | G33: Dossiers métrés | I33: =SUM('1ere semaine'!J44:K45,#REF!,#REF!,#REF!,#REF!) -> #REF! | J33: Dossiers commandés | K33: =(F33-I33) -> #REF! | L33: =(I33/H20) -> #REF!

Sheet magasins
A1: NARBONNE
A2: BEZIERS
A3: PERPIGNAN
