Workbook
Name magasins: données!$C$29:$K$29

Sheet général
A1: Vente mensuel global sans distinction de produit juste par rapport à la date
A2: Mois | B2: 40909 | C2: 40940 | D2: 40969 | E2: 41000 | F2: 41030 | G2: 41061 | H2: 41091 | I2: 41122 | J2: 41153 | K2: 41183 | L2: 41214 | M2: 41244 | O2: Vente Annuel
A3: vente | O3: Année | P3: vente
A4: Mois | B4: 41275 | C4: 41306 | D4: 41334 | E4: 41365 | F4: 41395 | G4: 41426 | H4: 41456 | I4: 41487 | J4: 41518 | K4: 41548 | L4: 41579 | M4: 41609 | O4: 2012 | P4: =SUM(B3:M3) -> 0
A5: vente | O5: 2013 | P5: =SUM(B5:M5) -> 0
A6: Mois | B6: 41640 | C6: 41671 | D6: 41699 | E6: 41730 | F6: 41760 | G6: 41791 | H6: 41821 | I6: 41852 | J6: 41883 | K6: 41913 | L6: 41944 | M6: 41974 | O6: 2014 | P6: =SUM(B7:M7) -> 0
A7: vente | O7: 2015 | P7: =SUM(B9:M9) -> 0
A8: Mois | B8: 42005 | C8: 42036 | D8: 42064 | E8: 42095 | F8: 42125 | G8: 42156 | H8: 42186 | I8: 42217 | J8: 42248 | K8: 42278 | L8: 42309 | M8: 42339
A9: vente
A12: Produit | B12: Magasin + cher | D12: Magasin - cher | H12: Par rapport au données entrées et au produit extraire le prix le plus cher et le magasin concerné
A13: Lait | B13: =IF(C13=0,"",INDEX(magasins,MATCH(MAX(données!C30:K30),données!C30:K30,0))) -> magasin 2 | C13: =MAX(données!C30:K30) -> 0.9 | D13: =IF(E13=0,"",INDEX(magasins,MATCH(MIN(données!C30:K30),données!C30:K30,0))) -> magasin 1 | E13: =MIN(données!C30:K30) -> 0.8 | H13: Par rapport au données entrées et au produit extraire le prix le moins cher et le magasin concerné
A14: beurre | B14: =IF(C14=0,"",INDEX(magasins,MATCH(MAX(données!C31:K31),données!C31:K31,0))) -> magasin 6 | C14: =MAX(données!C31:K31) -> 1.45 | D14: =IF(E14=0,"",INDEX(magasins,MATCH(MIN(données!C31:K31),données!C31:K31,0))) -> magasin 3 | E14: =MIN(données!C31:K31) -> 1.35 | H14: La colonne produit est identique à celle de la bdd
A15: patate | B15: =IF(C15=0,"",INDEX(magasins,MATCH(MAX(données!C32:K32),données!C32:K32,0))) | C15: =MAX(données!C32:K32) -> 0 | D15: =IF(E15=0,"",INDEX(magasins,MATCH(MIN(données!C32:K32),données!C32:K32,0))) | E15: =MIN(données!C32:K32) -> 0
A16: orange | B16: =IF(C16=0,"",INDEX(magasins,MATCH(MAX(données!C33:K33),données!C33:K33,0))) -> magasin 8 | C16: =MAX(données!C33:K33) -> 1.5 | D16: =IF(E16=0,"",INDEX(magasins,MATCH(MIN(données!C33:K33),données!C33:K33,0))) -> magasin 1 | E16: =MIN(données!C33:K33) -> 0.99
A17: pomme | B17: =IF(C17=0,"",INDEX(magasins,MATCH(MAX(données!C34:K34),données!C34:K34,0))) | C17: =MAX(données!C34:K34) -> 0 | D17: =IF(E17=0,"",INDEX(magasins,MATCH(MIN(données!C34:K34),données!C34:K34,0))) | E17: =MIN(données!C34:K34) -> 0
A18: banane | B18: =IF(C18=0,"",INDEX(magasins,MATCH(MAX(données!C35:K35),données!C35:K35,0))) -> magasin 5 | C18: =MAX(données!C35:K35) -> 1.25 | D18: =IF(E18=0,"",INDEX(magasins,MATCH(MIN(données!C35:K35),données!C35:K35,0))) -> magasin 4 | E18: =MIN(données!C35:K35) -> 1
A19: yaourt | B19: =IF(C19=0,"",INDEX(magasins,MATCH(MAX(données!C36:K36),données!C36:K36,0))) | C19: =MAX(données!C36:K36) -> 0 | D19: =IF(E19=0,"",INDEX(magasins,MATCH(MIN(données!C36:K36),données!C36:K36,0))) | E19: =MIN(données!C36:K36) -> 0
A20: peche | B20: =IF(C20=0,"",INDEX(magasins,MATCH(MAX(données!C37:K37),données!C37:K37,0))) | C20: =MAX(données!C37:K37) -> 0 | D20: =IF(E20=0,"",INDEX(magasins,MATCH(MIN(données!C37:K37),données!C37:K37,0))) | E20: =MIN(données!C37:K37) -> 0
A21: poire | B21: =IF(C21=0,"",INDEX(magasins,MATCH(MAX(données!C38:K38),données!C38:K38,0))) | C21: =MAX(données!C38:K38) -> 0 | D21: =IF(E21=0,"",INDEX(magasins,MATCH(MIN(données!C38:K38),données!C38:K38,0))) | E21: =MIN(données!C38:K38) -> 0
A22: etc,, | B22: etc,, | C22: etc,, | D22: etc,, | E22: etc,,
C24: le MIN | D24: =SI(E13=0;"";INDEX(magasins;EQUIV(MIN(données!C30:K30);données!C30:K30;0)))
C26: Le MAX | D26: =SI(C13=0;"";INDEX(magasins;EQUIV(MAX(données!C30:K30);données!C30:K30;0)))
C28: Nom de champ =données!$C$29:$K$29

Sheet données
A1: Date | B1: Produit | C1: Prix unitaire | D1: Magasin
B2: Lait | C2: 0.8 | D2: magasin 1
B3: Lait | C3: 0.81 | D3: magasin 2
B4: Lait | C4: 0.85 | D4: magasin 5
B5: beurre | C5: 1.35 | D5: magasin 3 | F5: colonne date remplie manuellement
B6: beurre | C6: 1.45 | D6: magasin 6 | F6: colonne Produit remplie avec une liste déroulante par rapport à la liste qui se trouve dans la colonne produit de la bdd
B7: orange | C7: 0.99 | D7: magasin 1 | F7: colonne prix remplie manuellement
B8: orange | C8: 1.5 | D8: magasin 8 | F8: colonne Magasin remplie avec une liste déroulante par rapport à la liste qui se trouve dans la colonne Magasin de la bdd
B9: orange | C9: 1.45 | D9: magasin 9 | F9: On peut avoir le même produit dans plusieurs magasins
B10: banane | C10: 1 | D10: magasin 4
F24: Il faut transposer certaines données dans un auter tableau
F25: Ce qui nous intéresse, le prix les produits et les magasins
B29: Produits | C29: magasin 1 | D29: magasin 2 | E29: magasin 3 | F29: magasin 4 | G29: magasin 5 | H29: magasin 6 | I29: magasin 7 | J29: magasin 8 | K29: magasin 9
B30: Lait | C30: 0.8 | D30: 0.9 | G30: 0.85
B31: beurre | E31: 1.35 | H31: 1.45
B32: patate
B33: orange | C33: 0.99 | J33: 1.5 | K33: 1.45
B34: pomme
B35: banane | F35: 1 | G35: 1.25
B36: yaourt
B37: peche
B38: poire

Sheet bdd
A2: Produit | B2: magasin
A3: Lait | B3: magasin 1 | D3: de 600 à 1000 produits en liste
A4: beurre | B4: magasin 2 | D4: environ 10 magasins
A5: patate | B5: magasin 3
A6: orange | B6: magasin 4
A7: pomme | B7: magasin 5
A8: banane | B8: magasin 6
A9: yaourt | B9: magasin 7
A10: peche | B10: magasin 8
A11: poire | B11: magasin 9
