Workbook

Sheet ELPDH
A1: Code Ana. | B1: Contre Partie | C1: Rayons Concernés. | D1: Libellé | E1: Adresse1 | F1: Adresse2 | G1: Code Postal | H1: Ville | I1: N° Tel | J1: N° Fax | K1: Email | L1: CAHT EVRODIS | P1: CAHT PERSIDIS | T1: CAHT GLOBAL SITE

Sheet Liste
A1: Code Ana. | B1: Contre Partie | C1: Rayons Concernés. | D1: Libellé | E1: Adresse1 | F1: Adresse2 | G1: Code Postal | H1: Ville | I1: N° Tel | J1: N° Fax | K1: Email | L1: CAHT EVRODIS | P1: CAHT PERSIDIS | T1: CAHT GLOBAL SITE
L2: CAHT du 01/03/12 au 30/09/12 | M2: CATTC N-1 | N2: TOTAL | O2: Evolution | P2: CAHT du 01/03/12 au 30/09/12 | Q2: CATTC N-1 | R2: TOTAL | S2: Evolution | T2: CAHT du 01/03/12 au 30/09/12 | U2: CATTC N-1 | V2: Evolution
A3: 06500000 | B3: FSINERGY | C3: CARBURANT NEW | D3: SINERGY | E3: 26 QUAI MARCEL BOYER | F3: 0 | G3: 94200 | H3: IVRY-SUR-SEINE | I3: 01.49.87.30.69 | J3: 01.56.20.56.60 | K3: 0 | L3: =VLOOKUP(D3,'CAHT EVRON'!$A$2:$C$226,2,FALSE) -> 2226493.1 | M3: =VLOOKUP(D3,'CAHT EVRON'!$A$2:$C$226,3,FALSE) -> 5209662.1 | N3: =SUM(L3:M3) -> 7436155.2 | O3: =IF(M3=0*(OUN3=0),0,(L3/M3-1)) -> -0.57262236 | P3: =VLOOKUP(D3,'CAHT SABLE'!$A$2:$C$182,2,FALSE) -> 2510975.5 | Q3: =VLOOKUP(D3,'CAHT SABLE'!$A$2:$C$182,3,FALSE) -> 4213544.7 | R3: =SUM(P3:Q3) -> 6724520.2 | S3: =IF(Q3=0*(OUR3=0),0,(P3/Q3-1)) -> -0.40407052 | T3: =P3+L3 -> 4737468.6 | U3: =Q3+M3 -> 9423206.8 | V3: =IF(U3=0*(OUT3=0),0,(T3/U3-1)) -> -0.49725516
A4: 06500000 | B4: FEGEDIS | C4: CARBURANT NEW | D4: EGEDIS | E4: 139 AVENUE AMBROISE CROIZAT | F4: BP 146 | G4: 38403 | H4: ST MARTIN D HERES | I4: 04.76.44.52.81 | J4: 04.76.51.57.93 | K4: 0 | L4: =VLOOKUP(D4,'CAHT EVRON'!$A$2:$C$226,2,FALSE) -> 2361079 | M4: =VLOOKUP(D4,'CAHT EVRON'!$A$2:$C$226,3,FALSE) -> 3385387.6 | N4: =SUM(L4:M4) -> 5746466.7 | O4: =IF(M4=0*(OUN4=0),0,(L4/M4-1)) -> -0.30256759 | P4: =VLOOKUP(D4,'CAHT SABLE'!$A$2:$C$182,2,FALSE) -> 644947.07 | Q4: =VLOOKUP(D4,'CAHT SABLE'!$A$2:$C$182,3,FALSE) -> 1935165.8 | R4: =SUM(P4:Q4) -> 2580112.9 | S4: =IF(Q4=0*(OUR4=0),0,(P4/Q4-1)) -> -0.66672258 | T4: =P4+L4 -> 3006026.1 | U4: =Q4+M4 -> 5320553.5 | V4: =IF(U4=0*(OUT4=0),0,(T4/U4-1)) -> -0.43501627
A5: 03106400 | B5: FSDO | C5: IMAGE ET SON | D5: SDO | E5: Z.A. DU GIFARD | F5: BP 15 | G5: 35410 | H5: DOMLOUP | I5: 02.99.37.56.56 | J5: 02.99.37.56.30 | K5: sdorennes@sdo.fr | L5: =VLOOKUP(D5,'CAHT EVRON'!$A$2:$C$226,2,FALSE) -> 76646.32 | M5: =VLOOKUP(D5,'CAHT EVRON'!$A$2:$C$226,3,FALSE) -> 132662.95 | N5: =SUM(L5:M5) -> 209309.27 | O5: =IF(M5=0*(OUN5=0),0,(L5/M5-1)) -> -0.42224773 | P5: =VLOOKUP(D5,'CAHT SABLE'!$A$2:$C$182,2,FALSE) -> 48763.87 | Q5: =VLOOKUP(D5,'CAHT SABLE'!$A$2:$C$182,3,FALSE) -> 112328.18 | R5: =SUM(P5:Q5) -> 161092.05 | S5: =IF(Q5=0*(OUR5=0),0,(P5/Q5-1)) -> -0.56588035 | T5: =P5+L5 -> 125410.19 | U5: =Q5+M5 -> 244991.13 | V5: =IF(U5=0*(OUT5=0),0,(T5/U5-1)) -> -0.48810314
A6: 02403800 | B6: FCHARCUTER | C6: CHARCT.LS UVCI | D6: CHARCUTERIE COSME | E6: 88 AV PIERRE PIFFAULT | F6: 0 | G6: 72100 | H6: LE MANS | I6: 02.43.85.75.15 | J6: 02.43.86.23.61 | K6: 0 | L6: =VLOOKUP(D6,'CAHT EVRON'!$A$2:$C$226,2,FALSE) -> 29548.75 | M6: =VLOOKUP(D6,'CAHT EVRON'!$A$2:$C$226,3,FALSE) -> 49362.88 | N6: =SUM(L6:M6) -> 78911.63 | O6: =IF(M6=0*(OUN6=0),0,(L6/M6-1)) -> -0.40139737 | P6: =VLOOKUP(D6,'CAHT SABLE'!$A$2:$C$182,2,FALSE) -> 87695.99 | Q6: =VLOOKUP(D6,'CAHT SABLE'!$A$2:$C$182,3,FALSE) -> 138879.13 | R6: =SUM(P6:Q6) -> 226575.12 | S6: =IF(Q6=0*(OUR6=0),0,(P6/Q6-1)) -> -0.3685445 | T6: =P6+L6 -> 117244.74 | U6: =Q6+M6 -> 188242.01 | V6: =IF(U6=0*(OUT6=0),0,(T6/U6-1)) -> -0.37715954
A7: 02403800 | B7: FRILLETTES | C7: CHARCT.LS UVCI | D7: RILLETTES GORRONNAISES | E7: LES BESNARDIÈRES | F7: PARC DES ACTIVITÉS | G7: 53120 | H7: GORRON | I7: 02.43.08.69.56 | J7: 02.43.08.00.72 | K7: rillettesgorronnaises@wanadoo.fr | L7: =VLOOKUP(D7,'CAHT EVRON'!$A$2:$C$226,2,FALSE) -> 110546.99 | M7: =VLOOKUP(D7,'CAHT EVRON'!$A$2:$C$226,3,FALSE) -> 150720.31 | N7: =SUM(L7:M7) -> 261267.3 | O7: =IF(M7=0*(OUN7=0),0,(L7/M7-1)) -> -0.26654218 | P7: =VLOOKUP(D7,'CAHT SABLE'!$A$2:$C$182,2,FALSE) -> 343.29 | Q7: =VLOOKUP(D7,'CAHT SABLE'!$A$2:$C$182,3,FALSE) -> 0 | R7: =SUM(P7:Q7) -> 343.29 | S7: =IF(Q7=0*(OUR7=0),0,(P7/Q7-1)) -> 0 | T7: =P7+L7 -> 110890.28 | U7: =Q7+M7 -> 150720.31 | V7: =IF(U7=0*(OUT7=0),0,(T7/U7-1)) -> -0.26426452
A8: 03106200 | B8: FC2BPRESSE | C8: LIBRAIRIE | D8: C2B PRESSE | E8: 38 RUE DE ROME | F8: Z.A DES BOZÉES | G8: 53000 | H8: LAVAL | I8: 02.43.64.18.80 | J8: 02.43.64.18.89 | K8: 0 | L8: =VLOOKUP(D8,'CAHT EVRON'!$A$2:$C$226,2,FALSE) -> 106554.95 | M8: =VLOOKUP(D8,'CAHT EVRON'!$A$2:$C$226,3,FALSE) -> 159651.42 | N8: =SUM(L8:M8) -> 266206.37 | O8: =IF(M8=0*(OUN8=0),0,(L8/M8-1)) -> -0.3325775 | P8: =VLOOKUP(D8,'CAHT SABLE'!$A$2:$C$182,2,FALSE) -> 1828.25 | Q8: =VLOOKUP(D8,'CAHT SABLE'!$A$2:$C$182,3,FALSE) -> 3722.73 | R8: =SUM(P8:Q8) -> 5550.98 | S8: =IF(Q8=0*(OUR8=0),0,(P8/Q8-1)) -> -0.50889535 | T8: =P8+L8 -> 108383.2 | U8: =Q8+M8 -> 163374.15 | V8: =IF(U8=0*(OUT8=0),0,(T8/U8-1)) -> -0.33659517
A9: 02604800 | B9: FSOCOPAEVR | C9: BOUCH.ATELIER TRADT. | D9: SOCOPA EVRON | E9: ROUTE DE VOUTRÉ | F9: BP 149 | G9: 53601 | H9: EVRON CEDEX | I9: 02.43.66.33.33 | J9: 02.43.01.99.47 | K9: 0 | L9: =VLOOKUP(D9,'CAHT EVRON'!$A$2:$C$226,2,FALSE) -> 55852.36 | M9: =VLOOKUP(D9,'CAHT EVRON'!$A$2:$C$226,3,FALSE) -> 94062.67 | N9: =SUM(L9:M9) -> 149915.03 | O9: =IF(M9=0*(OUN9=0),0,(L9/M9-1)) -> -0.40622183 | P9: =VLOOKUP(D9,'CAHT SABLE'!$A$2:$C$182,2,FALSE) -> 42232.83 | Q9: =VLOOKUP(D9,'CAHT SABLE'!$A$2:$C$182,3,FALSE) -> 70127.89 | R9: =SUM(P9:Q9) -> 112360.72 | S9: =IF(Q9=0*(OUR9=0),0,(P9/Q9-1)) -> -0.39777412 | T9: =P9+L9 -> 98085.19 | U9: =Q9+M9 -> 164190.56 | V9: =IF(U9=0*(OUT9=0),0,(T9/U9-1)) -> -0.40261371
A10: 06050000 | B10: FPRIMAGAZ | C10: CARBURANT | D10: PRIMAGAZ | E10: Z.A. DE LA TOUCHE | F10: CONTOUR DE LA TOUCHE | G10: 35137 | H10: BEDEE | I10: 09.70.808.708 | J10: 02.99.61.23.79 | K10: clientprimacyl@primagaz.fr | L10: =VLOOKUP(D10,'CAHT EVRON'!$A$2:$C$226,2,FALSE) -> 61461.83 | M10: =VLOOKUP(D10,'CAHT EVRON'!$A$2:$C$226,3,FALSE) -> 130425.85 | N10: =SUM(L10:M10) -> 191887.68 | O10: =IF(M10=0*(OUN10=0),0,(L10/M10-1)) -> -0.52876036 | P10: =VLOOKUP(D10,'CAHT SABLE'!$A$2:$C$182,2,FALSE) -> 15689.96 | Q10: =VLOOKUP(D10,'CAHT SABLE'!$A$2:$C$182,3,FALSE) -> 27146.75 | R10: =SUM(P10:Q10) -> 42836.71 | S10: =IF(Q10=0*(OUR10=0),0,(P10/Q10-1)) -> -0.42203173 | T10: =P10+L10 -> 77151.79 | U10: =Q10+M10 -> 157572.6 | V10: =IF(U10=0*(OUT10=0),0,(T10/U10-1)) -> -0.51037306
A11: 02604800 | B11: FSOCOPA | C11: BOUCH.ATELIER TRADT. | D11: SOCOPA | E11: ZI DE KERGOSTIOU | F11: BP 40060 | G11: 29392 | H11: QUIMPERLE CEDEX | I11: 02.43.60.22.44 | J11: 02.43.60.22.00 | K11: 0 | L11: =VLOOKUP(D11,'CAHT EVRON'!$A$2:$C$226,2,FALSE) -> 75100.38 | M11: =VLOOKUP(D11,'CAHT EVRON'!$A$2:$C$226,3,FALSE) -> 125180.61 | N11: =SUM(L11:M11) -> 200280.99 | O11: =IF(M11=0*(OUN11=0),0,(L11/M11-1)) -> -0.4000638 | R11: =SUM(P11:Q11) -> 0 | S11: =IF(Q11=0*(OUR11=0),0,(P11/Q11-1)) -> 0 | T11: =P11+L11 -> 75100.38 | U11: =Q11+M11 -> 125180.61 | V11: =IF(U11=0*(OUT11=0),0,(T11/U11-1)) -> -0.4000638
A12: 03257800 | B12: FINGENICO | C12: TELEPHONIE | D12: INGENICO PREPAID SERVICES | E12: 192 AVENUE CHARLES DE GAULLE | F12: 0 | G12: 92150 | H12: NEUILLY SUR SEINE | I12: 08.11.65.00.24 | J12: 0 | K12: 0 | L12: =VLOOKUP(D12,'CAHT EVRON'!$A$2:$C$226,2,FALSE) -> 44733.44 | M12: =VLOOKUP(D12,'CAHT EVRON'!$A$2:$C$226,3,FALSE) -> 107987.93 | N12: =SUM(L12:M12) -> 152721.37 | O12: =IF(M12=0*(OUN12=0),0,(L12/M12-1)) -> -0.58575519 | P12: =VLOOKUP(D12,'CAHT SABLE'!$A$2:$C$182,2,FALSE) -> 29826.76 | Q12: =VLOOKUP(D12,'CAHT SABLE'!$A$2:$C$182,3,FALSE) -> 66074.81 | R12: =SUM(P12:Q12) -> 95901.57 | S12: =IF(Q12=0*(OUR12=0),0,(P12/Q12-1)) -> -0.54859106 | T12: =P12+L12 -> 74560.2 | U12: =Q12+M12 -> 174062.74 | V12: =IF(U12=0*(OUT12=0),0,(T12/U12-1)) -> -0.57164756
A13: 02303400 | B13: FPOMONATER | C13: FRUITS | D13: POMONA TERRE AZUR | E13: 109 AVENUE DE LA PROSPECTIVE | F13: 0 | G13: 18021 | H13: BOURGES CEDEX | I13: 02.48.23.76.00 | J13: 02.48.65.96.28 | K13: terreazur.bourges@pomona.fr | L13: =VLOOKUP(D13,'CAHT EVRON'!$A$2:$C$226,2,FALSE) -> 37038.26 | M13: =VLOOKUP(D13,'CAHT EVRON'!$A$2:$C$226,3,FALSE) -> 38224.14 | N13: =SUM(L13:M13) -> 75262.4 | O13: =IF(M13=0*(OUN13=0),0,(L13/M13-1)) -> -0.031024374 | P13: =VLOOKUP(D13,'CAHT SABLE'!$A$2:$C$182,2,FALSE) -> 34400.7 | Q13: =VLOOKUP(D13,'CAHT SABLE'!$A$2:$C$182,3,FALSE) -> 42311.79 | R13: =SUM(P13:Q13) -> 76712.49 | S13: =IF(Q13=0*(OUR13=0),0,(P13/Q13-1)) -> -0.18697129 | T13: =P13+L13 -> 71438.96 | U13: =Q13+M13 -> 80535.93 | V13: =IF(U13=0*(OUT13=0),0,(T13/U13-1)) -> -0.11295542
A14: 02604800 | B14: FAIM | C14: BOUCH.ATELIER TRADT. | D14: AIM | E14: BP 55 | F14: 0 | G14: 50800 | H14: VILLEDIEU LES POELES | I14: 0233914150 | J14: 0233516661 | K14: 0 | L14: =VLOOKUP(D14,'CAHT EVRON'!$A$2:$C$226,2,FALSE) -> 48738.32 | M14: =VLOOKUP(D14,'CAHT EVRON'!$A$2:$C$226,3,FALSE) -> 118854.46 | N14: =SUM(L14:M14) -> 167592.78 | O14: =IF(M14=0*(OUN14=0),0,(L14/M14-1)) -> -0.58993276 | P14: =VLOOKUP(D14,'CAHT SABLE'!$A$2:$C$182,2,FALSE) -> 20633.7 | Q14: =VLOOKUP(D14,'CAHT SABLE'!$A$2:$C$182,3,FALSE) -> 48659.09 | R14: =SUM(P14:Q14) -> 69292.79 | S14: =IF(Q14=0*(OUR14=0),0,(P14/Q14-1)) -> -0.57595385 | T14: =P14+L14 -> 69372.02 | U14: =Q14+M14 -> 167513.55 | V14: =IF(U14=0*(OUT14=0),0,(T14/U14-1)) -> -0.58587219
A15: 03300000 | B15: FMESSAGERI | C15: PRESSE | D15: MESSAGERIES MANCELLES | E15: 4 RUE PIFFAULT ZIS | F15: 0 | G15: 72100 | H15: LE MANS | I15: 0 | J15: 0 | K15: 0 | N15: =SUM(L15:M15) -> 0 | O15: =IF(M15=0*(OUN15=0),0,(L15/M15-1)) -> 0 | P15: =VLOOKUP(D15,'CAHT SABLE'!$A$2:$C$182,2,FALSE) -> 67216.46 | Q15: =VLOOKUP(D15,'CAHT SABLE'!$A$2:$C$182,3,FALSE) -> 119894.42 | R15: =SUM(P15:Q15) -> 187110.88 | S15: =IF(Q15=0*(OUR15=0),0,(P15/Q15-1)) -> -0.43936957 | T15: =P15+L15 -> 67216.46 | U15: =Q15+M15 -> 119894.42 | V15: =IF(U15=0*(OUT15=0),0,(T15/U15-1)) -> -0.43936957
A16: 03257900 | B16: FINNELEC | C16: BUREAUTIQUE INFORMATIQUE | D16: INNELEC | E16: 45 RUE DÉLIZY | F16: CENTRE D'ACTIVITÉ DE L'OURCQ | G16: 93692 | H16: PANTIN CEDEX | I16: 01.48.10.55.55 | J16: 01.48.91.29.12 | K16: m_ferge@innelec.com | L16: =VLOOKUP(D16,'CAHT EVRON'!$A$2:$C$226,2,FALSE) -> 61097.29 | M16: =VLOOKUP(D16,'CAHT EVRON'!$A$2:$C$226,3,FALSE) -> 162810.57 | N16: =SUM(L16:M16) -> 223907.86 | O16: =IF(M16=0*(OUN16=0),0,(L16/M16-1)) -> -0.62473389 | P16: =VLOOKUP(D16,'CAHT SABLE'!$A$2:$C$182,2,FALSE) -> 90 | Q16: =VLOOKUP(D16,'CAHT SABLE'!$A$2:$C$182,3,FALSE) -> -762.28 | R16: =SUM(P16:Q16) -> -672.28 | S16: =IF(Q16=0*(OUR16=0),0,(P16/Q16-1)) -> -1.1180669 | T16: =P16+L16 -> 61187.29 | U16: =Q16+M16 -> 162048.29 | V16: =IF(U16=0*(OUT16=0),0,(T16/U16-1)) -> -0.62241323
A17: 02051800 | B17: FMICHARDPA | C17: BOULANGERIE | D17: MICHARD PAYS DE LOIRE | E17: RUE DE LA FOUQUERIE | F17: ZAC DES VIGNES | G17: 72300 | H17: SOLESMES | I17: 02.43.55.11.70 | J17: 02.43.62.28.78 | K17: 0 | L17: =VLOOKUP(D17,'CAHT EVRON'!$A$2:$C$226,2,FALSE) -> 31563.56 | M17: =VLOOKUP(D17,'CAHT EVRON'!$A$2:$C$226,3,FALSE) -> 50822.82 | N17: =SUM(L17:M17) -> 82386.38 | O17: =IF(M17=0*(OUN17=0),0,(L17/M17-1)) -> -0.37894906 | P17: =VLOOKUP(D17,'CAHT SABLE'!$A$2:$C$182,2,FALSE) -> 22548.23 | Q17: =VLOOKUP(D17,'CAHT SABLE'!$A$2:$C$182,3,FALSE) -> 40696.08 | R17: =SUM(P17:Q17) -> 63244.31 | S17: =IF(Q17=0*(OUR17=0),0,(P17/Q17-1)) -> -0.44593607 | T17: =P17+L17 -> 54111.79 | U17: =Q17+M17 -> 91518.9 | V17: =IF(U17=0*(OUT17=0),0,(T17/U17-1)) -> -0.40873645
A18: 03106200 | B18: FDNLDISTRI | C18: LIBRAIRIE | D18: DNL DISTRIBUTION | E18: ROUTE DE LA FERRIÈRE | F18: BP 2 | G18: 85140 | H18: LA MERLATIERE | I18: 02.51.40.52.16 | J18: 02.51.40.50.55 | K18: ayette.mayouche@interforum.fr | L18: =VLOOKUP(D18,'CAHT EVRON'!$A$2:$C$226,2,FALSE) -> 32320.53 | M18: =VLOOKUP(D18,'CAHT EVRON'!$A$2:$C$226,3,FALSE) -> 39490.86 | N18: =SUM(L18:M18) -> 71811.39 | O18: =IF(M18=0*(OUN18=0),0,(L18/M18-1)) -> -0.18156936 | P18: =VLOOKUP(D18,'CAHT SABLE'!$A$2:$C$182,2,FALSE) -> 18182.73 | Q18: =VLOOKUP(D18,'CAHT SABLE'!$A$2:$C$182,3,FALSE) -> 32473.02 | R18: =SUM(P18:Q18) -> 50655.75 | S18: =IF(Q18=0*(OUR18=0),0,(P18/Q18-1)) -> -0.44006655 | T18: =P18+L18 -> 50503.26 | U18: =Q18+M18 -> 71963.88 | V18: =IF(U18=0*(OUT18=0),0,(T18/U18-1)) -> -0.29821377
A19: 06100000 | B19: FBUTAGAZ | C19: GAZ | D19: BUTAGAZ | E19: 2 RUE GEORGES PERROS | F19: 0 | G19: 29018 | H19: QUIMPER | I19: 08.11.88.81.04 | J19: 08.11.88.83.04 | K19: 0 | L19: =VLOOKUP(D19,'CAHT EVRON'!$A$2:$C$226,2,FALSE) -> 26169.08 | M19: =VLOOKUP(D19,'CAHT EVRON'!$A$2:$C$226,3,FALSE) -> 55362.86 | N19: =SUM(L19:M19) -> 81531.94 | O19: =IF(M19=0*(OUN19=0),0,(L19/M19-1)) -> -0.52731705 | P19: =VLOOKUP(D19,'CAHT SABLE'!$A$2:$C$182,2,FALSE) -> 22626.16 | Q19: =VLOOKUP(D19,'CAHT SABLE'!$A$2:$C$182,3,FALSE) -> 46925.36 | R19: =SUM(P19:Q19) -> 69551.52 | S19: =IF(Q19=0*(OUR19=0),0,(P19/Q19-1)) -> -0.51782661 | T19: =P19+L19 -> 48795.24 | U19: =Q19+M19 -> 102288.22 | V19: =IF(U19=0*(OUT19=0),0,(T19/U19-1)) -> -0.52296325
A20: 01101000 | B20: FROXANE | C20: BOISSONS | D20: ROXANE | E20: LE CLOS DES SOURCES | F20: 0 | G20: 61420 | H20: LA FERRIERE BOCHARD | I20: 02.33.82.53.07 | J20: 02.33.26.74.32 | K20: facturation.vi@roxane.fr | L20: =VLOOKUP(D20,'CAHT EVRON'!$A$2:$C$226,2,FALSE) -> 25297.37 | M20: =VLOOKUP(D20,'CAHT EVRON'!$A$2:$C$226,3,FALSE) -> 42814.29 | N20: =SUM(L20:M20) -> 68111.66 | O20: =IF(M20=0*(OUN20=0),0,(L20/M20-1)) -> -0.40913723 | P20: =VLOOKUP(D20,'CAHT SABLE'!$A$2:$C$182,2,FALSE) -> 22106.34 | Q20: =VLOOKUP(D20,'CAHT SABLE'!$A$2:$C$182,3,FALSE) -> 38533.05 | R20: =SUM(P20:Q20) -> 60639.39 | S20: =IF(Q20=0*(OUR20=0),0,(P20/Q20-1)) -> -0.42630184 | T20: =P20+L20 -> 47403.71 | U20: =Q20+M20 -> 81347.34 | V20: =IF(U20=0*(OUT20=0),0,(T20/U20-1)) -> -0.41726785
A21: 03106200 | B21: FHACHETTE | C21: LIBRAIRIE | D21: HACHETTE | E21: AVENUE GUTENBERG | F21: 0 | G21: 78316 | H21: MAUREPAS | I21: 01.30.66.25.67 | J21: 01.30.66.25.19 | K21: 0 | L21: =VLOOKUP(D21,'CAHT EVRON'!$A$2:$C$226,2,FALSE) -> 31263.59 | M21: =VLOOKUP(D21,'CAHT EVRON'!$A$2:$C$226,3,FALSE) -> 44362.14 | N21: =SUM(L21:M21) -> 75625.73 | O21: =IF(M21=0*(OUN21=0),0,(L21/M21-1)) -> -0.29526416 | P21: =VLOOKUP(D21,'CAHT SABLE'!$A$2:$C$182,2,FALSE) -> 11222.21 | Q21: =VLOOKUP(D21,'CAHT SABLE'!$A$2:$C$182,3,FALSE) -> 11666.3 | R21: =SUM(P21:Q21) -> 22888.51 | S21: =IF(Q21=0*(OUR21=0),0,(P21/Q21-1)) -> -0.038066054 | T21: =P21+L21 -> 42485.8 | U21: =Q21+M21 -> 56028.44 | V21: =IF(U21=0*(OUT21=0),0,(T21/U21-1)) -> -0.2417101
A22: 01050300 | B22: FMACCORMIC | C22: AIDES CULINAIRES | D22: MC CORMICK | E22: SITE AGROPARC | F22: 315 RUE MARCEL DEMONQUE | G22: 84917 | H22: AVIGNON CEDEX 9 | I22: 04.90.63.63.32 | J22: 04.90.63.62.57 | K22: nmourre@fr.mccormick.com | L22: =VLOOKUP(D22,'CAHT EVRON'!$A$2:$C$226,2,FALSE) -> 26783.93 | M22: =VLOOKUP(D22,'CAHT EVRON'!$A$2:$C$226,3,FALSE) -> 22959.56 | N22: =SUM(L22:M22) -> 49743.49 | O22: =IF(M22=0*(OUN22=0),0,(L22/M22-1)) -> 0.16656983 | P22: =VLOOKUP(D22,'CAHT SABLE'!$A$2:$C$182,2,FALSE) -> 14907.83 | Q22: =VLOOKUP(D22,'CAHT SABLE'!$A$2:$C$182,3,FALSE) -> 13079.51 | R22: =SUM(P22:Q22) -> 27987.34 | S22: =IF(Q22=0*(OUR22=0),0,(P22/Q22-1)) -> 0.13978505 | T22: =P22+L22 -> 41691.76 | U22: =Q22+M22 -> 36039.07 | V22: =IF(U22=0*(OUT22=0),0,(T22/U22-1)) -> 0.15684894
A23: 02454400 | B23: FFERMEDUPA | C23: TRAITEUR TRADT. | D23: FERME DU PARC | E23: L' ANGEBERDIÈRE | F23: 0 | G23: 72350 | H23: ST DENIS D ORQUES | I23: 02.43.88.21.31 | J23: 02.43.88.63.20 | K23: 0 | L23: =VLOOKUP(D23,'CAHT EVRON'!$A$2:$C$226,2,FALSE) -> 35046.77 | M23: =VLOOKUP(D23,'CAHT EVRON'!$A$2:$C$226,3,FALSE) -> 53964.01 | N23: =SUM(L23:M23) -> 89010.78 | O23: =IF(M23=0*(OUN23=0),0,(L23/M23-1)) -> -0.3505529 | P23: =VLOOKUP(D23,'CAHT SABLE'!$A$2:$C$182,2,FALSE) -> 5542.41 | Q23: =VLOOKUP(D23,'CAHT SABLE'!$A$2:$C$182,3,FALSE) -> 0 | R23: =SUM(P23:Q23) -> 5542.41 | S23: =IF(Q23=0*(OUR23=0),0,(P23/Q23-1)) -> 0 | T23: =P23+L23 -> 40589.18 | U23: =Q23+M23 -> 53964.01 | V23: =IF(U23=0*(OUT23=0),0,(T23/U23-1)) -> -0.24784722
A24: 02504600 | B24: FSOFRAL | C24: VOL.LS STANDARD | D24: SOFRAL | E24: Z.I. | F24: BP 16 | G24: 53110 | H24: LASSAY LES CHATEAUX | I24: 02.43.30.28.00 | J24: 02.43.30.28.03 | K24: sofral@dial.oleane.com | L24: =VLOOKUP(D24,'CAHT EVRON'!$A$2:$C$226,2,FALSE) -> 34394.46 | M24: =VLOOKUP(D24,'CAHT EVRON'!$A$2:$C$226,3,FALSE) -> 55510.04 | N24: =SUM(L24:M24) -> 89904.5 | O24: =IF(M24=0*(OUN24=0),0,(L24/M24-1)) -> -0.38039209 | R24: =SUM(P24:Q24) -> 0 | S24: =IF(Q24=0*(OUR24=0),0,(P24/Q24-1)) -> 0 | T24: =P24+L24 -> 34394.46 | U24: =Q24+M24 -> 55510.04 | V24: =IF(U24=0*(OUT24=0),0,(T24/U24-1)) -> -0.38039209
A25: 03157100 | B25: FIMPEX | C25: CYCLES | D25: IMPEX | E25: 140 ROUTE DES MOULINS | F25: 0 | G25: 38490 | H25: CHIMILIN | I25: 04.76.32.69.69 | J25: 04.76.32.55.30 | K25: sales@impex.fr | L25: =VLOOKUP(D25,'CAHT EVRON'!$A$2:$C$226,2,FALSE) -> 23382.74 | M25: =VLOOKUP(D25,'CAHT EVRON'!$A$2:$C$226,3,FALSE) -> 43612.86 | N25: =SUM(L25:M25) -> 66995.6 | O25: =IF(M25=0*(OUN25=0),0,(L25/M25-1)) -> -0.46385676 | P25: =VLOOKUP(D25,'CAHT SABLE'!$A$2:$C$182,2,FALSE) -> 9178.21 | Q25: =VLOOKUP(D25,'CAHT SABLE'!$A$2:$C$182,3,FALSE) -> 28111.46 | R25: =SUM(P25:Q25) -> 37289.67 | S25: =IF(Q25=0*(OUR25=0),0,(P25/Q25-1)) -> -0.67350646 | T25: =P25+L25 -> 32560.95 | U25: =Q25+M25 -> 71724.32 | V25: =IF(U25=0*(OUT25=0),0,(T25/U25-1)) -> -0.54602637
A26: 03207200 | B26: FEVOE | C26: ECLAIRAGE ELECTRICITE | D26: EVOE | E26: 19 RUE ISAAC NEWTON | F26: 0 | G26: 77100 | H26: MEAUX | I26: 01.60.32.27.27 | J26: 01.64.33.92.09 | K26: info@evoe.fr | L26: =VLOOKUP(D26,'CAHT EVRON'!$A$2:$C$226,2,FALSE) -> 15913.89 | M26: =VLOOKUP(D26,'CAHT EVRON'!$A$2:$C$226,3,FALSE) -> 28669.67 | N26: =SUM(L26:M26) -> 44583.56 | O26: =IF(M26=0*(OUN26=0),0,(L26/M26-1)) -> -0.44492246 | P26: =VLOOKUP(D26,'CAHT SABLE'!$A$2:$C$182,2,FALSE) -> 14411.42 | Q26: =VLOOKUP(D26,'CAHT SABLE'!$A$2:$C$182,3,FALSE) -> 21016.02 | R26: =SUM(P26:Q26) -> 35427.44 | S26: =IF(Q26=0*(OUR26=0),0,(P26/Q26-1)) -> -0.31426502 | T26: =P26+L26 -> 30325.31 | U26: =Q26+M26 -> 49685.69 | V26: =IF(U26=0*(OUT26=0),0,(T26/U26-1)) -> -0.38965706
A27: 02655100 | B27: FMAREEPOUR | C27: POISSON TRADITIONNEL | D27: MAREE POUR TOUS | E27: RUE DU PETIT PRÉ | F27: ZAC DES TROIS MARCHES | G27: 35746 | H27: VEZIN LE COQUET CEDEX | I27: 02.99.59.00.56 | J27: 02.99.59.00.10 | K27: lamareepourtous@lamareepourtous.fr | L27: =VLOOKUP(D27,'CAHT EVRON'!$A$2:$C$226,2,FALSE) -> 23773.73 | M27: =VLOOKUP(D27,'CAHT EVRON'!$A$2:$C$226,3,FALSE) -> 45986.1 | N27: =SUM(L27:M27) -> 69759.83 | O27: =IF(M27=0*(OUN27=0),0,(L27/M27-1)) -> -0.48302357 | P27: =VLOOKUP(D27,'CAHT SABLE'!$A$2:$C$182,2,FALSE) -> 5702.02 | Q27: =VLOOKUP(D27,'CAHT SABLE'!$A$2:$C$182,3,FALSE) -> 10156.78 | R27: =SUM(P27:Q27) -> 15858.8 | S27: =IF(Q27=0*(OUR27=0),0,(P27/Q27-1)) -> -0.43859963 | T27: =P27+L27 -> 29475.75 | U27: =Q27+M27 -> 56142.88 | V27: =IF(U27=0*(OUT27=0),0,(T27/U27-1)) -> -0.47498685
A28: 03106700 | B28: FFUJIFILM | C28: DEVELOPPEMENT PHOTO | D28: FUJI FILM | E28: 16 RUE E.J MAREY | F28: BP 34 | G28: 78391 | H28: BOIS D'ARCY CEDEX | I28: 01.30.14.34.56 | J28: 01.34.60.16.60 | K28: 0 | L28: =VLOOKUP(D28,'CAHT EVRON'!$A$2:$C$226,2,FALSE) -> 19413.34 | M28: =VLOOKUP(D28,'CAHT EVRON'!$A$2:$C$226,3,FALSE) -> 43647.41 | N28: =SUM(L28:M28) -> 63060.75 | O28: =IF(M28=0*(OUN28=0),0,(L28/M28-1)) -> -0.55522355 | P28: =VLOOKUP(D28,'CAHT SABLE'!$A$2:$C$182,2,FALSE) -> 9515.09 | Q28: =VLOOKUP(D28,'CAHT SABLE'!$A$2:$C$182,3,FALSE) -> 23796.72 | R28: =SUM(P28:Q28) -> 33311.81 | S28: =IF(Q28=0*(OUR28=0),0,(P28/Q28-1)) -> -0.6001512 | T28: =P28+L28 -> 28928.43 | U28: =Q28+M28 -> 67444.13 | V28: =IF(U28=0*(OUT28=0),0,(T28/U28-1)) -> -0.57107564
A29: 03257700 | B29: FJAPANDIFF | C29: PHOTO CINE SON | D29: JAPAN DIFFUSION | E29: Z.A. DU MOULIN | F29: RUE DE L'EGALITE | G29: 59155 | H29: FACHES THUMESNIL | I29: 0299320644 | J29: 0299228867 | K29: japan@japan-diffusion.com | L29: =VLOOKUP(D29,'CAHT EVRON'!$A$2:$C$226,2,FALSE) -> 16405.56 | M29: =VLOOKUP(D29,'CAHT EVRON'!$A$2:$C$226,3,FALSE) -> 46986.47 | N29: =SUM(L29:M29) -> 63392.03 | O29: =IF(M29=0*(OUN29=0),0,(L29/M29-1)) -> -0.65084502 | P29: =VLOOKUP(D29,'CAHT SABLE'!$A$2:$C$182,2,FALSE) -> 11867.59 | Q29: =VLOOKUP(D29,'CAHT SABLE'!$A$2:$C$182,3,FALSE) -> 54108.22 | R29: =SUM(P29:Q29) -> 65975.81 | S29: =IF(Q29=0*(OUR29=0),0,(P29/Q29-1)) -> -0.78066937 | T29: =P29+L29 -> 28273.15 | U29: =Q29+M29 -> 101094.69 | V29: =IF(U29=0*(OUT29=0),0,(T29/U29-1)) -> -0.72033002
A30: 02202600 | B30: FTEAMOUEST | C30: FROMAGE COUPE | D30: TEAM OUEST | E30: ZA LA RIVIERE, RUE RAVALET | F30: BP 93311 | G30: 35533 | H30: NOYAL / VILAINE CEDEX | I30: 02.30.21.01.21 | J30: 02.30.21.01.22 | K30: 0 | L30: =VLOOKUP(D30,'CAHT EVRON'!$A$2:$C$226,2,FALSE) -> 8923.84 | M30: =VLOOKUP(D30,'CAHT EVRON'!$A$2:$C$226,3,FALSE) -> 7070.55 | N30: =SUM(L30:M30) -> 15994.39 | O30: =IF(M30=0*(OUN30=0),0,(L30/M30-1)) -> 0.26211398 | P30: =VLOOKUP(D30,'CAHT SABLE'!$A$2:$C$182,2,FALSE) -> 19184.4 | Q30: =VLOOKUP(D30,'CAHT SABLE'!$A$2:$C$182,3,FALSE) -> 18265.49 | R30: =SUM(P30:Q30) -> 37449.89 | S30: =IF(Q30=0*(OUR30=0),0,(P30/Q30-1)) -> 0.050308533 | T30: =P30+L30 -> 28108.24 | U30: =Q30+M30 -> 25336.04 | V30: =IF(U30=0*(OUT30=0),0,(T30/U30-1)) -> 0.10941726
A31: 02604800 | B31: FPRIVILEG | C31: BOUCH.ATELIER TRADT. | D31: PRIVILEG | E31: 202 RUE DU BAS DES BOIS | F31: BP 0806 | G31: 53008 | H31: LAVAL CEDEX | I31: 02.43.59.06.00 | J31: 02.43.59.06.01 | K31: 0 | L31: =VLOOKUP(D31,'CAHT EVRON'!$A$2:$C$226,2,FALSE) -> 26004.09 | M31: =VLOOKUP(D31,'CAHT EVRON'!$A$2:$C$226,3,FALSE) -> 37325.22 | N31: =SUM(L31:M31) -> 63329.31 | O31: =IF(M31=0*(OUN31=0),0,(L31/M31-1)) -> -0.30331047 | R31: =SUM(P31:Q31) -> 0 | S31: =IF(Q31=0*(OUR31=0),0,(P31/Q31-1)) -> 0 | T31: =P31+L31 -> 26004.09 | U31: =Q31+M31 -> 37325.22 | V31: =IF(U31=0*(OUT31=0),0,(T31/U31-1)) -> -0.30331047
A32: 02504600 | B32: FSNV | C32: VOL.LS STANDARD | D32: SNV | E32: Z.A. DES FOURMIS | F32: LA CHAPELLE D'ANDAINE | G32: 61140 | H32: BAGNOLES DE L ORNE | I32: 02.33.30.34.00 | J32: 02.33.38.18.92 | K32: snv@ldc.fr | L32: =VLOOKUP(D32,'CAHT EVRON'!$A$2:$C$226,2,FALSE) -> 24373.57 | M32: =VLOOKUP(D32,'CAHT EVRON'!$A$2:$C$226,3,FALSE) -> 38790.84 | N32: =SUM(L32:M32) -> 63164.41 | O32: =IF(M32=0*(OUN32=0),0,(L32/M32-1)) -> -0.37166687 | R32: =SUM(P32:Q32) -> 0 | S32: =IF(Q32=0*(OUR32=0),0,(P32/Q32-1)) -> 0 | T32: =P32+L32 -> 24373.57 | U32: =Q32+M32 -> 38790.84 | V32: =IF(U32=0*(OUT32=0),0,(T32/U32-1)) -> -0.37166687
A33: 01151400 | B33: FFDG | C33: ACCESSOIRES ENTRETIEN | D33: FDG | E33: 1 RUE DE BELLE ILE | F33: BP 19 | G33: 72190 | H33: COULAINES | I33: 02.43.74.04.90 | J33: 02.43.76.29.54 | K33: isabelle.cuirot@fdg.fr | L33: =VLOOKUP(D33,'CAHT EVRON'!$A$2:$C$226,2,FALSE) -> 9752.27 | M33: =VLOOKUP(D33,'CAHT EVRON'!$A$2:$C$226,3,FALSE) -> 25963.78 | N33: =SUM(L33:M33) -> 35716.05 | O33: =IF(M33=0*(OUN33=0),0,(L33/M33-1)) -> -0.62438944 | P33: =VLOOKUP(D33,'CAHT SABLE'!$A$2:$C$182,2,FALSE) -> 14586.57 | Q33: =VLOOKUP(D33,'CAHT SABLE'!$A$2:$C$182,3,FALSE) -> 29855.31 | R33: =SUM(P33:Q33) -> 44441.88 | S33: =IF(Q33=0*(OUR33=0),0,(P33/Q33-1)) -> -0.5114246 | T33: =P33+L33 -> 24338.84 | U33: =Q33+M33 -> 55819.09 | V33: =IF(U33=0*(OUT33=0),0,(T33/U33-1)) -> -0.56396924
A34: 02252800 | B34: FPROCHGONT | C34: FROMAGE LS | D34: PRO A PRO CHATEAU GONTIER | E34: ZI NORD BAZOUGES | F34: BP 30412 | G34: 53204 | H34: CHATEAU GONTIER | I34: 02 43 708 900 | J34: 02 43 70 75 75 | K34: 0 | L34: =VLOOKUP(D34,'CAHT EVRON'!$A$2:$C$226,2,FALSE) -> 22543.4 | M34: =VLOOKUP(D34,'CAHT EVRON'!$A$2:$C$226,3,FALSE) -> 10494.75 | N34: =SUM(L34:M34) -> 33038.15 | O34: =IF(M34=0*(OUN34=0),0,(L34/M34-1)) -> 1.1480645 | R34: =SUM(P34:Q34) -> 0 | S34: =IF(Q34=0*(OUR34=0),0,(P34/Q34-1)) -> 0 | T34: =P34+L34 -> 22543.4 | U34: =Q34+M34 -> 10494.75 | V34: =IF(U34=0*(OUT34=0),0,(T34/U34-1)) -> 1.1480645
A35: 02051800 | B35: FMINOTERIE | C35: BOULANGERIE | D35: MINOTERIE DU CHATEAU | E35: LE MOULIN DUC HATEAU | F35: 0 | G35: 53500 | H35: ERNEE | I35: 02 43 05 10 41 | J35: 02 43 05 11 55 | K35: 0 | L35: =VLOOKUP(D35,'CAHT EVRON'!$A$2:$C$226,2,FALSE) -> 22368.2 | M35: =VLOOKUP(D35,'CAHT EVRON'!$A$2:$C$226,3,FALSE) -> 2266.27 | N35: =SUM(L35:M35) -> 24634.47 | O35: =IF(M35=0*(OUN35=0),0,(L35/M35-1)) -> 8.8700508 | R35: =SUM(P35:Q35) -> 0 | S35: =IF(Q35=0*(OUR35=0),0,(P35/Q35-1)) -> 0 | T35: =P35+L35 -> 22368.2 | U35: =Q35+M35 -> 2266.27 | V35: =IF(U35=0*(OUT35=0),0,(T35/U35-1)) -> 8.8700508
A36: 02051800 | B36: FGRANDSMOU | C36: BOULANGERIE | D36: GRANDS MOULINS DE PARIS BEAUMO | E36: BP 17 | F36: 0 | G36: 27170 | H36: BEAUMONT LE ROGER | I36: 02.32.47.40.40 | J36: 02.32.47.40.44 | K36: 0 | L36: =VLOOKUP(D36,'CAHT EVRON'!$A$2:$C$226,2,FALSE) -> 22007.82 | M36: =VLOOKUP(D36,'CAHT EVRON'!$A$2:$C$226,3,FALSE) -> 73547.2 | N36: =SUM(L36:M36) -> 95555.02 | O36: =IF(M36=0*(OUN36=0),0,(L36/M36-1)) -> -0.70076604 | R36: =SUM(P36:Q36) -> 0 | S36: =IF(Q36=0*(OUR36=0),0,(P36/Q36-1)) -> 0 | T36: =P36+L36 -> 22007.82 | U36: =Q36+M36 -> 73547.2 | V36: =IF(U36=0*(OUT36=0),0,(T36/U36-1)) -> -0.70076604
A37: 03156900 | B37: FPERFECTLO | C37: PLEIN AIR | D37: PERFECT LOISIRS | E37: 21 BOULEVARD HAUSSMANN | F37: 0 | G37: 75009 | H37: PARIS | I37: 09 61 69 36 35 | J37: 01 79 73 85 59 | K37: perfect-loisirs@orange.fr | L37: =VLOOKUP(D37,'CAHT EVRON'!$A$2:$C$226,2,FALSE) -> 12073.43 | M37: =VLOOKUP(D37,'CAHT EVRON'!$A$2:$C$226,3,FALSE) -> 12690.31 | N37: =SUM(L37:M37) -> 24763.74 | O37: =IF(M37=0*(OUN37=0),0,(L37/M37-1)) -> -0.048610318 | P37: =VLOOKUP(D37,'CAHT SABLE'!$A$2:$C$182,2,FALSE) -> 9901.21 | Q37: =VLOOKUP(D37,'CAHT SABLE'!$A$2:$C$182,3,FALSE) -> 15450.7 | R37: =SUM(P37:Q37) -> 25351.91 | S37: =IF(Q37=0*(OUR37=0),0,(P37/Q37-1)) -> -0.35917402 | T37: =P37+L37 -> 21974.64 | U37: =Q37+M37 -> 28141.01 | V37: =IF(U37=0*(OUT37=0),0,(T37/U37-1)) -> -0.21912398
A38: 03055500 | B38: FTHALIS | C38: LA TABLE | D38: THALIS | E38: ROUTE DE LAVAL | F38: 0 | G38: 53600 | H38: CHATRES LA FORET | I38: 02.43.64.38.38 | J38: 02.43.64.38.39 | K38: nathalie.lechat@systeme-u.fr | L38: =VLOOKUP(D38,'CAHT EVRON'!$A$2:$C$226,2,FALSE) -> 18923.96 | M38: =VLOOKUP(D38,'CAHT EVRON'!$A$2:$C$226,3,FALSE) -> 2588.38 | N38: =SUM(L38:M38) -> 21512.34 | O38: =IF(M38=0*(OUN38=0),0,(L38/M38-1)) -> 6.3111212 | R38: =SUM(P38:Q38) -> 0 | S38: =IF(Q38=0*(OUR38=0),0,(P38/Q38-1)) -> 0 | T38: =P38+L38 -> 18923.96 | U38: =Q38+M38 -> 2588.38 | V38: =IF(U38=0*(OUT38=0),0,(T38/U38-1)) -> 6.3111212
A39: 02604800 | B39: FGOURAULT | C39: BOUCH.ATELIER TRADT. | D39: GOURAULT | E39: BP 1315 | F39: 61 RUE ANDRE BOULLE | G39: 41013 | H39: BLOIS CEDEX | I39: 02.54.57.55.55 | J39: 02.54.78.70.34 | K39: 0 | N39: =SUM(L39:M39) -> 0 | O39: =IF(M39=0*(OUN39=0),0,(L39/M39-1)) -> 0 | P39: =VLOOKUP(D39,'CAHT SABLE'!$A$2:$C$182,2,FALSE) -> 18174.81 | Q39: =VLOOKUP(D39,'CAHT SABLE'!$A$2:$C$182,3,FALSE) -> 139071.07 | R39: =SUM(P39:Q39) -> 157245.88 | S39: =IF(Q39=0*(OUR39=0),0,(P39/Q39-1)) -> -0.86931279 | T39: =P39+L39 -> 18174.81 | U39: =Q39+M39 -> 139071.07 | V39: =IF(U39=0*(OUT39=0),0,(T39/U39-1)) -> -0.86931279
A40: 03207500 | B40: FLCD | C40: BRICOLAGE | D40: LEGRAND CERBONNAY | E40: 3, RUE DE ST GERMAIN | F40: PÔLE D'ACTIVITÉS PATTON | G40: 50307 | H40: AVRANCHES CEDEX | I40: 02.33.89.19.00 | J40: 02.33.58.71.78 | K40: stephanie.meyer@legrandcerbonney.com | L40: =VLOOKUP(D40,'CAHT EVRON'!$A$2:$C$226,2,FALSE) -> 17888.66 | M40: =VLOOKUP(D40,'CAHT EVRON'!$A$2:$C$226,3,FALSE) -> 28353.57 | N40: =SUM(L40:M40) -> 46242.23 | O40: =IF(M40=0*(OUN40=0),0,(L40/M40-1)) -> -0.36908615 | R40: =SUM(P40:Q40) -> 0 | S40: =IF(Q40=0*(OUR40=0),0,(P40/Q40-1)) -> 0 | T40: =P40+L40 -> 17888.66 | U40: =Q40+M40 -> 28353.57 | V40: =IF(U40=0*(OUT40=0),0,(T40/U40-1)) -> -0.36908615
...

Sheet CAHT EVRON
A1: Libellé | B1: CAHT du 01/03/12 au 30/09/12 | C1: CATTC N-1
A2: ABBAYE DE LA COUDRE | B2: 3618.49 | C2: 4205.99
A3: ACTIGAZ | B3: 5235.48 | C3: 11795.41
A4: ACTIV VIDEO SARL | B4: 46.07 | C4: 173.91
A5: ADVINI | B5: 1361.46
A6: AFL ANIMATIONS FETES LOISIRS | B6: 409.21
A7: AIM | B7: 48738.32 | C7: 118854.46
A8: ALBERT MENES | B8: 3026.91 | C8: 6777.28
A9: ALM TEXTILE | B9: 6484.45 | C9: 5886.13
A10: ANTARGAZ WOGEGAL | B10: 15333.32 | C10: 30382.79
A11: ARC | B11: 11084.79 | C11: 25838.01
A12: ARCADES | B12: 869.3 | C12: 1345.61
A13: ARMOR VEGETAL | B13: 3125.09
A14: ASMODEE | B14: 2646.15 | C14: 3495.52
A15: ATV | B15: 625.68 | C15: 812.72
A16: AVENIR TELECOM | B16: 7882.98 | C16: 21466.78
A17: BARRAULT | B17: 1322.4 | C17: 990.86
A18: BAUMALU | B18: -274.29 | C18: 1315.6
A19: BCG | B19: 429.41 | C19: 482.67
A20: BEL'OR | B20: 5026.92 | C20: 31152.5
A21: BIERE AND CO | B21: 4130.03 | C21: 3432.69
A22: BIOTHENTIC | B22: 4073.11 | C22: 7063.26
A23: BISCUITERIE DE L'ABBAYE | B23: 897.07 | C23: 969.51
A24: BISCUITERIE VITAL AINE | B24: 237.6
A25: BK FRANCE | B25: 92.96 | C25: 2651.92
A26: BONNEAU & FILS | B26: 83.6
A27: BRASSERIE LA SUZANNAISE | B27: 2042.88 | C27: 4486.73
A28: BRUNEAU JEAN CHARLES | B28: 91.2
A29: BUTAGAZ | B29: 26169.08 | C29: 55362.86
A30: C PROD | B30: 182.75 | C30: 142.29
A31: C2B PRESSE | B31: 106554.95 | C31: 159651.42
A32: CAFES RICHARD | B32: 4126.95 | C32: 4567.35
A33: CANCAVE | B33: 1152.8 | C33: 988.56
A34: CARTOTHEQUE | B34: 1215.8 | C34: 2170.85
A35: CASTEL FRERES | B35: 8546.43 | C35: 9340.03
A36: CCA PERIGORD LES BORIES DU PER | B36: 4472.57 | C36: 5556.86
A37: CCI | B37: 4554.74 | C37: 11379.62
A38: CGMP | B38: 381.54
A39: CHARCUTERIE SNG | B39: 7628.54 | C39: 2605.22
A40: CHARLES FARAUD | B40: 222.35
...

Sheet CAHT SABLE
A1: Libellé | B1: CAHT du 01/03/12 au 30/09/12 | C1: CATTC N-1
A2: WONDERFUL BRANDS | B2: 2276.4
A3: WOGEGAL ANTARGAZ | B3: 5614.96 | C3: 11911.56
A4: WHITE BROWN | B4: 894.44 | C4: 2214.91
A5: VSB DISTRIBUTION | B5: 660.5
A6: VITAL | B6: 2586.55 | C6: -329.96
A7: VERGERS DES VAUX DU LOIR | B7: 371.34
A8: TURBOCAR | B8: -143.14 | C8: 929.17
A9: TOTAL GAZ | B9: 1999.6 | C9: 5031.83
A10: THEVENIN | B10: 2041.8 | C10: 1090.06
A11: TETENAL | B11: 2125.23
A12: TERROIR DE NOS PROVINCES | B12: 1541.22 | C12: 1769.62
A13: TEAM OUEST | B13: 19184.4 | C13: 18265.49
A14: TAILLEUX ARMELLE | B14: 692.09 | C14: 1361.68
A15: SOCOPA VIANDES | B15: 39117.4 | C15: 76537.15
A16: SOCOPA EVRON | B16: 42232.83 | C16: 70127.89
A17: SOCIETE LUDOISE DE DISTRIBUTIO | B17: 334.93 | C17: 1287.86
A18: SOCCEM | B18: 1220.1 | C18: 1603.41
A19: SITAP | B19: 2617.92 | C19: 27199.76
A20: SINERGY | B20: 2510975.5 | C20: 4213544.7
A21: SIF UNIS FRANCE | B21: -72 | C21: 1791.13
A22: SEVAULT PHILIPPE | B22: 592 | C22: 780.74
A23: SED | B23: 16244.33 | C23: 36765.3
... A25: SDO | B25: 48763.87 | C25: 112328.18
A26: SAVORMER | B26: 1641.17
A27: SARL TRADEO | B27: 3716.82
A28: SARL REVENIMUS | B28: 595.2 | C28: 722.21
A29: SALAISON POLETTE ET CIE | B29: 4390.83 | C29: 10935.72
A30: SABLESIENNE DE BISCUITERIE | B30: 5791.7 | C30: 8574.09
A31: ROXANE | B31: 22106.34 | C31: 38533.05
A32: RODRIGUES | B32: 682.64
A33: RILLETTES GORRONNAISES | B33: 343.29
A34: RICA LEWIS | B34: 3098.65
A35: RCO RADIO COMPTOIR DE L'OUEST | B35: 320.02 | C35: 1908.79
A36: R T | B36: 4348.52 | C36: 8367.91
A37: PUBLICATIONS GRAND PUBLIC | B37: 1392.93 | C37: 2261.78
A38: PRIMAGAZ | B38: 15689.96 | C38: 27146.75
A39: POSTE CONTACTS | B39: 3327.59 | C39: 8961.86
A40: POMONA TERRE AZUR | B40: 34400.7 | C40: 42311.79
A41: PLAYMOBIL | B41: 6797.07
...

Sheet Code Analytiques
A1: Code | B1: Libelllé
A2: 01 | B2: ELDPH
A3: 01000000 | B3: ELDPH
A4: 0105 | B4: EPICERIE
A5: 01050000 | B5: EPICERIE
A6: 01050100 | B6: PETITS DEJEUNERS
A7: 01050105 | B7: PANIFICATION
A8: 01050110 | B8: CAFE TORREFIE/SOLUBLE
A9: 01050115 | B9: THES ET INFUSIONS
A10: 01050120 | B10: CEREALES ET POUDRES CHOCOLAT
A11: 01050125 | B11: CONFITURES/MIEL/P.A.TARTINER
A12: 01050200 | B12: GRIGNOTAGES
... A514: 99999999 | B514: ??????????????????????????????
