Workbook

Sheet ELPDH
A1: Code Ana. | B1: Contre Partie | C1: Rayons Concernés. | D1: Libellé | E1: Adresse1 | F1: Adresse2 | G1: Code Postal | H1: Ville | I1: N° Tel | J1: N° Fax | K1: Email | L1: CAHT EVRODIS | P1: CAHT PERSIDIS | T1: CAHT GLOBAL SITE

Sheet Liste
A1: Code Ana. | B1: Contre Partie | C1: Rayons Concernés. | D1: Libellé | E1: Adresse1 | F1: Adresse2 | G1: Code Postal | H1: Ville | I1: N° Tel | J1: N° Fax | K1: Email | L1: CAHT EVRODIS | P1: CAHT PERSIDIS | T1: CAHT GLOBAL SITE
L2: CAHT du 01/03/12 au 30/09/12 | M2: CATTC N-1 | N2: TOTAL | O2: Evolution | P2: CAHT du 01/03/12 au 30/09/12 | Q2: CATTC N-1 | R2: TOTAL | S2: Evolution | T2: CAHT du 01/03/12 au 30/09/12 | U2: CATTC N-1 | V2: Evolution
A3: 06500000 | B3: FSINERGY | C3: CARBURANT NEW | D3: SINERGY | E3: 26 QUAI MARCEL BOYER | F3: 0 | G3: 94200 | H3: IVRY-SUR-SEINE | I3: 01.49.87.30.69 | J3: 01.56.20.56.60 | K3: 0 | L3: =VLOOKUP(D3,'CAHT EVRON'!$A$2:$C$226,2,FALSE) -> 2226493.1 | M3: =VLOOKUP(D3,'CAHT EVRON'!$A$2:$C$226,3,FALSE) -> 5209662.1 | N3: =SUM(L3:M3) -> 7436155.2 | O3: =IF(M3=0*(OUN3=0),0,(L3/M3-1)) -> -0.57262236 | P3: =VLOOKUP(D3,'CAHT SABLE'!$A$2:$C$182,2,FALSE) -> 2510975.5 | Q3: =VLOOKUP(D3,'CAHT SABLE'!$A$2:$C$182,3,FALSE) -> 4213544.7 | R3: =SUM(P3:Q3) -> 6724520.2 | S3: =IF(Q3=0*(OUR3=0),0,(P3/Q3-1)) -> -0.40407052 | T3: =P3+L3 -> 4737468.6 | U3: =Q3+M3 -> 9423206.8 | V3: =IF(U3=0*(OUT3=0),0,(T3/U3-1)) -> -0.49725516
A4: 06500000 | B4: FEGEDIS | C4: CARBURANT NEW | D4: EGEDIS | E4: 139 AVENUE AMBROISE CROIZAT | F4: BP 146 | G4: 38403 | H4: ST MARTIN D HERES | I4: 04.76.44.52.81 | J4: 04.76.51.57.93 | K4: 0 | L4: =VLOOKUP(D4,'CAHT EVRON'!$A$2:$C$226,2,FALSE) -> 2361079 | M4: =VLOOKUP(D4,'CAHT EVRON'!$A$2:$C$226,3,FALSE) -> 3385387.6 | N4: =SUM(L4:M4) -> 5746466.7 | O4: =IF(M4=0*(OUN4=0),0,(L4/M4-1)) -> -0.30256759 | P4: =VLOOKUP(D4,'CAHT SABLE'!$A$2:$C$182,2,FALSE) -> 644947.07 | Q4: =VLOOKUP(D4,'CAHT SABLE'!$A$2:$C$182,3,FALSE) -> 1935165.8 | R4: =SUM(P4:Q4) -> 2580112.9 | S4: =IF(Q4=0*(OUR4=0),0,(P4/Q4-1)) -> -0.66672258 | T4: =P4+L4 -> 3006026.1 | U4: =Q4+M4 -> 5320553.5 | V4: =IF(U4=0*(OUT4=0),0,(T4/U4-1)) -> -0.43501627
A5: 03106400 | B5: FSDO | C5: IMAGE ET SON | D5: SDO | E5: Z.A. DU GIFARD | F5: BP 15 | G5: 35410 | H5: DOMLOUP | I5: 02.99.37.56.56 | J5: 02.99.37.56.30 | K5: sdorennes@sdo.fr | L5: =VLOOKUP(D5,'CAHT EVRON'!$A$2:$C$226,2,FALSE) -> 76646.32 | M5: =VLOOKUP(D5,'CAHT EVRON'!$A$2:$C$226,3,FALSE) -> 132662.95 | N5: =SUM(L5:M5) -> 209309.27 | O5: =IF(M5=0*(OUN5=0),0,(L5/M5-1)) -> -0.42224773 | P5: =VLOOKUP(D5,'CAHT SABLE'!$A$2:$C$182,2,FALSE) -> 48763.87 | Q5: =VLOOKUP(D5,'CAHT SABLE'!$A$2:$C$182,3,FALSE) -> 112328.18 | R5: =SUM(P5:Q5) -> 161092.05 | S5: =IF(Q5=0*(OUR5=0),0,(P5/Q5-1)) -> -0.56588035 | T5: =P5+L5 -> 125410.19 | U5: =Q5+M5 -> 244991.13 | V5: =IF(U5=0*(OUT5=0),0,(T5/U5-1)) -> -0.48810314
A6: 02403800 | B6: FCHARCUTER | C6: CHARCT.LS UVCI | D6: CHARCUTERIE COSME | E6: 88 AV PIERRE PIFFAULT | F6: 0 | G6: 72100 | H6: LE MANS | I6: 02.43.85.75.15 | J6: 02.43.86.23.61 | K6: 0 | L6: =VLOOKUP(D6,'CAHT EVRON'!$A$2:$C$226,2,FALSE) -> 29548.75 | M6: =VLOOKUP(D6,'CAHT EVRON'!$A$2:$C$226,3,FALSE) -> 49362.88 | N6: =SUM(L6:M6) -> 78911.63 | O6: =IF(M6=0*(OUN6=0),0,(L6/M6-1)) -> -0.40139737 | P6: =VLOOKUP(D6,'CAHT SABLE'!$A$2:$C$182,2,FALSE) -> 87695.99 | Q6: =VLOOKUP(D6,'CAHT SABLE'!$A$2:$C$182,3,FALSE) -> 138879.13 | R6: =SUM(P6:Q6) -> 226575.12 | S6: =IF(Q6=0*(OUR6=0),0,(P6/Q6-1)) -> -0.3685445 | T6: =P6+L6 -> 117244.74 | U6: =Q6+M6 -> 188242.01 | V6: =IF(U6=0*(OUT6=0),0,(T6/U6-1)) -> -0.37715954
A7: 02403800 | B7: FRILLETTES | C7: CHARCT.LS UVCI | D7: RILLETTES GORRONNAISES | E7: LES BESNARDIÈRES | F7: PARC DES ACTIVITÉS | G7: 53120 | H7: GORRON | I7: 02.43.08.69.56 | J7: 02.43.08.00.72 | K7: rillettesgorronnaises@wanadoo.fr | L7: =VLOOKUP(D7,'CAHT EVRON'!$A$2:$C$226,2,FALSE) -> 110546.99 | M7: =VLOOKUP(D7,'CAHT EVRON'!$A$2:$C$226,3,FALSE) -> 150720.31 | N7: =SUM(L7:M7) -> 261267.3 | O7: =IF(M7=0*(OUN7=0),0,(L7/M7-1)) -> -0.26654218 | P7: =VLOOKUP(D7,'CAHT SABLE'!$A$2:$C$182,2,FALSE) -> 343.29 | Q7: =VLOOKUP(D7,'CAHT SABLE'!$A$2:$C$182,3,FALSE) -> 0 | R7: =SUM(P7:Q7) -> 343.29 | S7: =IF(Q7=0*(OUR7=0),0,(P7/Q7-1)) -> 0 | T7: =P7+L7 -> 110890.28 | U7: =Q7+M7 -> 150720.31 | V7: =IF(U7=0*(OUT7=0),0,(T7/U7-1)) -> -0.26426452
A8: 03106200 | B8: FC2BPRESSE | C8: LIBRAIRIE | D8: C2B PRESSE | E8: 38 RUE DE ROME | F8: Z.A DES BOZÉES | G8: 53000 | H8: LAVAL | I8: 02.43.64.18.80 | J8: 02.43.64.18.89 | K8: 0 | L8: =VLOOKUP(D8,'CAHT EVRON'!$A$2:$C$226,2,FALSE) -> 106554.95 | M8: =VLOOKUP(D8,'CAHT EVRON'!$A$2:$C$226,3,FALSE) -> 159651.42 | N8: =SUM(L8:M8) -> 266206.37 | O8: =IF(M8=0*(OUN8=0),0,(L8/M8-1)) -> -0.3325775 | P8: =VLOOKUP(D8,'CAHT SABLE'!$A$2:$C$182,2,FALSE) -> 1828.25 | Q8: =VLOOKUP(D8,'CAHT SABLE'!$A$2:$C$182,3,FALSE) -> 3722.73 | R8: =SUM(P8:Q8) -> 5550.98 | S8: =IF(Q8=0*(OUR8=0),0,(P8/Q8-1)) -> -0.50889535 | T8: =P8+L8 -> 108383.2 | U8: =Q8+M8 -> 163374.15 | V8: =IF(U8=0*(OUT8=0),0,(T8/U8-1)) -> -0.33659517
A9: 02604800 | B9: FSOCOPAEVR | C9: BOUCH.ATELIER TRADT. | D9: SOCOPA EVRON | E9: ROUTE DE VOUTRÉ | F9: BP 149 | G9: 53601 | H9: EVRON CEDEX | I9: 02.43.66.33.33 | J9: 02.43.01.99.47 | K9: 0 | L9: =VLOOKUP(D9,'CAHT EVRON'!$A$2:$C$226,2,FALSE) -> 55852.36 | M9: =VLOOKUP(D9,'CAHT EVRON'!$A$2:$C$226,3,FALSE) -> 94062.67 | N9: =SUM(L9:M9) -> 149915.03 | O9: =IF(M9=0*(OUN9=0),0,(L9/M9-1)) -> -0.40622183 | P9: =VLOOKUP(D9,'CAHT SABLE'!$A$2:$C$182,2,FALSE) -> 42232.83 | Q9: =VLOOKUP(D9,'CAHT SABLE'!$A$2:$C$182,3,FALSE) -> 70127.89 | R9: =SUM(P9:Q9) -> 112360.72 | S9: =IF(Q9=0*(OUR9=0),0,(P9/Q9-1)) -> -0.39777412 | T9: =P9+L9 -> 98085.19 | U9: =Q9+M9 -> 164190.56 | V9: =IF(U9=0*(OUT9=0),0,(T9/U9-1)) -> -0.40261371
A10: 06050000 | B10: FPRIMAGAZ | C10: CARBURANT | D10: PRIMAGAZ | E10: Z.A. DE LA TOUCHE | F10: CONTOUR DE LA TOUCHE | G10: 35137 | H10: BEDEE | I10: 09.70.808.708 | J10: 02.99.61.23.79 | K10: clientprimacyl@primagaz.fr | L10: =VLOOKUP(D10,'CAHT EVRON'!$A$2:$C$226,2,FALSE) -> 61461.83 | M10: =VLOOKUP(D10,'CAHT EVRON'!$A$2:$C$226,3,FALSE) -> 130425.85 | N10: =SUM(L10:M10) -> 191887.68 | O10: =IF(M10=0*(OUN10=0),0,(L10/M10-1)) -> -0.52876036 | P10: =VLOOKUP(D10,'CAHT SABLE'!$A$2:$C$182,2,FALSE) -> 15689.96 | Q10: =VLOOKUP(D10,'CAHT SABLE'!$A$2:$C$182,3,FALSE) -> 27146.75 | R10: =SUM(P10:Q10) -> 42836.71 | S10: =IF(Q10=0*(OUR10=0),0,(P10/Q10-1)) -> -0.42203173 | T10: =P10+L10 -> 77151.79 | U10: =Q10+M10 -> 157572.6 | V10: =IF(U10=0*(OUT10=0),0,(T10/U10-1)) -> -0.51037306
A11: 02604800 | B11: FSOCOPA | C11: BOUCH.ATELIER TRADT. | D11: SOCOPA | E11: ZI DE KERGOSTIOU | F11: BP 40060 | G11: 29392 | H11: QUIMPERLE CEDEX | I11: 02.43.60.22.44 | J11: 02.43.60.22.00 | K11: 0 | L11: =VLOOKUP(D11,'CAHT EVRON'!$A$2:$C$226,2,FALSE) -> 75100.38 | M11: =VLOOKUP(D11,'CAHT EVRON'!$A$2:$C$226,3,FALSE) -> 125180.61 | N11: =SUM(L11:M11) -> 200280.99 | O11: =IF(M11=0*(OUN11=0),0,(L11/M11-1)) -> -0.4000638 | R11: =SUM(P11:Q11) -> 0 | S11: =IF(Q11=0*(OUR11=0),0,(P11/Q11-1)) -> 0 | T11: =P11+L11 -> 75100.38 | U11: =Q11+M11 -> 125180.61 | V11: =IF(U11=0*(OUT11=0),0,(T11/U11-1)) -> -0.4000638
A12: 03257800 | B12: FINGENICO | C12: TELEPHONIE | D12: INGENICO PREPAID SERVICES | E12: 192 AVENUE CHARLES DE GAULLE | F12: 0 | G12: 92150 | H12: NEUILLY SUR SEINE | I12: 08.11.65.00.24 | J12: 0 | K12: 0 | L12: =VLOOKUP(D12,'CAHT EVRON'!$A$2:$C$226,2,FALSE) -> 44733.44 | M12: =VLOOKUP(D12,'CAHT EVRON'!$A$2:$C$226,3,FALSE) -> 107987.93 | N12: =SUM(L12:M12) -> 152721.37 | O12: =IF(M12=0*(OUN12=0),0,(L12/M12-1)) -> -0.58575519 | P12: =VLOOKUP(D12,'CAHT SABLE'!$A$2:$C$182,2,FALSE) -> 29826.76 | Q12: =VLOOKUP(D12,'CAHT SABLE'!$A$2:$C$182,3,FALSE) -> 66074.81 | R12: =SUM(P12:Q12) -> 95901.57 | S12: =IF(Q12=0*(OUR12=0),0,(P12/Q12-1)) -> -0.54859106 | T12: =P12+L12 -> 74560.2 | U12: =Q12+M12 -> 174062.74 | V12: =IF(U12=0*(OUT12=0),0,(T12/U12-1)) -> -0.57164756
A13: 02303400 | B13: FPOMONATER | C13: FRUITS | D13: POMONA TERRE AZUR | E13: 109 AVENUE DE LA PROSPECTIVE | F13: 0 | G13: 18021 | H13: BOURGES CEDEX | I13: 02.48.23.76.00 | J13: 02.48.65.96.28 | K13: terreazur.bourges@pomona.fr | L13: =VLOOKUP(D13,'CAHT EVRON'!$A$2:$C$226,2,FALSE) -> 37038.26 | M13: =VLOOKUP(D13,'CAHT EVRON'!$A$2:$C$226,3,FALSE) -> 38224.14 | N13: =SUM(L13:M13) -> 75262.4 | O13: =IF(M13=0*(OUN13=0),0,(L13/M13-1)) -> -0.031024374 | P13: =VLOOKUP(D13,'CAHT SABLE'!$A$2:$C$182,2,FALSE) -> 34400.7 | Q13: =VLOOKUP(D13,'CAHT SABLE'!$A$2:$C$182,3,FALSE) -> 42311.79 | R13: =SUM(P13:Q13) -> 76712.49 | S13: =IF(Q13=0*(OUR13=0),0,(P13/Q13-1)) -> -0.18697129 | T13: =P13+L13 -> 71438.96 | U13: =Q13+M13 -> 80535.93 | V13: =IF(U13=0*(OUT13=0),0,(T13/U13-1)) -> -0.11295542
A14: 02604800 | B14: FAIM | C14: BOUCH.ATELIER TRADT. | D14: AIM | E14: BP 55 | F14: 0 | G14: 50800 | H14: VILLEDIEU LES POELES | I14: 0233914150 | J14: 0233516661 | K14: 0 | L14: =VLOOKUP(D14,'CAHT EVRON'!$A$2:$C$226,2,FALSE) -> 48738.32 | M14: =VLOOKUP(D14,'CAHT EVRON'!$A$2:$C$226,3,FALSE) -> 118854.46 | N14: =SUM(L14:M14) -> 167592.78 | O14: =IF(M14=0*(OUN14=0),0,(L14/M14-1)) -> -0.58993276 | P14: =VLOOKUP(D14,'CAHT SABLE'!$A$2:$C$182,2,FALSE) -> 20633.7 | Q14: =VLOOKUP(D14,'CAHT SABLE'!$A$2:$C$182,3,FALSE) -> 48659.09 | R14: =SUM(P14:Q14) -> 69292.79 | S14: =IF(Q14=0*(OUR14=0),0,(P14/Q14-1)) -> -0.57595385 | T14: =P14+L14 -> 69372.02 | U14: =Q14+M14 -> 167513.55 | V14: =IF(U14=0*(OUT14=0),0,(T14/U14-1)) -> -0.58587219
A15: 03300000 | B15: FMESSAGERI | C15: PRESSE | D15: MESSAGERIES MANCELLES | E15: 4 RUE PIFFAULT ZIS | F15: 0 | G15: 72100 | H15: LE MANS | I15: 0 | J15: 0 | K15: 0 | N15: =SUM(L15:M15) -> 0 | O15: =IF(M15=0*(OUN15=0),0,(L15/M15-1)) -> 0 | P15: =VLOOKUP(D15,'CAHT SABLE'!$A$2:$C$182,2,FALSE) -> 67216.46 | Q15: =VLOOKUP(D15,'CAHT SABLE'!$A$2:$C$182,3,FALSE) -> 119894.42 | R15: =SUM(P15:Q15) -> 187110.88 | S15: =IF(Q15=0*(OUR15=0),0,(P15/Q15-1)) -> -0.43936957 | T15: =P15+L15 -> 67216.46 | U15: =Q15+M15 -> 119894.42 | V15: =IF(U15=0*(OUT15=0),0,(T15/U15-1)) -> -0.43936957
A16: 03257900 | B16: FINNELEC | C16: BUREAUTIQUE INFORMATIQUE | D16: INNELEC | E16: 45 RUE DÉLIZY | F16: CENTRE D'ACTIVITÉ DE L'OURCQ | G16: 93692 | H16: PANTIN CEDEX | I16: 01.48.10.55.55 | J16: 01.48.91.29.12 | K16: m_ferge@innelec.com | L16: =VLOOKUP(D16,'CAHT EVRON'!$A$2:$C$226,2,FALSE) -> 61097.29 | M16: =VLOOKUP(D16,'CAHT EVRON'!$A$2:$C$226,3,FALSE) -> 162810.57 | N16: =SUM(L16:M16) -> 223907.86 | O16: =IF(M16=0*(OUN16=0),0,(L16/M16-1)) -> -0.62473389 | P16: =VLOOKUP(D16,'CAHT SABLE'!$A$2:$C$182,2,FALSE) -> 90 | Q16: =VLOOKUP(D16,'CAHT SABLE'!$A$2:$C$182,3,FALSE) -> -762.28 | R16: =SUM(P16:Q16) -> -672.28 | S16: =IF(Q16=0*(OUR16=0),0,(P16/Q16-1)) -> -1.1180669 | T16: =P16+L16 -> 61187.29 | U16: =Q16+M16 -> 162048.29 | V16: =IF(U16=0*(OUT16=0),0,(T16/U16-1)) -> -0.62241323
A17: 02051800 | B17: FMICHARDPA | C17: BOULANGERIE | D17: MICHARD PAYS DE LOIRE | E17: RUE DE LA FOUQUERIE | F17: ZAC DES VIGNES | G17: 72300 | H17: SOLESMES | I17: 02.43.55.11.70 | J17: 02.43.62.28.78 | K17: 0 | L17: =VLOOKUP(D17,'CAHT EVRON'!$A$2:$C$226,2,FALSE) -> 31563.56 | M17: =VLOOKUP(D17,'CAHT EVRON'!$A$2:$C$226,3,FALSE) -> 50822.82 | N17: =SUM(L17:M17) -> 82386.38 | O17: =IF(M17=0*(OUN17=0),0,(L17/M17-1)) -> -0.37894906 | P17: =VLOOKUP(D17,'CAHT SABLE'!$A$2:$C$182,2,FALSE) -> 22548.23 | Q17: =VLOOKUP(D17,'CAHT SABLE'!$A$2:$C$182,3,FALSE) -> 40696.08 | R17: =SUM(P17:Q17) -> 63244.31 | S17: =IF(Q17=0*(OUR17=0),0,(P17/Q17-1)) -> -0.44593607 | T17: =P17+L17 -> 54111.79 | U17: =Q17+M17 -> 91518.9 | V17: =IF(U17=0*(OUT17=0),0,(T17/U17-1)) -> -0.40873645
A18: 03106200 | B18: FDNLDISTRI | C18: LIBRAIRIE | D18: DNL DISTRIBUTION | E18: ROUTE DE LA FERRIÈRE | F18: BP 2 | G18: 85140 | H18: LA MERLATIERE | I18: 02.51.40.52.16 | J18: 02.51.40.50.55 | K18: ayette.mayouche@interforum.fr | L18: =VLOOKUP(D18,'CAHT EVRON'!$A$2:$C$226,2,FALSE) -> 32320.53 | M18: =VLOOKUP(D18,'CAHT EVRON'!$A$2:$C$226,3,FALSE) -> 39490.86 | N18: =SUM(L18:M18) -> 71811.39 | O18: =IF(M18=0*(OUN18=0),0,(L18/M18-1)) -> -0.18156936 | P18: =VLOOKUP(D18,'CAHT SABLE'!$A$2:$C$182,2,FALSE) -> 18182.73 | Q18: =VLOOKUP(D18,'CAHT SABLE'!$A$2:$C$182,3,FALSE) -> 32473.02 | R18: =SUM(P18:Q18) -> 50655.75 | S18: =IF(Q18=0*(OUR18=0),0,(P18/Q18-1)) -> -0.44006655 | T18: =P18+L18 -> 50503.26 | U18: =Q18+M18 -> 71963.88 | V18: =IF(U18=0*(OUT18=0),0,(T18/U18-1)) -> -0.29821377
A19: 06100000 | B19: FBUTAGAZ | C19: GAZ | D19: BUTAGAZ | E19: 2 RUE GEORGES PERROS | F19: 0 | G19: 29018 | H19: QUIMPER | I19: 08.11.88.81.04 | J19: 08.11.88.83.04 | K19: 0 | L19: =VLOOKUP(D19,'CAHT EVRON'!$A$2:$C$226,2,FALSE) -> 26169.08 | M19: =VLOOKUP(D19,'CAHT EVRON'!$A$2:$C$226,3,FALSE) -> 55362.86 | N19: =SUM(L19:M19) -> 81531.94 | O19: =IF(M19=0*(OUN19=0),0,(L19/M19-1)) -> -0.52731705 | P19: =VLOOKUP(D19,'CAHT SABLE'!$A$2:$C$182,2,FALSE) -> 22626.16 | Q19: =VLOOKUP(D19,'CAHT SABLE'!$A$2:$C$182,3,FALSE) -> 46925.36 | R19: =SUM(P19:Q19) -> 69551.52 | S19: =IF(Q19=0*(OUR19=0),0,(P19/Q19-1)) -> -0.51782661 | T19: =P19+L19 -> 48795.24 | U19: =Q19+M19 -> 102288.22 | V19: =IF(U19=0*(OUT19=0),0,(T19/U19-1)) -> -0.52296325
A20: 01101000 | B20: FROXANE | C20: BOISSONS | D20: ROXANE | E20: LE CLOS DES SOURCES | F20: 0 | G20: 61420 | H20: LA FERRIERE BOCHARD | I20: 02.33.82.53.07 | J20: 02.33.26.74.32 | K20: facturation.vi@roxane.fr | L20: =VLOOKUP(D20,'CAHT EVRON'!$A$2:$C$226,2,FALSE) -> 25297.37 | M20: =VLOOKUP(D20,'CAHT EVRON'!$A$2:$C$226,3,FALSE) -> 42814.29 | N20: =SUM(L20:M20) -> 68111.66 | O20: =IF(M20=0*(OUN20=0),0,(L20/M20-1)) -> -0.40913723 | P20: =VLOOKUP(D20,'CAHT SABLE'!$A$2:$C$182,2,FALSE) -> 22106.34 | Q20: =VLOOKUP(D20,'CAHT SABLE'!$A$2:$C$182,3,FALSE) -> 38533.05 | R20: =SUM(P20:Q20) -> 60639.39 | S20: =IF(Q20=0*(OUR20=0),0,(P20/Q20-1)) -> -0.42630184 | T20: =P20+L20 -> 47403.71 | U20: =Q20+M20 -> 81347.34 | V20: =IF(U20=0*(OUT20=0),0,(T20/U20-1)) -> -0.41726785
A21: 03106200 | B21: FHACHETTE | C21: LIBRAIRIE | D21: HACHETTE | E21: AVENUE GUTENBERG | F21: 0 | G21: 78316 | H21: MAUREPAS | I21: 01.30.66.25.67 | J21: 01.30.66.25.19 | K21: 0 | L21: =VLOOKUP(D21,'CAHT EVRON'!$A$2:$C$226,2,FALSE) -> 31263.59 | M21: =VLOOKUP(D21,'CAHT EVRON'!$A$2:$C$226,3,FALSE) -> 44362.14 | N21: =SUM(L21:M21) -> 75625.73 | O21: =IF(M21=0*(OUN21=0),0,(L21/M21-1)) -> -0.29526416 | P21: =VLOOKUP(D21,'CAHT SABLE'!$A$2:$C$182,2,FALSE) -> 11222.21 | Q21: =VLOOKUP(D21,'CAHT SABLE'!$A$2:$C$182,3,FALSE) -> 11666.3 | R21: =SUM(P21:Q21) -> 22888.51 | S21: =IF(Q21=0*(OUR21=0),0,(P21/Q21-1)) -> -0.038066054 | T21: =P21+L21 -> 42485.8 | U21: =Q21+M21 -> 56028.44 | V21: =IF(U21=0*(OUT21=0),0,(T21/U21-1)) -> -0.2417101
A22: 01050300 | B22: FMACCORMIC | C22: AIDES CULINAIRES | D22: MC CORMICK | E22: SITE AGROPARC | F22: 315 RUE MARCEL DEMONQUE | G22: 84917 | H22: AVIGNON CEDEX 9 | I22: 04.90.63.63.32 | J22: 04.90.63.62.57 | K22: nmourre@fr.mccormick.com | L22: =VLOOKUP(D22,'CAHT EVRON'!$A$2:$C$226,2,FALSE) -> 26783.93 | M22: =VLOOKUP(D22,'CAHT EVRON'!$A$2:$C$226,3,FALSE) -> 22959.56 | N22: =SUM(L22:M22) -> 49743.49 | O22: =IF(M22=0*(OUN22=0),0,(L22/M22-1)) -> 0.16656983 | P22: =VLOOKUP(D22,'CAHT SABLE'!$A$2:$C$182,2,FALSE) -> 14907.83 | Q22: =VLOOKUP(D22,'CAHT SABLE'!$A$2:$C$182,3,FALSE) -> 13079.51 | R22: =SUM(P22:Q22) -> 27987.34 | S22: =IF(Q22=0*(OUR22=0),0,(P22/Q22-1)) -> 0.13978505 | T22: =P22+L22 -> 41691.76 | U22: =Q22+M22 -> 36039.07 | V22: =IF(U22=0*(OUT22=0),0,(T22/U22-1)) -> 0.15684894
A23: 02454400 | B23: FFERMEDUPA | C23: TRAITEUR TRADT. | D23: FERME DU PARC | E23: L' ANGEBERDIÈRE | F23: 0 | G23: 72350 | H23: ST DENIS D ORQUES | I23: 02.43.88.21.31 | J23: 02.43.88.63.20 | K23: 0 | L23: =VLOOKUP(D23,'CAHT EVRON'!$A$2:$C$226,2,FALSE) -> 35046.77 | M23: =VLOOKUP(D23,'CAHT EVRON'!$A$2:$C$226,3,FALSE) -> 53964.01 | N23: =SUM(L23:M23) -> 89010.78 | O23: =IF(M23=0*(OUN23=0),0,(L23/M23-1)) -> -0.3505529 | P23: =VLOOKUP(D23,'CAHT SABLE'!$A$2:$C$182,2,FALSE) -> 5542.41 | Q23: =VLOOKUP(D23,'CAHT SABLE'!$A$2:$C$182,3,FALSE) -> 0 | R23: =SUM(P23:Q23) -> 5542.41 | S23: =IF(Q23=0*(OUR23=0),0,(P23/Q23-1)) -> 0 | T23: =P23+L23 -> 40589.18 | U23: =Q23+M23 -> 53964.01 | V23: =IF(U23=0*(OUT23=0),0,(T23/U23-1)) -> -0.24784722
A24: 02504600 | B24: FSOFRAL | C24: VOL.LS STANDARD | D24: SOFRAL | E24: Z.I. | F24: BP 16 | G24: 53110 | H24: LASSAY LES CHATEAUX | I24: 02.43.30.28.00 | J24: 02.43.30.28.03 | K24: sofral@dial.oleane.com | L24: =VLOOKUP(D24,'CAHT EVRON'!$A$2:$C$226,2,FALSE) -> 34394.46 | M24: =VLOOKUP(D24,'CAHT EVRON'!$A$2:$C$226,3,FALSE) -> 55510.04 | N24: =SUM(L24:M24) -> 89904.5 | O24: =IF(M24=0*(OUN24=0),0,(L24/M24-1)) -> -0.38039209 | R24: =SUM(P24:Q24) -> 0 | S24: =IF(Q24=0*(OUR24=0),0,(P24/Q24-1)) -> 0 | T24: =P24+L24 -> 34394.46 | U24: =Q24+M24 -> 55510.04 | V24: =IF(U24=0*(OUT24=0),0,(T24/U24-1)) -> -0.38039209
A25: 03157100 | B25: FIMPEX | C25: CYCLES | D25: IMPEX | E25: 140 ROUTE DES MOULINS | F25: 0 | G25: 38490 | H25: CHIMILIN | I25: 04.76.32.69.69 | J25: 04.76.32.55.30 | K25: sales@impex.fr | L25: =VLOOKUP(D25,'CAHT EVRON'!$A$2:$C$226,2,FALSE) -> 23382.74 | M25: =VLOOKUP(D25,'CAHT EVRON'!$A$2:$C$226,3,FALSE) -> 43612.86 | N25: =SUM(L25:M25) -> 66995.6 | O25: =IF(M25=0*(OUN25=0),0,(L25/M25-1)) -> -0.46385676 | P25: =VLOOKUP(D25,'CAHT SABLE'!$A$2:$C$182,2,FALSE) -> 9178.21 | Q25: =VLOOKUP(D25,'CAHT SABLE'!$A$2:$C$182,3,FALSE) -> 28111.46 | R25: =SUM(P25:Q25) -> 37289.67 | S25: =IF(Q25=0*(OUR25=0),0,(P25/Q25-1)) -> -0.67350646 | T25: =P25+L25 -> 32560.95 | U25: =Q25+M25 -> 71724.32 | V25: =IF(U25=0*(OUT25=0),0,(T25/U25-1)) -> -0.54602637
A26: 03207200 | B26: FEVOE | C26: ECLAIRAGE ELECTRICITE | D26: EVOE | E26: 19 RUE ISAAC NEWTON | F26: 0 | G26: 77100 | H26: MEAUX | I26: 01.60.32.27.27 | J26: 01.64.33.92.09 | K26: info@evoe.fr | L26: =VLOOKUP(D26,'CAHT EVRON'!$A$2:$C$226,2,FALSE) -> 15913.89 | M26: =VLOOKUP(D26,'CAHT EVRON'!$A$2:$C$226,3,FALSE) -> 28669.67 | N26: =SUM(L26:M26) -> 44583.56 | O26: =IF(M26=0*(OUN26=0),0,(L26/M26-1)) -> -0.44492246 | P26: =VLOOKUP(D26,'CAHT SABLE'!$A$2:$C$182,2,FALSE) -> 14411.42 | Q26: =VLOOKUP(D26,'CAHT SABLE'!$A$2:$C$182,3,FALSE) -> 21016.02 | R26: =SUM(P26:Q26) -> 35427.44 | S26: =IF(Q26=0*(OUR26=0),0,(P26/Q26-1)) -> -0.31426502 | T26: =P26+L26 -> 30325.31 | U26: =Q26+M26 -> 49685.69 | V26: =IF(U26=0*(OUT26=0),0,(T26/U26-1)) -> -0.38965706
A27: 02655100 | B27: FMAREEPOUR | C27: POISSON TRADITIONNEL | D27: MAREE POUR TOUS | E27: RUE DU PETIT PRÉ | F27: ZAC DES TROIS MARCHES | G27: 35746 | H27: VEZIN LE COQUET CEDEX | I27: 02.99.59.00.56 | J27: 02.99.59.00.10 | K27: lamareepourtous@lamareepourtous.fr | L27: =VLOOKUP(D27,'CAHT EVRON'!$A$2:$C$226,2,FALSE) -> 23773.73 | M27: =VLOOKUP(D27,'CAHT EVRON'!$A$2:$C$226,3,FALSE) -> 45986.1 | N27: =SUM(L27:M27) -> 69759.83 | O27: =IF(M27=0*(OUN27=0),0,(L27/M27-1)) -> -0.48302357 | P27: =VLOOKUP(D27,'CAHT SABLE'!$A$2:$C$182,2,FALSE) -> 5702.02 | Q27: =VLOOKUP(D27,'CAHT SABLE'!$A$2:$C$182,3,FALSE) -> 10156.78 | R27: =SUM(P27:Q27) -> 15858.8 | S27: =IF(Q27=0*(OUR27=0),0,(P27/Q27-1)) -> -0.43859963 | T27: =P27+L27 -> 29475.75 | U27: =Q27+M27 -> 56142.88 | V27: =IF(U27=0*(OUT27=0),0,(T27/U27-1)) -> -0.47498685
A28: 03106700 | B28: FFUJIFILM | C28: DEVELOPPEMENT PHOTO | D28: FUJI FILM | E28: 16 RUE E.J MAREY | F28: BP 34 | G28: 78391 | H28: BOIS D'ARCY CEDEX | I28: 01.30.14.34.56 | J28: 01.34.60.16.60 | K28: 0 | L28: =VLOOKUP(D28,'CAHT EVRON'!$A$2:$C$226,2,FALSE) -> 19413.34 | M28: =VLOOKUP(D28,'CAHT EVRON'!$A$2:$C$226,3,FALSE) -> 43647.41 | N28: =SUM(L28:M28) -> 63060.75 | O28: =IF(M28=0*(OUN28=0),0,(L28/M28-1)) -> -0.55522355 | P28: =VLOOKUP(D28,'CAHT SABLE'!$A$2:$C$182,2,FALSE) -> 9515.09 | Q28: =VLOOKUP(D28,'CAHT SABLE'!$A$2:$C$182,3,FALSE) -> 23796.72 | R28: =SUM(P28:Q28) -> 33311.81 | S28: =IF(Q28=0*(OUR28=0),0,(P28/Q28-1)) -> -0.6001512 | T28: =P28+L28 -> 28928.43 | U28: =Q28+M28 -> 67444.13 | V28: =IF(U28=0*(OUT28=0),0,(T28/U28-1)) -> -0.57107564
A29: 03257700 | B29: FJAPANDIFF | C29: PHOTO CINE SON | D29: JAPAN DIFFUSION | E29: Z.A. DU MOULIN | F29: RUE DE L'EGALITE | G29: 59155 | H29: FACHES THUMESNIL | I29: 0299320644 | J29: 0299228867 | K29: japan@japan-diffusion.com | L29: =VLOOKUP(D29,'CAHT EVRON'!$A$2:$C$226,2,FALSE) -> 16405.56 | M29: =VLOOKUP(D29,'CAHT EVRON'!$A$2:$C$226,3,FALSE) -> 46986.47 | N29: =SUM(L29:M29) -> 63392.03 | O29: =IF(M29=0*(OUN29=0),0,(L29/M29-1)) -> -0.65084502 | P29: =VLOOKUP(D29,'CAHT SABLE'!$A$2:$C$182,2,FALSE) -> 11867.59 | Q29: =VLOOKUP(D29,'CAHT SABLE'!$A$2:$C$182,3,FALSE) -> 54108.22 | R29: =SUM(P29:Q29) -> 65975.81 | S29: =IF(Q29=0*(OUR29=0),0,(P29/Q29-1)) -> -0.78066937 | T29: =P29+L29 -> 28273.15 | U29: =Q29+M29 -> 101094.69 | V29: =IF(U29=0*(OUT29=0),0,(T29/U29-1)) -> -0.72033002
A30: 02202600 | B30: FTEAMOUEST | C30: FROMAGE COUPE | D30: TEAM OUEST | E30: ZA LA RIVIERE, RUE RAVALET | F30: BP 93311 | G30: 35533 | H30: NOYAL / VILAINE CEDEX | I30: 02.30.21.01.21 | J30: 02.30.21.01.22 | K30: 0 | L30: =VLOOKUP(D30,'CAHT EVRON'!$A$2:$C$226,2,FALSE) -> 8923.84 | M30: =VLOOKUP(D30,'CAHT EVRON'!$A$2:$C$226,3,FALSE) -> 7070.55 | N30: =SUM(L30:M30) -> 15994.39 | O30: =IF(M30=0*(OUN30=0),0,(L30/M30-1)) -> 0.26211398 | P30: =VLOOKUP(D30,'CAHT SABLE'!$A$2:$C$182,2,FALSE) -> 19184.4 | Q30: =VLOOKUP(D30,'CAHT SABLE'!$A$2:$C$182,3,FALSE) -> 18265.49 | R30: =SUM(P30:Q30) -> 37449.89 | S30: =IF(Q30=0*(OUR30=0),0,(P30/Q30-1)) -> 0.050308533 | T30: =P30+L30 -> 28108.24 | U30: =Q30+M30 -> 25336.04 | V30: =IF(U30=0*(OUT30=0),0,(T30/U30-1)) -> 0.10941726
A31: 02604800 | B31: FPRIVILEG | C31: BOUCH.ATELIER TRADT. | D31: PRIVILEG | E31: 202 RUE DU BAS DES BOIS | F31: BP 0806 | G31: 53008 | H31: LAVAL CEDEX | I31: 02.43.59.06.00 | J31: 02.43.59.06.01 | K31: 0 | L31: =VLOOKUP(D31,'CAHT EVRON'!$A$2:$C$226,2,FALSE) -> 26004.09 | M31: =VLOOKUP(D31,'CAHT EVRON'!$A$2:$C$226,3,FALSE) -> 37325.22 | N31: =SUM(L31:M31) -> 63329.31 | O31: =IF(M31=0*(OUN31=0),0,(L31/M31-1)) -> -0.30331047 | R31: =SUM(P31:Q31) -> 0 | S31: =IF(Q31=0*(OUR31=0),0,(P31/Q31-1)) -> 0 | T31: =P31+L31 -> 26004.09 | U31: =Q31+M31 -> 37325.22 | V31: =IF(U31=0*(OUT31=0),0,(T31/U31-1)) -> -0.30331047
A32: 02504600 | B32: FSNV | C32: VOL.LS STANDARD | D32: SNV | E32: Z.A. DES FOURMIS | F32: LA CHAPELLE D'ANDAINE | G32: 61140 | H32: BAGNOLES DE L ORNE | I32: 02.33.30.34.00 | J32: 02.33.38.18.92 | K32: snv@ldc.fr | L32: =VLOOKUP(D32,'CAHT EVRON'!$A$2:$C$226,2,FALSE) -> 24373.57 | M32: =VLOOKUP(D32,'CAHT EVRON'!$A$2:$C$226,3,FALSE) -> 38790.84 | N32: =SUM(L32:M32) -> 63164.41 | O32: =IF(M32=0*(OUN32=0),0,(L32/M32-1)) -> -0.37166687 | R32: =SUM(P32:Q32) -> 0 | S32: =IF(Q32=0*(OUR32=0),0,(P32/Q32-1)) -> 0 | T32: =P32+L32 -> 24373.57 | U32: =Q32+M32 -> 38790.84 | V32: =IF(U32=0*(OUT32=0),0,(T32/U32-1)) -> -0.37166687
A33: 01151400 | B33: FFDG | C33: ACCESSOIRES ENTRETIEN | D33: FDG | E33: 1 RUE DE BELLE ILE | F33: BP 19 | G33: 72190 | H33: COULAINES | I33: 02.43.74.04.90 | J33: 02.43.76.29.54 | K33: isabelle.cuirot@fdg.fr | L33: =VLOOKUP(D33,'CAHT EVRON'!$A$2:$C$226,2,FALSE) -> 9752.27 | M33: =VLOOKUP(D33,'CAHT EVRON'!$A$2:$C$226,3,FALSE) -> 25963.78 | N33: =SUM(L33:M33) -> 35716.05 | O33: =IF(M33=0*(OUN33=0),0,(L33/M33-1)) -> -0.62438944 | P33: =VLOOKUP(D33,'CAHT SABLE'!$A$2:$C$182,2,FALSE) -> 14586.57 | Q33: =VLOOKUP(D33,'CAHT SABLE'!$A$2:$C$182,3,FALSE) -> 29855.31 | R33: =SUM(P33:Q33) -> 44441.88 | S33: =IF(Q33=0*(OUR33=0),0,(P33/Q33-1)) -> -0.5114246 | T33: =P33+L33 -> 24338.84 | U33: =Q33+M33 -> 55819.09 | V33: =IF(U33=0*(OUT33=0),0,(T33/U33-1)) -> -0.56396924
A34: 02252800 | B34: FPROCHGONT | C34: FROMAGE LS | D34: PRO A PRO CHATEAU GONTIER | E34: ZI NORD BAZOUGES | F34: BP 30412 | G34: 53204 | H34: CHATEAU GONTIER | I34: 02 43 708 900 | J34: 02 43 70 75 75 | K34: 0 | L34: =VLOOKUP(D34,'CAHT EVRON'!$A$2:$C$226,2,FALSE) -> 22543.4 | M34: =VLOOKUP(D34,'CAHT EVRON'!$A$2:$C$226,3,FALSE) -> 10494.75 | N34: =SUM(L34:M34) -> 33038.15 | O34: =IF(M34=0*(OUN34=0),0,(L34/M34-1)) -> 1.1480645 | R34: =SUM(P34:Q34) -> 0 | S34: =IF(Q34=0*(OUR34=0),0,(P34/Q34-1)) -> 0 | T34: =P34+L34 -> 22543.4 | U34: =Q34+M34 -> 10494.75 | V34: =IF(U34=0*(OUT34=0),0,(T34/U34-1)) -> 1.1480645
A35: 02051800 | B35: FMINOTERIE | C35: BOULANGERIE | D35: MINOTERIE DU CHATEAU | E35: LE MOULIN DUC HATEAU | F35: 0 | G35: 53500 | H35: ERNEE | I35: 02 43 05 10 41 | J35: 02 43 05 11 55 | K35: 0 | L35: =VLOOKUP(D35,'CAHT EVRON'!$A$2:$C$226,2,FALSE) -> 22368.2 | M35: =VLOOKUP(D35,'CAHT EVRON'!$A$2:$C$226,3,FALSE) -> 2266.27 | N35: =SUM(L35:M35) -> 24634.47 | O35: =IF(M35=0*(OUN35=0),0,(L35/M35-1)) -> 8.8700508 | R35: =SUM(P35:Q35) -> 0 | S35: =IF(Q35=0*(OUR35=0),0,(P35/Q35-1)) -> 0 | T35: =P35+L35 -> 22368.2 | U35: =Q35+M35 -> 2266.27 | V35: =IF(U35=0*(OUT35=0),0,(T35/U35-1)) -> 8.8700508
A36: 02051800 | B36: FGRANDSMOU | C36: BOULANGERIE | D36: GRANDS MOULINS DE PARIS BEAUMO | E36: BP 17 | F36: 0 | G36: 27170 | H36: BEAUMONT LE ROGER | I36: 02.32.47.40.40 | J36: 02.32.47.40.44 | K36: 0 | L36: =VLOOKUP(D36,'CAHT EVRON'!$A$2:$C$226,2,FALSE) -> 22007.82 | M36: =VLOOKUP(D36,'CAHT EVRON'!$A$2:$C$226,3,FALSE) -> 73547.2 | N36: =SUM(L36:M36) -> 95555.02 | O36: =IF(M36=0*(OUN36=0),0,(L36/M36-1)) -> -0.70076604 | R36: =SUM(P36:Q36) -> 0 | S36: =IF(Q36=0*(OUR36=0),0,(P36/Q36-1)) -> 0 | T36: =P36+L36 -> 22007.82 | U36: =Q36+M36 -> 73547.2 | V36: =IF(U36=0*(OUT36=0),0,(T36/U36-1)) -> -0.70076604
A37: 03156900 | B37: FPERFECTLO | C37: PLEIN AIR | D37: PERFECT LOISIRS | E37: 21 BOULEVARD HAUSSMANN | F37: 0 | G37: 75009 | H37: PARIS | I37: 09 61 69 36 35 | J37: 01 79 73 85 59 | K37: perfect-loisirs@orange.fr | L37: =VLOOKUP(D37,'CAHT EVRON'!$A$2:$C$226,2,FALSE) -> 12073.43 | M37: =VLOOKUP(D37,'CAHT EVRON'!$A$2:$C$226,3,FALSE) -> 12690.31 | N37: =SUM(L37:M37) -> 24763.74 | O37: =IF(M37=0*(OUN37=0),0,(L37/M37-1)) -> -0.048610318 | P37: =VLOOKUP(D37,'CAHT SABLE'!$A$2:$C$182,2,FALSE) -> 9901.21 | Q37: =VLOOKUP(D37,'CAHT SABLE'!$A$2:$C$182,3,FALSE) -> 15450.7 | R37: =SUM(P37:Q37) -> 25351.91 | S37: =IF(Q37=0*(OUR37=0),0,(P37/Q37-1)) -> -0.35917402 | T37: =P37+L37 -> 21974.64 | U37: =Q37+M37 -> 28141.01 | V37: =IF(U37=0*(OUT37=0),0,(T37/U37-1)) -> -0.21912398
A38: 03055500 | B38: FTHALIS | C38: LA TABLE | D38: THALIS | E38: ROUTE DE LAVAL | F38: 0 | G38: 53600 | H38: CHATRES LA FORET | I38: 02.43.64.38.38 | J38: 02.43.64.38.39 | K38: nathalie.lechat@systeme-u.fr | L38: =VLOOKUP(D38,'CAHT EVRON'!$A$2:$C$226,2,FALSE) -> 18923.96 | M38: =VLOOKUP(D38,'CAHT EVRON'!$A$2:$C$226,3,FALSE) -> 2588.38 | N38: =SUM(L38:M38) -> 21512.34 | O38: =IF(M38=0*(OUN38=0),0,(L38/M38-1)) -> 6.3111212 | R38: =SUM(P38:Q38) -> 0 | S38: =IF(Q38=0*(OUR38=0),0,(P38/Q38-1)) -> 0 | T38: =P38+L38 -> 18923.96 | U38: =Q38+M38 -> 2588.38 | V38: =IF(U38=0*(OUT38=0),0,(T38/U38-1)) -> 6.3111212
A39: 02604800 | B39: FGOURAULT | C39: BOUCH.ATELIER TRADT. | D39: GOURAULT | E39: BP 1315 | F39: 61 RUE ANDRE BOULLE | G39: 41013 | H39: BLOIS CEDEX | I39: 02.54.57.55.55 | J39: 02.54.78.70.34 | K39: 0 | N39: =SUM(L39:M39) -> 0 | O39: =IF(M39=0*(OUN39=0),0,(L39/M39-1)) -> 0 | P39: =VLOOKUP(D39,'CAHT SABLE'!$A$2:$C$182,2,FALSE) -> 18174.81 | Q39: =VLOOKUP(D39,'CAHT SABLE'!$A$2:$C$182,3,FALSE) -> 139071.07 | R39: =SUM(P39:Q39) -> 157245.88 | S39: =IF(Q39=0*(OUR39=0),0,(P39/Q39-1)) -> -0.86931279 | T39: =P39+L39 -> 18174.81 | U39: =Q39+M39 -> 139071.07 | V39: =IF(U39=0*(OUT39=0),0,(T39/U39-1)) -> -0.86931279
A40: 03207500 | B40: FLCD | C40: BRICOLAGE | D40: LEGRAND CERBONNAY | E40: 3, RUE DE ST GERMAIN | F40: PÔLE D'ACTIVITÉS PATTON | G40: 50307 | H40: AVRANCHES CEDEX | I40: 02.33.89.19.00 | J40: 02.33.58.71.78 | K40: stephanie.meyer@legrandcerbonney.com | L40: =VLOOKUP(D40,'CAHT EVRON'!$A$2:$C$226,2,FALSE) -> 17888.66 | M40: =VLOOKUP(D40,'CAHT EVRON'!$A$2:$C$226,3,FALSE) -> 28353.57 | N40: =SUM(L40:M40) -> 46242.23 | O40: =IF(M40=0*(OUN40=0),0,(L40/M40-1)) -> -0.36908615 | R40: =SUM(P40:Q40) -> 0 | S40: =IF(Q40=0*(OUR40=0),0,(P40/Q40-1)) -> 0 | T40: =P40+L40 -> 17888.66 | U40: =Q40+M40 -> 28353.57 | V40: =IF(U40=0*(OUT40=0),0,(T40/U40-1)) -> -0.36908615
A41: 02353700 | B41: FHORTICASH | C41: FLEURS ET PLANTES | D41: HORTICASH | E41: 7 RUE DU CHAMP DE L'AIRE | F41: ECOPOLE ANJOU LOIRI | G41: 49080 | H41: BOUCHEMAINE | I41: 02 41 72 31 10 | J41: 02 41 72 31 12 | K41: 0 | L41: =VLOOKUP(D41,'CAHT EVRON'!$A$2:$C$226,2,FALSE) -> 17293.31 | M41: =VLOOKUP(D41,'CAHT EVRON'!$A$2:$C$226,3,FALSE) -> 5693.26 | N41: =SUM(L41:M41) -> 22986.57 | O41: =IF(M41=0*(OUN41=0),0,(L41/M41-1)) -> 2.0375058 | R41: =SUM(P41:Q41) -> 0 | S41: =IF(Q41=0*(OUR41=0),0,(P41/Q41-1)) -> 0 | T41: =P41+L41 -> 17293.31 | U41: =Q41+M41 -> 5693.26 | V41: =IF(U41=0*(OUT41=0),0,(T41/U41-1)) -> 2.0375058
A42: 04200000 | B42: FORCA | C42: EQUIPEMENT | D42: ORCA | E42: 16 RUE LOUIS LUMIÈRE | F42: BP 40421 | G42: 35304 | H42: FOUGERES | I42: 02.99.94.72.00 | J42: 02.99.94.32.93 | K42: josette.dubois@orca-accessoires.fr | L42: =VLOOKUP(D42,'CAHT EVRON'!$A$2:$C$226,2,FALSE) -> 13889.04 | M42: =VLOOKUP(D42,'CAHT EVRON'!$A$2:$C$226,3,FALSE) -> 16435.01 | N42: =SUM(L42:M42) -> 30324.05 | O42: =IF(M42=0*(OUN42=0),0,(L42/M42-1)) -> -0.15491138 | P42: =VLOOKUP(D42,'CAHT SABLE'!$A$2:$C$182,2,FALSE) -> 3394.6 | Q42: =VLOOKUP(D42,'CAHT SABLE'!$A$2:$C$182,3,FALSE) -> 5723.1 | R42: =SUM(P42:Q42) -> 9117.7 | S42: =IF(Q42=0*(OUR42=0),0,(P42/Q42-1)) -> -0.40685992 | T42: =P42+L42 -> 17283.64 | U42: =Q42+M42 -> 22158.11 | V42: =IF(U42=0*(OUT42=0),0,(T42/U42-1)) -> -0.21998582
A43: 02403800 | B43: FGALETTEDE | C43: CHARCT.LS UVCI | D43: GALETTE DE BROONS | E43: Z.A. DU PILAGA | F43: 0 | G43: 22250 | H43: BROONS | I43: 02.96.84.67.15 | J43: 02.96.84.68.81 | K43: contact@galette-de-broons.fr | L43: =VLOOKUP(D43,'CAHT EVRON'!$A$2:$C$226,2,FALSE) -> 9751.6 | M43: =VLOOKUP(D43,'CAHT EVRON'!$A$2:$C$226,3,FALSE) -> 18366.16 | N43: =SUM(L43:M43) -> 28117.76 | O43: =IF(M43=0*(OUN43=0),0,(L43/M43-1)) -> -0.46904524 | P43: =VLOOKUP(D43,'CAHT SABLE'!$A$2:$C$182,2,FALSE) -> 6917.15 | Q43: =VLOOKUP(D43,'CAHT SABLE'!$A$2:$C$182,3,FALSE) -> 14255.94 | R43: =SUM(P43:Q43) -> 21173.09 | S43: =IF(Q43=0*(OUR43=0),0,(P43/Q43-1)) -> -0.51478822 | T43: =P43+L43 -> 16668.75 | U43: =Q43+M43 -> 32622.1 | V43: =IF(U43=0*(OUT43=0),0,(T43/U43-1)) -> -0.48903504
A44: 02051900 | B44: FSPLO | C44: VIENNOISERIE | D44: SPLO | E44: PLACE DE LA GARE | F44: BP 31 | G44: 35590 | H44: L'HERMITAGE | I44: 02.99.01.88.88 | J44: 02.99.01.88.41 | K44: 0 | L44: =VLOOKUP(D44,'CAHT EVRON'!$A$2:$C$226,2,FALSE) -> 16474.06 | M44: =VLOOKUP(D44,'CAHT EVRON'!$A$2:$C$226,3,FALSE) -> 11288.87 | N44: =SUM(L44:M44) -> 27762.93 | O44: =IF(M44=0*(OUN44=0),0,(L44/M44-1)) -> 0.45931878 | R44: =SUM(P44:Q44) -> 0 | S44: =IF(Q44=0*(OUR44=0),0,(P44/Q44-1)) -> 0 | T44: =P44+L44 -> 16474.06 | U44: =Q44+M44 -> 11288.87 | V44: =IF(U44=0*(OUT44=0),0,(T44/U44-1)) -> 0.45931878
A45: 03300000 | B45: FMAYENNEPR | C45: PRESSE | D45: MAYENNE PRESSE | E45: 181 RUE DU TERRAS | F45: 0 | G45: 53100 | H45: MAYENNE | I45: 02.43.00.72.28 | J45: 02.43.00.72.28 | K45: 0 | L45: =VLOOKUP(D45,'CAHT EVRON'!$A$2:$C$226,2,FALSE) -> 16273.61 | M45: =VLOOKUP(D45,'CAHT EVRON'!$A$2:$C$226,3,FALSE) -> 26010.58 | N45: =SUM(L45:M45) -> 42284.19 | O45: =IF(M45=0*(OUN45=0),0,(L45/M45-1)) -> -0.37434652 | R45: =SUM(P45:Q45) -> 0 | S45: =IF(Q45=0*(OUR45=0),0,(P45/Q45-1)) -> 0 | T45: =P45+L45 -> 16273.61 | U45: =Q45+M45 -> 26010.58 | V45: =IF(U45=0*(OUT45=0),0,(T45/U45-1)) -> -0.37434652
A46: 03257700 | B46: FSED | C46: PHOTO CINE SON | D46: SED | E46: 821, RUE SAINTE GENEVIÈVE | F46: Z.I. COURINE OUEST | G46: 84000 | H46: AVIGNON | I46: 04.90.82.05.22 | J46: 04.90.82.76.29 | K46: 0 | N46: =SUM(L46:M46) -> 0 | O46: =IF(M46=0*(OUN46=0),0,(L46/M46-1)) -> 0 | P46: =VLOOKUP(D46,'CAHT SABLE'!$A$2:$C$182,2,FALSE) -> 16244.33 | Q46: =VLOOKUP(D46,'CAHT SABLE'!$A$2:$C$182,3,FALSE) -> 36765.3 | R46: =SUM(P46:Q46) -> 53009.63 | S46: =IF(Q46=0*(OUR46=0),0,(P46/Q46-1)) -> -0.55816136 | T46: =P46+L46 -> 16244.33 | U46: =Q46+M46 -> 36765.3 | V46: =IF(U46=0*(OUT46=0),0,(T46/U46-1)) -> -0.55816136
A47: 01201500 | B47: FGEMEY | C47: PARFUMERIE | D47: GEMEY - L'OREAL PRODUITS GRD P | E47: 7 RUE TOUZET GAILLARD | F47: TSA 50017 | G47: 93588 | H47: SAINT OUEN CEDEX | I47: 01.58.618.618 | J47: 01.58.618.617 | K47: 0 | L47: =VLOOKUP(D47,'CAHT EVRON'!$A$2:$C$226,2,FALSE) -> 15749.63 | M47: =VLOOKUP(D47,'CAHT EVRON'!$A$2:$C$226,3,FALSE) -> 29866.05 | N47: =SUM(L47:M47) -> 45615.68 | O47: =IF(M47=0*(OUN47=0),0,(L47/M47-1)) -> -0.47265775 | R47: =SUM(P47:Q47) -> 0 | S47: =IF(Q47=0*(OUR47=0),0,(P47/Q47-1)) -> 0 | T47: =P47+L47 -> 15749.63 | U47: =Q47+M47 -> 29866.05 | V47: =IF(U47=0*(OUT47=0),0,(T47/U47-1)) -> -0.47265775
A48: 03300000 | B48: FFOURRIER | C48: PRESSE | D48: FOURRIER | E48: 32 BD DE LA PETITE VITESS | F48: 0 | G48: 72200 | H48: LA FLECHE | I48: 02.43.94.27.70 | J48: 02.43.94.27.70 | K48: 0 | N48: =SUM(L48:M48) -> 0 | O48: =IF(M48=0*(OUN48=0),0,(L48/M48-1)) -> 0 | P48: =VLOOKUP(D48,'CAHT SABLE'!$A$2:$C$182,2,FALSE) -> 15543.08 | Q48: =VLOOKUP(D48,'CAHT SABLE'!$A$2:$C$182,3,FALSE) -> 39276.86 | R48: =SUM(P48:Q48) -> 54819.94 | S48: =IF(Q48=0*(OUR48=0),0,(P48/Q48-1)) -> -0.60426877 | T48: =P48+L48 -> 15543.08 | U48: =Q48+M48 -> 39276.86 | V48: =IF(U48=0*(OUT48=0),0,(T48/U48-1)) -> -0.60426877
A49: 02051800 | B49: FGRANDMOUL | C49: BOULANGERIE | D49: GRANDS MOULINS | E49: LES GRANDS MOULINS | F49: 0 | G49: 37360 | H49: SEMBLANCAY | I49: 02.47.29.80.20 | J49: 02.47.29.80.29 | K49: 0 | N49: =SUM(L49:M49) -> 0 | O49: =IF(M49=0*(OUN49=0),0,(L49/M49-1)) -> 0 | P49: =VLOOKUP(D49,'CAHT SABLE'!$A$2:$C$182,2,FALSE) -> 15491.82 | Q49: =VLOOKUP(D49,'CAHT SABLE'!$A$2:$C$182,3,FALSE) -> 43674.41 | R49: =SUM(P49:Q49) -> 59166.23 | S49: =IF(Q49=0*(OUR49=0),0,(P49/Q49-1)) -> -0.6452884 | T49: =P49+L49 -> 15491.82 | U49: =Q49+M49 -> 43674.41 | V49: =IF(U49=0*(OUT49=0),0,(T49/U49-1)) -> -0.6452884
A50: 03156800 | B50: FHARMONY | C50: JOUETS | D50: HARMONY | E50: Z.I. CAMPINE | F50: 0 | G50: 43620 | H50: SAINT PAL DE MONS | I50: 04.71.75.65.65 | J50: 04.71.75.65.66 | K50: harmony@harmonyjouet.com | L50: =VLOOKUP(D50,'CAHT EVRON'!$A$2:$C$226,2,FALSE) -> 9999.89 | M50: =VLOOKUP(D50,'CAHT EVRON'!$A$2:$C$226,3,FALSE) -> 13981.1 | N50: =SUM(L50:M50) -> 23980.99 | O50: =IF(M50=0*(OUN50=0),0,(L50/M50-1)) -> -0.28475656 | P50: =VLOOKUP(D50,'CAHT SABLE'!$A$2:$C$182,2,FALSE) -> 5418.06 | Q50: =VLOOKUP(D50,'CAHT SABLE'!$A$2:$C$182,3,FALSE) -> 8311.26 | R50: =SUM(P50:Q50) -> 13729.32 | S50: =IF(Q50=0*(OUR50=0),0,(P50/Q50-1)) -> -0.34810606 | T50: =P50+L50 -> 15417.95 | U50: =Q50+M50 -> 22292.36 | V50: =IF(U50=0*(OUT50=0),0,(T50/U50-1)) -> -0.30837516
A51: 06100000 | B51: FANTARGAZW | C51: GAZ | D51: ANTARGAZ WOGEGAL | E51: Z.A. DU BOIS DES COMMUNES | F51: RUE DU LUXEMBOURG | G51: 27000 | H51: EVREUX | I51: 02.32.62.54.55 | J51: 02.32.38.50.41 | K51: 0 | L51: =VLOOKUP(D51,'CAHT EVRON'!$A$2:$C$226,2,FALSE) -> 15333.32 | M51: =VLOOKUP(D51,'CAHT EVRON'!$A$2:$C$226,3,FALSE) -> 30382.79 | N51: =SUM(L51:M51) -> 45716.11 | O51: =IF(M51=0*(OUN51=0),0,(L51/M51-1)) -> -0.49532877 | R51: =SUM(P51:Q51) -> 0 | S51: =IF(Q51=0*(OUR51=0),0,(P51/Q51-1)) -> 0 | T51: =P51+L51 -> 15333.32 | U51: =Q51+M51 -> 30382.79 | V51: =IF(U51=0*(OUT51=0),0,(T51/U51-1)) -> -0.49532877
A52: 03055500 | B52: FARC | C52: LA TABLE | D52: ARC | E52: ZI RUE DU VERTUQUET | F52: 0 | G52: 59531 | H52: NEUVILLE EN FERRAIN CEDEX | I52: 05 49 95 72 34 | J52: 05 49 94 01 48 | K52: stephane.LAFFOLE@arc-intl.com | L52: =VLOOKUP(D52,'CAHT EVRON'!$A$2:$C$226,2,FALSE) -> 11084.79 | M52: =VLOOKUP(D52,'CAHT EVRON'!$A$2:$C$226,3,FALSE) -> 25838.01 | N52: =SUM(L52:M52) -> 36922.8 | O52: =IF(M52=0*(OUN52=0),0,(L52/M52-1)) -> -0.57098902 | P52: =VLOOKUP(D52,'CAHT SABLE'!$A$2:$C$182,2,FALSE) -> 3106.7 | Q52: =VLOOKUP(D52,'CAHT SABLE'!$A$2:$C$182,3,FALSE) -> 7562.87 | R52: =SUM(P52:Q52) -> 10669.57 | S52: =IF(Q52=0*(OUR52=0),0,(P52/Q52-1)) -> -0.58921679 | T52: =P52+L52 -> 14191.49 | U52: =Q52+M52 -> 33400.88 | V52: =IF(U52=0*(OUT52=0),0,(T52/U52-1)) -> -0.57511628
A53: 02303400 | B53: FDCPRIMEUR | C53: FRUITS | D53: DC PRIMEURS | E53: LA VIONNIERE | F53: 0 | G53: 53960 | H53: BONCHAMPS LES LAVAL | I53: 02 43 56 20 81 | J53: 02 43 56 21 43 | K53: 0 | L53: =VLOOKUP(D53,'CAHT EVRON'!$A$2:$C$226,2,FALSE) -> 4687.88 | M53: =VLOOKUP(D53,'CAHT EVRON'!$A$2:$C$226,3,FALSE) -> 840.81 | N53: =SUM(L53:M53) -> 5528.69 | O53: =IF(M53=0*(OUN53=0),0,(L53/M53-1)) -> 4.5754332 | P53: =VLOOKUP(D53,'CAHT SABLE'!$A$2:$C$182,2,FALSE) -> 8961.55 | Q53: =VLOOKUP(D53,'CAHT SABLE'!$A$2:$C$182,3,FALSE) -> 8837.09 | R53: =SUM(P53:Q53) -> 17798.64 | S53: =IF(Q53=0*(OUR53=0),0,(P53/Q53-1)) -> 0.014083822 | T53: =P53+L53 -> 13649.43 | U53: =Q53+M53 -> 9677.9 | V53: =IF(U53=0*(OUT53=0),0,(T53/U53-1)) -> 0.41037105
A54: 03055800 | B54: FPASSAT | C54: MENAGE | D54: PASSAT | E54: 62, RUE DE LA ROSE DES VENTS | F54: 0 | G54: 95610 | H54: ERAGNY S/ OISE | I54: 01.34.48.33.33 | J54: 01.30.37.12.44 | K54: passat@passat.fr | L54: =VLOOKUP(D54,'CAHT EVRON'!$A$2:$C$226,2,FALSE) -> 3405.14 | M54: =VLOOKUP(D54,'CAHT EVRON'!$A$2:$C$226,3,FALSE) -> 2052.19 | N54: =SUM(L54:M54) -> 5457.33 | O54: =IF(M54=0*(OUN54=0),0,(L54/M54-1)) -> 0.65927132 | P54: =VLOOKUP(D54,'CAHT SABLE'!$A$2:$C$182,2,FALSE) -> 9901.43 | Q54: =VLOOKUP(D54,'CAHT SABLE'!$A$2:$C$182,3,FALSE) -> 0 | R54: =SUM(P54:Q54) -> 9901.43 | S54: =IF(Q54=0*(OUR54=0),0,(P54/Q54-1)) -> 0 | T54: =P54+L54 -> 13306.57 | U54: =Q54+M54 -> 2052.19 | V54: =IF(U54=0*(OUT54=0),0,(T54/U54-1)) -> 5.4840829
A55: 03207400 | B55: FOXADIS | C55: JARDINAGE | D55: OXADIS | E55: PARC DE CHÊNES | F55: Z.I DE THARABIE | G55: 38291 | H55: ST QUENTIN FALLAVIER CEDEX | I55: 04.74.82.10.10 | J55: 04.74.82.10.20 | K55: 0 | L55: =VLOOKUP(D55,'CAHT EVRON'!$A$2:$C$226,2,FALSE) -> 8214.15 | M55: =VLOOKUP(D55,'CAHT EVRON'!$A$2:$C$226,3,FALSE) -> 9011.05 | N55: =SUM(L55:M55) -> 17225.2 | O55: =IF(M55=0*(OUN55=0),0,(L55/M55-1)) -> -0.088435865 | P55: =VLOOKUP(D55,'CAHT SABLE'!$A$2:$C$182,2,FALSE) -> 4849.06 | Q55: =VLOOKUP(D55,'CAHT SABLE'!$A$2:$C$182,3,FALSE) -> 7336.66 | R55: =SUM(P55:Q55) -> 12185.72 | S55: =IF(Q55=0*(OUR55=0),0,(P55/Q55-1)) -> -0.33906437 | T55: =P55+L55 -> 13063.21 | U55: =Q55+M55 -> 16347.71 | V55: =IF(U55=0*(OUT55=0),0,(T55/U55-1)) -> -0.20091499
A56: 06500000 | B56: FSOTRAPID | C56: CARBURANT NEW | D56: SOTRAPID | E56: 131 BD PIERRE LEFAUCHEUX | F56: 0 | G56: 72230 | H56: ARNAGE | I56: 02.43.39.50.00 | J56: 02.43.39.50.10 | K56: 0 | L56: =VLOOKUP(D56,'CAHT EVRON'!$A$2:$C$226,2,FALSE) -> 12550.05 | M56: =VLOOKUP(D56,'CAHT EVRON'!$A$2:$C$226,3,FALSE) -> 34002.19 | N56: =SUM(L56:M56) -> 46552.24 | O56: =IF(M56=0*(OUN56=0),0,(L56/M56-1)) -> -0.63090466 | R56: =SUM(P56:Q56) -> 0 | S56: =IF(Q56=0*(OUR56=0),0,(P56/Q56-1)) -> 0 | T56: =P56+L56 -> 12550.05 | U56: =Q56+M56 -> 34002.19 | V56: =IF(U56=0*(OUT56=0),0,(T56/U56-1)) -> -0.63090466
A57: 03055600 | B57: FOPMFRANCE | C57: PETIT ELECTRO MENAGER | D57: OPM FRANCE | E57: 33 RUE DU BOIS BRIAND | F57: BP 61635 | G57: 44316 | H57: NANTES CEDEX 3 | I57: 02 40 49 64 25 | J57: 02 40 93 96 22 | K57: opm@opm-france.com | L57: =VLOOKUP(D57,'CAHT EVRON'!$A$2:$C$226,2,FALSE) -> 4928.4 | M57: =VLOOKUP(D57,'CAHT EVRON'!$A$2:$C$226,3,FALSE) -> 6739.54 | N57: =SUM(L57:M57) -> 11667.94 | O57: =IF(M57=0*(OUN57=0),0,(L57/M57-1)) -> -0.26873347 | P57: =VLOOKUP(D57,'CAHT SABLE'!$A$2:$C$182,2,FALSE) -> 7364.52 | Q57: =VLOOKUP(D57,'CAHT SABLE'!$A$2:$C$182,3,FALSE) -> 10590.11 | R57: =SUM(P57:Q57) -> 17954.63 | S57: =IF(Q57=0*(OUR57=0),0,(P57/Q57-1)) -> -0.30458513 | T57: =P57+L57 -> 12292.92 | U57: =Q57+M57 -> 17329.65 | V57: =IF(U57=0*(OUT57=0),0,(T57/U57-1)) -> -0.29064234
A58: 04300000 | B58: FRT | C58: BIJOUTERIE | D58: R T | E58: 10 AVENUE PIERRE COT | F58: 0 | G58: 87350 | H58: PANAZOL | I58: 05.55.30.00.00 | J58: 05.55.30.01.21 | K58: 0 | L58: =VLOOKUP(D58,'CAHT EVRON'!$A$2:$C$226,2,FALSE) -> 7479.24 | M58: =VLOOKUP(D58,'CAHT EVRON'!$A$2:$C$226,3,FALSE) -> 15837.77 | N58: =SUM(L58:M58) -> 23317.01 | O58: =IF(M58=0*(OUN58=0),0,(L58/M58-1)) -> -0.52775927 | P58: =VLOOKUP(D58,'CAHT SABLE'!$A$2:$C$182,2,FALSE) -> 4348.52 | Q58: =VLOOKUP(D58,'CAHT SABLE'!$A$2:$C$182,3,FALSE) -> 8367.91 | R58: =SUM(P58:Q58) -> 12716.43 | S58: =IF(Q58=0*(OUR58=0),0,(P58/Q58-1)) -> -0.4803338 | T58: =P58+L58 -> 11827.76 | U58: =Q58+M58 -> 24205.68 | V58: =IF(U58=0*(OUT58=0),0,(T58/U58-1)) -> -0.51136427
A59: 01201500 | B59: FDELSOL | C59: PARFUMERIE | D59: DELSOL | E59: 75 AVENUE PARMENTIER | F59: 0 | G59: 75011 | H59: PARIS | I59: 05 49 52 78 15² | J59: 05 49 52 88 41 | K59: sales@delsol.fr | L59: =VLOOKUP(D59,'CAHT EVRON'!$A$2:$C$226,2,FALSE) -> 11758.03 | M59: =VLOOKUP(D59,'CAHT EVRON'!$A$2:$C$226,3,FALSE) -> 10555.58 | N59: =SUM(L59:M59) -> 22313.61 | O59: =IF(M59=0*(OUN59=0),0,(L59/M59-1)) -> 0.11391605 | R59: =SUM(P59:Q59) -> 0 | S59: =IF(Q59=0*(OUR59=0),0,(P59/Q59-1)) -> 0 | T59: =P59+L59 -> 11758.03 | U59: =Q59+M59 -> 10555.58 | V59: =IF(U59=0*(OUT59=0),0,(T59/U59-1)) -> 0.11391605
A60: 04250000 | B60: FISOTONER | C60: CHAUSSURE | D60: ISOTONER | E60: 3 RUE DU FOIRAIL | F60: 0 | G60: 15140 | H60: ST MARTIN VALMEROUX | I60: 04 71 69 20 01 | J60: 04 71 69 42 00 | K60: christophe.charbonnel@isotoner.fr | N60: =SUM(L60:M60) -> 0 | O60: =IF(M60=0*(OUN60=0),0,(L60/M60-1)) -> 0 | P60: =VLOOKUP(D60,'CAHT SABLE'!$A$2:$C$182,2,FALSE) -> 11681.92 | Q60: =VLOOKUP(D60,'CAHT SABLE'!$A$2:$C$182,3,FALSE) -> 8820.54 | R60: =SUM(P60:Q60) -> 20502.46 | S60: =IF(Q60=0*(OUR60=0),0,(P60/Q60-1)) -> 0.32439964 | T60: =P60+L60 -> 11681.92 | U60: =Q60+M60 -> 8820.54 | V60: =IF(U60=0*(OUT60=0),0,(T60/U60-1)) -> 0.32439964
A61: 08100000 | B61: FDSRESTAUR | C61: REPAS | D61: DS RESTAURATION | E61: 14 RUE BEAUSÉJOUR | F61: 0 | G61: 85120 | H61: LA CHATAIGNERAIE | I61: 02.51.53.58.00 | J61: 02.51.53.58.10 | K61: 0 | L61: =VLOOKUP(D61,'CAHT EVRON'!$A$2:$C$226,2,FALSE) -> 11369.61 | M61: =VLOOKUP(D61,'CAHT EVRON'!$A$2:$C$226,3,FALSE) -> 16003.44 | N61: =SUM(L61:M61) -> 27373.05 | O61: =IF(M61=0*(OUN61=0),0,(L61/M61-1)) -> -0.28955212 | R61: =SUM(P61:Q61) -> 0 | S61: =IF(Q61=0*(OUR61=0),0,(P61/Q61-1)) -> 0 | T61: =P61+L61 -> 11369.61 | U61: =Q61+M61 -> 16003.44 | V61: =IF(U61=0*(OUT61=0),0,(T61/U61-1)) -> -0.28955212
A62: 03156800 | B62: FPLAYMOBIL | C62: JOUETS | D62: PLAYMOBIL | E62: ZAC DU BOIS CHALAND | F62: 12 RUE DES PYRENEES | G62: 91029 | H62: EVRY CEDEX | I62: 01 69 11 97 70 | J62: 01 69 11 27 28 | K62: playmobil@playmobil.fr | L62: =VLOOKUP(D62,'CAHT EVRON'!$A$2:$C$226,2,FALSE) -> 4447.46 | M62: =VLOOKUP(D62,'CAHT EVRON'!$A$2:$C$226,3,FALSE) -> 10938.1 | N62: =SUM(L62:M62) -> 15385.56 | O62: =IF(M62=0*(OUN62=0),0,(L62/M62-1)) -> -0.59339739 | P62: =VLOOKUP(D62,'CAHT SABLE'!$A$2:$C$182,2,FALSE) -> 6797.07 | Q62: =VLOOKUP(D62,'CAHT SABLE'!$A$2:$C$182,3,FALSE) -> 0 | R62: =SUM(P62:Q62) -> 6797.07 | S62: =IF(Q62=0*(OUR62=0),0,(P62/Q62-1)) -> 0 | T62: =P62+L62 -> 11244.53 | U62: =Q62+M62 -> 10938.1 | V62: =IF(U62=0*(OUT62=0),0,(T62/U62-1)) -> 0.02801492
A63: 02303400 | B63: FANJOUMORI | C63: FRUITS | D63: ANJOU MORICHINTRES | E63: LES CHINTRES | F63: ROUTE D'ANGERS | G63: 49640 | H63: MORANNES | I63: 02 41 42 22 01 | J63: 02 41 42 27 13 | K63: sca-anjou-morichintres@wanadoo.fr | N63: =SUM(L63:M63) -> 0 | O63: =IF(M63=0*(OUN63=0),0,(L63/M63-1)) -> 0 | P63: =VLOOKUP(D63,'CAHT SABLE'!$A$2:$C$182,2,FALSE) -> 11139.94 | Q63: =VLOOKUP(D63,'CAHT SABLE'!$A$2:$C$182,3,FALSE) -> 24601.51 | R63: =SUM(P63:Q63) -> 35741.45 | S63: =IF(Q63=0*(OUR63=0),0,(P63/Q63-1)) -> -0.54718471 | T63: =P63+L63 -> 11139.94 | U63: =Q63+M63 -> 24601.51 | V63: =IF(U63=0*(OUT63=0),0,(T63/U63-1)) -> -0.54718471
A64: 08050000 | B64: FPOMONAEPI | C64: BOISSONS | D64: POMONA EPISAVEURS | E64: PES RENNES | F64: BP 69141 | G64: 35091 | H64: RENNES CEDEX 9 | I64: 02.99.86.15.15 | J64: 02.99.86.15.10 | K64: c.rabot@episaveurs.fr | L64: =VLOOKUP(D64,'CAHT EVRON'!$A$2:$C$226,2,FALSE) -> 10918.61 | M64: =VLOOKUP(D64,'CAHT EVRON'!$A$2:$C$226,3,FALSE) -> 1052.53 | N64: =SUM(L64:M64) -> 11971.14 | O64: =IF(M64=0*(OUN64=0),0,(L64/M64-1)) -> 9.3736806 | R64: =SUM(P64:Q64) -> 0 | S64: =IF(Q64=0*(OUR64=0),0,(P64/Q64-1)) -> 0 | T64: =P64+L64 -> 10918.61 | U64: =Q64+M64 -> 1052.53 | V64: =IF(U64=0*(OUT64=0),0,(T64/U64-1)) -> 9.3736806
A65: 03257800 | B65: FAVENIRTEL | C65: TELEPHONIE | D65: AVENIR TELECOM | E65: 208 BOULEVARD DE PLOMNBIÈRES | F65: 0 | G65: 13581 | H65: MARSEILLE CEDEX 20 | I65: 04.88.00.60.00 | J65: 04.88.00.60.66 | K65: 0 | L65: =VLOOKUP(D65,'CAHT EVRON'!$A$2:$C$226,2,FALSE) -> 7882.98 | M65: =VLOOKUP(D65,'CAHT EVRON'!$A$2:$C$226,3,FALSE) -> 21466.78 | N65: =SUM(L65:M65) -> 29349.76 | O65: =IF(M65=0*(OUN65=0),0,(L65/M65-1)) -> -0.63278237 | P65: =VLOOKUP(D65,'CAHT SABLE'!$A$2:$C$182,2,FALSE) -> 2906.35 | Q65: =VLOOKUP(D65,'CAHT SABLE'!$A$2:$C$182,3,FALSE) -> 8593.56 | R65: =SUM(P65:Q65) -> 11499.91 | S65: =IF(Q65=0*(OUR65=0),0,(P65/Q65-1)) -> -0.66179907 | T65: =P65+L65 -> 10789.33 | U65: =Q65+M65 -> 30060.34 | V65: =IF(U65=0*(OUT65=0),0,(T65/U65-1)) -> -0.64107758
A66: 03106100 | B66: FEDITSREN | C66: PAPETERIE ECRITURE | D66: EDITIONS RENE | E66: ZAE DU PHOEBUS | F66: LE PONT DU CERF | G66: 24660 | H66: NOTRE DAME DE SANILHAC | I66: 05.53.04.13.07 | J66: 05.53.04.19.65 | K66: carterie@editions-rene.fr | L66: =VLOOKUP(D66,'CAHT EVRON'!$A$2:$C$226,2,FALSE) -> 6545.49 | M66: =VLOOKUP(D66,'CAHT EVRON'!$A$2:$C$226,3,FALSE) -> 9658.22 | N66: =SUM(L66:M66) -> 16203.71 | O66: =IF(M66=0*(OUN66=0),0,(L66/M66-1)) -> -0.32228816 | P66: =VLOOKUP(D66,'CAHT SABLE'!$A$2:$C$182,2,FALSE) -> 3615.96 | Q66: =VLOOKUP(D66,'CAHT SABLE'!$A$2:$C$182,3,FALSE) -> 4977.92 | R66: =SUM(P66:Q66) -> 8593.88 | S66: =IF(Q66=0*(OUR66=0),0,(P66/Q66-1)) -> -0.27360022 | T66: =P66+L66 -> 10161.45 | U66: =Q66+M66 -> 14636.14 | V66: =IF(U66=0*(OUT66=0),0,(T66/U66-1)) -> -0.30572883
A67: 01050700 | B67: FNATURENVI | C67: SPECIFIQUES | D67: NATURENVIE | E67: AVENUE PAUL LANGEVIN | F67: BP 47 | G67: 17183 | H67: PERIGNY CEDEX LA ROCHELLE | I67: 05.46.34.10.01 | J67: 05.46.34.59.79 | K67: 0 | L67: =VLOOKUP(D67,'CAHT EVRON'!$A$2:$C$226,2,FALSE) -> 10087.06 | M67: =VLOOKUP(D67,'CAHT EVRON'!$A$2:$C$226,3,FALSE) -> 13477.69 | N67: =SUM(L67:M67) -> 23564.75 | O67: =IF(M67=0*(OUN67=0),0,(L67/M67-1)) -> -0.25157353 | R67: =SUM(P67:Q67) -> 0 | S67: =IF(Q67=0*(OUR67=0),0,(P67/Q67-1)) -> 0 | T67: =P67+L67 -> 10087.06 | U67: =Q67+M67 -> 13477.69 | V67: =IF(U67=0*(OUT67=0),0,(T67/U67-1)) -> -0.25157353
A68: 01050700 | B68: FEASTWESTD | C68: SPECIFIQUES | D68: EAST WEST DISTRIBUTION | E68: 8 RUE DES VIEILLES GRANGES | F68: ZAC DES CHEVRIES | G68: 78410 | H68: AUBERGENVILLE | I68: 01.30.90.11.73 | J68: 01.30.90.11.72 | K68: stephanie.nydegger@east-west.fr | L68: =VLOOKUP(D68,'CAHT EVRON'!$A$2:$C$226,2,FALSE) -> 10008.63 | M68: =VLOOKUP(D68,'CAHT EVRON'!$A$2:$C$226,3,FALSE) -> 14481.62 | N68: =SUM(L68:M68) -> 24490.25 | O68: =IF(M68=0*(OUN68=0),0,(L68/M68-1)) -> -0.30887359 | R68: =SUM(P68:Q68) -> 0 | S68: =IF(Q68=0*(OUR68=0),0,(P68/Q68-1)) -> 0 | T68: =P68+L68 -> 10008.63 | U68: =Q68+M68 -> 14481.62 | V68: =IF(U68=0*(OUT68=0),0,(T68/U68-1)) -> -0.30887359
A69: 02052000 | B69: FFRANCEFOO | C69: PATISSERIE | D69: FRANCE FOOD | E69: 12 RUE DE LA PORTE D'ETAMPES | F69: 0 | G69: 78730 | H69: ROCHEFORT EN YVELINES | I69: 01.30.41.48.25 | J69: 01.30.41.34.31 | K69: admin@france-food.com | L69: =VLOOKUP(D69,'CAHT EVRON'!$A$2:$C$226,2,FALSE) -> 8101.17 | M69: =VLOOKUP(D69,'CAHT EVRON'!$A$2:$C$226,3,FALSE) -> 6298.24 | N69: =SUM(L69:M69) -> 14399.41 | O69: =IF(M69=0*(OUN69=0),0,(L69/M69-1)) -> 0.28625934 | P69: =VLOOKUP(D69,'CAHT SABLE'!$A$2:$C$182,2,FALSE) -> 1779.99 | Q69: =VLOOKUP(D69,'CAHT SABLE'!$A$2:$C$182,3,FALSE) -> 0 | R69: =SUM(P69:Q69) -> 1779.99 | S69: =IF(Q69=0*(OUR69=0),0,(P69/Q69-1)) -> 0 | T69: =P69+L69 -> 9881.16 | U69: =Q69+M69 -> 6298.24 | V69: =IF(U69=0*(OUT69=0),0,(T69/U69-1)) -> 0.56887638
A70: 03207500 | B70: FLCDLEGRAN | C70: BRICOLAGE | D70: LCD LEGRAND CERBONNEY | E70: 3 RUE ST GERMAIN | F70: POLE ACTIVITÉ PATTON | G70: 50307 | H70: AVRANCHES CEDEX | I70: 02.33.89.19.04 | J70: 02 33 58 71 78 | K70: 0 | N70: =SUM(L70:M70) -> 0 | O70: =IF(M70=0*(OUN70=0),0,(L70/M70-1)) -> 0 | P70: =VLOOKUP(D70,'CAHT SABLE'!$A$2:$C$182,2,FALSE) -> 9738.89 | Q70: =VLOOKUP(D70,'CAHT SABLE'!$A$2:$C$182,3,FALSE) -> 22796.81 | R70: =SUM(P70:Q70) -> 32535.7 | S70: =IF(Q70=0*(OUR70=0),0,(P70/Q70-1)) -> -0.57279593 | T70: =P70+L70 -> 9738.89 | U70: =Q70+M70 -> 22796.81 | V70: =IF(U70=0*(OUT70=0),0,(T70/U70-1)) -> -0.57279593
A71: 01201500 | B71: FLOREAL | C71: PARFUMERIE | D71: L'OREAL PARIS | E71: 7 RUE TOUZET GAILLARD | F71: TSA 50017 | G71: 93588 | H71: SAINT OUEN CEDEX | I71: 01.58.61.71.66 | J71: 01.41.66.20.33 | K71: flemaitre@fr.loreal.com | L71: =VLOOKUP(D71,'CAHT EVRON'!$A$2:$C$226,2,FALSE) -> 9571.41 | M71: =VLOOKUP(D71,'CAHT EVRON'!$A$2:$C$226,3,FALSE) -> 8182.69 | N71: =SUM(L71:M71) -> 17754.1 | O71: =IF(M71=0*(OUN71=0),0,(L71/M71-1)) -> 0.16971436 | R71: =SUM(P71:Q71) -> 0 | S71: =IF(Q71=0*(OUR71=0),0,(P71/Q71-1)) -> 0 | T71: =P71+L71 -> 9571.41 | U71: =Q71+M71 -> 8182.69 | V71: =IF(U71=0*(OUT71=0),0,(T71/U71-1)) -> 0.16971436
A72: 04250000 | B72: FCCI | C72: CHAUSSURE | D72: CCI | E72: ZI ROUTE DE LA ROCHELLE | F72: 0 | G72: 85607 | H72: MONTAIGU CEDEX | I72: 02.51.94.02.62 | J72: 02.51.94.24.25 | K72: 0 | L72: =VLOOKUP(D72,'CAHT EVRON'!$A$2:$C$226,2,FALSE) -> 4554.74 | M72: =VLOOKUP(D72,'CAHT EVRON'!$A$2:$C$226,3,FALSE) -> 11379.62 | N72: =SUM(L72:M72) -> 15934.36 | O72: =IF(M72=0*(OUN72=0),0,(L72/M72-1)) -> -0.59974586 | P72: =VLOOKUP(D72,'CAHT SABLE'!$A$2:$C$182,2,FALSE) -> 5016.41 | Q72: =VLOOKUP(D72,'CAHT SABLE'!$A$2:$C$182,3,FALSE) -> 2966.22 | R72: =SUM(P72:Q72) -> 7982.63 | S72: =IF(Q72=0*(OUR72=0),0,(P72/Q72-1)) -> 0.69117935 | T72: =P72+L72 -> 9571.15 | U72: =Q72+M72 -> 14345.84 | V72: =IF(U72=0*(OUT72=0),0,(T72/U72-1)) -> -0.3328275
A73: 01201500 | B73: FGEMEY | C73: PARFUMERIE | D73: GEMEY | E73: 7 RUE TOUZET GAILLARD | F73: TSA 50017 | G73: 93588 | H73: SAINT OUEN CEDEX | I73: 01 58 618 618 | J73: 01 58 618 617 | K73: 0 | N73: =SUM(L73:M73) -> 0 | O73: =IF(M73=0*(OUN73=0),0,(L73/M73-1)) -> 0 | P73: =VLOOKUP(D73,'CAHT SABLE'!$A$2:$C$182,2,FALSE) -> 8984.95 | Q73: =VLOOKUP(D73,'CAHT SABLE'!$A$2:$C$182,3,FALSE) -> 12502 | R73: =SUM(P73:Q73) -> 21486.95 | S73: =IF(Q73=0*(OUR73=0),0,(P73/Q73-1)) -> -0.28131899 | T73: =P73+L73 -> 8984.95 | U73: =Q73+M73 -> 12502 | V73: =IF(U73=0*(OUT73=0),0,(T73/U73-1)) -> -0.28131899
A74: 01201500 | B74: FLBD | C74: PARFUMERIE | D74: LBD | E74: 83 RUE DU FG-ST-JACQUES | F74: BP 305 | G74: 60026 | H74: BEAUVAIS | I74: 0825362124 | J74: 0344073251 | K74: 0 | L74: =VLOOKUP(D74,'CAHT EVRON'!$A$2:$C$226,2,FALSE) -> 8666.6 | M74: =VLOOKUP(D74,'CAHT EVRON'!$A$2:$C$226,3,FALSE) -> 8630.25 | N74: =SUM(L74:M74) -> 17296.85 | O74: =IF(M74=0*(OUN74=0),0,(L74/M74-1)) -> 0.004211929 | R74: =SUM(P74:Q74) -> 0 | S74: =IF(Q74=0*(OUR74=0),0,(P74/Q74-1)) -> 0 | T74: =P74+L74 -> 8666.6 | U74: =Q74+M74 -> 8630.25 | V74: =IF(U74=0*(OUT74=0),0,(T74/U74-1)) -> 0.004211929
A75: 04300000 | B75: FBELOR | C75: BIJOUTERIE | D75: BEL OR | E75: ZA DE LA GARDETTE | F75: RUE DE LA MOUNE | G75: 33306 | H75: LORMONT CEDEX | I75: 05.57.77.84.00 | J75: 05.57.77.84.09 | K75: bel-or@bel-or.com | N75: =SUM(L75:M75) -> 0 | O75: =IF(M75=0*(OUN75=0),0,(L75/M75-1)) -> 0 | P75: =VLOOKUP(D75,'CAHT SABLE'!$A$2:$C$182,2,FALSE) -> 8620.71 | Q75: =VLOOKUP(D75,'CAHT SABLE'!$A$2:$C$182,3,FALSE) -> 12091.18 | R75: =SUM(P75:Q75) -> 20711.89 | S75: =IF(Q75=0*(OUR75=0),0,(P75/Q75-1)) -> -0.28702492 | T75: =P75+L75 -> 8620.71 | U75: =Q75+M75 -> 12091.18 | V75: =IF(U75=0*(OUT75=0),0,(T75/U75-1)) -> -0.28702492
A76: 01101100 | B76: FCASTEL | C76: VINS | D76: CASTEL FRERES | E76: L'HYVERNIÈRE | F76: 0 | G76: 44330 | H76: LA CHAPELLE HEULIN | I76: 02.40.75.51.56 | J76: 02.40.75.72.50 | K76: 0 | L76: =VLOOKUP(D76,'CAHT EVRON'!$A$2:$C$226,2,FALSE) -> 8546.43 | M76: =VLOOKUP(D76,'CAHT EVRON'!$A$2:$C$226,3,FALSE) -> 9340.03 | N76: =SUM(L76:M76) -> 17886.46 | O76: =IF(M76=0*(OUN76=0),0,(L76/M76-1)) -> -0.084967607 | R76: =SUM(P76:Q76) -> 0 | S76: =IF(Q76=0*(OUR76=0),0,(P76/Q76-1)) -> 0 | T76: =P76+L76 -> 8546.43 | U76: =Q76+M76 -> 9340.03 | V76: =IF(U76=0*(OUT76=0),0,(T76/U76-1)) -> -0.084967607
A77: 02454200 | B77: FSNGCHARCU | C77: CHARCT.TRADT | D77: CHARCUTERIE SNG | E77: ZA DE BEL AIR | F77: 0 | G77: 72230 | H77: RUAUDIN | I77: 02 43 75 54 75 | J77: 02 43 75 71 78 | K77: 0 | L77: =VLOOKUP(D77,'CAHT EVRON'!$A$2:$C$226,2,FALSE) -> 7628.54 | M77: =VLOOKUP(D77,'CAHT EVRON'!$A$2:$C$226,3,FALSE) -> 2605.22 | N77: =SUM(L77:M77) -> 10233.76 | O77: =IF(M77=0*(OUN77=0),0,(L77/M77-1)) -> 1.928175 | P77: =VLOOKUP(D77,'CAHT SABLE'!$A$2:$C$182,2,FALSE) -> 897.11 | Q77: =VLOOKUP(D77,'CAHT SABLE'!$A$2:$C$182,3,FALSE) -> 488.79 | R77: =SUM(P77:Q77) -> 1385.9 | S77: =IF(Q77=0*(OUR77=0),0,(P77/Q77-1)) -> 0.83536897 | T77: =P77+L77 -> 8525.65 | U77: =Q77+M77 -> 3094.01 | V77: =IF(U77=0*(OUT77=0),0,(T77/U77-1)) -> 1.7555341
A78: 03156900 | B78: FFORESTIER | C78: PLEIN AIR | D78: FORESTIERE DU NORD | E78: PARC DES BOIS BRULES | F78: BP | G78: 91430 | H78: IGNY | I78: 01 69 41 32 06 | J78: 01 69 41 83 16 | K78: compta2.forestiere@orange.fr | L78: =VLOOKUP(D78,'CAHT EVRON'!$A$2:$C$226,2,FALSE) -> 917.28 | M78: =VLOOKUP(D78,'CAHT EVRON'!$A$2:$C$226,3,FALSE) -> 0 | N78: =SUM(L78:M78) -> 917.28 | O78: =IF(M78=0*(OUN78=0),0,(L78/M78-1)) -> 0 | P78: =VLOOKUP(D78,'CAHT SABLE'!$A$2:$C$182,2,FALSE) -> 7531.57 | Q78: =VLOOKUP(D78,'CAHT SABLE'!$A$2:$C$182,3,FALSE) -> 3417.04 | R78: =SUM(P78:Q78) -> 10948.61 | S78: =IF(Q78=0*(OUR78=0),0,(P78/Q78-1)) -> 1.2041211 | T78: =P78+L78 -> 8448.85 | U78: =Q78+M78 -> 3417.04 | V78: =IF(U78=0*(OUT78=0),0,(T78/U78-1)) -> 1.472564
A79: 06600000 | B79: FTOTALGAZ | C79: GAZ NEW | D79: TOTAL GAZ | E79: 48 AVENUE DU GÉNÉRAL DE GAULLE | F79: 0 | G79: 92800 | H79: PUTEAU | I79: 02.97.05.49.31 | J79: 02.97.05.49.38 | K79: 0 | L79: =VLOOKUP(D79,'CAHT EVRON'!$A$2:$C$226,2,FALSE) -> 6416.4 | M79: =VLOOKUP(D79,'CAHT EVRON'!$A$2:$C$226,3,FALSE) -> 14848.82 | N79: =SUM(L79:M79) -> 21265.22 | O79: =IF(M79=0*(OUN79=0),0,(L79/M79-1)) -> -0.56788486 | P79: =VLOOKUP(D79,'CAHT SABLE'!$A$2:$C$182,2,FALSE) -> 1999.6 | Q79: =VLOOKUP(D79,'CAHT SABLE'!$A$2:$C$182,3,FALSE) -> 5031.83 | R79: =SUM(P79:Q79) -> 7031.43 | S79: =IF(Q79=0*(OUR79=0),0,(P79/Q79-1)) -> -0.60260979 | T79: =P79+L79 -> 8416 | U79: =Q79+M79 -> 19880.65 | V79: =IF(U79=0*(OUT79=0),0,(T79/U79-1)) -> -0.5766738
A80: 01201700 | B80: FVITAL | C80: PARAPHARMACIE | D80: VITAL | E80: AVENUE PAUL LANGEVIN | F80: BP 47 | G80: 17183 | H80: PERIGNY CEDEX LA ROCHELLE | I80: 05.46.34.10.01 | J80: 05.46.34.59.79 | K80: 0 | L80: =VLOOKUP(D80,'CAHT EVRON'!$A$2:$C$226,2,FALSE) -> 5655.42 | M80: =VLOOKUP(D80,'CAHT EVRON'!$A$2:$C$226,3,FALSE) -> 6656.87 | N80: =SUM(L80:M80) -> 12312.29 | O80: =IF(M80=0*(OUN80=0),0,(L80/M80-1)) -> -0.15043857 | P80: =VLOOKUP(D80,'CAHT SABLE'!$A$2:$C$182,2,FALSE) -> 2586.55 | Q80: =VLOOKUP(D80,'CAHT SABLE'!$A$2:$C$182,3,FALSE) -> -329.96 | R80: =SUM(P80:Q80) -> 2256.59 | S80: =IF(Q80=0*(OUR80=0),0,(P80/Q80-1)) -> -8.8389805 | T80: =P80+L80 -> 8241.97 | U80: =Q80+M80 -> 6326.91 | V80: =IF(U80=0*(OUT80=0),0,(T80/U80-1)) -> 0.30268488
A81: 03055500 | B81: FLMDIFFUSI | C81: LA TABLE | D81: LM DIFFUSION | E81: 3, RUE VICTOR ROUSSIN | F81: 0 | G81: 35460 | H81: SAINT-BRICE-EN-COGLES | I81: 0299185582 | J81: 0299184380 | K81: 0 | L81: =VLOOKUP(D81,'CAHT EVRON'!$A$2:$C$226,2,FALSE) -> 4527.17 | M81: =VLOOKUP(D81,'CAHT EVRON'!$A$2:$C$226,3,FALSE) -> 6636.99 | N81: =SUM(L81:M81) -> 11164.16 | O81: =IF(M81=0*(OUN81=0),0,(L81/M81-1)) -> -0.31788808 | P81: =VLOOKUP(D81,'CAHT SABLE'!$A$2:$C$182,2,FALSE) -> 3396.21 | Q81: =VLOOKUP(D81,'CAHT SABLE'!$A$2:$C$182,3,FALSE) -> 13193.05 | R81: =SUM(P81:Q81) -> 16589.26 | S81: =IF(Q81=0*(OUR81=0),0,(P81/Q81-1)) -> -0.74257583 | T81: =P81+L81 -> 7923.38 | U81: =Q81+M81 -> 19830.04 | V81: =IF(U81=0*(OUT81=0),0,(T81/U81-1)) -> -0.6004355
A82: 03157000 | B82: FMONDIALSP | C82: SPORTS DETENTE | D82: MONDIAL SPORT | E82: ZA LE PARC | F82: 0 | G82: 82170 | H82: CANALS | I82: 05 63 27 22 20 | J82: 05 63 27 22 29 | K82: impordis@wanadoo.fr | L82: =VLOOKUP(D82,'CAHT EVRON'!$A$2:$C$226,2,FALSE) -> 4752.74 | M82: =VLOOKUP(D82,'CAHT EVRON'!$A$2:$C$226,3,FALSE) -> 5264.93 | N82: =SUM(L82:M82) -> 10017.67 | O82: =IF(M82=0*(OUN82=0),0,(L82/M82-1)) -> -0.097283345 | P82: =VLOOKUP(D82,'CAHT SABLE'!$A$2:$C$182,2,FALSE) -> 2969.45 | Q82: =VLOOKUP(D82,'CAHT SABLE'!$A$2:$C$182,3,FALSE) -> 0 | R82: =SUM(P82:Q82) -> 2969.45 | S82: =IF(Q82=0*(OUR82=0),0,(P82/Q82-1)) -> 0 | T82: =P82+L82 -> 7722.19 | U82: =Q82+M82 -> 5264.93 | V82: =IF(U82=0*(OUT82=0),0,(T82/U82-1)) -> 0.46672225
A83: 02554700 | B83: FMAITREJAC | C83: BOUCH.LS (UVCI) | D83: MAITRE JACQUES | E83: PARC D'ACTIVITÉS RENNES OUEST | F83: 5 RUE ROLAND DORÉ | G83: 35000 | H83: RENNES | I83: 02.99.54.16.55 | J83: 02.99.54.00.01 | K83: contact@maitre-jacques.fr | L83: =VLOOKUP(D83,'CAHT EVRON'!$A$2:$C$226,2,FALSE) -> 7615.96 | M83: =VLOOKUP(D83,'CAHT EVRON'!$A$2:$C$226,3,FALSE) -> 10698.63 | N83: =SUM(L83:M83) -> 18314.59 | O83: =IF(M83=0*(OUN83=0),0,(L83/M83-1)) -> -0.28813689 | R83: =SUM(P83:Q83) -> 0 | S83: =IF(Q83=0*(OUR83=0),0,(P83/Q83-1)) -> 0 | T83: =P83+L83 -> 7615.96 | U83: =Q83+M83 -> 10698.63 | V83: =IF(U83=0*(OUT83=0),0,(T83/U83-1)) -> -0.28813689
A84: 02303400 | B84: FVERGERSBR | C84: FRUITS | D84: VERGERS DES BRUERES | E84: LATRICHONNIÈRE | F84: BP 11 | G84: 53800 | H84: LA SELLE CRAONNAISE | I84: 02.43.06.22.66 | J84: 02.43.07.59.82 | K84: 0 | L84: =VLOOKUP(D84,'CAHT EVRON'!$A$2:$C$226,2,FALSE) -> 7503.93 | M84: =VLOOKUP(D84,'CAHT EVRON'!$A$2:$C$226,3,FALSE) -> 24175.17 | N84: =SUM(L84:M84) -> 31679.1 | O84: =IF(M84=0*(OUN84=0),0,(L84/M84-1)) -> -0.68960177 | R84: =SUM(P84:Q84) -> 0 | S84: =IF(Q84=0*(OUR84=0),0,(P84/Q84-1)) -> 0 | T84: =P84+L84 -> 7503.93 | U84: =Q84+M84 -> 24175.17 | V84: =IF(U84=0*(OUT84=0),0,(T84/U84-1)) -> -0.68960177
A85: 04050000 | B85: FALMTEXTIL | C85: VETEMENT | D85: ALM TEXTILE | E85: 100 RUE DU MOULIN DES LANDES | F85: 0 | G85: 44985 | H85: SAINTE LUCE SUR LOIRE | I85: 02.28.01.47.93 | J85: 02.28.01.40.87 | K85: 0 | L85: =VLOOKUP(D85,'CAHT EVRON'!$A$2:$C$226,2,FALSE) -> 6484.45 | M85: =VLOOKUP(D85,'CAHT EVRON'!$A$2:$C$226,3,FALSE) -> 5886.13 | N85: =SUM(L85:M85) -> 12370.58 | O85: =IF(M85=0*(OUN85=0),0,(L85/M85-1)) -> 0.10164913 | P85: =VLOOKUP(D85,'CAHT SABLE'!$A$2:$C$182,2,FALSE) -> 780.73 | Q85: =VLOOKUP(D85,'CAHT SABLE'!$A$2:$C$182,3,FALSE) -> 4777.11 | R85: =SUM(P85:Q85) -> 5557.84 | S85: =IF(Q85=0*(OUR85=0),0,(P85/Q85-1)) -> -0.83656855 | T85: =P85+L85 -> 7265.18 | U85: =Q85+M85 -> 10663.24 | V85: =IF(U85=0*(OUT85=0),0,(T85/U85-1)) -> -0.3186705
A86: 02403800 | B86: FGAULOIS | C86: CHARCT.LS UVCI | D86: GAULOIS LDC | E86: BP 88 | F86: ZI ST LAURENT | G86: 72302 | H86: SABLE SUR SARTHE | I86: 02.43.62.70.00 | J86: 02.43.92.23.71 | K86: 0 | N86: =SUM(L86:M86) -> 0 | O86: =IF(M86=0*(OUN86=0),0,(L86/M86-1)) -> 0 | P86: =VLOOKUP(D86,'CAHT SABLE'!$A$2:$C$182,2,FALSE) -> 7239.71 | Q86: =VLOOKUP(D86,'CAHT SABLE'!$A$2:$C$182,3,FALSE) -> 0 | R86: =SUM(P86:Q86) -> 7239.71 | S86: =IF(Q86=0*(OUR86=0),0,(P86/Q86-1)) -> 0 | T86: =P86+L86 -> 7239.71 | U86: =Q86+M86 -> 0 | V86: =IF(U86=0*(OUT86=0),0,(T86/U86-1)) -> 0
A87: 03257600 | B87: FGPDIS | C87: GROS ELECTRO MENAGER | D87: GP DISTRIBUTION | E87: ETS LEGER | F87: 3 RUE A.-BECQUEREL | G87: 72026 | H87: LE MANS | I87: 02.43.50.05.89 | J87: 02.43.75.09.60 | K87: 0 | N87: =SUM(L87:M87) -> 0 | O87: =IF(M87=0*(OUN87=0),0,(L87/M87-1)) -> 0 | P87: =VLOOKUP(D87,'CAHT SABLE'!$A$2:$C$182,2,FALSE) -> 7137.29 | Q87: =VLOOKUP(D87,'CAHT SABLE'!$A$2:$C$182,3,FALSE) -> 15644.29 | R87: =SUM(P87:Q87) -> 22781.58 | S87: =IF(Q87=0*(OUR87=0),0,(P87/Q87-1)) -> -0.54377668 | T87: =P87+L87 -> 7137.29 | U87: =Q87+M87 -> 15644.29 | V87: =IF(U87=0*(OUT87=0),0,(T87/U87-1)) -> -0.54377668
A88: 02454200 | B88: FDISTRAL | C88: CHARCT.TRADT | D88: DISTRAL | E88: RUE AMPERE | F88: ZI LA MAINE | G88: 76150 | H88: MARONNE | I88: 02 35 76 71 50 | J88: 02 35 74 96 14 | K88: 0 | L88: =VLOOKUP(D88,'CAHT EVRON'!$A$2:$C$226,2,FALSE) -> 6780.56 | M88: =VLOOKUP(D88,'CAHT EVRON'!$A$2:$C$226,3,FALSE) -> 0 | N88: =SUM(L88:M88) -> 6780.56 | O88: =IF(M88=0*(OUN88=0),0,(L88/M88-1)) -> 0 | R88: =SUM(P88:Q88) -> 0 | S88: =IF(Q88=0*(OUR88=0),0,(P88/Q88-1)) -> 0 | T88: =P88+L88 -> 6780.56 | U88: =Q88+M88 -> 0 | V88: =IF(U88=0*(OUT88=0),0,(T88/U88-1)) -> 0
A89: 03207400 | B89: FARMORVEGE | C89: JARDINAGE | D89: ARMOR VEGETAL | E89: MEZ BRONNEC | F89: 0 | G89: 22610 | H89: PLEUBIAN | I89: 02 96 22 31 52 | J89: 02 96 22 35 64 | K89: armorvegetal@aomorvegetal.fr | L89: =VLOOKUP(D89,'CAHT EVRON'!$A$2:$C$226,2,FALSE) -> 3125.09 | M89: =VLOOKUP(D89,'CAHT EVRON'!$A$2:$C$226,3,FALSE) -> 0 | N89: =SUM(L89:M89) -> 3125.09 | O89: =IF(M89=0*(OUN89=0),0,(L89/M89-1)) -> 0 | P89: =VLOOKUP(D89,'CAHT SABLE'!$A$2:$C$182,2,FALSE) -> 3593.39 | Q89: =VLOOKUP(D89,'CAHT SABLE'!$A$2:$C$182,3,FALSE) -> 0 | R89: =SUM(P89:Q89) -> 3593.39 | S89: =IF(Q89=0*(OUR89=0),0,(P89/Q89-1)) -> 0 | T89: =P89+L89 -> 6718.48 | U89: =Q89+M89 -> 0 | V89: =IF(U89=0*(OUT89=0),0,(T89/U89-1)) -> 0
A90: 01201500 | B90: FJARDINBIO | C90: PARFUMERIE | D90: JARDIN BIO | E90: AVENUE PAUL LANGEVIN | F90: BP 47 | G90: 17183 | H90: PERIGNY CEDEX LA ROCHELLE | I90: 05.46.34.10.01 | J90: 05.46.34.59.79 | K90: 0 | L90: =VLOOKUP(D90,'CAHT EVRON'!$A$2:$C$226,2,FALSE) -> 4162.58 | M90: =VLOOKUP(D90,'CAHT EVRON'!$A$2:$C$226,3,FALSE) -> 5974.32 | N90: =SUM(L90:M90) -> 10136.9 | O90: =IF(M90=0*(OUN90=0),0,(L90/M90-1)) -> -0.3032546 | P90: =VLOOKUP(D90,'CAHT SABLE'!$A$2:$C$182,2,FALSE) -> 2501.03 | Q90: =VLOOKUP(D90,'CAHT SABLE'!$A$2:$C$182,3,FALSE) -> 1206.56 | R90: =SUM(P90:Q90) -> 3707.59 | S90: =IF(Q90=0*(OUR90=0),0,(P90/Q90-1)) -> 1.07286 | T90: =P90+L90 -> 6663.61 | U90: =Q90+M90 -> 7180.88 | V90: =IF(U90=0*(OUT90=0),0,(T90/U90-1)) -> -0.072034347
A91: 03106100 | B91: FPOSTE | C91: PAPETERIE ECRITURE | D91: POSTE CONTACTS | E91: 9 RUE PERRIERE | F91: 0 | G91: 53600 | H91: EVRON | I91: 0 | J91: 0 | K91: comptafour.enseigne@laposte.fr | L91: =VLOOKUP(D91,'CAHT EVRON'!$A$2:$C$226,2,FALSE) -> 3275.93 | M91: =VLOOKUP(D91,'CAHT EVRON'!$A$2:$C$226,3,FALSE) -> 6505.74 | N91: =SUM(L91:M91) -> 9781.67 | O91: =IF(M91=0*(OUN91=0),0,(L91/M91-1)) -> -0.49645544 | P91: =VLOOKUP(D91,'CAHT SABLE'!$A$2:$C$182,2,FALSE) -> 3327.59 | Q91: =VLOOKUP(D91,'CAHT SABLE'!$A$2:$C$182,3,FALSE) -> 8961.86 | R91: =SUM(P91:Q91) -> 12289.45 | S91: =IF(Q91=0*(OUR91=0),0,(P91/Q91-1)) -> -0.62869427 | T91: =P91+L91 -> 6603.52 | U91: =Q91+M91 -> 15467.6 | V91: =IF(U91=0*(OUT91=0),0,(T91/U91-1)) -> -0.57307404
A92: 03257900 | B92: FNEDIS | C92: BUREAUTIQUE INFORMATIQUE | D92: NEDIS SARL | E92: 14 AVENUE DU CENTAURE | F92: BP 78430 | G92: 95806 | H92: CERGY PONTOISE CEDEX | I92: 01 34 20 12 12 | J92: 01 34 20 12 13 | K92: 0 | L92: =VLOOKUP(D92,'CAHT EVRON'!$A$2:$C$226,2,FALSE) -> 5521.76 | M92: =VLOOKUP(D92,'CAHT EVRON'!$A$2:$C$226,3,FALSE) -> 1167.5 | N92: =SUM(L92:M92) -> 6689.26 | O92: =IF(M92=0*(OUN92=0),0,(L92/M92-1)) -> 3.7295589 | P92: =VLOOKUP(D92,'CAHT SABLE'!$A$2:$C$182,2,FALSE) -> 1008.42 | Q92: =VLOOKUP(D92,'CAHT SABLE'!$A$2:$C$182,3,FALSE) -> 3939.83 | R92: =SUM(P92:Q92) -> 4948.25 | S92: =IF(Q92=0*(OUR92=0),0,(P92/Q92-1)) -> -0.74404479 | T92: =P92+L92 -> 6530.18 | U92: =Q92+M92 -> 5107.33 | V92: =IF(U92=0*(OUT92=0),0,(T92/U92-1)) -> 0.27858979
A93: 08100000 | B93: FSODIPA | C93: REPAS | D93: SODIPA | E93: Z.A. DU HINDRE III | F93: 0 | G93: 35310 | H93: BREAL S/ MONTFORT | I93: 02.23.41.17.17 | J93: 02.23.41.17.18 | K93: 0 | L93: =VLOOKUP(D93,'CAHT EVRON'!$A$2:$C$226,2,FALSE) -> 6465.86 | M93: =VLOOKUP(D93,'CAHT EVRON'!$A$2:$C$226,3,FALSE) -> 8720.06 | N93: =SUM(L93:M93) -> 15185.92 | O93: =IF(M93=0*(OUN93=0),0,(L93/M93-1)) -> -0.2585074 | R93: =SUM(P93:Q93) -> 0 | S93: =IF(Q93=0*(OUR93=0),0,(P93/Q93-1)) -> 0 | T93: =P93+L93 -> 6465.86 | U93: =Q93+M93 -> 8720.06 | V93: =IF(U93=0*(OUT93=0),0,(T93/U93-1)) -> -0.2585074
A94: 02152400 | B94: FPOMONAFRO | C94: SURGELE SALE | D94: POMONA PASSION FROID | E94: RUE VEGA | F94: ZI HAUTE FORET BP 137 | G94: 44471 | H94: CARQUEFOU CEDEX | I94: 02 40 18 95 05 | J94: 02 40 18 27 16 | K94: 0 | L94: =VLOOKUP(D94,'CAHT EVRON'!$A$2:$C$226,2,FALSE) -> 6195.28 | M94: =VLOOKUP(D94,'CAHT EVRON'!$A$2:$C$226,3,FALSE) -> 1762.26 | N94: =SUM(L94:M94) -> 7957.54 | O94: =IF(M94=0*(OUN94=0),0,(L94/M94-1)) -> 2.5155312 | R94: =SUM(P94:Q94) -> 0 | S94: =IF(Q94=0*(OUR94=0),0,(P94/Q94-1)) -> 0 | T94: =P94+L94 -> 6195.28 | U94: =Q94+M94 -> 1762.26 | V94: =IF(U94=0*(OUT94=0),0,(T94/U94-1)) -> 2.5155312
A95: 02353700 | B95: FMARTEAU | C95: FLEURS ET PLANTES | D95: MARTEAU J. | E95: ROUTE DE RUILLÉ LE GRAVELAIS | F95: 0 | G95: 53330 | H95: LOIRON | I95: 02.43.02.12.33 | J95: 02.43.02.04.44 | K95: 0 | L95: =VLOOKUP(D95,'CAHT EVRON'!$A$2:$C$226,2,FALSE) -> 6110.13 | M95: =VLOOKUP(D95,'CAHT EVRON'!$A$2:$C$226,3,FALSE) -> 9098.48 | N95: =SUM(L95:M95) -> 15208.61 | O95: =IF(M95=0*(OUN95=0),0,(L95/M95-1)) -> -0.32844497 | R95: =SUM(P95:Q95) -> 0 | S95: =IF(Q95=0*(OUR95=0),0,(P95/Q95-1)) -> 0 | T95: =P95+L95 -> 6110.13 | U95: =Q95+M95 -> 9098.48 | V95: =IF(U95=0*(OUT95=0),0,(T95/U95-1)) -> -0.32844497
A96: 01050200 | B96: FSABLESIEN | C96: GRIGNOTAGES | D96: SABLESIENNE DE BISCUITERIE | E96: 1 AV JEAN MONNET | F96: ZA DE LA DENIÈRE | G96: 72300 | H96: SABLE SUR SARTHE | I96: 02.43.95.04.53 | J96: 02.43.92.27.55 | K96: 0 | N96: =SUM(L96:M96) -> 0 | O96: =IF(M96=0*(OUN96=0),0,(L96/M96-1)) -> 0 | P96: =VLOOKUP(D96,'CAHT SABLE'!$A$2:$C$182,2,FALSE) -> 5791.7 | Q96: =VLOOKUP(D96,'CAHT SABLE'!$A$2:$C$182,3,FALSE) -> 8574.09 | R96: =SUM(P96:Q96) -> 14365.79 | S96: =IF(Q96=0*(OUR96=0),0,(P96/Q96-1)) -> -0.32451141 | T96: =P96+L96 -> 5791.7 | U96: =Q96+M96 -> 8574.09 | V96: =IF(U96=0*(OUT96=0),0,(T96/U96-1)) -> -0.32451141
A97: 01050700 | B97: FLECLUBBIO | C97: SPECIFIQUES | D97: LE CLUB BIO | E97: 9 RUE DU LAITON | F97: ZI SECTEUR 5 | G97: 77176 | H97: SAVIGNY LE TEMPLE | I97: 01 80 815 010 | J97: 01 60 638 338 | K97: contact@le-club-bio.fr | L97: =VLOOKUP(D97,'CAHT EVRON'!$A$2:$C$226,2,FALSE) -> 1851.2 | M97: =VLOOKUP(D97,'CAHT EVRON'!$A$2:$C$226,3,FALSE) -> 4664.42 | N97: =SUM(L97:M97) -> 6515.62 | O97: =IF(M97=0*(OUN97=0),0,(L97/M97-1)) -> -0.60312322 | P97: =VLOOKUP(D97,'CAHT SABLE'!$A$2:$C$182,2,FALSE) -> 3855.45 | Q97: =VLOOKUP(D97,'CAHT SABLE'!$A$2:$C$182,3,FALSE) -> 7580.82 | R97: =SUM(P97:Q97) -> 11436.27 | S97: =IF(Q97=0*(OUR97=0),0,(P97/Q97-1)) -> -0.49142045 | T97: =P97+L97 -> 5706.65 | U97: =Q97+M97 -> 12245.24 | V97: =IF(U97=0*(OUT97=0),0,(T97/U97-1)) -> -0.53396993
A98: 03157100 | B98: FCYCLEUROP | C98: CYCLES | D98: CYCLEUROPE KA INTERNATIONAL | E98: 161 RUE GABRIEL PÉRI | F98: 0 | G98: 10100 | H98: ROMILLY SUR SEINE | I98: 03 25 39 38 58 | J98: 03 25 39 38 79 | K98: 0 | N98: =SUM(L98:M98) -> 0 | O98: =IF(M98=0*(OUN98=0),0,(L98/M98-1)) -> 0 | P98: =VLOOKUP(D98,'CAHT SABLE'!$A$2:$C$182,2,FALSE) -> 5677.65 | Q98: =VLOOKUP(D98,'CAHT SABLE'!$A$2:$C$182,3,FALSE) -> 6285.09 | R98: =SUM(P98:Q98) -> 11962.74 | S98: =IF(Q98=0*(OUR98=0),0,(P98/Q98-1)) -> -0.096647781 | T98: =P98+L98 -> 5677.65 | U98: =Q98+M98 -> 6285.09 | V98: =IF(U98=0*(OUT98=0),0,(T98/U98-1)) -> -0.096647781
A99: 02604800 | B99: FABATTOIRS | C99: BOUCH.ATELIER TRADT. | D99: ABATTOIRS DU PERCHE VENDOMOIS | E99: 51 AVENUE RONSARD | F99: BP 80206 | G99: 41103 | H99: VENDOMES CEDEX | I99: 02 54 77 30 94 | J99: 02 54 77 56 99 | K99: 0 | N99: =SUM(L99:M99) -> 0 | O99: =IF(M99=0*(OUN99=0),0,(L99/M99-1)) -> 0 | P99: =VLOOKUP(D99,'CAHT SABLE'!$A$2:$C$182,2,FALSE) -> 5626.02 | Q99: =VLOOKUP(D99,'CAHT SABLE'!$A$2:$C$182,3,FALSE) -> 8966.29 | R99: =SUM(P99:Q99) -> 14592.31 | S99: =IF(Q99=0*(OUR99=0),0,(P99/Q99-1)) -> -0.37253647 | T99: =P99+L99 -> 5626.02 | U99: =Q99+M99 -> 8966.29 | V99: =IF(U99=0*(OUT99=0),0,(T99/U99-1)) -> -0.37253647
A100: 06100000 | B100: FWOGEGAL | C100: GAZ | D100: WOGEGAL ANTARGAZ | E100: Z.I.DE SAINT FLORENT | F100: 205 RUE JEAN JAURES | G100: 79000 | H100: NIORT | I100: 05.49.73.46.46 | J100: 05.49.79.49.93 | K100: 0 | N100: =SUM(L100:M100) -> 0 | O100: =IF(M100=0*(OUN100=0),0,(L100/M100-1)) -> 0 | P100: =VLOOKUP(D100,'CAHT SABLE'!$A$2:$C$182,2,FALSE) -> 5614.96 | Q100: =VLOOKUP(D100,'CAHT SABLE'!$A$2:$C$182,3,FALSE) -> 11911.56 | R100: =SUM(P100:Q100) -> 17526.52 | S100: =IF(Q100=0*(OUR100=0),0,(P100/Q100-1)) -> -0.52861254 | T100: =P100+L100 -> 5614.96 | U100: =Q100+M100 -> 11911.56 | V100: =IF(U100=0*(OUT100=0),0,(T100/U100-1)) -> -0.52861254
...

Sheet CAHT EVRON
A1: Libellé | B1: CAHT du 01/03/12 au 30/09/12 | C1: CATTC N-1
A2: ABBAYE DE LA COUDRE | B2: 3618.49 | C2: 4205.99
A3: ACTIGAZ | B3: 5235.48 | C3: 11795.41
A4: ACTIV VIDEO SARL | B4: 46.07 | C4: 173.91
A5: ADVINI | B5: 1361.46
A6: AFL ANIMATIONS FETES LOISIRS | B6: 409.21
A7: AIM | B7: 48738.32 | C7: 118854.46
A8: ALBERT MENES | B8: 3026.91 | C8: 6777.28
A9: ALM TEXTILE | B9: 6484.45 | C9: 5886.13
A10: ANTARGAZ WOGEGAL | B10: 15333.32 | C10: 30382.79
A11: ARC | B11: 11084.79 | C11: 25838.01
A12: ARCADES | B12: 869.3 | C12: 1345.61
A13: ARMOR VEGETAL | B13: 3125.09
A14: ASMODEE | B14: 2646.15 | C14: 3495.52
A15: ATV | B15: 625.68 | C15: 812.72
A16: AVENIR TELECOM | B16: 7882.98 | C16: 21466.78
A17: BARRAULT | B17: 1322.4 | C17: 990.86
A18: BAUMALU | B18: -274.29 | C18: 1315.6
A19: BCG | B19: 429.41 | C19: 482.67
A20: BEL'OR | B20: 5026.92 | C20: 31152.5
A21: BIERE AND CO | B21: 4130.03 | C21: 3432.69
A22: BIOTHENTIC | B22: 4073.11 | C22: 7063.26
A23: BISCUITERIE DE L'ABBAYE | B23: 897.07 | C23: 969.51
A24: BISCUITERIE VITAL AINE | B24: 237.6
A25: BK FRANCE | B25: 92.96 | C25: 2651.92
A26: BONNEAU & FILS | B26: 83.6
A27: BRASSERIE LA SUZANNAISE | B27: 2042.88 | C27: 4486.73
A28: BRUNEAU JEAN CHARLES | B28: 91.2
A29: BUTAGAZ | B29: 26169.08 | C29: 55362.86
A30: C PROD | B30: 182.75 | C30: 142.29
A31: C2B PRESSE | B31: 106554.95 | C31: 159651.42
A32: CAFES RICHARD | B32: 4126.95 | C32: 4567.35
A33: CANCAVE | B33: 1152.8 | C33: 988.56
A34: CARTOTHEQUE | B34: 1215.8 | C34: 2170.85
A35: CASTEL FRERES | B35: 8546.43 | C35: 9340.03
A36: CCA PERIGORD LES BORIES DU PER | B36: 4472.57 | C36: 5556.86
A37: CCI | B37: 4554.74 | C37: 11379.62
A38: CGMP | B38: 381.54
A39: CHARCUTERIE SNG | B39: 7628.54 | C39: 2605.22
A40: CHARLES FARAUD | B40: 222.35
A41: CHD BOISSONS SERVICES | B41: 3232.14 | C41: 3061.96
A42: CHEMIN FRUITS ET LEGUMES | B42: 3672 | C42: 8641.27
A43: CHEVRERIE LA MERCERIE | B43: 1104.7 | C43: 1858.47
A44: CIDRES LA POMMERAIE | B44: 258.44
A45: COLINE DIFFUSION | B45: 3630.24
A46: COMFORT GROUP SARL | B46: 660.74 | C46: 754.1
A47: CORPO | B47: 1629.51 | C47: 3127.69
A48: CHARCUTERIE COSME | B48: 29548.75 | C48: 49362.88
A49: CREPERIE COLAS | B49: 3878.87
A50: CROISSANT | B50: 457.94
A51: CYCLEUROPE INDUSTRIES | B51: 3060.49 | C51: 6754.5
A52: DAMMANN | B52: 1970.68 | C52: 6327.29
A53: DC PRIMEURS | B53: 4687.88 | C53: 840.81
A54: DE BOREE | B54: 2337.3 | C54: 2621.88
A55: DECTRA PHARM | B55: 210.04
A56: DELSOL | B56: 11758.03 | C56: 10555.58
A57: DILISCO | B57: 301.89 | C57: 410.53
A58: DISTRAL | B58: 6780.56
A59: DISTRI SOLEIL | B59: 1527.49 | C59: 1801.37
A60: DNL DISTRIBUTION | B60: 32320.53 | C60: 39490.86
A61: DOMAINE BONFILS | B61: 1859.52 | C61: 9211.19
A62: DOREL | B62: 8.6
A63: DS RESTAURATION | B63: 11369.61 | C63: 16003.44
A64: DUVAL BOURNY EARL | B64: 2320.2 | C64: 317.18
A65: EARL LEBRIN | B65: 3351 | C65: 3194.75
A66: EARL MYTILIMER | B66: 911.85 | C66: 2970.67
A67: EAST WEST DISTRIBUTION | B67: 10008.63 | C67: 14481.62
A68: EDITIONS DU PETIT PAVE | B68: 477.72 | C68: 980
A69: EDITIONS LITO | B69: 2.66 | C69: 275.82
A70: EDITIONS OUEST FRANCE | B70: 49.61 | C70: 14.98
A71: EDITIONS RENE | B71: 6545.49 | C71: 9658.22
A72: EGEDIS | B72: 2361079 | C72: 3385387.6
A73: ELECTRO MENAGER SERVICE | B73: 1524.1 | C73: 3222.33
A74: ELEVAGE CHEVRES DU PISSOT | B74: 1105 | C74: 2201.5
... A82: FFRANDONNEE | B82: 264.25 | C82: 217
A83: FLEURS DE KERISNEL | B83: 5011.39
A84: FLEURS DE RETZ | B84: 5411.78 | C84: 3212.64
A85: FLORI OUEST | B85: 1208.65 | C85: 49566.39
A86: FLORIPLANTES | B86: 646.6 | C86: 444.79
A87: FORESTIERE DU NORD | B87: 917.28
A88: FOULQUES LE TOURNEURS | B88: 2457.37 | C88: 3757.9
A89: FOURMONT COEXPLOITATION | B89: 4973.05 | C89: 8444.94
A90: FRANCE BEBE NUTRITION | B90: 612.12
A91: FRANCE FOOD | B91: 8101.17 | C91: 6298.24
A92: FUJI FILM | B92: 19413.34 | C92: 43647.41
A93: GALETIERE | B93: 2471.35 | C93: 7005.65
A94: GALETTE DE BROONS | B94: 9751.6 | C94: 18366.16
A95: GANDON FLEURS | B95: 2635 | C95: 10092.14
A96: GAULTIER PHILIPPE | B96: 136.8
A97: GB BOISSELLERIE | B97: 352.34
A98: GEMEY - L'OREAL PRODUITS GRD P | B98: 15749.63 | C98: 29866.05
A99: GEORGES THIOL | B99: 583.13 | C99: 197.92
A100: GIOVANNI MARCO SARL | B100: 1789.29 | C100: 4285.56
A101: GLOBAL MEDIA SERVICES | B101: 2697.1 | C101: 2389.13
A102: GRANDS MOULINS DE PARIS BEAUMO | B102: 22007.82 | C102: 73547.2
A103: GYSEL | B103: 2211.73 | C103: 8013.91
A104: HACHETTE | B104: 31263.59 | C104: 44362.14
A105: HARMONY | B105: 9999.89 | C105: 13981.1
A106: HORTICASH | B106: 17293.31 | C106: 5693.26
A107: HYPER U MAYENNE | B107: -11.92 | C107: 527.2
...

Sheet CAHT SABLE
A1: Libellé | B1: CAHT du 01/03/12 au 30/09/12 | C1: CATTC N-1
A2: WONDERFUL BRANDS | B2: 2276.4
A3: WOGEGAL ANTARGAZ | B3: 5614.96 | C3: 11911.56
A4: WHITE BROWN | B4: 894.44 | C4: 2214.91
A5: VSB DISTRIBUTION | B5: 660.5
A6: VITAL | B6: 2586.55 | C6: -329.96
A7: VERGERS DES VAUX DU LOIR | B7: 371.34
A8: TURBOCAR | B8: -143.14 | C8: 929.17
A9: TOTAL GAZ | B9: 1999.6 | C9: 5031.83
A10: THEVENIN | B10: 2041.8 | C10: 1090.06
A11: TETENAL | B11: 2125.23
A12: TERROIR DE NOS PROVINCES | B12: 1541.22 | C12: 1769.62
A13: TEAM OUEST | B13: 19184.4 | C13: 18265.49
A14: TAILLEUX ARMELLE | B14: 692.09 | C14: 1361.68
A15: SOCOPA VIANDES | B15: 39117.4 | C15: 76537.15
A16: SOCOPA EVRON | B16: 42232.83 | C16: 70127.89
A17: SOCIETE LUDOISE DE DISTRIBUTIO | B17: 334.93 | C17: 1287.86
A18: SOCCEM | B18: 1220.1 | C18: 1603.41
A19: SITAP | B19: 2617.92 | C19: 27199.76
A20: SINERGY | B20: 2510975.5 | C20: 4213544.7
A21: SIF UNIS FRANCE | B21: -72 | C21: 1791.13
A22: SEVAULT PHILIPPE | B22: 592 | C22: 780.74
A23: SED | B23: 16244.33 | C23: 36765.3
... A25: SDO | B25: 48763.87 | C25: 112328.18
A26: SAVORMER | B26: 1641.17
A27: SARL TRADEO | B27: 3716.82
A28: SARL REVENIMUS | B28: 595.2 | C28: 722.21
A29: SALAISON POLETTE ET CIE | B29: 4390.83 | C29: 10935.72
A30: SABLESIENNE DE BISCUITERIE | B30: 5791.7 | C30: 8574.09
A31: ROXANE | B31: 22106.34 | C31: 38533.05
A32: RODRIGUES | B32: 682.64
A33: RILLETTES GORRONNAISES | B33: 343.29
A34: RICA LEWIS | B34: 3098.65
A35: RCO RADIO COMPTOIR DE L'OUEST | B35: 320.02 | C35: 1908.79
A36: R T | B36: 4348.52 | C36: 8367.91
A37: PUBLICATIONS GRAND PUBLIC | B37: 1392.93 | C37: 2261.78
A38: PRIMAGAZ | B38: 15689.96 | C38: 27146.75
A39: POSTE CONTACTS | B39: 3327.59 | C39: 8961.86
A40: POMONA TERRE AZUR | B40: 34400.7 | C40: 42311.79
A41: PLAYMOBIL | B41: 6797.07
A42: PIPELIER | B42: 1084.74
A43: PICCOLIA | B43: -292.57 | C43: 1884.65
A44: PHOX PSIP 3 CITES | B44: 709.36
A45: PERFECT LOISIRS | B45: 9901.21 | C45: 15450.7
A46: PEPINIERES DES PAYS DE LA LOIR | B46: 1190 | C46: 1639.47
A47: PEPINIERES A. COUTEAU | B47: 1006.07 | C47: 325.68
A48: PEPINIERE VAL ERDRE | B48: 3827.68 | C48: 3743.87
A49: PASSAT | B49: 9901.43
A50: PARTNERS CARD | B50: 163.8 | C50: 465.62
A51: PAGES VEDRENNE | B51: 384.59
A52: PACAPROD | B52: 933.67 | C52: 2208.3
A53: OXADIS | B53: 4849.06 | C53: 7336.66
A54: ORCA | B54: 3394.6 | C54: 5723.1
A55: OPM FRANCE | B55: 7364.52 | C55: 10590.11
A56: OASIS PLANTA SL | B56: 374 | C56: 2031.6
A57: NEDIS SARL | B57: 1008.42 | C57: 3939.83
A58: NATURE EN VIE | B58: 4138.34 | C58: 8334.64
A59: MUC 72 | B59: 904.96 | C59: 6089.2
A60: MOULIN DE LA VARENNE / EVELIA | B60: 221.6
A61: MOULIN DE FONTAINE | B61: 197.1 | C61: 580.98
A62: MONDIAL SPORT | B62: 2969.45
A63: MICHARD PAYS DE LOIRE | B63: 22548.23 | C63: 40696.08
A64: METRONIC | B64: -44.12 | C64: 1124.2
A65: MESSAGERIES MANCELLES | B65: 67216.46 | C65: 119894.42
A66: MENES ALBERT | B66: 2489.99 | C66: 2793.39
A67: MELODIE SUCREE SARL | B67: 1409.1 | C67: 2588.12
A68: MC CORMICK | B68: 14907.83 | C68: 13079.51
A69: MAREE POUR TOUS | B69: 5702.02 | C69: 10156.78
A70: MAISON DE SAVOIE | B70: 684.71
A71: M.G.M. | B71: 1211.55
A72: LOGICOM | B72: 860.18
A73: LNS | B73: 876.59
A74: LM DIFFUSION | B74: 3396.21 | C74: 13193.05
A75: LEA | C75: 2934.76
A76: LE MARIN VENDEEN | B76: 2570.22
A77: LE CUISINIER | B77: 693
A78: LE CLUB BIO | B78: 3855.45 | C78: 7580.82
A79: LCD LEGRAND CERBONNEY | B79: 9738.89 | C79: 22796.81
A80: LARDIER | B80: 2457.48 | C80: 1032.12
A81: LAIT BIO DU MAINE | B81: 1040.07 | C81: 2468.77
A82: LABORATOIRES JUVA SANTE | B82: 1274.72 | C82: 3363.2
A83: LABORATOIR VITARMONYL | B83: 2906.48 | C83: 3617.58
A84: LA GALETIERE | B84: 1654.39 | C84: 3521.33
A85: LA FERME DU GENNETAY | B85: 1385.74 | C85: 1991.51
A86: LA CANCALAISE | B86: 1104.39 | C86: 2098.19
A87: LA BOVIDA | B87: 2285.99 | C87: 4512.45
A88: L DISTRIBUTION | B88: 781.66 | C88: 3134.13
A89: KINDY | B89: 2373.07 | C89: 5387.58
... A97: HUITRE VENDEE ATLANTIQUE | B97: 80.8 | C97: 4310.03
A98: HECHTER STUDIO | B98: 881.89
A99: HARMONY | B99: 5418.06 | C99: 8311.26
A100: HACHETTE | B100: 11222.21 | C100: 11666.3
A101: GYSEL | B101: 1736.65 | C101: 2371.27
A102: GRANDS MOULINS | B102: 15491.82 | C102: 43674.41
A103: GP DISTRIBUTION | B103: 7137.29 | C103: 15644.29
A104: GOURAULT | B104: 18174.81 | C104: 139071.07
A105: GIOVANNI MARCO | B105: 778.63 | C105: 4546.58
A106: GERS EQUIPEMENT | B106: 313.2 | C106: 2638.46
A107: GEMEY | B107: 8984.95 | C107: 12502
A108: GAULTIER PHILIPPE | B108: 91.2
...

Sheet Code Analytiques
A1: Code | B1: Libelllé
A2: 01 | B2: ELDPH
A3: 01000000 | B3: ELDPH
A4: 0105 | B4: EPICERIE
A5: 01050000 | B5: EPICERIE
A6: 01050100 | B6: PETITS DEJEUNERS
A7: 01050105 | B7: PANIFICATION
A8: 01050110 | B8: CAFE TORREFIE/SOLUBLE
A9: 01050115 | B9: THES ET INFUSIONS
A10: 01050120 | B10: CEREALES ET POUDRES CHOCOLAT
A11: 01050125 | B11: CONFITURES/MIEL/P.A.TARTINER
A12: 01050200 | B12: GRIGNOTAGES
... A514: 99999999 | B514: ??????????????????????????????
