Workbook

Sheet Imputation
F2: Achats | I2: Entreposage MP | L2: Production | O2: Embouteillage | R2: Entreposage PF | U2: Livraison | X2: R et D | AA2: Ventes | AD2: Administration | AG2: Total (balance)
B3: Charge | C3: Montant Total | D3: Facteur d'imputation | F3: % | G3: Montant | I3: % | J3: Montant | L3: % | M3: Montant | O3: % | P3: Montant | R3: % | S3: Montant | U3: % | V3: Montant | X3: % | Y3: Montant | AA3: % | AB3: Montant | AD3: % | AE3: Montant | AG3: %
B5: Électricité | C5: 150000 | D5: Superficie Plancher | F5: 0.1 | G5: =F5*C5 -> 15000 | I5: 0.1 | J5: =I5*C5 -> 15000 | L5: 0.08 | M5: =L5*C5 -> 12000 | O5: 0.12 | P5: =O5*C5 -> 18000 | R5: 0.15 | S5: =R5*C5 -> 22500 | U5: 0.11 | V5: =U5*C5 -> 16500 | X5: 0.09 | Y5: =C5*X5 -> 13500 | AA5: 0.08 | AB5: =C5*AA5 -> 12000 | AD5: 0.17 | AE5: =AD5*C5 -> 25500 | AG5: =AD5+AA5+X5+U5+R5+O5+L5+I5+F5 -> 1
B6: Frais de formation | C6: 10000 | D6: Nombre d'employés | F6: 0.05 | G6: =F6*C6 -> 500 | I6: 0.05 | J6: =I6*C6 -> 500 | L6: 0.1 | M6: =L6*C6 -> 1000 | O6: 0.1 | P6: =O6*C6 -> 1000 | R6: 0.1 | S6: =R6*C6 -> 1000 | U6: 0.15 | V6: =U6*C6 -> 1500 | X6: 0.05 | Y6: =C6*X6 -> 500 | AA6: 0.25 | AB6: =C6*AA6 -> 2500 | AD6: 0.15 | AE6: =AD6*C6 -> 1500 | AG6: =AD6+AA6+X6+U6+R6+O6+L6+I6+F6 -> 1
B7: Entretien informatique | C7: 30000 | D7: Nbr équipement info | F7: 0.04 | G7: =F7*C7 -> 1200 | I7: 0.08 | J7: =I7*C7 -> 2400 | L7: 0.16 | M7: =L7*C7 -> 4800 | O7: 0 | P7: =O7*C7 -> 0 | R7: 0.08 | S7: =R7*C7 -> 2400 | U7: 0.08 | V7: =U7*C7 -> 2400 | X7: 0.08 | Y7: =C7*X7 -> 2400 | AA7: 0.24 | AB7: =C7*AA7 -> 7200 | AD7: 0.24 | AE7: =AD7*C7 -> 7200 | AG7: =AD7+AA7+X7+U7+R7+O7+L7+I7+F7 -> 1
B8: … | G8: =F8*C8 -> 0 | J8: =I8*C8 -> 0 | M8: =L8*C8 -> 0 | P8: =O8*C8 -> 0 | S8: =R8*C8 -> 0 | V8: =U8*C8 -> 0 | Y8: =C8*X8 -> 0 | AB8: =C8*AA8 -> 0 | AE8: =AD8*C8 -> 0 | AG8: =AD8+AA8+X8+U8+R8+O8+L8+I8+F8 -> 0
B9: … | G9: =F9*C9 -> 0 | J9: =I9*C9 -> 0 | M9: =L9*C9 -> 0 | P9: =O9*C9 -> 0 | S9: =R9*C9 -> 0 | V9: =U9*C9 -> 0 | Y9: =C9*X9 -> 0 | AB9: =C9*AA9 -> 0 | AE9: =AD9*C9 -> 0 | AG9: =AD9+AA9+X9+U9+R9+O9+L9+I9+F9 -> 0
B10: … | G10: =F10*C10 -> 0 | J10: =I10*C10 -> 0 | M10: =L10*C10 -> 0 | P10: =O10*C10 -> 0 | S10: =R10*C10 -> 0 | V10: =U10*C10 -> 0 | Y10: =C10*X10 -> 0 | AB10: =C10*AA10 -> 0 | AE10: =AD10*C10 -> 0 | AG10: =AD10+AA10+X10+U10+R10+O10+L10+I10+F10 -> 0
B11: … | G11: =F11*C11 -> 0 | J11: =I11*C11 -> 0 | M11: =L11*C11 -> 0 | P11: =O11*C11 -> 0 | S11: =R11*C11 -> 0 | V11: =U11*C11 -> 0 | Y11: =C11*X11 -> 0 | AB11: =C11*AA11 -> 0 | AE11: =AD11*C11 -> 0 | AG11: =AD11+AA11+X11+U11+R11+O11+L11+I11+F11 -> 0
B12: … | G12: =F12*C12 -> 0 | J12: =I12*C12 -> 0 | M12: =L12*C12 -> 0 | P12: =O12*C12 -> 0 | S12: =R12*C12 -> 0 | V12: =U12*C12 -> 0 | Y12: =C12*X12 -> 0 | AB12: =C12*AA12 -> 0 | AE12: =AD12*C12 -> 0 | AG12: =AD12+AA12+X12+U12+R12+O12+L12+I12+F12 -> 0
G13: =F13*C13 -> 0 | J13: =I13*C13 -> 0 | M13: =L13*C13 -> 0 | P13: =O13*C13 -> 0 | S13: =R13*C13 -> 0 | V13: =U13*C13 -> 0 | Y13: =C13*X13 -> 0 | AB13: =C13*AA13 -> 0 | AE13: =AD13*C13 -> 0 | AG13: =AD13+AA13+X13+U13+R13+O13+L13+I13+F13 -> 0
C14: =SUM(C5:C7) -> 190000 | D14: Total | F14: =G14/C14 -> 0.087894737 | G14: =SUM(G5:G13) -> 16700 | I14: =J14/C14 -> 0.094210526 | J14: =SUM(J5:J13) -> 17900 | L14: =M14/C14 -> 0.093684211 | M14: =SUM(M5:M13) -> 17800 | O14: =P14/C14 -> 0.1 | P14: =SUM(P5:P13) -> 19000 | R14: =S14/C14 -> 0.13631579 | S14: =SUM(S5:S13) -> 25900 | U14: =V14/C14 -> 0.10736842 | V14: =SUM(V5:V13) -> 20400 | X14: =Y14/C14 -> 0.086315789 | Y14: =SUM(Y5:Y13) -> 16400 | AA14: =AB14/C14 -> 0.11421053 | AB14: =SUM(AB5:AB13) -> 21700 | AD14: =AE14/C14 -> 0.18 | AE14: =SUM(AE5:AE13) -> 34200 | AG14: =AD14+AA14+X14+U14+R14+O14+L14+I14+F14 -> 1
B44: Superficie Plancher
B45: Nombre d'employés
B46: Nbr équipement info
B47: Autres

Sheet Achats
B2: ACHATS
B3: Charge | C3: Montant
B4: =Imputation!B5 -> Électricité | C4: =Imputation!G5 -> 15000
B5: =Imputation!B6 -> Frais de formation | C5: =Imputation!G6 -> 500
B6: =Imputation!B7 -> Entretien informatique | C6: =Imputation!G7 -> 1200
B7: =Imputation!B8 -> … | C7: =Imputation!G8 -> 0
B8: =Imputation!B9 -> … | C8: =Imputation!G9 -> 0
B9: =Imputation!B10 -> … | C9: =Imputation!G10 -> 0
B10: =Imputation!B11 -> … | C10: =Imputation!G11 -> 0
B11: =Imputation!B12 -> … | C11: =Imputation!G12 -> 0
B12: … | C12: =Imputation!G13 -> 0
B13: Total | C13: =Imputation!G14 -> 16700

Sheet Entreposage MP
B2: Entreposage MP
B3: Charge | C3: Montant
B4: =Imputation!B5 -> Électricité | C4: =Imputation!J5 -> 15000
B5: =Imputation!B6 -> Frais de formation | C5: =Imputation!J6 -> 500
B6: =Imputation!B7 -> Entretien informatique | C6: =Imputation!J7 -> 2400
B7: =Imputation!B8 -> … | C7: =Imputation!G8 -> 0
B8: =Imputation!B9 -> … | C8: =Imputation!G9 -> 0
B9: =Imputation!B10 -> … | C9: =Imputation!G10 -> 0
B10: =Imputation!B11 -> … | C10: =Imputation!G11 -> 0
B11: =Imputation!B12 -> … | C11: =Imputation!G12 -> 0
B12: … | C12: =Imputation!G13 -> 0
B13: Total | C13: =SUM(C4:C12) -> 17900

Sheet Production

Sheet Embouteillage

Sheet Entreposage PF

Sheet Livraison

Sheet R et D

Sheet Ventes

Sheet Administration
