Workbook
Name ColA: OFFSET('Graph 2'!$A$5,,,COUNT('Graph 2'!$A$1:$A$65536))
Name ColC: OFFSET(ColA,,2)
Name ColD: OFFSET(ColA,,3)
Name ColE: OFFSET(ColA,,4)
Name ColF: OFFSET(ColA,,5)
Name ColG: OFFSET(ColA,,6)

Sheet Feuil1
C2: 2018 | G2: 2019
C3: janv | D3: févr | E3: mars | F3: avr | G3: janv | H3: févr | I3: mars | J3: avr | M3: Graphique "CA MENSUEL" :
B4: CA MENSUEL | C4: 1368677.2 | D4: 903974.6 | E4: 1247820.1 | F4: 1603788.6 | G4: 1695331.9 | H4: 478173.15 | I4: 1611260.7 | J4: 1323787.9 | M4: Colorier les zones d'écarts mensuels avec 2 couleurs
B5: VARIATION | C5: - | D5: - | E5: - | F5: - | G5: =(G4-C4)/C4 -> 0.23866448 | H5: =(H4-D4)/D4 -> -0.47103254 | I5: =(I4-E4)/E4 -> 0.29126045 | J5: =(J4-F4)/F4 -> -0.17458702 | M5: Verte : si courbe 2019 > courbe 2018
C6: =G4-C4 -> 326654.64 | D6: =H4-D4 -> -425801.45 | E6: =I4-E4 -> 363440.64 | F6: =J4-F4 -> -280000.68 | M6: Rouge : si courbe 2018 > courbe 2019
M9: Graphique "VARIATION CA MENSUEL" :
M10: Colorier les zones d'écarts mesuels avec 2 couleurs
M11: Verte : si courbe > 0%
M12: Rouge : si courbe < 0%

Sheet Graph 1
B3: 2018 | C3: 2019
B4: CA MENSUEL | G4: VARIATION
A5: janv | B5: 1368677.2 | C5: 1695331.9 | D5: =C5-B5 -> 326654.64 | E5: =IF(D5>0,D5,NA()) -> 326654.64 | F5: =IF(D5<0,D5,NA()) -> #N/A | G5: - | H5: =(C5-B5)/B5 -> 0.23866448
A6: févr | B6: 903974.6 | C6: 478173.15 | D6: =C6-B6 -> -425801.45 | E6: =IF(D6>0,D6,NA()) -> #N/A | F6: =IF(D6<0,D6,NA()) -> -425801.45 | G6: - | H6: =(C6-B6)/B6 -> -0.47103254
A7: mars | B7: 1247820.1 | C7: 1611260.7 | D7: =C7-B7 -> 363440.64 | E7: =IF(D7>0,D7,NA()) -> 363440.64 | F7: =IF(D7<0,D7,NA()) -> #N/A | G7: - | H7: =(C7-B7)/B7 -> 0.29126045
A8: avr | B8: 1603788.6 | C8: 1323787.9 | D8: =C8-B8 -> -280000.68 | E8: =IF(D8>0,D8,NA()) -> #N/A | F8: =IF(D8<0,D8,NA()) -> -280000.68 | G8: - | H8: =(C8-B8)/B8 -> -0.17458702

Sheet Graph 2
A5: 1 | B5: ='Graph 1'!A5 -> janv | C5: ='Graph 1'!H5 -> 0.23866448 | D5: 0 | E5: =IF(C5>0,C5,NA()) -> 0.23866448 | F5: =IF(C5<0,C5,NA()) -> #N/A | G5: =IF(AND(C5>0,C6<0),TREND(A5:A6,C5:C6,0),NA()) -> 1.3362907 | H5: =IF(AND(C5<0,C6>0),TREND(A5:A6,C5:C6,0),NA()) -> #N/A | J5: {=LARGE(IF(ISNA(CHOOSE({1,2,3},$A$5:$A$8,$G$5:$G$8,$H$5:$H$8)),$A$5,CHOOSE({1,2,3},$A$5:$A$8,$G$5:$G$8,$H$5:$H$8)),ROW(1:1))} -> 4 | K5: =IF(ISNA(MATCH(J5,$A$5:$A$8,0)),IF(ISNA(MATCH(J5,$G$5:$G$8,0)),INDEX($D$5:$D$8,MATCH(J5,$H$5:$H$8,0)),INDEX($D$5:$D$8,MATCH(J5,$G$5:$G$8,0))),INDEX($E$5:$E$8,MATCH(J5,$A$5:$A$8,0))) -> #N/A | L5: =IF(ISNA(MATCH(J5,$A$5:$A$8,FALSE)),IF(ISNA(MATCH(J5,$G$5:$G$8,0)),INDEX($D$5:$D$8,MATCH(J5,$H$5:$H$8,0)),INDEX($D$5:$D$8,MATCH(J5,$G$5:$G$8,0))),INDEX($F$5:$F$8,MATCH(J5,$A$5:$A$8,0))) -> -0.17458702 | M5: 0
A6: 2 | B6: ='Graph 1'!A6 -> févr | C6: ='Graph 1'!H6 -> -0.47103254 | D6: 0 | E6: =IF(C6>0,C6,NA()) -> #N/A | F6: =IF(C6<0,C6,NA()) -> -0.47103254 | G6: =IF(AND(C6>0,C7<0),TREND(A6:A7,C6:C7,0),NA()) -> #N/A | H6: =IF(AND(C6<0,C7>0),TREND(A6:A7,C6:C7,0),NA()) -> 2.6179154 | J6: {=LARGE(IF(ISNA(CHOOSE({1,2,3},$A$5:$A$8,$G$5:$G$8,$H$5:$H$8)),$A$5,CHOOSE({1,2,3},$A$5:$A$8,$G$5:$G$8,$H$5:$H$8)),ROW(2:2))} -> 3.6252271 | K6: =IF(ISNA(MATCH(J6,$A$5:$A$8,0)),IF(ISNA(MATCH(J6,$G$5:$G$8,0)),INDEX($D$5:$D$8,MATCH(J6,$H$5:$H$8,0)),INDEX($D$5:$D$8,MATCH(J6,$G$5:$G$8,0))),INDEX($E$5:$E$8,MATCH(J6,$A$5:$A$8,0))) -> 0 | L6: =IF(ISNA(MATCH(J6,$A$5:$A$8,FALSE)),IF(ISNA(MATCH(J6,$G$5:$G$8,0)),INDEX($D$5:$D$8,MATCH(J6,$H$5:$H$8,0)),INDEX($D$5:$D$8,MATCH(J6,$G$5:$G$8,0))),INDEX($F$5:$F$8,MATCH(J6,$A$5:$A$8,0))) -> 0 | M6: 0
A7: 3 | B7: ='Graph 1'!A7 -> mars | C7: ='Graph 1'!H7 -> 0.29126045 | D7: 0 | E7: =IF(C7>0,C7,NA()) -> 0.29126045 | F7: =IF(C7<0,C7,NA()) -> #N/A | G7: =IF(AND(C7>0,C8<0),TREND(A7:A8,C7:C8,0),NA()) -> 3.6252271 | H7: =IF(AND(C7<0,C8>0),TREND(A7:A8,C7:C8,0),NA()) -> #N/A | J7: {=LARGE(IF(ISNA(CHOOSE({1,2,3},$A$5:$A$8,$G$5:$G$8,$H$5:$H$8)),$A$5,CHOOSE({1,2,3},$A$5:$A$8,$G$5:$G$8,$H$5:$H$8)),ROW(3:3))} -> 3 | K7: =IF(ISNA(MATCH(J7,$A$5:$A$8,0)),IF(ISNA(MATCH(J7,$G$5:$G$8,0)),INDEX($D$5:$D$8,MATCH(J7,$H$5:$H$8,0)),INDEX($D$5:$D$8,MATCH(J7,$G$5:$G$8,0))),INDEX($E$5:$E$8,MATCH(J7,$A$5:$A$8,0))) -> 0.29126045 | L7: =IF(ISNA(MATCH(J7,$A$5:$A$8,FALSE)),IF(ISNA(MATCH(J7,$G$5:$G$8,0)),INDEX($D$5:$D$8,MATCH(J7,$H$5:$H$8,0)),INDEX($D$5:$D$8,MATCH(J7,$G$5:$G$8,0))),INDEX($F$5:$F$8,MATCH(J7,$A$5:$A$8,0))) -> #N/A | M7: 0
A8: 4 | B8: ='Graph 1'!A8 -> avr | C8: ='Graph 1'!H8 -> -0.17458702 | D8: 0 | E8: =IF(C8>0,C8,NA()) -> #N/A | F8: =IF(C8<0,C8,NA()) -> -0.17458702 | G8: =IF(AND(C8>0,C9<0),TREND(A8:A9,C8:C9,0),NA()) -> #N/A | H8: =IF(AND(C8<0,C9>0),TREND(A8:A9,C8:C9,0),NA()) -> #N/A | J8: {=LARGE(IF(ISNA(CHOOSE({1,2,3},$A$5:$A$8,$G$5:$G$8,$H$5:$H$8)),$A$5,CHOOSE({1,2,3},$A$5:$A$8,$G$5:$G$8,$H$5:$H$8)),ROW(4:4))} -> 2.6179154 | K8: =IF(ISNA(MATCH(J8,$A$5:$A$8,0)),IF(ISNA(MATCH(J8,$G$5:$G$8,0)),INDEX($D$5:$D$8,MATCH(J8,$H$5:$H$8,0)),INDEX($D$5:$D$8,MATCH(J8,$G$5:$G$8,0))),INDEX($E$5:$E$8,MATCH(J8,$A$5:$A$8,0))) -> 0 | L8: =IF(ISNA(MATCH(J8,$A$5:$A$8,FALSE)),IF(ISNA(MATCH(J8,$G$5:$G$8,0)),INDEX($D$5:$D$8,MATCH(J8,$H$5:$H$8,0)),INDEX($D$5:$D$8,MATCH(J8,$G$5:$G$8,0))),INDEX($F$5:$F$8,MATCH(J8,$A$5:$A$8,0))) -> 0 | M8: 0
J9: {=LARGE(IF(ISNA(CHOOSE({1,2,3},$A$5:$A$8,$G$5:$G$8,$H$5:$H$8)),$A$5,CHOOSE({1,2,3},$A$5:$A$8,$G$5:$G$8,$H$5:$H$8)),ROW(5:5))} -> 2 | K9: =IF(ISNA(MATCH(J9,$A$5:$A$8,0)),IF(ISNA(MATCH(J9,$G$5:$G$8,0)),INDEX($D$5:$D$8,MATCH(J9,$H$5:$H$8,0)),INDEX($D$5:$D$8,MATCH(J9,$G$5:$G$8,0))),INDEX($E$5:$E$8,MATCH(J9,$A$5:$A$8,0))) -> #N/A | L9: =IF(ISNA(MATCH(J9,$A$5:$A$8,FALSE)),IF(ISNA(MATCH(J9,$G$5:$G$8,0)),INDEX($D$5:$D$8,MATCH(J9,$H$5:$H$8,0)),INDEX($D$5:$D$8,MATCH(J9,$G$5:$G$8,0))),INDEX($F$5:$F$8,MATCH(J9,$A$5:$A$8,0))) -> -0.47103254 | M9: 0
J10: {=LARGE(IF(ISNA(CHOOSE({1,2,3},$A$5:$A$8,$G$5:$G$8,$H$5:$H$8)),$A$5,CHOOSE({1,2,3},$A$5:$A$8,$G$5:$G$8,$H$5:$H$8)),ROW(6:6))} -> 1.3362907 | K10: =IF(ISNA(MATCH(J10,$A$5:$A$8,0)),IF(ISNA(MATCH(J10,$G$5:$G$8,0)),INDEX($D$5:$D$8,MATCH(J10,$H$5:$H$8,0)),INDEX($D$5:$D$8,MATCH(J10,$G$5:$G$8,0))),INDEX($E$5:$E$8,MATCH(J10,$A$5:$A$8,0))) -> 0 | L10: =IF(ISNA(MATCH(J10,$A$5:$A$8,FALSE)),IF(ISNA(MATCH(J10,$G$5:$G$8,0)),INDEX($D$5:$D$8,MATCH(J10,$H$5:$H$8,0)),INDEX($D$5:$D$8,MATCH(J10,$G$5:$G$8,0))),INDEX($F$5:$F$8,MATCH(J10,$A$5:$A$8,0))) -> 0 | M10: 0
J11: {=LARGE(IF(ISNA(CHOOSE({1,2,3},$A$5:$A$8,$G$5:$G$8,$H$5:$H$8)),$A$5,CHOOSE({1,2,3},$A$5:$A$8,$G$5:$G$8,$H$5:$H$8)),ROW(7:7))} -> 1 | K11: =IF(ISNA(MATCH(J11,$A$5:$A$8,0)),IF(ISNA(MATCH(J11,$G$5:$G$8,0)),INDEX($D$5:$D$8,MATCH(J11,$H$5:$H$8,0)),INDEX($D$5:$D$8,MATCH(J11,$G$5:$G$8,0))),INDEX($E$5:$E$8,MATCH(J11,$A$5:$A$8,0))) -> 0.23866448 | L11: =IF(ISNA(MATCH(J11,$A$5:$A$8,FALSE)),IF(ISNA(MATCH(J11,$G$5:$G$8,0)),INDEX($D$5:$D$8,MATCH(J11,$H$5:$H$8,0)),INDEX($D$5:$D$8,MATCH(J11,$G$5:$G$8,0))),INDEX($F$5:$F$8,MATCH(J11,$A$5:$A$8,0))) -> #N/A | M11: 0
