Workbook
Name categorie: OFFSET(SCC!$E$4,,,COUNT(SCC!$E:$E))
Name choix: OFFSET(SCC!$A$4,,,COUNT(SCC!$A:$A))
Name stand: OFFSET(choix,,1,,)
Name standard: OFFSET(choix,,2,,)
Name subC: OFFSET(SCC!$B$4,MATCH(CBS!$B1,SCC!$A$4:$A$210,0),,COUNTIF(SCC!$A$4:$A$210,CBS!$B1)-1)

Sheet CBS
K1: categorie | L1: =DECALER(SCC!$E$4;;;NB(SCC!$E:$E))
K2: choix | L2: =DECALER(SCC!$A$4;;;NB(SCC!$A:$A))
A3: PROJECT : XXXX -62-225 - | K3: stand | L3: =DECALER(choix;;1;;)
A4: Cost Breakdown Structure (CBS) | F4: Revision : | G4: AA | I4: Month, day, Year | K4: standard | L4: =DECALER(choix;;2;;)
A5: CBS CODE | F5: DESCRIPTION | K5: subC | L5: =DECALER(SCC!$B$4;EQUIV(CBS!$B5;SCC!$A$4:$A$210;0);;NB.SI(SCC!$A$4:$A$210;CBS!$B5)-1)
A6: CBS | B6: Categories | C6: Sub Categories | D6: Area | E6: Section | F6: Categories | G6: Sub Catégorie | H6: Area | I6: Section
A7: =CONCATENATE(B7,C7,D7,E7) -> 10.03 | B7: 10 | C7: .03 | F7: =IF(B7>0,VLOOKUP(B7,SCC!$E$3:$F$13,2,0),"-") -> GUIDEWAY & TRACK ELEMENTS (route miles) | G7: {=IF(OR(B7="",C7=""),"",INDEX(standard,MATCH(1,IF(choix=$B7,IF(stand=$C7,1)),0)))} -> Guideway: At-grade in mixed traffic | H7: General | I7: Insatllation de site | K7: =CONCATENATE(" ",F7," - ",G7," - ",H7," - ",I7) -> GUIDEWAY & TRACK ELEMENTS (route miles) - Guideway: At-grade in mixed traffic - General - Insatllation de site
A8: =CONCATENATE(B8,C8,D8,E8) -> 60.02 | B8: 60 | C8: .02 | F8: =IF(B8>0,VLOOKUP(B8,SCC!$E$3:$F$13,2,0),"-") -> ROW, LAND, EXISTING IMPROVEMENTS | G8: {=IF(OR(B8="",C8=""),"",INDEX(standard,MATCH(1,IF(choix=$B8,IF(stand=$C8,1)),0)))} -> Relocation of existing households and businesses | K8: =CONCATENATE(" ",F8," - ",G8," - ",H8," - ",I8) -> ROW, LAND, EXISTING IMPROVEMENTS - Relocation of existing households and businesses - -
A9: =CONCATENATE(B9,C9,D9,E9) -> 20.06 | B9: 20 | C9: .06 | F9: =IF(B9>0,VLOOKUP(B9,SCC!$E$3:$F$13,2,0),"-") -> STATIONS, STOPS, TERMINALS, INTERMODAL (number) | G9: {=IF(OR(B9="",C9=""),"",INDEX(standard,MATCH(1,IF(choix=$B9,IF(stand=$C9,1)),0)))} -> Automobile parking multi-story structure | K9: =CONCATENATE(" ",F9," - ",G9," - ",H9," - ",I9) -> STATIONS, STOPS, TERMINALS, INTERMODAL (number) - Automobile parking multi-story structure - -
A10: =CONCATENATE(B10,C10,D10,E10) | F10: =IF(B10>0,VLOOKUP(B10,SCC!$E$3:$F$13,2,0),"-") -> - | G10: {=IF(OR(B10="",C10=""),"",INDEX(standard,MATCH(1,IF(choix=$B10,IF(stand=$C10,1)),0)))} | K10: =CONCATENATE(" ",F10," - ",G10," - ",H10," - ",I10) -> - - - -
A11: =CONCATENATE(B11,C11,D11,E11) -> 40 | B11: 40 | F11: =IF(B11>0,VLOOKUP(B11,SCC!$E$3:$F$13,2,0),"-") -> SITEWORK & SPECIAL CONDITIONS | G11: {=IF(OR(B11="",C11=""),"",INDEX(standard,MATCH(1,IF(choix=$B11,IF(stand=$C11,1)),0)))} | K11: =CONCATENATE(" ",F11," - ",G11," - ",H11," - ",I11) -> SITEWORK & SPECIAL CONDITIONS - - -
A12: =CONCATENATE(B12,C12,D12,E12) -> 40 | B12: 40 | F12: =IF(B12>0,VLOOKUP(B12,SCC!$E$3:$F$13,2,0),"-") -> SITEWORK & SPECIAL CONDITIONS | G12: {=IF(OR(B12="",C12=""),"",INDEX(standard,MATCH(1,IF(choix=$B12,IF(stand=$C12,1)),0)))} | K12: =CONCATENATE(" ",F12," - ",G12," - ",H12," - ",I12) -> SITEWORK & SPECIAL CONDITIONS - - -
A13: =CONCATENATE(B13,C13,D13,E13) -> 40 | B13: 40 | F13: =IF(B13>0,VLOOKUP(B13,SCC!$E$3:$F$13,2,0),"-") -> SITEWORK & SPECIAL CONDITIONS | G13: {=IF(OR(B13="",C13=""),"",INDEX(standard,MATCH(1,IF(choix=$B13,IF(stand=$C13,1)),0)))} | K13: =CONCATENATE(" ",F13," - ",G13," - ",H13," - ",I13) -> SITEWORK & SPECIAL CONDITIONS - - -
A14: =CONCATENATE(B14,C14,D14,E14) -> 40 | B14: 40 | F14: =IF(B14>0,VLOOKUP(B14,SCC!$E$3:$F$13,2,0),"-") -> SITEWORK & SPECIAL CONDITIONS | G14: {=IF(OR(B14="",C14=""),"",INDEX(standard,MATCH(1,IF(choix=$B14,IF(stand=$C14,1)),0)))} | K14: =CONCATENATE(" ",F14," - ",G14," - ",H14," - ",I14) -> SITEWORK & SPECIAL CONDITIONS - - -
A15: =CONCATENATE(B15,C15,D15,E15) -> 40 | B15: 40 | F15: =IF(B15>0,VLOOKUP(B15,SCC!$E$3:$F$13,2,0),"-") -> SITEWORK & SPECIAL CONDITIONS | G15: {=IF(OR(B15="",C15=""),"",INDEX(standard,MATCH(1,IF(choix=$B15,IF(stand=$C15,1)),0)))} | K15: =CONCATENATE(" ",F15," - ",G15," - ",H15," - ",I15) -> SITEWORK & SPECIAL CONDITIONS - - -
A16: =CONCATENATE(B16,C16,D16,E16) -> 40 | B16: 40 | F16: =IF(B16>0,VLOOKUP(B16,SCC!$E$3:$F$13,2,0),"-") -> SITEWORK & SPECIAL CONDITIONS | G16: {=IF(OR(B16="",C16=""),"",INDEX(standard,MATCH(1,IF(choix=$B16,IF(stand=$C16,1)),0)))} | K16: =CONCATENATE(" ",F16," - ",G16," - ",H16," - ",I16) -> SITEWORK & SPECIAL CONDITIONS - - -
A17: =CONCATENATE(B17,C17,D17,E17) -> 40 | B17: 40 | F17: =IF(B17>0,VLOOKUP(B17,SCC!$E$3:$F$13,2,0),"-") -> SITEWORK & SPECIAL CONDITIONS | G17: {=IF(OR(B17="",C17=""),"",INDEX(standard,MATCH(1,IF(choix=$B17,IF(stand=$C17,1)),0)))} | K17: =CONCATENATE(" ",F17," - ",G17," - ",H17," - ",I17) -> SITEWORK & SPECIAL CONDITIONS - - -
A18: =CONCATENATE(B18,C18,D18,E18) -> 40 | B18: 40 | F18: =IF(B18>0,VLOOKUP(B18,SCC!$E$3:$F$13,2,0),"-") -> SITEWORK & SPECIAL CONDITIONS | G18: {=IF(OR(B18="",C18=""),"",INDEX(standard,MATCH(1,IF(choix=$B18,IF(stand=$C18,1)),0)))} | K18: =CONCATENATE(" ",F18," - ",G18," - ",H18," - ",I18) -> SITEWORK & SPECIAL CONDITIONS - - -
A19: =CONCATENATE(B19,C19,D19,E19) -> 40 | B19: 40 | F19: =IF(B19>0,VLOOKUP(B19,SCC!$E$3:$F$13,2,0),"-") -> SITEWORK & SPECIAL CONDITIONS | G19: {=IF(OR(B19="",C19=""),"",INDEX(standard,MATCH(1,IF(choix=$B19,IF(stand=$C19,1)),0)))} | K19: =CONCATENATE(" ",F19," - ",G19," - ",H19," - ",I19) -> SITEWORK & SPECIAL CONDITIONS - - -
A20: =CONCATENATE(B20,C20,D20,E20) -> 40 | B20: 40 | F20: =IF(B20>0,VLOOKUP(B20,SCC!$E$3:$F$13,2,0),"-") -> SITEWORK & SPECIAL CONDITIONS | G20: {=IF(OR(B20="",C20=""),"",INDEX(standard,MATCH(1,IF(choix=$B20,IF(stand=$C20,1)),0)))} | K20: =CONCATENATE(" ",F20," - ",G20," - ",H20," - ",I20) -> SITEWORK & SPECIAL CONDITIONS - - -
A21: =CONCATENATE(B21,C21,D21,E21) -> 40 | B21: 40 | F21: =IF(B21>0,VLOOKUP(B21,SCC!$E$3:$F$13,2,0),"-") -> SITEWORK & SPECIAL CONDITIONS | G21: {=IF(OR(B21="",C21=""),"",INDEX(standard,MATCH(1,IF(choix=$B21,IF(stand=$C21,1)),0)))} | K21: =CONCATENATE(" ",F21," - ",G21," - ",H21," - ",I21) -> SITEWORK & SPECIAL CONDITIONS - - -
A22: =CONCATENATE(B22,C22,D22,E22) -> 40 | B22: 40 | F22: =IF(B22>0,VLOOKUP(B22,SCC!$E$3:$F$13,2,0),"-") -> SITEWORK & SPECIAL CONDITIONS | G22: {=IF(OR(B22="",C22=""),"",INDEX(standard,MATCH(1,IF(choix=$B22,IF(stand=$C22,1)),0)))} | K22: =CONCATENATE(" ",F22," - ",G22," - ",H22," - ",I22) -> SITEWORK & SPECIAL CONDITIONS - - -
... A163: =CONCATENATE(B163,C163,D163,E163) -> 40 | B163: 40 | F163: =IF(B163>0,VLOOKUP(B163,SCC!$E$3:$F$13,2,0),"-") -> SITEWORK & SPECIAL CONDITIONS | G163: {=IF(OR(B163="",C163=""),"",INDEX(standard,MATCH(1,IF(choix=$B163,IF(stand=$C163,1)),0)))} | K163: =CONCATENATE(" ",F163," - ",G163," - ",H163," - ",I163) -> SITEWORK & SPECIAL CONDITIONS - - -

Sheet SCC
A2: Categories | B2: Sub Categories | C2: Standard Cost Categories for New Starts Projects (Rev.17, June, 2015) | E2: Categories | F2: Standard Cost Categories for New Starts Projects (Rev.17, June, 2015)
F3: -
A4: 10 | C4: GUIDEWAY & TRACK ELEMENTS (route miles) | E4: 10 | F4: GUIDEWAY & TRACK ELEMENTS (route miles)
A5: 10 | B5: .01 | C5: Guideway: At-grade exclusive right-of-way | E5: 20 | F5: STATIONS, STOPS, TERMINALS, INTERMODAL (number)
A6: 10 | B6: .02 | C6: Guideway: At-grade semi-exclusive (allows cross-traffic) | E6: 30 | F6: SUPPORT FACILITIES: YARDS, SHOPS, ADMIN. BLDGS
A7: 10 | B7: .03 | C7: Guideway: At-grade in mixed traffic | E7: 40 | F7: SITEWORK & SPECIAL CONDITIONS
A8: 10 | B8: .04 | C8: Guideway: Aerial structure | E8: 50 | F8: SYSTEMS
A9: 10 | B9: .05 | C9: Guideway: Built-up fill | E9: 60 | F9: ROW, LAND, EXISTING IMPROVEMENTS
A10: 10 | B10: .06 | C10: Guideway: Underground cut & cover | E10: 70 | F10: VEHICLES (number)
A11: 10 | B11: .07 | C11: Guideway: Underground tunnel | E11: 80 | F11: PROFESSIONAL SERVICES (applies to Cats. 10-50)
A12: 10 | B12: .08 | C12: Guideway: Retained cut or fill | E12: 90 | F12: UNALLOCATED CONTINGENCY
A13: 10 | B13: .09 | C13: Track: Direct fixation | E13: 100 | F13: FINANCE CHARGES
A14: 10 | B14: .10 | C14: Track: Embedded
A15: 10 | B15: .11 | C15: Track: Ballasted | F15: 20
A16: 10 | B16: .12 | C16: Track: Special (switches, turnouts)
A17: 10 | B17: .13 | C17: Track: Vibration and noise dampening
A18: 20 | C18: STATIONS, STOPS, TERMINALS, INTERMODAL (number)
A19: 20 | B19: .01 | C19: At-grade station, stop, shelter, mall, terminal, platform
A20: 20 | B20: .02 | C20: Aerial station, stop, shelter, mall, terminal, platform
A21: 20 | B21: .03 | C21: Underground station, stop, shelter, mall, terminal, platform
A22: 20 | B22: .04 | C22: Other stations, landings, terminals: Intermodal, ferry, trolley, etc.
A23: 20 | B23: .05 | C23: Joint development
A24: 20 | B24: .06 | C24: Automobile parking multi-story structure
A25: 20 | B25: .07 | C25: Elevators, escalators
A26: 30 | C26: SUPPORT FACILITIES: YARDS, SHOPS, ADMIN. BLDGS
A27: 30 | B27: .01 | C27: Administration Building: Office, sales, storage, revenue counting
A28: 30 | B28: .02 | C28: Light Maintenance Facility
A29: 30 | B29: .03 | C29: Heavy Maintenance Facility
A30: 30 | B30: .04 | C30: Storage or Maintenance of Way Building
A31: 30 | B31: .05 | C31: Yard and Yard Track
A32: 40 | C32: SITEWORK & SPECIAL CONDITIONS
A33: 40 | B33: .01 | C33: Demolition, Clearing, Earthwork
A34: 40 | B34: .02 | C34: Site Utilities, Utility Relocation
A35: 40 | B35: .03 | C35: Haz. mat'l, contam'd soil removal/mitigation, ground water treatments
A36: 40 | B36: .04 | C36: Environmental mitigation, e.g. wetlands, historic/archeologic, parks
A37: 40 | B37: .05 | C37: Site structures including retaining walls, sound walls
A38: 40 | B38: .06 | C38: Pedestrian / bike access and accommodation, landscaping
A39: 40 | B39: .07 | C39: Automobile, bus, van accessways including roads, parking lots
A40: 40 | B40: .08 | C40: Temporary Facilities and other indirect costs during construction
A41: 50 | C41: SYSTEMS
...
