Workbook

Sheet AVRIL
A1: EXPOSANT | B1: DATE | C1: TOTAL | D1: CHEQUE | E1: ESPECE | F1: TOTAL CB | G1: CB | H1: FRAIS CB | I1: TOTAL NET
A2: Adélaïde | B2: 43567 | C2: 25 | F2: 25 | G2: 24.56 | H2: 0.44 | I2: 24.56
B3: 43570 | C3: 14 | E3: 14 | I3: 14
B4: 43572 | C4: 13 | F4: 13 | G4: 12.77 | H4: 0.23 | I4: 12.77
B5: 43575 | C5: 14 | F5: 14 | G5: 13.76 | H5: 0.24 | I5: 13.76
B6: 43576 | C6: 49 | E6: 49 | I6: 49
B7: 43580 | C7: 24 | E7: 24 | I7: 24
A8: Total Adélaïde | C8: 139 | E8: 87 | F8: 52 | G8: 51.09 | H8: 0.91 | I8: 138.09
A9: Agnès | B9: 43569 | C9: 30 | F9: 30 | G9: 29.48 | H9: 0.52 | I9: 29.48
B10: 43572 | C10: 25 | E10: 25 | I10: 25
B11: 43574 | C11: 10 | E11: 10 | I11: 10
B12: 43575 | C12: 30 | F12: 30 | G12: 29.48 | H12: 0.52 | I12: 29.48
B13: 43577 | C13: 21 | E13: 21 | I13: 21
B14: 43581 | C14: 5 | E14: 5 | I14: 5
A15: Total Agnès | C15: 121 | E15: 61 | F15: 60 | G15: 58.96 | H15: 1.04 | I15: 119.96
A16: Aurélien | B16: 43569 | C16: 15 | F16: 15 | G16: 14.74 | H16: 0.26 | I16: 14.74
B17: 43570 | C17: 25 | E17: 10 | F17: 15 | G17: 14.74 | H17: 0.26 | I17: 24.74
B18: 43571 | C18: 12 | F18: 12 | G18: 11.79 | H18: 0.21 | I18: 11.79
B19: 43572 | C19: 20 | F19: 20 | G19: 19.65 | H19: 0.35 | I19: 19.65
B20: 43573 | C20: 48 | E20: 14 | F20: 34 | G20: 33.4 | H20: 0.6 | I20: 33.4
B21: 43574 | C21: 26 | F21: 26 | G21: 25.54 | H21: 0.46 | I21: 25.54
B22: 43576 | C22: 22 | E22: 22 | I22: 22
B23: 43577 | C23: 89 | E23: 15 | F23: 74 | G23: 72.7 | H23: 1.3 | I23: 87.7
B24: 43578 | C24: 25 | F24: 25 | G24: 24.56 | H24: 0.44 | I24: 24.56
B25: 43581 | C25: 33 | E25: 18 | F25: 15 | G25: 14.74 | H25: 0.26 | I25: 32.74
B26: 43584 | C26: 61 | E26: 61 | I26: 61
A27: Total Aurélien | C27: 376 | E27: 140 | F27: 236 | G27: 231.86 | H27: 4.14 | I27: 357.86
A28: Cécile | B28: 43572 | C28: 130 | F28: 130 | G28: 127.72 | H28: 2.28 | I28: 127.72
A29: Total Cécile | C29: 130 | F29: 130 | G29: 127.72 | H29: 2.28 | I29: 127.72
A30: Eve | B30: 43567 | C30: 12 | F30: 12 | G30: 11.79 | H30: 0.21 | I30: 11.79
B31: 43568 | C31: 36 | E31: 36 | I31: 36
B32: 43569 | C32: 38 | F32: 38 | G32: 37.34 | H32: 0.66 | I32: 37.34
B33: 43571 | C33: 14 | E33: 14 | I33: 14
B34: 43576 | C34: 132 | D34: 32 | E34: 32 | F34: 68 | G34: 66.8 | H34: 1.2 | I34: 130.8
B35: 43582 | C35: 24 | E35: 24 | I35: 24
B36: 43584 | C36: 22 | E36: 22 | I36: 22
A37: Total Eve | C37: 278 | D37: 32 | E37: 128 | F37: 118 | G37: 115.93 | H37: 2.07 | I37: 275.93
A38: Kourgane | B38: 43577 | C38: 24 | F38: 24 | G38: 23.58 | H38: 0.42 | I38: 23.58
B39: 43581 | C39: 55 | E39: 35 | F39: 20 | G39: 19.65 | H39: 0.35 | I39: 54.65
B40: 43582 | C40: 70 | D40: 70 | I40: 70
B41: 43583 | C41: 25 | F41: 25 | G41: 24.56 | H41: 0.44 | I41: 24.56
B42: 43584 | C42: 45 | E42: 45 | I42: 45
A43: Total Kourgane | C43: 219 | D43: 70 | E43: 80 | F43: 69 | G43: 67.79 | H43: 1.21 | I43: 217.79
A44: Lise | B44: 43567 | C44: 16 | F44: 16 | G44: 15.72 | H44: 0.28 | I44: 15.72
B45: 43568 | C45: 41 | D45: 20 | E45: 21 | I45: 41
B46: 43569 | C46: 45 | E46: 40 | F46: 5 | G46: 4.91 | H46: 0.09 | I46: 44.91
B47: 43570 | C47: 5 | F47: 5 | G47: 4.91 | H47: 0.09 | I47: 4.91
B48: 43571 | C48: 7 | E48: 7 | I48: 7
B49: 43572 | C49: 2 | E49: 2 | I49: 2
B50: 43574 | C50: 16 | E50: 16 | I50: 16
B51: 43575 | C51: 15 | E51: 15 | I51: 15
B52: 43576 | C52: 86 | E52: 81 | F52: 5 | G52: 4.91 | H52: 0.09 | I52: 85.91
B53: 43577 | C53: 68 | E53: 43 | F53: 25 | G53: 24.56 | H53: 0.44 | I53: 67.56
B54: 43578 | C54: 10 | E54: 10 | I54: 10
B55: 43579 | C55: 7 | E55: 7 | I55: 7
B56: 43580 | C56: 12 | E56: 12 | I56: 12
B57: 43581 | C57: 17 | E57: 5 | F57: 12 | G57: 11.79 | H57: 0.21 | I57: 16.79
B58: 43582 | C58: 5 | D58: 5 | I58: 5
B59: 43583 | C59: 6 | E59: 6 | I59: 6
B60: 43584 | C60: 15 | E60: 15 | I60: 15
A61: Total Lise | C61: 373 | D61: 25 | E61: 280 | F61: 68 | G61: 66.8 | H61: 1.2 | I61: 371.8
A62: Nicole | B62: 43567 | C62: 38 | F62: 38 | G62: 37.34 | H62: 0.66 | I62: 37.34
B63: 43569 | C63: 112 | E63: 110 | I63: 110
B64: 43571 | C64: 34 | E64: 34 | I64: 34
B65: 43577 | C65: 28 | F65: 28 | G65: 27.51 | H65: 0.49 | I65: 27.51
B66: 43579 | C66: 22 | E66: 22 | I66: 22
B67: 43583 | C67: 22 | F67: 22 | G67: 21.62 | H67: 0.38 | I67: 21.62
B68: 43585 | C68: 24 | F68: 24 | G68: 23.58 | H68: 0.42 | I68: 23.58
A69: Total Nicole | C69: 280 | E69: 168 | F69: 112 | G69: 110.05 | H69: 1.95 | I69: 276.05
A70: Roselyne | B70: 43567 | C70: 15 | E70: 15 | I70: 15
B71: 43568 | C71: 51 | D71: 22 | F71: 29 | G71: 28.49 | H71: 0.51 | I71: 50.49
B72: 43569 | C72: 35 | E72: 35 | I72: 35
B73: 43570 | C73: 26 | E73: 26 | I73: 26
B74: 43575 | C74: 13 | F74: 13 | G74: 12.77 | H74: 0.23 | I74: 12.77
B75: 43577 | C75: 10 | E75: 10 | I75: 10
B76: 43578 | C76: 4 | E76: 4 | I76: 4
B77: 43579 | C77: 13 | E77: 13 | I77: 13
B78: 43582 | C78: 30 | F78: 30 | G78: 29.48 | H78: 0.52 | I78: 29.48
B79: 43583 | C79: 46 | E79: 10 | F79: 36 | G79: 35.37 | H79: 0.63 | I79: 45.37
B80: 43584 | C80: 16 | E80: 16 | I80: 16
A81: Total Roselyne | C81: 259 | D81: 22 | E81: 129 | F81: 108 | G81: 106.11 | H81: 1.89 | I81: 257.11
A82: Valentin | B82: 43568 | C82: 140 | F82: 140 | G82: 137.55 | H82: 2.45 | I82: 137.55
B83: 43569 | C83: 90 | F83: 90 | G83: 88.42 | H83: 1.58 | I83: 88.42
B84: 43570 | C84: 120 | F84: 120 | G84: 117.9 | H84: 2.1 | I84: 117.9
B85: 43585 | C85: 70 | F85: 70 | G85: 68.78 | H85: 1.22 | I85: 68.78
A86: Total Valentin | C86: 420 | F86: 420 | G86: 412.65 | H86: 7.35 | I86: 412.65
A87: Véronique | B87: 43568 | C87: 245 | F87: 245 | G87: 240.71 | H87: 4.29 | I87: 240.71
B88: 43569 | C88: 12.5 | F88: 12.5 | G88: 12.28 | H88: 0.22 | I88: 12.28
B89: 43572 | C89: 12.5 | E89: 12.5 | I89: 12.5
B90: 43573 | C90: 12 | E90: 12
B91: 43575 | C91: 10 | E91: 10 | I91: 10
B92: 43576 | C92: 12 | E92: 12 | I92: 12
B93: 43577 | C93: 20 | E93: 20 | I93: 20
B94: 43578 | C94: 16.5 | E94: 16.5 | I94: 16.5
B95: 43581 | C95: 12 | F95: 12 | G95: 11.79 | H95: 0.21 | I95: 11.79
B96: 43582 | C96: 100 | D96: 40 | F96: 60 | G96: 58.96 | H96: 1.04 | I96: 98.96
B97: 43583 | C97: 50 | E97: 50 | I97: 50
A98: Total Véronique | C98: 502.5 | D98: 40 | E98: 133 | F98: 329.5 | G98: 323.74 | H98: 5.76 | I98: 484.74
A99: Virginie | B99: 43568 | C99: 14 | E99: 14 | I99: 14
B100: 43569 | C100: 17 | E100: 17 | I100: 17
...

Sheet MAI
A1: EXPOSANT | B1: DATE | C1: TOTAL | D1: CHEQUE | E1: ESPECE | F1: TOTAL CB | G1: CB | H1: FRAIS CB | I1: TOTAL NET
A2: Adélaïde | B2: 43586 | C2: 16 | E2: 16 | I2: 16
B3: 43587 | C3: 22 | F3: 22 | G3: 21.62 | H3: 0.38 | I3: 21.62
B4: 43597 | C4: 104 | E4: 82 | F4: 22 | G4: 21.62 | H4: 0.38 | I4: 103.62
B5: 43604 | C5: 35 | D5: 35 | I5: 35
B6: 43606 | C6: 27 | E6: 27 | I6: 27
B7: 43609 | C7: 45 | E7: 45 | I7: 45
B8: 43610 | C8: 8 | E8: 8 | I8: 8
B9: 43614 | C9: 14 | E9: 14 | I9: 14
B10: 43615 | C10: 21 | E10: 21 | I10: 21
A11: Total Adélaïde | C11: 292 | D11: 35 | E11: 213 | F11: 44 | G11: 43.24 | H11: 0.76 | I11: 291.24
A12: Agnès | B12: 43586 | C12: 23 | F12: 23 | G12: 22.59 | H12: 0.41 | I12: 22.59
B13: 43588 | C13: 5 | F13: 5 | G13: 4.91 | H13: 0.09 | I13: 4.91
B14: 43595 | C14: 25 | E14: 25 | I14: 25
B15: 43596 | C15: 30 | E15: 30 | I15: 30
B16: 43598 | C16: 15 | F16: 15 | G16: 14.74 | H16: 0.26 | I16: 14.74
B17: 43599 | C17: 25 | E17: 25 | I17: 25
B18: 43600 | C18: 100 | F18: 100 | G18: 98.24 | H18: 1.76 | I18: 98.24
B19: 43602 | C19: 10 | E19: 10 | I19: 10
B20: 43604 | C20: 30 | E20: 30 | I20: 30
B21: 43605 | C21: 5 | E21: 5 | I21: 5
B22: 43606 | C22: 5 | E22: 5 | I22: 5
B23: 43607 | C23: 15 | F23: 15 | G23: 14.74 | H23: 0.26 | I23: 14.74
B24: 43613 | C24: 72 | F24: 72 | G24: 70.74 | H24: 1.26 | I24: 70.74
B25: 43615 | C25: 21 | E25: 21 | I25: 21
B26: 43616 | C26: 15 | E26: 5 | F26: 10 | G26: 9.82 | H26: 0.18 | I26: 14.82
A27: Total Agnès | C27: 396 | E27: 156 | F27: 240 | G27: 235.78 | H27: 4.22 | I27: 391.78
A28: Aurélien | B28: 43586 | C28: 69 | F28: 69 | G28: 67.8 | H28: 1.2 | I28: 67.8
B29: 43588 | C29: 49 | E29: 24 | F29: 25 | G29: 24.56 | H29: 0.44 | I29: 48.56
B30: 43590 | C30: 73 | E30: 23 | F30: 50 | G30: 49.12 | H30: 0.88 | I30: 72.12
B31: 43594 | C31: 11 | E31: 11 | I31: 11
B32: 43597 | C32: 13 | D32: 13 | I32: 13
B33: 43598 | C33: 45 | F33: 45 | G33: 44.21 | H33: 0.79 | I33: 44.21
B34: 43602 | C34: 6 | E34: 6 | I34: 6
B35: 43606 | C35: 48 | F35: 48 | G35: 47.16 | H35: 0.84 | I35: 47.16
B36: 43601 | C36: 13 | E36: 13 | I36: 13
B37: 43607 | C37: 12 | E37: 12 | I37: 12
B38: 43608 | C38: 16 | E38: 16 | I38: 16
B39: 43609 | C39: 15 | E39: 15 | I39: 15
B40: 43612 | C40: 24 | D40: 24 | I40: 24
B41: 43613 | C41: 14 | E41: 14 | I41: 14
B42: 43614 | C42: 14 | F42: 14 | G42: 13.76 | H42: 0.24 | I42: 13.76
B43: 43615 | C43: 15 | E43: 15 | I43: 15
A44: Total Aurélien | C44: 437 | D44: 37 | E44: 149 | F44: 251 | G44: 246.61 | H44: 4.39 | I44: 432.61
A45: Eve | B45: 43586 | C45: 50 | E45: 50 | I45: 50
B46: 43589 | C46: 35 | E46: 35 | I46: 35
B47: 43598 | C47: 48 | E47: 48 | I47: 48
B48: 43613 | C48: 40 | F48: 40 | G48: 39.3 | H48: 0.7 | I48: 39.3
B49: 43615 | C49: 94 | E49: 94 | I49: 94
A50: Total Eve | C50: 267 | E50: 227 | F50: 40 | G50: 39.3 | H50: 0.7 | I50: 266.3
A51: Kourgane | B51: 43587 | C51: 115 | D51: 70 | F51: 45 | G51: 44.21 | H51: 0.79 | I51: 114.21
B52: 43588 | C52: 82 | F52: 82 | G52: 80.57 | H52: 1.43 | I52: 80.57
B53: 43590 | C53: 240 | E53: 55 | F53: 185 | G53: 181.77 | H53: 3.23 | I53: 236.77
B54: 43596 | C54: 127 | E54: 22 | F54: 105 | G54: 103.16 | H54: 1.84 | I54: 125.16
B55: 43597 | C55: 100 | D55: 100 | I55: 100
B56: 43604 | C56: 88 | E56: 39 | F56: 49 | G56: 48.14 | H56: 0.86 | I56: 87.14
B57: 43608 | C57: 78 | E57: 19 | F57: 59 | G57: 57.97 | H57: 1.03 | I57: 76.97
B58: 43609 | C58: 125 | E58: 125 | I58: 125
B59: 43610 | C59: 47 | D59: 47 | I59: 47
B60: 43611 | C60: 40 | D60: 40 | I60: 40
B61: 43612 | C61: 140 | F61: 140 | G61: 137.56 | H61: 2.44 | I61: 137.56
B62: 43613 | C62: 39 | D62: 39 | I62: 39
B63: 43614 | C63: 30 | F63: 30 | G63: 29.48 | H63: 0.52 | I63: 29.48
B64: 43615 | C64: 45 | F64: 45 | G64: 44.21 | H64: 0.79 | I64: 44.21
B65: 43616 | C65: 30 | F65: 30 | G65: 29.48 | H65: 0.52 | I65: 29.48
A66: Total Kourgane | C66: 1326 | D66: 296 | E66: 260 | F66: 770 | G66: 756.55 | H66: 13.45 | I66: 1312.55
A67: Lise | B67: 43586 | C67: 10 | F67: 10 | G67: 9.82 | H67: 0.18 | I67: 9.82
B68: 43587 | C68: 3 | D68: 3 | I68: 3
B69: 43588 | C69: 33 | D69: 25 | E69: 8 | I69: 33
B70: 43590 | C70: 10 | D70: 5 | E70: 5 | I70: 10
B71: 43593 | C71: 18 | E71: 18 | I71: 18
B72: 43594 | C72: 63 | F72: 63 | G72: 61.89 | H72: 1.11 | I72: 61.89
B73: 43595 | C73: 15 | E73: 15 | I73: 15
B74: 43596 | C74: 5 | D74: 5 | I74: 5
B75: 43597 | C75: 35 | E75: 35 | I75: 35
B76: 43598 | C76: 10 | E76: 10 | I76: 10
B77: 43599 | C77: 5 | E77: 5 | I77: 5
B78: 43600 | C78: 5 | E78: 5 | I78: 5
B79: 43602 | C79: 5 | E79: 5 | I79: 5
B80: 43603 | C80: 30 | F80: 30 | G80: 29.48 | H80: 0.52 | I80: 29.48
B81: 43604 | C81: 32 | E81: 27 | F81: 5 | G81: 4.91 | H81: 0.09 | I81: 31.91
B82: 43607 | C82: 30 | F82: 30 | G82: 29.48 | H82: 0.52 | I82: 29.48
B83: 43609 | C83: 7 | E83: 7 | I83: 7
B84: 43610 | C84: 35 | E84: 35 | I84: 35
B85: 43611 | C85: 25 | E85: 25 | I85: 25
B86: 43612 | C86: 10 | E86: 10 | I86: 10
B87: 43615 | C87: 109 | E87: 10 | F87: 99 | G87: 97.28 | H87: 1.72 | I87: 107.28
B88: 43616 | C88: 42 | E88: 32 | F88: 10 | G88: 9.82 | H88: 0.18 | I88: 41.82
A89: Total Lise | C89: 537 | D89: 38 | E89: 252 | F89: 247 | G89: 242.68 | H89: 4.32 | I89: 532.68
A90: Mathy | B90: 43592 | C90: 12 | E90: 12 | I90: 12
B91: 43604 | C91: 12 | E91: 12 | I91: 12
B92: 43608 | C92: 26 | E92: 26 | I92: 26
B93: 43611 | C93: 14 | F93: 14 | G93: 13.76 | H93: 0.24 | I93: 13.76
B94: 43612 | C94: 38 | E94: 12 | F94: 26 | G94: 25.55 | H94: 0.45 | I94: 37.55
B95: 43613 | C95: 12 | F95: 12 | G95: 11.79 | H95: 0.21 | I95: 11.79
B96: 43614 | C96: 14 | F96: 14 | G96: 13.76 | H96: 0.24 | I96: 13.76
B97: 43615 | C97: 12 | F97: 12 | G97: 11.79 | H97: 0.21 | I97: 11.79
A98: Total Mathy | C98: 140 | E98: 62 | F98: 78 | G98: 76.65 | H98: 1.35 | I98: 138.65
A99: Nicole | B99: 43590 | C99: 32 | E99: 32 | I99: 32
B100: 43596 | C100: 44 | E100: 44 | I100: 44
...

Sheet JUIN
A1: EXPOSANT | B1: DATE | C1: TOTAL | D1: CHEQUE | E1: ESPECE | F1: TOTAL CB | G1: CB | H1: FRAIS CB | I1: TOTAL NET
A2: Adélaïde | B2: 43623 | C2: 18 | D2: 18 | I2: 18
B3: 43626 | C3: 32 | F3: 32 | G3: 31.44 | H3: 0.56 | I3: 31.44
B4: 43627 | C4: 47 | E4: 47 | I4: 47
B5: 43641 | C5: 11 | E5: 11 | I5: 11
A6: Total Adélaïde | C6: 108 | D6: 18 | E6: 58 | F6: 32 | G6: 31.44 | H6: 0.56 | I6: 107.44
A7: Agnès | B7: 43622 | C7: 89 | E7: 59 | F7: 30 | G7: 29.48 | H7: 0.52 | I7: 88.48
B8: 43632 | C8: 33 | E8: 33 | I8: 33
B9: 43641 | C9: 5 | F9: 5 | G9: 4.91 | H9: 0.09 | I9: 4.91
B10: 43646 | C10: 500 | F10: 500 | G10: 491.25 | H10: 8.75 | I10: 491.25
A11: Total Agnès | C11: 627 | E11: 92 | F11: 535 | G11: 525.64 | H11: 9.36 | I11: 617.64
A12: Aurélien | B12: 43618 | C12: 111 | E12: 111 | I12: 111
B13: 43619 | C13: 86 | E13: 86 | I13: 86
B14: 43620 | C14: 15 | F14: 15 | G14: 14.74 | H14: 0.26 | I14: 14.74
B15: 43621 | C15: 16 | F15: 16 | G15: 15.72 | H15: 0.28 | I15: 15.72
B16: 43623 | C16: 60 | D16: 14 | F16: 46 | G16: 45.2 | H16: 0.8 | I16: 59.2
B17: 43625 | C17: 61 | E17: 47 | F17: 14 | G17: 13.76 | H17: 0.24 | I17: 60.76
B18: 43626 | C18: 22 | F18: 22 | G18: 21.62 | H18: 0.38 | I18: 21.62
B19: 43627 | C19: 50 | E19: 26 | F19: 24 | G19: 23.58 | H19: 0.42 | I19: 49.58
B20: 43631 | C20: 100 | D20: 18 | E20: 66 | F20: 16 | G20: 15.72 | H20: 0.28 | I20: 99.72
B21: 43633 | C21: 24 | F21: 24 | G21: 23.58 | H21: 0.42 | I21: 23.58
B22: 43634 | C22: 10 | F22: 10 | G22: 9.82 | H22: 0.18 | I22: 9.82
B23: 43635 | C23: 34 | F23: 34 | G23: 33.41 | H23: 0.59 | I23: 33.41
B24: 43636 | C24: 39 | E24: 39 | I24: 39
B25: 43638 | C25: 16 | E25: 16 | I25: 16
B26: 43640 | C26: 12 | E26: 12 | I26: 12
B27: 43642 | C27: 131 | E27: 36 | F27: 95 | G27: 93.33 | H27: 1.67 | I27: 129.33
B28: 43643 | C28: 10 | E28: 10 | I28: 10
B29: 43644 | C29: 89 | E29: 89 | I29: 89
B30: 43646 | C30: 34 | E30: 34 | I30: 34
A31: Total Aurélien | C31: 920 | D31: 32 | E31: 572 | F31: 316 | G31: 310.48 | H31: 5.52 | I31: 914.48
A32: Cécile | B32: 43631 | C32: 25 | F32: 25 | G32: 24.56 | H32: 0.44 | I32: 24.56
A33: Total Cécile | C33: 25 | F33: 25 | G33: 24.56 | H33: 0.44 | I33: 24.56
A34: Eve | B34: 43617 | C34: 60 | F34: 60 | G34: 58.96 | H34: 1.04 | I34: 58.96
B35: 43627 | C35: 74 | F35: 74 | G35: 72.71 | H35: 1.29 | I35: 72.71
B36: 43630 | C36: 85 | F36: 85 | G36: 83.51 | H36: 1.49 | I36: 83.51
B37: 43636 | C37: 50 | E37: 50 | I37: 50
B38: 43637 | C38: 70 | E38: 70 | I38: 70
B39: 43638 | C39: 56 | E39: 28 | F39: 28 | G39: 27.51 | H39: 0.49 | I39: 55.51
B40: 43641 | C40: 28 | F40: 28 | G40: 27.51 | H40: 0.49 | I40: 27.51
B41: 43643 | C41: 50 | F41: 50 | G41: 49.12 | H41: 0.88 | I41: 49.12
B42: 43645 | C42: 59 | F42: 59 | G42: 57.97 | H42: 1.03 | I42: 57.97
A43: Total Eve | C43: 532 | E43: 148 | F43: 384 | G43: 377.29 | H43: 6.71 | I43: 525.29
A44: Kourgane | B44: 43618 | C44: 30 | F44: 30 | G44: 29.48 | H44: 0.52 | I44: 29.48
B45: 43625 | C45: 26 | F45: 26 | G45: 25.54 | H45: 0.46 | I45: 25.54
B46: 43627 | C46: 52 | E46: 52 | I46: 52
B47: 43629 | C47: 65 | E47: 25 | F47: 40 | G47: 39.3 | H47: 0.7 | I47: 64.3
B48: 43632 | C48: 40 | F48: 40 | G48: 39.3 | H48: 0.7 | I48: 39.3
B49: 43634 | C49: 50 | D49: 50 | I49: 50
B50: 43635 | C50: 65 | E50: 25 | F50: 40 | G50: 39.3 | H50: 0.7 | I50: 64.3
B51: 43643 | C51: 100 | F51: 100 | G51: 98.25 | H51: 1.75 | I51: 98.25
B52: 43644 | C52: 35 | F52: 35 | G52: 34.39 | H52: 0.61 | I52: 34.39
B53: 43645 | C53: 30 | F53: 30 | G53: 29.48 | H53: 0.52 | I53: 29.48
B54: 43646 | C54: 60 | E54: 30 | F54: 30 | G54: 29.48 | H54: 0.52 | I54: 59.48
A55: Total Kourgane | C55: 553 | D55: 50 | E55: 132 | F55: 371 | G55: 364.52 | H55: 6.48 | I55: 546.52
A56: Lise | B56: 43617 | C56: 50 | E56: 20 | F56: 30 | G56: 29.48 | H56: 0.52 | I56: 49.48
B57: 43618 | C57: 23 | D57: 18 | E57: 5 | I57: 23
B58: 43619 | C58: 20 | F58: 20 | G58: 19.65 | H58: 0.35 | I58: 19.65
B59: 43620 | C59: 6 | F59: 6 | G59: 5.9 | H59: 0.1 | I59: 5.9
B60: 43624 | C60: 30 | E60: 25 | F60: 5 | G60: 4.91 | H60: 0.09 | I60: 29.91
B61: 43625 | C61: 39 | E61: 39 | I61: 39
B62: 43627 | C62: 12 | E62: 5 | F62: 7 | G62: 6.88 | H62: 0.12 | I62: 11.88
B63: 43628 | C63: 3 | E63: 3 | I63: 3
B64: 43629 | C64: 12 | F64: 12 | G64: 11.79 | H64: 0.21 | I64: 11.79
B65: 43630 | C65: 6 | F65: 6 | G65: 5.9 | H65: 0.1 | I65: 5.9
B66: 43631 | C66: 15 | E66: 15 | I66: 15
B67: 43632 | C67: 43 | D67: 14 | E67: 29 | I67: 43
B68: 43633 | C68: 9 | F68: 9 | G68: 8.84 | H68: 0.16 | I68: 8.84
B69: 43634 | C69: 50 | D69: 45 | E69: 5 | I69: 50
B70: 43635 | C70: 50 | E70: 30 | F70: 20 | G70: 19.65 | H70: 0.35 | I70: 49.65
B71: 43636 | C71: 5 | E71: 5 | I71: 5
B72: 43639 | C72: 20 | F72: 20 | G72: 19.65 | H72: 0.35 | I72: 19.65
B73: 43640 | C73: 17 | E73: 12 | F73: 5 | G73: 4.91 | H73: 0.09 | I73: 16.91
B74: 43642 | C74: 7 | E74: 7 | I74: 7
B75: 43645 | C75: 35 | F75: 35 | G75: 34.39 | H75: 0.61 | I75: 34.39
A76: Total Lise | C76: 452 | D76: 77 | E76: 200 | F76: 175 | G76: 171.95 | H76: 3.05 | I76: 448.95
A77: Mathy | B77: 43623 | C77: 14 | D77: 14 | I77: 14
B78: 43624 | C78: 26 | F78: 26 | G78: 25.55 | H78: 0.45 | I78: 25.55
B79: 43632 | C79: 26 | E79: 26 | I79: 26
B80: 43634 | C80: 14 | E80: 14 | I80: 14
B81: 43637 | C81: 40 | E81: 40 | I81: 40
B82: 43638 | C82: 2 | E82: 2 | I82: 2
B83: 43641 | C83: 26 | F83: 26 | G83: 25.55 | H83: 0.45 | I83: 25.55
B84: 43644 | C84: 14 | F84: 14 | G84: 13.76 | H84: 0.24 | I84: 13.76
A85: Total Mathy | C85: 162 | D85: 14 | E85: 82 | F85: 66 | G85: 64.86 | H85: 1.14 | I85: 160.86
A86: Nicole | B86: 43617 | C86: 26 | E86: 26 | I86: 26
B87: 43618 | C87: 78 | F87: 78 | G87: 76.63 | H87: 1.37 | I87: 76.63
B88: 43620 | C88: 18 | F88: 18 | G88: 17.68 | H88: 0.32 | I88: 17.68
B89: 43622 | C89: 88 | E89: 28 | F89: 60 | G89: 58.95 | H89: 1.05 | I89: 86.95
B90: 43623 | C90: 52 | E90: 52 | I90: 52
B91: 43625 | C91: 25 | F91: 25 | G91: 24.56 | H91: 0.44 | I91: 24.56
B92: 43627 | C92: 26 | F92: 26 | G92: 25.54 | H92: 0.46 | I92: 25.54
B93: 43628 | C93: 24 | F93: 24 | G93: 23.58 | H93: 0.42 | I93: 23.58
B94: 43629 | C94: 52 | F94: 52 | G94: 51.09 | H94: 0.91 | I94: 51.09
B95: 43630 | C95: 84 | F95: 84 | G95: 82.53 | H95: 1.47 | I95: 82.53
B96: 43632 | C96: 20 | E96: 20 | I96: 20
B97: 43635 | C97: 30 | F97: 30 | G97: 29.47 | H97: 0.53 | I97: 29.47
B98: 43640 | C98: 62 | E98: 62 | I98: 62
B99: 43644 | C99: 50 | D99: 32 | E99: 18 | I99: 50
A100: Total Nicole | C100: 635 | D100: 32 | E100: 206 | F100: 397 | G100: 390.03 | H100: 6.97 | I100: 628.03
...

Sheet JUILLET
A1: EXPOSANT | B1: DATE | C1: TOTAL | D1: CHEQUE | E1: ESPECE | F1: TOTAL CB | G1: CB | H1: FRAIS CB | I1: TOTAL NET
A2: Adélaïde | B2: 43663 | C2: 40 | E2: 40 | I2: 40
B3: 43664 | C3: 47 | F3: 47 | G3: 46.18 | H3: 0.82 | I3: 46.18
A4: Total Adélaïde | C4: 87 | E4: 40 | F4: 47 | G4: 46.18 | H4: 0.82 | I4: 86.18
A5: Agnès | B5: 43648 | C5: 5 | E5: 5 | I5: 5
B6: 43649 | C6: 30 | F6: 30 | G6: 29.48 | H6: 0.52 | I6: 29.48
B7: 43652 | C7: 5 | F7: 5 | G7: 4.91 | H7: 0.09 | I7: 4.91
B8: 43653 | C8: 18 | F8: 18 | G8: 17.68 | H8: 0.32 | I8: 17.68
B9: 43655 | C9: 24 | E9: 24 | I9: 24
B10: 43656 | C10: 85 | E10: 50 | F10: 35 | G10: 34.39 | H10: 0.61 | I10: 84.39
B11: 43658 | C11: 15 | F11: 15 | G11: 14.74 | H11: 0.26 | I11: 14.74
B12: 43660 | C12: 5 | F12: 5 | G12: 4.91 | H12: 0.09 | I12: 4.91
B13: 43663 | C13: 59 | E13: 5 | F13: 54 | G13: 53.06 | H13: 0.94 | I13: 58.06
B14: 43665 | C14: 5 | F14: 5 | G14: 4.91 | H14: 0.09 | I14: 4.91
B15: 43666 | C15: 10 | F15: 10 | G15: 9.82 | H15: 0.18 | I15: 9.82
B16: 43671 | C16: 30 | F16: 30 | G16: 29.47 | H16: 0.53 | I16: 29.47
B17: 43673 | C17: 5 | E17: 5 | I17: 5
A18: Total Agnès | C18: 296 | E18: 89 | F18: 207 | G18: 203.37 | H18: 3.63 | I18: 292.37
A19: Aurélien | B19: 43649 | C19: 22 | F19: 22 | G19: 21.62 | H19: 0.38 | I19: 21.62
B20: 43651 | C20: 100 | F20: 100 | G20: 98.25 | H20: 1.75 | I20: 98.25
B21: 43652 | C21: 25 | F21: 25 | G21: 24.56 | H21: 0.44 | I21: 24.56
B22: 43653 | C22: 61 | E22: 29 | F22: 32 | G22: 31.44 | H22: 0.56 | I22: 60.44
B23: 43655 | C23: 25 | E23: 25 | I23: 25
B24: 43660 | C24: 12 | E24: 12 | I24: 12
B25: 43662 | C25: 77 | F25: 77 | G25: 75.65 | H25: 1.35 | I25: 75.65
B26: 43663 | C26: 35 | F26: 35 | G26: 34.39 | H26: 0.61 | I26: 34.39
B27: 43664 | C27: 14 | E27: 14 | I27: 14
B28: 43665 | C28: 79 | E28: 31 | F28: 48 | G28: 47.16 | H28: 0.84 | I28: 78.16
B29: 43667 | C29: 23 | D29: 12 | E29: 11 | I29: 23
B30: 43668 | C30: 12 | F30: 12 | G30: 11.79 | H30: 0.21 | I30: 11.79
B31: 43669 | C31: 14 | E31: 14 | I31: 14
B32: 43671 | C32: 55 | F32: 55 | G32: 54.04 | H32: 0.96 | I32: 54.04
B33: 43672 | C33: 135 | F33: 135 | G33: 132.64 | H33: 2.36 | I33: 132.64
B34: 43674 | C34: 14 | F34: 14 | G34: 13.76 | H34: 0.24 | I34: 13.76
B35: 43675 | C35: 54 | E35: 6 | F35: 48 | G35: 47.16 | H35: 0.84 | I35: 53.16
B36: 43677 | C36: 16 | E36: 16 | I36: 16
A37: Total Aurélien | C37: 773 | D37: 12 | E37: 158 | F37: 603 | G37: 592.46 | H37: 10.54 | I37: 762.46
A38: Cécile | B38: 43648 | C38: 25 | E38: 25 | I38: 25
B39: 43677 | C39: 120 | F39: 120 | G39: 117.9 | H39: 2.1 | I39: 117.9
A40: Total Cécile | C40: 145 | E40: 25 | F40: 120 | G40: 117.9 | H40: 2.1 | I40: 142.9
A41: Eve | B41: 43647 | C41: 124 | E41: 124 | I41: 124
B42: 43649 | C42: 26 | F42: 26 | G42: 25.54 | H42: 0.46 | I42: 25.54
B43: 43650 | C43: 26 | F43: 26 | G43: 25.54 | H43: 0.46 | I43: 25.54
B44: 43656 | C44: 26 | E44: 26 | I44: 26
B45: 43660 | C45: 24 | E45: 24 | I45: 24
B46: 43663 | C46: 86 | E46: 60 | F46: 26 | G46: 25.54 | H46: 0.46 | I46: 85.54
B47: 43664 | C47: 38 | E47: 38 | I47: 38
B48: 43666 | C48: 34 | F48: 34 | G48: 33.4 | H48: 0.6 | I48: 33.4
B49: 43667 | C49: 32 | E49: 32 | I49: 32
B50: 43671 | C50: 30 | F50: 30 | G50: 29.48 | H50: 0.52 | I50: 29.48
A51: Total Eve | C51: 446 | E51: 304 | F51: 142 | G51: 139.5 | H51: 2.5 | I51: 443.5
A52: Kourgane | B52: 43650 | C52: 25 | F52: 25 | G52: 24.56 | H52: 0.44 | I52: 24.56
B53: 43651 | C53: 40 | F53: 40 | G53: 39.3 | H53: 0.7 | I53: 39.3
B54: 43657 | C54: 30 | F54: 30 | G54: 29.48 | H54: 0.52 | I54: 29.48
B55: 43659 | C55: 30 | E55: 30 | I55: 30
B56: 43661 | C56: 19 | E56: 19 | I56: 19
B57: 43662 | C57: 97 | F57: 97 | G57: 95.31 | H57: 1.69 | I57: 95.31
B58: 43666 | C58: 80 | E58: 40 | F58: 40 | G58: 39.3 | H58: 0.7 | I58: 79.3
B59: 43667 | C59: 40 | D59: 40 | I59: 40
B60: 43672 | C60: 79 | F60: 79 | G60: 77.61 | H60: 1.39 | I60: 77.61
B61: 43675 | C61: 30 | F61: 30 | G61: 29.48 | H61: 0.52 | I61: 29.48
B62: 43676 | C62: 122 | D62: 92 | F62: 30 | G62: 29.48 | H62: 0.52 | I62: 121.48
A63: Total Kourgane | C63: 592 | D63: 132 | E63: 89 | F63: 371 | G63: 364.52 | H63: 6.48 | I63: 585.52
A64: Lise | B64: 43649 | C64: 7 | F64: 7 | G64: 6.88 | H64: 0.12 | I64: 6.88
B65: 43650 | C65: 7 | E65: 7 | I65: 7
B66: 43652 | C66: 12 | E66: 12 | I66: 12
B67: 43653 | C67: 92 | E67: 52 | F67: 40 | G67: 39.3 | H67: 0.7 | I67: 91.3
B68: 43654 | C68: 5 | E68: 5 | I68: 5
B69: 43655 | C69: 3 | E69: 3 | I69: 3
B70: 43656 | C70: 12 | E70: 12 | I70: 12
B71: 43657 | C71: 15 | F71: 15 | G71: 14.74 | H71: 0.26 | I71: 14.74
B72: 43658 | C72: 15 | E72: 15 | I72: 15
B73: 43660 | C73: 15 | E73: 10 | F73: 5 | G73: 4.91 | H73: 0.09 | I73: 14.91
B74: 43661 | C74: 50 | E74: 20 | F74: 30 | G74: 29.48 | H74: 0.52 | I74: 49.48
B75: 43663 | C75: 66 | E75: 21 | F75: 45 | G75: 44.21 | H75: 0.79 | I75: 65.21
B76: 43664 | C76: 20 | F76: 20 | G76: 19.65 | H76: 0.35 | I76: 19.65
B77: 43666 | C77: 7 | E77: 7 | I77: 7
B78: 43667 | C78: 7 | E78: 7 | I78: 7
B79: 43669 | C79: 19 | E79: 7 | F79: 12 | G79: 11.79 | H79: 0.21 | I79: 18.79
B80: 43670 | C80: 5 | F80: 5 | G80: 4.91 | H80: 0.09 | I80: 4.91
B81: 43672 | C81: 20 | F81: 20 | G81: 19.64 | H81: 0.36 | I81: 19.64
B82: 43673 | C82: 16 | E82: 16 | I82: 16
B83: 43674 | C83: 26 | F83: 26 | G83: 25.55 | H83: 0.45 | I83: 25.55
B84: 43675 | C84: 73 | E84: 25 | F84: 48 | G84: 47.16 | H84: 0.84 | I84: 72.16
B85: 43676 | C85: 34 | E85: 27 | F85: 7 | G85: 6.88 | H85: 0.12 | I85: 33.88
B86: 43677 | C86: 38 | E86: 31 | F86: 7 | G86: 6.88 | H86: 0.12 | I86: 37.88
A87: Total Lise | C87: 564 | E87: 277 | F87: 287 | G87: 281.98 | H87: 5.02 | I87: 558.98
A88: Mathy | B88: 43652 | C88: 26 | E88: 26 | I88: 26
B89: 43661 | C89: 14 | E89: 14 | I89: 14
B90: 43663 | C90: 14 | E90: 14 | I90: 14
B91: 43666 | C91: 14 | F91: 14 | G91: 13.76 | H91: 0.24 | I91: 13.76
B92: 43674 | C92: 14 | F92: 14 | G92: 13.76 | H92: 0.24 | I92: 13.76
B93: 43676 | C93: 14 | F93: 14 | G93: 13.76 | H93: 0.24 | I93: 13.76
A94: Total Mathy | C94: 96 | E94: 54 | F94: 42 | G94: 41.28 | H94: 0.72 | I94: 95.28
A95: Nicole | B95: 43649 | C95: 26 | F95: 26 | G95: 25.54 | H95: 0.46 | I95: 25.54
B96: 43652 | C96: 86 | E96: 52 | F96: 34 | G96: 33.4 | H96: 0.6 | I96: 85.4
B97: 43653 | C97: 46 | E97: 18 | F97: 28 | G97: 27.51 | H97: 0.49 | I97: 45.51
B98: 43655 | C98: 40 | F98: 40 | G98: 39.3 | H98: 0.7 | I98: 39.3
B99: 43657 | C99: 26 | F99: 26 | G99: 25.54 | H99: 0.46 | I99: 25.54
B100: 43658 | C100: 18 | F100: 18 | G100: 17.68 | H100: 0.32 | I100: 17.68
...

Sheet 04
A1: DATES | B1: Adélaïde | C1: Agnès | D1: Aurélien | E1: Cécile | F1: Eve | G1: Kourgane | H1: Lise | I1: Nicole | J1: Roselyne | K1: Valentin | L1: Véronique | M1: Virginie | N1: TOTAL | O1: VISITEURS
A2: 43567 | B2: 25 | F2: 12 | H2: 16 | I2: 38 | J2: 15 | N2: =SUM(B2:M2) -> 106 | O2: 74
A3: 43568 | F3: 36 | H3: 41 | J3: 51 | K3: 140 | L3: 245 | M3: 14 | N3: =SUM(B3:M3) -> 527 | O3: 88
A4: 43569 | C4: 30 | D4: 15 | F4: 38 | H4: 45 | I4: 112 | J4: 35 | K4: 90 | L4: 12.5 | M4: 17 | N4: =SUM(B4:M4) -> 394.5 | O4: 240
A5: 43570 | B5: 14 | D5: 25 | F5: 0 | H5: 5 | J5: 26 | K5: 120 | M5: 30 | N5: =SUM(B5:M5) -> 220 | O5: 81
A6: 43571 | D6: 12 | F6: 14 | H6: 7 | I6: 34 | M6: 19 | N6: =SUM(B6:M6) -> 86 | O6: 36
A7: 43572 | B7: 13 | C7: 25 | D7: 20 | E7: 130 | F7: 0 | H7: 2 | L7: 12.5 | M7: 0 | N7: =SUM(B7:M7) -> 202.5 | O7: 58
A8: 43573 | D8: 48 | L8: 12 | M8: 34 | N8: =SUM(B8:M8) -> 94 | O8: 33
A9: 43574 | C9: 10 | D9: 26 | H9: 16 | N9: =SUM(B9:M9) -> 52 | O9: 32
A10: 43575 | B10: 14 | C10: 30 | H10: 15 | J10: 13 | L10: 10 | M10: 118 | N10: =SUM(B10:M10) -> 200 | O10: 87
A11: 43576 | B11: 49 | D11: 22 | F11: 132 | H11: 86 | L11: 12 | M11: 64 | N11: =SUM(B11:M11) -> 365 | O11: 231
A12: 43577 | C12: 21 | D12: 89 | G12: 24 | H12: 68 | I12: 28 | J12: 10 | L12: 20 | M12: 65 | N12: =SUM(B12:M12) -> 325 | O12: 183
A13: 43578 | D13: 25 | H13: 10 | J13: 4 | L13: 16.5 | M13: 22 | N13: =SUM(B13:M13) -> 77.5 | O13: 45
A14: 43579 | H14: 7 | I14: 22 | J14: 13 | N14: =SUM(B14:M14) -> 42 | O14: 26
A15: 43580 | B15: 24 | H15: 12 | M15: 22 | N15: =SUM(B15:M15) -> 58 | O15: 45
A16: 43581 | C16: 5 | D16: 33 | G16: 55 | H16: 17 | L16: 12 | M16: 46 | N16: =SUM(B16:M16) -> 168 | O16: 41
A17: 43582 | F17: 24 | G17: 70 | H17: 5 | J17: 30 | L17: 100 | M17: 149 | N17: =SUM(B17:M17) -> 378 | O17: 72
A18: 43583 | G18: 25 | H18: 6 | I18: 22 | J18: 46 | L18: 50 | M18: 88 | N18: =SUM(B18:M18) -> 237 | O18: 169
A19: 43584 | D19: 61 | F19: 22 | G19: 45 | H19: 15 | J19: 16 | N19: =SUM(B19:M19) -> 159 | O19: 57
A20: 43585 | I20: 24 | K20: 70 | M20: 22 | N20: =SUM(B20:M20) -> 116 | O20: 42
A21: TOTAL | B21: =SUM(B2:B20) -> 139 | C21: =SUM(C2:C20) -> 121 | D21: =SUM(D2:D20) -> 376 | E21: =SUM(E2:E20) -> 130 | F21: =SUM(F2:F20) -> 278 | G21: =SUM(G2:G20) -> 219 | H21: =SUM(H2:H20) -> 373 | I21: =SUM(I2:I20) -> 280 | ... O21: =SUM(O2:O20) -> 1640

Sheet 05
A1: DATES | B1: Adélaïde | C1: Agnès | D1: Aurélien | E1: Cécile | F1: Eve | G1: Kourgane | H1: Lise | I1: Mathy | J1: Nicole | K1: Roselyne | L1: Samuel | M1: Valentin | N1: Véronique | O1: Virginie | P1: TOTAL | Q1: VISITEURS
A2: 43586 | B2: 16 | C2: 23 | D2: 69 | F2: 50 | H2: 10 | K2: 41 | N2: 340 | P2: =SUM(B2:O2) -> 549 | Q2: 137
A3: 43587 | B3: 22 | G3: 115 | H3: 3 | K3: 32 | M3: 70 | O3: 24 | P3: =SUM(B3:O3) -> 266 | Q3: 34
A4: 43588 | C4: 5 | D4: 49 | G4: 82 | H4: 33 | M4: 325 | N4: 25 | O4: 246 | P4: =SUM(B4:O4) -> 765 | Q4: 40
A5: 43589 | F5: 35 | O5: 57 | P5: =SUM(B5:O5) -> 92 | Q5: 42
A6: 43590 | D6: 73 | G6: 240 | H6: 10 | J6: 32 | K6: 69 | M6: 195 | O6: 115 | P6: =SUM(B6:O6) -> 734 | Q6: 89
A7: 43591 | K7: 16 | O7: 19 | P7: =SUM(B7:O7) -> 35 | Q7: 14
A8: 43592 | I8: 12 | P8: =SUM(B8:O8) -> 12 | Q8: 12
A9: 43593 | H9: 18 | K9: 26 | P9: =SUM(B9:O9) -> 44 | Q9: 52
A10: 43594 | D10: 11 | H10: 63 | N10: 12.5 | P10: =SUM(B10:O10) -> 86.5 | Q10: 66
A11: 43595 | C11: 25 | H11: 15 | P11: =SUM(B11:O11) -> 40 | Q11: 37
A12: 43596 | C12: 30 | G12: 127 | H12: 5 | J12: 44 | K12: 130 | N12: 72.5 | O12: 30 | P12: =SUM(B12:O12) -> 438.5 | Q12: 40
A13: 43597 | B13: 104 | D13: 13 | G13: 100 | H13: 35 | K13: 18 | M13: 60 | N13: 12 | P13: =SUM(B13:O13) -> 342 | Q13: 115
A14: 43598 | C14: 15 | D14: 45 | F14: 48 | H14: 10 | P14: =SUM(B14:O14) -> 118 | Q14: 31
A15: 43599 | C15: 25 | H15: 5 | J15: 42 | O15: 20 | P15: =SUM(B15:O15) -> 92 | Q15: 36
A16: 43600 | C16: 100 | H16: 5 | K16: 15 | L16: 150 | P16: =SUM(B16:O16) -> 270 | Q16: 27
A17: 43601 | D17: 13 | K17: 30 | O17: 28 | P17: =SUM(B17:O17) -> 71 | Q17: 47
A18: 43602 | C18: 10 | D18: 6 | H18: 5 | O18: 30 | P18: =SUM(B18:O18) -> 51 | Q18: 35
A19: 43603 | H19: 30 | J19: 50 | K19: 15 | P19: =SUM(B19:O19) -> 95 | Q19: 70
A20: 43604 | B20: 35 | C20: 30 | G20: 88 | H20: 32 | I20: 12 | K20: 32 | M20: 230 | O20: 140 | P20: =SUM(B20:O20) -> 599 | Q20: 120
A21: 43605 | C21: 5 | J21: 32 | O21: 22 | P21: =SUM(B21:O21) -> 59 | Q21: 21
A22: 43606 | B22: 27 | C22: 5 | D22: 48 | O22: 106 | P22: =SUM(B22:O22) -> 186 | Q22: 20
A23: 43607 | C23: 15 | D23: 12 | H23: 30 | J23: 28 | K23: 91 | O23: 121 | P23: =SUM(B23:O23) -> 297 | Q23: 29
A24: 43608 | D24: 16 | G24: 78 | I24: 26 | J24: 20 | O24: 30 | P24: =SUM(B24:O24) -> 170 | Q24: 44
A25: 43609 | B25: 45 | D25: 15 | G25: 125 | H25: 7 | O25: 99 | P25: =SUM(B25:O25) -> 291 | Q25: 34
A26: 43610 | B26: 8 | G26: 47 | H26: 35 | P26: =SUM(B26:O26) -> 90 | Q26: 56
A27: 43611 | G27: 40 | H27: 25 | I27: 14 | K27: 92 | O27: 57 | P27: =SUM(B27:O27) -> 228 | Q27: 90
A28: 43612 | D28: 24 | G28: 140 | H28: 10 | I28: 38 | J28: 32 | K28: 32 | N28: 12.5 | O28: 98 | P28: =SUM(B28:O28) -> 386.5 | Q28: 54
A29: 43613 | C29: 72 | D29: 14 | F29: 40 | G29: 39 | I29: 12 | P29: =SUM(B29:O29) -> 177 | Q29: 31
A30: 43614 | B30: 14 | D30: 14 | G30: 30 | I30: 14 | K30: 5 | N30: 12 | O30: 10 | P30: =SUM(B30:O30) -> 99 | Q30: 27
A31: 43615 | B31: 21 | C31: 21 | D31: 15 | F31: 94 | G31: 45 | H31: 109 | I31: 12 | J31: 82 | K31: 54 | O31: 73 | P31: =SUM(B31:O31) -> 526 | Q31: 179
A32: 43616 | C32: 15 | G32: 30 | H32: 42 | J32: 22 | O32: 84 | P32: =SUM(B32:O32) -> 193 | Q32: 71
A33: TOTAL | B33: =SUM(B2:B32) -> 292 | C33: =SUM(C2:C32) -> 396 | D33: =SUM(D2:D32) -> 437 | E33: =SUM(E2:E32) -> 0 | F33: =SUM(F2:F32) -> 267 | G33: =SUM(G2:G32) -> 1326 | H33: =SUM(H2:H32) -> 537 | I33: =SUM(I2:I32) -> 140 | ... Q33: =SUM(Q2:Q32) -> 1700

Sheet 06
A1: DATES | B1: Adélaïde | C1: Agnès | D1: Aurélien | E1: Cécile | F1: Eve | G1: Kourgane | H1: Lise | I1: Mathy | J1: Nicole | K1: Roselyne | L1: Samuel | M1: Valentin | N1: Véronique | O1: Virginie | P1: TOTAL | Q1: VISITEURS
A2: 43617 | F2: 60 | H2: 50 | J2: 26 | M2: 45 | O2: 22 | P2: =SUM(B2:O2) -> 203 | Q2: 111
A3: 43618 | D3: 111 | G3: 30 | H3: 23 | J3: 78 | K3: 16 | O3: 111 | P3: =SUM(B3:O3) -> 369 | Q3: 133
A4: 43619 | D4: 86 | H4: 20 | P4: =SUM(B4:O4) -> 106 | Q4: 26
A5: 43620 | D5: 15 | H5: 6 | J5: 18 | N5: 20 | P5: =SUM(B5:O5) -> 59 | Q5: 31
A6: 43621 | D6: 16 | M6: 75 | N6: 25 | O6: 58 | P6: =SUM(B6:O6) -> 174 | Q6: 40
A7: 43622 | C7: 89 | J7: 88 | K7: 30 | N7: 12 | O7: 32 | P7: =SUM(B7:O7) -> 251 | Q7: 54
A8: 43623 | B8: 18 | D8: 60 | I8: 14 | J8: 52 | K8: 25 | M8: 70 | O8: 45 | P8: =SUM(B8:O8) -> 284 | Q8: 31
A9: 43624 | H9: 30 | I9: 26 | M9: 50 | N9: 25 | O9: 111 | P9: =SUM(B9:O9) -> 242 | Q9: 91
A10: 43625 | D10: 61 | G10: 26 | H10: 39 | J10: 25 | K10: 16 | O10: 130 | P10: =SUM(B10:O10) -> 297 | Q10: 206
A11: 43626 | B11: 32 | D11: 22 | K11: 30 | O11: 30 | P11: =SUM(B11:O11) -> 114 | Q11: 64
A12: 43627 | B12: 47 | D12: 50 | F12: 74 | G12: 52 | H12: 12 | J12: 26 | K12: 15 | O12: 56 | P12: =SUM(B12:O12) -> 332 | Q12: 44
A13: 43628 | H13: 3 | J13: 24 | K13: 40 | P13: =SUM(B13:O13) -> 67 | Q13: 23
A14: 43629 | G14: 65 | H14: 12 | J14: 52 | K14: 30 | L14: 20 | O14: 26 | P14: =SUM(B14:O14) -> 205 | Q14: 37
A15: 43630 | F15: 85 | H15: 6 | J15: 84 | K15: 5 | L15: 200 | P15: =SUM(B15:O15) -> 380 | Q15: 29
A16: 43631 | D16: 100 | E16: 25 | H16: 15 | K16: 72 | P16: =SUM(B16:O16) -> 212 | Q16: 35
A17: 43632 | C17: 33 | G17: 40 | H17: 43 | I17: 26 | J17: 20 | K17: 4 | N17: 25 | P17: =SUM(B17:O17) -> 191 | Q17: 157
A18: 43633 | D18: 24 | H18: 9 | K18: 75 | O18: 34 | P18: =SUM(B18:O18) -> 142 | Q18: 31
A19: 43634 | D19: 10 | G19: 50 | H19: 50 | I19: 14 | O19: 22 | P19: =SUM(B19:O19) -> 146 | Q19: 38
A20: 43635 | D20: 34 | G20: 65 | H20: 50 | J20: 30 | K20: 10 | N20: 44.5 | P20: =SUM(B20:O20) -> 233.5 | Q20: 65
A21: 43636 | D21: 39 | F21: 50 | H21: 5 | O21: 70 | P21: =SUM(B21:O21) -> 164 | Q21: 35
A22: 43637 | F22: 70 | I22: 40 | L22: 330 | P22: =SUM(B22:O22) -> 440 | Q22: 26
A23: 43638 | D23: 16 | F23: 56 | I23: 2 | K23: 16 | L23: 80 | O23: 102 | P23: =SUM(B23:O23) -> 272 | Q23: 75
A24: 43639 | H24: 20 | K24: 5 | L24: 100 | M24: 185 | P24: =SUM(B24:O24) -> 310 | Q24: 161
A25: 43640 | D25: 12 | H25: 17 | J25: 62 | K25: 46 | O25: 36 | P25: =SUM(B25:O25) -> 173 | Q25: 59
A26: 43641 | B26: 11 | C26: 5 | F26: 28 | I26: 26 | O26: 113 | P26: =SUM(B26:O26) -> 183 | Q26: 46
A27: 43642 | D27: 131 | H27: 7 | M27: 60 | N27: 20 | O27: 53 | P27: =SUM(B27:O27) -> 271 | Q27: 51
A28: 43643 | D28: 10 | F28: 50 | G28: 100 | K28: 16 | O28: 127 | P28: =SUM(B28:O28) -> 303 | Q28: 57
A29: 43644 | D29: 89 | G29: 35 | I29: 14 | J29: 50 | O29: 33 | P29: =SUM(B29:O29) -> 221 | Q29: 45
A30: 43645 | F30: 59 | G30: 30 | H30: 35 | O30: 48 | P30: =SUM(B30:O30) -> 172 | Q30: 44
A31: 43646 | C31: 500 | D31: 34 | G31: 60 | K31: 5 | P31: =SUM(B31:O31) -> 599 | Q31: 111
A32: TOTAL | B32: =SUM(B2:B31) -> 108 | C32: =SUM(C2:C31) -> 627 | D32: =SUM(D2:D31) -> 920 | E32: =SUM(E2:E31) -> 25 | F32: =SUM(F2:F31) -> 532 | G32: =SUM(G2:G31) -> 553 | H32: =SUM(H2:H31) -> 452 | I32: =SUM(I2:I31) -> 162 | ... Q32: =SUM(Q2:Q31) -> 1956

Sheet 07
A1: DATES | B1: Adélaïde | C1: Agnès | D1: Aurélien | E1: Cécile | F1: Eve | G1: Kourgane | H1: Lise | I1: Mathy | J1: Nicole | K1: Roselyne | L1: Samuel | M1: Valentin | N1: Véronique | O1: Virginie | P1: TOTAL | Q1: VISITEURS
A2: 43647 | F2: 124 | K2: 41 | P2: =SUM(B2:O2) -> 165 | Q2: 35
A3: 43648 | C3: 5 | E3: 25 | O3: 10 | P3: =SUM(B3:O3) -> 40 | Q3: 44
A4: 43649 | C4: 30 | D4: 22 | F4: 26 | H4: 7 | J4: 26 | O4: 136 | P4: =SUM(B4:O4) -> 247 | Q4: 38
A5: 43650 | F5: 26 | G5: 25 | H5: 7 | M5: 20 | P5: =SUM(B5:O5) -> 78 | Q5: 30
A6: 43651 | D6: 100 | G6: 40 | P6: =SUM(B6:O6) -> 140 | Q6: 28
A7: 43652 | C7: 5 | D7: 25 | H7: 12 | I7: 26 | J7: 86 | K7: 45 | O7: 49 | P7: =SUM(B7:O7) -> 248 | Q7: 45
A8: 43653 | C8: 18 | D8: 61 | H8: 92 | J8: 46 | M8: 160 | O8: 77 | P8: =SUM(B8:O8) -> 454 | Q8: 121
A9: 43654 | H9: 5 | K9: 32 | O9: 26 | P9: =SUM(B9:O9) -> 63 | Q9: 35
A10: 43655 | C10: 24 | D10: 25 | H10: 3 | J10: 40 | O10: 120 | P10: =SUM(B10:O10) -> 212 | Q10: 36
A11: 43656 | C11: 85 | F11: 26 | H11: 12 | K11: 16 | L11: 2.5 | O11: 62 | P11: =SUM(B11:O11) -> 203.5 | Q11: 89
A12: 43657 | G12: 30 | H12: 15 | J12: 26 | K12: 10 | O12: 22 | P12: =SUM(B12:O12) -> 103 | Q12: 29
A13: 43658 | C13: 15 | H13: 15 | J13: 18 | K13: 69 | M13: 140 | O13: 19 | P13: =SUM(B13:O13) -> 276 | Q13: 64
A14: 43659 | G14: 30 | O14: 25 | P14: =SUM(B14:O14) -> 55 | Q14: 71
A15: 43660 | C15: 5 | D15: 12 | F15: 24 | H15: 15 | K15: 131 | L15: 5 | N15: 12 | O15: 35 | P15: =SUM(B15:O15) -> 239 | Q15: 172
A16: 43661 | G16: 19 | H16: 50 | I16: 14 | K16: 21 | P16: =SUM(B16:O16) -> 104 | Q16: 31
A17: 43662 | D17: 77 | G17: 97 | J17: 38 | O17: 50 | P17: =SUM(B17:O17) -> 262 | Q17: 48
A18: 43663 | B18: 40 | C18: 59 | D18: 35 | F18: 86 | H18: 66 | I18: 14 | K18: 5 | L18: 5 | N18: 20 | P18: =SUM(B18:O18) -> 330 | Q18: 78
A19: 43664 | B19: 47 | D19: 14 | F19: 38 | H19: 20 | M19: 50 | N19: 12.5 | O19: 23 | P19: =SUM(B19:O19) -> 204.5 | Q19: 85
A20: 43665 | C20: 5 | D20: 79 | J20: 30 | K20: 21 | N20: 28 | O20: 13 | P20: =SUM(B20:O20) -> 176 | Q20: 81
A21: 43666 | C21: 10 | F21: 34 | G21: 80 | H21: 7 | I21: 14 | J21: 48 | K21: 32 | M21: 550 | O21: 58 | P21: =SUM(B21:O21) -> 833 | Q21: 91
A22: 43667 | D22: 23 | F22: 32 | G22: 40 | H22: 7 | K22: 10 | M22: 90 | P22: =SUM(B22:O22) -> 202 | Q22: 86
A23: 43668 | D23: 12 | K23: 37 | P23: =SUM(B23:O23) -> 49 | Q23: 52
A24: 43669 | D24: 14 | H24: 19 | J24: 62 | K24: 5 | L24: 7.5 | N24: 55 | O24: 92 | P24: =SUM(B24:O24) -> 254.5 | Q24: 34
A25: 43670 | H25: 5 | M25: 140 | O25: 82 | P25: =SUM(B25:O25) -> 227 | Q25: 48
A26: 43671 | C26: 30 | D26: 55 | F26: 30 | N26: 232 | P26: =SUM(B26:O26) -> 347 | Q26: 69
A27: 43672 | D27: 135 | G27: 79 | H27: 20 | J27: 30 | K27: 22 | O27: 64 | P27: =SUM(B27:O27) -> 350 | Q27: 101
A28: 43673 | C28: 5 | H28: 16 | J28: 23 | K28: 9 | N28: 33 | O28: 2 | P28: =SUM(B28:O28) -> 88 | Q28: 135
A29: 43674 | D29: 14 | H29: 26 | I29: 14 | J29: 138 | K29: 17 | M29: 70 | O29: 57 | P29: =SUM(B29:O29) -> 336 | Q29: 179
A30: 43675 | D30: 54 | G30: 30 | H30: 73 | K30: 22 | M30: 150 | O30: 17 | P30: =SUM(B30:O30) -> 346 | Q30: 59
A31: 43676 | G31: 122 | H31: 34 | I31: 14 | K31: 48 | L31: 10 | M31: 50 | N31: 47 | O31: 54 | P31: =SUM(B31:O31) -> 379 | Q31: 116
A32: 43677 | D32: 16 | E32: 120 | H32: 38 | K32: 35 | L32: 5 | M32: 120 | N32: 5 | O32: 144 | P32: =SUM(B32:O32) -> 483 | Q32: 76
A33: TOTAL | B33: =SUM(B2:B32) -> 87 | C33: =SUM(C2:C32) -> 296 | D33: =SUM(D2:D32) -> 773 | E33: =SUM(E2:E32) -> 145 | F33: =SUM(F2:F32) -> 446 | G33: =SUM(G2:G32) -> 592 | H33: =SUM(H2:H32) -> 564 | I33: =SUM(I2:I32) -> 96 | ... Q33: =SUM(Q2:Q32) -> 2206

Sheet 08
A1: DATES | B1: Adélaïde | C1: Agnès | D1: Aurélien | E1: Cécile | F1: Eve | G1: Kourgane | H1: Lise | I1: Mathy | J1: Nicole | K1: Roselyne | L1: Samuel | M1: Valentin | N1: Véronique | O1: Virginie | P1: TOTAL | Q1: VISITEURS
A2: 43678 | G2: 120 | H2: 28 | I2: 31 | K2: 35 | L2: 5 | N2: 10 | O2: 56 | P2: =SUM(B2:O2) -> 285 | Q2: 80
A3: 43679 | D3: 105 | H3: 45 | J3: 86 | K3: 50 | L3: 7.5 | N3: 12.5 | O3: 131 | P3: =SUM(B3:O3) -> 437 | Q3: 99
A4: 43680 | B4: 34 | D4: 50 | H4: 12 | J4: 5 | N4: 25 | P4: =SUM(B4:O4) -> 126 | Q4: 88
A5: 43681 | D5: 66 | F5: 22 | G5: 25 | H5: 8 | J5: 44 | K5: 33 | M5: 60 | O5: 98 | P5: =SUM(B5:O5) -> 356 | Q5: 584
A6: 43682 | D6: 8 | G6: 125 | H6: 19 | K6: 55 | L6: 100 | M6: 45 | O6: 126 | P6: =SUM(B6:O6) -> 478 | Q6: 129
A7: 43683 | F7: 60 | G7: 55 | I7: 29 | J7: 18 | K7: 88 | O7: 83 | P7: =SUM(B7:O7) -> 333 | Q7: 80
A8: 43684 | C8: 10 | D8: 47 | H8: 35 | I8: 12 | J8: 5 | N8: 12 | O8: 202 | P8: =SUM(B8:O8) -> 323 | Q8: 90
A9: 43685 | C9: 5 | D9: 55 | F9: 28 | G9: 30 | H9: 15 | I9: 50 | J9: 62 | K9: 76 | L9: 10 | M9: 279 | N9: 12.5 | O9: 130 | P9: =SUM(B9:O9) -> 752.5 | Q9: 135
A10: 43686 | E10: 20 | F10: 28 | G10: 30 | H10: 106 | I10: 34 | J10: 73 | K10: 75 | N10: 28 | O10: 175 | P10: =SUM(B10:O10) -> 569 | Q10: 169
A11: 43687 | B11: 23 | D11: 11 | F11: 32 | G11: 30 | H11: 24 | I11: 17 | J11: 34 | K11: 9 | M11: 60 | N11: 12 | O11: 40 | P11: =SUM(B11:O11) -> 292 | Q11: 137
A12: 43688 | B12: 6 | C12: 10 | D12: 30 | F12: 70 | H12: 5 | I12: 14 | J12: 23 | K12: 134 | O12: 106 | P12: =SUM(B12:O12) -> 398 | Q12: 234
A13: 43689 | B13: 6 | D13: 54 | H13: 32 | M13: 40 | N13: 62 | O13: 15 | P13: =SUM(B13:O13) -> 209 | Q13: 109
A14: 43690 | C14: 30 | D14: 25 | F14: 58 | G14: 135 | H14: 55 | I14: 14 | J14: 22 | N14: 12 | O14: 72 | P14: =SUM(B14:O14) -> 423 | Q14: 117
A15: 43691 | C15: 21 | F15: 128 | G15: 188 | H15: 87 | J15: 5 | K15: 4 | L15: 5 | M15: 213 | O15: 15 | P15: =SUM(B15:O15) -> 666 | Q15: 107
A16: 43692 | C16: 114 | H16: 55 | J16: 88 | M16: 230 | N16: 40 | O16: 152 | P16: =SUM(B16:O16) -> 679 | Q16: 172
A17: 43693 | D17: 42 | H17: 19 | I17: 14 | K17: 10 | M17: 400 | N17: 22.5 | P17: =SUM(B17:O17) -> 507.5 | Q17: 162
A18: 43694 | B18: 25 | C18: 15 | D18: 42 | H18: 27 | I18: 14 | M18: 170 | N18: 12 | O18: 326 | P18: =SUM(B18:O18) -> 631 | Q18: 184
A19: 43695 | B19: 85 | D19: 10 | H19: 5 | J19: 54 | K19: 68 | M19: 70 | N19: 20 | P19: =SUM(B19:O19) -> 312 | Q19: 162
A20: 43696 | B20: 20 | C20: 5 | D20: 16 | E20: 120 | F20: 120 | G20: 50 | H20: 25 | I20: 17 | J20: 80 | N20: 25 | O20: 36 | P20: =SUM(B20:O20) -> 514 | Q20: 101
A21: 43697 | C21: 10 | G21: 178 | I21: 60 | J21: 10 | K21: 15 | N21: 52 | O21: 33 | P21: =SUM(B21:O21) -> 358 | Q21: 91
A22: 43698 | D22: 35 | G22: 70 | J22: 5 | K22: 44 | O22: 135 | P22: =SUM(B22:O22) -> 289 | Q22: 76
A23: 43699 | H23: 7 | I23: 14 | J23: 15 | O23: 21 | P23: =SUM(B23:O23) -> 57 | Q23: 70
A24: 43700 | D24: 97 | G24: 218 | K24: 63 | N24: 47 | O24: 35 | P24: =SUM(B24:O24) -> 460 | Q24: 46
A25: 43701 | B25: 14 | D25: 15 | H25: 48 | K25: 40 | L25: 5 | N25: 12 | O25: 59 | P25: =SUM(B25:O25) -> 193 | Q25: 52
A26: 43702 | C26: 35 | D26: 78 | F26: 119 | H26: 5 | M26: 70 | N26: 24 | O26: 116 | P26: =SUM(B26:O26) -> 447 | Q26: 103
A27: 43703 | P27: =SUM(B27:O27) -> 0
A28: 43704 | P28: =SUM(B28:O28) -> 0
A29: 43705 | P29: =SUM(B29:O29) -> 0
A30: 43706 | P30: =SUM(B30:O30) -> 0
A31: 43707 | P31: =SUM(B31:O31) -> 0
A32: 43708 | P32: =SUM(B32:O32) -> 0
A33: TOTAL | B33: =SUM(B2:B32) -> 213 | C33: =SUM(C2:C32) -> 255 | D33: =SUM(D2:D32) -> 786 | E33: =SUM(E2:E32) -> 140 | F33: =SUM(F2:F32) -> 665 | G33: =SUM(G2:G32) -> 1254 | H33: =SUM(H2:H32) -> 662 | I33: =SUM(I2:I32) -> 320 | ... Q33: =SUM(Q2:Q32) -> 3377

Sheet MENSUEL
B1: AVRIL | C1: MAI | D1: JUIN | E1: JUILLET | F1: AOUT | G1: SEPTEMBRE | H1: OCTOBRE | I1: TOTAL | K1: Mois | L1: Visiteurs | N1: =INDEX($A$2:$A$15,MATCH(O1,$I$2:$I$15,0)) -> Virginie | O1: =LARGE($I$2:$I$15,ROW(A1)) -> 6777
A2: Adélaïde | B2: ='04'!B21 -> 139 | C2: ='05'!B33 -> 292 | D2: ='06'!B32 -> 108 | E2: ='07'!B33 -> 87 | F2: ='08'!B33 -> 213 | I2: =SUM(B2:H2) -> 839 | K2: Avril | L2: ='04'!O21 -> 1640 | N2: =INDEX($A$2:$A$15,MATCH(O2,$I$2:$I$15,0)) -> Valentin | O2: =LARGE($I$2:$I$15,ROW(A2)) -> 4962
A3: Agnès | B3: ='04'!C21 -> 121 | C3: ='05'!C33 -> 396 | D3: ='06'!C32 -> 627 | E3: ='07'!C33 -> 296 | F3: ='08'!C33 -> 255 | I3: =SUM(B3:H3) -> 1695 | K3: Mai | L3: ='05'!Q33 -> 1700 | N3: =INDEX($A$2:$A$15,MATCH(O3,$I$2:$I$15,0)) -> Kourgane | O3: =LARGE($I$2:$I$15,ROW(A3)) -> 3944
A4: Aurélien | B4: ='04'!D21 -> 376 | C4: ='05'!D33 -> 437 | D4: ='06'!D32 -> 920 | E4: ='07'!D33 -> 773 | F4: ='08'!D33 -> 786 | I4: =SUM(B4:H4) -> 3292 | K4: Juin | L4: ='06'!Q32 -> 1956 | N4: =INDEX($A$2:$A$15,MATCH(O4,$I$2:$I$15,0)) -> Aurélien | O4: =LARGE($I$2:$I$15,ROW(A4)) -> 3292
A5: Cécile | B5: ='04'!E21 -> 130 | C5: ='05'!E33 -> 0 | D5: ='06'!E32 -> 25 | E5: ='07'!E33 -> 145 | F5: ='08'!E33 -> 140 | I5: =SUM(B5:H5) -> 440 | K5: Juillet | L5: ='07'!Q33 -> 2206 | N5: =INDEX($A$2:$A$15,MATCH(O5,$I$2:$I$15,0)) -> Roselyne | O5: =LARGE($I$2:$I$15,ROW(A5)) -> 2840
A6: Eve | B6: ='04'!F21 -> 278 | C6: ='05'!F33 -> 267 | D6: ='06'!F32 -> 532 | E6: ='07'!F33 -> 446 | F6: ='08'!F33 -> 665 | I6: =SUM(B6:H6) -> 2188 | K6: Aout | L6: ='08'!Q33 -> 3377 | N6: =INDEX($A$2:$A$15,MATCH(O6,$I$2:$I$15,0)) -> Lise | O6: =LARGE($I$2:$I$15,ROW(A6)) -> 2588
A7: Kourgane | B7: ='04'!G21 -> 219 | C7: ='05'!G33 -> 1326 | D7: ='06'!G32 -> 553 | E7: ='07'!G33 -> 592 | F7: ='08'!G33 -> 1254 | I7: =SUM(B7:H7) -> 3944 | K7: Septembre | N7: =INDEX($A$2:$A$15,MATCH(O7,$I$2:$I$15,0)) -> Nicole | O7: =LARGE($I$2:$I$15,ROW(A7)) -> 2539
A8: Lise | B8: ='04'!H21 -> 373 | C8: ='05'!H33 -> 537 | D8: ='06'!H32 -> 452 | E8: ='07'!H33 -> 564 | F8: ='08'!H33 -> 662 | I8: =SUM(B8:H8) -> 2588 | K8: Octobre | N8: =INDEX($A$2:$A$15,MATCH(O8,$I$2:$I$15,0)) -> Eve | O8: =LARGE($I$2:$I$15,ROW(A8)) -> 2188
A9: Mathy | C9: ='05'!I33 -> 140 | D9: ='06'!I32 -> 162 | E9: ='07'!I33 -> 96 | F9: ='08'!I33 -> 320 | I9: =SUM(B9:H9) -> 718 | N9: =INDEX($A$2:$A$15,MATCH(O9,$I$2:$I$15,0)) -> Véronique | O9: =LARGE($I$2:$I$15,ROW(A9)) -> 2045.5
A10: Nicole | B10: ='04'!I21 -> 280 | C10: ='05'!J33 -> 384 | D10: ='06'!J32 -> 635 | E10: ='07'!J33 -> 611 | F10: ='08'!J33 -> 629 | I10: =SUM(B10:H10) -> 2539 | N10: =INDEX($A$2:$A$15,MATCH(O10,$I$2:$I$15,0)) -> Agnès | O10: =LARGE($I$2:$I$15,ROW(A10)) -> 1695
A11: Roselyne | B11: ='04'!J21 -> 259 | C11: ='05'!K33 -> 698 | D11: ='06'!K32 -> 456 | E11: ='07'!K33 -> 628 | F11: ='08'!K33 -> 799 | I11: =SUM(B11:H11) -> 2840 | N11: =INDEX($A$2:$A$15,MATCH(O11,$I$2:$I$15,0)) -> Samuel | O11: =LARGE($I$2:$I$15,ROW(A11)) -> 1047.5
A12: Samuel | C12: ='05'!L33 -> 150 | D12: ='06'!L32 -> 730 | E12: ='07'!L33 -> 35 | F12: ='08'!L33 -> 132.5 | I12: =SUM(B12:H12) -> 1047.5 | N12: =INDEX($A$2:$A$15,MATCH(O12,$I$2:$I$15,0)) -> Adélaïde | O12: =LARGE($I$2:$I$15,ROW(A12)) -> 839
A13: Valentin | B13: ='04'!K21 -> 420 | C13: ='05'!M33 -> 880 | D13: ='06'!M32 -> 485 | E13: ='07'!M33 -> 1540 | F13: ='08'!M33 -> 1637 | I13: =SUM(B13:H13) -> 4962 | N13: =INDEX($A$2:$A$15,MATCH(O13,$I$2:$I$15,0)) -> Mathy | O13: =LARGE($I$2:$I$15,ROW(A13)) -> 718
A14: Véronique | B14: ='04'!L21 -> 502.5 | C14: ='05'!N33 -> 486.5 | D14: ='06'!N32 -> 171.5 | E14: ='07'!N33 -> 444.5 | F14: ='08'!N33 -> 440.5 | I14: =SUM(B14:H14) -> 2045.5 | N14: =INDEX($A$2:$A$15,MATCH(O14,$I$2:$I$15,0)) -> Cécile | O14: =LARGE($I$2:$I$15,ROW(A14)) -> 440
A15: Virginie | B15: ='04'!M21 -> 710 | C15: ='05'!O33 -> 1409 | D15: ='06'!O32 -> 1259 | E15: ='07'!O33 -> 1237 | F15: ='08'!O33 -> 2162 | I15: =SUM(B15:H15) -> 6777
A16: Total | B16: =SUM(B2:B15) -> 3807.5 | C16: =SUM(C2:C15) -> 7402.5 | D16: =SUM(D2:D15) -> 7115.5 | E16: =SUM(E2:E15) -> 7494.5 | F16: =SUM(F2:F15) -> 10095 | I16: =SUM(B16:H16) -> 35915
