Workbook
Name AnnéeCalendrier: 'Noms des employés'!$J$3
Name CléAbsence: 'Noms des employés'!$G$8
Name CléAbsenceinjust: 'Noms des employés'!$G$7
Name CléAbsencejustif: 'Noms des employés'!$G$6
Name CléAccident: 'Noms des employés'!$G$5
Name CléCongé: 'Noms des employés'!$G$3
Name CléMaladie.: 'Noms des employés'!$G$4
Name CMois: 'Noms des employés'!$E$4:$E$15

Sheet Janvier
B1: Calendrier des absences des employés
B2: Clé de motif d’absence | C2: C | D2: Congé | F2: M | G2: Maladie | J2: A | K2: Accident | M2: J | N2: Absence justifiée | R2: I | S2: Absence injustifiée | W2: X | X2: Absence
AH3: Entrez l’année :
B4: Janvier | C4: Dates d’absence | AH4: =AnnéeCalendrier -> 2023
C5: =DATE(AnnéeCalendrier,MONTH(1&$B$4),1) -> 44927 | D5: =IF(C5="","",IF(MONTH(C5)=MONTH(C5+1),C5+1,"")) -> 44928 | E5: =IF(D5="","",IF(MONTH(D5)=MONTH(D5+1),D5+1,"")) -> 44929 | F5: =IF(E5="","",IF(MONTH(E5)=MONTH(E5+1),E5+1,"")) -> 44930 | G5: =IF(F5="","",IF(MONTH(F5)=MONTH(F5+1),F5+1,"")) -> 44931 | H5: =IF(G5="","",IF(MONTH(G5)=MONTH(G5+1),G5+1,"")) -> 44932 | I5: =IF(H5="","",IF(MONTH(H5)=MONTH(H5+1),H5+1,"")) -> 44933 | J5: =IF(I5="","",IF(MONTH(I5)=MONTH(I5+1),I5+1,"")) -> 44934 | K5: =IF(J5="","",IF(MONTH(J5)=MONTH(J5+1),J5+1,"")) -> 44935 | ... AG5: =IF(AF5="","",IF(MONTH(AF5)=MONTH(AF5+1),AF5+1,"")) -> 44957
B6: Nom de l’employé | C6: 1 | D6: 2 | E6: 3 | F6: 4 | G6: 5 | H6: 6 | I6: 7 | J6: 8 | K6: 9 | L6: 10 | M6: 11 | N6: 12 | O6: 13 | P6: 14 | Q6: 15 | R6: 16 | S6: 17 | T6: 18 | U6: 19 | V6: 20 | W6: 21 | X6: 22 | Y6: 23 | Z6: 24 | AA6: 25 | AB6: 26 | AC6: 27 | AD6: 28 | AE6: 29 | AF6: 30 | AG6: 31 | AH6: Total des jours
B7: Employé 1 | C7: M | E7: C | F7: C | G7: C | H7: C | O7: C | AH7: =COUNTA(Janvier!$C7:$AG7) -> 6
B8: Employé 2 | G8: M | H8: M | V8: M | AA8: C | AB8: C | AC8: C | AH8: =COUNTA(Janvier!$C8:$AG8) -> 6
B9: Employé 3 | E9: M | P9: M | AE9: M | AH9: =COUNTA(Janvier!$C9:$AG9) -> 3
B10: Employé 4 | I10: J | M10: i | U10: C | V10: C | W10: C | AH10: =COUNTA(Janvier!$C10:$AG10) -> 5
B11: Employé 5 | H11: A | AH11: =COUNTA(Janvier!$C11:$AG11) -> 1
B12: Employé 6 | AH12: =COUNTA(Janvier!$C12:$AG12) -> 0
B13: Employé 7 | AH13: =COUNTA(Janvier!$C13:$AG13) -> 0
B14: Employé 8 | C14: C | D14: M | E14: A | F14: J | G14: I | H14: X | AH14: =COUNTA(Janvier!$C14:$AG14) -> 6
B15: Employé 9 | AH15: =COUNTA(Janvier!$C15:$AG15) -> 0
B16: Employé 10 | F16: M | G16: C | H16: C | S16: M | Z16: M | AG16: C | AH16: =COUNTA(Janvier!$C16:$AG16) -> 6
B17: =B4&" Total" -> Janvier Total | C17: =SUBTOTAL(103,Janvier!$C$7:$C$16) -> 2 | D17: =SUBTOTAL(103,Janvier!$D$7:$D$16) -> 1 | E17: =SUBTOTAL(103,Janvier!$E$7:$E$16) -> 3 | F17: =SUBTOTAL(103,Janvier!$F$7:$F$16) -> 3 | G17: =SUBTOTAL(103,Janvier!$G$7:$G$16) -> 4 | H17: =SUBTOTAL(103,Janvier!$H$7:$H$16) -> 5 | I17: =SUBTOTAL(103,Janvier!$I$7:$I$16) -> 1 | J17: =SUBTOTAL(103,Janvier!$J$7:$J$16) -> 0 | K17: =SUBTOTAL(103,Janvier!$K$7:$K$16) -> 0 | L17: =SUBTOTAL(103,Janvier!$L$7:$L$16) -> 0 | M17: =SUBTOTAL(103,Janvier!$M$7:$M$16) -> 1 | N17: =SUBTOTAL(103,Janvier!$N$7:$N$16) -> 0 | O17: =SUBTOTAL(103,Janvier!$O$7:$O$16) -> 1 | P17: =SUBTOTAL(103,Janvier!$P$7:$P$16) -> 1 | Q17: =SUBTOTAL(103,Janvier!$Q$7:$Q$16) -> 0 | R17: =SUBTOTAL(103,Janvier!$R$7:$R$16) -> 0 | S17: =SUBTOTAL(103,Janvier!$S$7:$S$16) -> 1 | T17: =SUBTOTAL(103,Janvier!$T$7:$T$16) -> 0 | U17: =SUBTOTAL(103,Janvier!$U$7:$U$16) -> 1 | V17: =SUBTOTAL(103,Janvier!$V$7:$V$16) -> 2 | W17: =SUBTOTAL(103,Janvier!$W$7:$W$16) -> 1 | X17: =SUBTOTAL(103,Janvier!$X$7:$X$16) -> 0 | Y17: =SUBTOTAL(103,Janvier!$Y$7:$Y$16) -> 0 | Z17: =SUBTOTAL(103,Janvier!$Z$7:$Z$16) -> 1 | AA17: =SUBTOTAL(103,Janvier!$AA$7:$AA$16) -> 1 | AB17: =SUBTOTAL(103,Janvier!$AB$7:$AB$16) -> 1 | AC17: =SUBTOTAL(103,Janvier!$AC$7:$AC$16) -> 1 | AD17: =SUBTOTAL(103,Janvier!$AD$7:$AD$16) -> 0 | AE17: =SUBTOTAL(103,Janvier!$AE$7:$AE$16) -> 1 | AF17: =SUBTOTAL(103,Janvier!$AF$7:$AF$16) -> 0 | AG17: =SUBTOTAL(103,Janvier!$AG$7:$AG$16) -> 1 | AH17: =SUBTOTAL(109,Janvier[Total des jours]) -> 33

Sheet Février
B1: Calendrier des absences des employés
B2: Clé de motif d’absence | C2: C | D2: Congé | F2: M | G2: Maladie | J2: A | K2: Accident | M2: J | N2: Absence justifiée | R2: I | S2: Absence injustifiée | W2: X | X2: Absence
AH3: Entrez l’année :
B4: Février | C4: Dates d’absence | AH4: =AnnéeCalendrier -> 2023
C5: =DATE(AnnéeCalendrier,MONTH(1&$B$4),1) -> 44958 | D5: =IF(C5="","",IF(MONTH(C5)=MONTH(C5+1),C5+1,"")) -> 44959 | E5: =IF(D5="","",IF(MONTH(D5)=MONTH(D5+1),D5+1,"")) -> 44960 | F5: =IF(E5="","",IF(MONTH(E5)=MONTH(E5+1),E5+1,"")) -> 44961 | G5: =IF(F5="","",IF(MONTH(F5)=MONTH(F5+1),F5+1,"")) -> 44962 | H5: =IF(G5="","",IF(MONTH(G5)=MONTH(G5+1),G5+1,"")) -> 44963 | I5: =IF(H5="","",IF(MONTH(H5)=MONTH(H5+1),H5+1,"")) -> 44964 | J5: =IF(I5="","",IF(MONTH(I5)=MONTH(I5+1),I5+1,"")) -> 44965 | K5: =IF(J5="","",IF(MONTH(J5)=MONTH(J5+1),J5+1,"")) -> 44966 | ... AG5: =IF(AF5="","",IF(MONTH(AF5)=MONTH(AF5+1),AF5+1,""))
B6: Nom de l’employé | C6: 1 | D6: 2 | E6: 3 | F6: 4 | G6: 5 | H6: 6 | I6: 7 | J6: 8 | K6: 9 | L6: 10 | M6: 11 | N6: 12 | O6: 13 | P6: 14 | Q6: 15 | R6: 16 | S6: 17 | T6: 18 | U6: 19 | V6: 20 | W6: 21 | X6: 22 | Y6: 23 | Z6: 24 | AA6: 25 | AB6: 26 | AC6: 27 | AD6: 28 | AE6: 29 | AF6: 30 | AG6: 31 | AH6: Total des jours
B7: Employé 1 | AH7: =COUNTA(Février!$C7:$AG7) -> 0
B8: Employé 2 | C8: c | D8: m | E8: a | F8: j | G8: i | H8: x | AH8: =COUNTA(Février!$C8:$AG8) -> 6
B9: Employé 3 | AH9: =COUNTA(Février!$C9:$AG9) -> 0
B10: Employé 4 | AH10: =COUNTA(Février!$C10:$AG10) -> 0
B11: Employé 5 | AH11: =COUNTA(Février!$C11:$AG11) -> 0
B12: Employé 6 | AH12: =COUNTA(Février!$C12:$AG12) -> 0
B13: Employé 7 | AH13: =COUNTA(Février!$C13:$AG13) -> 0
B14: Employé 8 | AH14: =COUNTA(Février!$C14:$AG14) -> 0
B15: Employé 9 | AH15: =COUNTA(Février!$C15:$AG15) -> 0
B16: Employé 10 | AH16: =COUNTA(Février!$C16:$AG16) -> 0
B17: =B4&" Total" -> Février Total | C17: =SUBTOTAL(103,Février!$C$7:$C$16) -> 1 | D17: =SUBTOTAL(103,Février!$D$7:$D$16) -> 1 | E17: =SUBTOTAL(103,Février!$E$7:$E$16) -> 1 | F17: =SUBTOTAL(103,Février!$F$7:$F$16) -> 1 | G17: =SUBTOTAL(103,Février!$G$7:$G$16) -> 1 | H17: =SUBTOTAL(103,Février!$H$7:$H$16) -> 1 | I17: =SUBTOTAL(103,Février!$I$7:$I$16) -> 0 | J17: =SUBTOTAL(103,Février!$J$7:$J$16) -> 0 | K17: =SUBTOTAL(103,Février!$K$7:$K$16) -> 0 | L17: =SUBTOTAL(103,Février!$L$7:$L$16) -> 0 | M17: =SUBTOTAL(103,Février!$M$7:$M$16) -> 0 | N17: =SUBTOTAL(103,Février!$N$7:$N$16) -> 0 | O17: =SUBTOTAL(103,Février!$O$7:$O$16) -> 0 | P17: =SUBTOTAL(103,Février!$P$7:$P$16) -> 0 | Q17: =SUBTOTAL(103,Février!$Q$7:$Q$16) -> 0 | R17: =SUBTOTAL(103,Février!$R$7:$R$16) -> 0 | S17: =SUBTOTAL(103,Février!$S$7:$S$16) -> 0 | T17: =SUBTOTAL(103,Février!$T$7:$T$16) -> 0 | U17: =SUBTOTAL(103,Février!$U$7:$U$16) -> 0 | V17: =SUBTOTAL(103,Février!$V$7:$V$16) -> 0 | W17: =SUBTOTAL(103,Février!$W$7:$W$16) -> 0 | X17: =SUBTOTAL(103,Février!$X$7:$X$16) -> 0 | Y17: =SUBTOTAL(103,Février!$Y$7:$Y$16) -> 0 | Z17: =SUBTOTAL(103,Février!$Z$7:$Z$16) -> 0 | AA17: =SUBTOTAL(103,Février!$AA$7:$AA$16) -> 0 | AB17: =SUBTOTAL(103,Février!$AB$7:$AB$16) -> 0 | AC17: =SUBTOTAL(103,Février!$AC$7:$AC$16) -> 0 | AD17: =SUBTOTAL(103,Février!$AD$7:$AD$16) -> 0 | AE17: =SUBTOTAL(103,Février!$AE$7:$AE$16) -> 0 | AF17: =SUBTOTAL(103,Février!$AF$7:$AF$16) -> 0 | AG17: =SUBTOTAL(103,Février!$AG$7:$AG$16) -> 0 | AH17: =SUBTOTAL(109,Janvier2[Total des jours]) -> 6

Sheet Mars
B1: Calendrier des absences des employés
B2: Clé de motif d’absence | C2: C | D2: Congé | F2: M | G2: Maladie | J2: A | K2: Accident | M2: J | N2: Absence justifiée | R2: I | S2: Absence injustifiée | W2: X | X2: Absence
AH3: Entrez l’année :
B4: Mars | C4: Dates d’absence | AH4: =AnnéeCalendrier -> 2023
C5: =DATE(AnnéeCalendrier,MONTH(1&$B$4),1) -> 44986 | D5: =IF(C5="","",IF(MONTH(C5)=MONTH(C5+1),C5+1,"")) -> 44987 | E5: =IF(D5="","",IF(MONTH(D5)=MONTH(D5+1),D5+1,"")) -> 44988 | F5: =IF(E5="","",IF(MONTH(E5)=MONTH(E5+1),E5+1,"")) -> 44989 | G5: =IF(F5="","",IF(MONTH(F5)=MONTH(F5+1),F5+1,"")) -> 44990 | H5: =IF(G5="","",IF(MONTH(G5)=MONTH(G5+1),G5+1,"")) -> 44991 | I5: =IF(H5="","",IF(MONTH(H5)=MONTH(H5+1),H5+1,"")) -> 44992 | J5: =IF(I5="","",IF(MONTH(I5)=MONTH(I5+1),I5+1,"")) -> 44993 | K5: =IF(J5="","",IF(MONTH(J5)=MONTH(J5+1),J5+1,"")) -> 44994 | ... AG5: =IF(AF5="","",IF(MONTH(AF5)=MONTH(AF5+1),AF5+1,"")) -> 45016
B6: Nom de l’employé | C6: 1 | D6: 2 | E6: 3 | F6: 4 | G6: 5 | H6: 6 | I6: 7 | J6: 8 | K6: 9 | L6: 10 | M6: 11 | N6: 12 | O6: 13 | P6: 14 | Q6: 15 | R6: 16 | S6: 17 | T6: 18 | U6: 19 | V6: 20 | W6: 21 | X6: 22 | Y6: 23 | Z6: 24 | AA6: 25 | AB6: 26 | AC6: 27 | AD6: 28 | AE6: 29 | AF6: 30 | AG6: 31 | AH6: Total des jours
B7: Employé 1 | AH7: =COUNTA(Mars!$C7:$AG7) -> 0
B8: Employé 2 | AH8: =COUNTA(Mars!$C8:$AG8) -> 0
B9: Employé 3 | AH9: =COUNTA(Mars!$C9:$AG9) -> 0
B10: Employé 4 | AH10: =COUNTA(Mars!$C10:$AG10) -> 0
B11: Employé 5 | AH11: =COUNTA(Mars!$C11:$AG11) -> 0
B12: Employé 6 | AH12: =COUNTA(Mars!$C12:$AG12) -> 0
B13: Employé 7 | AH13: =COUNTA(Mars!$C13:$AG13) -> 0
B14: Employé 8 | AH14: =COUNTA(Mars!$C14:$AG14) -> 0
B15: Employé 9 | AH15: =COUNTA(Mars!$C15:$AG15) -> 0
B16: Employé 10 | AH16: =COUNTA(Mars!$C16:$AG16) -> 0
B17: =B4&" Total" -> Mars Total | C17: =SUBTOTAL(103,Mars!$C$7:$C$16) -> 0 | D17: =SUBTOTAL(103,Mars!$D$7:$D$16) -> 0 | E17: =SUBTOTAL(103,Mars!$E$7:$E$16) -> 0 | F17: =SUBTOTAL(103,Mars!$F$7:$F$16) -> 0 | G17: =SUBTOTAL(103,Mars!$G$7:$G$16) -> 0 | H17: =SUBTOTAL(103,Mars!$H$7:$H$16) -> 0 | I17: =SUBTOTAL(103,Mars!$I$7:$I$16) -> 0 | J17: =SUBTOTAL(103,Mars!$J$7:$J$16) -> 0 | K17: =SUBTOTAL(103,Mars!$K$7:$K$16) -> 0 | L17: =SUBTOTAL(103,Mars!$L$7:$L$16) -> 0 | M17: =SUBTOTAL(103,Mars!$M$7:$M$16) -> 0 | N17: =SUBTOTAL(103,Mars!$N$7:$N$16) -> 0 | O17: =SUBTOTAL(103,Mars!$O$7:$O$16) -> 0 | P17: =SUBTOTAL(103,Mars!$P$7:$P$16) -> 0 | Q17: =SUBTOTAL(103,Mars!$Q$7:$Q$16) -> 0 | R17: =SUBTOTAL(103,Mars!$R$7:$R$16) -> 0 | S17: =SUBTOTAL(103,Mars!$S$7:$S$16) -> 0 | T17: =SUBTOTAL(103,Mars!$T$7:$T$16) -> 0 | U17: =SUBTOTAL(103,Mars!$U$7:$U$16) -> 0 | V17: =SUBTOTAL(103,Mars!$V$7:$V$16) -> 0 | W17: =SUBTOTAL(103,Mars!$W$7:$W$16) -> 0 | X17: =SUBTOTAL(103,Mars!$X$7:$X$16) -> 0 | Y17: =SUBTOTAL(103,Mars!$Y$7:$Y$16) -> 0 | Z17: =SUBTOTAL(103,Mars!$Z$7:$Z$16) -> 0 | AA17: =SUBTOTAL(103,Mars!$AA$7:$AA$16) -> 0 | AB17: =SUBTOTAL(103,Mars!$AB$7:$AB$16) -> 0 | AC17: =SUBTOTAL(103,Mars!$AC$7:$AC$16) -> 0 | AD17: =SUBTOTAL(103,Mars!$AD$7:$AD$16) -> 0 | AE17: =SUBTOTAL(103,Mars!$AE$7:$AE$16) -> 0 | AF17: =SUBTOTAL(103,Mars!$AF$7:$AF$16) -> 0 | AG17: =SUBTOTAL(103,Mars!$AG$7:$AG$16) -> 0 | AH17: =SUBTOTAL(109,Janvier23[Total des jours]) -> 0

Sheet Avril
B1: Calendrier des absences des employés
B2: Clé de motif d’absence | C2: C | D2: Congé | F2: M | G2: Maladie | J2: A | K2: Accident | M2: J | N2: Absence justifiée | R2: I | S2: Absence injustifiée | W2: X | X2: Absence
AH3: Entrez l’année :
B4: Avril | C4: Dates d’absence | AH4: =AnnéeCalendrier -> 2023
C5: =DATE(AnnéeCalendrier,MONTH(1&$B$4),1) -> 45017 | D5: =IF(C5="","",IF(MONTH(C5)=MONTH(C5+1),C5+1,"")) -> 45018 | E5: =IF(D5="","",IF(MONTH(D5)=MONTH(D5+1),D5+1,"")) -> 45019 | F5: =IF(E5="","",IF(MONTH(E5)=MONTH(E5+1),E5+1,"")) -> 45020 | G5: =IF(F5="","",IF(MONTH(F5)=MONTH(F5+1),F5+1,"")) -> 45021 | H5: =IF(G5="","",IF(MONTH(G5)=MONTH(G5+1),G5+1,"")) -> 45022 | I5: =IF(H5="","",IF(MONTH(H5)=MONTH(H5+1),H5+1,"")) -> 45023 | J5: =IF(I5="","",IF(MONTH(I5)=MONTH(I5+1),I5+1,"")) -> 45024 | K5: =IF(J5="","",IF(MONTH(J5)=MONTH(J5+1),J5+1,"")) -> 45025 | ... AG5: =IF(AF5="","",IF(MONTH(AF5)=MONTH(AF5+1),AF5+1,""))
B6: Nom de l’employé | C6: 1 | D6: 2 | E6: 3 | F6: 4 | G6: 5 | H6: 6 | I6: 7 | J6: 8 | K6: 9 | L6: 10 | M6: 11 | N6: 12 | O6: 13 | P6: 14 | Q6: 15 | R6: 16 | S6: 17 | T6: 18 | U6: 19 | V6: 20 | W6: 21 | X6: 22 | Y6: 23 | Z6: 24 | AA6: 25 | AB6: 26 | AC6: 27 | AD6: 28 | AE6: 29 | AF6: 30 | AG6: 31 | AH6: Total des jours
B7: Employé 1 | AH7: =COUNTA(Avril!$C7:$AG7) -> 0
B8: Employé 2 | AH8: =COUNTA(Avril!$C8:$AG8) -> 0
B9: Employé 3 | AH9: =COUNTA(Avril!$C9:$AG9) -> 0
B10: Employé 4 | AH10: =COUNTA(Avril!$C10:$AG10) -> 0
B11: Employé 5 | AH11: =COUNTA(Avril!$C11:$AG11) -> 0
B12: Employé 6 | AH12: =COUNTA(Avril!$C12:$AG12) -> 0
B13: Employé 7 | AH13: =COUNTA(Avril!$C13:$AG13) -> 0
B14: Employé 8 | AH14: =COUNTA(Avril!$C14:$AG14) -> 0
B15: Employé 9 | AH15: =COUNTA(Avril!$C15:$AG15) -> 0
B16: Employé 10 | AH16: =COUNTA(Avril!$C16:$AG16) -> 0
B17: =B4&" Total" -> Avril Total | C17: =SUBTOTAL(103,Avril!$C$7:$C$16) -> 0 | D17: =SUBTOTAL(103,Avril!$D$7:$D$16) -> 0 | E17: =SUBTOTAL(103,Avril!$E$7:$E$16) -> 0 | F17: =SUBTOTAL(103,Avril!$F$7:$F$16) -> 0 | G17: =SUBTOTAL(103,Avril!$G$7:$G$16) -> 0 | H17: =SUBTOTAL(103,Avril!$H$7:$H$16) -> 0 | I17: =SUBTOTAL(103,Avril!$I$7:$I$16) -> 0 | J17: =SUBTOTAL(103,Avril!$J$7:$J$16) -> 0 | K17: =SUBTOTAL(103,Avril!$K$7:$K$16) -> 0 | L17: =SUBTOTAL(103,Avril!$L$7:$L$16) -> 0 | M17: =SUBTOTAL(103,Avril!$M$7:$M$16) -> 0 | N17: =SUBTOTAL(103,Avril!$N$7:$N$16) -> 0 | O17: =SUBTOTAL(103,Avril!$O$7:$O$16) -> 0 | P17: =SUBTOTAL(103,Avril!$P$7:$P$16) -> 0 | Q17: =SUBTOTAL(103,Avril!$Q$7:$Q$16) -> 0 | R17: =SUBTOTAL(103,Avril!$R$7:$R$16) -> 0 | S17: =SUBTOTAL(103,Avril!$S$7:$S$16) -> 0 | T17: =SUBTOTAL(103,Avril!$T$7:$T$16) -> 0 | U17: =SUBTOTAL(103,Avril!$U$7:$U$16) -> 0 | V17: =SUBTOTAL(103,Avril!$V$7:$V$16) -> 0 | W17: =SUBTOTAL(103,Avril!$W$7:$W$16) -> 0 | X17: =SUBTOTAL(103,Avril!$X$7:$X$16) -> 0 | Y17: =SUBTOTAL(103,Avril!$Y$7:$Y$16) -> 0 | Z17: =SUBTOTAL(103,Avril!$Z$7:$Z$16) -> 0 | AA17: =SUBTOTAL(103,Avril!$AA$7:$AA$16) -> 0 | AB17: =SUBTOTAL(103,Avril!$AB$7:$AB$16) -> 0 | AC17: =SUBTOTAL(103,Avril!$AC$7:$AC$16) -> 0 | AD17: =SUBTOTAL(103,Avril!$AD$7:$AD$16) -> 0 | AE17: =SUBTOTAL(103,Avril!$AE$7:$AE$16) -> 0 | AF17: =SUBTOTAL(103,Avril!$AF$7:$AF$16) -> 0 | AG17: =SUBTOTAL(103,Avril!$AG$7:$AG$16) -> 0 | AH17: =SUBTOTAL(109,Janvier235[Total des jours]) -> 0

Sheet Mai
B1: Calendrier des absences des employés
B2: Clé de motif d’absence | C2: C | D2: Congé | F2: M | G2: Maladie | J2: A | K2: Accident | M2: J | N2: Absence justifiée | R2: I | S2: Absence injustifiée | W2: X | X2: Absence
AH3: Entrez l’année :
B4: Mai | C4: Dates d’absence | AH4: =AnnéeCalendrier -> 2023
C5: =DATE(AnnéeCalendrier,MONTH(1&$B$4),1) -> 45047 | D5: =IF(C5="","",IF(MONTH(C5)=MONTH(C5+1),C5+1,"")) -> 45048 | E5: =IF(D5="","",IF(MONTH(D5)=MONTH(D5+1),D5+1,"")) -> 45049 | F5: =IF(E5="","",IF(MONTH(E5)=MONTH(E5+1),E5+1,"")) -> 45050 | G5: =IF(F5="","",IF(MONTH(F5)=MONTH(F5+1),F5+1,"")) -> 45051 | H5: =IF(G5="","",IF(MONTH(G5)=MONTH(G5+1),G5+1,"")) -> 45052 | I5: =IF(H5="","",IF(MONTH(H5)=MONTH(H5+1),H5+1,"")) -> 45053 | J5: =IF(I5="","",IF(MONTH(I5)=MONTH(I5+1),I5+1,"")) -> 45054 | K5: =IF(J5="","",IF(MONTH(J5)=MONTH(J5+1),J5+1,"")) -> 45055 | ... AG5: =IF(AF5="","",IF(MONTH(AF5)=MONTH(AF5+1),AF5+1,"")) -> 45077
B6: Nom de l’employé | C6: 1 | D6: 2 | E6: 3 | F6: 4 | G6: 5 | H6: 6 | I6: 7 | J6: 8 | K6: 9 | L6: 10 | M6: 11 | N6: 12 | O6: 13 | P6: 14 | Q6: 15 | R6: 16 | S6: 17 | T6: 18 | U6: 19 | V6: 20 | W6: 21 | X6: 22 | Y6: 23 | Z6: 24 | AA6: 25 | AB6: 26 | AC6: 27 | AD6: 28 | AE6: 29 | AF6: 30 | AG6: 31 | AH6: Total des jours
B7: Employé 1 | AH7: =COUNTA(Mai!$C7:$AG7) -> 0
B8: Employé 2 | AH8: =COUNTA(Mai!$C8:$AG8) -> 0
B9: Employé 3 | C9: x | D9: i | E9: j | F9: a | G9: m | H9: c | AH9: =COUNTA(Mai!$C9:$AG9) -> 6
B10: Employé 4 | AH10: =COUNTA(Mai!$C10:$AG10) -> 0
B11: Employé 5 | AH11: =COUNTA(Mai!$C11:$AG11) -> 0
B12: Employé 6 | AH12: =COUNTA(Mai!$C12:$AG12) -> 0
B13: Employé 7 | AH13: =COUNTA(Mai!$C13:$AG13) -> 0
B14: Employé 8 | AH14: =COUNTA(Mai!$C14:$AG14) -> 0
B15: Employé 9 | AH15: =COUNTA(Mai!$C15:$AG15) -> 0
B16: Employé 10 | AH16: =COUNTA(Mai!$C16:$AG16) -> 0
B17: =B4&" Total" -> Mai Total | C17: =SUBTOTAL(103,Mai!$C$7:$C$16) -> 1 | D17: =SUBTOTAL(103,Mai!$D$7:$D$16) -> 1 | E17: =SUBTOTAL(103,Mai!$E$7:$E$16) -> 1 | F17: =SUBTOTAL(103,Mai!$F$7:$F$16) -> 1 | G17: =SUBTOTAL(103,Mai!$G$7:$G$16) -> 1 | H17: =SUBTOTAL(103,Mai!$H$7:$H$16) -> 1 | I17: =SUBTOTAL(103,Mai!$I$7:$I$16) -> 0 | J17: =SUBTOTAL(103,Mai!$J$7:$J$16) -> 0 | K17: =SUBTOTAL(103,Mai!$K$7:$K$16) -> 0 | L17: =SUBTOTAL(103,Mai!$L$7:$L$16) -> 0 | M17: =SUBTOTAL(103,Mai!$M$7:$M$16) -> 0 | N17: =SUBTOTAL(103,Mai!$N$7:$N$16) -> 0 | O17: =SUBTOTAL(103,Mai!$O$7:$O$16) -> 0 | P17: =SUBTOTAL(103,Mai!$P$7:$P$16) -> 0 | Q17: =SUBTOTAL(103,Mai!$Q$7:$Q$16) -> 0 | R17: =SUBTOTAL(103,Mai!$R$7:$R$16) -> 0 | S17: =SUBTOTAL(103,Mai!$S$7:$S$16) -> 0 | T17: =SUBTOTAL(103,Mai!$T$7:$T$16) -> 0 | U17: =SUBTOTAL(103,Mai!$U$7:$U$16) -> 0 | V17: =SUBTOTAL(103,Mai!$V$7:$V$16) -> 0 | W17: =SUBTOTAL(103,Mai!$W$7:$W$16) -> 0 | X17: =SUBTOTAL(103,Mai!$X$7:$X$16) -> 0 | Y17: =SUBTOTAL(103,Mai!$Y$7:$Y$16) -> 0 | Z17: =SUBTOTAL(103,Mai!$Z$7:$Z$16) -> 0 | AA17: =SUBTOTAL(103,Mai!$AA$7:$AA$16) -> 0 | AB17: =SUBTOTAL(103,Mai!$AB$7:$AB$16) -> 0 | AC17: =SUBTOTAL(103,Mai!$AC$7:$AC$16) -> 0 | AD17: =SUBTOTAL(103,Mai!$AD$7:$AD$16) -> 0 | AE17: =SUBTOTAL(103,Mai!$AE$7:$AE$16) -> 0 | AF17: =SUBTOTAL(103,Mai!$AF$7:$AF$16) -> 0 | AG17: =SUBTOTAL(103,Mai!$AG$7:$AG$16) -> 0 | AH17: =SUBTOTAL(109,Janvier2356[Total des jours]) -> 6

Sheet Noms des employés
B1: Noms des employés
B3: Noms des employés | E3: Mois | G3: C | H3: Congé | J3: 2023
B4: Employé 1 | E4: Janvier | G4: M | H4: Maladie
B5: Employé 2 | E5: Février | G5: A | H5: Accident
B6: Employé 3 | E6: Mars | G6: J | H6: Absence justifiée
B7: Employé 4 | E7: Avril | G7: I | H7: Absence injustifiée
B8: Employé 5 | E8: Mai | G8: X | H8: Absence
B9: Employé 6 | E9: Juin
B10: Employé 7 | E10: Juillet
B11: Employé 8 | E11: Août
B12: Employé 9 | E12: Septembre
B13: Employé 10 | E13: Octobre
B14: Employé 11 | E14: Novembre
B15: Employé 12 | E15: Décembre
B16: Employé 13
B17: Employé 14
B18: Employé 15
B19: Employé 16
B20: Employé 17
B21: Employé 18
B22: Employé 19
B23: Employé 20
B24: Employé 21
B25: Employé 22
B26: Employé 23
B27: Employé 24
... B39: Employé 36
