Workbook
Name Fva: INDEX(Rendement!$J$2:$J$17,MATCH(Rendement!$A$22,Rendement!$A$2:$A$17,0)):INDEX(Rendement!$J$2:$J$17,MATCH(Présentation!$B$9,Rendement!$A$2:$A$17))
Name Fvs: INDEX(Rendement!$H$2:$H$17,MATCH(Rendement!$A$22,Rendement!$A$2:$A$17,0)):INDEX(Rendement!$H$2:$H$17,MATCH(Présentation!$B$9,Rendement!$A$2:$A$17))
Name Temps1: INDEX(Rendement!$A$2:$A$17,MATCH(Rendement!$A$22,Rendement!$A$2:$A$17,0)):INDEX(Rendement!$A$2:$A$17,MATCH(Présentation!$B$9,Rendement!$A$2:$A$17))

Sheet Présentation
A1: Nom
A2: Sexe (H/F) | B2: H | D2: Fva | E2: =INDEX(Rendement!$J$2:$J$17;EQUIV(Rendement!$A$22;Rendement!$A$2:$A$17;0)):INDEX(Rendement!$J$2:$J$17;EQUIV(Présentation!$B$9;Rendement!$A$2:$A$17))
A3: Âge (de 20 a 65 ans en bons de 5) | B3: 30 | D3: Fvs | E3: =INDEX(Rendement!$H$2:$H$17;EQUIV(Rendement!$A$22;Rendement!$A$2:$A$17;0)):INDEX(Rendement!$H$2:$H$17;EQUIV(Présentation!$B$9;Rendement!$A$2:$A$17))
A4: Statut fumeur (F/NF) | B4: F | D4: Temps1 | E4: =INDEX(Rendement!$A$2:$A$17;EQUIV(Rendement!$A$22;Rendement!$A$2:$A$17;0)):INDEX(Rendement!$A$2:$A$17;EQUIV(Présentation!$B$9;Rendement!$A$2:$A$17))
A6: Placement inital | B6: 0
A7: Placement mensuel | B7: 100
A8: Rendement annuel | B8: 0.05
A9: Délais avant m.g. (années) | B9: 15
A11: Valeur après X nb d'années | B11: =CHOOSE(B9,Rendement!H3,Rendement!H4,Rendement!H5,Rendement!H6,Rendement!H7,Rendement!H8,Rendement!H9,Rendement!H10,Rendement!H11,Rendement!H12,Rendement!H13,Rendement!H14,Rendement!H15,Rendement!H16,Rendement!H17) -> 26728.894
A13: Prime mensuelle | B13: {=INDEX('Primes et Prestations'!B2:B38,MATCH(1,(Présentation!B3='Primes et Prestations'!A2:A38)*(Présentation!B2='Primes et Prestations'!D2:D38)*(Présentation!B4='Primes et Prestations'!E2:E38),0))} -> 48.24
A15: Si la maladie a lieu
A16: Prestation | B16: {=INDEX('Primes et Prestations'!C2:C38,MATCH(1,(Présentation!B3='Primes et Prestations'!A2:A38)*(Présentation!B2='Primes et Prestations'!D2:D38)*(Présentation!B4='Primes et Prestations'!E2:E38),0))} -> 35000
A17: Valeur après X nb d'années en payant une m.g | B17: =CHOOSE(B9,Rendement!H32,Rendement!H33,Rendement!H34,Rendement!H35,Rendement!H36,Rendement!H37,Rendement!H38,Rendement!H39,Rendement!H40,Rendement!H41,Rendement!H42,Rendement!H43,Rendement!H44,Rendement!H45,Rendement!H46) -> 13834.876
A18: Total | B18: =B16+B17 -> 48834.876
A20: Si la maladie n'a pas lieu
A21: Remboursement des primes | B21: =180*$B$13 -> 8683.2
A22: Valeur du placement après 15 ans | B22: =Rendement!H46 -> 13834.876
A23: Total | B23: =B21+B22 -> 22518.076

Sheet Primes et Prestations
A1: Âge | B1: Prime | C1: Prestation | D1: Sexe | E1: Statut fumeur
A2: 20 | B2: 50.58 | C2: 100000 | D2: H | E2: NF
A3: 25 | B3: 50.36 | C3: 75000 | D3: H | E3: NF
A4: 30 | B4: 48.33 | C4: 60000 | D4: H | E4: NF
A5: 35 | B5: 49.55 | C5: 45000 | D5: H | E5: NF
A6: 40 | B6: 47.07 | C6: 35000 | D6: H | E6: NF
A7: 45 | B7: 48.2 | C7: 30000 | D7: H | E7: NF
A8: 50 | B8: 45.25 | C8: 20000 | D8: H | E8: NF
A9: 55 | B9: 44.21 | C9: 15000 | D9: H | E9: NF
A10: 60 | B10: 57.66 | C10: 15000 | D10: H | E10: NF
A11: 65 | B11: 48.24 | C11: 10000 | D11: H | E11: NF
A12: 20 | B12: 49.38 | C12: 60000 | D12: H | E12: F
A13: 25 | B13: 49.31 | C13: 55000 | D13: H | E13: F
... A38: 65 | B38: 64.13 | C38: 10000 | D38: F | E38: F

Sheet Rendement
A1: Years | B1: Annual Rate | C1: Number of period/year | D1: PV | E1: PMT/month | F1: Monthly rate | G1: Nb of periods | H1: FV | I1: (PMT/month)-Prime | J1: FV
A2: 0 | B2: =Présentation!$B$8 -> 0.05 | C2: 12 | D2: =Présentation!$B$6 -> 0 | E2: =Présentation!$B$7 -> 100 | F2: =B2/C2 -> 0.0041666667 | G2: 0 | H2: =-FV(F2,G2,E2,D2,0) -> 0 | I2: =Présentation!$B$7-Présentation!$B$13 -> 51.76 | J2: =-FV($F2,$G2,$I2,$D2,0) -> 0 | K2: =Présentation!$B$16 -> 35000
A3: 1 | B3: =Présentation!$B$8 -> 0.05 | C3: 12 | D3: =Présentation!$B$6 -> 0 | E3: =Présentation!$B$7 -> 100 | F3: =B3/C3 -> 0.0041666667 | G3: =A3*C3 -> 12 | H3: =-FV(F3,G3,E3,D3,0) -> 1227.8855 | I3: =Présentation!$B$7-Présentation!$B$13 -> 51.76 | J3: =-FV($F3,$G3,$I3,$D3,0) -> 635.55356 | K3: =Présentation!$B$16 -> 35000
A4: 2 | B4: =Présentation!$B$8 -> 0.05 | C4: 12 | D4: =Présentation!$B$6 -> 0 | E4: =Présentation!$B$7 -> 100 | F4: =B4/C4 -> 0.0041666667 | G4: =A4*C4 -> 24 | H4: =-FV(F4,G4,E4,D4,0) -> 2518.5921 | I4: =Présentation!$B$7-Présentation!$B$13 -> 51.76 | J4: =-FV($F4,$G4,$I4,$D4,0) -> 1303.6232 | K4: =Présentation!$B$16 -> 35000
A5: 3 | B5: =Présentation!$B$8 -> 0.05 | C5: 12 | D5: =Présentation!$B$6 -> 0 | E5: =Présentation!$B$7 -> 100 | F5: =B5/C5 -> 0.0041666667 | G5: =A5*C5 -> 36 | H5: =-FV(F5,G5,E5,D5,0) -> 3875.3336 | I5: =Présentation!$B$7-Présentation!$B$13 -> 51.76 | J5: =-FV($F5,$G5,$I5,$D5,0) -> 2005.8726 | K5: =Présentation!$B$16 -> 35000
A6: 4 | B6: =Présentation!$B$8 -> 0.05 | C6: 12 | D6: =Présentation!$B$6 -> 0 | E6: =Présentation!$B$7 -> 100 | F6: =B6/C6 -> 0.0041666667 | G6: =A6*C6 -> 48 | H6: =-FV(F6,G6,E6,D6,0) -> 5301.4885 | I6: =Présentation!$B$7-Présentation!$B$13 -> 51.76 | J6: =-FV($F6,$G6,$I6,$D6,0) -> 2744.0505 | K6: =Présentation!$B$16 -> 35000
A7: 5 | B7: =Présentation!$B$8 -> 0.05 | C7: 12 | D7: =Présentation!$B$6 -> 0 | E7: =Présentation!$B$7 -> 100 | F7: =B7/C7 -> 0.0041666667 | G7: =A7*C7 -> 60 | H7: =-FV(F7,G7,E7,D7,0) -> 6800.6083 | I7: =Présentation!$B$7-Présentation!$B$13 -> 51.76 | J7: =-FV($F7,$G7,$I7,$D7,0) -> 3519.9948 | K7: =Présentation!$B$16 -> 35000
A8: 6 | B8: =Présentation!$B$8 -> 0.05 | C8: 12 | D8: =Présentation!$B$6 -> 0 | E8: =Présentation!$B$7 -> 100 | F8: =B8/C8 -> 0.0041666667 | G8: =A8*C8 -> 72 | H8: =-FV(F8,G8,E8,D8,0) -> 8376.4259 | I8: =Présentation!$B$7-Présentation!$B$13 -> 51.76 | J8: =-FV($F8,$G8,$I8,$D8,0) -> 4335.638 | K8: =Présentation!$B$16 -> 35000
A9: 7 | B9: =Présentation!$B$8 -> 0.05 | C9: 12 | D9: =Présentation!$B$6 -> 0 | E9: =Présentation!$B$7 -> 100 | F9: =B9/C9 -> 0.0041666667 | G9: =A9*C9 -> 84 | H9: =-FV(F9,G9,E9,D9,0) -> 10032.865 | I9: =Présentation!$B$7-Présentation!$B$13 -> 51.76 | J9: =-FV($F9,$G9,$I9,$D9,0) -> 5193.0111 | K9: =Présentation!$B$16 -> 35000
A10: 8 | B10: =Présentation!$B$8 -> 0.05 | C10: 12 | D10: =Présentation!$B$6 -> 0 | E10: =Présentation!$B$7 -> 100 | F10: =B10/C10 -> 0.0041666667 | G10: =A10*C10 -> 96 | H10: =-FV(F10,G10,E10,D10,0) -> 11774.051 | I10: =Présentation!$B$7-Présentation!$B$13 -> 51.76 | J10: =-FV($F10,$G10,$I10,$D10,0) -> 6094.2489 | K10: =Présentation!$B$16 -> 35000
A11: 9 | B11: =Présentation!$B$8 -> 0.05 | C11: 12 | D11: =Présentation!$B$6 -> 0 | E11: =Présentation!$B$7 -> 100 | F11: =B11/C11 -> 0.0041666667 | G11: =A11*C11 -> 108 | H11: =-FV(F11,G11,E11,D11,0) -> 13604.32 | I11: =Présentation!$B$7-Présentation!$B$13 -> 51.76 | J11: =-FV($F11,$G11,$I11,$D11,0) -> 7041.5958 | K11: =Présentation!$B$16 -> 35000
A12: 10 | B12: =Présentation!$B$8 -> 0.05 | C12: 12 | D12: =Présentation!$B$6 -> 0 | E12: =Présentation!$B$7 -> 100 | F12: =B12/C12 -> 0.0041666667 | G12: =A12*C12 -> 120 | H12: =-FV(F12,G12,E12,D12,0) -> 15528.228 | I12: =Présentation!$B$7-Présentation!$B$13 -> 51.76 | J12: =-FV($F12,$G12,$I12,$D12,0) -> 8037.4108 | K12: =Présentation!$B$16 -> 35000
A13: 11 | B13: =Présentation!$B$8 -> 0.05 | C13: 12 | D13: =Présentation!$B$6 -> 0 | E13: =Présentation!$B$7 -> 100 | F13: =B13/C13 -> 0.0041666667 | G13: =A13*C13 -> 132 | H13: =-FV(F13,G13,E13,D13,0) -> 17550.567 | I13: =Présentation!$B$7-Présentation!$B$13 -> 51.76 | J13: =-FV($F13,$G13,$I13,$D13,0) -> 9084.1735 | K13: =Présentation!$B$16 -> 35000
A14: 12 | B14: =Présentation!$B$8 -> 0.05 | C14: 12 | D14: =Présentation!$B$6 -> 0 | E14: =Présentation!$B$7 -> 100 | F14: =B14/C14 -> 0.0041666667 | G14: =A14*C14 -> 144 | H14: =-FV(F14,G14,E14,D14,0) -> 19676.373 | I14: =Présentation!$B$7-Présentation!$B$13 -> 51.76 | J14: =-FV($F14,$G14,$I14,$D14,0) -> 10184.491 | K14: =Présentation!$B$16 -> 35000
... A17: 15 | B17: =Présentation!$B$8 -> 0.05 | C17: 12 | D17: =Présentation!$B$6 -> 0 | E17: =Présentation!$B$7 -> 100 | F17: =B17/C17 -> 0.0041666667 | G17: =A17*C17 -> 180 | H17: =-FV(F17,G17,E17,D17,0) -> 26728.894 | I17: =Présentation!$B$7-Présentation!$B$13 -> 51.76 | J17: =-FV($F17,$G17,$I17,$D17,0) -> 13834.876 | K17: =Présentation!$B$16 -> 35000
A19: =INDEX(Rendement!$A$2:$A$17,MATCH(Rendement!$A$22,Rendement!$A$2:$A$17,0)):INDEX(Rendement!$A$2:$A$17,MATCH(Présentation!$B$9,Rendement!$A$2:$A$17)) -> #VALUE!
A20: =INDEX(Rendement!$H$2:$H$17,MATCH(Rendement!$A$22,Rendement!$A$2:$A$17,0)):INDEX(Rendement!$H$2:$H$17,MATCH(Présentation!$B$9,Rendement!$A$2:$A$17)) -> #VALUE!
A21: =INDEX(Rendement!$J$2:$J$17,MATCH(Rendement!$A$22,Rendement!$A$2:$A$17,0)):INDEX(Rendement!$J$2:$J$17,MATCH(Présentation!$B$9,Rendement!$A$2:$A$17)) -> #VALUE!
A22: 0
A23: =Présentation!$B$9 -> 15
A30: Years | B30: Annual Rate | C30: Number of period/year | D30: PV | E30: (PMT/month)-Prime | F30: Monthly rate | G30: Nb of periods | H30: FV
A31: 0 | B31: =Présentation!$B$8 -> 0.05 | C31: 12 | D31: =Présentation!$B$6 -> 0 | E31: =Présentation!$B$7-Présentation!$B$13 -> 51.76 | F31: =B31/C31 -> 0.0041666667 | G31: =A31*C31 -> 0 | H31: =-FV($F31,$G31,$E31,$D31,0) -> 0
A32: 1 | B32: =Présentation!$B$8 -> 0.05 | C32: 12 | D32: =Présentation!$B$6 -> 0 | E32: =Présentation!$B$7-Présentation!$B$13 -> 51.76 | F32: =B32/C32 -> 0.0041666667 | G32: =A32*C32 -> 12 | H32: =-FV($F32,$G32,$E32,$D32,0) -> 635.55356
A33: 2 | B33: =Présentation!$B$8 -> 0.05 | C33: 12 | D33: =Présentation!$B$6 -> 0 | E33: =Présentation!$B$7-Présentation!$B$13 -> 51.76 | F33: =B33/C33 -> 0.0041666667 | G33: =A33*C33 -> 24 | H33: =-FV(F33,G33,E33,D33,0) -> 1303.6232
A34: 3 | B34: =Présentation!$B$8 -> 0.05 | C34: 12 | D34: =Présentation!$B$6 -> 0 | E34: =Présentation!$B$7-Présentation!$B$13 -> 51.76 | F34: =B34/C34 -> 0.0041666667 | G34: =A34*C34 -> 36 | H34: =-FV(F34,G34,E34,D34,0) -> 2005.8726
A35: 4 | B35: =Présentation!$B$8 -> 0.05 | C35: 12 | D35: =Présentation!$B$6 -> 0 | E35: =Présentation!$B$7-Présentation!$B$13 -> 51.76 | F35: =B35/C35 -> 0.0041666667 | G35: =A35*C35 -> 48 | H35: =-FV(F35,G35,E35,D35,0) -> 2744.0505
A36: 5 | B36: =Présentation!$B$8 -> 0.05 | C36: 12 | D36: =Présentation!$B$6 -> 0 | E36: =Présentation!$B$7-Présentation!$B$13 -> 51.76 | F36: =B36/C36 -> 0.0041666667 | G36: =A36*C36 -> 60 | H36: =-FV(F36,G36,E36,D36,0) -> 3519.9948
A37: 6 | B37: =Présentation!$B$8 -> 0.05 | C37: 12 | D37: =Présentation!$B$6 -> 0 | E37: =Présentation!$B$7-Présentation!$B$13 -> 51.76 | F37: =B37/C37 -> 0.0041666667 | G37: =A37*C37 -> 72 | H37: =-FV(F37,G37,E37,D37,0) -> 4335.638
A38: 7 | B38: =Présentation!$B$8 -> 0.05 | C38: 12 | D38: =Présentation!$B$6 -> 0 | E38: =Présentation!$B$7-Présentation!$B$13 -> 51.76 | F38: =B38/C38 -> 0.0041666667 | G38: =A38*C38 -> 84 | H38: =-FV(F38,G38,E38,D38,0) -> 5193.0111
A39: 8 | B39: =Présentation!$B$8 -> 0.05 | C39: 12 | D39: =Présentation!$B$6 -> 0 | E39: =Présentation!$B$7-Présentation!$B$13 -> 51.76 | F39: =B39/C39 -> 0.0041666667 | G39: =A39*C39 -> 96 | H39: =-FV(F39,G39,E39,D39,0) -> 6094.2489
A40: 9 | B40: =Présentation!$B$8 -> 0.05 | C40: 12 | D40: =Présentation!$B$6 -> 0 | E40: =Présentation!$B$7-Présentation!$B$13 -> 51.76 | F40: =B40/C40 -> 0.0041666667 | G40: =A40*C40 -> 108 | H40: =-FV(F40,G40,E40,D40,0) -> 7041.5958
A41: 10 | B41: =Présentation!$B$8 -> 0.05 | C41: 12 | D41: =Présentation!$B$6 -> 0 | E41: =Présentation!$B$7-Présentation!$B$13 -> 51.76 | F41: =B41/C41 -> 0.0041666667 | G41: =A41*C41 -> 120 | H41: =-FV(F41,G41,E41,D41,0) -> 8037.4108
A42: 11 | B42: =Présentation!$B$8 -> 0.05 | C42: 12 | D42: =Présentation!$B$6 -> 0 | E42: =Présentation!$B$7-Présentation!$B$13 -> 51.76 | F42: =B42/C42 -> 0.0041666667 | G42: =A42*C42 -> 132 | H42: =-FV(F42,G42,E42,D42,0) -> 9084.1735
A43: 12 | B43: =Présentation!$B$8 -> 0.05 | C43: 12 | D43: =Présentation!$B$6 -> 0 | E43: =Présentation!$B$7-Présentation!$B$13 -> 51.76 | F43: =B43/C43 -> 0.0041666667 | G43: =A43*C43 -> 144 | H43: =-FV(F43,G43,E43,D43,0) -> 10184.491
A44: 13 | B44: =Présentation!$B$8 -> 0.05 | C44: 12 | D44: =Présentation!$B$6 -> 0 | E44: =Présentation!$B$7-Présentation!$B$13 -> 51.76 | F44: =B44/C44 -> 0.0041666667 | G44: =A44*C44 -> 156 | H44: =-FV(F44,G44,E44,D44,0) -> 11341.102
... A46: 15 | B46: =Présentation!$B$8 -> 0.05 | C46: 12 | D46: =Présentation!$B$6 -> 0 | E46: =Présentation!$B$7-Présentation!$B$13 -> 51.76 | F46: =B46/C46 -> 0.0041666667 | G46: =A46*C46 -> 180 | H46: =-FV(F46,G46,E46,D46,0) -> 13834.876
A48: =INDEX(Rendement!$A$31:$A$46,MATCH(Rendement!$A$22,Rendement!$A$31:$A$46,0)):INDEX(Rendement!$A$31:$A$46,MATCH(Présentation!$B$9,Rendement!$A$31:$A$46)) -> #VALUE!
A49: =INDEX($H$31:$H$46,MATCH(Rendement!$A$22,Rendement!$A$31:$A$46,0)):INDEX(Rendement!$H$31:$H$46,MATCH(($A$23),Rendement!A31:A46)) -> #VALUE!
A50: =INDEX(#REF!,MATCH(Rendement!$A$23,Rendement!$A$31:$A$46,0)) -> #REF! | C50: {=INDEX(A31:A46,MATCH(Rendement!$A$23,Rendement!#REF!,0))} -> #REF!
