Workbook
Name CHOIX_DU_CONJOINT_AVEC_DDV: 'DDV ADMIN'!$W$4:$AA$36
Name CHOIX_DU_CONJOINT_SANS_DDV: 'DDV ADMIN'!$U$4:$V$36
Name HERITIER: '[1]DROITS DE SUCCESSION ADMIN'!$A$2:$A$7
Name LIEN_DE_FAMILLE: 'DDV ADMIN'!$S$6:$S$36
Name LIEN_HERITIER: 'DDV ADMIN'!$A$159:$A$170
Name NOMBRE_ENFANTS: 'DDV ADMIN'!$B$159:$B$161

Sheet DDV ADMIN
G1: CHOIX DU CONJOINT
G3: SANS DDV | K3: AVEC DDV
B5: ENANT(S) ISSU(S) DE L'UNION | D5: 1 ENFANT | G5: =('[1]DROITS ET FRAIS DE SUCCESSION'!$E$19/4) -> 137500.5 | I5: =_xlfn.IFS($E$31<31,Feuil1!$S$3,$E$31<41,Feuil1!$S$4,$E$31<51,Feuil1!$S$5,$E$31<61,Feuil1!$S$6,$E$31<71,Feuil1!$S$7,$E$31<81,Feuil1!$S$8,$E$31<91,Feuil1!$S$9,$E$31<131,Feuil1!$S$10) -> #NAME? | K5: ='[1]DROITS ET FRAIS DE SUCCESSION'!$E$19/2 -> 275001 | M5: =('[1]DROITS ET FRAIS DE SUCCESSION'!$E$19/4) -> 137500.5 | N5: =($I$5*3)/4 -> #NAME?
P6: =(E28/3)+($I$5/4)*3 -> #NAME?
D7: 2 ENFANTS | K7: =('[1]DROITS ET FRAIS DE SUCCESSION'!$E$19/3)+($I$5/4)*3 -> #NAME? | M7: =('[1]DROITS ET FRAIS DE SUCCESSION'!$E$19/4) -> 137500.5 | N7: =($I$5*3)/4 -> #NAME? | R7: 137500.5
R8: 4
D9: 3 ENFANTS OU PLUS | M9: =('[1]DROITS ET FRAIS DE SUCCESSION'!$E$19/4) -> 137500.5 | N9: =($I$5*3)/4 -> #NAME? | R9: =R7*R8 -> 550002
B12: ENFANT(S)S DONT UN ISSUS D'UNE AUTRE UNION | D12: 1 ENFANT | G12: =('[1]DROITS ET FRAIS DE SUCCESSION'!$E$19/4) -> 137500.5 | K12: ='[1]DROITS ET FRAIS DE SUCCESSION'!E19/2 -> 275001 | M12: =('[1]DROITS ET FRAIS DE SUCCESSION'!E19/4) -> 137500.5 | N12: =($I$5*3)/4 -> #NAME? | O12: =_xlfn.IFS($E$31<31,Feuil1!$S$3,$E$31<41,Feuil1!$S$4,$E$31<51,Feuil1!$S$5,$E$31<61,Feuil1!$S$6,$E$31<71,Feuil1!$S$7,$E$31<81,Feuil1!$S$8,$E$31<91,Feuil1!$S$9,$E$31<131,Feuil1!$S$10) -> #NAME?
D14: 2 ENFANTS | K14: ='[1]DROITS ET FRAIS DE SUCCESSION'!E19/3 -> 183334 | M14: =('[1]DROITS ET FRAIS DE SUCCESSION'!E19/4) -> 137500.5 | N14: =($I$5*3)/4 -> #NAME? | O14: =_xlfn.IFS($E$31<31,Feuil1!$S$3,$E$31<41,Feuil1!$S$4,$E$31<51,Feuil1!$S$5,$E$31<61,Feuil1!$S$6,$E$31<71,Feuil1!$S$7,$E$31<81,Feuil1!$S$8,$E$31<91,Feuil1!$S$9,$E$31<131,Feuil1!$S$10) -> #NAME?
D16: 3 ENFANTS OU PLUS | K16: =('[1]DROITS ET FRAIS DE SUCCESSION'!E19/4) -> 137500.5 | L16: =(I5*3)/4 -> #NAME? | M16: =_xlfn.IFS($E$31<31,Feuil1!$S$3,$E$31<41,Feuil1!$S$4,$E$31<51,Feuil1!$S$5,$E$31<61,Feuil1!$S$6,$E$31<71,Feuil1!$S$7,$E$31<81,Feuil1!$S$8,$E$31<91,Feuil1!$S$9,$E$31<131,Feuil1!$S$10) -> #NAME?
B19: PARENTS(S) | D19: 2 PARENTS | G19: ='[1]DROITS ET FRAIS DE SUCCESSION'!$E$19/2 -> 275001 | K19: ='[1]DROITS ET FRAIS DE SUCCESSION'!$E$19 -> 550002
D21: 1 PARENT | G21: =('[1]DROITS ET FRAIS DE SUCCESSION'!$E$19*3)/4 -> 412501.5
B24: NI PARENTS NI ENFANTS | G24: ='[1]DROITS ET FRAIS DE SUCCESSION'!$E$19 -> 550002
E27: SUCCESION BRUTE | G27: ENFANT ISSU DE COUPLE ET/OU D'UNE PRECEDENTE UNION | J27: PART DU CONJOINT SURVIVANT | M27: LIEN DE PARENTE | P27: NOMBRE D'ENFANTS
E28: 550000
E30: AGE MR | F30: AGE ME | H30: OUI | K30: OUI | N30: ENFANT | Q30: 1
E31: ='[1]DROITS ET FRAIS DE SUCCESSION'!H4 -> 73 | F31: ='[1]DROITS ET FRAIS DE SUCCESSION'!#REF! -> #REF!
H32: OUI | J32: DDV | K32: OUI | N32: ENFANT | Q32: 1
H33: NON | K33: NON | N33: PARENT | Q33: 2
N34: NI PARENTS NI ENFANTS | Q34: 3 OU PLUS
A39: LIEN | B39: ENFANT DU COUPLE | C39: NOMBRE | D39: PP
A41: PARENT | B41: OUI | C41: 2 | D41: =_xlfn.IFS(A41="ENFANT",G5,A41="NI PARENTS NI ENFANTS",G24,A41="PARENT",G19) -> 275001
A58: SANS DDV
A60: ENANT(S) ISSU(S) DE L'UNION (1/4 PP) | G60: OU | I60: ENANT(S) ISSU(S) DE L'UNION (100% USUFRUIT
A62: 1 ENFANT | D62: =('[1]DROITS ET FRAIS DE SUCCESSION'!$E$19/4) -> 137500.5 | I62: 1 ENFANT | N62: =_xlfn.IFS($E$31<31,Feuil1!$S$3,$E$31<41,Feuil1!$S$4,$E$31<51,Feuil1!$S$5,$E$31<61,Feuil1!$S$6,$E$31<71,Feuil1!$S$7,$E$31<81,Feuil1!$S$8,$E$31<91,Feuil1!$S$9,$E$31<131,Feuil1!$S$10) -> #NAME?
A64: 2 ENFANTS | I64: 2 ENFANTS
A66: 3 ENFANTS OU PLUS | I66: 3 ENFANTS OU PLUS
A70: ENFANT(S)S DONT UN ISSUS D'UNE AUTRE UNION (1/4 PP)
A72: 1 ENFANT | D72: =('[1]DROITS ET FRAIS DE SUCCESSION'!$E$19/4) -> 137500.5
A74: 2 ENFANTS
A76: 3 ENFANTS OU PLUS
A80: PARENTS(S) (PP)
A82: 2 PARENTS | D82: ='[1]DROITS ET FRAIS DE SUCCESSION'!$E$19/2 -> 275001
A84: 1 PARENT | D84: =('[1]DROITS ET FRAIS DE SUCCESSION'!$E$19*3)/4 -> 412501.5
A88: NI PARENTS NI ENFANTS
A90: ='[1]DROITS ET FRAIS DE SUCCESSION'!$E$19 -> 550002
A94: REFERENTIEL GRAPHIQUE SANS DDV
A99: AVEC DDV
C153: TABLEAU DYNAMIQUE
C155: CHOIX DU CONJOINT SANS DDV | E155: CHOIX DU CONJOINT SANS DDV
...

Sheet Feuil1
A1: SUCCESSION BRUTE | C1: AGE MR | D1: AGE ME | N1: formule de calcul par rapport à la succession brute | P1: AGE | Q1: USUFRUIT | R1: NUE PRO | S1: BASE USUFRUIT
A2: 550000 | C2: 73 | D2: 70 | M2: 1/4 en PP
M3: 100% en Usu | P3: 21 | Q3: 0.8 | R3: 0.2 | S3: ='DDV ADMIN'!$E28*Q3 -> 440000
A4: Enfant(s) issu(s) de l'union | B4: 1 | M4: 1/2 en PP | P4: 31 | Q4: 0.7 | R4: 0.3 | S4: ='DDV ADMIN'!$E28*Q4 -> 385000
A5: Enfant(s) issu(s) d'une autre union | B5: 1 | M5: 3/4 en PP | P5: 41 | Q5: 0.6 | R5: 0.4 | S5: ='DDV ADMIN'!$E28*Q5 -> 330000
A6: Parent(s) | M6: 100% en PP | P6: 51 | Q6: 0.5 | R6: 0.5 | S6: ='DDV ADMIN'!$E28*Q6 -> 275000
A7: Ni parent ni enfants | B7: x | M7: 1/2 en PP | P7: 61 | Q7: 0.4 | R7: 0.6 | S7: ='DDV ADMIN'!$E28*Q7 -> 220000
M8: 1/4 en PP + 3/4 en Usu | P8: 71 | Q8: 0.3 | R8: 0.7 | S8: ='DDV ADMIN'!$E28*Q8 -> 165000
M9: 1/3en PP | P9: 81 | Q9: 0.2 | R9: 0.8 | S9: ='DDV ADMIN'!$E28*Q9 -> 110000
M10: 100% en Usu | P10: 91 | Q10: 0.1 | R10: 0.9 | S10: ='DDV ADMIN'!$E28*Q10 -> 55000
M11: 1/4 en PP + 3/4 en Usu | P11: 131
B13: Choix du conjoint Sans Donation Dernier Vivant | G13: Choix supplémentaire Avec Donation Dernier Vivant
B14: 1/4 en PP | C14: 100% en Usu | D14: 1/2 en PP | E14: 3/4 en PP | F14: 100% en PP | G14: 1/2 en PP | H14: 1/4 en PP + 3/4 en Usu | I14: 1/3en PP | J14: 100% en Usu | K14: 1/4 en PP + 3/4 en Usu
A15: Enfant(s) issu(s) de l'union
A16: Enfant(s) issu(s) d'une autre union
A17: Parent(s)
A18: Ni parent ni enfants
