Workbook
Name Cdates: OFFSET(liste,-1,,,)
Name liste: OFFSET(Graph!$A$2,,,,COUNTIF(Graph!$2:$2,">0"))

Sheet Base
D1: JANVIER | E1: % | F1: FEVRIER | G1: % | H1: MARS | I1: % | J1: AVRIL | K1: % | L1: Mai | M1: % | N1: Juin | O1: %
D2: 10 | E2: 19.23 | F2: 12 | G2: 23.08 | H2: 14 | I2: 26.92 | J2: 16 | K2: 30.77 | L2: 31.77 | M2: 35.709 | N2: 39.648 | O2: 43.587

Sheet Graph
A1: =OFFSET(Base!$D$1,,(COLUMN()-1)*2,,) -> JANVIER | B1: =OFFSET(Base!$D$1,,(COLUMN()-1)*2,,) -> FEVRIER | C1: =OFFSET(Base!$D$1,,(COLUMN()-1)*2,,) -> MARS | D1: =OFFSET(Base!$D$1,,(COLUMN()-1)*2,,) -> AVRIL | E1: =OFFSET(Base!$D$1,,(COLUMN()-1)*2,,) -> Mai | F1: =OFFSET(Base!$D$1,,(COLUMN()-1)*2,,) -> Juin | G1: =OFFSET(Base!$D$1,,(COLUMN()-1)*2,,) -> 0 | H1: =OFFSET(Base!$D$1,,(COLUMN()-1)*2,,) -> 0 | ... K1: =OFFSET(Base!$D$1,,(COLUMN()-1)*2,,) -> 0
A2: =IF($A$6="Valeurs",SUMPRODUCT((Base!$D$1:$S$1=A1)*Base!$D$2:$S$2),SUMPRODUCT((Base!$D$1:$S$1=A1)*OFFSET(Base!$D$2:$S$2,,1,))) -> 10 | B2: =IF($A$6="Valeurs",SUMPRODUCT((Base!$D$1:$S$1=B1)*Base!$D$2:$S$2),SUMPRODUCT((Base!$D$1:$S$1=B1)*OFFSET(Base!$D$2:$S$2,,1,))) -> 12 | C2: =IF($A$6="Valeurs",SUMPRODUCT((Base!$D$1:$S$1=C1)*Base!$D$2:$S$2),SUMPRODUCT((Base!$D$1:$S$1=C1)*OFFSET(Base!$D$2:$S$2,,1,))) -> 14 | D2: =IF($A$6="Valeurs",SUMPRODUCT((Base!$D$1:$S$1=D1)*Base!$D$2:$S$2),SUMPRODUCT((Base!$D$1:$S$1=D1)*OFFSET(Base!$D$2:$S$2,,1,))) -> 16 | E2: =IF($A$6="Valeurs",SUMPRODUCT((Base!$D$1:$S$1=E1)*Base!$D$2:$S$2),SUMPRODUCT((Base!$D$1:$S$1=E1)*OFFSET(Base!$D$2:$S$2,,1,))) -> 31.77 | F2: =IF($A$6="Valeurs",SUMPRODUCT((Base!$D$1:$S$1=F1)*Base!$D$2:$S$2),SUMPRODUCT((Base!$D$1:$S$1=F1)*OFFSET(Base!$D$2:$S$2,,1,))) -> 39.648 | G2: =IF($A$6="Valeurs",SUMPRODUCT((Base!$D$1:$S$1=G1)*Base!$D$2:$S$2),SUMPRODUCT((Base!$D$1:$S$1=G1)*OFFSET(Base!$D$2:$S$2,,1,))) -> 0 | H2: =IF($A$6="Valeurs",SUMPRODUCT((Base!$D$1:$S$1=H1)*Base!$D$2:$S$2),SUMPRODUCT((Base!$D$1:$S$1=H1)*OFFSET(Base!$D$2:$S$2,,1,))) -> 0 | ... K2: =IF($A$6="Valeurs",SUMPRODUCT((Base!$D$1:$S$1=K1)*Base!$D$2:$S$2),SUMPRODUCT((Base!$D$1:$S$1=K1)*OFFSET(Base!$D$2:$S$2,,1,))) -> 0
A5: Choix valeurs ou Pourcentages
A6: Valeurs

Sheet Feuil3
