Workbook
Name colB_2: MIN(bilan!$B:$B)
Name test: IF(graph!$B$1<colB_2,colB_2,graph!$B$1)
Name test1: OFFSET(bilan!$E$2,MATCH(test,bilan!$B:$B,0)-2,,val)
Name val: IF(OR(graph!$B$3<graph!$B$1,graph!$B$3<colB_2),0,graph!$B$3-graph!$B$1+1)

Sheet Datas
A1: CW | B1: Program | C1: WP | G1: CB60 merci pour ton travail !
A2: CW28 | B2: all | C2: WP1- EMC/ MFT meeting/ any Client reporting meeting | G2: Je me pose cependant une question sur le fonctionnement de la formule dans l'onglet "calc-graph" entre les cellules B2, B3 et B4
A3: CW29 | B3: X4 | C3: WP1- External Milestone with Supplier | G3: B2 : =SI(ESTERREUR(SOMME(DECALER(test1;;COLONNE()-2)));1;SOMME(DECALER(test1;;COLONNE()-2)))
A4: CW30 | B4: EC175 | C4: WP1- Supplier support | G4: B3: =SI(ESTERREUR(SOMME(DECALER(test1;;COLONNE()+9)));1;SOMME(DECALER(test1;;COLONNE()+9)))
A5: CW31 | B5: EC225 | C5: WP1- Team Coordinator / SDR / Buyer meetings | G5: B4: =SI(ESTERREUR(SOMME(DECALER(test1;;COLONNE()+20)));1;SOMME(DECALER(test1;;COLONNE()+20)))
A6: CW32 | B6: TIGER | C6: WP1- Mission on-site (At supplier)
A7: CW33 | B7: NH90 | C7: WP1- Surveillance / continuous improvment: Process & tools | G7: Comment indiques tu le nombres de colonnes a sommer?
A8: CW34 | C8: WP1- Training | G8: Si par exemple en B4 je voulais qu'il ne pas qu'il me somme les 9 colonnes mais seulement les 7 premières ou alors peut etre 12?
A9: CW35 | C9: WP1- Altran reporting | G9: J'ai essayé de reproduire la formule pour étendre mon tableau, mais sans succès.
A10: CW36 | C10: WP1/WP2- Management
A11: CW37 | C11: WP2- IRM/EMC | G11: j'ai tenté en B8: =SI(ESTERREUR(SOMME(DECALER(test1;;COLONNE()+31)));1;SOMME(DECALER(test1;;COLONNE()+31)))
A12: CW38 | C12: WP2- Precriticity assessment | G12: en B9: =SI(ESTERREUR(SOMME(DECALER(test1;;COLONNE()+45)));1;SOMME(DECALER(test1;;COLONNE()+45)))
A13: CW39 | C13: WP2- Phase 1 - Problem description
A14: CW40 | C14: WP2- Phase 2 - Root-Cause analysis | G14: et en B13: =SI(ESTERREUR(SOMME(DECALER(test1;;COLONNE()+59)));1;SOMME(DECALER(test1;;COLONNE()+59)))
A15: CW41 | C15: WP2- Phase 3 - Action plan
A16: CW42 | C16: WP2- Phase 4 - Action plan implementation | G16: Je met en pj mes essais
A17: CW43 | C17: WP2- Phase 5 - Action plan objectives achievement | G17: ps: l'objectif reste que mes selecteurs puissent piloter les trois graphs en meme temps.
A18: CW44 | C18: WP2- Surveillance / continuous improvment: Process & tools
A19: CW45 | C19: WP2- Team Coordinator meeting | F19: colB_2 | G19: =MIN(bilan!$B:$B)
A20: CW46 | C20: WP2- Training | F20: test | G20: =SI(graph!$B$1<colB_2;colB_2;graph!$B$1)
A21: CW47 | C21: WP2- Altran reporting | F21: test1 | G21: =DECALER(bilan!$E$2;EQUIV(test;bilan!$B:$B;0)-2;;val)
A22: CW48 | F22: val | G22: =SI(OU(graph!$B$3<graph!$B$1;graph!$B$3<colB_2);0;graph!$B$3-graph!$B$1+1)
A23: CW49
A24: CW50
A25: CW51
A26: CW52
C38: 8H=1
C39: 1H= 0,125
C40: 2H =0,25
C41: 3H= 0,375
C42: 4H= 0,5

Sheet bilan
A1: Programmes | C1: Global (hours) | D1: X4 | E1: =Datas!C2 -> WP1- EMC/ MFT meeting/ any Client reporting meeting | F1: =Datas!C3 -> WP1- External Milestone with Supplier | G1: =Datas!C4 -> WP1- Supplier support | H1: =Datas!C5 -> WP1- Team Coordinator / SDR / Buyer meetings | I1: =Datas!C6 -> WP1- Mission on-site (At supplier) | J1: =Datas!C7 -> WP1- Surveillance / continuous improvment: Process & tools | K1: =Datas!C8 -> WP1- Training | L1: =Datas!C9 -> WP1- Altran reporting | M1: =Datas!C10 -> WP1/WP2- Management | O1: EC225 | P1: =E1 -> WP1- EMC/ MFT meeting/ any Client reporting meeting | Q1: =F1 -> WP1- External Milestone with Supplier | R1: =G1 -> WP1- Supplier support | S1: =H1 -> WP1- Team Coordinator / SDR / Buyer meetings | T1: =I1 -> WP1- Mission on-site (At supplier) | U1: =J1 -> WP1- Surveillance / continuous improvment: Process & tools | V1: =K1 -> WP1- Training | W1: =L1 -> WP1- Altran reporting | X1: =M1 -> WP1/WP2- Management | Z1: EC175 | AA1: =P1 -> WP1- EMC/ MFT meeting/ any Client reporting meeting | AB1: =Q1 -> WP1- External Milestone with Supplier | AC1: =R1 -> WP1- Supplier support | AD1: =S1 -> WP1- Team Coordinator / SDR / Buyer meetings | AE1: =T1 -> WP1- Mission on-site (At supplier) | AF1: =U1 -> WP1- Surveillance / continuous improvment: Process & tools | AG1: =V1 -> WP1- Training | AH1: =W1 -> WP1- Altran reporting | AI1: =X1 -> WP1/WP2- Management | AK1: =#REF! -> #REF! | AL1: X3637 | AM1: WP2- IRM/EMC | AN1: WP2- Precriticity | AO1: WP2- Phase 1 - Pro | AP1: WP2- Phase 2 - Roo | AQ1: WP2- Phase 3 - Act | AR1: WP2- Phase 4 - Act | AS1: WP2- Phase 5 - Act | AT1: WP2- Surveillance | AU1: WP2- Team Coordina | AV1: WP2- Training | AW1: WP2- Altran report | AX1: WP1/WP2- Managemen | AZ1: PANTHER | BA1: WP2- IRM/EMC | BB1: WP2- Precriticity | BC1: WP2- Phase 1 - Pro | BD1: WP2- Phase 2 - Roo | BE1: WP2- Phase 3 - Act | BF1: WP2- Phase 4 - Act | BG1: WP2- Phase 5 - Act | BH1: WP2- Surveillance | BI1: WP2- Team Coordina | BJ1: WP2- Training | BK1: WP2- Altran report | BL1: WP1/WP2- Managemen | BN1: EX9980 | BO1: WP3 - Def | BP1: WP3 - Remain to supplier | BQ1: WP3 - Pb Description | BR1: WP3 - Reporting | BS1: WP3 - Save
A2: CW28 | B2: =RIGHT(A2,2)*1 -> 28 | C2: 46.064257 | D2: 24.109107 | E2: 8.3424611 | F2: 7.3882464 | G2: 6.8896641 | H2: 4.8481594 | I2: 2.5976716 | J2: 2.3320626 | K2: 1.6631978 | L2: 1.3277471 | M2: 4.9200284 | O2: 24.109107 | P2: 1 | Q2: 7.3882464 | R2: 6.8896641 | S2: 4.8481594 | T2: 2.5976716 | U2: 2.3320626 | V2: 1.6631978 | W2: 1.3277471 | X2: 4.9200284 | Z2: 24.109107 | AA2: 2 | AB2: 7.3882464 | AC2: 6.8896641 | AD2: 4.8481594 | AE2: 2.5976716 | AF2: 2.3320626 | AG2: 1.6631978 | AH2: 1.3277471 | AI2: 4.9200284 | AK2: =#REF!+#REF! -> #REF! | AL2: 0 | AM2: 0 | AN2: 0 | AO2: 0 | AP2: 0 | AQ2: 0 | AR2: 0 | AS2: 0 | AT2: 0 | AU2: 0 | AV2: 0 | AW2: 0 | AX2: 0 | AZ2: 0 | BA2: 0 | BB2: 0 | BC2: 0 | BD2: 0 | BE2: 0 | BF2: 0 | BG2: 0 | BH2: 0 | BI2: 0 | BJ2: 0 | BK2: 0 | BL2: 0 | BN2: 0 | BO2: 0 | BP2: 0 | BQ2: 0 | BR2: 0 | BS2: 0
A3: CW29 | B3: =RIGHT(A3,2)*1 -> 29 | C3: 62.98555 | D3: 32.740763 | E3: 20.555997 | F3: 15.90279 | G3: 8.3741474 | H3: 6.4642126 | I3: 5.3485152 | J3: 3.2083627 | K3: 1.6631978 | L3: 1.4992209 | M3: 7.0597058 | O3: 32.740763 | P3: 1 | Q3: 15.90279 | R3: 8.3741474 | S3: 6.4642126 | T3: 5.3485152 | U3: 3.2083627 | V3: 1.6631978 | W3: 1.4992209 | X3: 7.0597058 | Z3: 32.740763 | AA3: 2 | AB3: 15.90279 | AC3: 8.3741474 | AD3: 6.4642126 | AE3: 5.3485152 | AF3: 3.2083627 | AG3: 1.6631978 | AH3: 1.4992209 | AI3: 7.0597058 | AK3: =#REF!+#REF! -> #REF! | AL3: 0 | AM3: 0 | AN3: 0 | AO3: 0 | AP3: 0 | AQ3: 0 | AR3: 0 | AS3: 0 | AT3: 0 | AU3: 0 | AV3: 0 | AW3: 0 | AX3: 0 | AZ3: 0 | BA3: 0 | BB3: 0 | BC3: 0 | BD3: 0 | BE3: 0 | BF3: 0 | BG3: 0 | BH3: 0 | BI3: 0 | BJ3: 0 | BK3: 0 | BL3: 0 | BN3: 0 | BO3: 0 | BP3: 0 | BQ3: 0 | BR3: 0 | BS3: 0
A4: CW30 | B4: =RIGHT(A4,2)*1 -> 30 | C4: 53.109125 | D4: 28.276114 | E4: 17.677296 | F4: 16.348569 | G4: 12.313744 | H4: 7.8365628 | I4: 6.4642126 | J4: 4.0364295 | K4: 2.0385047 | L4: 1.6631978 | M4: 5.082856 | O4: 28.276114 | P4: 17.677296 | Q4: 16.348569 | R4: 12.313744 | S4: 7.8365628 | T4: 6.4642126 | U4: 4.0364295 | V4: 2.0385047 | W4: 1.6631978 | X4: 5.082856 | Z4: 28.276114 | AA4: 17.677296 | AB4: 16.348569 | AC4: 12.313744 | AD4: 7.8365628 | AE4: 6.4642126 | AF4: 4.0364295 | AG4: 2.0385047 | AH4: 1.6631978 | AI4: 5.082856 | AK4: =#REF!+#REF! -> #REF! | AL4: 0 | AM4: 0 | AN4: 0 | AO4: 0 | AP4: 0 | AQ4: 0 | AR4: 0 | AS4: 0 | AT4: 0 | AU4: 0 | AV4: 0 | AW4: 0 | AX4: 0 | AZ4: 0 | BA4: 0 | BB4: 0 | BC4: 0 | BD4: 0 | BE4: 0 | BF4: 0 | BG4: 0 | BH4: 0 | BI4: 0 | BJ4: 0 | BK4: 0 | BL4: 0 | BN4: 0 | BO4: 0 | BP4: 0 | BQ4: 0 | BR4: 0 | BS4: 0
A5: CW31 | B5: =RIGHT(A5,2)*1 -> 31 | C5: 66.578909 | D5: 35.419553 | E5: 20.553178 | F5: 20.473439 | G5: 12.313744 | H5: 8.4349812 | I5: 6.4642126 | J5: 4.0364295 | K5: 2.9139849 | L5: 1.6631978 | M5: 5.8454536 | O5: 35.419553 | P5: 20.553178 | Q5: 20.473439 | R5: 12.313744 | S5: 8.4349812 | T5: 6.4642126 | U5: 4.0364295 | V5: 2.9139849 | W5: 1.6631978 | X5: 5.8454536 | Z5: 35.419553 | AA5: 20.553178 | AB5: 20.473439 | AC5: 12.313744 | AD5: 8.4349812 | AE5: 6.4642126 | AF5: 4.0364295 | AG5: 2.9139849 | AH5: 1.6631978 | AI5: 5.8454536 | AK5: =#REF!+#REF! -> #REF! | AL5: 4 | AM5: 0 | AN5: 0 | AO5: 0.75 | AP5: 0 | AQ5: 1.5 | AR5: 1.75 | AS5: 0 | AT5: 0 | AU5: 0 | AV5: 0 | AW5: 0 | AX5: 0 | AZ5: 0 | BA5: 0 | BB5: 0 | BC5: 0 | BD5: 0 | BE5: 0 | BF5: 0 | BG5: 0 | BH5: 0 | BI5: 0 | BJ5: 0 | BK5: 0 | BL5: 0 | BN5: 0 | BO5: 0 | BP5: 0 | BQ5: 0 | BR5: 0 | BS5: 0
A6: CW32 | B6: =RIGHT(A6,2)*1 -> 32 | C6: 62.567641 | D6: 33.33605 | E6: 22.991426 | F6: 19.920103 | G6: 8.625885 | H6: 8.2091626 | I6: 6.4642126 | J6: 2.3260492 | K6: 2.0213285 | L6: 1.6631978 | M6: 4.4980816 | O6: 33.33605 | P6: 22.991426 | Q6: 19.920103 | R6: 8.625885 | S6: 8.2091626 | T6: 6.4642126 | U6: 2.3260492 | V6: 2.0213285 | W6: 1.6631978 | X6: 4.4980816 | Z6: 33.33605 | AA6: 22.991426 | AB6: 19.920103 | AC6: 8.625885 | AD6: 8.2091626 | AE6: 6.4642126 | AF6: 2.3260492 | AG6: 2.0213285 | AH6: 1.6631978 | AI6: 4.4980816 | AK6: =#REF!+#REF! -> #REF! | AL6: 0 | AM6: 0 | AN6: 0 | AO6: 0 | AP6: 0 | AQ6: 0 | AR6: 0 | AS6: 0 | AT6: 0 | AU6: 0 | AV6: 0 | AW6: 0 | AX6: 0 | AZ6: 0 | BA6: 0 | BB6: 0 | BC6: 0 | BD6: 0 | BE6: 0 | BF6: 0 | BG6: 0 | BH6: 0 | BI6: 0 | BJ6: 0 | BK6: 0 | BL6: 0 | BN6: 0 | BO6: 0 | BP6: 0 | BQ6: 0 | BR6: 0 | BS6: 0
A7: CW33 | B7: =RIGHT(A7,2)*1 -> 33 | C7: 59.066237 | D7: 31.252547 | E7: 17.254029 | F7: 16.692619 | G7: 8.9483849 | H7: 8.2091626 | I7: 6.4642126 | J7: 2.5603744 | K7: 2.3260492 | L7: 1.6631978 | M7: 4.2956411 | O7: 31.252547 | P7: 17.254029 | Q7: 16.692619 | R7: 8.9483849 | S7: 8.2091626 | T7: 6.4642126 | U7: 2.5603744 | V7: 2.3260492 | W7: 1.6631978 | X7: 4.2956411 | Z7: 31.252547 | AA7: 17.254029 | AB7: 16.692619 | AC7: 8.9483849 | AD7: 8.2091626 | AE7: 6.4642126 | AF7: 2.5603744 | AG7: 2.3260492 | AH7: 1.6631978 | AI7: 4.2956411 | AK7: =#REF!+#REF! -> #REF! | AL7: 0 | AM7: 0 | AN7: 0 | AO7: 0 | AP7: 0 | AQ7: 0 | AR7: 0 | AS7: 0 | AT7: 0 | AU7: 0 | AV7: 0 | AW7: 0 | AX7: 0 | AZ7: 0 | BA7: 0 | BB7: 0 | BC7: 0 | BD7: 0 | BE7: 0 | BF7: 0 | BG7: 0 | BH7: 0 | BI7: 0 | BJ7: 0 | BK7: 0 | BL7: 0 | BN7: 0 | BO7: 0 | BP7: 0 | BQ7: 0 | BR7: 0 | BS7: 0
A8: CW34 | B8: =RIGHT(A8,2)*1 -> 34 | C8: 43.784191 | D8: 31.378373 | E8: 24.627488 | F8: 23.216177 | G8: 14.709229 | H8: 8.2341487 | I8: 4.8481594 | J8: 2.2987047 | K8: 1.7449469 | L8: 1.6631978 | M8: 2.9742397 | O8: 31.378373 | P8: 24.627488 | Q8: 23.216177 | R8: 14.709229 | S8: 8.2341487 | T8: 4.8481594 | U8: 2.2987047 | V8: 1.7449469 | W8: 1.6631978 | X8: 2.9742397 | Z8: 31.378373 | AA8: 24.627488 | AB8: 23.216177 | AC8: 14.709229 | AD8: 8.2341487 | AE8: 4.8481594 | AF8: 2.2987047 | AG8: 1.7449469 | AH8: 1.6631978 | AI8: 2.9742397 | AK8: =#REF!+#REF! -> #REF! | AL8: 5 | AM8: 0 | AN8: 0 | AO8: 1.75 | AP8: 0.25 | AQ8: 2 | AR8: 0.25 | AS8: 0.5 | AT8: 0.25 | AU8: 0 | AV8: 0 | AW8: 0 | AX8: 0 | AZ8: 0 | BA8: 0 | BB8: 0 | BC8: 0 | BD8: 0 | BE8: 0 | BF8: 0 | BG8: 0 | BH8: 0 | BI8: 0 | BJ8: 0 | BK8: 0 | BL8: 0 | BN8: 0 | BO8: 0 | BP8: 0 | BQ8: 0 | BR8: 0 | BS8: 0
A9: CW35 | B9: =RIGHT(A9,2)*1 -> 35 | C9: 43.820607 | D9: 27.189588 | E9: 23.216177 | F9: 14.789167 | G9: 10.360429 | H9: 8.5929394 | I9: 8.2091626 | J9: 4.8481594 | K9: 2.3919719 | L9: 2.0385047 | M9: 4.8241375 | O9: 27.189588 | P9: 23.216177 | Q9: 14.789167 | R9: 10.360429 | S9: 8.5929394 | T9: 8.2091626 | U9: 4.8481594 | V9: 2.3919719 | W9: 2.0385047 | X9: 4.8241375 | Z9: 27.189588 | AA9: 23.216177 | AB9: 14.789167 | AC9: 10.360429 | AD9: 8.5929394 | AE9: 8.2091626 | AF9: 4.8481594 | AG9: 2.3919719 | AH9: 2.0385047 | AI9: 4.8241375 | AK9: =#REF!+#REF! -> #REF! | AL9: 10 | AM9: 0 | AN9: 0 | AO9: 2.875 | AP9: 1.5 | AQ9: 1.25 | AR9: 3.125 | AS9: 0 | AT9: 0.25 | AU9: 0.5 | AV9: 0.5 | AW9: 0 | AX9: 0 | AZ9: 3.375 | BA9: 0 | BB9: 1.25 | BC9: 0.25 | BD9: 0 | BE9: 0.25 | BF9: 0 | BG9: 0 | BH9: 1 | BI9: 0.25 | BJ9: 0.375 | BK9: 0 | BL9: 0 | BN9: 3.375 | BO9: 0 | BP9: 1.25 | BQ9: 0.25 | BR9: 0 | BS9: 0.25
A10: CW36 | B10: =RIGHT(A10,2)*1 -> 36 | C10: 42.982622 | D10: 30.63752 | E10: 23.216177 | F10: 13.393256 | G10: 8.2260591 | H10: 8.2091626 | I10: 4.8481594 | J10: 2.4153857 | K10: 2.0324914 | L10: 1.6631978 | M10: 3.731858 | O10: 30.63752 | P10: 23.216177 | Q10: 13.393256 | R10: 8.2260591 | S10: 8.2091626 | T10: 4.8481594 | U10: 2.4153857 | V10: 2.0324914 | W10: 1.6631978 | X10: 3.731858 | Z10: 30.63752 | AA10: 23.216177 | AB10: 13.393256 | AC10: 8.2260591 | AD10: 8.2091626 | AE10: 4.8481594 | AF10: 2.4153857 | AG10: 2.0324914 | AH10: 1.6631978 | AI10: 3.731858 | AK10: =#REF!+#REF! -> #REF! | AL10: 6.25 | AM10: 0 | AN10: 0 | AO10: 2.25 | AP10: 1.25 | AQ10: 1 | AR10: 0.5 | AS10: 0 | AT10: 0.25 | AU10: 0 | AV10: 0 | AW10: 0 | AX10: 0 | AZ10: 3.25 | BA10: 0.5 | BB10: 0 | BC10: 0.75 | BD10: 0 | BE10: 0 | BF10: 0 | BG10: 0 | BH10: 1.25 | BI10: 0 | BJ10: 0 | BK10: 0 | BL10: 0.5 | BN10: 3.25 | BO10: 0.5 | BP10: 0 | BQ10: 0.75 | BR10: 0 | BS10: 0
A11: CW37 | B11: =RIGHT(A11,2)*1 -> 37 | C11: 45.295825 | D11: 26.292438 | E11: 25.894967 | F11: 13.20589 | G11: 8.2091626 | H11: 7.8258616 | I11: 4.8481594 | J11: 2.6196071 | K11: 2.2748567 | L11: 1.6631978 | M11: 2.6474553 | O11: 26.292438 | P11: 25.894967 | Q11: 13.20589 | R11: 8.2091626 | S11: 7.8258616 | T11: 4.8481594 | U11: 2.6196071 | V11: 2.2748567 | W11: 1.6631978 | X11: 2.6474553 | Z11: 26.292438 | AA11: 25.894967 | AB11: 13.20589 | AC11: 8.2091626 | AD11: 7.8258616 | AE11: 4.8481594 | AF11: 2.6196071 | AG11: 2.2748567 | AH11: 1.6631978 | AI11: 2.6474553 | AK11: =#REF!+#REF! -> #REF! | AL11: 5 | AM11: 0 | AN11: 0 | AO11: 1.75 | AP11: 0.75 | AQ11: 1.5 | AR11: 0.5 | AS11: 0 | AT11: 0.25 | AU11: 0 | AV11: 0.25 | AW11: 0 | AX11: 0 | AZ11: 3.25 | BA11: 0.5 | BB11: 0.75 | BC11: 1.75 | BD11: 0 | BE11: 0 | BF11: 0 | BG11: 0 | BH11: 0.25 | BI11: 0 | BJ11: 0 | BK11: 0 | BL11: 0.5 | BN11: 3.25 | BO11: 0.5 | BP11: 0.75 | BQ11: 1.75 | BR11: 0 | BS11: 0
A12: CW38 | B12: =RIGHT(A12,2)*1 -> 38 | C12: 46.064257 | D12: 24.109107 | E12: 8.3424611 | F12: 7.3882464 | G12: 6.8896641 | H12: 4.8481594 | I12: 2.5976716 | J12: 2.3320626 | K12: 1.6631978 | L12: 1.3277471 | M12: 4.9200284 | O12: 24.109107 | P12: 8.3424611 | Q12: 7.3882464 | R12: 6.8896641 | S12: 4.8481594 | T12: 2.5976716 | U12: 2.3320626 | V12: 1.6631978 | W12: 1.3277471 | X12: 4.9200284 | Z12: 24.109107 | AA12: 8.3424611 | AB12: 7.3882464 | AC12: 6.8896641 | AD12: 4.8481594 | AE12: 2.5976716 | AF12: 2.3320626 | AG12: 1.6631978 | AH12: 1.3277471 | AI12: 4.9200284 | AK12: =#REF!+#REF! -> #REF! | AL12: 5 | AM12: 0.5 | AN12: 0 | AO12: 2.25 | AP12: 0.75 | AQ12: 0.25 | AR12: 0.25 | AS12: 0.25 | AT12: 0.25 | AU12: 0.25 | AV12: 0.25 | AW12: 0 | AX12: 0.5 | AZ12: 4.25 | BA12: 1.5 | BB12: 0 | BC12: 1.5 | BD12: 0.25 | BE12: 0.25 | BF12: 0 | BG12: 0 | BH12: 0.5 | BI12: 0 | BJ12: 0.25 | BK12: 0 | BL12: 1.5 | BN12: 4.25 | BO12: 1.5 | BP12: 0 | BQ12: 1.5 | BR12: 0.25 | BS12: 0.25
A13: CW39 | B13: =RIGHT(A13,2)*1 -> 39 | C13: 62.98555 | D13: 32.740763 | E13: 20.555997 | F13: 15.90279 | G13: 8.3741474 | H13: 6.4642126 | I13: 5.3485152 | J13: 3.2083627 | K13: 1.6631978 | L13: 1.4992209 | M13: 7.0597058 | O13: 32.740763 | P13: 20.555997 | Q13: 15.90279 | R13: 8.3741474 | S13: 6.4642126 | T13: 5.3485152 | U13: 3.2083627 | V13: 1.6631978 | W13: 1.4992209 | X13: 7.0597058 | Z13: 32.740763 | AA13: 20.555997 | AB13: 15.90279 | AC13: 8.3741474 | AD13: 6.4642126 | AE13: 5.3485152 | AF13: 3.2083627 | AG13: 1.6631978 | AH13: 1.4992209 | AI13: 7.0597058 | AK13: =#REF!+#REF! -> #REF! | AL13: 5.125 | AM13: 0 | AN13: 0 | AO13: 2.25 | AP13: 0.25 | AQ13: 1.375 | AR13: 0.25 | AS13: 0 | AT13: 0.25 | AU13: 0.375 | AV13: 0.375 | AW13: 0 | AX13: 0 | AZ13: 4.15 | BA13: 0.5 | BB13: 0.5 | BC13: 2.4 | BD13: 0 | BE13: 0 | BF13: 0 | BG13: 0 | BH13: 0.5 | BI13: 0 | BJ13: 0.25 | BK13: 0 | BL13: 0.5 | BN13: 4.15 | BO13: 0.5 | BP13: 0.5 | BQ13: 2.4 | BR13: 0 | BS13: 0
... A20: CW46 | B20: =RIGHT(A20,2)*1 -> 46 | C20: 42.982622 | D20: 30.63752 | E20: 23.216177 | F20: 13.393256 | G20: 8.2260591 | H20: 8.2091626 | I20: 4.8481594 | J20: 2.4153857 | K20: 2.0324914 | L20: 1.6631978 | M20: 3.731858 | O20: 30.63752 | P20: 23.216177 | Q20: 13.393256 | R20: 8.2260591 | S20: 8.2091626 | T20: 4.8481594 | U20: 2.4153857 | V20: 2.0324914 | W20: 1.6631978 | X20: 3.731858 | Z20: 30.63752 | AA20: 23.216177 | AB20: 13.393256 | AC20: 8.2260591 | AD20: 8.2091626 | AE20: 4.8481594 | AF20: 2.4153857 | AG20: 2.0324914 | AH20: 1.6631978 | AI20: 3.731858 | AK20: =#REF!+#REF! -> #REF! | AL20: 0 | AM20: 0 | AN20: 0 | AO20: 0 | AP20: 0 | AQ20: 0 | AR20: 0 | AS20: 0 | AT20: 0 | AU20: 0 | AV20: 0 | AW20: 0 | AX20: 0 | AZ20: 0 | BA20: 0 | BB20: 0 | BC20: 0 | BD20: 0 | BE20: 0 | BF20: 0 | BG20: 0 | BH20: 0 | BI20: 0 | BJ20: 0 | BK20: 0 | BL20: 0 | BN20: 0 | BO20: 0 | BP20: 0 | BQ20: 0 | BR20: 0 | BS20: 0
E21: =COLUMN() -> 5 | P21: =COLUMN() -> 16 | AA21: =COLUMN() -> 27 | AM21: =COLUMN() -> 39 | BA21: =COLUMN() -> 53 | BO21: =COLUMN() -> 67

Sheet calc-graph
B1: =bilan!E1 -> WP1- EMC/ MFT meeting/ any Client reporting meeting | C1: =bilan!F1 -> WP1- External Milestone with Supplier | D1: =bilan!G1 -> WP1- Supplier support | E1: =bilan!H1 -> WP1- Team Coordinator / SDR / Buyer meetings | F1: =bilan!I1 -> WP1- Mission on-site (At supplier) | G1: =bilan!J1 -> WP1- Surveillance / continuous improvment: Process & tools | H1: =bilan!K1 -> WP1- Training | I1: =bilan!L1 -> WP1- Altran reporting | J1: =bilan!M1 -> WP1/WP2- Management
A2: X4 | B2: =IF(ISERROR(SUM(OFFSET(test1,,COLUMN()-2))),1,SUM(OFFSET(test1,,COLUMN()-2))) -> 178.43423 | C2: =IF(ISERROR(SUM(OFFSET(test1,,COLUMN()-2))),1,SUM(OFFSET(test1,,COLUMN()-2))) -> 148.12437 | D2: =IF(ISERROR(SUM(OFFSET(test1,,COLUMN()-2))),1,SUM(OFFSET(test1,,COLUMN()-2))) -> 90.761286 | E2: =IF(ISERROR(SUM(OFFSET(test1,,COLUMN()-2))),1,SUM(OFFSET(test1,,COLUMN()-2))) -> 69.038492 | F2: =IF(ISERROR(SUM(OFFSET(test1,,COLUMN()-2))),1,SUM(OFFSET(test1,,COLUMN()-2))) -> 51.708519 | G2: =IF(ISERROR(SUM(OFFSET(test1,,COLUMN()-2))),1,SUM(OFFSET(test1,,COLUMN()-2))) -> 28.061958 | H2: =IF(ISERROR(SUM(OFFSET(test1,,COLUMN()-2))),1,SUM(OFFSET(test1,,COLUMN()-2))) -> 18.795673 | I2: =IF(ISERROR(SUM(OFFSET(test1,,COLUMN()-2))),1,SUM(OFFSET(test1,,COLUMN()-2))) -> 14.844659 | J2: =IF(ISERROR(SUM(OFFSET(test1,,COLUMN()-2))),1,SUM(OFFSET(test1,,COLUMN()-2))) -> 43.232002
A3: EC225 | B3: =IF(ISERROR(SUM(OFFSET(test1,,COLUMN()+9))),1,SUM(OFFSET(test1,,COLUMN()+9))) -> 151.53577 | C3: =IF(ISERROR(SUM(OFFSET(test1,,COLUMN()+9))),1,SUM(OFFSET(test1,,COLUMN()+9))) -> 148.12437 | D3: =IF(ISERROR(SUM(OFFSET(test1,,COLUMN()+9))),1,SUM(OFFSET(test1,,COLUMN()+9))) -> 90.761286 | E3: =IF(ISERROR(SUM(OFFSET(test1,,COLUMN()+9))),1,SUM(OFFSET(test1,,COLUMN()+9))) -> 69.038492 | F3: =IF(ISERROR(SUM(OFFSET(test1,,COLUMN()+9))),1,SUM(OFFSET(test1,,COLUMN()+9))) -> 51.708519 | G3: =IF(ISERROR(SUM(OFFSET(test1,,COLUMN()+9))),1,SUM(OFFSET(test1,,COLUMN()+9))) -> 28.061958 | H3: =IF(ISERROR(SUM(OFFSET(test1,,COLUMN()+9))),1,SUM(OFFSET(test1,,COLUMN()+9))) -> 18.795673 | I3: =IF(ISERROR(SUM(OFFSET(test1,,COLUMN()+9))),1,SUM(OFFSET(test1,,COLUMN()+9))) -> 14.844659 | J3: =IF(ISERROR(SUM(OFFSET(test1,,COLUMN()+9))),1,SUM(OFFSET(test1,,COLUMN()+9))) -> 43.232002
A4: EC175 | B4: =IF(ISERROR(SUM(OFFSET(test1,,COLUMN()+20))),1,SUM(OFFSET(test1,,COLUMN()+20))) -> 153.53577 | C4: =IF(ISERROR(SUM(OFFSET(test1,,COLUMN()+20))),1,SUM(OFFSET(test1,,COLUMN()+20))) -> 148.12437 | D4: =IF(ISERROR(SUM(OFFSET(test1,,COLUMN()+20))),1,SUM(OFFSET(test1,,COLUMN()+20))) -> 90.761286 | E4: =IF(ISERROR(SUM(OFFSET(test1,,COLUMN()+20))),1,SUM(OFFSET(test1,,COLUMN()+20))) -> 69.038492 | F4: =IF(ISERROR(SUM(OFFSET(test1,,COLUMN()+20))),1,SUM(OFFSET(test1,,COLUMN()+20))) -> 51.708519 | G4: =IF(ISERROR(SUM(OFFSET(test1,,COLUMN()+20))),1,SUM(OFFSET(test1,,COLUMN()+20))) -> 28.061958 | H4: =IF(ISERROR(SUM(OFFSET(test1,,COLUMN()+20))),1,SUM(OFFSET(test1,,COLUMN()+20))) -> 18.795673 | I4: =IF(ISERROR(SUM(OFFSET(test1,,COLUMN()+20))),1,SUM(OFFSET(test1,,COLUMN()+20))) -> 14.844659 | J4: =IF(ISERROR(SUM(OFFSET(test1,,COLUMN()+20))),1,SUM(OFFSET(test1,,COLUMN()+20))) -> 43.232002
B7: =bilan!AM1 -> WP2- IRM/EMC | C7: =bilan!AN1 -> WP2- Precriticity | D7: =bilan!AO1 -> WP2- Phase 1 - Pro | E7: =bilan!AP1 -> WP2- Phase 2 - Roo | F7: =bilan!AQ1 -> WP2- Phase 3 - Act | G7: =bilan!AR1 -> WP2- Phase 4 - Act | H7: =bilan!AS1 -> WP2- Phase 5 - Act | I7: =bilan!AT1 -> WP2- Surveillance | ... M7: =bilan!AX1 -> WP1/WP2- Managemen
A8: X3637 | B8: =IF(ISERROR(SUM(OFFSET(test1,,COLUMN()+32))),1,SUM(OFFSET(test1,,COLUMN()+32))) -> 0 | C8: =IF(ISERROR(SUM(OFFSET(test1,,COLUMN()+32))),1,SUM(OFFSET(test1,,COLUMN()+32))) -> 0 | D8: =IF(ISERROR(SUM(OFFSET(test1,,COLUMN()+32))),1,SUM(OFFSET(test1,,COLUMN()+32))) -> 7.625 | E8: =IF(ISERROR(SUM(OFFSET(test1,,COLUMN()+32))),1,SUM(OFFSET(test1,,COLUMN()+32))) -> 3 | F8: =IF(ISERROR(SUM(OFFSET(test1,,COLUMN()+32))),1,SUM(OFFSET(test1,,COLUMN()+32))) -> 5.75 | G8: =IF(ISERROR(SUM(OFFSET(test1,,COLUMN()+32))),1,SUM(OFFSET(test1,,COLUMN()+32))) -> 5.625 | H8: =IF(ISERROR(SUM(OFFSET(test1,,COLUMN()+32))),1,SUM(OFFSET(test1,,COLUMN()+32))) -> 0.5 | I8: =IF(ISERROR(SUM(OFFSET(test1,,COLUMN()+32))),1,SUM(OFFSET(test1,,COLUMN()+32))) -> 0.75 | ... M8: =IF(ISERROR(SUM(OFFSET(test1,,COLUMN()+32))),1,SUM(OFFSET(test1,,COLUMN()+32))) -> 0
A9: PANTHER | B9: =IF(ISERROR(SUM(OFFSET(test1,,COLUMN()+46))),1,SUM(OFFSET(test1,,COLUMN()+46))) -> 0.5 | C9: =IF(ISERROR(SUM(OFFSET(test1,,COLUMN()+46))),1,SUM(OFFSET(test1,,COLUMN()+46))) -> 1.25 | D9: =IF(ISERROR(SUM(OFFSET(test1,,COLUMN()+46))),1,SUM(OFFSET(test1,,COLUMN()+46))) -> 1 | E9: =IF(ISERROR(SUM(OFFSET(test1,,COLUMN()+46))),1,SUM(OFFSET(test1,,COLUMN()+46))) -> 0 | F9: =IF(ISERROR(SUM(OFFSET(test1,,COLUMN()+46))),1,SUM(OFFSET(test1,,COLUMN()+46))) -> 0.25 | G9: =IF(ISERROR(SUM(OFFSET(test1,,COLUMN()+46))),1,SUM(OFFSET(test1,,COLUMN()+46))) -> 0 | H9: =IF(ISERROR(SUM(OFFSET(test1,,COLUMN()+46))),1,SUM(OFFSET(test1,,COLUMN()+46))) -> 0 | I9: =IF(ISERROR(SUM(OFFSET(test1,,COLUMN()+46))),1,SUM(OFFSET(test1,,COLUMN()+46))) -> 2.25 | ... M9: =IF(ISERROR(SUM(OFFSET(test1,,COLUMN()+46))),1,SUM(OFFSET(test1,,COLUMN()+46))) -> 0.5
B12: =bilan!BO1 -> WP3 - Def | C12: =bilan!BP1 -> WP3 - Remain to supplier | D12: =bilan!BQ1 -> WP3 - Pb Description | E12: =bilan!BR1 -> WP3 - Reporting | F12: =bilan!BS1 -> WP3 - Save
A13: EX9980 | B13: =IF(ISERROR(SUM(OFFSET(test1,,COLUMN()+60))),1,SUM(OFFSET(test1,,COLUMN()+60))) -> 0.5 | C13: =IF(ISERROR(SUM(OFFSET(test1,,COLUMN()+60))),1,SUM(OFFSET(test1,,COLUMN()+60))) -> 1.25 | D13: =IF(ISERROR(SUM(OFFSET(test1,,COLUMN()+60))),1,SUM(OFFSET(test1,,COLUMN()+60))) -> 1 | E13: =IF(ISERROR(SUM(OFFSET(test1,,COLUMN()+60))),1,SUM(OFFSET(test1,,COLUMN()+60))) -> 0 | F13: =IF(ISERROR(SUM(OFFSET(test1,,COLUMN()+60))),1,SUM(OFFSET(test1,,COLUMN()+60))) -> 0.25
A15: En B2 nous avons la formule:SOMME(DECALER(test1;;COLONNE()-2)
A16: Cette formule nous sert à faire la somme de:
A17: test1 qui est en colonne E dans la feuille bilan et qui prend en compte le debut et la fin gerer par les curseurs
A18: donc en B2 nous souhaitons faire la somme des cellules selectionner par test1 dans la colonne()-2,
A19: ça veux dire, colonne B - (colonne -2) est égal à zéro
A20: si nous avions colonne() , nous comptabiliserions la colonne E +2 puisque la formule dans cette feuille est positionné en colonne B
B21: Colonne réelle | C21: colonne de la formule | D21: premiere valeur à rechercher dans la base
A22: X4 | B22: 5 | C22: -2 | D22: WP1- EMC/ MFT meeting/ any Client reporting meeting
A23: EC225 | B23: 16 | C23: 9 | D23: WP1- EMC/ MFT meeting/ any Client reporting meeting
A24: EC175 | B24: 27 | C24: 31 | D24: WP1- EMC/ MFT meeting/ any Client reporting meeting
A25: X3637 | B25: 39 | C25: 32 | D25: WP2- IRM/EMC
A26: PANTHER | B26: 53 | C26: 46 | D26: WP2- IRM/EMC
A27: EX9980 | B27: 67 | C27: 60 | D27: WP3 - Def

Sheet graph
B1: 26
B3: 34
