Workbook

Sheet Sheet1
A1: Q3 | G1: Q4
A2: Country | C2: # Of resellers | D2: Actuals - | E2: Average Revenue Targeted | G2: Country | I2: # Of resellers | J2: Average Revenue Targeted
A3: Germany | B3: Ingram | C3: 395 | E3: 2.457 | G3: Germany | H3: Ingram | I3: 415 | J3: 2.709
B4: TD | C4: 384 | E4: 3.868 | H4: TD | I4: 403 | J4: 4.264
B5: SK | C5: 274 | E5: 3.516 | H5: SK | I5: 288 | J5: 3.876
A6: TOTAL DE
A7: UK | B7: Exertis | C7: 405 | E7: 4.677 | G7: UK | H7: Exertis | I7: 376 | J7: 3.898
B8: Ingram | C8: 552 | E8: 4.779 | H8: Ingram | I8: 565 | J8: 5.074
B9: TD | C9: 691 | E9: 5.623 | H9: TD | I9: 684 | J9: 6.297
A10: WER | B10: NL | C10: 848 | E10: 25.2 | G10: WER | H10: NL | I10: 1306 | J10: 30.4
B11: BLX | C11: 628 | E11: 10.4 | H11: BLX | I11: 689 | J11: 11.2
B12: ES | C12: 1851 | E12: 20.1 | H12: ES | I12: 1951 | J12: 22.4
B13: PT | C13: 364 | E13: 4.2 | H13: PT | I13: 395 | J13: 4.5
B14: AT | C14: 281 | E14: 4.4 | H14: AT | I14: 282 | J14: 4.3
B15: CH | C15: 614 | E15: 15.3 | H15: CH | I15: 706 | J15: 16.6
B16: SE | C16: 403 | E16: 24.1 | H16: SE | I16: 465 | J16: 25.5
B17: DK | C17: 770 | E17: 12.7 | H17: DK | I17: 905 | J17: 14.4
B18: NO | C18: 202 | E18: 7.3 | H18: NO | I18: 236 | J18: 7.9
B19: FI | C19: 277 | E19: 9.8 | H19: FI | I19: 298 | J19: 9.8
B21: Actual Q1 | F21: Actual Q2 | J21: Q3 | P21: Target Q4
A22: Country | B22: # of resellers | C22: Yoy % growth per resellers | D22: Average rev per partner | E22: Yoy % growth average per partner | F22: # of resellers | G22: Yoy % growth per resellers | H22: Average rev per partner | I22: Yoy % growth average per partner | J22: # of resellers target | K22: # resellers actual (2 months) | L22: Trend per Q (resellers) | M22: average rev per partner target | N22: Average rev per partner actual (2 months) | O22: Trend per Q (revenue) | P22: # of resellers | Q22: Yoy % growth per resellers | R22: Average rev per partner | S22: Yoy % growth average per partner
A23: Germany (total ) | B23: 1200 | C23: 7.32 | D23: 9575 | E23: 22.89 | F23: 1099 | G23: 6.11 | H23: 9725 | I23: 15.52 | J23: 1053 | K23: 1109 | L23: =J23-K23 -> -56 | M23: 29129 | N23: 10486 | O23: =M23-N23 -> 18643 | P23: 1106 | Q23: 5 | R23: 30586 | S23: 5
A24: SK | B24: 319 | C24: -8.7 | D24: 13785 | E24: 24.45 | F24: 312 | G24: 1.88 | H24: 14971 | I24: 26.85 | J24: 274 | K24: 306 | L24: =J24-K24 -> -32 | M24: 12834 | N24: 13616 | O24: =M24-N24 -> -782 | P24: 288 | Q24: 5 | R24: 13457 | S24: 5
A25: Tech Data | B25: 535 | C25: 30.26 | D25: 7230 | E25: 58.89 | F25: 577 | G25: 16.46 | H25: 7415 | I25: 19.9 | J25: 384 | K25: 521 | L25: =J25-K25 -> -137 | M25: 8213 | N25: 10432 | O25: =M25-N25 -> -2219 | P25: 403 | Q25: 5 | R25: 10578 | S25: 5
A26: Ingram | B26: 661 | C26: 4.17 | D26: 4878 | E26: -5.3 | F26: 562 | G26: 2.06 | H26: 4383 | I26: -4.93 | J26: 395 | K26: 574 | L26: =J26-K26 -> -179 | M26: 6221 | N26: 5545 | O26: =M26-N26 -> 676 | P26: 415 | Q26: 5 | R26: 6532 | S26: 5
A27: France (total) | B27: 1597 | C27: 10.26 | D27: 6336 | E27: 3.66 | F27: 1578 | G27: 7.99 | H27: 6123 | I27: 17.11 | K27: 1879 | N27: 6301 | O27: =M27-N27 -> -6301 | P27: 2217 | Q27: 5 | R27: 10599 | S27: 5
A28: Ingram | B28: 523 | C28: 36.96 | D28: 3878 | E28: 54.11 | F28: 515 | G28: 39.65 | H28: 3426 | I28: 61.58 | K28: 454 | N28: 3543 | O28: =M28-N28 -> -3543 | P28: 674 | Q28: 26 | R28: 5800 | S28: 36
A29: Tech Data | B29: 1424 | C29: 1.79 | D29: 4523 | E29: 3.58 | F29: 1421 | G29: 11.08 | H29: 4651 | I29: 10.92 | K29: 1091 | N29: 4681 | O29: =M29-N29 -> -4681 | P29: 1714 | Q29: 17 | R29: 7600 | S29: 22
A30: MCA | B30: 460 | C30: 6.08 | D30: 7571 | E30: -8.91 | F30: 358 | G30: 16.05 | H30: 7003 | I30: 10.32 | K30: 334 | N30: 7211 | O30: =M30-N30 -> -7211 | P30: 473 | Q30: 8 | R30: 10100 | S30: 8
A31: UK only (total) | B31: 1448 | C31: 7.05 | D31: 12286 | E31: 22.04 | F31: 1405 | G31: 5.89 | H31: 11673 | I31: 19.81 | J31: 1648 | K31: 1398 | L31: =J31-K31 -> 250 | M31: 28344.95 | N31: 11502 | O31: =M31-N31 -> 16842.95 | P31: 1625 | R31: 28556.09
A32: Tech Data | B32: 999 | C32: 9.46 | D32: 7672 | E32: -2.92 | F32: 989 | G32: 9.02 | H32: 8020 | I32: -2.66 | J32: 691 | K32: 827 | L32: =J32-K32 -> -136 | M32: 8138 | N32: 7687 | O32: =M32-N32 -> 451 | P32: 684 | R32: 9207
A33: Ingram | B33: 720 | C33: 13.48 | D33: 8847 | E33: 53.5 | F33: 656 | G33: 8.05 | H33: 8052 | I33: 24.96 | J33: 552 | K33: 687 | L33: =J33-K33 -> -135 | M33: 8658 | N33: 7817 | O33: =M33-N33 -> 841 | P33: 565 | R33: 8981
A34: Exertis | B34: 518 | C34: 1.44 | D34: 9814 | E34: 10.14 | F34: 463 | G34: -0.34 | H34: 9395 | I34: 30.11 | J34: 405 | K34: 458 | L34: =J34-K34 -> -53 | M34: 11548 | N34: 9504 | O34: =M34-N34 -> 2044 | P34: 376 | R34: 10368.09
A35: WER | B35: 4906 | C35: 10.7 | D35: 10680 | E35: 12.47 | F35: 4599 | G35: 2.66 | H35: 9984 | I35: 10.68 | J35: 5903 | K35: 3771 | L35: =J35-K35 -> 2132 | M35: 11214 | N35: 7407 | O35: =M35-N35 -> 3807 | P35: 6882 | Q35: 16.58 | R35: 11203 | S35: 16.46
A36: META | B36: 1914 | C36: 11.34 | D36: 23569 | E36: -0.41 | F36: 1880 | G36: 7.56 | H36: 21104 | I36: 16.82 | J36: 1836 | K36: 1735 | L36: =J36-K36 -> 101 | M36: 18492 | N36: 25518 | O36: =M36-N36 -> -7026 | P36: 1958 | Q36: 6.6 | R36: 21269 | S36: 15

Sheet Overview
A5: Country | B5: Scope | C5: # of resellers | D5: Yoy % growth per resellers | E5: Average rev per partner | F5: Yoy % growth average per partner | G5: # of resellers | H5: Yoy % growth per resellers | I5: Average rev per partner | J5: Yoy % growth average per partner | K5: # of Resellers Target | L5: # Resellers Actual | M5: Achieved Target | N5: Conclusion | O5: Yoy % growth per resellers | P5: average rev per partner target | Q5: Average rev per partner actual | T5: Yoy % growth average per partner | U5: # of resellers | V5: Yoy % growth per resellers | W5: Average rev per partner | X5: Yoy % growth average per partner
A6: Germany | B6: Client Commercial SnS + BTB | C6: =SUMIFS('Raw Commercial Country SnS+B2B'!$H:$H,'Raw Commercial Country SnS+B2B'!$B:$B,"FY20-Q1",'Raw Commercial Country SnS+B2B'!$C:$C,"Germany") -> 1000 | D6: =IFERROR(((SUMIFS('Raw Commercial Country SnS+B2B'!$H:$H,'Raw Commercial Country SnS+B2B'!$B:$B,"FY20-Q1",'Raw Commercial Country SnS+B2B'!$C:$C,"Germany")-SUMIFS('Raw Commercial Country SnS+B2B'!$H:$H,'Raw Commercial Country SnS+B2B'!$B:$B,"FY19-Q1",'Raw Commercial Country SnS+B2B'!$C:$C,"Germany")))/(SUMIFS('Raw Commercial Country SnS+B2B'!$H:$H,'Raw Commercial Country SnS+B2B'!$B:$B,"FY19-Q1",'Raw Commercial Country SnS+B2B'!$C:$C,"Germany")),"") -> 0.12233446 | E6: =SUMIFS('Raw Commercial Country SnS+B2B'!$G:$G,'Raw Commercial Country SnS+B2B'!$B:$B,"FY20-Q1",'Raw Commercial Country SnS+B2B'!$C:$C,"Germany") -> 12713 | F6: =IFERROR(((SUMIFS('Raw Commercial Country SnS+B2B'!$G:$G,'Raw Commercial Country SnS+B2B'!$B:$B,"FY20-Q1",'Raw Commercial Country SnS+B2B'!$C:$C,"Germany")-SUMIFS('Raw Commercial Country SnS+B2B'!$G:$G,'Raw Commercial Country SnS+B2B'!$B:$B,"FY19-Q1",'Raw Commercial Country SnS+B2B'!$C:$C,"Germany")))/(SUMIFS('Raw Commercial Country SnS+B2B'!$G:$G,'Raw Commercial Country SnS+B2B'!$B:$B,"FY19-Q1",'Raw Commercial Country SnS+B2B'!$C:$C,"Germany")),"") -> 0.10012115 | G6: =SUMIFS('Raw Commercial Country SnS+B2B'!$H:$H,'Raw Commercial Country SnS+B2B'!$B:$B,"FY20-Q2",'Raw Commercial Country SnS+B2B'!$C:$C,"Germany") -> 936 | H6: =IFERROR(((SUMIFS('Raw Commercial Country SnS+B2B'!$H:$H,'Raw Commercial Country SnS+B2B'!$B:$B,"FY20-Q2",'Raw Commercial Country SnS+B2B'!$C:$C,"Germany")-SUMIFS('Raw Commercial Country SnS+B2B'!$H:$H,'Raw Commercial Country SnS+B2B'!$B:$B,"FY19-Q2",'Raw Commercial Country SnS+B2B'!$C:$C,"Germany")))/(SUMIFS('Raw Commercial Country SnS+B2B'!$H:$H,'Raw Commercial Country SnS+B2B'!$B:$B,"FY19-Q2",'Raw Commercial Country SnS+B2B'!$C:$C,"Germany")),"") -> -0.035051546 | I6: =SUMIFS('Raw Commercial Country SnS+B2B'!$G:$G,'Raw Commercial Country SnS+B2B'!$B:$B,"FY20-Q2",'Raw Commercial Country SnS+B2B'!$C:$C,"Germany") -> 14505 | J6: =IFERROR(((SUMIFS('Raw Commercial Country SnS+B2B'!$G:$G,'Raw Commercial Country SnS+B2B'!$B:$B,"FY20-Q2",'Raw Commercial Country SnS+B2B'!$C:$C,"Germany")-SUMIFS('Raw Commercial Country SnS+B2B'!$G:$G,'Raw Commercial Country SnS+B2B'!$B:$B,"FY19-Q2",'Raw Commercial Country SnS+B2B'!$C:$C,"Germany")))/(SUMIFS('Raw Commercial Country SnS+B2B'!$G:$G,'Raw Commercial Country SnS+B2B'!$B:$B,"FY19-Q2",'Raw Commercial Country SnS+B2B'!$C:$C,"Germany")),"") -> 0.13746863 | K6: 1053 | L6: =SUMIFS('Raw Commercial Country SnS+B2B'!$H:$H,'Raw Commercial Country SnS+B2B'!$B:$B,"FY20-Q3",'Raw Commercial Country SnS+B2B'!$C:$C,"Germany") -> 1039 | M6: =IFERROR(L6/K6,"") -> 0.98670465 | N6: =IF(Overview!M6>=99%,"Target Achieved","Target Missed") -> Target Missed | O6: =IFERROR((L6-K6)/K6,"") -> -0.013295347 | P6: =I6*(1.05) -> 15230.25 | Q6: =SUMIFS('Raw Commercial Country SnS+B2B'!$G:$G,'Raw Commercial Country SnS+B2B'!$B:$B,"FY20-Q3",'Raw Commercial Country SnS+B2B'!$C:$C,"Germany") -> 16427 | R6: =IFERROR(Q6/P6,"") -> 1.0785772 | S6: =IF(Overview!R6>=99%,"Target Achieved","Target Missed") -> Target Achieved | T6: =IFERROR((Q6-P6)/P6,"") -> 0.078577174 | U6: 1106 | V6: =IFERROR(((U6-SUMIFS('Raw Commercial Country SnS+B2B'!$H:$H,'Raw Commercial Country SnS+B2B'!$B:$B,"FY19-Q4",'Raw Commercial Country SnS+B2B'!$C:$C,"Germany")))/(SUMIFS('Raw Commercial Country SnS+B2B'!$H:$H,'Raw Commercial Country SnS+B2B'!$B:$B,"FY19-Q4",'Raw Commercial Country SnS+B2B'!$C:$C,"Germany")),"") -> 0.062439962 | W6: =Q6*(1.05) -> 17248.35 | X6: =IFERROR(((W6-SUMIFS('Raw Commercial Country SnS+B2B'!$G:$G,'Raw Commercial Country SnS+B2B'!$B:$B,"FY19-Q4",'Raw Commercial Country SnS+B2B'!$C:$C,"Germany")))/(SUMIFS('Raw Commercial Country SnS+B2B'!$G:$G,'Raw Commercial Country SnS+B2B'!$B:$B,"FY19-Q4",'Raw Commercial Country SnS+B2B'!$C:$C,"Germany")),"") -> 0.33739242
A7: SK | C7: =SUMIFS('Raw Commercial Country SnS+B2B'!$H:$H,'Raw Commercial Country SnS+B2B'!$B:$B,"FY20-Q1",'Raw Commercial Country SnS+B2B'!$C:$C,"Germany") -> 1000 | D7: =IFERROR(((SUMIFS('Raw Commercial Country SnS+B2B'!$H:$H,'Raw Commercial Country SnS+B2B'!$B:$B,"FY20-Q1",'Raw Commercial Country SnS+B2B'!$C:$C,"Germany")-SUMIFS('Raw Commercial Country SnS+B2B'!$H:$H,'Raw Commercial Country SnS+B2B'!$B:$B,"FY19-Q1",'Raw Commercial Country SnS+B2B'!$C:$C,"Germany")))/(SUMIFS('Raw Commercial Country SnS+B2B'!$H:$H,'Raw Commercial Country SnS+B2B'!$B:$B,"FY19-Q1",'Raw Commercial Country SnS+B2B'!$C:$C,"Germany")),"") -> 0.12233446 | E7: =SUMIFS('Raw Commercial Country SnS+B2B'!$G:$G,'Raw Commercial Country SnS+B2B'!$B:$B,"FY20-Q1",'Raw Commercial Country SnS+B2B'!$C:$C,"Germany") -> 12713 | F7: =IFERROR(((SUMIFS('Raw Commercial Country SnS+B2B'!$G:$G,'Raw Commercial Country SnS+B2B'!$B:$B,"FY20-Q1",'Raw Commercial Country SnS+B2B'!$C:$C,"Germany")-SUMIFS('Raw Commercial Country SnS+B2B'!$G:$G,'Raw Commercial Country SnS+B2B'!$B:$B,"FY19-Q1",'Raw Commercial Country SnS+B2B'!$C:$C,"Germany")))/(SUMIFS('Raw Commercial Country SnS+B2B'!$G:$G,'Raw Commercial Country SnS+B2B'!$B:$B,"FY19-Q1",'Raw Commercial Country SnS+B2B'!$C:$C,"Germany")),"") -> 0.10012115 | G7: =SUMIFS('Raw Commercial Country SnS+B2B'!$H:$H,'Raw Commercial Country SnS+B2B'!$B:$B,"FY20-Q2",'Raw Commercial Country SnS+B2B'!$C:$C,"Germany") -> 936 | H7: =IFERROR(((SUMIFS('Raw Commercial Country SnS+B2B'!$H:$H,'Raw Commercial Country SnS+B2B'!$B:$B,"FY20-Q2",'Raw Commercial Country SnS+B2B'!$C:$C,"Germany")-SUMIFS('Raw Commercial Country SnS+B2B'!$H:$H,'Raw Commercial Country SnS+B2B'!$B:$B,"FY19-Q2",'Raw Commercial Country SnS+B2B'!$C:$C,"Germany")))/(SUMIFS('Raw Commercial Country SnS+B2B'!$H:$H,'Raw Commercial Country SnS+B2B'!$B:$B,"FY19-Q2",'Raw Commercial Country SnS+B2B'!$C:$C,"Germany")),"") -> -0.035051546 | I7: =SUMIFS('Raw Commercial Country SnS+B2B'!$G:$G,'Raw Commercial Country SnS+B2B'!$B:$B,"FY20-Q2",'Raw Commercial Country SnS+B2B'!$C:$C,"Germany") -> 14505 | J7: =IFERROR(((SUMIFS('Raw Commercial Country SnS+B2B'!$G:$G,'Raw Commercial Country SnS+B2B'!$B:$B,"FY20-Q2",'Raw Commercial Country SnS+B2B'!$C:$C,"Germany")-SUMIFS('Raw Commercial Country SnS+B2B'!$G:$G,'Raw Commercial Country SnS+B2B'!$B:$B,"FY19-Q2",'Raw Commercial Country SnS+B2B'!$C:$C,"Germany")))/(SUMIFS('Raw Commercial Country SnS+B2B'!$G:$G,'Raw Commercial Country SnS+B2B'!$B:$B,"FY19-Q2",'Raw Commercial Country SnS+B2B'!$C:$C,"Germany")),"") -> 0.13746863 | K7: 274 | L7: =SUMIFS('Raw Commercial Country SnS+B2B'!$H:$H,'Raw Commercial Country SnS+B2B'!$B:$B,"FY20-Q3",'Raw Commercial Country SnS+B2B'!$C:$C,"Germany") -> 1039 | M7: =IFERROR(L7/K7,"") -> 3.7919708 | O7: =IFERROR((L7-K7)/K7,"") -> 2.7919708 | P7: =I7*(1.05) -> 15230.25 | Q7: =SUMIFS('Raw Commercial Country SnS+B2B'!$G:$G,'Raw Commercial Country SnS+B2B'!$B:$B,"FY20-Q3",'Raw Commercial Country SnS+B2B'!$C:$C,"Germany") -> 16427 | R7: =IFERROR(Q7/P7,"") -> 1.0785772 | T7: =IFERROR((Q7-P7)/P7,"") -> 0.078577174 | U7: 288 | V7: =IFERROR(((U7-SUMIFS('Raw Commercial Country SnS+B2B'!$H:$H,'Raw Commercial Country SnS+B2B'!$B:$B,"FY19-Q4",'Raw Commercial Country SnS+B2B'!$C:$C,"Germany")))/(SUMIFS('Raw Commercial Country SnS+B2B'!$H:$H,'Raw Commercial Country SnS+B2B'!$B:$B,"FY19-Q4",'Raw Commercial Country SnS+B2B'!$C:$C,"Germany")),"") -> -0.72334294 | W7: 13457 | X7: =IFERROR(((W7-SUMIFS('Raw Commercial Country SnS+B2B'!$G:$G,'Raw Commercial Country SnS+B2B'!$B:$B,"FY19-Q4",'Raw Commercial Country SnS+B2B'!$C:$C,"Germany")))/(SUMIFS('Raw Commercial Country SnS+B2B'!$G:$G,'Raw Commercial Country SnS+B2B'!$B:$B,"FY19-Q4",'Raw Commercial Country SnS+B2B'!$C:$C,"Germany")),"") -> 0.043420951
A8: Tech Data | C8: =SUMIFS('Raw Commercial Country SnS+B2B'!$H:$H,'Raw Commercial Country SnS+B2B'!$B:$B,"FY20-Q1",'Raw Commercial Country SnS+B2B'!$C:$C,"Germany") -> 1000 | D8: =IFERROR(((SUMIFS('Raw Commercial Country SnS+B2B'!$H:$H,'Raw Commercial Country SnS+B2B'!$B:$B,"FY20-Q1",'Raw Commercial Country SnS+B2B'!$C:$C,"Germany")-SUMIFS('Raw Commercial Country SnS+B2B'!$H:$H,'Raw Commercial Country SnS+B2B'!$B:$B,"FY19-Q1",'Raw Commercial Country SnS+B2B'!$C:$C,"Germany")))/(SUMIFS('Raw Commercial Country SnS+B2B'!$H:$H,'Raw Commercial Country SnS+B2B'!$B:$B,"FY19-Q1",'Raw Commercial Country SnS+B2B'!$C:$C,"Germany")),"") -> 0.12233446 | E8: =SUMIFS('Raw Commercial Country SnS+B2B'!$G:$G,'Raw Commercial Country SnS+B2B'!$B:$B,"FY20-Q1",'Raw Commercial Country SnS+B2B'!$C:$C,"Germany") -> 12713 | F8: =IFERROR(((SUMIFS('Raw Commercial Country SnS+B2B'!$G:$G,'Raw Commercial Country SnS+B2B'!$B:$B,"FY20-Q1",'Raw Commercial Country SnS+B2B'!$C:$C,"Germany")-SUMIFS('Raw Commercial Country SnS+B2B'!$G:$G,'Raw Commercial Country SnS+B2B'!$B:$B,"FY19-Q1",'Raw Commercial Country SnS+B2B'!$C:$C,"Germany")))/(SUMIFS('Raw Commercial Country SnS+B2B'!$G:$G,'Raw Commercial Country SnS+B2B'!$B:$B,"FY19-Q1",'Raw Commercial Country SnS+B2B'!$C:$C,"Germany")),"") -> 0.10012115 | G8: =SUMIFS('Raw Commercial Country SnS+B2B'!$H:$H,'Raw Commercial Country SnS+B2B'!$B:$B,"FY20-Q2",'Raw Commercial Country SnS+B2B'!$C:$C,"Germany") -> 936 | H8: =IFERROR(((SUMIFS('Raw Commercial Country SnS+B2B'!$H:$H,'Raw Commercial Country SnS+B2B'!$B:$B,"FY20-Q2",'Raw Commercial Country SnS+B2B'!$C:$C,"Germany")-SUMIFS('Raw Commercial Country SnS+B2B'!$H:$H,'Raw Commercial Country SnS+B2B'!$B:$B,"FY19-Q2",'Raw Commercial Country SnS+B2B'!$C:$C,"Germany")))/(SUMIFS('Raw Commercial Country SnS+B2B'!$H:$H,'Raw Commercial Country SnS+B2B'!$B:$B,"FY19-Q2",'Raw Commercial Country SnS+B2B'!$C:$C,"Germany")),"") -> -0.035051546 | I8: =SUMIFS('Raw Commercial Country SnS+B2B'!$G:$G,'Raw Commercial Country SnS+B2B'!$B:$B,"FY20-Q2",'Raw Commercial Country SnS+B2B'!$C:$C,"Germany") -> 14505 | J8: =IFERROR(((SUMIFS('Raw Commercial Country SnS+B2B'!$G:$G,'Raw Commercial Country SnS+B2B'!$B:$B,"FY20-Q2",'Raw Commercial Country SnS+B2B'!$C:$C,"Germany")-SUMIFS('Raw Commercial Country SnS+B2B'!$G:$G,'Raw Commercial Country SnS+B2B'!$B:$B,"FY19-Q2",'Raw Commercial Country SnS+B2B'!$C:$C,"Germany")))/(SUMIFS('Raw Commercial Country SnS+B2B'!$G:$G,'Raw Commercial Country SnS+B2B'!$B:$B,"FY19-Q2",'Raw Commercial Country SnS+B2B'!$C:$C,"Germany")),"") -> 0.13746863 | K8: 384 | L8: =SUMIFS('Raw Commercial Country SnS+B2B'!$H:$H,'Raw Commercial Country SnS+B2B'!$B:$B,"FY20-Q3",'Raw Commercial Country SnS+B2B'!$C:$C,"Germany") -> 1039 | M8: =IFERROR(L8/K8,"") -> 2.7057292 | O8: =IFERROR((L8-K8)/K8,"") -> 1.7057292 | P8: =I8*(1.05) -> 15230.25 | Q8: =SUMIFS('Raw Commercial Country SnS+B2B'!$G:$G,'Raw Commercial Country SnS+B2B'!$B:$B,"FY20-Q3",'Raw Commercial Country SnS+B2B'!$C:$C,"Germany") -> 16427 | R8: =IFERROR(Q8/P8,"") -> 1.0785772 | T8: =IFERROR((Q8-P8)/P8,"") -> 0.078577174 | U8: 403 | V8: =IFERROR(((U8-SUMIFS('Raw Commercial Country SnS+B2B'!$H:$H,'Raw Commercial Country SnS+B2B'!$B:$B,"FY19-Q4",'Raw Commercial Country SnS+B2B'!$C:$C,"Germany")))/(SUMIFS('Raw Commercial Country SnS+B2B'!$H:$H,'Raw Commercial Country SnS+B2B'!$B:$B,"FY19-Q4",'Raw Commercial Country SnS+B2B'!$C:$C,"Germany")),"") -> -0.61287224 | W8: 10578 | X8: =IFERROR(((W8-SUMIFS('Raw Commercial Country SnS+B2B'!$G:$G,'Raw Commercial Country SnS+B2B'!$B:$B,"FY19-Q4",'Raw Commercial Country SnS+B2B'!$C:$C,"Germany")))/(SUMIFS('Raw Commercial Country SnS+B2B'!$G:$G,'Raw Commercial Country SnS+B2B'!$B:$B,"FY19-Q4",'Raw Commercial Country SnS+B2B'!$C:$C,"Germany")),"") -> -0.17980926
A9: Ingram | C9: =SUMIFS('Raw Commercial Country SnS+B2B'!$H:$H,'Raw Commercial Country SnS+B2B'!$B:$B,"FY20-Q1",'Raw Commercial Country SnS+B2B'!$C:$C,"Germany") -> 1000 | D9: =IFERROR(((SUMIFS('Raw Commercial Country SnS+B2B'!$H:$H,'Raw Commercial Country SnS+B2B'!$B:$B,"FY20-Q1",'Raw Commercial Country SnS+B2B'!$C:$C,"Germany")-SUMIFS('Raw Commercial Country SnS+B2B'!$H:$H,'Raw Commercial Country SnS+B2B'!$B:$B,"FY19-Q1",'Raw Commercial Country SnS+B2B'!$C:$C,"Germany")))/(SUMIFS('Raw Commercial Country SnS+B2B'!$H:$H,'Raw Commercial Country SnS+B2B'!$B:$B,"FY19-Q1",'Raw Commercial Country SnS+B2B'!$C:$C,"Germany")),"") -> 0.12233446 | E9: =SUMIFS('Raw Commercial Country SnS+B2B'!$G:$G,'Raw Commercial Country SnS+B2B'!$B:$B,"FY20-Q1",'Raw Commercial Country SnS+B2B'!$C:$C,"Germany") -> 12713 | F9: =IFERROR(((SUMIFS('Raw Commercial Country SnS+B2B'!$G:$G,'Raw Commercial Country SnS+B2B'!$B:$B,"FY20-Q1",'Raw Commercial Country SnS+B2B'!$C:$C,"Germany")-SUMIFS('Raw Commercial Country SnS+B2B'!$G:$G,'Raw Commercial Country SnS+B2B'!$B:$B,"FY19-Q1",'Raw Commercial Country SnS+B2B'!$C:$C,"Germany")))/(SUMIFS('Raw Commercial Country SnS+B2B'!$G:$G,'Raw Commercial Country SnS+B2B'!$B:$B,"FY19-Q1",'Raw Commercial Country SnS+B2B'!$C:$C,"Germany")),"") -> 0.10012115 | G9: =SUMIFS('Raw Commercial Country SnS+B2B'!$H:$H,'Raw Commercial Country SnS+B2B'!$B:$B,"FY20-Q2",'Raw Commercial Country SnS+B2B'!$C:$C,"Germany") -> 936 | H9: =IFERROR(((SUMIFS('Raw Commercial Country SnS+B2B'!$H:$H,'Raw Commercial Country SnS+B2B'!$B:$B,"FY20-Q2",'Raw Commercial Country SnS+B2B'!$C:$C,"Germany")-SUMIFS('Raw Commercial Country SnS+B2B'!$H:$H,'Raw Commercial Country SnS+B2B'!$B:$B,"FY19-Q2",'Raw Commercial Country SnS+B2B'!$C:$C,"Germany")))/(SUMIFS('Raw Commercial Country SnS+B2B'!$H:$H,'Raw Commercial Country SnS+B2B'!$B:$B,"FY19-Q2",'Raw Commercial Country SnS+B2B'!$C:$C,"Germany")),"") -> -0.035051546 | I9: =SUMIFS('Raw Commercial Country SnS+B2B'!$G:$G,'Raw Commercial Country SnS+B2B'!$B:$B,"FY20-Q2",'Raw Commercial Country SnS+B2B'!$C:$C,"Germany") -> 14505 | J9: =IFERROR(((SUMIFS('Raw Commercial Country SnS+B2B'!$G:$G,'Raw Commercial Country SnS+B2B'!$B:$B,"FY20-Q2",'Raw Commercial Country SnS+B2B'!$C:$C,"Germany")-SUMIFS('Raw Commercial Country SnS+B2B'!$G:$G,'Raw Commercial Country SnS+B2B'!$B:$B,"FY19-Q2",'Raw Commercial Country SnS+B2B'!$C:$C,"Germany")))/(SUMIFS('Raw Commercial Country SnS+B2B'!$G:$G,'Raw Commercial Country SnS+B2B'!$B:$B,"FY19-Q2",'Raw Commercial Country SnS+B2B'!$C:$C,"Germany")),"") -> 0.13746863 | K9: 395 | L9: =SUMIFS('Raw Commercial Country SnS+B2B'!$H:$H,'Raw Commercial Country SnS+B2B'!$B:$B,"FY20-Q3",'Raw Commercial Country SnS+B2B'!$C:$C,"Germany") -> 1039 | M9: =IFERROR(L9/K9,"") -> 2.6303797 | O9: =IFERROR((L9-K9)/K9,"") -> 1.6303797 | P9: =I9*(1.05) -> 15230.25 | Q9: =SUMIFS('Raw Commercial Country SnS+B2B'!$G:$G,'Raw Commercial Country SnS+B2B'!$B:$B,"FY20-Q3",'Raw Commercial Country SnS+B2B'!$C:$C,"Germany") -> 16427 | R9: =IFERROR(Q9/P9,"") -> 1.0785772 | T9: =IFERROR((Q9-P9)/P9,"") -> 0.078577174 | U9: 415 | V9: =IFERROR(((U9-SUMIFS('Raw Commercial Country SnS+B2B'!$H:$H,'Raw Commercial Country SnS+B2B'!$B:$B,"FY19-Q4",'Raw Commercial Country SnS+B2B'!$C:$C,"Germany")))/(SUMIFS('Raw Commercial Country SnS+B2B'!$H:$H,'Raw Commercial Country SnS+B2B'!$B:$B,"FY19-Q4",'Raw Commercial Country SnS+B2B'!$C:$C,"Germany")),"") -> -0.60134486 | W9: 6532 | X9: =IFERROR(((W9-SUMIFS('Raw Commercial Country SnS+B2B'!$G:$G,'Raw Commercial Country SnS+B2B'!$B:$B,"FY19-Q4",'Raw Commercial Country SnS+B2B'!$C:$C,"Germany")))/(SUMIFS('Raw Commercial Country SnS+B2B'!$G:$G,'Raw Commercial Country SnS+B2B'!$B:$B,"FY19-Q4",'Raw Commercial Country SnS+B2B'!$C:$C,"Germany")),"") -> -0.49352563
A10: France (total) | B10: CSG SnS | C10: =SUMIFS('Raw CSG Country SnS'!$H:$H,'Raw CSG Country SnS'!$B:$B,"FY20-Q1",'Raw CSG Country SnS'!$C:$C,"France") -> 1835 | D10: =IFERROR(((SUMIFS('Raw CSG Country SnS'!$H:$H,'Raw CSG Country SnS'!$B:$B,"FY20-Q1",'Raw CSG Country SnS'!$C:$C,"France")-SUMIFS('Raw CSG Country SnS'!$H:$H,'Raw CSG Country SnS'!$B:$B,"FY19-Q1",'Raw CSG Country SnS'!$C:$C,"France")))/(SUMIFS('Raw CSG Country SnS'!$H:$H,'Raw CSG Country SnS'!$B:$B,"FY19-Q1",'Raw CSG Country SnS'!$C:$C,"France")),"") -> 0.047374429 | E10: =SUMIFS('Raw CSG Country SnS'!$G:$G,'Raw CSG Country SnS'!$B:$B,"FY20-Q1",'Raw CSG Country SnS'!$C:$C,"France") -> 8648 | F10: =IFERROR(((SUMIFS('Raw CSG Country SnS'!$G:$G,'Raw CSG Country SnS'!$B:$B,"FY20-Q1",'Raw CSG Country SnS'!$C:$C,"France")-SUMIFS('Raw CSG Country SnS'!$G:$G,'Raw CSG Country SnS'!$B:$B,"FY19-Q1",'Raw CSG Country SnS'!$C:$C,"France")))/(SUMIFS('Raw CSG Country SnS'!$G:$G,'Raw CSG Country SnS'!$B:$B,"FY19-Q1",'Raw CSG Country SnS'!$C:$C,"France")),"") -> 0.053734617 | G10: =SUMIFS('Raw CSG Country SnS'!$H:$H,'Raw CSG Country SnS'!$B:$B,"FY20-Q2",'Raw CSG Country SnS'!$C:$C,"France") -> 1805 | H10: =IFERROR(((SUMIFS('Raw CSG Country SnS'!$H:$H,'Raw CSG Country SnS'!$B:$B,"FY20-Q2",'Raw CSG Country SnS'!$C:$C,"France")-SUMIFS('Raw CSG Country SnS'!$H:$H,'Raw CSG Country SnS'!$B:$B,"FY19-Q2",'Raw CSG Country SnS'!$C:$C,"France")))/(SUMIFS('Raw CSG Country SnS'!$H:$H,'Raw CSG Country SnS'!$B:$B,"FY19-Q2",'Raw CSG Country SnS'!$C:$C,"France")),"") -> 0.039147956 | I10: =SUMIFS('Raw CSG Country SnS'!$G:$G,'Raw CSG Country SnS'!$B:$B,"FY20-Q2",'Raw CSG Country SnS'!$C:$C,"France") -> 9085 | J10: =IFERROR(((SUMIFS('Raw CSG Country SnS'!$G:$G,'Raw CSG Country SnS'!$B:$B,"FY20-Q2",'Raw CSG Country SnS'!$C:$C,"France")-SUMIFS('Raw CSG Country SnS'!$G:$G,'Raw CSG Country SnS'!$B:$B,"FY19-Q2",'Raw CSG Country SnS'!$C:$C,"France")))/(SUMIFS('Raw CSG Country SnS'!$G:$G,'Raw CSG Country SnS'!$B:$B,"FY19-Q2",'Raw CSG Country SnS'!$C:$C,"France")),"") -> 0.078978622 | K10: na | L10: =SUMIFS('Raw CSG Country SnS'!$H:$H,'Raw CSG Country SnS'!$B:$B,"FY20-Q3",'Raw CSG Country SnS'!$C:$C,"France") -> 1772 | M10: =IFERROR(L10/K10,"") | O10: =IFERROR((L10-K10)/K10,"") | P10: =I10*(1.05) -> 9539.25 | Q10: =SUMIFS('Raw CSG Country SnS'!$G:$G,'Raw CSG Country SnS'!$B:$B,"FY20-Q3",'Raw CSG Country SnS'!$C:$C,"France") -> 8926 | R10: =IFERROR(Q10/P10,"") -> 0.93571298 | T10: =IFERROR((Q10-P10)/P10,"") -> -0.064287025 | U10: 2226 | V10: =IFERROR(((U10-SUMIFS('Raw CSG Country SnS'!$H:$H,'Raw CSG Country SnS'!$B:$B,"FY19-Q4",'Raw CSG Country SnS'!$C:$C,"France")))/(SUMIFS('Raw CSG Country SnS'!$H:$H,'Raw CSG Country SnS'!$B:$B,"FY19-Q4",'Raw CSG Country SnS'!$C:$C,"France")),"") -> 0.18278427 | W10: 9760 | X10: =IFERROR(((W10-SUMIFS('Raw CSG Country SnS'!$G:$G,'Raw CSG Country SnS'!$B:$B,"FY19-Q4",'Raw CSG Country SnS'!$C:$C,"France")))/(SUMIFS('Raw CSG Country SnS'!$G:$G,'Raw CSG Country SnS'!$B:$B,"FY19-Q4",'Raw CSG Country SnS'!$C:$C,"France")),"") -> 0.087344029
A11: Ingram | K11: 506 | M11: =IFERROR(L11/K11,"") -> 0 | O11: =IFERROR((L11-K11)/K11,"") -> -1 | P11: =I11*(1.05) -> 0 | R11: =IFERROR(Q11/P11,"") | T11: =IFERROR((Q11-P11)/P11,"") | U11: 674 | W11: 5800
A12: Tech Data | K12: 1325 | M12: =IFERROR(L12/K12,"") -> 0 | O12: =IFERROR((L12-K12)/K12,"") -> -1 | P12: =I12*(1.05) -> 0 | R12: =IFERROR(Q12/P12,"") | T12: =IFERROR((Q12-P12)/P12,"") | U12: 1714 | W12: 7600
A13: MCA | K13: 358 | M13: =IFERROR(L13/K13,"") -> 0 | O13: =IFERROR((L13-K13)/K13,"") -> -1 | P13: =I13*(1.05) -> 0 | R13: =IFERROR(Q13/P13,"") | T13: =IFERROR((Q13-P13)/P13,"") | U13: 473 | W13: 10100
A14: UK only (total) | B14: Client Commercial SnS + BTB | C14: =SUMIFS('Raw Commercial Country SnS+B2B'!$H:$H,'Raw Commercial Country SnS+B2B'!$B:$B,"FY20-Q1",'Raw Commercial Country SnS+B2B'!$C:$C,"United Kingdom") -> 1144 | D14: =IFERROR(((SUMIFS('Raw Commercial Country SnS+B2B'!$H:$H,'Raw Commercial Country SnS+B2B'!$B:$B,"FY20-Q1",'Raw Commercial Country SnS+B2B'!$C:$C,"United Kingdom")-SUMIFS('Raw Commercial Country SnS+B2B'!$H:$H,'Raw Commercial Country SnS+B2B'!$B:$B,"FY19-Q1",'Raw Commercial Country SnS+B2B'!$C:$C,"United Kingdom")))/(SUMIFS('Raw Commercial Country SnS+B2B'!$H:$H,'Raw Commercial Country SnS+B2B'!$B:$B,"FY19-Q1",'Raw Commercial Country SnS+B2B'!$C:$C,"United Kingdom")),"") -> 0.10318226 | E14: =SUMIFS('Raw Commercial Country SnS+B2B'!$G:$G,'Raw Commercial Country SnS+B2B'!$B:$B,"FY20-Q1",'Raw Commercial Country SnS+B2B'!$C:$C,"United Kingdom") -> 15131 | F14: =IFERROR(((SUMIFS('Raw Commercial Country SnS+B2B'!$G:$G,'Raw Commercial Country SnS+B2B'!$B:$B,"FY20-Q1",'Raw Commercial Country SnS+B2B'!$C:$C,"United Kingdom")-SUMIFS('Raw Commercial Country SnS+B2B'!$G:$G,'Raw Commercial Country SnS+B2B'!$B:$B,"FY19-Q1",'Raw Commercial Country SnS+B2B'!$C:$C,"United Kingdom")))/(SUMIFS('Raw Commercial Country SnS+B2B'!$G:$G,'Raw Commercial Country SnS+B2B'!$B:$B,"FY19-Q1",'Raw Commercial Country SnS+B2B'!$C:$C,"United Kingdom")),"") -> 0.079397917 | G14: =SUMIFS('Raw Commercial Country SnS+B2B'!$H:$H,'Raw Commercial Country SnS+B2B'!$B:$B,"FY20-Q2",'Raw Commercial Country SnS+B2B'!$C:$C,"United Kingdom") -> 1120 | H14: =IFERROR(((SUMIFS('Raw Commercial Country SnS+B2B'!$H:$H,'Raw Commercial Country SnS+B2B'!$B:$B,"FY20-Q2",'Raw Commercial Country SnS+B2B'!$C:$C,"United Kingdom")-SUMIFS('Raw Commercial Country SnS+B2B'!$H:$H,'Raw Commercial Country SnS+B2B'!$B:$B,"FY19-Q2",'Raw Commercial Country SnS+B2B'!$C:$C,"United Kingdom")))/(SUMIFS('Raw Commercial Country SnS+B2B'!$H:$H,'Raw Commercial Country SnS+B2B'!$B:$B,"FY19-Q2",'Raw Commercial Country SnS+B2B'!$C:$C,"United Kingdom")),"") -> 0.05065666 | I14: =SUMIFS('Raw Commercial Country SnS+B2B'!$G:$G,'Raw Commercial Country SnS+B2B'!$B:$B,"FY20-Q2",'Raw Commercial Country SnS+B2B'!$C:$C,"United Kingdom") -> 16315 | J14: =IFERROR(((SUMIFS('Raw Commercial Country SnS+B2B'!$G:$G,'Raw Commercial Country SnS+B2B'!$B:$B,"FY20-Q2",'Raw Commercial Country SnS+B2B'!$C:$C,"United Kingdom")-SUMIFS('Raw Commercial Country SnS+B2B'!$G:$G,'Raw Commercial Country SnS+B2B'!$B:$B,"FY19-Q2",'Raw Commercial Country SnS+B2B'!$C:$C,"United Kingdom")))/(SUMIFS('Raw Commercial Country SnS+B2B'!$G:$G,'Raw Commercial Country SnS+B2B'!$B:$B,"FY19-Q2",'Raw Commercial Country SnS+B2B'!$C:$C,"United Kingdom")),"") -> 0.19235548 | K14: 1302 | L14: =SUMIFS('Raw Commercial Country SnS+B2B'!$H:$H,'Raw Commercial Country SnS+B2B'!$B:$B,"FY20-Q3",'Raw Commercial Country SnS+B2B'!$C:$C,"United Kingdom") -> 1124 | M14: =IFERROR(L14/K14,"") -> 0.86328725 | O14: =IFERROR((L14-K14)/K14,"") -> -0.13671275 | P14: =I14*(1.05) -> 17130.75 | Q14: =SUMIFS('Raw Commercial Country SnS+B2B'!$G:$G,'Raw Commercial Country SnS+B2B'!$B:$B,"FY20-Q3",'Raw Commercial Country SnS+B2B'!$C:$C,"United Kingdom") -> 16529 | R14: =IFERROR(Q14/P14,"") -> 0.96487311 | T14: =IFERROR((Q14-P14)/P14,"") -> -0.035126892 | U14: 1484 | V14: =IFERROR(((U14-SUMIFS('Raw Commercial Country SnS+B2B'!$H:$H,'Raw Commercial Country SnS+B2B'!$B:$B,"FY19-Q4",'Raw Commercial Country SnS+B2B'!$C:$C,"United Kingdom")))/(SUMIFS('Raw Commercial Country SnS+B2B'!$H:$H,'Raw Commercial Country SnS+B2B'!$B:$B,"FY19-Q4",'Raw Commercial Country SnS+B2B'!$C:$C,"United Kingdom")),"") -> 0.41468065 | W14: 11759 | X14: =IFERROR(((W14-SUMIFS('Raw Commercial Country SnS+B2B'!$G:$G,'Raw Commercial Country SnS+B2B'!$B:$B,"FY19-Q4",'Raw Commercial Country SnS+B2B'!$C:$C,"United Kingdom")))/(SUMIFS('Raw Commercial Country SnS+B2B'!$G:$G,'Raw Commercial Country SnS+B2B'!$B:$B,"FY19-Q4",'Raw Commercial Country SnS+B2B'!$C:$C,"United Kingdom")),"") -> -0.054894711
A15: Tech Data | K15: 691 | M15: =IFERROR(L15/K15,"") -> 0 | O15: =IFERROR((L15-K15)/K15,"") -> -1 | P15: =I15*(1.05) -> 0 | R15: =IFERROR(Q15/P15,"") | T15: =IFERROR((Q15-P15)/P15,"") | U15: 684 | W15: 9207
A16: Ingram | K16: 552 | M16: =IFERROR(L16/K16,"") -> 0 | O16: =IFERROR((L16-K16)/K16,"") -> -1 | P16: =I16*(1.05) -> 0 | R16: =IFERROR(Q16/P16,"") | T16: =IFERROR((Q16-P16)/P16,"") | U16: 565 | W16: 8981
A17: Exertis | K17: 405 | M17: =IFERROR(L17/K17,"") -> 0 | O17: =IFERROR((L17-K17)/K17,"") -> -1 | P17: =I17*(1.05) -> 0 | R17: =IFERROR(Q17/P17,"") | T17: =IFERROR((Q17-P17)/P17,"") | U17: 376 | W17: 10368.09
A18: WER | B18: CSG SnS | C18: =SUMIFS('Raw CSG WER SnS'!$G:$G,'Raw CSG WER SnS'!$B:$B,"FY20-Q1",'Raw CSG WER SnS'!$C:$C,"WER") -> 4745 | D18: =IFERROR(((SUMIFS('Raw CSG WER SnS'!$G:$G,'Raw CSG WER SnS'!$B:$B,"FY20-Q1",'Raw CSG WER SnS'!$C:$C,"WER")-SUMIFS('Raw CSG WER SnS'!$G:$G,'Raw CSG WER SnS'!$B:$B,"FY19-Q1",'Raw CSG WER SnS'!$C:$C,"WER")))/(SUMIFS('Raw CSG WER SnS'!$G:$G,'Raw CSG WER SnS'!$B:$B,"FY19-Q1",'Raw CSG WER SnS'!$C:$C,"WER")),"") -> 0.076940536 | E18: =SUMIFS('Raw CSG WER SnS'!$F:$F,'Raw CSG WER SnS'!$B:$B,"FY20-Q1",'Raw CSG WER SnS'!$C:$C,"WER") -> 9668 | F18: =IFERROR(((SUMIFS('Raw CSG WER SnS'!$F:$F,'Raw CSG WER SnS'!$B:$B,"FY20-Q1",'Raw CSG WER SnS'!$C:$C,"WER")-SUMIFS('Raw CSG WER SnS'!$F:$F,'Raw CSG WER SnS'!$B:$B,"FY19-Q1",'Raw CSG WER SnS'!$C:$C,"WER")))/(SUMIFS('Raw CSG WER SnS'!$F:$F,'Raw CSG WER SnS'!$B:$B,"FY19-Q1",'Raw CSG WER SnS'!$C:$C,"WER")),"") -> 0.031253333 | G18: =SUMIFS('Raw CSG WER SnS'!$G:$G,'Raw CSG WER SnS'!$B:$B,"FY20-Q2",'Raw CSG WER SnS'!$C:$C,"WER") -> 4399 | H18: =IFERROR(((SUMIFS('Raw CSG WER SnS'!$G:$G,'Raw CSG WER SnS'!$B:$B,"FY20-Q2",'Raw CSG WER SnS'!$C:$C,"WER")-SUMIFS('Raw CSG WER SnS'!$G:$G,'Raw CSG WER SnS'!$B:$B,"FY19-Q2",'Raw CSG WER SnS'!$C:$C,"WER")))/(SUMIFS('Raw CSG WER SnS'!$G:$G,'Raw CSG WER SnS'!$B:$B,"FY19-Q2",'Raw CSG WER SnS'!$C:$C,"WER")),"") -> -0.012126656 | I18: =SUMIFS('Raw CSG WER SnS'!$F:$F,'Raw CSG WER SnS'!$B:$B,"FY20-Q2",'Raw CSG WER SnS'!$C:$C,"WER") -> 8852 | J18: =IFERROR(((SUMIFS('Raw CSG WER SnS'!$F:$F,'Raw CSG WER SnS'!$B:$B,"FY20-Q2",'Raw CSG WER SnS'!$C:$C,"WER")-SUMIFS('Raw CSG WER SnS'!$F:$F,'Raw CSG WER SnS'!$B:$B,"FY19-Q2",'Raw CSG WER SnS'!$C:$C,"WER")))/(SUMIFS('Raw CSG WER SnS'!$F:$F,'Raw CSG WER SnS'!$B:$B,"FY19-Q2",'Raw CSG WER SnS'!$C:$C,"WER")),"") -> 0.034353821 | K18: 5903 | L18: =SUMIFS('Raw CSG WER SnS'!$G:$G,'Raw CSG WER SnS'!$B:$B,"FY20-Q3",'Raw CSG WER SnS'!$C:$C,"WER") -> 4499 | M18: =IFERROR(L18/K18,"") -> 0.76215484 | O18: =IFERROR((L18-K18)/K18,"") -> -0.23784516 | P18: =I18*(1.05) -> 9294.6 | Q18: =SUMIFS('Raw CSG WER SnS'!$F:$F,'Raw CSG WER SnS'!$B:$B,"FY20-Q3",'Raw CSG WER SnS'!$C:$C,"WER") -> 9598 | R18: =IFERROR(Q18/P18,"") -> 1.0326426 | T18: =IFERROR((Q18-P18)/P18,"") -> 0.03264261 | U18: 6882 | V18: =IFERROR(((U18-SUMIFS('Raw CSG WER SnS'!$G:$G,'Raw CSG WER SnS'!$B:$B,"FY19-Q4",'Raw CSG WER SnS'!$C:$C,"WER")))/(SUMIFS('Raw CSG WER SnS'!$G:$G,'Raw CSG WER SnS'!$B:$B,"FY19-Q4",'Raw CSG WER SnS'!$C:$C,"WER")),"") -> 0.43584394 | W18: 11203 | X18: =IFERROR(((W18-SUMIFS('Raw CSG WER SnS'!$F:$F,'Raw CSG WER SnS'!$B:$B,"FY19-Q4",'Raw CSG WER SnS'!$C:$C,"WER")))/(SUMIFS('Raw CSG WER SnS'!$F:$F,'Raw CSG WER SnS'!$B:$B,"FY19-Q4",'Raw CSG WER SnS'!$C:$C,"WER")),"") -> 0.17407252
A19: NL | C19: =SUMIFS('Raw CSG Country SnS'!$H:$H,'Raw CSG Country SnS'!$B:$B,"FY20-Q1",'Raw CSG Country SnS'!$D:$D,"Netherlands") -> 785 | D19: =IFERROR(((SUMIFS('Raw CSG Country SnS'!$H:$H,'Raw CSG Country SnS'!$B:$B,"FY20-Q1",'Raw CSG Country SnS'!$D:$D,"Netherlands")-SUMIFS('Raw CSG Country SnS'!$H:$H,'Raw CSG Country SnS'!$B:$B,"FY19-Q1",'Raw CSG Country SnS'!$D:$D,"Netherlands")))/(SUMIFS('Raw CSG Country SnS'!$H:$H,'Raw CSG Country SnS'!$B:$B,"FY19-Q1",'Raw CSG Country SnS'!$D:$D,"Netherlands")),"") -> 0.15611193 | E19: =SUMIFS('Raw CSG Country SnS'!$G:$G,'Raw CSG Country SnS'!$B:$B,"FY20-Q1",'Raw CSG Country SnS'!$D:$D,"Netherlands") -> 13046 | F19: =IFERROR(((SUMIFS('Raw CSG Country SnS'!$G:$G,'Raw CSG Country SnS'!$B:$B,"FY20-Q1",'Raw CSG Country SnS'!$D:$D,"Netherlands")-SUMIFS('Raw CSG Country SnS'!$G:$G,'Raw CSG Country SnS'!$B:$B,"FY19-Q1",'Raw CSG Country SnS'!$D:$D,"Netherlands")))/(SUMIFS('Raw CSG Country SnS'!$G:$G,'Raw CSG Country SnS'!$B:$B,"FY19-Q1",'Raw CSG Country SnS'!$D:$D,"Netherlands")),"") -> 0.11133827 | G19: =SUMIFS('Raw CSG Country SnS'!$H:$H,'Raw CSG Country SnS'!$B:$B,"FY20-Q2",'Raw CSG Country SnS'!$D:$D,"Netherlands") -> 747 | H19: =IFERROR(((SUMIFS('Raw CSG Country SnS'!$H:$H,'Raw CSG Country SnS'!$B:$B,"FY20-Q2",'Raw CSG Country SnS'!$D:$D,"Netherlands")-SUMIFS('Raw CSG Country SnS'!$H:$H,'Raw CSG Country SnS'!$B:$B,"FY19-Q2",'Raw CSG Country SnS'!$D:$D,"Netherlands")))/(SUMIFS('Raw CSG Country SnS'!$H:$H,'Raw CSG Country SnS'!$B:$B,"FY19-Q2",'Raw CSG Country SnS'!$D:$D,"Netherlands")),"") -> 0.046218487 | I19: =SUMIFS('Raw CSG Country SnS'!$G:$G,'Raw CSG Country SnS'!$B:$B,"FY20-Q2",'Raw CSG Country SnS'!$D:$D,"Netherlands") -> 9912 | J19: =IFERROR(((SUMIFS('Raw CSG Country SnS'!$G:$G,'Raw CSG Country SnS'!$B:$B,"FY20-Q2",'Raw CSG Country SnS'!$D:$D,"Netherlands")-SUMIFS('Raw CSG Country SnS'!$G:$G,'Raw CSG Country SnS'!$B:$B,"FY19-Q2",'Raw CSG Country SnS'!$D:$D,"Netherlands")))/(SUMIFS('Raw CSG Country SnS'!$G:$G,'Raw CSG Country SnS'!$B:$B,"FY19-Q2",'Raw CSG Country SnS'!$D:$D,"Netherlands")),"") -> 0.0097799511 | K19: 800 | L19: =SUMIFS('Raw CSG Country SnS'!$H:$H,'Raw CSG Country SnS'!$B:$B,"FY20-Q3",'Raw CSG Country SnS'!$D:$D,"Netherlands") -> 766 | M19: =IFERROR(L19/K19,"") -> 0.9575 | O19: =IFERROR((L19-K19)/K19,"") -> -0.0425 | P19: =I19*(1.05) -> 10407.6 | Q19: =SUMIFS('Raw CSG Country SnS'!$G:$G,'Raw CSG Country SnS'!$B:$B,"FY20-Q3",'Raw CSG Country SnS'!$D:$D,"Netherlands") -> 11705 | R19: =IFERROR(Q19/P19,"") -> 1.1246589 | T19: =IFERROR((Q19-P19)/P19,"") -> 0.1246589 | U19: 950 | V19: =IFERROR(((U19-SUMIFS('Raw CSG Country SnS'!$H:$H,'Raw CSG Country SnS'!$B:$B,"FY19-Q4",'Raw CSG Country SnS'!$D:$D,"Netherlands")))/(SUMIFS('Raw CSG Country SnS'!$H:$H,'Raw CSG Country SnS'!$B:$B,"FY19-Q4",'Raw CSG Country SnS'!$D:$D,"Netherlands")),"") -> 0.19798235 | W19: 15390 | X19: =IFERROR(((W19-SUMIFS('Raw CSG Country SnS'!$G:$G,'Raw CSG Country SnS'!$B:$B,"FY19-Q4",'Raw CSG Country SnS'!$D:$D,"Netherlands")))/(SUMIFS('Raw CSG Country SnS'!$G:$G,'Raw CSG Country SnS'!$B:$B,"FY19-Q4",'Raw CSG Country SnS'!$D:$D,"Netherlands")),"") -> 0.26365055
A20: BLX | C20: =SUMIFS('RAW CSG BLX SnS'!$G:$G,'RAW CSG BLX SnS'!$B:$B,"FY20-Q1",'RAW CSG BLX SnS'!$C:$C,"WER") -> 602 | D20: =IFERROR(((SUMIFS('RAW CSG BLX SnS'!$G:$G,'RAW CSG BLX SnS'!$B:$B,"FY20-Q1",'RAW CSG BLX SnS'!$C:$C,"WER")-SUMIFS('RAW CSG BLX SnS'!$G:$G,'RAW CSG BLX SnS'!$B:$B,"FY19-Q1",'RAW CSG BLX SnS'!$C:$C,"WER")))/(SUMIFS('RAW CSG BLX SnS'!$G:$G,'RAW CSG BLX SnS'!$B:$B,"FY19-Q1",'RAW CSG BLX SnS'!$C:$C,"WER")),"") -> 0.14448669 | E20: =SUMIFS('RAW CSG BLX SnS'!$F:$F,'RAW CSG BLX SnS'!$B:$B,"FY20-Q1",'RAW CSG BLX SnS'!$C:$C,"WER") -> 6348 | F20: =IFERROR(((SUMIFS('RAW CSG BLX SnS'!$F:$F,'RAW CSG BLX SnS'!$B:$B,"FY20-Q1",'RAW CSG BLX SnS'!$C:$C,"WER")-SUMIFS('RAW CSG BLX SnS'!$F:$F,'RAW CSG BLX SnS'!$B:$B,"FY19-Q1",'RAW CSG BLX SnS'!$C:$C,"WER")))/(SUMIFS('RAW CSG BLX SnS'!$F:$F,'RAW CSG BLX SnS'!$B:$B,"FY19-Q1",'RAW CSG BLX SnS'!$C:$C,"WER")),"") -> -0.010444271 | G20: =SUMIFS('RAW CSG BLX SnS'!$G:$G,'RAW CSG BLX SnS'!$B:$B,"FY20-Q2",'RAW CSG BLX SnS'!$C:$C,"WER") -> 546 | H20: =IFERROR(((SUMIFS('RAW CSG BLX SnS'!$G:$G,'RAW CSG BLX SnS'!$B:$B,"FY20-Q2",'RAW CSG BLX SnS'!$C:$C,"WER")-SUMIFS('RAW CSG BLX SnS'!$G:$G,'RAW CSG BLX SnS'!$B:$B,"FY19-Q2",'RAW CSG BLX SnS'!$C:$C,"WER")))/(SUMIFS('RAW CSG BLX SnS'!$G:$G,'RAW CSG BLX SnS'!$B:$B,"FY19-Q2",'RAW CSG BLX SnS'!$C:$C,"WER")),"") -> 0.043977055 | I20: =SUMIFS('RAW CSG BLX SnS'!$F:$F,'RAW CSG BLX SnS'!$B:$B,"FY20-Q2",'RAW CSG BLX SnS'!$C:$C,"WER") -> 5712 | J20: =IFERROR(((SUMIFS('Raw Commercial Country SnS+B2B'!$F:$F,'Raw Commercial Country SnS+B2B'!$B:$B,"FY20-Q2",'Raw Commercial Country SnS+B2B'!$C:$C,"United Kingdom")-SUMIFS('Raw Commercial Country SnS+B2B'!$F:$F,'Raw Commercial Country SnS+B2B'!$B:$B,"FY19-Q2",'Raw Commercial Country SnS+B2B'!$C:$C,"United Kingdom")))/(SUMIFS('Raw Commercial Country SnS+B2B'!$F:$F,'Raw Commercial Country SnS+B2B'!$B:$B,"FY19-Q2",'Raw Commercial Country SnS+B2B'!$C:$C,"United Kingdom")),"") -> 0.25270527 | K20: 570 | L20: =SUMIFS('RAW CSG BLX SnS'!$G:$G,'RAW CSG BLX SnS'!$B:$B,"FY20-Q3",'RAW CSG BLX SnS'!$C:$C,"WER") -> 571 | M20: =IFERROR(L20/K20,"") -> 1.0017544 | O20: =IFERROR((L20-K20)/K20,"") -> 0.001754386 | P20: =I20*(1.05) -> 5997.6 | Q20: =SUMIFS('RAW CSG BLX SnS'!$F:$F,'RAW CSG BLX SnS'!$B:$B,"FY20-Q3",'RAW CSG BLX SnS'!$C:$C,"WER") -> 6112 | R20: =IFERROR(Q20/P20,"") -> 1.0190743 | T20: =IFERROR((Q20-P20)/P20,"") -> 0.019074296 | U20: 640 | V20: =IFERROR(((U20-SUMIFS('RAW CSG BLX SnS'!$G:$G,'RAW CSG BLX SnS'!$B:$B,"FY19-Q4",'RAW CSG BLX SnS'!$C:$C,"WER")))/(SUMIFS('RAW CSG BLX SnS'!$G:$G,'RAW CSG BLX SnS'!$B:$B,"FY19-Q4",'RAW CSG BLX SnS'!$C:$C,"WER")),"") -> 0.095890411 | W20: 6800 | X20: =IFERROR(((W20-SUMIFS('RAW CSG BLX SnS'!$F:$F,'RAW CSG BLX SnS'!$B:$B,"FY19-Q4",'RAW CSG BLX SnS'!$C:$C,"WER")))/(SUMIFS('RAW CSG BLX SnS'!$F:$F,'RAW CSG BLX SnS'!$B:$B,"FY19-Q4",'RAW CSG BLX SnS'!$C:$C,"WER")),"") -> 0.028277635
A21: ES | C21: =SUMIFS('Raw CSG Country SnS'!$H:$H,'Raw CSG Country SnS'!$B:$B,"FY20-Q1",'Raw CSG Country SnS'!$D:$D,"SPAIN") -> 1573 | D21: =IFERROR(((SUMIFS('Raw CSG Country SnS'!$H:$H,'Raw CSG Country SnS'!$B:$B,"FY20-Q1",'Raw CSG Country SnS'!$D:$D,"SPAIN")-SUMIFS('Raw CSG Country SnS'!$H:$H,'Raw CSG Country SnS'!$B:$B,"FY19-Q1",'Raw CSG Country SnS'!$D:$D,"SPAIN")))/(SUMIFS('Raw CSG Country SnS'!$H:$H,'Raw CSG Country SnS'!$B:$B,"FY19-Q1",'Raw CSG Country SnS'!$D:$D,"SPAIN")),"") -> 0.066440678 | E21: =SUMIFS('Raw CSG Country SnS'!$G:$G,'Raw CSG Country SnS'!$B:$B,"FY20-Q1",'Raw CSG Country SnS'!$D:$D,"SPAIN") -> 7468 | F21: =IFERROR(((SUMIFS('Raw CSG Country SnS'!$G:$G,'Raw CSG Country SnS'!$B:$B,"FY20-Q1",'Raw CSG Country SnS'!$D:$D,"SPAIN")-SUMIFS('Raw CSG Country SnS'!$G:$G,'Raw CSG Country SnS'!$B:$B,"FY19-Q1",'Raw CSG Country SnS'!$D:$D,"SPAIN")))/(SUMIFS('Raw CSG Country SnS'!$G:$G,'Raw CSG Country SnS'!$B:$B,"FY19-Q1",'Raw CSG Country SnS'!$D:$D,"SPAIN")),"") -> 0.053611738 | G21: =SUMIFS('Raw CSG Country SnS'!$H:$H,'Raw CSG Country SnS'!$B:$B,"FY20-Q2",'Raw CSG Country SnS'!$D:$D,"SPAIN") -> 1424 | H21: =IFERROR(((SUMIFS('Raw CSG Country SnS'!$H:$H,'Raw CSG Country SnS'!$B:$B,"FY20-Q2",'Raw CSG Country SnS'!$D:$D,"SPAIN")-SUMIFS('Raw CSG Country SnS'!$H:$H,'Raw CSG Country SnS'!$B:$B,"FY19-Q2",'Raw CSG Country SnS'!$D:$D,"SPAIN")))/(SUMIFS('Raw CSG Country SnS'!$H:$H,'Raw CSG Country SnS'!$B:$B,"FY19-Q2",'Raw CSG Country SnS'!$D:$D,"SPAIN")),"") -> -0.065616798 | I21: =SUMIFS('Raw CSG Country SnS'!$G:$G,'Raw CSG Country SnS'!$B:$B,"FY20-Q2",'Raw CSG Country SnS'!$D:$D,"SPAIN") -> 7052 | J21: =IFERROR(((SUMIFS('Raw CSG Country SnS'!$G:$G,'Raw CSG Country SnS'!$B:$B,"FY20-Q2",'Raw CSG Country SnS'!$D:$D,"SPAIN")-SUMIFS('Raw CSG Country SnS'!$G:$G,'Raw CSG Country SnS'!$B:$B,"FY19-Q2",'Raw CSG Country SnS'!$D:$D,"SPAIN")))/(SUMIFS('Raw CSG Country SnS'!$G:$G,'Raw CSG Country SnS'!$B:$B,"FY19-Q2",'Raw CSG Country SnS'!$D:$D,"SPAIN")),"") -> -0.063852383 | K21: 1800 | L21: =SUMIFS('Raw CSG Country SnS'!$H:$H,'Raw CSG Country SnS'!$B:$B,"FY20-Q3",'Raw CSG Country SnS'!$D:$D,"SPAIN") -> 1370 | M21: =IFERROR(L21/K21,"") -> 0.76111111 | O21: =IFERROR((L21-K21)/K21,"") -> -0.23888889 | P21: =I21*(1.05) -> 7404.6 | Q21: =SUMIFS('Raw CSG Country SnS'!$G:$G,'Raw CSG Country SnS'!$B:$B,"FY20-Q3",'Raw CSG Country SnS'!$D:$D,"SPAIN") -> 7567 | R21: =IFERROR(Q21/P21,"") -> 1.0219323 | T21: =IFERROR((Q21-P21)/P21,"") -> 0.021932312 | U21: 1900 | V21: =IFERROR(((U21-SUMIFS('Raw CSG Country SnS'!$H:$H,'Raw CSG Country SnS'!$B:$B,"FY19-Q4",'Raw CSG Country SnS'!$D:$D,"SPAIN")))/(SUMIFS('Raw CSG Country SnS'!$H:$H,'Raw CSG Country SnS'!$B:$B,"FY19-Q4",'Raw CSG Country SnS'!$D:$D,"SPAIN")),"") -> 0.18159204 | W21: 17100 | X21: =IFERROR(((W21-SUMIFS('Raw CSG Country SnS'!$G:$G,'Raw CSG Country SnS'!$B:$B,"FY19-Q4",'Raw CSG Country SnS'!$D:$D,"SPAIN")))/(SUMIFS('Raw CSG Country SnS'!$G:$G,'Raw CSG Country SnS'!$B:$B,"FY19-Q4",'Raw CSG Country SnS'!$D:$D,"SPAIN")),"") -> 1.1145048
A22: PT | C22: =SUMIFS('Raw CSG Country SnS'!$H:$H,'Raw CSG Country SnS'!$B:$B,"FY20-Q1",'Raw CSG Country SnS'!$D:$D,"PORTUGAL") -> 309 | D22: =IFERROR(((SUMIFS('Raw CSG Country SnS'!$H:$H,'Raw CSG Country SnS'!$B:$B,"FY20-Q1",'Raw CSG Country SnS'!$D:$D,"PORTUGAL")-SUMIFS('Raw CSG Country SnS'!$H:$H,'Raw CSG Country SnS'!$B:$B,"FY19-Q1",'Raw CSG Country SnS'!$D:$D,"PORTUGAL")))/(SUMIFS('Raw CSG Country SnS'!$H:$H,'Raw CSG Country SnS'!$B:$B,"FY19-Q1",'Raw CSG Country SnS'!$D:$D,"PORTUGAL")),"") -> 0 | E22: =SUMIFS('Raw CSG Country SnS'!$G:$G,'Raw CSG Country SnS'!$B:$B,"FY20-Q1",'Raw CSG Country SnS'!$D:$D,"PORTUGAL") -> 7106 | F22: =IFERROR(((SUMIFS('Raw CSG Country SnS'!$G:$G,'Raw CSG Country SnS'!$B:$B,"FY20-Q1",'Raw CSG Country SnS'!$D:$D,"PORTUGAL")-SUMIFS('Raw CSG Country SnS'!$G:$G,'Raw CSG Country SnS'!$B:$B,"FY19-Q1",'Raw CSG Country SnS'!$D:$D,"PORTUGAL")))/(SUMIFS('Raw CSG Country SnS'!$G:$G,'Raw CSG Country SnS'!$B:$B,"FY19-Q1",'Raw CSG Country SnS'!$D:$D,"PORTUGAL")),"") -> 0.17299439 | G22: =SUMIFS('Raw CSG Country SnS'!$H:$H,'Raw CSG Country SnS'!$B:$B,"FY20-Q2",'Raw CSG Country SnS'!$D:$D,"PORTUGAL") -> 308 | H22: =IFERROR(((SUMIFS('Raw CSG Country SnS'!$H:$H,'Raw CSG Country SnS'!$B:$B,"FY20-Q2",'Raw CSG Country SnS'!$D:$D,"PORTUGAL")-SUMIFS('Raw CSG Country SnS'!$H:$H,'Raw CSG Country SnS'!$B:$B,"FY19-Q2",'Raw CSG Country SnS'!$D:$D,"PORTUGAL")))/(SUMIFS('Raw CSG Country SnS'!$H:$H,'Raw CSG Country SnS'!$B:$B,"FY19-Q2",'Raw CSG Country SnS'!$D:$D,"PORTUGAL")),"") -> -0.0375 | I22: =SUMIFS('Raw CSG Country SnS'!$G:$G,'Raw CSG Country SnS'!$B:$B,"FY20-Q2",'Raw CSG Country SnS'!$D:$D,"PORTUGAL") -> 9429 | J22: =IFERROR(((SUMIFS('Raw CSG Country SnS'!$G:$G,'Raw CSG Country SnS'!$B:$B,"FY20-Q2",'Raw CSG Country SnS'!$D:$D,"PORTUGAL")-SUMIFS('Raw CSG Country SnS'!$G:$G,'Raw CSG Country SnS'!$B:$B,"FY19-Q2",'Raw CSG Country SnS'!$D:$D,"PORTUGAL")))/(SUMIFS('Raw CSG Country SnS'!$G:$G,'Raw CSG Country SnS'!$B:$B,"FY19-Q2",'Raw CSG Country SnS'!$D:$D,"PORTUGAL")),"") -> 0.67835529 | K22: 350 | L22: =SUMIFS('Raw CSG Country SnS'!$H:$H,'Raw CSG Country SnS'!$B:$B,"FY20-Q3",'Raw CSG Country SnS'!$D:$D,"PORTUGAL") -> 313 | M22: =IFERROR(L22/K22,"") -> 0.89428571 | O22: =IFERROR((L22-K22)/K22,"") -> -0.10571429 | P22: =I22*(1.05) -> 9900.45 | Q22: =SUMIFS('Raw CSG Country SnS'!$G:$G,'Raw CSG Country SnS'!$B:$B,"FY20-Q3",'Raw CSG Country SnS'!$D:$D,"PORTUGAL") -> 6609 | R22: =IFERROR(Q22/P22,"") -> 0.66754541 | T22: =IFERROR((Q22-P22)/P22,"") -> -0.33245459 | U22: 380 | V22: =IFERROR(((U22-SUMIFS('Raw CSG Country SnS'!$H:$H,'Raw CSG Country SnS'!$B:$B,"FY19-Q4",'Raw CSG Country SnS'!$D:$D,"PORTUGAL")))/(SUMIFS('Raw CSG Country SnS'!$H:$H,'Raw CSG Country SnS'!$B:$B,"FY19-Q4",'Raw CSG Country SnS'!$D:$D,"PORTUGAL")),"") -> 0.11764706 | W22: 3900 | X22: =IFERROR(((W22-SUMIFS('Raw CSG Country SnS'!$G:$G,'Raw CSG Country SnS'!$B:$B,"FY19-Q4",'Raw CSG Country SnS'!$D:$D,"PORTUGAL")))/(SUMIFS('Raw CSG Country SnS'!$G:$G,'Raw CSG Country SnS'!$B:$B,"FY19-Q4",'Raw CSG Country SnS'!$D:$D,"PORTUGAL")),"") -> -0.43082312
A23: AT | C23: =SUMIFS('Raw CSG Country SnS'!$H:$H,'Raw CSG Country SnS'!$B:$B,"FY20-Q1",'Raw CSG Country SnS'!$D:$D,"Austria") -> 240 | D23: =IFERROR(((SUMIFS('Raw CSG Country SnS'!$H:$H,'Raw CSG Country SnS'!$B:$B,"FY20-Q1",'Raw CSG Country SnS'!$D:$D,"Austria")-SUMIFS('Raw CSG Country SnS'!$H:$H,'Raw CSG Country SnS'!$B:$B,"FY19-Q1",'Raw CSG Country SnS'!$D:$D,"Austria")))/(SUMIFS('Raw CSG Country SnS'!$H:$H,'Raw CSG Country SnS'!$B:$B,"FY19-Q1",'Raw CSG Country SnS'!$D:$D,"Austria")),"") -> 0.038961039 | E23: =SUMIFS('Raw CSG Country SnS'!$G:$G,'Raw CSG Country SnS'!$B:$B,"FY20-Q1",'Raw CSG Country SnS'!$D:$D,"Austria") -> 12323 | F23: =IFERROR(((SUMIFS('Raw CSG Country SnS'!$G:$G,'Raw CSG Country SnS'!$B:$B,"FY20-Q1",'Raw CSG Country SnS'!$D:$D,"Austria")-SUMIFS('Raw CSG Country SnS'!$G:$G,'Raw CSG Country SnS'!$B:$B,"FY19-Q1",'Raw CSG Country SnS'!$D:$D,"Austria")))/(SUMIFS('Raw CSG Country SnS'!$G:$G,'Raw CSG Country SnS'!$B:$B,"FY19-Q1",'Raw CSG Country SnS'!$D:$D,"Austria")),"") -> 0.17608322 | G23: =SUMIFS('Raw CSG Country SnS'!$H:$H,'Raw CSG Country SnS'!$B:$B,"FY20-Q2",'Raw CSG Country SnS'!$D:$D,"Austria") -> 227 | H23: =IFERROR(((SUMIFS('Raw CSG Country SnS'!$H:$H,'Raw CSG Country SnS'!$B:$B,"FY20-Q2",'Raw CSG Country SnS'!$D:$D,"Austria")-SUMIFS('Raw CSG Country SnS'!$H:$H,'Raw CSG Country SnS'!$B:$B,"FY19-Q2",'Raw CSG Country SnS'!$D:$D,"Austria")))/(SUMIFS('Raw CSG Country SnS'!$H:$H,'Raw CSG Country SnS'!$B:$B,"FY19-Q2",'Raw CSG Country SnS'!$D:$D,"Austria")),"") -> -0.013043478 | I23: =SUMIFS('Raw CSG Country SnS'!$G:$G,'Raw CSG Country SnS'!$B:$B,"FY20-Q2",'Raw CSG Country SnS'!$D:$D,"Austria") -> 11102 | J23: =IFERROR(((SUMIFS('Raw CSG Country SnS'!$G:$G,'Raw CSG Country SnS'!$B:$B,"FY20-Q2",'Raw CSG Country SnS'!$D:$D,"Austria")-SUMIFS('Raw CSG Country SnS'!$G:$G,'Raw CSG Country SnS'!$B:$B,"FY19-Q2",'Raw CSG Country SnS'!$D:$D,"Austria")))/(SUMIFS('Raw CSG Country SnS'!$G:$G,'Raw CSG Country SnS'!$B:$B,"FY19-Q2",'Raw CSG Country SnS'!$D:$D,"Austria")),"") -> 0.16912384 | K23: 255 | L23: =SUMIFS('Raw CSG Country SnS'!$H:$H,'Raw CSG Country SnS'!$B:$B,"FY20-Q3",'Raw CSG Country SnS'!$D:$D,"Austria") -> 241 | M23: =IFERROR(L23/K23,"") -> 0.94509804 | O23: =IFERROR((L23-K23)/K23,"") -> -0.054901961 | P23: =I23*(1.05) -> 11657.1 | Q23: =SUMIFS('Raw CSG Country SnS'!$G:$G,'Raw CSG Country SnS'!$B:$B,"FY20-Q3",'Raw CSG Country SnS'!$D:$D,"Austria") -> 11141 | R23: =IFERROR(Q23/P23,"") -> 0.95572655 | T23: =IFERROR((Q23-P23)/P23,"") -> -0.044273447 | U23: 255 | V23: =IFERROR(((U23-SUMIFS('Raw CSG Country SnS'!$H:$H,'Raw CSG Country SnS'!$B:$B,"FY19-Q4",'Raw CSG Country SnS'!$D:$D,"Austria")))/(SUMIFS('Raw CSG Country SnS'!$H:$H,'Raw CSG Country SnS'!$B:$B,"FY19-Q4",'Raw CSG Country SnS'!$D:$D,"Austria")),"") -> -0.048507463 | W23: 2900 | X23: =IFERROR(((W23-SUMIFS('Raw CSG Country SnS'!$G:$G,'Raw CSG Country SnS'!$B:$B,"FY19-Q4",'Raw CSG Country SnS'!$D:$D,"Austria")))/(SUMIFS('Raw CSG Country SnS'!$G:$G,'Raw CSG Country SnS'!$B:$B,"FY19-Q4",'Raw CSG Country SnS'!$D:$D,"Austria")),"") -> -0.74963308
A24: CH | C24: =SUMIFS('Raw CSG Country SnS'!$H:$H,'Raw CSG Country SnS'!$B:$B,"FY20-Q1",'Raw CSG Country SnS'!$D:$D,"Switzerland") -> 459 | D24: =IFERROR(((SUMIFS('Raw CSG Country SnS'!$H:$H,'Raw CSG Country SnS'!$B:$B,"FY20-Q1",'Raw CSG Country SnS'!$D:$D,"Switzerland")-SUMIFS('Raw CSG Country SnS'!$H:$H,'Raw CSG Country SnS'!$B:$B,"FY19-Q1",'Raw CSG Country SnS'!$D:$D,"Switzerland")))/(SUMIFS('Raw CSG Country SnS'!$H:$H,'Raw CSG Country SnS'!$B:$B,"FY19-Q1",'Raw CSG Country SnS'!$D:$D,"Switzerland")),"") -> 0.072429907 | E24: =SUMIFS('Raw CSG Country SnS'!$G:$G,'Raw CSG Country SnS'!$B:$B,"FY20-Q1",'Raw CSG Country SnS'!$D:$D,"Switzerland") -> 9094 | F24: =IFERROR(((SUMIFS('Raw CSG Country SnS'!$G:$G,'Raw CSG Country SnS'!$B:$B,"FY20-Q1",'Raw CSG Country SnS'!$D:$D,"Switzerland")-SUMIFS('Raw CSG Country SnS'!$G:$G,'Raw CSG Country SnS'!$B:$B,"FY19-Q1",'Raw CSG Country SnS'!$D:$D,"Switzerland")))/(SUMIFS('Raw CSG Country SnS'!$G:$G,'Raw CSG Country SnS'!$B:$B,"FY19-Q1",'Raw CSG Country SnS'!$D:$D,"Switzerland")),"") -> -0.070523303 | G24: =SUMIFS('Raw CSG Country SnS'!$H:$H,'Raw CSG Country SnS'!$B:$B,"FY20-Q2",'Raw CSG Country SnS'!$D:$D,"Switzerland") -> 425 | H24: =IFERROR(((SUMIFS('Raw CSG Country SnS'!$H:$H,'Raw CSG Country SnS'!$B:$B,"FY20-Q2",'Raw CSG Country SnS'!$D:$D,"Switzerland")-SUMIFS('Raw CSG Country SnS'!$H:$H,'Raw CSG Country SnS'!$B:$B,"FY19-Q2",'Raw CSG Country SnS'!$D:$D,"Switzerland")))/(SUMIFS('Raw CSG Country SnS'!$H:$H,'Raw CSG Country SnS'!$B:$B,"FY19-Q2",'Raw CSG Country SnS'!$D:$D,"Switzerland")),"") -> 0.051980198 | I24: =SUMIFS('Raw CSG Country SnS'!$G:$G,'Raw CSG Country SnS'!$B:$B,"FY20-Q2",'Raw CSG Country SnS'!$D:$D,"Switzerland") -> 10685 | J24: =IFERROR(((SUMIFS('Raw CSG Country SnS'!$G:$G,'Raw CSG Country SnS'!$B:$B,"FY20-Q2",'Raw CSG Country SnS'!$D:$D,"Switzerland")-SUMIFS('Raw CSG Country SnS'!$G:$G,'Raw CSG Country SnS'!$B:$B,"FY19-Q2",'Raw CSG Country SnS'!$D:$D,"Switzerland")))/(SUMIFS('Raw CSG Country SnS'!$G:$G,'Raw CSG Country SnS'!$B:$B,"FY19-Q2",'Raw CSG Country SnS'!$D:$D,"Switzerland")),"") -> 0.28797011 | K24: 580 | L24: =SUMIFS('Raw CSG Country SnS'!$H:$H,'Raw CSG Country SnS'!$B:$B,"FY20-Q3",'Raw CSG Country SnS'!$D:$D,"Switzerland") -> 424 | M24: =IFERROR(L24/K24,"") -> 0.73103448 | O24: =IFERROR((L24-K24)/K24,"") -> -0.26896552 | P24: =I24*(1.05) -> 11219.25 | Q24: =SUMIFS('Raw CSG Country SnS'!$G:$G,'Raw CSG Country SnS'!$B:$B,"FY20-Q3",'Raw CSG Country SnS'!$D:$D,"Switzerland") -> 9980 | R24: =IFERROR(Q24/P24,"") -> 0.88954253 | T24: =IFERROR((Q24-P24)/P24,"") -> -0.11045747 | U24: 670 | V24: =IFERROR(((U24-SUMIFS('Raw CSG Country SnS'!$H:$H,'Raw CSG Country SnS'!$B:$B,"FY19-Q4",'Raw CSG Country SnS'!$D:$D,"Switzerland")))/(SUMIFS('Raw CSG Country SnS'!$H:$H,'Raw CSG Country SnS'!$B:$B,"FY19-Q4",'Raw CSG Country SnS'!$D:$D,"Switzerland")),"") -> 0.63017032 | W24: 5900 | X24: =IFERROR(((W24-SUMIFS('Raw CSG Country SnS'!$G:$G,'Raw CSG Country SnS'!$B:$B,"FY19-Q4",'Raw CSG Country SnS'!$D:$D,"Switzerland")))/(SUMIFS('Raw CSG Country SnS'!$G:$G,'Raw CSG Country SnS'!$B:$B,"FY19-Q4",'Raw CSG Country SnS'!$D:$D,"Switzerland")),"") -> -0.28571429
A25: SE | C25: =SUMIFS('Raw CSG Country SnS'!$H:$H,'Raw CSG Country SnS'!$B:$B,"FY20-Q1",'Raw CSG Country SnS'!$D:$D,"Sweden") -> 334 | D25: =IFERROR(((SUMIFS('Raw CSG Country SnS'!$H:$H,'Raw CSG Country SnS'!$B:$B,"FY20-Q1",'Raw CSG Country SnS'!$D:$D,"Sweden")-SUMIFS('Raw CSG Country SnS'!$H:$H,'Raw CSG Country SnS'!$B:$B,"FY19-Q1",'Raw CSG Country SnS'!$D:$D,"Sweden")))/(SUMIFS('Raw CSG Country SnS'!$H:$H,'Raw CSG Country SnS'!$B:$B,"FY19-Q1",'Raw CSG Country SnS'!$D:$D,"Sweden")),"") -> 0.034055728 | E25: =SUMIFS('Raw CSG Country SnS'!$G:$G,'Raw CSG Country SnS'!$B:$B,"FY20-Q1",'Raw CSG Country SnS'!$D:$D,"Sweden") -> 15138 | F25: =IFERROR(((SUMIFS('Raw CSG Country SnS'!$G:$G,'Raw CSG Country SnS'!$B:$B,"FY20-Q1",'Raw CSG Country SnS'!$D:$D,"Sweden")-SUMIFS('Raw CSG Country SnS'!$G:$G,'Raw CSG Country SnS'!$B:$B,"FY19-Q1",'Raw CSG Country SnS'!$D:$D,"Sweden")))/(SUMIFS('Raw CSG Country SnS'!$G:$G,'Raw CSG Country SnS'!$B:$B,"FY19-Q1",'Raw CSG Country SnS'!$D:$D,"Sweden")),"") -> -0.053875 | G25: =SUMIFS('Raw CSG Country SnS'!$H:$H,'Raw CSG Country SnS'!$B:$B,"FY20-Q2",'Raw CSG Country SnS'!$D:$D,"Sweden") -> 313 | H25: =IFERROR(((SUMIFS('Raw CSG Country SnS'!$H:$H,'Raw CSG Country SnS'!$B:$B,"FY20-Q2",'Raw CSG Country SnS'!$D:$D,"Sweden")-SUMIFS('Raw CSG Country SnS'!$H:$H,'Raw CSG Country SnS'!$B:$B,"FY19-Q2",'Raw CSG Country SnS'!$D:$D,"Sweden")))/(SUMIFS('Raw CSG Country SnS'!$H:$H,'Raw CSG Country SnS'!$B:$B,"FY19-Q2",'Raw CSG Country SnS'!$D:$D,"Sweden")),"") -> 0.019543974 | I25: =SUMIFS('Raw CSG Country SnS'!$G:$G,'Raw CSG Country SnS'!$B:$B,"FY20-Q2",'Raw CSG Country SnS'!$D:$D,"Sweden") -> 12293 | J25: =IFERROR(((SUMIFS('Raw CSG Country SnS'!$G:$G,'Raw CSG Country SnS'!$B:$B,"FY20-Q2",'Raw CSG Country SnS'!$D:$D,"Sweden")-SUMIFS('Raw CSG Country SnS'!$G:$G,'Raw CSG Country SnS'!$B:$B,"FY19-Q2",'Raw CSG Country SnS'!$D:$D,"Sweden")))/(SUMIFS('Raw CSG Country SnS'!$G:$G,'Raw CSG Country SnS'!$B:$B,"FY19-Q2",'Raw CSG Country SnS'!$D:$D,"Sweden")),"") -> 0.019996681 | K25: 360 | L25: =SUMIFS('Raw CSG Country SnS'!$H:$H,'Raw CSG Country SnS'!$B:$B,"FY20-Q3",'Raw CSG Country SnS'!$D:$D,"Sweden") -> 357 | M25: =IFERROR(L25/K25,"") -> 0.99166667 | O25: =IFERROR((L25-K25)/K25,"") -> -0.0083333333 | P25: =I25*(1.05) -> 12907.65 | Q25: =SUMIFS('Raw CSG Country SnS'!$G:$G,'Raw CSG Country SnS'!$B:$B,"FY20-Q3",'Raw CSG Country SnS'!$D:$D,"Sweden") -> 15029 | R25: =IFERROR(Q25/P25,"") -> 1.1643483 | T25: =IFERROR((Q25-P25)/P25,"") -> 0.16434827 | U25: 360 | V25: =IFERROR(((U25-SUMIFS('Raw CSG Country SnS'!$H:$H,'Raw CSG Country SnS'!$B:$B,"FY19-Q4",'Raw CSG Country SnS'!$D:$D,"Sweden")))/(SUMIFS('Raw CSG Country SnS'!$H:$H,'Raw CSG Country SnS'!$B:$B,"FY19-Q4",'Raw CSG Country SnS'!$D:$D,"Sweden")),"") -> 0.058823529 | W25: 7000 | X25: =IFERROR(((W25-SUMIFS('Raw CSG Country SnS'!$G:$G,'Raw CSG Country SnS'!$B:$B,"FY19-Q4",'Raw CSG Country SnS'!$D:$D,"Sweden")))/(SUMIFS('Raw CSG Country SnS'!$G:$G,'Raw CSG Country SnS'!$B:$B,"FY19-Q4",'Raw CSG Country SnS'!$D:$D,"Sweden")),"") -> -0.497307
A26: DK | C26: =SUMIFS('Raw CSG Country SnS'!$H:$H,'Raw CSG Country SnS'!$B:$B,"FY20-Q1",'Raw CSG Country SnS'!$D:$D,"Denmark") -> 119 | D26: =IFERROR(((SUMIFS('Raw CSG Country SnS'!$H:$H,'Raw CSG Country SnS'!$B:$B,"FY20-Q1",'Raw CSG Country SnS'!$D:$D,"Denmark")-SUMIFS('Raw CSG Country SnS'!$H:$H,'Raw CSG Country SnS'!$B:$B,"FY19-Q1",'Raw CSG Country SnS'!$D:$D,"Denmark")))/(SUMIFS('Raw CSG Country SnS'!$H:$H,'Raw CSG Country SnS'!$B:$B,"FY19-Q1",'Raw CSG Country SnS'!$D:$D,"Denmark")),"") -> -0.048 | E26: =SUMIFS('Raw CSG Country SnS'!$G:$G,'Raw CSG Country SnS'!$B:$B,"FY20-Q1",'Raw CSG Country SnS'!$D:$D,"Denmark") -> 13583 | F26: =IFERROR(((SUMIFS('Raw CSG Country SnS'!$G:$G,'Raw CSG Country SnS'!$B:$B,"FY20-Q1",'Raw CSG Country SnS'!$D:$D,"Denmark")-SUMIFS('Raw CSG Country SnS'!$G:$G,'Raw CSG Country SnS'!$B:$B,"FY19-Q1",'Raw CSG Country SnS'!$D:$D,"Denmark")))/(SUMIFS('Raw CSG Country SnS'!$G:$G,'Raw CSG Country SnS'!$B:$B,"FY19-Q1",'Raw CSG Country SnS'!$D:$D,"Denmark")),"") -> -0.16591956 | G26: =SUMIFS('Raw CSG Country SnS'!$H:$H,'Raw CSG Country SnS'!$B:$B,"FY20-Q2",'Raw CSG Country SnS'!$D:$D,"Denmark") -> 101 | H26: =IFERROR(((SUMIFS('Raw CSG Country SnS'!$H:$H,'Raw CSG Country SnS'!$B:$B,"FY20-Q2",'Raw CSG Country SnS'!$D:$D,"Denmark")-SUMIFS('Raw CSG Country SnS'!$H:$H,'Raw CSG Country SnS'!$B:$B,"FY19-Q2",'Raw CSG Country SnS'!$D:$D,"Denmark")))/(SUMIFS('Raw CSG Country SnS'!$H:$H,'Raw CSG Country SnS'!$B:$B,"FY19-Q2",'Raw CSG Country SnS'!$D:$D,"Denmark")),"") -> -0.1512605 | I26: =SUMIFS('Raw CSG Country SnS'!$G:$G,'Raw CSG Country SnS'!$B:$B,"FY20-Q2",'Raw CSG Country SnS'!$D:$D,"Denmark") -> 11676 | J26: =IFERROR(((SUMIFS('Raw CSG Country SnS'!$G:$G,'Raw CSG Country SnS'!$B:$B,"FY20-Q2",'Raw CSG Country SnS'!$D:$D,"Denmark")-SUMIFS('Raw CSG Country SnS'!$G:$G,'Raw CSG Country SnS'!$B:$B,"FY19-Q2",'Raw CSG Country SnS'!$D:$D,"Denmark")))/(SUMIFS('Raw CSG Country SnS'!$G:$G,'Raw CSG Country SnS'!$B:$B,"FY19-Q2",'Raw CSG Country SnS'!$D:$D,"Denmark")),"") -> -0.079615324 | K26: 770 | L26: =SUMIFS('Raw CSG Country SnS'!$H:$H,'Raw CSG Country SnS'!$B:$B,"FY20-Q3",'Raw CSG Country SnS'!$D:$D,"Denmark") -> 111 | M26: =IFERROR(L26/K26,"") -> 0.14415584 | O26: =IFERROR((L26-K26)/K26,"") -> -0.85584416 | P26: =I26*(1.05) -> 12259.8 | Q26: =SUMIFS('Raw CSG Country SnS'!$G:$G,'Raw CSG Country SnS'!$B:$B,"FY20-Q3",'Raw CSG Country SnS'!$D:$D,"Denmark") -> 15768 | R26: =IFERROR(Q26/P26,"") -> 1.2861547 | T26: =IFERROR((Q26-P26)/P26,"") -> 0.28615475 | U26: 905 | V26: =IFERROR(((U26-SUMIFS('Raw CSG Country SnS'!$H:$H,'Raw CSG Country SnS'!$B:$B,"FY19-Q4",'Raw CSG Country SnS'!$D:$D,"Denmark")))/(SUMIFS('Raw CSG Country SnS'!$H:$H,'Raw CSG Country SnS'!$B:$B,"FY19-Q4",'Raw CSG Country SnS'!$D:$D,"Denmark")),"") -> 6.9385965 | W26: 9800 | X26: =IFERROR(((W26-SUMIFS('Raw CSG Country SnS'!$G:$G,'Raw CSG Country SnS'!$B:$B,"FY19-Q4",'Raw CSG Country SnS'!$D:$D,"Denmark")))/(SUMIFS('Raw CSG Country SnS'!$G:$G,'Raw CSG Country SnS'!$B:$B,"FY19-Q4",'Raw CSG Country SnS'!$D:$D,"Denmark")),"") -> -0.43036503
A27: NO | C27: =SUMIFS('Raw CSG Country SnS'!$H:$H,'Raw CSG Country SnS'!$B:$B,"FY20-Q1",'Raw CSG Country SnS'!$D:$D,"Norway") -> 138 | D27: =IFERROR(((SUMIFS('Raw CSG Country SnS'!$H:$H,'Raw CSG Country SnS'!$B:$B,"FY20-Q1",'Raw CSG Country SnS'!$D:$D,"Norway")-SUMIFS('Raw CSG Country SnS'!$H:$H,'Raw CSG Country SnS'!$B:$B,"FY19-Q1",'Raw CSG Country SnS'!$D:$D,"Norway")))/(SUMIFS('Raw CSG Country SnS'!$H:$H,'Raw CSG Country SnS'!$B:$B,"FY19-Q1",'Raw CSG Country SnS'!$D:$D,"Norway")),"") -> -0.021276596 | E27: =SUMIFS('Raw CSG Country SnS'!$G:$G,'Raw CSG Country SnS'!$B:$B,"FY20-Q1",'Raw CSG Country SnS'!$D:$D,"Norway") -> 11208 | F27: =IFERROR(((SUMIFS('Raw CSG Country SnS'!$G:$G,'Raw CSG Country SnS'!$B:$B,"FY20-Q1",'Raw CSG Country SnS'!$D:$D,"Norway")-SUMIFS('Raw CSG Country SnS'!$G:$G,'Raw CSG Country SnS'!$B:$B,"FY19-Q1",'Raw CSG Country SnS'!$D:$D,"Norway")))/(SUMIFS('Raw CSG Country SnS'!$G:$G,'Raw CSG Country SnS'!$B:$B,"FY19-Q1",'Raw CSG Country SnS'!$D:$D,"Norway")),"") -> 0.25453324 | G27: =SUMIFS('Raw CSG Country SnS'!$H:$H,'Raw CSG Country SnS'!$B:$B,"FY20-Q2",'Raw CSG Country SnS'!$D:$D,"Norway") -> 134 | H27: =IFERROR(((SUMIFS('Raw CSG Country SnS'!$H:$H,'Raw CSG Country SnS'!$B:$B,"FY20-Q2",'Raw CSG Country SnS'!$D:$D,"Norway")-SUMIFS('Raw CSG Country SnS'!$H:$H,'Raw CSG Country SnS'!$B:$B,"FY19-Q2",'Raw CSG Country SnS'!$D:$D,"Norway")))/(SUMIFS('Raw CSG Country SnS'!$H:$H,'Raw CSG Country SnS'!$B:$B,"FY19-Q2",'Raw CSG Country SnS'!$D:$D,"Norway")),"") -> -0.042857143 | I27: =SUMIFS('Raw CSG Country SnS'!$G:$G,'Raw CSG Country SnS'!$B:$B,"FY20-Q2",'Raw CSG Country SnS'!$D:$D,"Norway") -> 10803 | J27: =IFERROR(((SUMIFS('Raw CSG Country SnS'!$G:$G,'Raw CSG Country SnS'!$B:$B,"FY20-Q2",'Raw CSG Country SnS'!$D:$D,"Norway")-SUMIFS('Raw CSG Country SnS'!$G:$G,'Raw CSG Country SnS'!$B:$B,"FY19-Q2",'Raw CSG Country SnS'!$D:$D,"Norway")))/(SUMIFS('Raw CSG Country SnS'!$G:$G,'Raw CSG Country SnS'!$B:$B,"FY19-Q2",'Raw CSG Country SnS'!$D:$D,"Norway")),"") -> 0.15023424 | K27: 175 | L27: =SUMIFS('Raw CSG Country SnS'!$H:$H,'Raw CSG Country SnS'!$B:$B,"FY20-Q3",'Raw CSG Country SnS'!$D:$D,"Norway") -> 141 | M27: =IFERROR(L27/K27,"") -> 0.80571429 | O27: =IFERROR((L27-K27)/K27,"") -> -0.19428571 | P27: =I27*(1.05) -> 11343.15 | Q27: =SUMIFS('Raw CSG Country SnS'!$G:$G,'Raw CSG Country SnS'!$B:$B,"FY20-Q3",'Raw CSG Country SnS'!$D:$D,"Norway") -> 11798 | R27: =IFERROR(Q27/P27,"") -> 1.0400991 | T27: =IFERROR((Q27-P27)/P27,"") -> 0.040099091 | U27: 210 | V27: =IFERROR(((U27-SUMIFS('Raw CSG Country SnS'!$H:$H,'Raw CSG Country SnS'!$B:$B,"FY19-Q4",'Raw CSG Country SnS'!$D:$D,"Norway")))/(SUMIFS('Raw CSG Country SnS'!$H:$H,'Raw CSG Country SnS'!$B:$B,"FY19-Q4",'Raw CSG Country SnS'!$D:$D,"Norway")),"") -> 0.52173913 | W27: 2600 | X27: =IFERROR(((W27-SUMIFS('Raw CSG Country SnS'!$G:$G,'Raw CSG Country SnS'!$B:$B,"FY19-Q4",'Raw CSG Country SnS'!$D:$D,"Norway")))/(SUMIFS('Raw CSG Country SnS'!$G:$G,'Raw CSG Country SnS'!$B:$B,"FY19-Q4",'Raw CSG Country SnS'!$D:$D,"Norway")),"") -> -0.73561115
A28: FI | C28: =SUMIFS('Raw CSG Country SnS'!$H:$H,'Raw CSG Country SnS'!$B:$B,"FY20-Q1",'Raw CSG Country SnS'!$D:$D,"Finland") -> 186 | D28: =IFERROR(((SUMIFS('Raw CSG Country SnS'!$H:$H,'Raw CSG Country SnS'!$B:$B,"FY20-Q1",'Raw CSG Country SnS'!$D:$D,"Finland")-SUMIFS('Raw CSG Country SnS'!$H:$H,'Raw CSG Country SnS'!$B:$B,"FY19-Q1",'Raw CSG Country SnS'!$D:$D,"Finland")))/(SUMIFS('Raw CSG Country SnS'!$H:$H,'Raw CSG Country SnS'!$B:$B,"FY19-Q1",'Raw CSG Country SnS'!$D:$D,"Finland")),"") -> 0.10059172 | E28: =SUMIFS('Raw CSG Country SnS'!$G:$G,'Raw CSG Country SnS'!$B:$B,"FY20-Q1",'Raw CSG Country SnS'!$D:$D,"Finland") -> 13541 | F28: =IFERROR(((SUMIFS('Raw CSG Country SnS'!$G:$G,'Raw CSG Country SnS'!$B:$B,"FY20-Q1",'Raw CSG Country SnS'!$D:$D,"Finland")-SUMIFS('Raw CSG Country SnS'!$G:$G,'Raw CSG Country SnS'!$B:$B,"FY19-Q1",'Raw CSG Country SnS'!$D:$D,"Finland")))/(SUMIFS('Raw CSG Country SnS'!$G:$G,'Raw CSG Country SnS'!$B:$B,"FY19-Q1",'Raw CSG Country SnS'!$D:$D,"Finland")),"") -> -0.1077359 | G28: =SUMIFS('Raw CSG Country SnS'!$H:$H,'Raw CSG Country SnS'!$B:$B,"FY20-Q2",'Raw CSG Country SnS'!$D:$D,"Finland") -> 174 | H28: =IFERROR(((SUMIFS('Raw CSG Country SnS'!$H:$H,'Raw CSG Country SnS'!$B:$B,"FY20-Q2",'Raw CSG Country SnS'!$D:$D,"Finland")-SUMIFS('Raw CSG Country SnS'!$H:$H,'Raw CSG Country SnS'!$B:$B,"FY19-Q2",'Raw CSG Country SnS'!$D:$D,"Finland")))/(SUMIFS('Raw CSG Country SnS'!$H:$H,'Raw CSG Country SnS'!$B:$B,"FY19-Q2",'Raw CSG Country SnS'!$D:$D,"Finland")),"") -> 0.011627907 | I28: =SUMIFS('Raw CSG Country SnS'!$G:$G,'Raw CSG Country SnS'!$B:$B,"FY20-Q2",'Raw CSG Country SnS'!$D:$D,"Finland") -> 11101 | J28: =IFERROR(((SUMIFS('Raw CSG Country SnS'!$G:$G,'Raw CSG Country SnS'!$B:$B,"FY20-Q2",'Raw CSG Country SnS'!$D:$D,"Finland")-SUMIFS('Raw CSG Country SnS'!$G:$G,'Raw CSG Country SnS'!$B:$B,"FY19-Q2",'Raw CSG Country SnS'!$D:$D,"Finland")))/(SUMIFS('Raw CSG Country SnS'!$G:$G,'Raw CSG Country SnS'!$B:$B,"FY19-Q2",'Raw CSG Country SnS'!$D:$D,"Finland")),"") -> -0.14528796 | K28: 208 | L28: =SUMIFS('Raw CSG Country SnS'!$H:$H,'Raw CSG Country SnS'!$B:$B,"FY20-Q3",'Raw CSG Country SnS'!$D:$D,"Finland") -> 205 | M28: =IFERROR(L28/K28,"") -> 0.98557692 | O28: =IFERROR((L28-K28)/K28,"") -> -0.014423077 | P28: =I28*(1.05) -> 11656.05 | Q28: =SUMIFS('Raw CSG Country SnS'!$G:$G,'Raw CSG Country SnS'!$B:$B,"FY20-Q3",'Raw CSG Country SnS'!$D:$D,"Finland") -> 12657 | R28: =IFERROR(Q28/P28,"") -> 1.0858739 | T28: =IFERROR((Q28-P28)/P28,"") -> 0.085873859 | U28: 225 | V28: =IFERROR(((U28-SUMIFS('Raw CSG Country SnS'!$H:$H,'Raw CSG Country SnS'!$B:$B,"FY19-Q4",'Raw CSG Country SnS'!$D:$D,"Finland")))/(SUMIFS('Raw CSG Country SnS'!$H:$H,'Raw CSG Country SnS'!$B:$B,"FY19-Q4",'Raw CSG Country SnS'!$D:$D,"Finland")),"") -> 0.14213198 | W28: 3100 | X28: =IFERROR(((W28-SUMIFS('Raw CSG Country SnS'!$G:$G,'Raw CSG Country SnS'!$B:$B,"FY19-Q4",'Raw CSG Country SnS'!$D:$D,"Finland")))/(SUMIFS('Raw CSG Country SnS'!$G:$G,'Raw CSG Country SnS'!$B:$B,"FY19-Q4",'Raw CSG Country SnS'!$D:$D,"Finland")),"") -> -0.73782138
A29: META | B29: Client Commercial SnS + BTB | C29: =SUMIFS('Raw Commercial Region SnS+B2B'!$H:$H,'Raw Commercial Region SnS+B2B'!$B:$B,"FY20-Q1",'Raw Commercial Region SnS+B2B'!$C:$C,"META") -> 2039 | D29: =IFERROR(((SUMIFS('Raw Commercial Region SnS+B2B'!$H:$H,'Raw Commercial Region SnS+B2B'!$B:$B,"FY20-Q1",'Raw Commercial Region SnS+B2B'!$C:$C,"META")-SUMIFS('Raw Commercial Region SnS+B2B'!$H:$H,'Raw Commercial Region SnS+B2B'!$B:$B,"FY19-Q1",'Raw Commercial Region SnS+B2B'!$C:$C,"META")))/(SUMIFS('Raw Commercial Region SnS+B2B'!$H:$H,'Raw Commercial Region SnS+B2B'!$B:$B,"FY19-Q1",'Raw Commercial Region SnS+B2B'!$C:$C,"META")),"") -> 0.032928065 | E29: =SUMIFS('Raw Commercial Region SnS+B2B'!$G:$G,'Raw Commercial Region SnS+B2B'!$B:$B,"FY20-Q1",'Raw Commercial Region SnS+B2B'!$C:$C,"META") -> 37666 | F29: =IFERROR(((SUMIFS('Raw Commercial Region SnS+B2B'!$G:$G,'Raw Commercial Region SnS+B2B'!$B:$B,"FY20-Q1",'Raw Commercial Region SnS+B2B'!$C:$C,"META")-SUMIFS('Raw Commercial Region SnS+B2B'!$G:$G,'Raw Commercial Region SnS+B2B'!$B:$B,"FY19-Q1",'Raw Commercial Region SnS+B2B'!$C:$C,"META")))/(SUMIFS('Raw Commercial Region SnS+B2B'!$G:$G,'Raw Commercial Region SnS+B2B'!$B:$B,"FY19-Q1",'Raw Commercial Region SnS+B2B'!$C:$C,"META")),"") -> 0.0052576797 | G29: =SUMIFS('Raw Commercial Region SnS+B2B'!$H:$H,'Raw Commercial Region SnS+B2B'!$B:$B,"FY20-Q2",'Raw Commercial Region SnS+B2B'!$C:$C,"META") -> 1933 | H29: =IFERROR(((SUMIFS('Raw Commercial Region SnS+B2B'!$H:$H,'Raw Commercial Region SnS+B2B'!$B:$B,"FY20-Q2",'Raw Commercial Region SnS+B2B'!$C:$C,"META")-SUMIFS('Raw Commercial Region SnS+B2B'!$H:$H,'Raw Commercial Region SnS+B2B'!$B:$B,"FY19-Q2",'Raw Commercial Region SnS+B2B'!$C:$C,"META")))/(SUMIFS('Raw Commercial Region SnS+B2B'!$H:$H,'Raw Commercial Region SnS+B2B'!$B:$B,"FY19-Q2",'Raw Commercial Region SnS+B2B'!$C:$C,"META")),"") -> 0.034242911 | I29: =SUMIFS('Raw Commercial Region SnS+B2B'!$G:$G,'Raw Commercial Region SnS+B2B'!$B:$B,"FY20-Q2",'Raw Commercial Region SnS+B2B'!$C:$C,"META") -> 36869 | J29: =IFERROR(((SUMIFS('Raw Commercial Region SnS+B2B'!$G:$G,'Raw Commercial Region SnS+B2B'!$B:$B,"FY20-Q2",'Raw Commercial Region SnS+B2B'!$C:$C,"META")-SUMIFS('Raw Commercial Region SnS+B2B'!$G:$G,'Raw Commercial Region SnS+B2B'!$B:$B,"FY19-Q2",'Raw Commercial Region SnS+B2B'!$C:$C,"META")))/(SUMIFS('Raw Commercial Region SnS+B2B'!$G:$G,'Raw Commercial Region SnS+B2B'!$B:$B,"FY19-Q2",'Raw Commercial Region SnS+B2B'!$C:$C,"META")),"") -> 0.067923763 | K29: 1836 | L29: =SUMIFS('Raw Commercial Region SnS+B2B'!$H:$H,'Raw Commercial Region SnS+B2B'!$B:$B,"FY20-Q3",'Raw Commercial Region SnS+B2B'!$C:$C,"META") -> 1866 | M29: =IFERROR(L29/K29,"") -> 1.0163399 | O29: =IFERROR((L29-K29)/K29,"") -> 0.016339869 | P29: =I29*(1.05) -> 38712.45 | Q29: =SUMIFS('Raw Commercial Region SnS+B2B'!$G:$G,'Raw Commercial Region SnS+B2B'!$B:$B,"FY20-Q3",'Raw Commercial Region SnS+B2B'!$C:$C,"META") -> 38913 | R29: =IFERROR(Q29/P29,"") -> 1.0051805 | T29: =IFERROR((Q29-P29)/P29,"") -> 0.0051805039 | U29: 1958 | V29: =IFERROR(((U29-SUMIFS('Raw Commercial Region SnS+B2B'!$H:$H,'Raw Commercial Region SnS+B2B'!$B:$B,"FY19-Q4",'Raw Commercial Region SnS+B2B'!$C:$C,"META")))/(SUMIFS('Raw Commercial Region SnS+B2B'!$H:$H,'Raw Commercial Region SnS+B2B'!$B:$B,"FY19-Q4",'Raw Commercial Region SnS+B2B'!$C:$C,"META")),"") -> 0.021920668 | W29: 21269 | X29: =IFERROR(((W29-SUMIFS('Raw Commercial Region SnS+B2B'!$G:$G,'Raw Commercial Region SnS+B2B'!$B:$B,"FY19-Q4",'Raw Commercial Region SnS+B2B'!$C:$C,"META")))/(SUMIFS('Raw Commercial Region SnS+B2B'!$G:$G,'Raw Commercial Region SnS+B2B'!$B:$B,"FY19-Q4",'Raw Commercial Region SnS+B2B'!$C:$C,"META")),"") -> -0.41255593
A30: CEE | B30: Client Commercial SnS + BTB | C30: =SUMIFS('Raw Commercial Region SnS+B2B'!$H:$H,'Raw Commercial Region SnS+B2B'!$B:$B,"FY20-Q1",'Raw Commercial Region SnS+B2B'!$C:$C,"CEE") -> 3096 | D30: =IFERROR(((SUMIFS('Raw Commercial Region SnS+B2B'!$H:$H,'Raw Commercial Region SnS+B2B'!$B:$B,"FY20-Q1",'Raw Commercial Region SnS+B2B'!$C:$C,"CEE")-SUMIFS('Raw Commercial Region SnS+B2B'!$H:$H,'Raw Commercial Region SnS+B2B'!$B:$B,"FY19-Q1",'Raw Commercial Region SnS+B2B'!$C:$C,"CEE")))/(SUMIFS('Raw Commercial Region SnS+B2B'!$H:$H,'Raw Commercial Region SnS+B2B'!$B:$B,"FY19-Q1",'Raw Commercial Region SnS+B2B'!$C:$C,"CEE")),"") -> 0.22178374 | E30: =SUMIFS('Raw Commercial Region SnS+B2B'!$G:$G,'Raw Commercial Region SnS+B2B'!$B:$B,"FY20-Q1",'Raw Commercial Region SnS+B2B'!$C:$C,"CEE") -> 12820 | F30: =IFERROR(((SUMIFS('Raw Commercial Region SnS+B2B'!$G:$G,'Raw Commercial Region SnS+B2B'!$B:$B,"FY20-Q1",'Raw Commercial Region SnS+B2B'!$C:$C,"CEE")-SUMIFS('Raw Commercial Region SnS+B2B'!$G:$G,'Raw Commercial Region SnS+B2B'!$B:$B,"FY19-Q1",'Raw Commercial Region SnS+B2B'!$C:$C,"CEE")))/(SUMIFS('Raw Commercial Region SnS+B2B'!$G:$G,'Raw Commercial Region SnS+B2B'!$B:$B,"FY19-Q1",'Raw Commercial Region SnS+B2B'!$C:$C,"CEE")),"") -> 0.070742504 | G30: =SUMIFS('Raw Commercial Region SnS+B2B'!$H:$H,'Raw Commercial Region SnS+B2B'!$B:$B,"FY20-Q2",'Raw Commercial Region SnS+B2B'!$C:$C,"CEE") -> 3108 | H30: =IFERROR(((SUMIFS('Raw Commercial Region SnS+B2B'!$H:$H,'Raw Commercial Region SnS+B2B'!$B:$B,"FY20-Q2",'Raw Commercial Region SnS+B2B'!$C:$C,"CEE")-SUMIFS('Raw Commercial Region SnS+B2B'!$H:$H,'Raw Commercial Region SnS+B2B'!$B:$B,"FY19-Q2",'Raw Commercial Region SnS+B2B'!$C:$C,"CEE")))/(SUMIFS('Raw Commercial Region SnS+B2B'!$H:$H,'Raw Commercial Region SnS+B2B'!$B:$B,"FY19-Q2",'Raw Commercial Region SnS+B2B'!$C:$C,"CEE")),"") -> 0.14940828 | I30: =SUMIFS('Raw Commercial Region SnS+B2B'!$G:$G,'Raw Commercial Region SnS+B2B'!$B:$B,"FY20-Q2",'Raw Commercial Region SnS+B2B'!$C:$C,"CEE") -> 12368 | J30: =IFERROR(((SUMIFS('Raw Commercial Region SnS+B2B'!$G:$G,'Raw Commercial Region SnS+B2B'!$B:$B,"FY20-Q2",'Raw Commercial Region SnS+B2B'!$C:$C,"CEE")-SUMIFS('Raw Commercial Region SnS+B2B'!$G:$G,'Raw Commercial Region SnS+B2B'!$B:$B,"FY19-Q2",'Raw Commercial Region SnS+B2B'!$C:$C,"CEE")))/(SUMIFS('Raw Commercial Region SnS+B2B'!$G:$G,'Raw Commercial Region SnS+B2B'!$B:$B,"FY19-Q2",'Raw Commercial Region SnS+B2B'!$C:$C,"CEE")),"") -> -0.038033756 | K30: 4816 | L30: =SUMIFS('Raw Commercial Region SnS+B2B'!$H:$H,'Raw Commercial Region SnS+B2B'!$B:$B,"FY20-Q3",'Raw Commercial Region SnS+B2B'!$C:$C,"CEE") -> 3371 | M30: =IFERROR(L30/K30,"") -> 0.69995847 | O30: =IFERROR((L30-K30)/K30,"") -> -0.30004153 | P30: =I30*(1.05) -> 12986.4 | Q30: =SUMIFS('Raw Commercial Region SnS+B2B'!$G:$G,'Raw Commercial Region SnS+B2B'!$B:$B,"FY20-Q3",'Raw Commercial Region SnS+B2B'!$C:$C,"CEE") -> 12027 | R30: =IFERROR(Q30/P30,"") -> 0.92612271 | T30: =IFERROR((Q30-P30)/P30,"") -> -0.073877287 | U30: 4626 | V30: =IFERROR(((U30-SUMIFS('Raw Commercial Region SnS+B2B'!$H:$H,'Raw Commercial Region SnS+B2B'!$B:$B,"FY19-Q4",'Raw Commercial Region SnS+B2B'!$C:$C,"CEE")))/(SUMIFS('Raw Commercial Region SnS+B2B'!$H:$H,'Raw Commercial Region SnS+B2B'!$B:$B,"FY19-Q4",'Raw Commercial Region SnS+B2B'!$C:$C,"CEE")),"") -> 0.37310775 | W30: 10056 | X30: =IFERROR(((W30-SUMIFS('Raw Commercial Region SnS+B2B'!$G:$G,'Raw Commercial Region SnS+B2B'!$B:$B,"FY19-Q4",'Raw Commercial Region SnS+B2B'!$C:$C,"CEE")))/(SUMIFS('Raw Commercial Region SnS+B2B'!$G:$G,'Raw Commercial Region SnS+B2B'!$B:$B,"FY19-Q4",'Raw Commercial Region SnS+B2B'!$C:$C,"CEE")),"") -> -0.37275449
A31: ITALY | B31: CSG SnS | C31: =SUMIFS('Raw CSG Country SnS'!$H:$H,'Raw CSG Country SnS'!$B:$B,"FY20-Q1",'Raw CSG Country SnS'!$C:$C,"ITALY") -> 2791 | D31: =IFERROR(((SUMIFS('Raw CSG Country SnS'!$H:$H,'Raw CSG Country SnS'!$B:$B,"FY20-Q1",'Raw CSG Country SnS'!$C:$C,"ITALY")-SUMIFS('Raw CSG Country SnS'!$H:$H,'Raw CSG Country SnS'!$B:$B,"FY19-Q1",'Raw CSG Country SnS'!$C:$C,"ITALY")))/(SUMIFS('Raw CSG Country SnS'!$H:$H,'Raw CSG Country SnS'!$B:$B,"FY19-Q1",'Raw CSG Country SnS'!$C:$C,"ITALY")),"") -> 0.12133387 | E31: =SUMIFS('Raw CSG Country SnS'!$G:$G,'Raw CSG Country SnS'!$B:$B,"FY20-Q1",'Raw CSG Country SnS'!$C:$C,"ITALY") -> 9161 | F31: =IFERROR(((SUMIFS('Raw CSG Country SnS'!$G:$G,'Raw CSG Country SnS'!$B:$B,"FY20-Q1",'Raw CSG Country SnS'!$C:$C,"ITALY")-SUMIFS('Raw CSG Country SnS'!$G:$G,'Raw CSG Country SnS'!$B:$B,"FY19-Q1",'Raw CSG Country SnS'!$C:$C,"ITALY")))/(SUMIFS('Raw CSG Country SnS'!$G:$G,'Raw CSG Country SnS'!$B:$B,"FY19-Q1",'Raw CSG Country SnS'!$C:$C,"ITALY")),"") -> 0.0025169621 | G31: =SUMIFS('Raw CSG Country SnS'!$H:$H,'Raw CSG Country SnS'!$B:$B,"FY20-Q2",'Raw CSG Country SnS'!$C:$C,"ITALY") -> 2737 | H31: =IFERROR(((SUMIFS('Raw CSG Country SnS'!$H:$H,'Raw CSG Country SnS'!$B:$B,"FY20-Q2",'Raw CSG Country SnS'!$C:$C,"ITALY")-SUMIFS('Raw CSG Country SnS'!$H:$H,'Raw CSG Country SnS'!$B:$B,"FY19-Q2",'Raw CSG Country SnS'!$C:$C,"ITALY")))/(SUMIFS('Raw CSG Country SnS'!$H:$H,'Raw CSG Country SnS'!$B:$B,"FY19-Q2",'Raw CSG Country SnS'!$C:$C,"ITALY")),"") -> 0.039893617 | I31: =SUMIFS('Raw CSG Country SnS'!$G:$G,'Raw CSG Country SnS'!$B:$B,"FY20-Q2",'Raw CSG Country SnS'!$C:$C,"ITALY") -> 8240 | J31: =IFERROR(((SUMIFS('Raw CSG Country SnS'!$G:$G,'Raw CSG Country SnS'!$B:$B,"FY20-Q2",'Raw CSG Country SnS'!$C:$C,"ITALY")-SUMIFS('Raw CSG Country SnS'!$G:$G,'Raw CSG Country SnS'!$B:$B,"FY19-Q2",'Raw CSG Country SnS'!$C:$C,"ITALY")))/(SUMIFS('Raw CSG Country SnS'!$G:$G,'Raw CSG Country SnS'!$B:$B,"FY19-Q2",'Raw CSG Country SnS'!$C:$C,"ITALY")),"") -> -0.063742757 | L31: =SUMIFS('Raw CSG Country SnS'!$H:$H,'Raw CSG Country SnS'!$B:$B,"FY20-Q3",'Raw CSG Country SnS'!$C:$C,"ITALY") -> 2634 | M31: =IFERROR(L31/K31,"") | O31: =IFERROR((L31-K31)/K31,"") | P31: =I31*(1.05) -> 8652 | Q31: =SUMIFS('Raw CSG Country SnS'!$G:$G,'Raw CSG Country SnS'!$B:$B,"FY20-Q3",'Raw CSG Country SnS'!$C:$C,"ITALY") -> 8667 | R31: =IFERROR(Q31/P31,"") -> 1.0017337 | T31: =IFERROR((Q31-P31)/P31,"") -> 0.0017337032 | V31: =IFERROR(((U31-SUMIFS('Raw CSG Country SnS'!$H:$H,'Raw CSG Country SnS'!$B:$B,"FY19-Q4",'Raw CSG Country SnS'!$C:$C,"ITALY")))/(SUMIFS('Raw CSG Country SnS'!$H:$H,'Raw CSG Country SnS'!$B:$B,"FY19-Q4",'Raw CSG Country SnS'!$C:$C,"ITALY")),"") -> -1 | X31: =IFERROR(((W31-SUMIFS('Raw CSG Country SnS'!$G:$G,'Raw CSG Country SnS'!$B:$B,"FY19-Q4",'Raw CSG Country SnS'!$C:$C,"ITALY")))/(SUMIFS('Raw CSG Country SnS'!$G:$G,'Raw CSG Country SnS'!$B:$B,"FY19-Q4",'Raw CSG Country SnS'!$C:$C,"ITALY")),"") -> -1
A32: Computer Gross | C32: =SUMIFS('Raw CSG Italy SnS'!$H:$H,'Raw CSG Italy SnS'!$B:$B,"FY20-Q1",'Raw CSG Italy SnS'!$C:$C,"ITALY",'Raw CSG Italy SnS'!$D:$D,"*computer gross*") -> 1168 | D32: =IFERROR(((SUMIFS('Raw CSG Italy SnS'!$H:$H,'Raw CSG Italy SnS'!$B:$B,"FY20-Q1",'Raw CSG Italy SnS'!$C:$C,"ITALY",'Raw CSG Italy SnS'!$D:$D,"*computer gross*")-SUMIFS('Raw CSG Italy SnS'!$H:$H,'Raw CSG Italy SnS'!$B:$B,"FY19-Q1",'Raw CSG Italy SnS'!$C:$C,"ITALY",'Raw CSG Italy SnS'!$D:$D,"*computer gross*")))/(SUMIFS('Raw CSG Italy SnS'!$H:$H,'Raw CSG Italy SnS'!$B:$B,"FY19-Q1",'Raw CSG Italy SnS'!$C:$C,"ITALY",'Raw CSG Italy SnS'!$D:$D,"*computer gross*")),"") -> -0.011844332 | E32: =SUMIFS('Raw CSG Italy SnS'!$G:$G,'Raw CSG Italy SnS'!$B:$B,"FY20-Q1",'Raw CSG Italy SnS'!$C:$C,"ITALY",'Raw CSG Italy SnS'!$D:$D,"*computer gross*") -> 6801 | F32: =IFERROR(((SUMIFS('Raw CSG Italy SnS'!$G:$G,'Raw CSG Italy SnS'!$B:$B,"FY20-Q1",'Raw CSG Italy SnS'!$C:$C,"ITALY",'Raw CSG Italy SnS'!$D:$D,"*computer gross*")-SUMIFS('Raw CSG Italy SnS'!$G:$G,'Raw CSG Italy SnS'!$B:$B,"FY19-Q1",'Raw CSG Italy SnS'!$C:$C,"ITALY",'Raw CSG Italy SnS'!$D:$D,"*computer gross*")))/(SUMIFS('Raw CSG Italy SnS'!$G:$G,'Raw CSG Italy SnS'!$B:$B,"FY19-Q1",'Raw CSG Italy SnS'!$C:$C,"ITALY",'Raw CSG Italy SnS'!$D:$D,"*computer gross*")),"") -> 0.066321731 | G32: =SUMIFS('Raw CSG Italy SnS'!$H:$H,'Raw CSG Italy SnS'!$B:$B,"FY20-Q2",'Raw CSG Italy SnS'!$C:$C,"ITALY",'Raw CSG Italy SnS'!$D:$D,"*computer gross*") -> 1183 | H32: =IFERROR(((SUMIFS('Raw CSG Italy SnS'!$H:$H,'Raw CSG Italy SnS'!$B:$B,"FY20-Q2",'Raw CSG Italy SnS'!$C:$C,"ITALY",'Raw CSG Italy SnS'!$D:$D,"*computer gross*")-SUMIFS('Raw CSG Italy SnS'!$H:$H,'Raw CSG Italy SnS'!$B:$B,"FY19-Q2",'Raw CSG Italy SnS'!$C:$C,"ITALY",'Raw CSG Italy SnS'!$D:$D,"*computer gross*")))/(SUMIFS('Raw CSG Italy SnS'!$H:$H,'Raw CSG Italy SnS'!$B:$B,"FY19-Q2",'Raw CSG Italy SnS'!$C:$C,"ITALY",'Raw CSG Italy SnS'!$D:$D,"*computer gross*")),"") -> 0.013710368 | I32: =SUMIFS('Raw CSG Italy SnS'!$G:$G,'Raw CSG Italy SnS'!$B:$B,"FY20-Q2",'Raw CSG Italy SnS'!$C:$C,"ITALY",'Raw CSG Italy SnS'!$D:$D,"*computer gross*") -> 6121 | J32: =IFERROR(((SUMIFS('Raw CSG Italy SnS'!$G:$G,'Raw CSG Italy SnS'!$B:$B,"FY20-Q2",'Raw CSG Italy SnS'!$C:$C,"ITALY",'Raw CSG Italy SnS'!$D:$D,"*computer gross*")-SUMIFS('Raw CSG Italy SnS'!$G:$G,'Raw CSG Italy SnS'!$B:$B,"FY19-Q2",'Raw CSG Italy SnS'!$C:$C,"ITALY",'Raw CSG Italy SnS'!$D:$D,"*computer gross*")))/(SUMIFS('Raw CSG Italy SnS'!$G:$G,'Raw CSG Italy SnS'!$B:$B,"FY19-Q2",'Raw CSG Italy SnS'!$C:$C,"ITALY",'Raw CSG Italy SnS'!$D:$D,"*computer gross*")),"") -> -0.044489541 | L32: =SUMIFS('Raw CSG Italy SnS'!$H:$H,'Raw CSG Italy SnS'!$B:$B,"FY20-Q3",'Raw CSG Italy SnS'!$C:$C,"ITALY",'Raw CSG Italy SnS'!$D:$D,"*computer gross*") -> 1199 | M32: =IFERROR(L32/K32,"") | O32: =IFERROR((L32-K32)/K32,"") | P32: =I32*(1.05) -> 6427.05 | Q32: =SUMIFS('Raw CSG Italy SnS'!$G:$G,'Raw CSG Italy SnS'!$B:$B,"FY20-Q3",'Raw CSG Italy SnS'!$C:$C,"ITALY",'Raw CSG Italy SnS'!$D:$D,"*computer gross*") -> 6554 | R32: =IFERROR(Q32/P32,"") -> 1.0197525 | T32: =IFERROR((Q32-P32)/P32,"") -> 0.019752453 | V32: =IFERROR(((U32-SUMIFS('Raw CSG Italy SnS'!$H:$H,'Raw CSG Italy SnS'!$B:$B,"FY19-Q4",'Raw CSG Italy SnS'!$C:$C,"ITALY",'Raw CSG Italy SnS'!$D:$D,"*computer gross*")))/(SUMIFS('Raw CSG Italy SnS'!$H:$H,'Raw CSG Italy SnS'!$B:$B,"FY19-Q4",'Raw CSG Italy SnS'!$C:$C,"ITALY",'Raw CSG Italy SnS'!$D:$D,"*computer gross*")),"") -> -1 | X32: =IFERROR(((W32-SUMIFS('Raw CSG Italy SnS'!$G:$G,'Raw CSG Italy SnS'!$B:$B,"FY19-Q4",'Raw CSG Italy SnS'!$C:$C,"ITALY",'Raw CSG Italy SnS'!$D:$D,"*computer gross*")))/(SUMIFS('Raw CSG Italy SnS'!$G:$G,'Raw CSG Italy SnS'!$B:$B,"FY19-Q4",'Raw CSG Italy SnS'!$C:$C,"ITALY",'Raw CSG Italy SnS'!$D:$D,"*computer gross*")),"") -> -1
A33: Data Matic | C33: =SUMIFS('Raw CSG Italy SnS'!$H:$H,'Raw CSG Italy SnS'!$B:$B,"FY20-Q1",'Raw CSG Italy SnS'!$C:$C,"ITALY",'Raw CSG Italy SnS'!$D:$D,"*datamatic*") -> 581 | D33: =IFERROR(((SUMIFS('Raw CSG Italy SnS'!$H:$H,'Raw CSG Italy SnS'!$B:$B,"FY20-Q1",'Raw CSG Italy SnS'!$C:$C,"ITALY",'Raw CSG Italy SnS'!$D:$D,"*datamatic*")-SUMIFS('Raw CSG Italy SnS'!$H:$H,'Raw CSG Italy SnS'!$B:$B,"FY19-Q1",'Raw CSG Italy SnS'!$C:$C,"ITALY",'Raw CSG Italy SnS'!$D:$D,"*datamatic*")))/(SUMIFS('Raw CSG Italy SnS'!$H:$H,'Raw CSG Italy SnS'!$B:$B,"FY19-Q1",'Raw CSG Italy SnS'!$C:$C,"ITALY",'Raw CSG Italy SnS'!$D:$D,"*datamatic*")),"") -> 0.044964029 | E33: =SUMIFS('Raw CSG Italy SnS'!$G:$G,'Raw CSG Italy SnS'!$B:$B,"FY20-Q1",'Raw CSG Italy SnS'!$C:$C,"ITALY",'Raw CSG Italy SnS'!$D:$D,"*datamatic*") -> 5630 | F33: =IFERROR(((SUMIFS('Raw CSG Italy SnS'!$G:$G,'Raw CSG Italy SnS'!$B:$B,"FY20-Q1",'Raw CSG Italy SnS'!$C:$C,"ITALY",'Raw CSG Italy SnS'!$D:$D,"*datamatic*")-SUMIFS('Raw CSG Italy SnS'!$G:$G,'Raw CSG Italy SnS'!$B:$B,"FY19-Q1",'Raw CSG Italy SnS'!$C:$C,"ITALY",'Raw CSG Italy SnS'!$D:$D,"*datamatic*")))/(SUMIFS('Raw CSG Italy SnS'!$G:$G,'Raw CSG Italy SnS'!$B:$B,"FY19-Q1",'Raw CSG Italy SnS'!$C:$C,"ITALY",'Raw CSG Italy SnS'!$D:$D,"*datamatic*")),"") -> 0.082068038 | G33: =SUMIFS('Raw CSG Italy SnS'!$H:$H,'Raw CSG Italy SnS'!$B:$B,"FY20-Q2",'Raw CSG Italy SnS'!$C:$C,"ITALY",'Raw CSG Italy SnS'!$D:$D,"*datamatic*") -> 541 | H33: =IFERROR(((SUMIFS('Raw CSG Italy SnS'!$H:$H,'Raw CSG Italy SnS'!$B:$B,"FY20-Q2",'Raw CSG Italy SnS'!$C:$C,"ITALY",'Raw CSG Italy SnS'!$D:$D,"*datamatic*")-SUMIFS('Raw CSG Italy SnS'!$H:$H,'Raw CSG Italy SnS'!$B:$B,"FY19-Q2",'Raw CSG Italy SnS'!$C:$C,"ITALY",'Raw CSG Italy SnS'!$D:$D,"*datamatic*")))/(SUMIFS('Raw CSG Italy SnS'!$H:$H,'Raw CSG Italy SnS'!$B:$B,"FY19-Q2",'Raw CSG Italy SnS'!$C:$C,"ITALY",'Raw CSG Italy SnS'!$D:$D,"*datamatic*")),"") -> -0.1013289 | I33: =SUMIFS('Raw CSG Italy SnS'!$G:$G,'Raw CSG Italy SnS'!$B:$B,"FY20-Q2",'Raw CSG Italy SnS'!$C:$C,"ITALY",'Raw CSG Italy SnS'!$D:$D,"*datamatic*") -> 4833 | J33: =IFERROR(((SUMIFS('Raw CSG Italy SnS'!$G:$G,'Raw CSG Italy SnS'!$B:$B,"FY20-Q2",'Raw CSG Italy SnS'!$C:$C,"ITALY",'Raw CSG Italy SnS'!$D:$D,"*datamatic*")-SUMIFS('Raw CSG Italy SnS'!$G:$G,'Raw CSG Italy SnS'!$B:$B,"FY19-Q2",'Raw CSG Italy SnS'!$C:$C,"ITALY",'Raw CSG Italy SnS'!$D:$D,"*datamatic*")))/(SUMIFS('Raw CSG Italy SnS'!$G:$G,'Raw CSG Italy SnS'!$B:$B,"FY19-Q2",'Raw CSG Italy SnS'!$C:$C,"ITALY",'Raw CSG Italy SnS'!$D:$D,"*datamatic*")),"") -> -0.029712909 | L33: =SUMIFS('Raw CSG Italy SnS'!$H:$H,'Raw CSG Italy SnS'!$B:$B,"FY20-Q3",'Raw CSG Italy SnS'!$C:$C,"ITALY",'Raw CSG Italy SnS'!$D:$D,"*datamatic*") -> 551 | M33: =IFERROR(L33/K33,"") | O33: =IFERROR((L33-K33)/K33,"") | P33: =I33*(1.05) -> 5074.65 | Q33: =SUMIFS('Raw CSG Italy SnS'!$G:$G,'Raw CSG Italy SnS'!$B:$B,"FY20-Q3",'Raw CSG Italy SnS'!$C:$C,"ITALY",'Raw CSG Italy SnS'!$D:$D,"*datamatic*") -> 5200 | R33: =IFERROR(Q33/P33,"") -> 1.0247012 | T33: =IFERROR((Q33-P33)/P33,"") -> 0.024701211 | V33: =IFERROR(((U33-SUMIFS('Raw CSG Italy SnS'!$H:$H,'Raw CSG Italy SnS'!$B:$B,"FY19-Q4",'Raw CSG Italy SnS'!$C:$C,"ITALY",'Raw CSG Italy SnS'!$D:$D,"*datamatic*")))/(SUMIFS('Raw CSG Italy SnS'!$H:$H,'Raw CSG Italy SnS'!$B:$B,"FY19-Q4",'Raw CSG Italy SnS'!$C:$C,"ITALY",'Raw CSG Italy SnS'!$D:$D,"*datamatic*")),"") -> -1 | X33: =IFERROR(((W33-SUMIFS('Raw CSG Italy SnS'!$G:$G,'Raw CSG Italy SnS'!$B:$B,"FY19-Q4",'Raw CSG Italy SnS'!$C:$C,"ITALY",'Raw CSG Italy SnS'!$D:$D,"*datamatic*")))/(SUMIFS('Raw CSG Italy SnS'!$G:$G,'Raw CSG Italy SnS'!$B:$B,"FY19-Q4",'Raw CSG Italy SnS'!$C:$C,"ITALY",'Raw CSG Italy SnS'!$D:$D,"*datamatic*")),"") -> -1
A34: Esprinet SPA | C34: =SUMIFS('Raw CSG Italy SnS'!$H:$H,'Raw CSG Italy SnS'!$B:$B,"FY20-Q1",'Raw CSG Italy SnS'!$C:$C,"ITALY",'Raw CSG Italy SnS'!$D:$D,"*esprinet*") -> 1513 | D34: =IFERROR(((SUMIFS('Raw CSG Italy SnS'!$H:$H,'Raw CSG Italy SnS'!$B:$B,"FY20-Q1",'Raw CSG Italy SnS'!$C:$C,"ITALY",'Raw CSG Italy SnS'!$D:$D,"*esprinet*")-SUMIFS('Raw CSG Italy SnS'!$H:$H,'Raw CSG Italy SnS'!$B:$B,"FY19-Q1",'Raw CSG Italy SnS'!$C:$C,"ITALY",'Raw CSG Italy SnS'!$D:$D,"*esprinet*")))/(SUMIFS('Raw CSG Italy SnS'!$H:$H,'Raw CSG Italy SnS'!$B:$B,"FY19-Q1",'Raw CSG Italy SnS'!$C:$C,"ITALY",'Raw CSG Italy SnS'!$D:$D,"*esprinet*")),"") -> 0.17651633 | E34: =SUMIFS('Raw CSG Italy SnS'!$G:$G,'Raw CSG Italy SnS'!$B:$B,"FY20-Q1",'Raw CSG Italy SnS'!$C:$C,"ITALY",'Raw CSG Italy SnS'!$D:$D,"*esprinet*") -> 7461 | F34: =IFERROR(((SUMIFS('Raw CSG Italy SnS'!$G:$G,'Raw CSG Italy SnS'!$B:$B,"FY20-Q1",'Raw CSG Italy SnS'!$C:$C,"ITALY",'Raw CSG Italy SnS'!$D:$D,"*esprinet*")-SUMIFS('Raw CSG Italy SnS'!$G:$G,'Raw CSG Italy SnS'!$B:$B,"FY19-Q1",'Raw CSG Italy SnS'!$C:$C,"ITALY",'Raw CSG Italy SnS'!$D:$D,"*esprinet*")))/(SUMIFS('Raw CSG Italy SnS'!$G:$G,'Raw CSG Italy SnS'!$B:$B,"FY19-Q1",'Raw CSG Italy SnS'!$C:$C,"ITALY",'Raw CSG Italy SnS'!$D:$D,"*esprinet*")),"") -> 0.085394239 | G34: =SUMIFS('Raw CSG Italy SnS'!$H:$H,'Raw CSG Italy SnS'!$B:$B,"FY20-Q2",'Raw CSG Italy SnS'!$C:$C,"ITALY",'Raw CSG Italy SnS'!$D:$D,"*esprinet*") -> 1421 | H34: =IFERROR(((SUMIFS('Raw CSG Italy SnS'!$H:$H,'Raw CSG Italy SnS'!$B:$B,"FY20-Q2",'Raw CSG Italy SnS'!$C:$C,"ITALY",'Raw CSG Italy SnS'!$D:$D,"*esprinet*")-SUMIFS('Raw CSG Italy SnS'!$H:$H,'Raw CSG Italy SnS'!$B:$B,"FY19-Q2",'Raw CSG Italy SnS'!$C:$C,"ITALY",'Raw CSG Italy SnS'!$D:$D,"*esprinet*")))/(SUMIFS('Raw CSG Italy SnS'!$H:$H,'Raw CSG Italy SnS'!$B:$B,"FY19-Q2",'Raw CSG Italy SnS'!$C:$C,"ITALY",'Raw CSG Italy SnS'!$D:$D,"*esprinet*")),"") -> 0.0056617127 | I34: =SUMIFS('Raw CSG Italy SnS'!$G:$G,'Raw CSG Italy SnS'!$B:$B,"FY20-Q2",'Raw CSG Italy SnS'!$C:$C,"ITALY",'Raw CSG Italy SnS'!$D:$D,"*esprinet*") -> 6415 | J34: =IFERROR(((SUMIFS('Raw CSG Italy SnS'!$G:$G,'Raw CSG Italy SnS'!$B:$B,"FY20-Q2",'Raw CSG Italy SnS'!$C:$C,"ITALY",'Raw CSG Italy SnS'!$D:$D,"*esprinet*")-SUMIFS('Raw CSG Italy SnS'!$G:$G,'Raw CSG Italy SnS'!$B:$B,"FY19-Q2",'Raw CSG Italy SnS'!$C:$C,"ITALY",'Raw CSG Italy SnS'!$D:$D,"*esprinet*")))/(SUMIFS('Raw CSG Italy SnS'!$G:$G,'Raw CSG Italy SnS'!$B:$B,"FY19-Q2",'Raw CSG Italy SnS'!$C:$C,"ITALY",'Raw CSG Italy SnS'!$D:$D,"*esprinet*")),"") -> 0.0034412639 | L34: =SUMIFS('Raw CSG Italy SnS'!$H:$H,'Raw CSG Italy SnS'!$B:$B,"FY20-Q3",'Raw CSG Italy SnS'!$C:$C,"ITALY",'Raw CSG Italy SnS'!$D:$D,"*esprinet*") -> 1385 | M34: =IFERROR(L34/K34,"") | O34: =IFERROR((L34-K34)/K34,"") | P34: =I34*(1.05) -> 6735.75 | Q34: =SUMIFS('Raw CSG Italy SnS'!$G:$G,'Raw CSG Italy SnS'!$B:$B,"FY20-Q3",'Raw CSG Italy SnS'!$C:$C,"ITALY",'Raw CSG Italy SnS'!$D:$D,"*esprinet*") -> 6484 | R34: =IFERROR(Q34/P34,"") -> 0.9626248 | T34: =IFERROR((Q34-P34)/P34,"") -> -0.037375199 | V34: =IFERROR(((U34-SUMIFS('Raw CSG Italy SnS'!$H:$H,'Raw CSG Italy SnS'!$B:$B,"FY19-Q4",'Raw CSG Italy SnS'!$C:$C,"ITALY",'Raw CSG Italy SnS'!$D:$D,"*esprinet*")))/(SUMIFS('Raw CSG Italy SnS'!$H:$H,'Raw CSG Italy SnS'!$B:$B,"FY19-Q4",'Raw CSG Italy SnS'!$C:$C,"ITALY",'Raw CSG Italy SnS'!$D:$D,"*esprinet*")),"") -> -1 | X34: =IFERROR(((W34-SUMIFS('Raw CSG Italy SnS'!$G:$G,'Raw CSG Italy SnS'!$B:$B,"FY19-Q4",'Raw CSG Italy SnS'!$C:$C,"ITALY",'Raw CSG Italy SnS'!$D:$D,"*esprinet*")))/(SUMIFS('Raw CSG Italy SnS'!$G:$G,'Raw CSG Italy SnS'!$B:$B,"FY19-Q4",'Raw CSG Italy SnS'!$C:$C,"ITALY",'Raw CSG Italy SnS'!$D:$D,"*esprinet*")),"") -> -1
A35: Tech Data | C35: =SUMIFS('Raw CSG Italy SnS'!$H:$H,'Raw CSG Italy SnS'!$B:$B,"FY20-Q1",'Raw CSG Italy SnS'!$C:$C,"ITALY",'Raw CSG Italy SnS'!$D:$D,"*tech data*") -> 727 | D35: =IFERROR(((SUMIFS('Raw CSG Italy SnS'!$H:$H,'Raw CSG Italy SnS'!$B:$B,"FY20-Q1",'Raw CSG Italy SnS'!$C:$C,"ITALY",'Raw CSG Italy SnS'!$D:$D,"*tech data*")-SUMIFS('Raw CSG Italy SnS'!$H:$H,'Raw CSG Italy SnS'!$B:$B,"FY19-Q1",'Raw CSG Italy SnS'!$C:$C,"ITALY",'Raw CSG Italy SnS'!$D:$D,"*tech data*")))/(SUMIFS('Raw CSG Italy SnS'!$H:$H,'Raw CSG Italy SnS'!$B:$B,"FY19-Q1",'Raw CSG Italy SnS'!$C:$C,"ITALY",'Raw CSG Italy SnS'!$D:$D,"*tech data*")),"") -> 0.1466877 | E35: =SUMIFS('Raw CSG Italy SnS'!$G:$G,'Raw CSG Italy SnS'!$B:$B,"FY20-Q1",'Raw CSG Italy SnS'!$C:$C,"ITALY",'Raw CSG Italy SnS'!$D:$D,"*tech data*") -> 6801 | F35: =IFERROR(((SUMIFS('Raw CSG Italy SnS'!$G:$G,'Raw CSG Italy SnS'!$B:$B,"FY20-Q1",'Raw CSG Italy SnS'!$C:$C,"ITALY",'Raw CSG Italy SnS'!$D:$D,"*tech data*")-SUMIFS('Raw CSG Italy SnS'!$G:$G,'Raw CSG Italy SnS'!$B:$B,"FY19-Q1",'Raw CSG Italy SnS'!$C:$C,"ITALY",'Raw CSG Italy SnS'!$D:$D,"*tech data*")))/(SUMIFS('Raw CSG Italy SnS'!$G:$G,'Raw CSG Italy SnS'!$B:$B,"FY19-Q1",'Raw CSG Italy SnS'!$C:$C,"ITALY",'Raw CSG Italy SnS'!$D:$D,"*tech data*")),"") -> -0.20072864 | G35: =SUMIFS('Raw CSG Italy SnS'!$H:$H,'Raw CSG Italy SnS'!$B:$B,"FY20-Q2",'Raw CSG Italy SnS'!$C:$C,"ITALY",'Raw CSG Italy SnS'!$D:$D,"*tech data*") -> 684 | H35: =IFERROR(((SUMIFS('Raw CSG Italy SnS'!$H:$H,'Raw CSG Italy SnS'!$B:$B,"FY20-Q2",'Raw CSG Italy SnS'!$C:$C,"ITALY",'Raw CSG Italy SnS'!$D:$D,"*tech data*")-SUMIFS('Raw CSG Italy SnS'!$H:$H,'Raw CSG Italy SnS'!$B:$B,"FY19-Q2",'Raw CSG Italy SnS'!$C:$C,"ITALY",'Raw CSG Italy SnS'!$D:$D,"*tech data*")))/(SUMIFS('Raw CSG Italy SnS'!$H:$H,'Raw CSG Italy SnS'!$B:$B,"FY19-Q2",'Raw CSG Italy SnS'!$C:$C,"ITALY",'Raw CSG Italy SnS'!$D:$D,"*tech data*")),"") -> 0.06875 | I35: =SUMIFS('Raw CSG Italy SnS'!$G:$G,'Raw CSG Italy SnS'!$B:$B,"FY20-Q2",'Raw CSG Italy SnS'!$C:$C,"ITALY",'Raw CSG Italy SnS'!$D:$D,"*tech data*") -> 5684 | J35: =IFERROR(((SUMIFS('Raw CSG Italy SnS'!$G:$G,'Raw CSG Italy SnS'!$B:$B,"FY20-Q2",'Raw CSG Italy SnS'!$C:$C,"ITALY",'Raw CSG Italy SnS'!$D:$D,"*tech data*")-SUMIFS('Raw CSG Italy SnS'!$G:$G,'Raw CSG Italy SnS'!$B:$B,"FY19-Q2",'Raw CSG Italy SnS'!$C:$C,"ITALY",'Raw CSG Italy SnS'!$D:$D,"*tech data*")))/(SUMIFS('Raw CSG Italy SnS'!$G:$G,'Raw CSG Italy SnS'!$B:$B,"FY19-Q2",'Raw CSG Italy SnS'!$C:$C,"ITALY",'Raw CSG Italy SnS'!$D:$D,"*tech data*")),"") -> -0.087347463 | L35: =SUMIFS('Raw CSG Italy SnS'!$H:$H,'Raw CSG Italy SnS'!$B:$B,"FY20-Q3",'Raw CSG Italy SnS'!$C:$C,"ITALY",'Raw CSG Italy SnS'!$D:$D,"*tech data*") -> 620 | M35: =IFERROR(L35/K35,"") | O35: =IFERROR((L35-K35)/K35,"") | P35: =I35*(1.05) -> 5968.2 | Q35: =SUMIFS('Raw CSG Italy SnS'!$G:$G,'Raw CSG Italy SnS'!$B:$B,"FY20-Q3",'Raw CSG Italy SnS'!$C:$C,"ITALY",'Raw CSG Italy SnS'!$D:$D,"*tech data*") -> 5596 | R35: =IFERROR(Q35/P35,"") -> 0.93763614 | T35: =IFERROR((Q35-P35)/P35,"") -> -0.062363862 | V35: =IFERROR(((U35-SUMIFS('Raw CSG Italy SnS'!$H:$H,'Raw CSG Italy SnS'!$B:$B,"FY19-Q4",'Raw CSG Italy SnS'!$C:$C,"ITALY",'Raw CSG Italy SnS'!$D:$D,"*tech data*")))/(SUMIFS('Raw CSG Italy SnS'!$H:$H,'Raw CSG Italy SnS'!$B:$B,"FY19-Q4",'Raw CSG Italy SnS'!$C:$C,"ITALY",'Raw CSG Italy SnS'!$D:$D,"*tech data*")),"") -> -1 | X35: =IFERROR(((W35-SUMIFS('Raw CSG Italy SnS'!$G:$G,'Raw CSG Italy SnS'!$B:$B,"FY19-Q4",'Raw CSG Italy SnS'!$C:$C,"ITALY",'Raw CSG Italy SnS'!$D:$D,"*tech data*")))/(SUMIFS('Raw CSG Italy SnS'!$G:$G,'Raw CSG Italy SnS'!$B:$B,"FY19-Q4",'Raw CSG Italy SnS'!$C:$C,"ITALY",'Raw CSG Italy SnS'!$D:$D,"*tech data*")),"") -> -1
A36: RUSSIA | B36: Client Commercial SnS + BTB | C36: =SUMIFS('Raw Commercial Country SnS+B2B'!$H:$H,'Raw Commercial Country SnS+B2B'!$B:$B,"FY20-Q1",'Raw Commercial Country SnS+B2B'!$C:$C,"RUSSIA") -> 456 | D36: =IFERROR(((SUMIFS('Raw Commercial Country SnS+B2B'!$H:$H,'Raw Commercial Country SnS+B2B'!$B:$B,"FY20-Q1",'Raw Commercial Country SnS+B2B'!$C:$C,"RUSSIA")-SUMIFS('Raw Commercial Country SnS+B2B'!$H:$H,'Raw Commercial Country SnS+B2B'!$B:$B,"FY19-Q1",'Raw Commercial Country SnS+B2B'!$C:$C,"RUSSIA")))/(SUMIFS('Raw Commercial Country SnS+B2B'!$H:$H,'Raw Commercial Country SnS+B2B'!$B:$B,"FY19-Q1",'Raw Commercial Country SnS+B2B'!$C:$C,"RUSSIA")),"") -> 0.11764706 | E36: =SUMIFS('Raw Commercial Country SnS+B2B'!$G:$G,'Raw Commercial Country SnS+B2B'!$B:$B,"FY20-Q1",'Raw Commercial Country SnS+B2B'!$C:$C,"RUSSIA") -> 19009 | F36: =IFERROR(((SUMIFS('Raw Commercial Country SnS+B2B'!$G:$G,'Raw Commercial Country SnS+B2B'!$B:$B,"FY20-Q1",'Raw Commercial Country SnS+B2B'!$C:$C,"RUSSIA")-SUMIFS('Raw Commercial Country SnS+B2B'!$G:$G,'Raw Commercial Country SnS+B2B'!$B:$B,"FY19-Q1",'Raw Commercial Country SnS+B2B'!$C:$C,"RUSSIA")))/(SUMIFS('Raw Commercial Country SnS+B2B'!$G:$G,'Raw Commercial Country SnS+B2B'!$B:$B,"FY19-Q1",'Raw Commercial Country SnS+B2B'!$C:$C,"RUSSIA")),"") -> -0.080001936 | G36: =SUMIFS('Raw Commercial Country SnS+B2B'!$H:$H,'Raw Commercial Country SnS+B2B'!$B:$B,"FY20-Q2",'Raw Commercial Country SnS+B2B'!$C:$C,"RUSSIA") -> 465 | H36: =IFERROR(((SUMIFS('Raw Commercial Country SnS+B2B'!$H:$H,'Raw Commercial Country SnS+B2B'!$B:$B,"FY20-Q2",'Raw Commercial Country SnS+B2B'!$C:$C,"RUSSIA")-SUMIFS('Raw Commercial Country SnS+B2B'!$H:$H,'Raw Commercial Country SnS+B2B'!$B:$B,"FY19-Q2",'Raw Commercial Country SnS+B2B'!$C:$C,"RUSSIA")))/(SUMIFS('Raw Commercial Country SnS+B2B'!$H:$H,'Raw Commercial Country SnS+B2B'!$B:$B,"FY19-Q2",'Raw Commercial Country SnS+B2B'!$C:$C,"RUSSIA")),"") -> 0.1509901 | I36: =SUMIFS('Raw Commercial Country SnS+B2B'!$G:$G,'Raw Commercial Country SnS+B2B'!$B:$B,"FY20-Q2",'Raw Commercial Country SnS+B2B'!$C:$C,"RUSSIA") -> 20284 | J36: =IFERROR(((SUMIFS('Raw Commercial Country SnS+B2B'!$G:$G,'Raw Commercial Country SnS+B2B'!$B:$B,"FY20-Q2",'Raw Commercial Country SnS+B2B'!$C:$C,"RUSSIA")-SUMIFS('Raw Commercial Country SnS+B2B'!$G:$G,'Raw Commercial Country SnS+B2B'!$B:$B,"FY19-Q2",'Raw Commercial Country SnS+B2B'!$C:$C,"RUSSIA")))/(SUMIFS('Raw Commercial Country SnS+B2B'!$G:$G,'Raw Commercial Country SnS+B2B'!$B:$B,"FY19-Q2",'Raw Commercial Country SnS+B2B'!$C:$C,"RUSSIA")),"") -> 0.15335191 | L36: =SUMIFS('Raw Commercial Country SnS+B2B'!$H:$H,'Raw Commercial Country SnS+B2B'!$B:$B,"FY20-Q3",'Raw Commercial Country SnS+B2B'!$C:$C,"RUSSIA") -> 497 | M36: =IFERROR(L36/K36,"") | O36: =IFERROR((L36-K36)/K36,"") | P36: =I36*(1.05) -> 21298.2 | Q36: =SUMIFS('Raw Commercial Country SnS+B2B'!$G:$G,'Raw Commercial Country SnS+B2B'!$B:$B,"FY20-Q3",'Raw Commercial Country SnS+B2B'!$C:$C,"RUSSIA") -> 27272 | R36: =IFERROR(Q36/P36,"") -> 1.2804838 | T36: =IFERROR((Q36-P36)/P36,"") -> 0.2804838 | V36: =IFERROR(((U36-SUMIFS('Raw Commercial Country SnS+B2B'!$H:$H,'Raw Commercial Country SnS+B2B'!$B:$B,"FY19-Q4",'Raw Commercial Country SnS+B2B'!$C:$C,"RUSSIA")))/(SUMIFS('Raw Commercial Country SnS+B2B'!$H:$H,'Raw Commercial Country SnS+B2B'!$B:$B,"FY19-Q4",'Raw Commercial Country SnS+B2B'!$C:$C,"RUSSIA")),"") -> -1 | X36: =IFERROR(((W36-SUMIFS('Raw Commercial Country SnS+B2B'!$G:$G,'Raw Commercial Country SnS+B2B'!$B:$B,"FY19-Q4",'Raw Commercial Country SnS+B2B'!$C:$C,"RUSSIA")))/(SUMIFS('Raw Commercial Country SnS+B2B'!$G:$G,'Raw Commercial Country SnS+B2B'!$B:$B,"FY19-Q4",'Raw Commercial Country SnS+B2B'!$C:$C,"RUSSIA")),"") -> -1

Sheet Italy
A1: BREADTH & DEPTH Non Metal Through Disti Client Focus
A2: Source Power Bi
B3: =SIERREUR(L6/K6;"") | Y3: 1
C4: Actual Q1 | G4: Actual Q2 | K4: Actual Q3 | U4: Targets Q4
A5: Country | B5: Scope | C5: # of resellers | D5: Yoy % growth per resellers | E5: Average rev per partner | F5: Yoy % growth average per partner | G5: # of resellers | H5: Yoy % growth per resellers | I5: Average rev per partner | J5: Yoy % growth average per partner | K5: # of Resellers Target | L5: # Resellers Actual | M5: Achieved Target | N5: Conclusion | O5: Yoy % growth per resellers | P5: average rev per partner target | Q5: Average rev per partner actual | R5: Achieved Target | S5: Conclusion | T5: Yoy % growth average per partner | U5: # of resellers | V5: Yoy % growth per resellers | W5: Average rev per partner | X5: Yoy % growth average per partner
A6: ITALY | B6: CSG SnS | C6: =SUMIFS('Raw CSG Country SnS'!$H:$H,'Raw CSG Country SnS'!$B:$B,"FY20-Q1",'Raw CSG Country SnS'!$C:$C,"ITALY") -> 2791 | D6: =IFERROR(((SUMIFS('Raw CSG Country SnS'!$H:$H,'Raw CSG Country SnS'!$B:$B,"FY20-Q1",'Raw CSG Country SnS'!$C:$C,"ITALY")-SUMIFS('Raw CSG Country SnS'!$H:$H,'Raw CSG Country SnS'!$B:$B,"FY19-Q1",'Raw CSG Country SnS'!$C:$C,"ITALY")))/(SUMIFS('Raw CSG Country SnS'!$H:$H,'Raw CSG Country SnS'!$B:$B,"FY19-Q1",'Raw CSG Country SnS'!$C:$C,"ITALY")),"") -> 0.12133387 | E6: =SUMIFS('Raw CSG Country SnS'!$G:$G,'Raw CSG Country SnS'!$B:$B,"FY20-Q1",'Raw CSG Country SnS'!$C:$C,"ITALY") -> 9161 | F6: =IFERROR(((SUMIFS('Raw CSG Country SnS'!$G:$G,'Raw CSG Country SnS'!$B:$B,"FY20-Q1",'Raw CSG Country SnS'!$C:$C,"ITALY")-SUMIFS('Raw CSG Country SnS'!$G:$G,'Raw CSG Country SnS'!$B:$B,"FY19-Q1",'Raw CSG Country SnS'!$C:$C,"ITALY")))/(SUMIFS('Raw CSG Country SnS'!$G:$G,'Raw CSG Country SnS'!$B:$B,"FY19-Q1",'Raw CSG Country SnS'!$C:$C,"ITALY")),"") -> 0.0025169621 | G6: =SUMIFS('Raw CSG Country SnS'!$H:$H,'Raw CSG Country SnS'!$B:$B,"FY20-Q2",'Raw CSG Country SnS'!$C:$C,"ITALY") -> 2737 | H6: =IFERROR(((SUMIFS('Raw CSG Country SnS'!$H:$H,'Raw CSG Country SnS'!$B:$B,"FY20-Q2",'Raw CSG Country SnS'!$C:$C,"ITALY")-SUMIFS('Raw CSG Country SnS'!$H:$H,'Raw CSG Country SnS'!$B:$B,"FY19-Q2",'Raw CSG Country SnS'!$C:$C,"ITALY")))/(SUMIFS('Raw CSG Country SnS'!$H:$H,'Raw CSG Country SnS'!$B:$B,"FY19-Q2",'Raw CSG Country SnS'!$C:$C,"ITALY")),"") -> 0.039893617 | I6: =SUMIFS('Raw CSG Country SnS'!$G:$G,'Raw CSG Country SnS'!$B:$B,"FY20-Q2",'Raw CSG Country SnS'!$C:$C,"ITALY") -> 8240 | J6: =IFERROR(((SUMIFS('Raw CSG Country SnS'!$G:$G,'Raw CSG Country SnS'!$B:$B,"FY20-Q2",'Raw CSG Country SnS'!$C:$C,"ITALY")-SUMIFS('Raw CSG Country SnS'!$G:$G,'Raw CSG Country SnS'!$B:$B,"FY19-Q2",'Raw CSG Country SnS'!$C:$C,"ITALY")))/(SUMIFS('Raw CSG Country SnS'!$G:$G,'Raw CSG Country SnS'!$B:$B,"FY19-Q2",'Raw CSG Country SnS'!$C:$C,"ITALY")),"") -> -0.063742757 | K6: =C6*(1.05) -> 2930.55 | L6: =SUMIFS('Raw CSG Country SnS'!$H:$H,'Raw CSG Country SnS'!$B:$B,"FY20-Q3",'Raw CSG Country SnS'!$C:$C,"ITALY") -> 2634 | M6: =IFERROR(L6/K6,"") -> 0.89880739 | N6: =IFERROR(IF(M6>=99%,"Target Achieved","Target Missed"),"") -> Target Missed | O6: =IFERROR((L6-K6)/K6,"") -> -0.10119261 | P6: =I6*(1.05) -> 8652 | Q6: =SUMIFS('Raw CSG Country SnS'!$G:$G,'Raw CSG Country SnS'!$B:$B,"FY20-Q3",'Raw CSG Country SnS'!$C:$C,"ITALY") -> 8667 | R6: =IFERROR(Q6/P6,"") -> 1.0017337 | S6: =IFERROR(IF(R6>=99%,"Target Achieved","Target Missed"),"") -> Target Achieved | T6: =IFERROR((Q6-P6)/P6,"") -> 0.0017337032 | V6: =IFERROR(((U6-SUMIFS('Raw CSG Country SnS'!$H:$H,'Raw CSG Country SnS'!$B:$B,"FY19-Q4",'Raw CSG Country SnS'!$C:$C,"ITALY")))/(SUMIFS('Raw CSG Country SnS'!$H:$H,'Raw CSG Country SnS'!$B:$B,"FY19-Q4",'Raw CSG Country SnS'!$C:$C,"ITALY")),"") -> -1 | X6: =IFERROR(((W6-SUMIFS('Raw CSG Country SnS'!$G:$G,'Raw CSG Country SnS'!$B:$B,"FY19-Q4",'Raw CSG Country SnS'!$C:$C,"ITALY")))/(SUMIFS('Raw CSG Country SnS'!$G:$G,'Raw CSG Country SnS'!$B:$B,"FY19-Q4",'Raw CSG Country SnS'!$C:$C,"ITALY")),"") -> -1
A7: Computer Gross | C7: =SUMIFS('Raw CSG Italy SnS'!$H:$H,'Raw CSG Italy SnS'!$B:$B,"FY20-Q1",'Raw CSG Italy SnS'!$C:$C,"ITALY",'Raw CSG Italy SnS'!$D:$D,"*computer gross*") -> 1168 | D7: =IFERROR(((SUMIFS('Raw CSG Italy SnS'!$H:$H,'Raw CSG Italy SnS'!$B:$B,"FY20-Q1",'Raw CSG Italy SnS'!$C:$C,"ITALY",'Raw CSG Italy SnS'!$D:$D,"*computer gross*")-SUMIFS('Raw CSG Italy SnS'!$H:$H,'Raw CSG Italy SnS'!$B:$B,"FY19-Q1",'Raw CSG Italy SnS'!$C:$C,"ITALY",'Raw CSG Italy SnS'!$D:$D,"*computer gross*")))/(SUMIFS('Raw CSG Italy SnS'!$H:$H,'Raw CSG Italy SnS'!$B:$B,"FY19-Q1",'Raw CSG Italy SnS'!$C:$C,"ITALY",'Raw CSG Italy SnS'!$D:$D,"*computer gross*")),"") -> -0.011844332 | E7: =SUMIFS('Raw CSG Italy SnS'!$G:$G,'Raw CSG Italy SnS'!$B:$B,"FY20-Q1",'Raw CSG Italy SnS'!$C:$C,"ITALY",'Raw CSG Italy SnS'!$D:$D,"*computer gross*") -> 6801 | F7: =IFERROR(((SUMIFS('Raw CSG Italy SnS'!$G:$G,'Raw CSG Italy SnS'!$B:$B,"FY20-Q1",'Raw CSG Italy SnS'!$C:$C,"ITALY",'Raw CSG Italy SnS'!$D:$D,"*computer gross*")-SUMIFS('Raw CSG Italy SnS'!$G:$G,'Raw CSG Italy SnS'!$B:$B,"FY19-Q1",'Raw CSG Italy SnS'!$C:$C,"ITALY",'Raw CSG Italy SnS'!$D:$D,"*computer gross*")))/(SUMIFS('Raw CSG Italy SnS'!$G:$G,'Raw CSG Italy SnS'!$B:$B,"FY19-Q1",'Raw CSG Italy SnS'!$C:$C,"ITALY",'Raw CSG Italy SnS'!$D:$D,"*computer gross*")),"") -> 0.066321731 | G7: =SUMIFS('Raw CSG Italy SnS'!$H:$H,'Raw CSG Italy SnS'!$B:$B,"FY20-Q2",'Raw CSG Italy SnS'!$C:$C,"ITALY",'Raw CSG Italy SnS'!$D:$D,"*computer gross*") -> 1183 | H7: =IFERROR(((SUMIFS('Raw CSG Italy SnS'!$H:$H,'Raw CSG Italy SnS'!$B:$B,"FY20-Q2",'Raw CSG Italy SnS'!$C:$C,"ITALY",'Raw CSG Italy SnS'!$D:$D,"*computer gross*")-SUMIFS('Raw CSG Italy SnS'!$H:$H,'Raw CSG Italy SnS'!$B:$B,"FY19-Q2",'Raw CSG Italy SnS'!$C:$C,"ITALY",'Raw CSG Italy SnS'!$D:$D,"*computer gross*")))/(SUMIFS('Raw CSG Italy SnS'!$H:$H,'Raw CSG Italy SnS'!$B:$B,"FY19-Q2",'Raw CSG Italy SnS'!$C:$C,"ITALY",'Raw CSG Italy SnS'!$D:$D,"*computer gross*")),"") -> 0.013710368 | I7: =SUMIFS('Raw CSG Italy SnS'!$G:$G,'Raw CSG Italy SnS'!$B:$B,"FY20-Q2",'Raw CSG Italy SnS'!$C:$C,"ITALY",'Raw CSG Italy SnS'!$D:$D,"*computer gross*") -> 6121 | J7: =IFERROR(((SUMIFS('Raw CSG Italy SnS'!$G:$G,'Raw CSG Italy SnS'!$B:$B,"FY20-Q2",'Raw CSG Italy SnS'!$C:$C,"ITALY",'Raw CSG Italy SnS'!$D:$D,"*computer gross*")-SUMIFS('Raw CSG Italy SnS'!$G:$G,'Raw CSG Italy SnS'!$B:$B,"FY19-Q2",'Raw CSG Italy SnS'!$C:$C,"ITALY",'Raw CSG Italy SnS'!$D:$D,"*computer gross*")))/(SUMIFS('Raw CSG Italy SnS'!$G:$G,'Raw CSG Italy SnS'!$B:$B,"FY19-Q2",'Raw CSG Italy SnS'!$C:$C,"ITALY",'Raw CSG Italy SnS'!$D:$D,"*computer gross*")),"") -> -0.044489541 | K7: =C7*(1.05) -> 1226.4 | L7: =SUMIFS('Raw CSG Italy SnS'!$H:$H,'Raw CSG Italy SnS'!$B:$B,"FY20-Q3",'Raw CSG Italy SnS'!$C:$C,"ITALY",'Raw CSG Italy SnS'!$D:$D,"*computer gross*") -> 1199 | M7: =IFERROR(L7/K7,"") -> 0.97765819 | N7: =IFERROR(IF(M7>=99%,"Target Achieved","Target Missed"),"") -> Target Missed | O7: =IFERROR((L7-K7)/K7,"") -> -0.022341813 | P7: =I7*(1.05) -> 6427.05 | Q7: =SUMIFS('Raw CSG Italy SnS'!$G:$G,'Raw CSG Italy SnS'!$B:$B,"FY20-Q3",'Raw CSG Italy SnS'!$C:$C,"ITALY",'Raw CSG Italy SnS'!$D:$D,"*computer gross*") -> 6554 | R7: =IFERROR(Q7/P7,"") -> 1.0197525 | S7: =IFERROR(IF(R7>=99%,"Target Achieved","Target Missed"),"") -> Target Achieved | T7: =IFERROR((Q7-P7)/P7,"") -> 0.019752453 | V7: =IFERROR(((U7-SUMIFS('Raw CSG Italy SnS'!$H:$H,'Raw CSG Italy SnS'!$B:$B,"FY19-Q4",'Raw CSG Italy SnS'!$C:$C,"ITALY",'Raw CSG Italy SnS'!$D:$D,"*computer gross*")))/(SUMIFS('Raw CSG Italy SnS'!$H:$H,'Raw CSG Italy SnS'!$B:$B,"FY19-Q4",'Raw CSG Italy SnS'!$C:$C,"ITALY",'Raw CSG Italy SnS'!$D:$D,"*computer gross*")),"") -> -1 | X7: =IFERROR(((W7-SUMIFS('Raw CSG Italy SnS'!$G:$G,'Raw CSG Italy SnS'!$B:$B,"FY19-Q4",'Raw CSG Italy SnS'!$C:$C,"ITALY",'Raw CSG Italy SnS'!$D:$D,"*computer gross*")))/(SUMIFS('Raw CSG Italy SnS'!$G:$G,'Raw CSG Italy SnS'!$B:$B,"FY19-Q4",'Raw CSG Italy SnS'!$C:$C,"ITALY",'Raw CSG Italy SnS'!$D:$D,"*computer gross*")),"") -> -1
A8: Data Matic | C8: =SUMIFS('Raw CSG Italy SnS'!$H:$H,'Raw CSG Italy SnS'!$B:$B,"FY20-Q1",'Raw CSG Italy SnS'!$C:$C,"ITALY",'Raw CSG Italy SnS'!$D:$D,"*datamatic*") -> 581 | D8: =IFERROR(((SUMIFS('Raw CSG Italy SnS'!$H:$H,'Raw CSG Italy SnS'!$B:$B,"FY20-Q1",'Raw CSG Italy SnS'!$C:$C,"ITALY",'Raw CSG Italy SnS'!$D:$D,"*datamatic*")-SUMIFS('Raw CSG Italy SnS'!$H:$H,'Raw CSG Italy SnS'!$B:$B,"FY19-Q1",'Raw CSG Italy SnS'!$C:$C,"ITALY",'Raw CSG Italy SnS'!$D:$D,"*datamatic*")))/(SUMIFS('Raw CSG Italy SnS'!$H:$H,'Raw CSG Italy SnS'!$B:$B,"FY19-Q1",'Raw CSG Italy SnS'!$C:$C,"ITALY",'Raw CSG Italy SnS'!$D:$D,"*datamatic*")),"") -> 0.044964029 | E8: =SUMIFS('Raw CSG Italy SnS'!$G:$G,'Raw CSG Italy SnS'!$B:$B,"FY20-Q1",'Raw CSG Italy SnS'!$C:$C,"ITALY",'Raw CSG Italy SnS'!$D:$D,"*datamatic*") -> 5630 | F8: =IFERROR(((SUMIFS('Raw CSG Italy SnS'!$G:$G,'Raw CSG Italy SnS'!$B:$B,"FY20-Q1",'Raw CSG Italy SnS'!$C:$C,"ITALY",'Raw CSG Italy SnS'!$D:$D,"*datamatic*")-SUMIFS('Raw CSG Italy SnS'!$G:$G,'Raw CSG Italy SnS'!$B:$B,"FY19-Q1",'Raw CSG Italy SnS'!$C:$C,"ITALY",'Raw CSG Italy SnS'!$D:$D,"*datamatic*")))/(SUMIFS('Raw CSG Italy SnS'!$G:$G,'Raw CSG Italy SnS'!$B:$B,"FY19-Q1",'Raw CSG Italy SnS'!$C:$C,"ITALY",'Raw CSG Italy SnS'!$D:$D,"*datamatic*")),"") -> 0.082068038 | G8: =SUMIFS('Raw CSG Italy SnS'!$H:$H,'Raw CSG Italy SnS'!$B:$B,"FY20-Q2",'Raw CSG Italy SnS'!$C:$C,"ITALY",'Raw CSG Italy SnS'!$D:$D,"*datamatic*") -> 541 | H8: =IFERROR(((SUMIFS('Raw CSG Italy SnS'!$H:$H,'Raw CSG Italy SnS'!$B:$B,"FY20-Q2",'Raw CSG Italy SnS'!$C:$C,"ITALY",'Raw CSG Italy SnS'!$D:$D,"*datamatic*")-SUMIFS('Raw CSG Italy SnS'!$H:$H,'Raw CSG Italy SnS'!$B:$B,"FY19-Q2",'Raw CSG Italy SnS'!$C:$C,"ITALY",'Raw CSG Italy SnS'!$D:$D,"*datamatic*")))/(SUMIFS('Raw CSG Italy SnS'!$H:$H,'Raw CSG Italy SnS'!$B:$B,"FY19-Q2",'Raw CSG Italy SnS'!$C:$C,"ITALY",'Raw CSG Italy SnS'!$D:$D,"*datamatic*")),"") -> -0.1013289 | I8: =SUMIFS('Raw CSG Italy SnS'!$G:$G,'Raw CSG Italy SnS'!$B:$B,"FY20-Q2",'Raw CSG Italy SnS'!$C:$C,"ITALY",'Raw CSG Italy SnS'!$D:$D,"*datamatic*") -> 4833 | J8: =IFERROR(((SUMIFS('Raw CSG Italy SnS'!$G:$G,'Raw CSG Italy SnS'!$B:$B,"FY20-Q2",'Raw CSG Italy SnS'!$C:$C,"ITALY",'Raw CSG Italy SnS'!$D:$D,"*datamatic*")-SUMIFS('Raw CSG Italy SnS'!$G:$G,'Raw CSG Italy SnS'!$B:$B,"FY19-Q2",'Raw CSG Italy SnS'!$C:$C,"ITALY",'Raw CSG Italy SnS'!$D:$D,"*datamatic*")))/(SUMIFS('Raw CSG Italy SnS'!$G:$G,'Raw CSG Italy SnS'!$B:$B,"FY19-Q2",'Raw CSG Italy SnS'!$C:$C,"ITALY",'Raw CSG Italy SnS'!$D:$D,"*datamatic*")),"") -> -0.029712909 | K8: =C8*(1.05) -> 610.05 | L8: =SUMIFS('Raw CSG Italy SnS'!$H:$H,'Raw CSG Italy SnS'!$B:$B,"FY20-Q3",'Raw CSG Italy SnS'!$C:$C,"ITALY",'Raw CSG Italy SnS'!$D:$D,"*datamatic*") -> 551 | M8: =IFERROR(L8/K8,"") -> 0.90320466 | N8: =IFERROR(IF(M8>=99%,"Target Achieved","Target Missed"),"") -> Target Missed | O8: =IFERROR((L8-K8)/K8,"") -> -0.096795345 | P8: =I8*(1.05) -> 5074.65 | Q8: =SUMIFS('Raw CSG Italy SnS'!$G:$G,'Raw CSG Italy SnS'!$B:$B,"FY20-Q3",'Raw CSG Italy SnS'!$C:$C,"ITALY",'Raw CSG Italy SnS'!$D:$D,"*datamatic*") -> 5200 | R8: =IFERROR(Q8/P8,"") -> 1.0247012 | S8: =IFERROR(IF(R8>=99%,"Target Achieved","Target Missed"),"") -> Target Achieved | T8: =IFERROR((Q8-P8)/P8,"") -> 0.024701211 | V8: =IFERROR(((U8-SUMIFS('Raw CSG Italy SnS'!$H:$H,'Raw CSG Italy SnS'!$B:$B,"FY19-Q4",'Raw CSG Italy SnS'!$C:$C,"ITALY",'Raw CSG Italy SnS'!$D:$D,"*datamatic*")))/(SUMIFS('Raw CSG Italy SnS'!$H:$H,'Raw CSG Italy SnS'!$B:$B,"FY19-Q4",'Raw CSG Italy SnS'!$C:$C,"ITALY",'Raw CSG Italy SnS'!$D:$D,"*datamatic*")),"") -> -1 | X8: =IFERROR(((W8-SUMIFS('Raw CSG Italy SnS'!$G:$G,'Raw CSG Italy SnS'!$B:$B,"FY19-Q4",'Raw CSG Italy SnS'!$C:$C,"ITALY",'Raw CSG Italy SnS'!$D:$D,"*datamatic*")))/(SUMIFS('Raw CSG Italy SnS'!$G:$G,'Raw CSG Italy SnS'!$B:$B,"FY19-Q4",'Raw CSG Italy SnS'!$C:$C,"ITALY",'Raw CSG Italy SnS'!$D:$D,"*datamatic*")),"") -> -1
A9: Esprinet SPA | C9: =SUMIFS('Raw CSG Italy SnS'!$H:$H,'Raw CSG Italy SnS'!$B:$B,"FY20-Q1",'Raw CSG Italy SnS'!$C:$C,"ITALY",'Raw CSG Italy SnS'!$D:$D,"*esprinet*") -> 1513 | D9: =IFERROR(((SUMIFS('Raw CSG Italy SnS'!$H:$H,'Raw CSG Italy SnS'!$B:$B,"FY20-Q1",'Raw CSG Italy SnS'!$C:$C,"ITALY",'Raw CSG Italy SnS'!$D:$D,"*esprinet*")-SUMIFS('Raw CSG Italy SnS'!$H:$H,'Raw CSG Italy SnS'!$B:$B,"FY19-Q1",'Raw CSG Italy SnS'!$C:$C,"ITALY",'Raw CSG Italy SnS'!$D:$D,"*esprinet*")))/(SUMIFS('Raw CSG Italy SnS'!$H:$H,'Raw CSG Italy SnS'!$B:$B,"FY19-Q1",'Raw CSG Italy SnS'!$C:$C,"ITALY",'Raw CSG Italy SnS'!$D:$D,"*esprinet*")),"") -> 0.17651633 | E9: =SUMIFS('Raw CSG Italy SnS'!$G:$G,'Raw CSG Italy SnS'!$B:$B,"FY20-Q1",'Raw CSG Italy SnS'!$C:$C,"ITALY",'Raw CSG Italy SnS'!$D:$D,"*esprinet*") -> 7461 | F9: =IFERROR(((SUMIFS('Raw CSG Italy SnS'!$G:$G,'Raw CSG Italy SnS'!$B:$B,"FY20-Q1",'Raw CSG Italy SnS'!$C:$C,"ITALY",'Raw CSG Italy SnS'!$D:$D,"*esprinet*")-SUMIFS('Raw CSG Italy SnS'!$G:$G,'Raw CSG Italy SnS'!$B:$B,"FY19-Q1",'Raw CSG Italy SnS'!$C:$C,"ITALY",'Raw CSG Italy SnS'!$D:$D,"*esprinet*")))/(SUMIFS('Raw CSG Italy SnS'!$G:$G,'Raw CSG Italy SnS'!$B:$B,"FY19-Q1",'Raw CSG Italy SnS'!$C:$C,"ITALY",'Raw CSG Italy SnS'!$D:$D,"*esprinet*")),"") -> 0.085394239 | G9: =SUMIFS('Raw CSG Italy SnS'!$H:$H,'Raw CSG Italy SnS'!$B:$B,"FY20-Q2",'Raw CSG Italy SnS'!$C:$C,"ITALY",'Raw CSG Italy SnS'!$D:$D,"*esprinet*") -> 1421 | H9: =IFERROR(((SUMIFS('Raw CSG Italy SnS'!$H:$H,'Raw CSG Italy SnS'!$B:$B,"FY20-Q2",'Raw CSG Italy SnS'!$C:$C,"ITALY",'Raw CSG Italy SnS'!$D:$D,"*esprinet*")-SUMIFS('Raw CSG Italy SnS'!$H:$H,'Raw CSG Italy SnS'!$B:$B,"FY19-Q2",'Raw CSG Italy SnS'!$C:$C,"ITALY",'Raw CSG Italy SnS'!$D:$D,"*esprinet*")))/(SUMIFS('Raw CSG Italy SnS'!$H:$H,'Raw CSG Italy SnS'!$B:$B,"FY19-Q2",'Raw CSG Italy SnS'!$C:$C,"ITALY",'Raw CSG Italy SnS'!$D:$D,"*esprinet*")),"") -> 0.0056617127 | I9: =SUMIFS('Raw CSG Italy SnS'!$G:$G,'Raw CSG Italy SnS'!$B:$B,"FY20-Q2",'Raw CSG Italy SnS'!$C:$C,"ITALY",'Raw CSG Italy SnS'!$D:$D,"*esprinet*") -> 6415 | J9: =IFERROR(((SUMIFS('Raw CSG Italy SnS'!$G:$G,'Raw CSG Italy SnS'!$B:$B,"FY20-Q2",'Raw CSG Italy SnS'!$C:$C,"ITALY",'Raw CSG Italy SnS'!$D:$D,"*esprinet*")-SUMIFS('Raw CSG Italy SnS'!$G:$G,'Raw CSG Italy SnS'!$B:$B,"FY19-Q2",'Raw CSG Italy SnS'!$C:$C,"ITALY",'Raw CSG Italy SnS'!$D:$D,"*esprinet*")))/(SUMIFS('Raw CSG Italy SnS'!$G:$G,'Raw CSG Italy SnS'!$B:$B,"FY19-Q2",'Raw CSG Italy SnS'!$C:$C,"ITALY",'Raw CSG Italy SnS'!$D:$D,"*esprinet*")),"") -> 0.0034412639 | K9: =C9*(1.05) -> 1588.65 | L9: =SUMIFS('Raw CSG Italy SnS'!$H:$H,'Raw CSG Italy SnS'!$B:$B,"FY20-Q3",'Raw CSG Italy SnS'!$C:$C,"ITALY",'Raw CSG Italy SnS'!$D:$D,"*esprinet*") -> 1385 | M9: =IFERROR(L9/K9,"") -> 0.8718094 | N9: =IFERROR(IF(M9>=99%,"Target Achieved","Target Missed"),"") -> Target Missed | O9: =IFERROR((L9-K9)/K9,"") -> -0.1281906 | P9: =I9*(1.05) -> 6735.75 | Q9: =SUMIFS('Raw CSG Italy SnS'!$G:$G,'Raw CSG Italy SnS'!$B:$B,"FY20-Q3",'Raw CSG Italy SnS'!$C:$C,"ITALY",'Raw CSG Italy SnS'!$D:$D,"*esprinet*") -> 6484 | R9: =IFERROR(Q9/P9,"") -> 0.9626248 | S9: =IFERROR(IF(R9>=99%,"Target Achieved","Target Missed"),"") -> Target Missed | T9: =IFERROR((Q9-P9)/P9,"") -> -0.037375199 | V9: =IFERROR(((U9-SUMIFS('Raw CSG Italy SnS'!$H:$H,'Raw CSG Italy SnS'!$B:$B,"FY19-Q4",'Raw CSG Italy SnS'!$C:$C,"ITALY",'Raw CSG Italy SnS'!$D:$D,"*esprinet*")))/(SUMIFS('Raw CSG Italy SnS'!$H:$H,'Raw CSG Italy SnS'!$B:$B,"FY19-Q4",'Raw CSG Italy SnS'!$C:$C,"ITALY",'Raw CSG Italy SnS'!$D:$D,"*esprinet*")),"") -> -1 | X9: =IFERROR(((W9-SUMIFS('Raw CSG Italy SnS'!$G:$G,'Raw CSG Italy SnS'!$B:$B,"FY19-Q4",'Raw CSG Italy SnS'!$C:$C,"ITALY",'Raw CSG Italy SnS'!$D:$D,"*esprinet*")))/(SUMIFS('Raw CSG Italy SnS'!$G:$G,'Raw CSG Italy SnS'!$B:$B,"FY19-Q4",'Raw CSG Italy SnS'!$C:$C,"ITALY",'Raw CSG Italy SnS'!$D:$D,"*esprinet*")),"") -> -1
A10: Tech Data | C10: =SUMIFS('Raw CSG Italy SnS'!$H:$H,'Raw CSG Italy SnS'!$B:$B,"FY20-Q1",'Raw CSG Italy SnS'!$C:$C,"ITALY",'Raw CSG Italy SnS'!$D:$D,"*tech data*") -> 727 | D10: =IFERROR(((SUMIFS('Raw CSG Italy SnS'!$H:$H,'Raw CSG Italy SnS'!$B:$B,"FY20-Q1",'Raw CSG Italy SnS'!$C:$C,"ITALY",'Raw CSG Italy SnS'!$D:$D,"*tech data*")-SUMIFS('Raw CSG Italy SnS'!$H:$H,'Raw CSG Italy SnS'!$B:$B,"FY19-Q1",'Raw CSG Italy SnS'!$C:$C,"ITALY",'Raw CSG Italy SnS'!$D:$D,"*tech data*")))/(SUMIFS('Raw CSG Italy SnS'!$H:$H,'Raw CSG Italy SnS'!$B:$B,"FY19-Q1",'Raw CSG Italy SnS'!$C:$C,"ITALY",'Raw CSG Italy SnS'!$D:$D,"*tech data*")),"") -> 0.1466877 | E10: =SUMIFS('Raw CSG Italy SnS'!$G:$G,'Raw CSG Italy SnS'!$B:$B,"FY20-Q1",'Raw CSG Italy SnS'!$C:$C,"ITALY",'Raw CSG Italy SnS'!$D:$D,"*tech data*") -> 6801 | F10: =IFERROR(((SUMIFS('Raw CSG Italy SnS'!$G:$G,'Raw CSG Italy SnS'!$B:$B,"FY20-Q1",'Raw CSG Italy SnS'!$C:$C,"ITALY",'Raw CSG Italy SnS'!$D:$D,"*tech data*")-SUMIFS('Raw CSG Italy SnS'!$G:$G,'Raw CSG Italy SnS'!$B:$B,"FY19-Q1",'Raw CSG Italy SnS'!$C:$C,"ITALY",'Raw CSG Italy SnS'!$D:$D,"*tech data*")))/(SUMIFS('Raw CSG Italy SnS'!$G:$G,'Raw CSG Italy SnS'!$B:$B,"FY19-Q1",'Raw CSG Italy SnS'!$C:$C,"ITALY",'Raw CSG Italy SnS'!$D:$D,"*tech data*")),"") -> -0.20072864 | G10: =SUMIFS('Raw CSG Italy SnS'!$H:$H,'Raw CSG Italy SnS'!$B:$B,"FY20-Q2",'Raw CSG Italy SnS'!$C:$C,"ITALY",'Raw CSG Italy SnS'!$D:$D,"*tech data*") -> 684 | H10: =IFERROR(((SUMIFS('Raw CSG Italy SnS'!$H:$H,'Raw CSG Italy SnS'!$B:$B,"FY20-Q2",'Raw CSG Italy SnS'!$C:$C,"ITALY",'Raw CSG Italy SnS'!$D:$D,"*tech data*")-SUMIFS('Raw CSG Italy SnS'!$H:$H,'Raw CSG Italy SnS'!$B:$B,"FY19-Q2",'Raw CSG Italy SnS'!$C:$C,"ITALY",'Raw CSG Italy SnS'!$D:$D,"*tech data*")))/(SUMIFS('Raw CSG Italy SnS'!$H:$H,'Raw CSG Italy SnS'!$B:$B,"FY19-Q2",'Raw CSG Italy SnS'!$C:$C,"ITALY",'Raw CSG Italy SnS'!$D:$D,"*tech data*")),"") -> 0.06875 | I10: =SUMIFS('Raw CSG Italy SnS'!$G:$G,'Raw CSG Italy SnS'!$B:$B,"FY20-Q2",'Raw CSG Italy SnS'!$C:$C,"ITALY",'Raw CSG Italy SnS'!$D:$D,"*tech data*") -> 5684 | J10: =IFERROR(((SUMIFS('Raw CSG Italy SnS'!$G:$G,'Raw CSG Italy SnS'!$B:$B,"FY20-Q2",'Raw CSG Italy SnS'!$C:$C,"ITALY",'Raw CSG Italy SnS'!$D:$D,"*tech data*")-SUMIFS('Raw CSG Italy SnS'!$G:$G,'Raw CSG Italy SnS'!$B:$B,"FY19-Q2",'Raw CSG Italy SnS'!$C:$C,"ITALY",'Raw CSG Italy SnS'!$D:$D,"*tech data*")))/(SUMIFS('Raw CSG Italy SnS'!$G:$G,'Raw CSG Italy SnS'!$B:$B,"FY19-Q2",'Raw CSG Italy SnS'!$C:$C,"ITALY",'Raw CSG Italy SnS'!$D:$D,"*tech data*")),"") -> -0.087347463 | K10: =C10*(1.05) -> 763.35 | L10: =SUMIFS('Raw CSG Italy SnS'!$H:$H,'Raw CSG Italy SnS'!$B:$B,"FY20-Q3",'Raw CSG Italy SnS'!$C:$C,"ITALY",'Raw CSG Italy SnS'!$D:$D,"*tech data*") -> 620 | M10: =IFERROR(L10/K10,"") -> 0.81220934 | N10: =IFERROR(IF(M10>=99%,"Target Achieved","Target Missed"),"") -> Target Missed | O10: =IFERROR((L10-K10)/K10,"") -> -0.18779066 | P10: =I10*(1.05) -> 5968.2 | Q10: =SUMIFS('Raw CSG Italy SnS'!$G:$G,'Raw CSG Italy SnS'!$B:$B,"FY20-Q3",'Raw CSG Italy SnS'!$C:$C,"ITALY",'Raw CSG Italy SnS'!$D:$D,"*tech data*") -> 5596 | R10: =IFERROR(Q10/P10,"") -> 0.93763614 | S10: =IFERROR(IF(R10>=99%,"Target Achieved","Target Missed"),"") -> Target Missed | T10: =IFERROR((Q10-P10)/P10,"") -> -0.062363862 | V10: =IFERROR(((U10-SUMIFS('Raw CSG Italy SnS'!$H:$H,'Raw CSG Italy SnS'!$B:$B,"FY19-Q4",'Raw CSG Italy SnS'!$C:$C,"ITALY",'Raw CSG Italy SnS'!$D:$D,"*tech data*")))/(SUMIFS('Raw CSG Italy SnS'!$H:$H,'Raw CSG Italy SnS'!$B:$B,"FY19-Q4",'Raw CSG Italy SnS'!$C:$C,"ITALY",'Raw CSG Italy SnS'!$D:$D,"*tech data*")),"") -> -1 | X10: =IFERROR(((W10-SUMIFS('Raw CSG Italy SnS'!$G:$G,'Raw CSG Italy SnS'!$B:$B,"FY19-Q4",'Raw CSG Italy SnS'!$C:$C,"ITALY",'Raw CSG Italy SnS'!$D:$D,"*tech data*")))/(SUMIFS('Raw CSG Italy SnS'!$G:$G,'Raw CSG Italy SnS'!$B:$B,"FY19-Q4",'Raw CSG Italy SnS'!$C:$C,"ITALY",'Raw CSG Italy SnS'!$D:$D,"*tech data*")),"") -> -1
K12: ACTUAL Q3
A13: 0.8 | B13: =IF($M$6<=$A13,$M$6,NA()) -> #N/A
A14: 0.999 | B14: =IF(SUMPRODUCT((M6<=A14)*(M6>=A13)),$M$6,NA()) -> 0.89880739
A15: 1 | B15: =IF($M$6>=$A15,$M$6,NA()) -> #N/A
L37: Rouge de 0 à 80%, orange de 80,1 à 99,9 et vert à partir de 100%.

Sheet Raw CSG Italy SnS
A1: FY | B1: FYQ | C1: Region | D1: Distributor Name | E1: METAL / NON METAL | F1: Total Revenue | G1: Revenue per Partner | H1: # Active
A2: FY19 | B2: FY19-Q4 | C2: ITALY | D2: 100MEGA Distribution s.r.o. | E2: NON METAL | F2: 1507 | G2: 1507 | H2: 1
A3: FY20 | B3: FY20-Q1 | C3: ITALY | D3: 100MEGA Distribution s.r.o. | E3: NON METAL | F3: 2325 | G3: 2325 | H3: 1
A4: FY20 | B4: FY20-Q2 | C4: ITALY | D4: 100MEGA Distribution s.r.o. | E4: NON METAL | F4: 2282 | G4: 2282 | H4: 1
A5: FY20 | B5: FY20-Q3 | C5: ITALY | D5: 100MEGA Distribution s.r.o. | E5: NON METAL | F5: 3089 | G5: 3089 | H5: 1
A6: FY19 | B6: FY19-Q4 | C6: ITALY | D6: AB S.A. | E6: NON METAL | F6: 237 | G6: 237 | H6: 1
A7: FY20 | B7: FY20-Q1 | C7: ITALY | D7: AB S.A. | E7: NON METAL | F7: 428 | G7: 428 | H7: 1
A8: FY20 | B8: FY20-Q2 | C8: ITALY | D8: AB S.A. | E8: NON METAL | F8: 313 | G8: 313 | H8: 1
A9: FY20 | B9: FY20-Q3 | C9: ITALY | D9: AB S.A. | E9: NON METAL | F9: 4325 | G9: 4325 | H9: 1
A10: FY19 | B10: FY19-Q2 | C10: ITALY | D10: ALLTRON_GCC | E10: NON METAL | F10: 635 | G10: 635 | H10: 1
A11: FY19 | B11: FY19-Q3 | C11: ITALY | D11: ALLTRON_GCC | E11: NON METAL | F11: 1993 | G11: 1993 | H11: 1
A12: FY19 | B12: FY19-Q4 | C12: ITALY | D12: ALLTRON_GCC | E12: NON METAL | F12: 2089 | G12: 1045 | H12: 2
A13: FY19 | B13: FY19-Q1 | C13: ITALY | D13: ALSO International BV - B2B | E13: NON METAL | F13: 479 | G13: 240 | H13: 2
A14: FY20 | B14: FY20-Q1 | C14: ITALY | D14: Axiz Pty Ltd | E14: NON METAL | F14: 111
A15: FY20 | B15: FY20-Q1 | C15: ITALY | D15: CMS Compucenter Ltd CSB | E15: NON METAL | F15: 10 | G15: 10 | H15: 1
A16: FY20 | B16: FY20-Q1 | C16: ITALY | D16: Comercial - Orsi Distribution | E16: NON METAL | F16: 25 | G16: 25 | H16: 1
A17: FY20 | B17: FY20-Q1 | C17: ITALY | D17: Computer C-Data Ltd CSB | E17: NON METAL | F17: 1042 | G17: 1042 | H17: 1
A18: FY19 | B18: FY19-Q1 | C18: ITALY | D18: COMPUTER GROSS | E18: NON METAL | F18: 7538213 | G18: 6378 | H18: 1182
A19: FY19 | B19: FY19-Q2 | C19: ITALY | D19: COMPUTER GROSS | E19: NON METAL | F19: 7475953 | G19: 6406 | H19: 1167
A20: FY19 | B20: FY19-Q3 | C20: ITALY | D20: COMPUTER GROSS | E20: NON METAL | F20: 7837930 | G20: 6716 | H20: 1167
A21: FY19 | B21: FY19-Q4 | C21: ITALY | D21: COMPUTER GROSS | E21: NON METAL | F21: 9449408 | G21: 6852 | H21: 1379
A22: FY20 | B22: FY20-Q1 | C22: ITALY | D22: COMPUTER GROSS | E22: NON METAL | F22: 7943482 | G22: 6801 | H22: 1168
A23: FY20 | B23: FY20-Q2 | C23: ITALY | D23: COMPUTER GROSS | E23: NON METAL | F23: 7240674 | G23: 6121 | H23: 1183
A24: FY20 | B24: FY20-Q3 | C24: ITALY | D24: COMPUTER GROSS | E24: NON METAL | F24: 7858215 | G24: 6554 | H24: 1199
A25: FY20 | B25: FY20-Q1 | C25: ITALY | D25: Copaco - B2B | E25: NON METAL | F25: 1836 | G25: 1836 | H25: 1
A26: FY20 | B26: FY20-Q2 | C26: ITALY | D26: Copaco - B2B | E26: NON METAL | F26: 1586 | G26: 1586 | H26: 1
... A33: FY20 | B33: FY20-Q3 | C33: ITALY | D33: Datamatic | E33: NON METAL | F33: 2865030 | G33: 5200 | H33: 551
A34: FY19 | B34: FY19-Q2 | C34: ITALY | D34: ESPRINET ES_GCC | E34: NON METAL | F34: 4758
A35: FY20 | B35: FY20-Q1 | C35: ITALY | D35: ESPRINET ES_GCC | E35: NON METAL | F35: 847 | G35: 847 | H35: 1
A36: FY19 | B36: FY19-Q1 | C36: ITALY | D36: ESPRINET S.P.A. | E36: NON METAL | F36: 8839662 | G36: 6874 | H36: 1286
A37: FY19 | B37: FY19-Q2 | C37: ITALY | D37: ESPRINET S.P.A. | E37: NON METAL | F37: 9032815 | G37: 6393 | H37: 1413
A38: FY19 | B38: FY19-Q3 | C38: ITALY | D38: ESPRINET S.P.A. | E38: NON METAL | F38: 8225144 | G38: 5825 | H38: 1412
A39: FY19 | B39: FY19-Q4 | C39: ITALY | D39: ESPRINET S.P.A. | E39: NON METAL | F39: 11579348 | G39: 7255 | H39: 1596
A40: FY20 | B40: FY20-Q1 | C40: ITALY | D40: ESPRINET S.P.A. | E40: NON METAL | F40: 10000621 | G40: 6614 | H40: 1512
A41: FY20 | B41: FY20-Q2 | C41: ITALY | D41: ESPRINET S.P.A. | E41: NON METAL | F41: 9116235 | G41: 6415 | H41: 1421
A42: FY20 | B42: FY20-Q3 | C42: ITALY | D42: ESPRINET S.P.A. | E42: NON METAL | F42: 8980893 | G42: 6484 | H42: 1385
A43: FY19 | B43: FY19-Q2 | C43: ITALY | D43: Exertis (UK) Limited | E43: NON METAL | F43: 0
A44: FY19 | B44: FY19-Q1 | C44: ITALY | D44: Exertis Supplies | E44: NON METAL | F44: 13992 | G44: 13992 | H44: 1
A45: FY19 | B45: FY19-Q2 | C45: ITALY | D45: Exertis Supplies | E45: NON METAL | F45: 5670 | G45: 5670 | H45: 1
A46: FY19 | B46: FY19-Q3 | C46: ITALY | D46: Exertis Supplies | E46: NON METAL | F46: 10862 | G46: 10862 | H46: 1
A47: FY19 | B47: FY19-Q4 | C47: ITALY | D47: Exertis Supplies | E47: NON METAL | F47: 5608 | G47: 5608 | H47: 1
A48: FY20 | B48: FY20-Q1 | C48: ITALY | D48: Exertis Supplies | E48: NON METAL | F48: 9952 | G48: 9952 | H48: 1
A49: FY20 | B49: FY20-Q2 | C49: ITALY | D49: Exertis Supplies | E49: NON METAL | F49: 14353 | G49: 7176 | H49: 2
A50: FY20 | B50: FY20-Q3 | C50: ITALY | D50: Exertis Supplies | E50: NON METAL | F50: 6939 | G50: 3470 | H50: 2
A51: FY19 | B51: FY19-Q1 | C51: ITALY | D51: INGRAM MICRO DISTRIBUTION GMBH - B2B | E51: NON METAL | F51: 30152 | G51: 3350 | H51: 9
A52: FY19 | B52: FY19-Q2 | C52: ITALY | D52: INGRAM MICRO DISTRIBUTION GMBH - B2B | E52: NON METAL | F52: 26110 | G52: 3264 | H52: 8
A53: FY19 | B53: FY19-Q3 | C53: ITALY | D53: INGRAM MICRO DISTRIBUTION GMBH - B2B | E53: NON METAL | F53: 24180 | G53: 2418 | H53: 10
A54: FY19 | B54: FY19-Q4 | C54: ITALY | D54: INGRAM MICRO DISTRIBUTION GMBH - B2B | E54: NON METAL | F54: 44922 | G54: 5615 | H54: 8
A55: FY20 | B55: FY20-Q1 | C55: ITALY | D55: INGRAM MICRO DISTRIBUTION GMBH - B2B | E55: NON METAL | F55: 47212 | G55: 5246 | H55: 9
... A62: FY20 | B62: FY20-Q1 | C62: ITALY | D62: Siewert & Kau Computertechnik - B2B | E62: NON METAL | F62: 7192 | G62: 3596 | H62: 2
A63: FY20 | B63: FY20-Q1 | C63: ITALY | D63: TECH DATA ESPANA, S.L.U. | E63: NON METAL | F63: 688
A64: FY19 | B64: FY19-Q1 | C64: ITALY | D64: TECH DATA FRANCE HOLDING - B2B | E64: NON METAL | F64: 2588 | G64: 2588 | H64: 1
A65: FY19 | B65: FY19-Q3 | C65: ITALY | D65: TECH DATA FRANCE HOLDING - B2B | E65: NON METAL | F65: 2248 | G65: 2248 | H65: 1
A66: FY19 | B66: FY19-Q1 | C66: ITALY | D66: TECH DATA ITALIA SRL | E66: NON METAL | F66: 3425430 | G66: 5429 | H66: 631
A67: FY19 | B67: FY19-Q2 | C67: ITALY | D67: TECH DATA ITALIA SRL | E67: NON METAL | F67: 3616586 | G67: 5686 | H67: 636
A68: FY19 | B68: FY19-Q3 | C68: ITALY | D68: TECH DATA ITALIA SRL | E68: NON METAL | F68: 3335987 | G68: 5478 | H68: 609
A69: FY19 | B69: FY19-Q4 | C69: ITALY | D69: TECH DATA ITALIA SRL | E69: NON METAL | F69: 5137144 | G69: 6822 | H69: 753
A70: FY20 | B70: FY20-Q1 | C70: ITALY | D70: TECH DATA ITALIA SRL | E70: NON METAL | F70: 4280582 | G70: 5904 | H70: 725
A71: FY20 | B71: FY20-Q2 | C71: ITALY | D71: TECH DATA ITALIA SRL | E71: NON METAL | F71: 3520210 | G71: 5162 | H71: 682
A72: FY20 | B72: FY20-Q3 | C72: ITALY | D72: TECH DATA ITALIA SRL | E72: NON METAL | F72: 3081397 | G72: 4994 | H72: 617
A73: FY19 | B73: FY19-Q1 | C73: ITALY | D73: Tech Data Service GmbH -B2B | E73: NON METAL | F73: 985 | G73: 492 | H73: 2
A74: FY19 | B74: FY19-Q2 | C74: ITALY | D74: Tech Data Service GmbH -B2B | E74: NON METAL | F74: 2169 | G74: 542 | H74: 4
A75: FY19 | B75: FY19-Q3 | C75: ITALY | D75: Tech Data Service GmbH -B2B | E75: NON METAL | F75: 863 | G75: 216 | H75: 4
... A79: FY20 | B79: FY20-Q3 | C79: ITALY | D79: Tech Data Service GmbH -B2B | E79: NON METAL | F79: 1806 | G79: 602 | H79: 3

Sheet RAW CSG BLX SnS
A1: FY | B1: FYQ | C1: Region | D1: METAL / NON METAL | E1: Total Revenue | F1: Revenue per Partner | G1: # Active
A2: FY19 | B2: FY19-Q1 | C2: WER | D2: NON METAL | E2: 3374028 | F2: 6415 | G2: 526
A3: FY19 | B3: FY19-Q2 | C3: WER | D3: NON METAL | E3: 3527315 | F3: 6744 | G3: 523
A4: FY19 | B4: FY19-Q3 | C4: WER | D4: NON METAL | E4: 3997127 | F4: 6809 | G4: 587
A5: FY19 | B5: FY19-Q4 | C5: WER | D5: NON METAL | E5: 3861833 | F5: 6613 | G5: 584
A6: FY20 | B6: FY20-Q1 | C6: WER | D6: NON METAL | E6: 3821445 | F6: 6348 | G6: 602
A7: FY20 | B7: FY20-Q2 | C7: WER | D7: NON METAL | E7: 3118872 | F7: 5712 | G7: 546
A8: FY20 | B8: FY20-Q3 | C8: WER | D8: NON METAL | E8: 3489961 | F8: 6112 | G8: 571

Sheet Raw CSG WER SnS
A1: FY | B1: FYQ | C1: Region | D1: METAL / NON METAL | E1: Total Revenue | F1: Revenue per Partner | G1: # Active
A2: FY19 | B2: FY19-Q1 | C2: WER | D2: NON METAL | E2: 41307342 | F2: 9375 | G2: 4406
A3: FY19 | B3: FY19-Q2 | C3: WER | D3: NON METAL | E3: 38108569 | F3: 8558 | G3: 4453
A4: FY19 | B4: FY19-Q3 | C4: WER | D4: NON METAL | E4: 44493685 | F4: 9719 | G4: 4578
A5: FY19 | B5: FY19-Q4 | C5: WER | D5: NON METAL | E5: 45734996 | F5: 9542 | G5: 4793
A6: FY20 | B6: FY20-Q1 | C6: WER | D6: NON METAL | E6: 45875290 | F6: 9668 | G6: 4745
A7: FY20 | B7: FY20-Q2 | C7: WER | D7: NON METAL | E7: 38937884 | F7: 8852 | G7: 4399
A8: FY20 | B8: FY20-Q3 | C8: WER | D8: NON METAL | E8: 43181421 | F8: 9598 | G8: 4499

Sheet Raw CSG Country SnS
A1: FY | B1: FYQ | C1: Region | D1: Country | E1: METAL / NON METAL | F1: Total Revenue | G1: Revenue per Partner | H1: # Active
A2: FY19 | B2: FY19-Q1 | C2: CEE | D2: Albania | E2: NON METAL | F2: 7097 | G2: 1774 | H2: 4
A3: FY19 | B3: FY19-Q1 | C3: CEE | D3: Andorra | E3: NON METAL | F3: 7880 | G3: 7880 | H3: 1
A4: FY19 | B4: FY19-Q1 | C4: CEE | D4: Armenia | E4: NON METAL | F4: 136332 | G4: 6817 | H4: 20
A5: FY19 | B5: FY19-Q1 | C5: CEE | D5: Azerbaijan | E5: NON METAL | F5: 39648 | G5: 3965 | H5: 10
A6: FY19 | B6: FY19-Q1 | C6: CEE | D6: Belarus | E6: NON METAL | F6: 179469 | G6: 5789 | H6: 31
A7: FY19 | B7: FY19-Q1 | C7: CEE | D7: Bosnia And Herzegovina | E7: NON METAL | F7: 188096 | G7: 3688 | H7: 51
A8: FY19 | B8: FY19-Q1 | C8: CEE | D8: Bulgaria | E8: NON METAL | F8: 1414575 | G8: 6204 | H8: 228
A9: FY19 | B9: FY19-Q1 | C9: CEE | D9: Croatia | E9: NON METAL | F9: 1822687 | G9: 8679 | H9: 210
A10: FY19 | B10: FY19-Q1 | C10: CEE | D10: Cyprus | E10: NON METAL | F10: 105501 | G10: 4796 | H10: 22
A11: FY19 | B11: FY19-Q1 | C11: CEE | D11: Czech Republic | E11: NON METAL | F11: 4949683 | G11: 5858 | H11: 845
A12: FY19 | B12: FY19-Q1 | C12: CEE | D12: Estonia | E12: NON METAL | F12: 998696 | G12: 7802 | H12: 128
A13: FY19 | B13: FY19-Q1 | C13: CEE | D13: Georgia | E13: NON METAL | F13: 286589 | G13: 8956 | H13: 32
... A169: FY20 | B169: FY20-Q2 | C169: CEE | D169: Ukraine | E169: NON METAL | F169: 3220182 | G169: 18401 | H169: 175
A170: FY20 | B170: FY20-Q2 | C170: CEE | D170: Uzbekistan | E170: NON METAL | F170: 5636
A171: FY20 | B171: FY20-Q3 | C171: CEE | D171: Albania | E171: NON METAL | F171: 40337 | G171: 5042 | H171: 8
A172: FY20 | B172: FY20-Q3 | C172: CEE | D172: Andorra | E172: NON METAL | F172: 1163 | G172: 1163 | H172: 1
A173: FY20 | B173: FY20-Q3 | C173: CEE | D173: Armenia | E173: NON METAL | F173: 51393 | G173: 4283 | H173: 12
A174: FY20 | B174: FY20-Q3 | C174: CEE | D174: Azerbaijan | E174: NON METAL | F174: 73979 | G174: 5691 | H174: 13
A175: FY20 | B175: FY20-Q3 | C175: CEE | D175: Belarus | E175: NON METAL | F175: 778915 | G175: 14162 | H175: 55
A176: FY20 | B176: FY20-Q3 | C176: CEE | D176: Bosnia And Herzegovina | E176: NON METAL | F176: 351801 | G176: 4290 | H176: 82
A177: FY20 | B177: FY20-Q3 | C177: CEE | D177: Bulgaria | E177: NON METAL | F177: 1940396 | G177: 7952 | H177: 244
A178: FY20 | B178: FY20-Q3 | C178: CEE | D178: Croatia | E178: NON METAL | F178: 1572736 | G178: 7349 | H178: 214
A179: FY20 | B179: FY20-Q3 | C179: CEE | D179: Cyprus | E179: NON METAL | F179: 133839 | G179: 4615 | H179: 29
A180: FY20 | B180: FY20-Q3 | C180: CEE | D180: Czech Republic | E180: NON METAL | F180: 7263197 | G180: 7613 | H180: 954
A181: FY20 | B181: FY20-Q3 | C181: CEE | D181: Estonia | E181: NON METAL | F181: 1611090 | G181: 12587 | H181: 128
A182: FY20 | B182: FY20-Q3 | C182: CEE | D182: Georgia | E182: NON METAL | F182: 516929 | G182: 16154 | H182: 32
... A239: FY19 | B239: FY19-Q1 | C239: MERAT | D239: Kuwait | E239: NON METAL | F239: 719230 | G239: 42308 | H239: 17
A240: FY19 | B240: FY19-Q1 | C240: MERAT | D240: Lebanon | E240: NON METAL | F240: 2690
A241: FY19 | B241: FY19-Q1 | C241: MERAT | D241: Lesotho | E241: NON METAL | F241: 35945 | G241: 5991 | H241: 6
A242: FY19 | B242: FY19-Q1 | C242: MERAT | D242: Libyan Arab Jamahinya | E242: NON METAL | F242: 1701495 | G242: 243071 | H242: 7
A243: FY19 | B243: FY19-Q1 | C243: MERAT | D243: Madagascar | E243: NON METAL | F243: 12398 | G243: 12398 | H243: 1
A244: FY19 | B244: FY19-Q1 | C244: MERAT | D244: Mali | E244: NON METAL | F244: 29291 | G244: 14646 | H244: 2
A245: FY19 | B245: FY19-Q1 | C245: MERAT | D245: Mauritius | E245: NON METAL | F245: 79544 | G245: 6629 | H245: 12
A246: FY19 | B246: FY19-Q1 | C246: MERAT | D246: Morocco | E246: NON METAL | F246: 2019046 | G246: 10683 | H246: 189
A247: FY19 | B247: FY19-Q1 | C247: MERAT | D247: Mozambique | E247: NON METAL | F247: 21504 | G247: 3584 | H247: 6
A248: FY19 | B248: FY19-Q1 | C248: MERAT | D248: Namibia | E248: NON METAL | F248: 205751 | G248: 7620 | H248: 27
A249: FY19 | B249: FY19-Q1 | C249: MERAT | D249: Nigeria | E249: NON METAL | F249: 181903 | G249: 16537 | H249: 11
A250: FY19 | B250: FY19-Q1 | C250: MERAT | D250: Oman | E250: NON METAL | F250: 382284 | G250: 23893 | H250: 16
A251: FY19 | B251: FY19-Q1 | C251: MERAT | D251: Qatar | E251: NON METAL | F251: 1091930 | G251: 109193 | H251: 10
A252: FY19 | B252: FY19-Q1 | C252: MERAT | D252: Reunion | E252: NON METAL | F252: 6316 | G252: 1579 | H252: 4
... A309: FY19 | B309: FY19-Q3 | C309: MERAT | D309: Algeria | E309: NON METAL | F309: 1695456 | G309: 188384 | H309: 9
A310: FY19 | B310: FY19-Q3 | C310: MERAT | D310: Angola | E310: NON METAL | F310: 5735
A311: FY19 | B311: FY19-Q3 | C311: MERAT | D311: Bahrain | E311: NON METAL | F311: 219764 | G311: 24418 | H311: 9
A312: FY19 | B312: FY19-Q3 | C312: MERAT | D312: Benin | E312: NON METAL | F312: 2484 | G312: 2484 | H312: 1
A313: FY19 | B313: FY19-Q3 | C313: MERAT | D313: Botswana | E313: NON METAL | F313: 396740 | G313: 14169 | H313: 28
A314: FY19 | B314: FY19-Q3 | C314: MERAT | D314: Cameroon | E314: NON METAL | F314: 30522 | G314: 3052 | H314: 10
A315: FY19 | B315: FY19-Q3 | C315: MERAT | D315: Central African Republic | E315: NON METAL | F315: 9480 | G315: 9480 | H315: 1
A316: FY19 | B316: FY19-Q3 | C316: MERAT | D316: Congo | E316: NON METAL | F316: 1825 | G316: 1825 | H316: 1
A317: FY19 | B317: FY19-Q3 | C317: MERAT | D317: Congo, Democratic Republic | E317: NON METAL | F317: 15730 | G317: 5243 | H317: 3
A318: FY19 | B318: FY19-Q3 | C318: MERAT | D318: Cote D'Ivoire | E318: NON METAL | F318: 85257 | G318: 5329 | H318: 16
A319: FY19 | B319: FY19-Q3 | C319: MERAT | D319: Djibouti | E319: NON METAL | F319: 2220 | G319: 2220 | H319: 1
A320: FY19 | B320: FY19-Q3 | C320: MERAT | D320: Egypt | E320: NON METAL | F320: 1748075 | G320: 17481 | H320: 100
A321: FY19 | B321: FY19-Q3 | C321: MERAT | D321: Equatorial Guinea | E321: NON METAL | F321: 177 | G321: 177 | H321: 1
A322: FY19 | B322: FY19-Q3 | C322: MERAT | D322: Ethiopia | E322: NON METAL | F322: 2178305 | G322: 726102 | H322: 3
... A355: FY19 | B355: FY19-Q4 | C355: MERAT | D355: Algeria | E355: NON METAL | F355: 2591205 | G355: 215934 | H355: 12
A356: FY19 | B356: FY19-Q4 | C356: MERAT | D356: Angola | E356: NON METAL | F356: 7584
A357: FY19 | B357: FY19-Q4 | C357: MERAT | D357: Bahrain | E357: NON METAL | F357: 773904 | G357: 64492 | H357: 12
A358: FY19 | B358: FY19-Q4 | C358: MERAT | D358: Benin | E358: NON METAL | F358: 4108 | G358: 4108 | H358: 1
A359: FY19 | B359: FY19-Q4 | C359: MERAT | D359: Botswana | E359: NON METAL | F359: 308482 | G359: 10637 | H359: 29
A360: FY19 | B360: FY19-Q4 | C360: MERAT | D360: Burkina Faso | E360: NON METAL | F360: 11479 | G360: 11479 | H360: 1
A361: FY19 | B361: FY19-Q4 | C361: MERAT | D361: Cameroon | E361: NON METAL | F361: 17336 | G361: 2167 | H361: 8
A362: FY19 | B362: FY19-Q4 | C362: MERAT | D362: Chad | E362: NON METAL | F362: 927 | G362: 927 | H362: 1
A363: FY19 | B363: FY19-Q4 | C363: MERAT | D363: Congo | E363: NON METAL | F363: 45980 | G363: 22990 | H363: 2
A364: FY19 | B364: FY19-Q4 | C364: MERAT | D364: Congo, Democratic Republic | E364: NON METAL | F364: 16187 | G364: 5396 | H364: 3
A365: FY19 | B365: FY19-Q4 | C365: MERAT | D365: Cote D'Ivoire | E365: NON METAL | F365: 251365 | G365: 10474 | H365: 24
A366: FY19 | B366: FY19-Q4 | C366: MERAT | D366: Djibouti | E366: NON METAL | F366: 1000 | G366: 1000 | H366: 1
A367: FY19 | B367: FY19-Q4 | C367: MERAT | D367: Egypt | E367: NON METAL | F367: 3141784 | G367: 27803 | H367: 113
A368: FY19 | B368: FY19-Q4 | C368: MERAT | D368: Equatorial Guinea | E368: NON METAL | F368: 4637 | G368: 4637 | H368: 1
... A377: FY19 | B377: FY19-Q4 | C377: MERAT | D377: Kuwait | E377: NON METAL | F377: 961265 | G377: 53404 | H377: 18
A378: FY19 | B378: FY19-Q4 | C378: MERAT | D378: Lebanon | E378: NON METAL | F378: 16501
A379: FY19 | B379: FY19-Q4 | C379: MERAT | D379: Lesotho | E379: NON METAL | F379: 97368 | G379: 32456 | H379: 3
A380: FY19 | B380: FY19-Q4 | C380: MERAT | D380: Liberia | E380: NON METAL | F380: 60001 | G380: 60001 | H380: 1
A381: FY19 | B381: FY19-Q4 | C381: MERAT | D381: Libyan Arab Jamahinya | E381: NON METAL | F381: 2530290 | G381: 421715 | H381: 6
A382: FY19 | B382: FY19-Q4 | C382: MERAT | D382: Madagascar | E382: NON METAL | F382: 1975 | G382: 987 | H382: 2
A383: FY19 | B383: FY19-Q4 | C383: MERAT | D383: Mali | E383: NON METAL | F383: 797 | G383: 797 | H383: 1
A384: FY19 | B384: FY19-Q4 | C384: MERAT | D384: Mauritania | E384: NON METAL | F384: 79371 | G384: 79371 | H384: 1
A385: FY19 | B385: FY19-Q4 | C385: MERAT | D385: Mauritius | E385: NON METAL | F385: 302523 | G385: 21609 | H385: 14
A386: FY19 | B386: FY19-Q4 | C386: MERAT | D386: Morocco | E386: NON METAL | F386: 2120392 | G386: 11462 | H386: 185
A387: FY19 | B387: FY19-Q4 | C387: MERAT | D387: Mozambique | E387: NON METAL | F387: 3570 | G387: 893 | H387: 4
A388: FY19 | B388: FY19-Q4 | C388: MERAT | D388: Namibia | E388: NON METAL | F388: 241014 | G388: 10479 | H388: 23
A389: FY19 | B389: FY19-Q4 | C389: MERAT | D389: Nigeria | E389: NON METAL | F389: 227769 | G389: 75923 | H389: 3
A390: FY19 | B390: FY19-Q4 | C390: MERAT | D390: Oman | E390: NON METAL | F390: 395386 | G390: 20810 | H390: 19
... A406: FY20 | B406: FY20-Q1 | C406: MERAT | D406: Algeria | E406: NON METAL | F406: 567217 | G406: 56722 | H406: 10
A407: FY20 | B407: FY20-Q1 | C407: MERAT | D407: Angola | E407: NON METAL | F407: 1138
A408: FY20 | B408: FY20-Q1 | C408: MERAT | D408: Bahrain | E408: NON METAL | F408: 383791 | G408: 38379 | H408: 10
A409: FY20 | B409: FY20-Q1 | C409: MERAT | D409: Benin | E409: NON METAL | F409: 70705 | G409: 23568 | H409: 3
A410: FY20 | B410: FY20-Q1 | C410: MERAT | D410: Botswana | E410: NON METAL | F410: 263830 | G410: 8511 | H410: 31
A411: FY20 | B411: FY20-Q1 | C411: MERAT | D411: Burkina Faso | E411: NON METAL | F411: 7003 | G411: 3501 | H411: 2
A412: FY20 | B412: FY20-Q1 | C412: MERAT | D412: Cameroon | E412: NON METAL | F412: 29130 | G412: 3641 | H412: 8
A413: FY20 | B413: FY20-Q1 | C413: MERAT | D413: Central African Republic | E413: NON METAL | F413: 857 | G413: 857 | H413: 1
A414: FY20 | B414: FY20-Q1 | C414: MERAT | D414: Comoros | E414: NON METAL | F414: 1040 | G414: 1040 | H414: 1
A415: FY20 | B415: FY20-Q1 | C415: MERAT | D415: Congo | E415: NON METAL | F415: 41666 | G415: 20833 | H415: 2
A416: FY20 | B416: FY20-Q1 | C416: MERAT | D416: Congo, Democratic Republic | E416: NON METAL | F416: 42405 | G416: 10601 | H416: 4
A417: FY20 | B417: FY20-Q1 | C417: MERAT | D417: Cote D'Ivoire | E417: NON METAL | F417: 196704 | G417: 8196 | H417: 24
A418: FY20 | B418: FY20-Q1 | C418: MERAT | D418: Djibouti | E418: NON METAL | F418: 5779 | G418: 5779 | H418: 1
A419: FY20 | B419: FY20-Q1 | C419: MERAT | D419: Egypt | E419: NON METAL | F419: 1677434 | G419: 16944 | H419: 99
... A460: FY20 | B460: FY20-Q2 | C460: MERAT | D460: Algeria | E460: NON METAL | F460: 501746 | G460: 55750 | H460: 9
A461: FY20 | B461: FY20-Q2 | C461: MERAT | D461: Angola | E461: NON METAL | F461: 2702
A462: FY20 | B462: FY20-Q2 | C462: MERAT | D462: Bahrain | E462: NON METAL | F462: 512127 | G462: 56903 | H462: 9
...

Sheet Raw Commercial Region SnS+B2B
A1: FY | B1: FYQ | C1: Region | D1: Product Line | E1: METAL / NON METAL | F1: Total Revenue | G1: Revenue per Partner | H1: # Active
A2: FY19 | B2: FY19-Q1 | C2: CEE | D2: Commercial | E2: NON METAL | F2: 30338640 | G2: 11973 | H2: 2534
A3: FY19 | B3: FY19-Q2 | C3: CEE | D3: Commercial | E3: NON METAL | F3: 34766221 | G3: 12857 | H3: 2704
A4: FY19 | B4: FY19-Q3 | C4: CEE | D4: Commercial | E4: NON METAL | F4: 38328371 | G4: 13064 | H4: 2934
A5: FY19 | B5: FY19-Q4 | C5: CEE | D5: Commercial | E5: NON METAL | F5: 54010995 | G5: 16032 | H5: 3369
A6: FY20 | B6: FY20-Q1 | C6: CEE | D6: Commercial | E6: NON METAL | F6: 39689176 | G6: 12820 | H6: 3096
A7: FY20 | B7: FY20-Q2 | C7: CEE | D7: Commercial | E7: NON METAL | F7: 38439486 | G7: 12368 | H7: 3108
A8: FY20 | B8: FY20-Q3 | C8: CEE | D8: Commercial | E8: NON METAL | F8: 40542847 | G8: 12027 | H8: 3371
A9: FY19 | B9: FY19-Q1 | C9: FRANCE | D9: Commercial | E9: NON METAL | F9: 10796486 | G9: 8835 | H9: 1222
A10: FY19 | B10: FY19-Q2 | C10: FRANCE | D10: Commercial | E10: NON METAL | F10: 11599064 | G10: 9438 | H10: 1229
A11: FY19 | B11: FY19-Q3 | C11: FRANCE | D11: Commercial | E11: NON METAL | F11: 10562240 | G11: 8573 | H11: 1232
A12: FY19 | B12: FY19-Q4 | C12: FRANCE | D12: Commercial | E12: NON METAL | F12: 12282949 | G12: 8940 | H12: 1374
A13: FY20 | B13: FY20-Q1 | C13: FRANCE | D13: Commercial | E13: NON METAL | F13: 12189448 | G13: 9384 | H13: 1299
... A50: FY20 | B50: FY20-Q3 | C50: WER | D50: Commercial | E50: NON METAL | F50: 34762178 | G50: 12301 | H50: 2826

Sheet Raw Commercial Country SnS+B2B
A1: FY | B1: FYQ | C1: Country | D1: Product Line | E1: METAL / NON METAL | F1: Total Revenue | G1: Revenue per Partner | H1: # Active
A2: FY19 | B2: FY19-Q1 | C2: France | D2: Commercial | E2: NON METAL | F2: 10796486 | G2: 8835 | H2: 1222
A3: FY19 | B3: FY19-Q2 | C3: France | D3: Commercial | E3: NON METAL | F3: 11599064 | G3: 9438 | H3: 1229
A4: FY19 | B4: FY19-Q3 | C4: France | D4: Commercial | E4: NON METAL | F4: 10562240 | G4: 8573 | H4: 1232
A5: FY19 | B5: FY19-Q4 | C5: France | D5: Commercial | E5: NON METAL | F5: 12282949 | G5: 8940 | H5: 1374
A6: FY20 | B6: FY20-Q1 | C6: France | D6: Commercial | E6: NON METAL | F6: 12189448 | G6: 9384 | H6: 1299
A7: FY20 | B7: FY20-Q2 | C7: France | D7: Commercial | E7: NON METAL | F7: 12199637 | G7: 9659 | H7: 1263
A8: FY20 | B8: FY20-Q3 | C8: France | D8: Commercial | E8: NON METAL | F8: 11932754 | G8: 9478 | H8: 1259
A9: FY19 | B9: FY19-Q1 | C9: Germany | D9: Commercial | E9: NON METAL | F9: 10296192 | G9: 11556 | H9: 891
A10: FY19 | B10: FY19-Q2 | C10: Germany | D10: Commercial | E10: NON METAL | F10: 12369336 | G10: 12752 | H10: 970
A11: FY19 | B11: FY19-Q3 | C11: Germany | D11: Commercial | E11: NON METAL | F11: 11977148 | G11: 12110 | H11: 989
A12: FY19 | B12: FY19-Q4 | C12: Germany | D12: Commercial | E12: NON METAL | F12: 13426074 | G12: 12897 | H12: 1041
A13: FY20 | B13: FY20-Q1 | C13: Germany | D13: Commercial | E13: NON METAL | F13: 12713062 | G13: 12713 | H13: 1000
... A43: FY20 | B43: FY20-Q3 | C43: United Kingdom | D43: Commercial | E43: NON METAL | F43: 18578767 | G43: 16529 | H43: 1124
