Workbook

Sheet Sheet1
A1: Q3 | G1: Q4
A2: Country | C2: # Of resellers | D2: Actuals - | E2: Average Revenue Targeted | G2: Country | I2: # Of resellers | J2: Average Revenue Targeted
A3: Germany | B3: Ingram | C3: 395 | E3: 2.457 | G3: Germany | H3: Ingram | I3: 415 | J3: 2.709
B4: TD | C4: 384 | E4: 3.868 | H4: TD | I4: 403 | J4: 4.264
B5: SK | C5: 274 | E5: 3.516 | H5: SK | I5: 288 | J5: 3.876
A6: TOTAL DE
A7: UK | B7: Exertis | C7: 405 | E7: 4.677 | G7: UK | H7: Exertis | I7: 376 | J7: 3.898
B8: Ingram | C8: 552 | E8: 4.779 | H8: Ingram | I8: 565 | J8: 5.074
B9: TD | C9: 691 | E9: 5.623 | H9: TD | I9: 684 | J9: 6.297
A10: WER | B10: NL | C10: 848 | E10: 25.2 | G10: WER | H10: NL | I10: 1306 | J10: 30.4
B11: BLX | C11: 628 | E11: 10.4 | H11: BLX | I11: 689 | J11: 11.2
B12: ES | C12: 1851 | E12: 20.1 | H12: ES | I12: 1951 | J12: 22.4
B13: PT | C13: 364 | E13: 4.2 | H13: PT | I13: 395 | J13: 4.5
B14: AT | C14: 281 | E14: 4.4 | H14: AT | I14: 282 | J14: 4.3
B15: CH | C15: 614 | E15: 15.3 | H15: CH | I15: 706 | J15: 16.6
B16: SE | C16: 403 | E16: 24.1 | H16: SE | I16: 465 | J16: 25.5
B17: DK | C17: 770 | E17: 12.7 | H17: DK | I17: 905 | J17: 14.4
B18: NO | C18: 202 | E18: 7.3 | H18: NO | I18: 236 | J18: 7.9
B19: FI | C19: 277 | E19: 9.8 | H19: FI | I19: 298 | J19: 9.8
B21: Actual Q1 | F21: Actual Q2 | J21: Q3 | P21: Target Q4
A22: Country | B22: # of resellers | C22: Yoy % growth per resellers | D22: Average rev per partner | E22: Yoy % growth average per partner | F22: # of resellers | G22: Yoy % growth per resellers | H22: Average rev per partner | I22: Yoy % growth average per partner | J22: # of resellers target | K22: # resellers actual (2 months) | L22: Trend per Q (resellers) | M22: average rev per partner target | N22: Average rev per partner actual (2 months) | O22: Trend per Q (revenue) | P22: # of resellers | Q22: Yoy % growth per resellers | R22: Average rev per partner | S22: Yoy % growth average per partner
A23: Germany (total ) | B23: 1200 | C23: 7.32 | D23: 9575 | E23: 22.89 | F23: 1099 | G23: 6.11 | H23: 9725 | I23: 15.52 | J23: 1053 | K23: 1109 | L23: =J23-K23 -> -56 | M23: 29129 | N23: 10486 | O23: =M23-N23 -> 18643 | P23: 1106 | Q23: 5 | R23: 30586 | S23: 5
A24: SK | B24: 319 | C24: -8.7 | D24: 13785 | E24: 24.45 | F24: 312 | G24: 1.88 | H24: 14971 | I24: 26.85 | J24: 274 | K24: 306 | L24: =J24-K24 -> -32 | M24: 12834 | N24: 13616 | O24: =M24-N24 -> -782 | P24: 288 | Q24: 5 | R24: 13457 | S24: 5
A25: Tech Data | B25: 535 | C25: 30.26 | D25: 7230 | E25: 58.89 | F25: 577 | G25: 16.46 | H25: 7415 | I25: 19.9 | J25: 384 | K25: 521 | L25: =J25-K25 -> -137 | M25: 8213 | N25: 10432 | O25: =M25-N25 -> -2219 | P25: 403 | Q25: 5 | R25: 10578 | S25: 5
A26: Ingram | B26: 661 | C26: 4.17 | D26: 4878 | E26: -5.3 | F26: 562 | G26: 2.06 | H26: 4383 | I26: -4.93 | J26: 395 | K26: 574 | L26: =J26-K26 -> -179 | M26: 6221 | N26: 5545 | O26: =M26-N26 -> 676 | P26: 415 | Q26: 5 | R26: 6532 | S26: 5
A27: France (total) | B27: 1597 | C27: 10.26 | D27: 6336 | E27: 3.66 | F27: 1578 | G27: 7.99 | H27: 6123 | I27: 17.11 | K27: 1879 | N27: 6301 | O27: =M27-N27 -> -6301 | P27: 2217 | Q27: 5 | R27: 10599 | S27: 5
A28: Ingram | B28: 523 | C28: 36.96 | D28: 3878 | E28: 54.11 | F28: 515 | G28: 39.65 | H28: 3426 | I28: 61.58 | K28: 454 | N28: 3543 | O28: =M28-N28 -> -3543 | P28: 674 | Q28: 26 | R28: 5800 | S28: 36
A29: Tech Data | B29: 1424 | C29: 1.79 | D29: 4523 | E29: 3.58 | F29: 1421 | G29: 11.08 | H29: 4651 | I29: 10.92 | K29: 1091 | N29: 4681 | O29: =M29-N29 -> -4681 | P29: 1714 | Q29: 17 | R29: 7600 | S29: 22
A30: MCA | B30: 460 | C30: 6.08 | D30: 7571 | E30: -8.91 | F30: 358 | G30: 16.05 | H30: 7003 | I30: 10.32 | K30: 334 | N30: 7211 | O30: =M30-N30 -> -7211 | P30: 473 | Q30: 8 | R30: 10100 | S30: 8
A31: UK only (total) | B31: 1448 | C31: 7.05 | D31: 12286 | E31: 22.04 | F31: 1405 | G31: 5.89 | H31: 11673 | I31: 19.81 | J31: 1648 | K31: 1398 | L31: =J31-K31 -> 250 | M31: 28344.95 | N31: 11502 | O31: =M31-N31 -> 16842.95 | P31: 1625 | R31: 28556.09
A32: Tech Data | B32: 999 | C32: 9.46 | D32: 7672 | E32: -2.92 | F32: 989 | G32: 9.02 | H32: 8020 | I32: -2.66 | J32: 691 | K32: 827 | L32: =J32-K32 -> -136 | M32: 8138 | N32: 7687 | O32: =M32-N32 -> 451 | P32: 684 | R32: 9207
A33: Ingram | B33: 720 | C33: 13.48 | D33: 8847 | E33: 53.5 | F33: 656 | G33: 8.05 | H33: 8052 | I33: 24.96 | J33: 552 | K33: 687 | L33: =J33-K33 -> -135 | M33: 8658 | N33: 7817 | O33: =M33-N33 -> 841 | P33: 565 | R33: 8981
A34: Exertis | B34: 518 | C34: 1.44 | D34: 9814 | E34: 10.14 | F34: 463 | G34: -0.34 | H34: 9395 | I34: 30.11 | J34: 405 | K34: 458 | L34: =J34-K34 -> -53 | M34: 11548 | N34: 9504 | O34: =M34-N34 -> 2044 | P34: 376 | R34: 10368.09
A35: WER | B35: 4906 | C35: 10.7 | D35: 10680 | E35: 12.47 | F35: 4599 | G35: 2.66 | H35: 9984 | I35: 10.68 | J35: 5903 | K35: 3771 | L35: =J35-K35 -> 2132 | M35: 11214 | N35: 7407 | O35: =M35-N35 -> 3807 | P35: 6882 | Q35: 16.58 | R35: 11203 | S35: 16.46
A36: META | B36: 1914 | C36: 11.34 | D36: 23569 | E36: -0.41 | F36: 1880 | G36: 7.56 | H36: 21104 | I36: 16.82 | J36: 1836 | K36: 1735 | L36: =J36-K36 -> 101 | M36: 18492 | N36: 25518 | O36: =M36-N36 -> -7026 | P36: 1958 | Q36: 6.6 | R36: 21269 | S36: 15

Sheet Overview
A5: Country | B5: Scope | C5: # of resellers | D5: Yoy % growth per resellers | E5: Average rev per partner | F5: Yoy % growth average per partner | G5: # of resellers | H5: Yoy % growth per resellers | I5: Average rev per partner | J5: Yoy % growth average per partner | K5: # of Resellers Target | L5: # Resellers Actual | M5: Achieved Target | N5: Conclusion | O5: Yoy % growth per resellers | P5: average rev per partner target | Q5: Average rev per partner actual | T5: Yoy % growth average per partner | U5: # of resellers | V5: Yoy % growth per resellers | W5: Average rev per partner | X5: Yoy % growth average per partner
A6: Germany | B6: Client Commercial SnS + BTB | C6: =SUMIFS('Raw Commercial Country SnS+B2B'!$H:$H,'Raw Commercial Country SnS+B2B'!$B:$B,"FY20-Q1",'Raw Commercial Country SnS+B2B'!$C:$C,"Germany") -> 1000 | D6: =IFERROR(((SUMIFS('Raw Commercial Country SnS+B2B'!$H:$H,'Raw Commercial Country SnS+B2B'!$B:$B,"FY20-Q1",'Raw Commercial Country SnS+B2B'!$C:$C,"Germany")-SUMIFS('Raw Commercial Country SnS+B2B'!$H:$H,'Raw Commercial Country SnS+B2B'!$B:$B,"FY19-Q1",'Raw Commercial Country SnS+B2B'!$C:$C,"Germany")))/(SUMIFS('Raw Commercial Country SnS+B2B'!$H:$H,'Raw Commercial Country SnS+B2B'!$B:$B,"FY19-Q1",'Raw Commercial Country SnS+B2B'!$C:$C,"Germany")),"") -> 0.12233446 | E6: =SUMIFS('Raw Commercial Country SnS+B2B'!$G:$G,'Raw Commercial Country SnS+B2B'!$B:$B,"FY20-Q1",'Raw Commercial Country SnS+B2B'!$C:$C,"Germany") -> 12713 | F6: =IFERROR(((SUMIFS('Raw Commercial Country SnS+B2B'!$G:$G,'Raw Commercial Country SnS+B2B'!$B:$B,"FY20-Q1",'Raw Commercial Country SnS+B2B'!$C:$C,"Germany")-SUMIFS('Raw Commercial Country SnS+B2B'!$G:$G,'Raw Commercial Country SnS+B2B'!$B:$B,"FY19-Q1",'Raw Commercial Country SnS+B2B'!$C:$C,"Germany")))/(SUMIFS('Raw Commercial Country SnS+B2B'!$G:$G,'Raw Commercial Country SnS+B2B'!$B:$B,"FY19-Q1",'Raw Commercial Country SnS+B2B'!$C:$C,"Germany")),"") -> 0.10012115 | G6: =SUMIFS('Raw Commercial Country SnS+B2B'!$H:$H,'Raw Commercial Country SnS+B2B'!$B:$B,"FY20-Q2",'Raw Commercial Country SnS+B2B'!$C:$C,"Germany") -> 936 | H6: =IFERROR(((SUMIFS('Raw Commercial Country SnS+B2B'!$H:$H,'Raw Commercial Country SnS+B2B'!$B:$B,"FY20-Q2",'Raw Commercial Country SnS+B2B'!$C:$C,"Germany")-SUMIFS('Raw Commercial Country SnS+B2B'!$H:$H,'Raw Commercial Country SnS+B2B'!$B:$B,"FY19-Q2",'Raw Commercial Country SnS+B2B'!$C:$C,"Germany")))/(SUMIFS('Raw Commercial Country SnS+B2B'!$H:$H,'Raw Commercial Country SnS+B2B'!$B:$B,"FY19-Q2",'Raw Commercial Country SnS+B2B'!$C:$C,"Germany")),"") -> -0.035051546 | I6: =SUMIFS('Raw Commercial Country SnS+B2B'!$G:$G,'Raw Commercial Country SnS+B2B'!$B:$B,"FY20-Q2",'Raw Commercial Country SnS+B2B'!$C:$C,"Germany") -> 14505 | J6: =IFERROR(((SUMIFS('Raw Commercial Country SnS+B2B'!$G:$G,'Raw Commercial Country SnS+B2B'!$B:$B,"FY20-Q2",'Raw Commercial Country SnS+B2B'!$C:$C,"Germany")-SUMIFS('Raw Commercial Country SnS+B2B'!$G:$G,'Raw Commercial Country SnS+B2B'!$B:$B,"FY19-Q2",'Raw Commercial Country SnS+B2B'!$C:$C,"Germany")))/(SUMIFS('Raw Commercial Country SnS+B2B'!$G:$G,'Raw Commercial Country SnS+B2B'!$B:$B,"FY19-Q2",'Raw Commercial Country SnS+B2B'!$C:$C,"Germany")),"") -> 0.13746863 | K6: 1053 | L6: =SUMIFS('Raw Commercial Country SnS+B2B'!$H:$H,'Raw Commercial Country SnS+B2B'!$B:$B,"FY20-Q3",'Raw Commercial Country SnS+B2B'!$C:$C,"Germany") -> 1039 | M6: =IFERROR(L6/K6,"") -> 0.98670465 | N6: =IF(Overview!M6>=99%,"Target Achieved","Target Missed") -> Target Missed | O6: =IFERROR((L6-K6)/K6,"") -> -0.013295347 | P6: =I6*(1.05) -> 15230.25 | Q6: =SUMIFS('Raw Commercial Country SnS+B2B'!$G:$G,'Raw Commercial Country SnS+B2B'!$B:$B,"FY20-Q3",'Raw Commercial Country SnS+B2B'!$C:$C,"Germany") -> 16427 | R6: =IFERROR(Q6/P6,"") -> 1.0785772 | S6: =IF(Overview!R6>=99%,"Target Achieved","Target Missed") -> Target Achieved | T6: =IFERROR((Q6-P6)/P6,"") -> 0.078577174 | U6: 1106 | V6: =IFERROR(((U6-SUMIFS('Raw Commercial Country SnS+B2B'!$H:$H,'Raw Commercial Country SnS+B2B'!$B:$B,"FY19-Q4",'Raw Commercial Country SnS+B2B'!$C:$C,"Germany")))/(SUMIFS('Raw Commercial Country SnS+B2B'!$H:$H,'Raw Commercial Country SnS+B2B'!$B:$B,"FY19-Q4",'Raw Commercial Country SnS+B2B'!$C:$C,"Germany")),"") -> 0.062439962 | W6: =Q6*(1.05) -> 17248.35 | X6: =IFERROR(((W6-SUMIFS('Raw Commercial Country SnS+B2B'!$G:$G,'Raw Commercial Country SnS+B2B'!$B:$B,"FY19-Q4",'Raw Commercial Country SnS+B2B'!$C:$C,"Germany")))/(SUMIFS('Raw Commercial Country SnS+B2B'!$G:$G,'Raw Commercial Country SnS+B2B'!$B:$B,"FY19-Q4",'Raw Commercial Country SnS+B2B'!$C:$C,"Germany")),"") -> 0.33739242
A7: SK | C7: =SUMIFS('Raw Commercial Country SnS+B2B'!$H:$H,'Raw Commercial Country SnS+B2B'!$B:$B,"FY20-Q1",'Raw Commercial Country SnS+B2B'!$C:$C,"Germany") -> 1000 | D7: =IFERROR(((SUMIFS('Raw Commercial Country SnS+B2B'!$H:$H,'Raw Commercial Country SnS+B2B'!$B:$B,"FY20-Q1",'Raw Commercial Country SnS+B2B'!$C:$C,"Germany")-SUMIFS('Raw Commercial Country SnS+B2B'!$H:$H,'Raw Commercial Country SnS+B2B'!$B:$B,"FY19-Q1",'Raw Commercial Country SnS+B2B'!$C:$C,"Germany")))/(SUMIFS('Raw Commercial Country SnS+B2B'!$H:$H,'Raw Commercial Country SnS+B2B'!$B:$B,"FY19-Q1",'Raw Commercial Country SnS+B2B'!$C:$C,"Germany")),"") -> 0.12233446 | E7: =SUMIFS('Raw Commercial Country SnS+B2B'!$G:$G,'Raw Commercial Country SnS+B2B'!$B:$B,"FY20-Q1",'Raw Commercial Country SnS+B2B'!$C:$C,"Germany") -> 12713 | F7: =IFERROR(((SUMIFS('Raw Commercial Country SnS+B2B'!$G:$G,'Raw Commercial Country SnS+B2B'!$B:$B,"FY20-Q1",'Raw Commercial Country SnS+B2B'!$C:$C,"Germany")-SUMIFS('Raw Commercial Country SnS+B2B'!$G:$G,'Raw Commercial Country SnS+B2B'!$B:$B,"FY19-Q1",'Raw Commercial Country SnS+B2B'!$C:$C,"Germany")))/(SUMIFS('Raw Commercial Country SnS+B2B'!$G:$G,'Raw Commercial Country SnS+B2B'!$B:$B,"FY19-Q1",'Raw Commercial Country SnS+B2B'!$C:$C,"Germany")),"") -> 0.10012115 | G7: =SUMIFS('Raw Commercial Country SnS+B2B'!$H:$H,'Raw Commercial Country SnS+B2B'!$B:$B,"FY20-Q2",'Raw Commercial Country SnS+B2B'!$C:$C,"Germany") -> 936 | H7: =IFERROR(((SUMIFS('Raw Commercial Country SnS+B2B'!$H:$H,'Raw Commercial Country SnS+B2B'!$B:$B,"FY20-Q2",'Raw Commercial Country SnS+B2B'!$C:$C,"Germany")-SUMIFS('Raw Commercial Country SnS+B2B'!$H:$H,'Raw Commercial Country SnS+B2B'!$B:$B,"FY19-Q2",'Raw Commercial Country SnS+B2B'!$C:$C,"Germany")))/(SUMIFS('Raw Commercial Country SnS+B2B'!$H:$H,'Raw Commercial Country SnS+B2B'!$B:$B,"FY19-Q2",'Raw Commercial Country SnS+B2B'!$C:$C,"Germany")),"") -> -0.035051546 | I7: =SUMIFS('Raw Commercial Country SnS+B2B'!$G:$G,'Raw Commercial Country SnS+B2B'!$B:$B,"FY20-Q2",'Raw Commercial Country SnS+B2B'!$C:$C,"Germany") -> 14505 | J7: =IFERROR(((SUMIFS('Raw Commercial Country SnS+B2B'!$G:$G,'Raw Commercial Country SnS+B2B'!$B:$B,"FY20-Q2",'Raw Commercial Country SnS+B2B'!$C:$C,"Germany")-SUMIFS('Raw Commercial Country SnS+B2B'!$G:$G,'Raw Commercial Country SnS+B2B'!$B:$B,"FY19-Q2",'Raw Commercial Country SnS+B2B'!$C:$C,"Germany")))/(SUMIFS('Raw Commercial Country SnS+B2B'!$G:$G,'Raw Commercial Country SnS+B2B'!$B:$B,"FY19-Q2",'Raw Commercial Country SnS+B2B'!$C:$C,"Germany")),"") -> 0.13746863 | K7: 274 | L7: =SUMIFS('Raw Commercial Country SnS+B2B'!$H:$H,'Raw Commercial Country SnS+B2B'!$B:$B,"FY20-Q3",'Raw Commercial Country SnS+B2B'!$C:$C,"Germany") -> 1039 | M7: =IFERROR(L7/K7,"") -> 3.7919708 | O7: =IFERROR((L7-K7)/K7,"") -> 2.7919708 | P7: =I7*(1.05) -> 15230.25 | Q7: =SUMIFS('Raw Commercial Country SnS+B2B'!$G:$G,'Raw Commercial Country SnS+B2B'!$B:$B,"FY20-Q3",'Raw Commercial Country SnS+B2B'!$C:$C,"Germany") -> 16427 | R7: =IFERROR(Q7/P7,"") -> 1.0785772 | T7: =IFERROR((Q7-P7)/P7,"") -> 0.078577174 | U7: 288 | V7: =IFERROR(((U7-SUMIFS('Raw Commercial Country SnS+B2B'!$H:$H,'Raw Commercial Country SnS+B2B'!$B:$B,"FY19-Q4",'Raw Commercial Country SnS+B2B'!$C:$C,"Germany")))/(SUMIFS('Raw Commercial Country SnS+B2B'!$H:$H,'Raw Commercial Country SnS+B2B'!$B:$B,"FY19-Q4",'Raw Commercial Country SnS+B2B'!$C:$C,"Germany")),"") -> -0.72334294 | W7: 13457 | X7: =IFERROR(((W7-SUMIFS('Raw Commercial Country SnS+B2B'!$G:$G,'Raw Commercial Country SnS+B2B'!$B:$B,"FY19-Q4",'Raw Commercial Country SnS+B2B'!$C:$C,"Germany")))/(SUMIFS('Raw Commercial Country SnS+B2B'!$G:$G,'Raw Commercial Country SnS+B2B'!$B:$B,"FY19-Q4",'Raw Commercial Country SnS+B2B'!$C:$C,"Germany")),"") -> 0.043420951
A8: Tech Data | C8: =SUMIFS('Raw Commercial Country SnS+B2B'!$H:$H,'Raw Commercial Country SnS+B2B'!$B:$B,"FY20-Q1",'Raw Commercial Country SnS+B2B'!$C:$C,"Germany") -> 1000 | D8: =IFERROR(((SUMIFS('Raw Commercial Country SnS+B2B'!$H:$H,'Raw Commercial Country SnS+B2B'!$B:$B,"FY20-Q1",'Raw Commercial Country SnS+B2B'!$C:$C,"Germany")-SUMIFS('Raw Commercial Country SnS+B2B'!$H:$H,'Raw Commercial Country SnS+B2B'!$B:$B,"FY19-Q1",'Raw Commercial Country SnS+B2B'!$C:$C,"Germany")))/(SUMIFS('Raw Commercial Country SnS+B2B'!$H:$H,'Raw Commercial Country SnS+B2B'!$B:$B,"FY19-Q1",'Raw Commercial Country SnS+B2B'!$C:$C,"Germany")),"") -> 0.12233446 | E8: =SUMIFS('Raw Commercial Country SnS+B2B'!$G:$G,'Raw Commercial Country SnS+B2B'!$B:$B,"FY20-Q1",'Raw Commercial Country SnS+B2B'!$C:$C,"Germany") -> 12713 | F8: =IFERROR(((SUMIFS('Raw Commercial Country SnS+B2B'!$G:$G,'Raw Commercial Country SnS+B2B'!$B:$B,"FY20-Q1",'Raw Commercial Country SnS+B2B'!$C:$C,"Germany")-SUMIFS('Raw Commercial Country SnS+B2B'!$G:$G,'Raw Commercial Country SnS+B2B'!$B:$B,"FY19-Q1",'Raw Commercial Country SnS+B2B'!$C:$C,"Germany")))/(SUMIFS('Raw Commercial Country SnS+B2B'!$G:$G,'Raw Commercial Country SnS+B2B'!$B:$B,"FY19-Q1",'Raw Commercial Country SnS+B2B'!$C:$C,"Germany")),"") -> 0.10012115 | G8: =SUMIFS('Raw Commercial Country SnS+B2B'!$H:$H,'Raw Commercial Country SnS+B2B'!$B:$B,"FY20-Q2",'Raw Commercial Country SnS+B2B'!$C:$C,"Germany") -> 936 | H8: =IFERROR(((SUMIFS('Raw Commercial Country SnS+B2B'!$H:$H,'Raw Commercial Country SnS+B2B'!$B:$B,"FY20-Q2",'Raw Commercial Country SnS+B2B'!$C:$C,"Germany")-SUMIFS('Raw Commercial Country SnS+B2B'!$H:$H,'Raw Commercial Country SnS+B2B'!$B:$B,"FY19-Q2",'Raw Commercial Country SnS+B2B'!$C:$C,"Germany")))/(SUMIFS('Raw Commercial Country SnS+B2B'!$H:$H,'Raw Commercial Country SnS+B2B'!$B:$B,"FY19-Q2",'Raw Commercial Country SnS+B2B'!$C:$C,"Germany")),"") -> -0.035051546 | I8: =SUMIFS('Raw Commercial Country SnS+B2B'!$G:$G,'Raw Commercial Country SnS+B2B'!$B:$B,"FY20-Q2",'Raw Commercial Country SnS+B2B'!$C:$C,"Germany") -> 14505 | J8: =IFERROR(((SUMIFS('Raw Commercial Country SnS+B2B'!$G:$G,'Raw Commercial Country SnS+B2B'!$B:$B,"FY20-Q2",'Raw Commercial Country SnS+B2B'!$C:$C,"Germany")-SUMIFS('Raw Commercial Country SnS+B2B'!$G:$G,'Raw Commercial Country SnS+B2B'!$B:$B,"FY19-Q2",'Raw Commercial Country SnS+B2B'!$C:$C,"Germany")))/(SUMIFS('Raw Commercial Country SnS+B2B'!$G:$G,'Raw Commercial Country SnS+B2B'!$B:$B,"FY19-Q2",'Raw Commercial Country SnS+B2B'!$C:$C,"Germany")),"") -> 0.13746863 | K8: 384 | L8: =SUMIFS('Raw Commercial Country SnS+B2B'!$H:$H,'Raw Commercial Country SnS+B2B'!$B:$B,"FY20-Q3",'Raw Commercial Country SnS+B2B'!$C:$C,"Germany") -> 1039 | M8: =IFERROR(L8/K8,"") -> 2.7057292 | O8: =IFERROR((L8-K8)/K8,"") -> 1.7057292 | P8: =I8*(1.05) -> 15230.25 | Q8: =SUMIFS('Raw Commercial Country SnS+B2B'!$G:$G,'Raw Commercial Country SnS+B2B'!$B:$B,"FY20-Q3",'Raw Commercial Country SnS+B2B'!$C:$C,"Germany") -> 16427 | R8: =IFERROR(Q8/P8,"") -> 1.0785772 | T8: =IFERROR((Q8-P8)/P8,"") -> 0.078577174 | U8: 403 | V8: =IFERROR(((U8-SUMIFS('Raw Commercial Country SnS+B2B'!$H:$H,'Raw Commercial Country SnS+B2B'!$B:$B,"FY19-Q4",'Raw Commercial Country SnS+B2B'!$C:$C,"Germany")))/(SUMIFS('Raw Commercial Country SnS+B2B'!$H:$H,'Raw Commercial Country SnS+B2B'!$B:$B,"FY19-Q4",'Raw Commercial Country SnS+B2B'!$C:$C,"Germany")),"") -> -0.61287224 | W8: 10578 | X8: =IFERROR(((W8-SUMIFS('Raw Commercial Country SnS+B2B'!$G:$G,'Raw Commercial Country SnS+B2B'!$B:$B,"FY19-Q4",'Raw Commercial Country SnS+B2B'!$C:$C,"Germany")))/(SUMIFS('Raw Commercial Country SnS+B2B'!$G:$G,'Raw Commercial Country SnS+B2B'!$B:$B,"FY19-Q4",'Raw Commercial Country SnS+B2B'!$C:$C,"Germany")),"") -> -0.17980926
A9: Ingram | C9: =SUMIFS('Raw Commercial Country SnS+B2B'!$H:$H,'Raw Commercial Country SnS+B2B'!$B:$B,"FY20-Q1",'Raw Commercial Country SnS+B2B'!$C:$C,"Germany") -> 1000 | D9: =IFERROR(((SUMIFS('Raw Commercial Country SnS+B2B'!$H:$H,'Raw Commercial Country SnS+B2B'!$B:$B,"FY20-Q1",'Raw Commercial Country SnS+B2B'!$C:$C,"Germany")-SUMIFS('Raw Commercial Country SnS+B2B'!$H:$H,'Raw Commercial Country SnS+B2B'!$B:$B,"FY19-Q1",'Raw Commercial Country SnS+B2B'!$C:$C,"Germany")))/(SUMIFS('Raw Commercial Country SnS+B2B'!$H:$H,'Raw Commercial Country SnS+B2B'!$B:$B,"FY19-Q1",'Raw Commercial Country SnS+B2B'!$C:$C,"Germany")),"") -> 0.12233446 | E9: =SUMIFS('Raw Commercial Country SnS+B2B'!$G:$G,'Raw Commercial Country SnS+B2B'!$B:$B,"FY20-Q1",'Raw Commercial Country SnS+B2B'!$C:$C,"Germany") -> 12713 | F9: =IFERROR(((SUMIFS('Raw Commercial Country SnS+B2B'!$G:$G,'Raw Commercial Country SnS+B2B'!$B:$B,"FY20-Q1",'Raw Commercial Country SnS+B2B'!$C:$C,"Germany")-SUMIFS('Raw Commercial Country SnS+B2B'!$G:$G,'Raw Commercial Country SnS+B2B'!$B:$B,"FY19-Q1",'Raw Commercial Country SnS+B2B'!$C:$C,"Germany")))/(SUMIFS('Raw Commercial Country SnS+B2B'!$G:$G,'Raw Commercial Country SnS+B2B'!$B:$B,"FY19-Q1",'Raw Commercial Country SnS+B2B'!$C:$C,"Germany")),"") -> 0.10012115 | G9: =SUMIFS('Raw Commercial Country SnS+B2B'!$H:$H,'Raw Commercial Country SnS+B2B'!$B:$B,"FY20-Q2",'Raw Commercial Country SnS+B2B'!$C:$C,"Germany") -> 936 | H9: =IFERROR(((SUMIFS('Raw Commercial Country SnS+B2B'!$H:$H,'Raw Commercial Country SnS+B2B'!$B:$B,"FY20-Q2",'Raw Commercial Country SnS+B2B'!$C:$C,"Germany")-SUMIFS('Raw Commercial Country SnS+B2B'!$H:$H,'Raw Commercial Country SnS+B2B'!$B:$B,"FY19-Q2",'Raw Commercial Country SnS+B2B'!$C:$C,"Germany")))/(SUMIFS('Raw Commercial Country SnS+B2B'!$H:$H,'Raw Commercial Country SnS+B2B'!$B:$B,"FY19-Q2",'Raw Commercial Country SnS+B2B'!$C:$C,"Germany")),"") -> -0.035051546 | I9: =SUMIFS('Raw Commercial Country SnS+B2B'!$G:$G,'Raw Commercial Country SnS+B2B'!$B:$B,"FY20-Q2",'Raw Commercial Country SnS+B2B'!$C:$C,"Germany") -> 14505 | J9: =IFERROR(((SUMIFS('Raw Commercial Country SnS+B2B'!$G:$G,'Raw Commercial Country SnS+B2B'!$B:$B,"FY20-Q2",'Raw Commercial Country SnS+B2B'!$C:$C,"Germany")-SUMIFS('Raw Commercial Country SnS+B2B'!$G:$G,'Raw Commercial Country SnS+B2B'!$B:$B,"FY19-Q2",'Raw Commercial Country SnS+B2B'!$C:$C,"Germany")))/(SUMIFS('Raw Commercial Country SnS+B2B'!$G:$G,'Raw Commercial Country SnS+B2B'!$B:$B,"FY19-Q2",'Raw Commercial Country SnS+B2B'!$C:$C,"Germany")),"") -> 0.13746863 | K9: 395 | L9: =SUMIFS('Raw Commercial Country SnS+B2B'!$H:$H,'Raw Commercial Country SnS+B2B'!$B:$B,"FY20-Q3",'Raw Commercial Country SnS+B2B'!$C:$C,"Germany") -> 1039 | M9: =IFERROR(L9/K9,"") -> 2.6303797 | O9: =IFERROR((L9-K9)/K9,"") -> 1.6303797 | P9: =I9*(1.05) -> 15230.25 | Q9: =SUMIFS('Raw Commercial Country SnS+B2B'!$G:$G,'Raw Commercial Country SnS+B2B'!$B:$B,"FY20-Q3",'Raw Commercial Country SnS+B2B'!$C:$C,"Germany") -> 16427 | R9: =IFERROR(Q9/P9,"") -> 1.0785772 | T9: =IFERROR((Q9-P9)/P9,"") -> 0.078577174 | U9: 415 | V9: =IFERROR(((U9-SUMIFS('Raw Commercial Country SnS+B2B'!$H:$H,'Raw Commercial Country SnS+B2B'!$B:$B,"FY19-Q4",'Raw Commercial Country SnS+B2B'!$C:$C,"Germany")))/(SUMIFS('Raw Commercial Country SnS+B2B'!$H:$H,'Raw Commercial Country SnS+B2B'!$B:$B,"FY19-Q4",'Raw Commercial Country SnS+B2B'!$C:$C,"Germany")),"") -> -0.60134486 | W9: 6532 | X9: =IFERROR(((W9-SUMIFS('Raw Commercial Country SnS+B2B'!$G:$G,'Raw Commercial Country SnS+B2B'!$B:$B,"FY19-Q4",'Raw Commercial Country SnS+B2B'!$C:$C,"Germany")))/(SUMIFS('Raw Commercial Country SnS+B2B'!$G:$G,'Raw Commercial Country SnS+B2B'!$B:$B,"FY19-Q4",'Raw Commercial Country SnS+B2B'!$C:$C,"Germany")),"") -> -0.49352563
A10: France (total) | B10: CSG SnS | C10: =SUMIFS('Raw CSG Country SnS'!$H:$H,'Raw CSG Country SnS'!$B:$B,"FY20-Q1",'Raw CSG Country SnS'!$C:$C,"France") -> 1835 | D10: =IFERROR(((SUMIFS('Raw CSG Country SnS'!$H:$H,'Raw CSG Country SnS'!$B:$B,"FY20-Q1",'Raw CSG Country SnS'!$C:$C,"France")-SUMIFS('Raw CSG Country SnS'!$H:$H,'Raw CSG Country SnS'!$B:$B,"FY19-Q1",'Raw CSG Country SnS'!$C:$C,"France")))/(SUMIFS('Raw CSG Country SnS'!$H:$H,'Raw CSG Country SnS'!$B:$B,"FY19-Q1",'Raw CSG Country SnS'!$C:$C,"France")),"") -> 0.047374429 | E10: =SUMIFS('Raw CSG Country SnS'!$G:$G,'Raw CSG Country SnS'!$B:$B,"FY20-Q1",'Raw CSG Country SnS'!$C:$C,"France") -> 8648 | F10: =IFERROR(((SUMIFS('Raw CSG Country SnS'!$G:$G,'Raw CSG Country SnS'!$B:$B,"FY20-Q1",'Raw CSG Country SnS'!$C:$C,"France")-SUMIFS('Raw CSG Country SnS'!$G:$G,'Raw CSG Country SnS'!$B:$B,"FY19-Q1",'Raw CSG Country SnS'!$C:$C,"France")))/(SUMIFS('Raw CSG Country SnS'!$G:$G,'Raw CSG Country SnS'!$B:$B,"FY19-Q1",'Raw CSG Country SnS'!$C:$C,"France")),"") -> 0.053734617 | G10: =SUMIFS('Raw CSG Country SnS'!$H:$H,'Raw CSG Country SnS'!$B:$B,"FY20-Q2",'Raw CSG Country SnS'!$C:$C,"France") -> 1805 | H10: =IFERROR(((SUMIFS('Raw CSG Country SnS'!$H:$H,'Raw CSG Country SnS'!$B:$B,"FY20-Q2",'Raw CSG Country SnS'!$C:$C,"France")-SUMIFS('Raw CSG Country SnS'!$H:$H,'Raw CSG Country SnS'!$B:$B,"FY19-Q2",'Raw CSG Country SnS'!$C:$C,"France")))/(SUMIFS('Raw CSG Country SnS'!$H:$H,'Raw CSG Country SnS'!$B:$B,"FY19-Q2",'Raw CSG Country SnS'!$C:$C,"France")),"") -> 0.039147956 | I10: =SUMIFS('Raw CSG Country SnS'!$G:$G,'Raw CSG Country SnS'!$B:$B,"FY20-Q2",'Raw CSG Country SnS'!$C:$C,"France") -> 9085 | J10: =IFERROR(((SUMIFS('Raw CSG Country SnS'!$G:$G,'Raw CSG Country SnS'!$B:$B,"FY20-Q2",'Raw CSG Country SnS'!$C:$C,"France")-SUMIFS('Raw CSG Country SnS'!$G:$G,'Raw CSG Country SnS'!$B:$B,"FY19-Q2",'Raw CSG Country SnS'!$C:$C,"France")))/(SUMIFS('Raw CSG Country SnS'!$G:$G,'Raw CSG Country SnS'!$B:$B,"FY19-Q2",'Raw CSG Country SnS'!$C:$C,"France")),"") -> 0.078978622 | K10: na | L10: =SUMIFS('Raw CSG Country SnS'!$H:$H,'Raw CSG Country SnS'!$B:$B,"FY20-Q3",'Raw CSG Country SnS'!$C:$C,"France") -> 1772 | M10: =IFERROR(L10/K10,"") | O10: =IFERROR((L10-K10)/K10,"") | P10: =I10*(1.05) -> 9539.25 | Q10: =SUMIFS('Raw CSG Country SnS'!$G:$G,'Raw CSG Country SnS'!$B:$B,"FY20-Q3",'Raw CSG Country SnS'!$C:$C,"France") -> 8926 | R10: =IFERROR(Q10/P10,"") -> 0.93571298 | T10: =IFERROR((Q10-P10)/P10,"") -> -0.064287025 | U10: 2226 | V10: =IFERROR(((U10-SUMIFS('Raw CSG Country SnS'!$H:$H,'Raw CSG Country SnS'!$B:$B,"FY19-Q4",'Raw CSG Country SnS'!$C:$C,"France")))/(SUMIFS('Raw CSG Country SnS'!$H:$H,'Raw CSG Country SnS'!$B:$B,"FY19-Q4",'Raw CSG Country SnS'!$C:$C,"France")),"") -> 0.18278427 | W10: 9760 | X10: =IFERROR(((W10-SUMIFS('Raw CSG Country SnS'!$G:$G,'Raw CSG Country SnS'!$B:$B,"FY19-Q4",'Raw CSG Country SnS'!$C:$C,"France")))/(SUMIFS('Raw CSG Country SnS'!$G:$G,'Raw CSG Country SnS'!$B:$B,"FY19-Q4",'Raw CSG Country SnS'!$C:$C,"France")),"") -> 0.087344029
A11: Ingram | K11: 506 | M11: =IFERROR(L11/K11,"") -> 0 | O11: =IFERROR((L11-K11)/K11,"") -> -1 | P11: =I11*(1.05) -> 0 | R11: =IFERROR(Q11/P11,"") | T11: =IFERROR((Q11-P11)/P11,"") | U11: 674 | W11: 5800
A12: Tech Data | K12: 1325 | M12: =IFERROR(L12/K12,"") -> 0 | O12: =IFERROR((L12-K12)/K12,"") -> -1 | P12: =I12*(1.05) -> 0 | R12: =IFERROR(Q12/P12,"") | T12: =IFERROR((Q12-P12)/P12,"") | U12: 1714 | W12: 7600
A13: MCA | K13: 358 | M13: =IFERROR(L13/K13,"") -> 0 | O13: =IFERROR((L13-K13)/K13,"") -> -1 | P13: =I13*(1.05) -> 0 | R13: =IFERROR(Q13/P13,"") | T13: =IFERROR((Q13-P13)/P13,"") | U13: 473 | W13: 10100
A14: UK only (total) | B14: Client Commercial SnS + BTB | C14: =SUMIFS('Raw Commercial Country SnS+B2B'!$H:$H,'Raw Commercial Country SnS+B2B'!$B:$B,"FY20-Q1",'Raw Commercial Country SnS+B2B'!$C:$C,"United Kingdom") -> 1144 | D14: =IFERROR(((SUMIFS('Raw Commercial Country SnS+B2B'!$H:$H,'Raw Commercial Country SnS+B2B'!$B:$B,"FY20-Q1",'Raw Commercial Country SnS+B2B'!$C:$C,"United Kingdom")-SUMIFS('Raw Commercial Country SnS+B2B'!$H:$H,'Raw Commercial Country SnS+B2B'!$B:$B,"FY19-Q1",'Raw Commercial Country SnS+B2B'!$C:$C,"United Kingdom")))/(SUMIFS('Raw Commercial Country SnS+B2B'!$H:$H,'Raw Commercial Country SnS+B2B'!$B:$B,"FY19-Q1",'Raw Commercial Country SnS+B2B'!$C:$C,"United Kingdom")),"") -> 0.10318226 | E14: =SUMIFS('Raw Commercial Country SnS+B2B'!$G:$G,'Raw Commercial Country SnS+B2B'!$B:$B,"FY20-Q1",'Raw Commercial Country SnS+B2B'!$C:$C,"United Kingdom") -> 15131 | F14: =IFERROR(((SUMIFS('Raw Commercial Country SnS+B2B'!$G:$G,'Raw Commercial Country SnS+B2B'!$B:$B,"FY20-Q1",'Raw Commercial Country SnS+B2B'!$C:$C,"United Kingdom")-SUMIFS('Raw Commercial Country SnS+B2B'!$G:$G,'Raw Commercial Country SnS+B2B'!$B:$B,"FY19-Q1",'Raw Commercial Country SnS+B2B'!$C:$C,"United Kingdom")))/(SUMIFS('Raw Commercial Country SnS+B2B'!$G:$G,'Raw Commercial Country SnS+B2B'!$B:$B,"FY19-Q1",'Raw Commercial Country SnS+B2B'!$C:$C,"United Kingdom")),"") -> 0.079397917 | G14: =SUMIFS('Raw Commercial Country SnS+B2B'!$H:$H,'Raw Commercial Country SnS+B2B'!$B:$B,"FY20-Q2",'Raw Commercial Country SnS+B2B'!$C:$C,"United Kingdom") -> 1120 | H14: =IFERROR(((SUMIFS('Raw Commercial Country SnS+B2B'!$H:$H,'Raw Commercial Country SnS+B2B'!$B:$B,"FY20-Q2",'Raw Commercial Country SnS+B2B'!$C:$C,"United Kingdom")-SUMIFS('Raw Commercial Country SnS+B2B'!$H:$H,'Raw Commercial Country SnS+B2B'!$B:$B,"FY19-Q2",'Raw Commercial Country SnS+B2B'!$C:$C,"United Kingdom")))/(SUMIFS('Raw Commercial Country SnS+B2B'!$H:$H,'Raw Commercial Country SnS+B2B'!$B:$B,"FY19-Q2",'Raw Commercial Country SnS+B2B'!$C:$C,"United Kingdom")),"") -> 0.05065666 | I14: =SUMIFS('Raw Commercial Country SnS+B2B'!$G:$G,'Raw Commercial Country SnS+B2B'!$B:$B,"FY20-Q2",'Raw Commercial Country SnS+B2B'!$C:$C,"United Kingdom") -> 16315 | J14: =IFERROR(((SUMIFS('Raw Commercial Country SnS+B2B'!$G:$G,'Raw Commercial Country SnS+B2B'!$B:$B,"FY20-Q2",'Raw Commercial Country SnS+B2B'!$C:$C,"United Kingdom")-SUMIFS('Raw Commercial Country SnS+B2B'!$G:$G,'Raw Commercial Country SnS+B2B'!$B:$B,"FY19-Q2",'Raw Commercial Country SnS+B2B'!$C:$C,"United Kingdom")))/(SUMIFS('Raw Commercial Country SnS+B2B'!$G:$G,'Raw Commercial Country SnS+B2B'!$B:$B,"FY19-Q2",'Raw Commercial Country SnS+B2B'!$C:$C,"United Kingdom")),"") -> 0.19235548 | K14: 1302 | L14: =SUMIFS('Raw Commercial Country SnS+B2B'!$H:$H,'Raw Commercial Country SnS+B2B'!$B:$B,"FY20-Q3",'Raw Commercial Country SnS+B2B'!$C:$C,"United Kingdom") -> 1124 | M14: =IFERROR(L14/K14,"") -> 0.86328725 | O14: =IFERROR((L14-K14)/K14,"") -> -0.13671275 | P14: =I14*(1.05) -> 17130.75 | Q14: =SUMIFS('Raw Commercial Country SnS+B2B'!$G:$G,'Raw Commercial Country SnS+B2B'!$B:$B,"FY20-Q3",'Raw Commercial Country SnS+B2B'!$C:$C,"United Kingdom") -> 16529 | R14: =IFERROR(Q14/P14,"") -> 0.96487311 | T14: =IFERROR((Q14-P14)/P14,"") -> -0.035126892 | U14: 1484 | V14: =IFERROR(((U14-SUMIFS('Raw Commercial Country SnS+B2B'!$H:$H,'Raw Commercial Country SnS+B2B'!$B:$B,"FY19-Q4",'Raw Commercial Country SnS+B2B'!$C:$C,"United Kingdom")))/(SUMIFS('Raw Commercial Country SnS+B2B'!$H:$H,'Raw Commercial Country SnS+B2B'!$B:$B,"FY19-Q4",'Raw Commercial Country SnS+B2B'!$C:$C,"United Kingdom")),"") -> 0.41468065 | W14: 11759 | X14: =IFERROR(((W14-SUMIFS('Raw Commercial Country SnS+B2B'!$G:$G,'Raw Commercial Country SnS+B2B'!$B:$B,"FY19-Q4",'Raw Commercial Country SnS+B2B'!$C:$C,"United Kingdom")))/(SUMIFS('Raw Commercial Country SnS+B2B'!$G:$G,'Raw Commercial Country SnS+B2B'!$B:$B,"FY19-Q4",'Raw Commercial Country SnS+B2B'!$C:$C,"United Kingdom")),"") -> -0.054894711
A15: Tech Data | K15: 691 | M15: =IFERROR(L15/K15,"") -> 0 | O15: =IFERROR((L15-K15)/K15,"") -> -1 | P15: =I15*(1.05) -> 0 | R15: =IFERROR(Q15/P15,"") | T15: =IFERROR((Q15-P15)/P15,"") | U15: 684 | W15: 9207
A16: Ingram | K16: 552 | M16: =IFERROR(L16/K16,"") -> 0 | O16: =IFERROR((L16-K16)/K16,"") -> -1 | P16: =I16*(1.05) -> 0 | R16: =IFERROR(Q16/P16,"") | T16: =IFERROR((Q16-P16)/P16,"") | U16: 565 | W16: 8981
A17: Exertis | K17: 405 | M17: =IFERROR(L17/K17,"") -> 0 | O17: =IFERROR((L17-K17)/K17,"") -> -1 | P17: =I17*(1.05) -> 0 | R17: =IFERROR(Q17/P17,"") | T17: =IFERROR((Q17-P17)/P17,"") | U17: 376 | W17: 10368.09
A18: WER | B18: CSG SnS | C18: =SUMIFS('Raw CSG WER SnS'!$G:$G,'Raw CSG WER SnS'!$B:$B,"FY20-Q1",'Raw CSG WER SnS'!$C:$C,"WER") -> 4745 | D18: =IFERROR(((SUMIFS('Raw CSG WER SnS'!$G:$G,'Raw CSG WER SnS'!$B:$B,"FY20-Q1",'Raw CSG WER SnS'!$C:$C,"WER")-SUMIFS('Raw CSG WER SnS'!$G:$G,'Raw CSG WER SnS'!$B:$B,"FY19-Q1",'Raw CSG WER SnS'!$C:$C,"WER")))/(SUMIFS('Raw CSG WER SnS'!$G:$G,'Raw CSG WER SnS'!$B:$B,"FY19-Q1",'Raw CSG WER SnS'!$C:$C,"WER")),"") -> 0.076940536 | E18: =SUMIFS('Raw CSG WER SnS'!$F:$F,'Raw CSG WER SnS'!$B:$B,"FY20-Q1",'Raw CSG WER SnS'!$C:$C,"WER") -> 9668 | F18: =IFERROR(((SUMIFS('Raw CSG WER SnS'!$F:$F,'Raw CSG WER SnS'!$B:$B,"FY20-Q1",'Raw CSG WER SnS'!$C:$C,"WER")-SUMIFS('Raw CSG WER SnS'!$F:$F,'Raw CSG WER SnS'!$B:$B,"FY19-Q1",'Raw CSG WER SnS'!$C:$C,"WER")))/(SUMIFS('Raw CSG WER SnS'!$F:$F,'Raw CSG WER SnS'!$B:$B,"FY19-Q1",'Raw CSG WER SnS'!$C:$C,"WER")),"") -> 0.031253333 | G18: =SUMIFS('Raw CSG WER SnS'!$G:$G,'Raw CSG WER SnS'!$B:$B,"FY20-Q2",'Raw CSG WER SnS'!$C:$C,"WER") -> 4399 | H18: =IFERROR(((SUMIFS('Raw CSG WER SnS'!$G:$G,'Raw CSG WER SnS'!$B:$B,"FY20-Q2",'Raw CSG WER SnS'!$C:$C,"WER")-SUMIFS('Raw CSG WER SnS'!$G:$G,'Raw CSG WER SnS'!$B:$B,"FY19-Q2",'Raw CSG WER SnS'!$C:$C,"WER")))/(SUMIFS('Raw CSG WER SnS'!$G:$G,'Raw CSG WER SnS'!$B:$B,"FY19-Q2",'Raw CSG WER SnS'!$C:$C,"WER")),"") -> -0.012126656 | I18: =SUMIFS('Raw CSG WER SnS'!$F:$F,'Raw CSG WER SnS'!$B:$B,"FY20-Q2",'Raw CSG WER SnS'!$C:$C,"WER") -> 8852 | J18: =IFERROR(((SUMIFS('Raw CSG WER SnS'!$F:$F,'Raw CSG WER SnS'!$B:$B,"FY20-Q2",'Raw CSG WER SnS'!$C:$C,"WER")-SUMIFS('Raw CSG WER SnS'!$F:$F,'Raw CSG WER SnS'!$B:$B,"FY19-Q2",'Raw CSG WER SnS'!$C:$C,"WER")))/(SUMIFS('Raw CSG WER SnS'!$F:$F,'Raw CSG WER SnS'!$B:$B,"FY19-Q2",'Raw CSG WER SnS'!$C:$C,"WER")),"") -> 0.034353821 | K18: 5903 | L18: =SUMIFS('Raw CSG WER SnS'!$G:$G,'Raw CSG WER SnS'!$B:$B,"FY20-Q3",'Raw CSG WER SnS'!$C:$C,"WER") -> 4499 | M18: =IFERROR(L18/K18,"") -> 0.76215484 | O18: =IFERROR((L18-K18)/K18,"") -> -0.23784516 | P18: =I18*(1.05) -> 9294.6 | Q18: =SUMIFS('Raw CSG WER SnS'!$F:$F,'Raw CSG WER SnS'!$B:$B,"FY20-Q3",'Raw CSG WER SnS'!$C:$C,"WER") -> 9598 | R18: =IFERROR(Q18/P18,"") -> 1.0326426 | T18: =IFERROR((Q18-P18)/P18,"") -> 0.03264261 | U18: 6882 | V18: =IFERROR(((U18-SUMIFS('Raw CSG WER SnS'!$G:$G,'Raw CSG WER SnS'!$B:$B,"FY19-Q4",'Raw CSG WER SnS'!$C:$C,"WER")))/(SUMIFS('Raw CSG WER SnS'!$G:$G,'Raw CSG WER SnS'!$B:$B,"FY19-Q4",'Raw CSG WER SnS'!$C:$C,"WER")),"") -> 0.43584394 | W18: 11203 | X18: =IFERROR(((W18-SUMIFS('Raw CSG WER SnS'!$F:$F,'Raw CSG WER SnS'!$B:$B,"FY19-Q4",'Raw CSG WER SnS'!$C:$C,"WER")))/(SUMIFS('Raw CSG WER SnS'!$F:$F,'Raw CSG WER SnS'!$B:$B,"FY19-Q4",'Raw CSG WER SnS'!$C:$C,"WER")),"") -> 0.17407252
A19: NL | C19: =SUMIFS('Raw CSG Country SnS'!$H:$H,'Raw CSG Country SnS'!$B:$B,"FY20-Q1",'Raw CSG Country SnS'!$D:$D,"Netherlands") -> 785 | D19: =IFERROR(((SUMIFS('Raw CSG Country SnS'!$H:$H,'Raw CSG Country SnS'!$B:$B,"FY20-Q1",'Raw CSG Country SnS'!$D:$D,"Netherlands")-SUMIFS('Raw CSG Country SnS'!$H:$H,'Raw CSG Country SnS'!$B:$B,"FY19-Q1",'Raw CSG Country SnS'!$D:$D,"Netherlands")))/(SUMIFS('Raw CSG Country SnS'!$H:$H,'Raw CSG Country SnS'!$B:$B,"FY19-Q1",'Raw CSG Country SnS'!$D:$D,"Netherlands")),"") -> 0.15611193 | E19: =SUMIFS('Raw CSG Country SnS'!$G:$G,'Raw CSG Country SnS'!$B:$B,"FY20-Q1",'Raw CSG Country SnS'!$D:$D,"Netherlands") -> 13046 | F19: =IFERROR(((SUMIFS('Raw CSG Country SnS'!$G:$G,'Raw CSG Country SnS'!$B:$B,"FY20-Q1",'Raw CSG Country SnS'!$D:$D,"Netherlands")-SUMIFS('Raw CSG Country SnS'!$G:$G,'Raw CSG Country SnS'!$B:$B,"FY19-Q1",'Raw CSG Country SnS'!$D:$D,"Netherlands")))/(SUMIFS('Raw CSG Country SnS'!$G:$G,'Raw CSG Country SnS'!$B:$B,"FY19-Q1",'Raw CSG Country SnS'!$D:$D,"Netherlands")),"") -> 0.11133827 | G19: =SUMIFS('Raw CSG Country SnS'!$H:$H,'Raw CSG Country SnS'!$B:$B,"FY20-Q2",'Raw CSG Country SnS'!$D:$D,"Netherlands") -> 747 | H19: =IFERROR(((SUMIFS('Raw CSG Country SnS'!$H:$H,'Raw CSG Country SnS'!$B:$B,"FY20-Q2",'Raw CSG Country SnS'!$D:$D,"Netherlands")-SUMIFS('Raw CSG Country SnS'!$H:$H,'Raw CSG Country SnS'!$B:$B,"FY19-Q2",'Raw CSG Country SnS'!$D:$D,"Netherlands")))/(SUMIFS('Raw CSG Country SnS'!$H:$H,'Raw CSG Country SnS'!$B:$B,"FY19-Q2",'Raw CSG Country SnS'!$D:$D,"Netherlands")),"") -> 0.046218487 | I19: =SUMIFS('Raw CSG Country SnS'!$G:$G,'Raw CSG Country SnS'!$B:$B,"FY20-Q2",'Raw CSG Country SnS'!$D:$D,"Netherlands") -> 9912 | J19: =IFERROR(((SUMIFS('Raw CSG Country SnS'!$G:$G,'Raw CSG Country SnS'!$B:$B,"FY20-Q2",'Raw CSG Country SnS'!$D:$D,"Netherlands")-SUMIFS('Raw CSG Country SnS'!$G:$G,'Raw CSG Country SnS'!$B:$B,"FY19-Q2",'Raw CSG Country SnS'!$D:$D,"Netherlands")))/(SUMIFS('Raw CSG Country SnS'!$G:$G,'Raw CSG Country SnS'!$B:$B,"FY19-Q2",'Raw CSG Country SnS'!$D:$D,"Netherlands")),"") -> 0.0097799511 | K19: 800 | L19: =SUMIFS('Raw CSG Country SnS'!$H:$H,'Raw CSG Country SnS'!$B:$B,"FY20-Q3",'Raw CSG Country SnS'!$D:$D,"Netherlands") -> 766 | M19: =IFERROR(L19/K19,"") -> 0.9575 | O19: =IFERROR((L19-K19)/K19,"") -> -0.0425 | P19: =I19*(1.05) -> 10407.6 | Q19: =SUMIFS('Raw CSG Country SnS'!$G:$G,'Raw CSG Country SnS'!$B:$B,"FY20-Q3",'Raw CSG Country SnS'!$D:$D,"Netherlands") -> 11705 | R19: =IFERROR(Q19/P19,"") -> 1.1246589 | T19: =IFERROR((Q19-P19)/P19,"") -> 0.1246589 | U19: 950 | V19: =IFERROR(((U19-SUMIFS('Raw CSG Country SnS'!$H:$H,'Raw CSG Country SnS'!$B:$B,"FY19-Q4",'Raw CSG Country SnS'!$D:$D,"Netherlands")))/(SUMIFS('Raw CSG Country SnS'!$H:$H,'Raw CSG Country SnS'!$B:$B,"FY19-Q4",'Raw CSG Country SnS'!$D:$D,"Netherlands")),"") -> 0.19798235 | W19: 15390 | X19: =IFERROR(((W19-SUMIFS('Raw CSG Country SnS'!$G:$G,'Raw CSG Country SnS'!$B:$B,"FY19-Q4",'Raw CSG Country SnS'!$D:$D,"Netherlands")))/(SUMIFS('Raw CSG Country SnS'!$G:$G,'Raw CSG Country SnS'!$B:$B,"FY19-Q4",'Raw CSG Country SnS'!$D:$D,"Netherlands")),"") -> 0.26365055
A20: BLX | C20: =SUMIFS('RAW CSG BLX SnS'!$G:$G,'RAW CSG BLX SnS'!$B:$B,"FY20-Q1",'RAW CSG BLX SnS'!$C:$C,"WER") -> 602 | D20: =IFERROR(((SUMIFS('RAW CSG BLX SnS'!$G:$G,'RAW CSG BLX SnS'!$B:$B,"FY20-Q1",'RAW CSG BLX SnS'!$C:$C,"WER")-SUMIFS('RAW CSG BLX SnS'!$G:$G,'RAW CSG BLX SnS'!$B:$B,"FY19-Q1",'RAW CSG BLX SnS'!$C:$C,"WER")))/(SUMIFS('RAW CSG BLX SnS'!$G:$G,'RAW CSG BLX SnS'!$B:$B,"FY19-Q1",'RAW CSG BLX SnS'!$C:$C,"WER")),"") -> 0.14448669 | E20: =SUMIFS('RAW CSG BLX SnS'!$F:$F,'RAW CSG BLX SnS'!$B:$B,"FY20-Q1",'RAW CSG BLX SnS'!$C:$C,"WER") -> 6348 | F20: =IFERROR(((SUMIFS('RAW CSG BLX SnS'!$F:$F,'RAW CSG BLX SnS'!$B:$B,"FY20-Q1",'RAW CSG BLX SnS'!$C:$C,"WER")-SUMIFS('RAW CSG BLX SnS'!$F:$F,'RAW CSG BLX SnS'!$B:$B,"FY19-Q1",'RAW CSG BLX SnS'!$C:$C,"WER")))/(SUMIFS('RAW CSG BLX SnS'!$F:$F,'RAW CSG BLX SnS'!$B:$B,"FY19-Q1",'RAW CSG BLX SnS'!$C:$C,"WER")),"") -> -0.010444271 | G20: =SUMIFS('RAW CSG BLX SnS'!$G:$G,'RAW CSG BLX SnS'!$B:$B,"FY20-Q2",'RAW CSG BLX SnS'!$C:$C,"WER") -> 546 | H20: =IFERROR(((SUMIFS('RAW CSG BLX SnS'!$G:$G,'RAW CSG BLX SnS'!$B:$B,"FY20-Q2",'RAW CSG BLX SnS'!$C:$C,"WER")-SUMIFS('RAW CSG BLX SnS'!$G:$G,'RAW CSG BLX SnS'!$B:$B,"FY19-Q2",'RAW CSG BLX SnS'!$C:$C,"WER")))/(SUMIFS('RAW CSG BLX SnS'!$G:$G,'RAW CSG BLX SnS'!$B:$B,"FY19-Q2",'RAW CSG BLX SnS'!$C:$C,"WER")),"") -> 0.043977055 | I20: =SUMIFS('RAW CSG BLX SnS'!$F:$F,'RAW CSG BLX SnS'!$B:$B,"FY20-Q2",'RAW CSG BLX SnS'!$C:$C,"WER") -> 5712 | J20: =IFERROR(((SUMIFS('Raw Commercial Country SnS+B2B'!$F:$F,'Raw Commercial Country SnS+B2B'!$B:$B,"FY20-Q2",'Raw Commercial Country SnS+B2B'!$C:$C,"United Kingdom")-SUMIFS('Raw Commercial Country SnS+B2B'!$F:$F,'Raw Commercial Country SnS+B2B'!$B:$B,"FY19-Q2",'Raw Commercial Country SnS+B2B'!$C:$C,"United Kingdom")))/(SUMIFS('Raw Commercial Country SnS+B2B'!$F:$F,'Raw Commercial Country SnS+B2B'!$B:$B,"FY19-Q2",'Raw Commercial Country SnS+B2B'!$C:$C,"United Kingdom")),"") -> 0.25270527 | K20: 570 | L20: =SUMIFS('RAW CSG BLX SnS'!$G:$G,'RAW CSG BLX SnS'!$B:$B,"FY20-Q3",'RAW CSG BLX SnS'!$C:$C,"WER") -> 571 | M20: =IFERROR(L20/K20,"") -> 1.0017544 | O20: =IFERROR((L20-K20)/K20,"") -> 0.001754386 | P20: =I20*(1.05) -> 5997.6 | Q20: =SUMIFS('RAW CSG BLX SnS'!$F:$F,'RAW CSG BLX SnS'!$B:$B,"FY20-Q3",'RAW CSG BLX SnS'!$C:$C,"WER") -> 6112 | R20: =IFERROR(Q20/P20,"") -> 1.0190743 | T20: =IFERROR((Q20-P20)/P20,"") -> 0.019074296 | U20: 640 | V20: =IFERROR(((U20-SUMIFS('RAW CSG BLX SnS'!$G:$G,'RAW CSG BLX SnS'!$B:$B,"FY19-Q4",'RAW CSG BLX SnS'!$C:$C,"WER")))/(SUMIFS('RAW CSG BLX SnS'!$G:$G,'RAW CSG BLX SnS'!$B:$B,"FY19-Q4",'RAW CSG BLX SnS'!$C:$C,"WER")),"") -> 0.095890411 | W20: 6800 | X20: =IFERROR(((W20-SUMIFS('RAW CSG BLX SnS'!$F:$F,'RAW CSG BLX SnS'!$B:$B,"FY19-Q4",'RAW CSG BLX SnS'!$C:$C,"WER")))/(SUMIFS('RAW CSG BLX SnS'!$F:$F,'RAW CSG BLX SnS'!$B:$B,"FY19-Q4",'RAW CSG BLX SnS'!$C:$C,"WER")),"") -> 0.028277635
A21: ES | C21: =SUMIFS('Raw CSG Country SnS'!$H:$H,'Raw CSG Country SnS'!$B:$B,"FY20-Q1",'Raw CSG Country SnS'!$D:$D,"SPAIN") -> 1573 | D21: =IFERROR(((SUMIFS('Raw CSG Country SnS'!$H:$H,'Raw CSG Country SnS'!$B:$B,"FY20-Q1",'Raw CSG Country SnS'!$D:$D,"SPAIN")-SUMIFS('Raw CSG Country SnS'!$H:$H,'Raw CSG Country SnS'!$B:$B,"FY19-Q1",'Raw CSG Country SnS'!$D:$D,"SPAIN")))/(SUMIFS('Raw CSG Country SnS'!$H:$H,'Raw CSG Country SnS'!$B:$B,"FY19-Q1",'Raw CSG Country SnS'!$D:$D,"SPAIN")),"") -> 0.066440678 | E21: =SUMIFS('Raw CSG Country SnS'!$G:$G,'Raw CSG Country SnS'!$B:$B,"FY20-Q1",'Raw CSG Country SnS'!$D:$D,"SPAIN") -> 7468 | F21: =IFERROR(((SUMIFS('Raw CSG Country SnS'!$G:$G,'Raw CSG Country SnS'!$B:$B,"FY20-Q1",'Raw CSG Country SnS'!$D:$D,"SPAIN")-SUMIFS('Raw CSG Country SnS'!$G:$G,'Raw CSG Country SnS'!$B:$B,"FY19-Q1",'Raw CSG Country SnS'!$D:$D,"SPAIN")))/(SUMIFS('Raw CSG Country SnS'!$G:$G,'Raw CSG Country SnS'!$B:$B,"FY19-Q1",'Raw CSG Country SnS'!$D:$D,"SPAIN")),"") -> 0.053611738 | G21: =SUMIFS('Raw CSG Country SnS'!$H:$H,'Raw CSG Country SnS'!$B:$B,"FY20-Q2",'Raw CSG Country SnS'!$D:$D,"SPAIN") -> 1424 | H21: =IFERROR(((SUMIFS('Raw CSG Country SnS'!$H:$H,'Raw CSG Country SnS'!$B:$B,"FY20-Q2",'Raw CSG Country SnS'!$D:$D,"SPAIN")-SUMIFS('Raw CSG Country SnS'!$H:$H,'Raw CSG Country SnS'!$B:$B,"FY19-Q2",'Raw CSG Country SnS'!$D:$D,"SPAIN")))/(SUMIFS('Raw CSG Country SnS'!$H:$H,'Raw CSG Country SnS'!$B:$B,"FY19-Q2",'Raw CSG Country SnS'!$D:$D,"SPAIN")),"") -> -0.065616798 | I21: =SUMIFS('Raw CSG Country SnS'!$G:$G,'Raw CSG Country SnS'!$B:$B,"FY20-Q2",'Raw CSG Country SnS'!$D:$D,"SPAIN") -> 7052 | J21: =IFERROR(((SUMIFS('Raw CSG Country SnS'!$G:$G,'Raw CSG Country SnS'!$B:$B,"FY20-Q2",'Raw CSG Country SnS'!$D:$D,"SPAIN")-SUMIFS('Raw CSG Country SnS'!$G:$G,'Raw CSG Country SnS'!$B:$B,"FY19-Q2",'Raw CSG Country SnS'!$D:$D,"SPAIN")))/(SUMIFS('Raw CSG Country SnS'!$G:$G,'Raw CSG Country SnS'!$B:$B,"FY19-Q2",'Raw CSG Country SnS'!$D:$D,"SPAIN")),"") -> -0.063852383 | K21: 1800 | L21: =SUMIFS('Raw CSG Country SnS'!$H:$H,'Raw CSG Country SnS'!$B:$B,"FY20-Q3",'Raw CSG Country SnS'!$D:$D,"SPAIN") -> 1370 | M21: =IFERROR(L21/K21,"") -> 0.76111111 | O21: =IFERROR((L21-K21)/K21,"") -> -0.23888889 | P21: =I21*(1.05) -> 7404.6 | Q21: =SUMIFS('Raw CSG Country SnS'!$G:$G,'Raw CSG Country SnS'!$B:$B,"FY20-Q3",'Raw CSG Country SnS'!$D:$D,"SPAIN") -> 7567 | R21: =IFERROR(Q21/P21,"") -> 1.0219323 | T21: =IFERROR((Q21-P21)/P21,"") -> 0.021932312 | U21: 1900 | V21: =IFERROR(((U21-SUMIFS('Raw CSG Country SnS'!$H:$H,'Raw CSG Country SnS'!$B:$B,"FY19-Q4",'Raw CSG Country SnS'!$D:$D,"SPAIN")))/(SUMIFS('Raw CSG Country SnS'!$H:$H,'Raw CSG Country SnS'!$B:$B,"FY19-Q4",'Raw CSG Country SnS'!$D:$D,"SPAIN")),"") -> 0.18159204 | W21: 17100 | X21: =IFERROR(((W21-SUMIFS('Raw CSG Country SnS'!$G:$G,'Raw CSG Country SnS'!$B:$B,"FY19-Q4",'Raw CSG Country SnS'!$D:$D,"SPAIN")))/(SUMIFS('Raw CSG Country SnS'!$G:$G,'Raw CSG Country SnS'!$B:$B,"FY19-Q4",'Raw CSG Country SnS'!$D:$D,"SPAIN")),"") -> 1.1145048
A22: PT | C22: =SUMIFS('Raw CSG Country SnS'!$H:$H,'Raw CSG Country SnS'!$B:$B,"FY20-Q1",'Raw CSG Country SnS'!$D:$D,"PORTUGAL") -> 309 | D22: =IFERROR(((SUMIFS('Raw CSG Country SnS'!$H:$H,'Raw CSG Country SnS'!$B:$B,"FY20-Q1",'Raw CSG Country SnS'!$D:$D,"PORTUGAL")-SUMIFS('Raw CSG Country SnS'!$H:$H,'Raw CSG Country SnS'!$B:$B,"FY19-Q1",'Raw CSG Country SnS'!$D:$D,"PORTUGAL")))/(SUMIFS('Raw CSG Country SnS'!$H:$H,'Raw CSG Country SnS'!$B:$B,"FY19-Q1",'Raw CSG Country SnS'!$D:$D,"PORTUGAL")),"") -> 0 | E22: =SUMIFS('Raw CSG Country SnS'!$G:$G,'Raw CSG Country SnS'!$B:$B,"FY20-Q1",'Raw CSG Country SnS'!$D:$D,"PORTUGAL") -> 7106 | F22: =IFERROR(((SUMIFS('Raw CSG Country SnS'!$G:$G,'Raw CSG Country SnS'!$B:$B,"FY20-Q1",'Raw CSG Country SnS'!$D:$D,"PORTUGAL")-SUMIFS('Raw CSG Country SnS'!$G:$G,'Raw CSG Country SnS'!$B:$B,"FY19-Q1",'Raw CSG Country SnS'!$D:$D,"PORTUGAL")))/(SUMIFS('Raw CSG Country SnS'!$G:$G,'Raw CSG Country SnS'!$B:$B,"FY19-Q1",'Raw CSG Country SnS'!$D:$D,"PORTUGAL")),"") -> 0.17299439 | G22: =SUMIFS('Raw CSG Country SnS'!$H:$H,'Raw CSG Country SnS'!$B:$B,"FY20-Q2",'Raw CSG Country SnS'!$D:$D,"PORTUGAL") -> 308 | H22: =IFERROR(((SUMIFS('Raw CSG Country SnS'!$H:$H,'Raw CSG Country SnS'!$B:$B,"FY20-Q2",'Raw CSG Country SnS'!$D:$D,"PORTUGAL")-SUMIFS('Raw CSG Country SnS'!$H:$H,'Raw CSG Country SnS'!$B:$B,"FY19-Q2",'Raw CSG Country SnS'!$D:$D,"PORTUGAL")))/(SUMIFS('Raw CSG Country SnS'!$H:$H,'Raw CSG Country SnS'!$B:$B,"FY19-Q2",'Raw CSG Country SnS'!$D:$D,"PORTUGAL")),"") -> -0.0375 | I22: =SUMIFS('Raw CSG Country SnS'!$G:$G,'Raw CSG Country SnS'!$B:$B,"FY20-Q2",'Raw CSG Country SnS'!$D:$D,"PORTUGAL") -> 9429 | J22: =IFERROR(((SUMIFS('Raw CSG Country SnS'!$G:$G,'Raw CSG Country SnS'!$B:$B,"FY20-Q2",'Raw CSG Country SnS'!$D:$D,"PORTUGAL")-SUMIFS('Raw CSG Country SnS'!$G:$G,'Raw CSG Country SnS'!$B:$B,"FY19-Q2",'Raw CSG Country SnS'!$D:$D,"PORTUGAL")))/(SUMIFS('Raw CSG Country SnS'!$G:$G,'Raw CSG Country SnS'!$B:$B,"FY19-Q2",'Raw CSG Country SnS'!$D:$D,"PORTUGAL")),"") -> 0.67835529 | K22: 350 | L22: =SUMIFS('Raw CSG Country SnS'!$H:$H,'Raw CSG Country SnS'!$B:$B,"FY20-Q3",'Raw CSG Country SnS'!$D:$D,"PORTUGAL") -> 313 | M22: =IFERROR(L22/K22,"") -> 0.89428571 | O22: =IFERROR((L22-K22)/K22,"") -> -0.10571429 | P22: =I22*(1.05) -> 9900.45 | Q22: =SUMIFS('Raw CSG Country SnS'!$G:$G,'Raw CSG Country SnS'!$B:$B,"FY20-Q3",'Raw CSG Country SnS'!$D:$D,"PORTUGAL") -> 6609 | R22: =IFERROR(Q22/P22,"") -> 0.66754541 | T22: =IFERROR((Q22-P22)/P22,"") -> -0.33245459 | U22: 380 | V22: =IFERROR(((U22-SUMIFS('Raw CSG Country SnS'!$H:$H,'Raw CSG Country SnS'!$B:$B,"FY19-Q4",'Raw CSG Country SnS'!$D:$D,"PORTUGAL")))/(SUMIFS('Raw CSG Country SnS'!$H:$H,'Raw CSG Country SnS'!$B:$B,"FY19-Q4",'Raw CSG Country SnS'!$D:$D,"PORTUGAL")),"") -> 0.11764706 | W22: 3900 | X22: =IFERROR(((W22-SUMIFS('Raw CSG Country SnS'!$G:$G,'Raw CSG Country SnS'!$B:$B,"FY19-Q4",'Raw CSG Country SnS'!$D:$D,"PORTUGAL")))/(SUMIFS('Raw CSG Country SnS'!$G:$G,'Raw CSG Country SnS'!$B:$B,"FY19-Q4",'Raw CSG Country SnS'!$D:$D,"PORTUGAL")),"") -> -0.43082312
A23: AT | C23: =SUMIFS('Raw CSG Country SnS'!$H:$H,'Raw CSG Country SnS'!$B:$B,"FY20-Q1",'Raw CSG Country SnS'!$D:$D,"Austria") -> 240 | D23: =IFERROR(((SUMIFS('Raw CSG Country SnS'!$H:$H,'Raw CSG Country SnS'!$B:$B,"FY20-Q1",'Raw CSG Country SnS'!$D:$D,"Austria")-SUMIFS('Raw CSG Country SnS'!$H:$H,'Raw CSG Country SnS'!$B:$B,"FY19-Q1",'Raw CSG Country SnS'!$D:$D,"Austria")))/(SUMIFS('Raw CSG Country SnS'!$H:$H,'Raw CSG Country SnS'!$B:$B,"FY19-Q1",'Raw CSG Country SnS'!$D:$D,"Austria")),"") -> 0.038961039 | E23: =SUMIFS('Raw CSG Country SnS'!$G:$G,'Raw CSG Country SnS'!$B:$B,"FY20-Q1",'Raw CSG Country SnS'!$D:$D,"Austria") -> 12323 | F23: =IFERROR(((SUMIFS('Raw CSG Country SnS'!$G:$G,'Raw CSG Country SnS'!$B:$B,"FY20-Q1",'Raw CSG Country SnS'!$D:$D,"Austria")-SUMIFS('Raw CSG Country SnS'!$G:$G,'Raw CSG Country SnS'!$B:$B,"FY19-Q1",'Raw CSG Country SnS'!$D:$D,"Austria")))/(SUMIFS('Raw CSG Country SnS'!$G:$G,'Raw CSG Country SnS'!$B:$B,"FY19-Q1",'Raw CSG Country SnS'!$D:$D,"Austria")),"") -> 0.17608322 | G23: =SUMIFS('Raw CSG Country SnS'!$H:$H,'Raw CSG Country SnS'!$B:$B,"FY20-Q2",'Raw CSG Country SnS'!$D:$D,"Austria") -> 227 | H23: =IFERROR(((SUMIFS('Raw CSG Country SnS'!$H:$H,'Raw CSG Country SnS'!$B:$B,"FY20-Q2",'Raw CSG Country SnS'!$D:$D,"Austria")-SUMIFS('Raw CSG Country SnS'!$H:$H,'Raw CSG Country SnS'!$B:$B,"FY19-Q2",'Raw CSG Country SnS'!$D:$D,"Austria")))/(SUMIFS('Raw CSG Country SnS'!$H:$H,'Raw CSG Country SnS'!$B:$B,"FY19-Q2",'Raw CSG Country SnS'!$D:$D,"Austria")),"") -> -0.013043478 | I23: =SUMIFS('Raw CSG Country SnS'!$G:$G,'Raw CSG Country SnS'!$B:$B,"FY20-Q2",'Raw CSG Country SnS'!$D:$D,"Austria") -> 11102 | J23: =IFERROR(((SUMIFS('Raw CSG Country SnS'!$G:$G,'Raw CSG Country SnS'!$B:$B,"FY20-Q2",'Raw CSG Country SnS'!$D:$D,"Austria")-SUMIFS('Raw CSG Country SnS'!$G:$G,'Raw CSG Country SnS'!$B:$B,"FY19-Q2",'Raw CSG Country SnS'!$D:$D,"Austria")))/(SUMIFS('Raw CSG Country SnS'!$G:$G,'Raw CSG Country SnS'!$B:$B,"FY19-Q2",'Raw CSG Country SnS'!$D:$D,"Austria")),"") -> 0.16912384 | K23: 255 | L23: =SUMIFS('Raw CSG Country SnS'!$H:$H,'Raw CSG Country SnS'!$B:$B,"FY20-Q3",'Raw CSG Country SnS'!$D:$D,"Austria") -> 241 | M23: =IFERROR(L23/K23,"") -> 0.94509804 | O23: =IFERROR((L23-K23)/K23,"") -> -0.054901961 | P23: =I23*(1.05) -> 11657.1 | Q23: =SUMIFS('Raw CSG Country SnS'!$G:$G,'Raw CSG Country SnS'!$B:$B,"FY20-Q3",'Raw CSG Country SnS'!$D:$D,"Austria") -> 11141 | R23: =IFERROR(Q23/P23,"") -> 0.95572655 | T23: =IFERROR((Q23-P23)/P23,"") -> -0.044273447 | U23: 255 | V23: =IFERROR(((U23-SUMIFS('Raw CSG Country SnS'!$H:$H,'Raw CSG Country SnS'!$B:$B,"FY19-Q4",'Raw CSG Country SnS'!$D:$D,"Austria")))/(SUMIFS('Raw CSG Country SnS'!$H:$H,'Raw CSG Country SnS'!$B:$B,"FY19-Q4",'Raw CSG Country SnS'!$D:$D,"Austria")),"") -> -0.048507463 | W23: 2900 | X23: =IFERROR(((W23-SUMIFS('Raw CSG Country SnS'!$G:$G,'Raw CSG Country SnS'!$B:$B,"FY19-Q4",'Raw CSG Country SnS'!$D:$D,"Austria")))/(SUMIFS('Raw CSG Country SnS'!$G:$G,'Raw CSG Country SnS'!$B:$B,"FY19-Q4",'Raw CSG Country SnS'!$D:$D,"Austria")),"") -> -0.74963308
A24: CH | C24: =SUMIFS('Raw CSG Country SnS'!$H:$H,'Raw CSG Country SnS'!$B:$B,"FY20-Q1",'Raw CSG Country SnS'!$D:$D,"Switzerland") -> 459 | D24: =IFERROR(((SUMIFS('Raw CSG Country SnS'!$H:$H,'Raw CSG Country SnS'!$B:$B,"FY20-Q1",'Raw CSG Country SnS'!$D:$D,"Switzerland")-SUMIFS('Raw CSG Country SnS'!$H:$H,'Raw CSG Country SnS'!$B:$B,"FY19-Q1",'Raw CSG Country SnS'!$D:$D,"Switzerland")))/(SUMIFS('Raw CSG Country SnS'!$H:$H,'Raw CSG Country SnS'!$B:$B,"FY19-Q1",'Raw CSG Country SnS'!$D:$D,"Switzerland")),"") -> 0.072429907 | E24: =SUMIFS('Raw CSG Country SnS'!$G:$G,'Raw CSG Country SnS'!$B:$B,"FY20-Q1",'Raw CSG Country SnS'!$D:$D,"Switzerland") -> 9094 | F24: =IFERROR(((SUMIFS('Raw CSG Country SnS'!$G:$G,'Raw CSG Country SnS'!$B:$B,"FY20-Q1",'Raw CSG Country SnS'!$D:$D,"Switzerland")-SUMIFS('Raw CSG Country SnS'!$G:$G,'Raw CSG Country SnS'!$B:$B,"FY19-Q1",'Raw CSG Country SnS'!$D:$D,"Switzerland")))/(SUMIFS('Raw CSG Country SnS'!$G:$G,'Raw CSG Country SnS'!$B:$B,"FY19-Q1",'Raw CSG Country SnS'!$D:$D,"Switzerland")),"") -> -0.070523303 | G24: =SUMIFS('Raw CSG Country SnS'!$H:$H,'Raw CSG Country SnS'!$B:$B,"FY20-Q2",'Raw CSG Country SnS'!$D:$D,"Switzerland") -> 425 | H24: =IFERROR(((SUMIFS('Raw CSG Country SnS'!$H:$H,'Raw CSG Country SnS'!$B:$B,"FY20-Q2",'Raw CSG Country SnS'!$D:$D,"Switzerland")-SUMIFS('Raw CSG Country SnS'!$H:$H,'Raw CSG Country SnS'!$B:$B,"FY19-Q2",'Raw CSG Country SnS'!$D:$D,"Switzerland")))/(SUMIFS('Raw CSG Country SnS'!$H:$H,'Raw CSG Country SnS'!$B:$B,"FY19-Q2",'Raw CSG Country SnS'!$D:$D,"Switzerland")),"") -> 0.051980198 | I24: =SUMIFS('Raw CSG Country SnS'!$G:$G,'Raw CSG Country SnS'!$B:$B,"FY20-Q2",'Raw CSG Country SnS'!$D:$D,"Switzerland") -> 10685 | J24: =IFERROR(((SUMIFS('Raw CSG Country SnS'!$G:$G,'Raw CSG Country SnS'!$B:$B,"FY20-Q2",'Raw CSG Country SnS'!$D:$D,"Switzerland")-SUMIFS('Raw CSG Country SnS'!$G:$G,'Raw CSG Country SnS'!$B:$B,"FY19-Q2",'Raw CSG Country SnS'!$D:$D,"Switzerland")))/(SUMIFS('Raw CSG Country SnS'!$G:$G,'Raw CSG Country SnS'!$B:$B,"FY19-Q2",'Raw CSG Country SnS'!$D:$D,"Switzerland")),"") -> 0.28797011 | K24: 580 | L24: =SUMIFS('Raw CSG Country SnS'!$H:$H,'Raw CSG Country SnS'!$B:$B,"FY20-Q3",'Raw CSG Country SnS'!$D:$D,"Switzerland") -> 424 | M24: =IFERROR(L24/K24,"") -> 0.73103448 | O24: =IFERROR((L24-K24)/K24,"") -> -0.26896552 | P24: =I24*(1.05) -> 11219.25 | Q24: =SUMIFS('Raw CSG Country SnS'!$G:$G,'Raw CSG Country SnS'!$B:$B,"FY20-Q3",'Raw CSG Country SnS'!$D:$D,"Switzerland") -> 9980 | R24: =IFERROR(Q24/P24,"") -> 0.88954253 | T24: =IFERROR((Q24-P24)/P24,"") -> -0.11045747 | U24: 670 | V24: =IFERROR(((U24-SUMIFS('Raw CSG Country SnS'!$H:$H,'Raw CSG Country SnS'!$B:$B,"FY19-Q4",'Raw CSG Country SnS'!$D:$D,"Switzerland")))/(SUMIFS('Raw CSG Country SnS'!$H:$H,'Raw CSG Country SnS'!$B:$B,"FY19-Q4",'Raw CSG Country SnS'!$D:$D,"Switzerland")),"") -> 0.63017032 | W24: 5900 | X24: =IFERROR(((W24-SUMIFS('Raw CSG Country SnS'!$G:$G,'Raw CSG Country SnS'!$B:$B,"FY19-Q4",'Raw CSG Country SnS'!$D:$D,"Switzerland")))/(SUMIFS('Raw CSG Country SnS'!$G:$G,'Raw CSG Country SnS'!$B:$B,"FY19-Q4",'Raw CSG Country SnS'!$D:$D,"Switzerland")),"") -> -0.28571429
A25: SE | C25: =SUMIFS('Raw CSG Country SnS'!$H:$H,'Raw CSG Country SnS'!$B:$B,"FY20-Q1",'Raw CSG Country SnS'!$D:$D,"Sweden") -> 334 | D25: =IFERROR(((SUMIFS('Raw CSG Country SnS'!$H:$H,'Raw CSG Country SnS'!$B:$B,"FY20-Q1",'Raw CSG Country SnS'!$D:$D,"Sweden")-SUMIFS('Raw CSG Country SnS'!$H:$H,'Raw CSG Country SnS'!$B:$B,"FY19-Q1",'Raw CSG Country SnS'!$D:$D,"Sweden")))/(SUMIFS('Raw CSG Country SnS'!$H:$H,'Raw CSG Country SnS'!$B:$B,"FY19-Q1",'Raw CSG Country SnS'!$D:$D,"Sweden")),"") -> 0.034055728 | E25: =SUMIFS('Raw CSG Country SnS'!$G:$G,'Raw CSG Country SnS'!$B:$B,"FY20-Q1",'Raw CSG Country SnS'!$D:$D,"Sweden") -> 15138 | F25: =IFERROR(((SUMIFS('Raw CSG Country SnS'!$G:$G,'Raw CSG Country SnS'!$B:$B,"FY20-Q1",'Raw CSG Country SnS'!$D:$D,"Sweden")-SUMIFS('Raw CSG Country SnS'!$G:$G,'Raw CSG Country SnS'!$B:$B,"FY19-Q1",'Raw CSG Country SnS'!$D:$D,"Sweden")))/(SUMIFS('Raw CSG Country SnS'!$G:$G,'Raw CSG Country SnS'!$B:$B,"FY19-Q1",'Raw CSG Country SnS'!$D:$D,"Sweden")),"") -> -0.053875 | G25: =SUMIFS('Raw CSG Country SnS'!$H:$H,'Raw CSG Country SnS'!$B:$B,"FY20-Q2",'Raw CSG Country SnS'!$D:$D,"Sweden") -> 313 | H25: =IFERROR(((SUMIFS('Raw CSG Country SnS'!$H:$H,'Raw CSG Country SnS'!$B:$B,"FY20-Q2",'Raw CSG Country SnS'!$D:$D,"Sweden")-SUMIFS('Raw CSG Country SnS'!$H:$H,'Raw CSG Country SnS'!$B:$B,"FY19-Q2",'Raw CSG Country SnS'!$D:$D,"Sweden")))/(SUMIFS('Raw CSG Country SnS'!$H:$H,'Raw CSG Country SnS'!$B:$B,"FY19-Q2",'Raw CSG Country SnS'!$D:$D,"Sweden")),"") -> 0.019543974 | I25: =SUMIFS('Raw CSG Country SnS'!$G:$G,'Raw CSG Country SnS'!$B:$B,"FY20-Q2",'Raw CSG Country SnS'!$D:$D,"Sweden") -> 12293 | J25: =IFERROR(((SUMIFS('Raw CSG Country SnS'!$G:$G,'Raw CSG Country SnS'!$B:$B,"FY20-Q2",'Raw CSG Country SnS'!$D:$D,"Sweden")-SUMIFS('Raw CSG Country SnS'!$G:$G,'Raw CSG Country SnS'!$B:$B,"FY19-Q2",'Raw CSG Country SnS'!$D:$D,"Sweden")))/(SUMIFS('Raw CSG Country SnS'!$G:$G,'Raw CSG Country SnS'!$B:$B,"FY19-Q2",'Raw CSG Country SnS'!$D:$D,"Sweden")),"") -> 0.019996681 | K25: 360 | L25: =SUMIFS('Raw CSG Country SnS'!$H:$H,'Raw CSG Country SnS'!$B:$B,"FY20-Q3",'Raw CSG Country SnS'!$D:$D,"Sweden") -> 357 | M25: =IFERROR(L25/K25,"") -> 0.99166667 | O25: =IFERROR((L25-K25)/K25,"") -> -0.0083333333 | P25: =I25*(1.05) -> 12907.65 | Q25: =SUMIFS('Raw CSG Country SnS'!$G:$G,'Raw CSG Country SnS'!$B:$B,"FY20-Q3",'Raw CSG Country SnS'!$D:$D,"Sweden") -> 15029 | R25: =IFERROR(Q25/P25,"") -> 1.1643483 | T25: =IFERROR((Q25-P25)/P25,"") -> 0.16434827 | U25: 360 | V25: =IFERROR(((U25-SUMIFS('Raw CSG Country SnS'!$H:$H,'Raw CSG Country SnS'!$B:$B,"FY19-Q4",'Raw CSG Country SnS'!$D:$D,"Sweden")))/(SUMIFS('Raw CSG Country SnS'!$H:$H,'Raw CSG Country SnS'!$B:$B,"FY19-Q4",'Raw CSG Country SnS'!$D:$D,"Sweden")),"") -> 0.058823529 | W25: 7000 | X25: =IFERROR(((W25-SUMIFS('Raw CSG Country SnS'!$G:$G,'Raw CSG Country SnS'!$B:$B,"FY19-Q4",'Raw CSG Country SnS'!$D:$D,"Sweden")))/(SUMIFS('Raw CSG Country SnS'!$G:$G,'Raw CSG Country SnS'!$B:$B,"FY19-Q4",'Raw CSG Country SnS'!$D:$D,"Sweden")),"") -> -0.497307
A26: DK | C26: =SUMIFS('Raw CSG Country SnS'!$H:$H,'Raw CSG Country SnS'!$B:$B,"FY20-Q1",'Raw CSG Country SnS'!$D:$D,"Denmark") -> 119 | D26: =IFERROR(((SUMIFS('Raw CSG Country SnS'!$H:$H,'Raw CSG Country SnS'!$B:$B,"FY20-Q1",'Raw CSG Country SnS'!$D:$D,"Denmark")-SUMIFS('Raw CSG Country SnS'!$H:$H,'Raw CSG Country SnS'!$B:$B,"FY19-Q1",'Raw CSG Country SnS'!$D:$D,"Denmark")))/(SUMIFS('Raw CSG Country SnS'!$H:$H,'Raw CSG Country SnS'!$B:$B,"FY19-Q1",'Raw CSG Country SnS'!$D:$D,"Denmark")),"") -> -0.048 | E26: =SUMIFS('Raw CSG Country SnS'!$G:$G,'Raw CSG Country SnS'!$B:$B,"FY20-Q1",'Raw CSG Country SnS'!$D:$D,"Denmark") -> 13583 | F26: =IFERROR(((SUMIFS('Raw CSG Country SnS'!$G:$G,'Raw CSG Country SnS'!$B:$B,"FY20-Q1",'Raw CSG Country SnS'!$D:$D,"Denmark")-SUMIFS('Raw CSG Country SnS'!$G:$G,'Raw CSG Country SnS'!$B:$B,"FY19-Q1",'Raw CSG Country SnS'!$D:$D,"Denmark")))/(SUMIFS('Raw CSG Country SnS'!$G:$G,'Raw CSG Country SnS'!$B:$B,"FY19-Q1",'Raw CSG Country SnS'!$D:$D,"Denmark")),"") -> -0.16591956 | G26: =SUMIFS('Raw CSG Country SnS'!$H:$H,'Raw CSG Country SnS'!$B:$B,"FY20-Q2",'Raw CSG Country SnS'!$D:$D,"Denmark") -> 101 | H26: =IFERROR(((SUMIFS('Raw CSG Country SnS'!$H:$H,'Raw CSG Country SnS'!$B:$B,"FY20-Q2",'Raw CSG Country SnS'!$D:$D,"Denmark")-SUMIFS('Raw CSG Country SnS'!$H:$H,'Raw CSG Country SnS'!$B:$B,"FY19-Q2",'Raw CSG Country SnS'!$D:$D,"Denmark")))/(SUMIFS('Raw CSG Country SnS'!$H:$H,'Raw CSG Country SnS'!$B:$B,"FY19-Q2",'Raw CSG Country SnS'!$D:$D,"Denmark")),"") -> -0.1512605 | I26: =SUMIFS('Raw CSG Country SnS'!$G:$G,'Raw CSG Country SnS'!$B:$B,"FY20-Q2",'Raw CSG Country SnS'!$D:$D,"Denmark") -> 11676 | J26: =IFERROR(((SUMIFS('Raw CSG Country SnS'!$G:$G,'Raw CSG Country SnS'!$B:$B,"FY20-Q2",'Raw CSG Country SnS'!$D:$D,"Denmark")-SUMIFS('Raw CSG Country SnS'!$G:$G,'Raw CSG Country SnS'!$B:$B,"FY19-Q2",'Raw CSG Country SnS'!$D:$D,"Denmark")))/(SUMIFS('Raw CSG Country SnS'!$G:$G,'Raw CSG Country SnS'!$B:$B,"FY19-Q2",'Raw CSG Country SnS'!$D:$D,"Denmark")),"") -> -0.079615324 | K26: 770 | L26: =SUMIFS('Raw CSG Country SnS'!$H:$H,'Raw CSG Country SnS'!$B:$B,"FY20-Q3",'Raw CSG Country SnS'!$D:$D,"Denmark") -> 111 | M26: =IFERROR(L26/K26,"") -> 0.14415584 | O26: =IFERROR((L26-K26)/K26,"") -> -0.85584416 | P26: =I26*(1.05) -> 12259.8 | Q26: =SUMIFS('Raw CSG Country SnS'!$G:$G,'Raw CSG Country SnS'!$B:$B,"FY20-Q3",'Raw CSG Country SnS'!$D:$D,"Denmark") -> 15768 | R26: =IFERROR(Q26/P26,"") -> 1.2861547 | T26: =IFERROR((Q26-P26)/P26,"") -> 0.28615475 | U26: 905 | V26: =IFERROR(((U26-SUMIFS('Raw CSG Country SnS'!$H:$H,'Raw CSG Country SnS'!$B:$B,"FY19-Q4",'Raw CSG Country SnS'!$D:$D,"Denmark")))/(SUMIFS('Raw CSG Country SnS'!$H:$H,'Raw CSG Country SnS'!$B:$B,"FY19-Q4",'Raw CSG Country SnS'!$D:$D,"Denmark")),"") -> 6.9385965 | W26: 9800 | X26: =IFERROR(((W26-SUMIFS('Raw CSG Country SnS'!$G:$G,'Raw CSG Country SnS'!$B:$B,"FY19-Q4",'Raw CSG Country SnS'!$D:$D,"Denmark")))/(SUMIFS('Raw CSG Country SnS'!$G:$G,'Raw CSG Country SnS'!$B:$B,"FY19-Q4",'Raw CSG Country SnS'!$D:$D,"Denmark")),"") -> -0.43036503
A27: NO | C27: =SUMIFS('Raw CSG Country SnS'!$H:$H,'Raw CSG Country SnS'!$B:$B,"FY20-Q1",'Raw CSG Country SnS'!$D:$D,"Norway") -> 138 | D27: =IFERROR(((SUMIFS('Raw CSG Country SnS'!$H:$H,'Raw CSG Country SnS'!$B:$B,"FY20-Q1",'Raw CSG Country SnS'!$D:$D,"Norway")-SUMIFS('Raw CSG Country SnS'!$H:$H,'Raw CSG Country SnS'!$B:$B,"FY19-Q1",'Raw CSG Country SnS'!$D:$D,"Norway")))/(SUMIFS('Raw CSG Country SnS'!$H:$H,'Raw CSG Country SnS'!$B:$B,"FY19-Q1",'Raw CSG Country SnS'!$D:$D,"Norway")),"") -> -0.021276596 | E27: =SUMIFS('Raw CSG Country SnS'!$G:$G,'Raw CSG Country SnS'!$B:$B,"FY20-Q1",'Raw CSG Country SnS'!$D:$D,"Norway") -> 11208 | F27: =IFERROR(((SUMIFS('Raw CSG Country SnS'!$G:$G,'Raw CSG Country SnS'!$B:$B,"FY20-Q1",'Raw CSG Country SnS'!$D:$D,"Norway")-SUMIFS('Raw CSG Country SnS'!$G:$G,'Raw CSG Country SnS'!$B:$B,"FY19-Q1",'Raw CSG Country SnS'!$D:$D,"Norway")))/(SUMIFS('Raw CSG Country SnS'!$G:$G,'Raw CSG Country SnS'!$B:$B,"FY19-Q1",'Raw CSG Country SnS'!$D:$D,"Norway")),"") -> 0.25453324 | G27: =SUMIFS('Raw CSG Country SnS'!$H:$H,'Raw CSG Country SnS'!$B:$B,"FY20-Q2",'Raw CSG Country SnS'!$D:$D,"Norway") -> 134 | H27: =IFERROR(((SUMIFS('Raw CSG Country SnS'!$H:$H,'Raw CSG Country SnS'!$B:$B,"FY20-Q2",'Raw CSG Country SnS'!$D:$D,"Norway")-SUMIFS('Raw CSG Country SnS'!$H:$H,'Raw CSG Country SnS'!$B:$B,"FY19-Q2",'Raw CSG Country SnS'!$D:$D,"Norway")))/(SUMIFS('Raw CSG Country SnS'!$H:$H,'Raw CSG Country SnS'!$B:$B,"FY19-Q2",'Raw CSG Country SnS'!$D:$D,"Norway")),"") -> -0.042857143 | I27: =SUMIFS('Raw CSG Country SnS'!$G:$G,'Raw CSG Country SnS'!$B:$B,"FY20-Q2",'Raw CSG Country SnS'!$D:$D,"Norway") -> 10803 | J27: =IFERROR(((SUMIFS('Raw CSG Country SnS'!$G:$G,'Raw CSG Country SnS'!$B:$B,"FY20-Q2",'Raw CSG Country SnS'!$D:$D,"Norway")-SUMIFS('Raw CSG Country SnS'!$G:$G,'Raw CSG Country SnS'!$B:$B,"FY19-Q2",'Raw CSG Country SnS'!$D:$D,"Norway")))/(SUMIFS('Raw CSG Country SnS'!$G:$G,'Raw CSG Country SnS'!$B:$B,"FY19-Q2",'Raw CSG Country SnS'!$D:$D,"Norway")),"") -> 0.15023424 | K27: 175 | L27: =SUMIFS('Raw CSG Country SnS'!$H:$H,'Raw CSG Country SnS'!$B:$B,"FY20-Q3",'Raw CSG Country SnS'!$D:$D,"Norway") -> 141 | M27: =IFERROR(L27/K27,"") -> 0.80571429 | O27: =IFERROR((L27-K27)/K27,"") -> -0.19428571 | P27: =I27*(1.05) -> 11343.15 | Q27: =SUMIFS('Raw CSG Country SnS'!$G:$G,'Raw CSG Country SnS'!$B:$B,"FY20-Q3",'Raw CSG Country SnS'!$D:$D,"Norway") -> 11798 | R27: =IFERROR(Q27/P27,"") -> 1.0400991 | T27: =IFERROR((Q27-P27)/P27,"") -> 0.040099091 | U27: 210 | V27: =IFERROR(((U27-SUMIFS('Raw CSG Country SnS'!$H:$H,'Raw CSG Country SnS'!$B:$B,"FY19-Q4",'Raw CSG Country SnS'!$D:$D,"Norway")))/(SUMIFS('Raw CSG Country SnS'!$H:$H,'Raw CSG Country SnS'!$B:$B,"FY19-Q4",'Raw CSG Country SnS'!$D:$D,"Norway")),"") -> 0.52173913 | W27: 2600 | X27: =IFERROR(((W27-SUMIFS('Raw CSG Country SnS'!$G:$G,'Raw CSG Country SnS'!$B:$B,"FY19-Q4",'Raw CSG Country SnS'!$D:$D,"Norway")))/(SUMIFS('Raw CSG Country SnS'!$G:$G,'Raw CSG Country SnS'!$B:$B,"FY19-Q4",'Raw CSG Country SnS'!$D:$D,"Norway")),"") -> -0.73561115
