Workbook
Name CPT_16: OFFSET(Date1,,1)
Name CPT_17: OFFSET(Date1,,2)
Name Date: OFFSET(Basetotale!$A$4,,,COUNT(test!$A:$A))
Name Date1: OFFSET(test!$A$2,,,COUNT(test!$A:$A))

Sheet Basetotale
B1: CPT16 | C1: CPT16 | D1: CPT17 | E1: CPT17
B2: P | C2: Q | D2: P | E2: Q
A3: 41262 | B3: 19223189 | C3: 6569955 | D3: 1109858 | E3: 3425152
A4: 41303 | B4: 19307678 | C4: 6607799 | D4: 1114742 | E4: 3428044
A5: 41318 | B5: 19373883 | C5: 6625881 | D5: 1118246 | E5: 3429555
A6: 41333 | B6: 19426924 | C6: 6644021 | D6: 1118553 | E6: 3430496
A7: 41347 | B7: 19462058 | C7: 6658626 | D7: 1120364 | E7: 3431652
A8: 41354 | B8: 19486139 | C8: 6666886 | D8: 1121291 | E8: 3432257
A9: 41360 | B9: 19497508 | C9: 7771669 | D9: 1121915 | E9: 3432589
A10: 41374 | B10: 19522343 | C10: 6685544 | D10: 1123902 | E10: 3433973
A11: 41389 | B11: 19602769 | C11: 6708161 | D11: 1126453 | E11: 3435957
A12: 41401 | B12: 19613549 | C12: 6718873 | D12: 1127629 | E12: 3436258

Sheet Base P journalier
B1: Nb jours | C1: CPT 16 | D1: CPT 17
A2: =Basetotale!A4 -> 41303 | B2: 41 | C2: =(((Basetotale!B4)-(Basetotale!B3))/('Base Q journalier'!B2)) -> 2060.7073 | D2: =(((Basetotale!D4)-(Basetotale!D3))/('Base Q journalier'!B2)) -> 119.12195
A3: =Basetotale!A5 -> 41318 | B3: =DATEDIF(A2,A3,"d") -> 15 | C3: =(((Basetotale!B5)-(Basetotale!B4))/('Base Q journalier'!B3)) -> 4413.6667 | D3: =(((Basetotale!D5)-(Basetotale!D4))/('Base Q journalier'!B3)) -> 233.6
A4: =Basetotale!A6 -> 41333 | B4: =DATEDIF(A3,A4,"d") -> 15 | C4: =(((Basetotale!B6)-(Basetotale!B5))/('Base Q journalier'!B4)) -> 3536.0667 | D4: =(((Basetotale!D6)-(Basetotale!D5))/('Base Q journalier'!B4)) -> 20.466667
A5: =Basetotale!A7 -> 41347 | B5: =DATEDIF(A4,A5,"d") -> 14 | C5: =(((Basetotale!B7)-(Basetotale!B6))/('Base Q journalier'!B5)) -> 2509.5714 | D5: =(((Basetotale!D7)-(Basetotale!D6))/('Base Q journalier'!B5)) -> 129.35714
A6: =Basetotale!A8 -> 41354 | B6: =DATEDIF(A5,A6,"d") -> 7 | C6: =(((Basetotale!B8)-(Basetotale!B7))/('Base Q journalier'!B6)) -> 3440.1429 | D6: =(((Basetotale!D8)-(Basetotale!D7))/('Base Q journalier'!B6)) -> 132.42857
A7: =Basetotale!A9 -> 41360 | B7: =DATEDIF(A6,A7,"d") -> 6 | C7: =(((Basetotale!B9)-(Basetotale!B8))/('Base Q journalier'!B7)) -> 1894.8333 | D7: =(((Basetotale!D9)-(Basetotale!D8))/('Base Q journalier'!B7)) -> 104
A8: =Basetotale!A10 -> 41374 | B8: =DATEDIF(A7,A8,"d") -> 14 | C8: =(((Basetotale!B10)-(Basetotale!B9))/('Base Q journalier'!B8)) -> 1773.9286 | D8: =(((Basetotale!D10)-(Basetotale!D9))/('Base Q journalier'!B8)) -> 141.92857
A9: =Basetotale!A11 -> 41389 | B9: =DATEDIF(A8,A9,"d") -> 15 | C9: =(((Basetotale!B11)-(Basetotale!B10))/('Base Q journalier'!B9)) -> 5361.7333 | D9: =(((Basetotale!D11)-(Basetotale!D10))/('Base Q journalier'!B9)) -> 170.06667
A10: =Basetotale!A12 -> 41401 | B10: =DATEDIF(A9,A10,"d") -> 12 | C10: =(((Basetotale!B12)-(Basetotale!B11))/('Base Q journalier'!B10)) -> 898.33333 | D10: =(((Basetotale!D12)-(Basetotale!D11))/('Base Q journalier'!B10)) -> 98
A11: =Basetotale!A13 -> 0 | B11: =DATEDIF(A10,A11,"d") -> #NUM! | C11: =(((Basetotale!B13)-(Basetotale!B12))/('Base Q journalier'!B11)) -> #NUM! | D11: =(((Basetotale!D13)-(Basetotale!D12))/('Base Q journalier'!B11)) -> #NUM!
A12: =Basetotale!A14 -> 0 | B12: =DATEDIF(A11,A12,"d") -> 0 | C12: =(((Basetotale!B14)-(Basetotale!B13))/('Base Q journalier'!B12)) -> #DIV/0! | D12: =(((Basetotale!D14)-(Basetotale!D13))/('Base Q journalier'!B12)) -> #DIV/0!
A13: =Basetotale!A15 -> 0 | B13: =DATEDIF(A12,A13,"d") -> 0 | C13: =(((Basetotale!B15)-(Basetotale!B14))/('Base Q journalier'!B13)) -> #DIV/0! | D13: =(((Basetotale!D15)-(Basetotale!D14))/('Base Q journalier'!B13)) -> #DIV/0!
A14: =Basetotale!A16 -> 0 | B14: =DATEDIF(A13,A14,"d") -> 0 | C14: =(((Basetotale!B16)-(Basetotale!B15))/('Base Q journalier'!B14)) -> #DIV/0! | D14: =(((Basetotale!D16)-(Basetotale!D15))/('Base Q journalier'!B14)) -> #DIV/0!
... A73: =Basetotale!A75 -> 0 | B73: =DATEDIF(A72,A73,"d") -> 0 | C73: =(((Basetotale!B75)-(Basetotale!B74))/('Base Q journalier'!B73)) -> #DIV/0! | D73: =(((Basetotale!D75)-(Basetotale!D74))/('Base Q journalier'!B73)) -> #DIV/0!

Sheet Base Q journalier
A1: 41262 | B1: Nb jours | C1: CPT 16 | D1: CPT 17
A2: 41303 | B2: =DATEDIF(A1,A2,"d") -> 41 | C2: =(((Basetotale!C4)-(Basetotale!C3))/('Base Q journalier'!B2)) -> 923.02439 | D2: =(((Basetotale!E4)-(Basetotale!E3))/('Base Q journalier'!B2)) -> 70.536585
A3: 41318 | B3: =DATEDIF(A2,A3,"d") -> 15 | C3: =(((Basetotale!C5)-(Basetotale!C4))/('Base Q journalier'!B3)) -> 1205.4667 | D3: =(((Basetotale!E5)-(Basetotale!E4))/('Base Q journalier'!B3)) -> 100.73333
A4: 41333 | B4: =DATEDIF(A3,A4,"d") -> 15 | C4: =(((Basetotale!C6)-(Basetotale!C5))/('Base Q journalier'!B4)) -> 1209.3333 | D4: =(((Basetotale!E6)-(Basetotale!E5))/('Base Q journalier'!B4)) -> 62.733333
A5: 41347 | B5: =DATEDIF(A4,A5,"d") -> 14 | C5: =(((Basetotale!C7)-(Basetotale!C6))/('Base Q journalier'!B5)) -> 1043.2143 | D5: =(((Basetotale!E7)-(Basetotale!E6))/('Base Q journalier'!B5)) -> 82.571429
A6: 41354 | B6: =DATEDIF(A5,A6,"d") -> 7 | C6: =(((Basetotale!C8)-(Basetotale!C7))/('Base Q journalier'!B6)) -> 1180 | D6: =(((Basetotale!E8)-(Basetotale!E7))/('Base Q journalier'!B6)) -> 86.428571
A7: 41360 | B7: =DATEDIF(A6,A7,"d") -> 6 | C7: =(((Basetotale!C9)-(Basetotale!C8))/('Base Q journalier'!B7)) -> 184130.5 | D7: =(((Basetotale!E9)-(Basetotale!E8))/('Base Q journalier'!B7)) -> 55.333333
A8: 41374 | B8: =DATEDIF(A7,A8,"d") -> 14 | C8: =(((Basetotale!C10)-(Basetotale!C9))/('Base Q journalier'!B8)) -> -77580.357 | D8: =(((Basetotale!E10)-(Basetotale!E9))/('Base Q journalier'!B8)) -> 98.857143
A9: 41389 | B9: =DATEDIF(A8,A9,"d") -> 15 | C9: =(((Basetotale!C11)-(Basetotale!C10))/('Base Q journalier'!B9)) -> 1507.8 | D9: =(((Basetotale!E11)-(Basetotale!E10))/('Base Q journalier'!B9)) -> 132.26667
A10: 41401 | B10: =DATEDIF(A9,A10,"d") -> 12 | C10: =(((Basetotale!C12)-(Basetotale!C11))/('Base Q journalier'!B10)) -> 892.66667 | D10: =(((Basetotale!E12)-(Basetotale!E11))/('Base Q journalier'!B10)) -> 25.083333
A11: 0 | B11: =DATEDIF(A10,A11,"d") -> #NUM! | C11: =(((Basetotale!C13)-(Basetotale!C12))/('Base Q journalier'!B11)) -> #NUM! | D11: =(((Basetotale!E13)-(Basetotale!E12))/('Base Q journalier'!B11)) -> #NUM!
A12: 0 | B12: =DATEDIF(A11,A12,"d") -> 0 | C12: =(((Basetotale!C14)-(Basetotale!C13))/('Base Q journalier'!B12)) -> #DIV/0! | D12: =(((Basetotale!E14)-(Basetotale!E13))/('Base Q journalier'!B12)) -> #DIV/0!
A13: 0 | B13: =DATEDIF(A12,A13,"d") -> 0 | C13: =(((Basetotale!C15)-(Basetotale!C14))/('Base Q journalier'!B13)) -> #DIV/0! | D13: =(((Basetotale!E15)-(Basetotale!E14))/('Base Q journalier'!B13)) -> #DIV/0!
... A73: 0 | B73: =DATEDIF(A72,A73,"d") -> 0 | C73: =(((Basetotale!C75)-(Basetotale!C74))/('Base Q journalier'!B73)) -> #DIV/0! | D73: =(((Basetotale!E75)-(Basetotale!E74))/('Base Q journalier'!B73)) -> #DIV/0!

Sheet test
B1: CPT16 | C1: CPT17
A2: =IF(Basetotale!A4="","",Basetotale!A4) -> 41303 | B2: =IF(A2="","",IF(((('Base Q journalier'!C2)-(('Base P journalier'!C2*0.4)))/24)<0,"0",((('Base Q journalier'!C2)-(('Base P journalier'!C2*0.4)))/24))) -> 4.1142276 | C2: =IF(A2="","",IF(((('Base Q journalier'!D2)-(('Base P journalier'!D2*0.4)))/24)<0,"0",((('Base Q journalier'!D2)-(('Base P journalier'!D2*0.4)))/24))) -> 0.95365854
A3: =IF(Basetotale!A5="","",Basetotale!A5) -> 41318 | B3: =IF(A3="","",IF(((('Base Q journalier'!C3)-(('Base P journalier'!C3*0.4)))/24)<0,"0",((('Base Q journalier'!C3)-(('Base P journalier'!C3*0.4)))/24))) -> 0 | C3: =IF(A3="","",IF(((('Base Q journalier'!D3)-(('Base P journalier'!D3*0.4)))/24)<0,"0",((('Base Q journalier'!D3)-(('Base P journalier'!D3*0.4)))/24))) -> 0.30388889
A4: =IF(Basetotale!A6="","",Basetotale!A6) -> 41333 | B4: =IF(A4="","",IF(((('Base Q journalier'!C4)-(('Base P journalier'!C4*0.4)))/24)<0,"0",((('Base Q journalier'!C4)-(('Base P journalier'!C4*0.4)))/24))) -> 0 | C4: =IF(A4="","",IF(((('Base Q journalier'!D4)-(('Base P journalier'!D4*0.4)))/24)<0,"0",((('Base Q journalier'!D4)-(('Base P journalier'!D4*0.4)))/24))) -> 2.2727778
A5: =IF(Basetotale!A7="","",Basetotale!A7) -> 41347 | B5: =IF(A5="","",IF(((('Base Q journalier'!C5)-(('Base P journalier'!C5*0.4)))/24)<0,"0",((('Base Q journalier'!C5)-(('Base P journalier'!C5*0.4)))/24))) -> 1.6410714 | C5: =IF(A5="","",IF(((('Base Q journalier'!D5)-(('Base P journalier'!D5*0.4)))/24)<0,"0",((('Base Q journalier'!D5)-(('Base P journalier'!D5*0.4)))/24))) -> 1.2845238
A6: =IF(Basetotale!A8="","",Basetotale!A8) -> 41354 | B6: =IF(A6="","",IF(((('Base Q journalier'!C6)-(('Base P journalier'!C6*0.4)))/24)<0,"0",((('Base Q journalier'!C6)-(('Base P journalier'!C6*0.4)))/24))) -> 0 | C6: =IF(A6="","",IF(((('Base Q journalier'!D6)-(('Base P journalier'!D6*0.4)))/24)<0,"0",((('Base Q journalier'!D6)-(('Base P journalier'!D6*0.4)))/24))) -> 1.3940476
A7: =IF(Basetotale!A9="","",Basetotale!A9) -> 41360 | B7: =IF(A7="","",IF(((('Base Q journalier'!C7)-(('Base P journalier'!C7*0.4)))/24)<0,"0",((('Base Q journalier'!C7)-(('Base P journalier'!C7*0.4)))/24))) -> 7640.5236 | C7: =IF(A7="","",IF(((('Base Q journalier'!D7)-(('Base P journalier'!D7*0.4)))/24)<0,"0",((('Base Q journalier'!D7)-(('Base P journalier'!D7*0.4)))/24))) -> 0.57222222
A8: =IF(Basetotale!A10="","",Basetotale!A10) -> 41374 | B8: =IF(A8="","",IF(((('Base Q journalier'!C8)-(('Base P journalier'!C8*0.4)))/24)<0,"0",((('Base Q journalier'!C8)-(('Base P journalier'!C8*0.4)))/24))) -> 0 | C8: =IF(A8="","",IF(((('Base Q journalier'!D8)-(('Base P journalier'!D8*0.4)))/24)<0,"0",((('Base Q journalier'!D8)-(('Base P journalier'!D8*0.4)))/24))) -> 1.7535714
A9: =IF(Basetotale!A11="","",Basetotale!A11) -> 41389 | B9: =IF(A9="","",IF(((('Base Q journalier'!C9)-(('Base P journalier'!C9*0.4)))/24)<0,"0",((('Base Q journalier'!C9)-(('Base P journalier'!C9*0.4)))/24))) -> 0 | C9: =IF(A9="","",IF(((('Base Q journalier'!D9)-(('Base P journalier'!D9*0.4)))/24)<0,"0",((('Base Q journalier'!D9)-(('Base P journalier'!D9*0.4)))/24))) -> 2.6766667
A10: =IF(Basetotale!A12="","",Basetotale!A12) -> 41401 | B10: =IF(A10="","",IF(((('Base Q journalier'!C10)-(('Base P journalier'!C10*0.4)))/24)<0,"0",((('Base Q journalier'!C10)-(('Base P journalier'!C10*0.4)))/24))) -> 22.222222 | C10: =IF(A10="","",IF(((('Base Q journalier'!D10)-(('Base P journalier'!D10*0.4)))/24)<0,"0",((('Base Q journalier'!D10)-(('Base P journalier'!D10*0.4)))/24))) -> 0
A11: =IF(Basetotale!A13="","",Basetotale!A13) | B11: =IF(A11="","",IF(((('Base Q journalier'!C11)-(('Base P journalier'!C11*0.4)))/24)<0,"0",((('Base Q journalier'!C11)-(('Base P journalier'!C11*0.4)))/24))) | C11: =IF(A11="","",IF(((('Base Q journalier'!D11)-(('Base P journalier'!D11*0.4)))/24)<0,"0",((('Base Q journalier'!D11)-(('Base P journalier'!D11*0.4)))/24)))
A12: =IF(Basetotale!A14="","",Basetotale!A14) | B12: =IF(A12="","",IF(((('Base Q journalier'!C12)-(('Base P journalier'!C12*0.4)))/24)<0,"0",((('Base Q journalier'!C12)-(('Base P journalier'!C12*0.4)))/24))) | C12: =IF(A12="","",IF(((('Base Q journalier'!D12)-(('Base P journalier'!D12*0.4)))/24)<0,"0",((('Base Q journalier'!D12)-(('Base P journalier'!D12*0.4)))/24)))
A13: =IF(Basetotale!A15="","",Basetotale!A15) | B13: =IF(A13="","",IF(((('Base Q journalier'!C13)-(('Base P journalier'!C13*0.4)))/24)<0,"0",((('Base Q journalier'!C13)-(('Base P journalier'!C13*0.4)))/24))) | C13: =IF(A13="","",IF(((('Base Q journalier'!D13)-(('Base P journalier'!D13*0.4)))/24)<0,"0",((('Base Q journalier'!D13)-(('Base P journalier'!D13*0.4)))/24)))
... A40: =IF(Basetotale!A42="","",Basetotale!A42) | B40: =IF(A40="","",IF(((('Base Q journalier'!C40)-(('Base P journalier'!C40*0.4)))/24)<0,"0",((('Base Q journalier'!C40)-(('Base P journalier'!C40*0.4)))/24))) | C40: =IF(A40="","",IF(((('Base Q journalier'!D40)-(('Base P journalier'!D40*0.4)))/24)<0,"0",((('Base Q journalier'!D40)-(('Base P journalier'!D40*0.4)))/24)))
