Workbook
Name REAL_D: OFFSET(C.Chèque_nb_ouvertures!$B$25,,,,COUNTIF(C.Chèque_nb_ouvertures!$26:$26,">0"))

Sheet Analyse des performances
A1: Analyse des performances
A7: Réalisé Cumulé | B7: du | C7: 40909 | D7: au | E7: 41122
A8: AGADIR | B8: =" + "&(E8-C8) -> + 14835 | C8: =OFFSET(C.Chèque_nb_ouvertures!B26,,MATCH('Analyse des performances'!C$7,REAL_D,0)-1) -> 3512 | E8: =OFFSET(C.Chèque_nb_ouvertures!C26,,MATCH('Analyse des performances'!E$7,REAL_D,0)-2) -> 18347
A9: CASABLANCA | B9: =" + "&(E9-C9) -> + 28944 | C9: =OFFSET(C.Chèque_nb_ouvertures!B27,,MATCH('Analyse des performances'!C$7,REAL_D,0)-1) -> 4861 | E9: =OFFSET(C.Chèque_nb_ouvertures!C27,,MATCH('Analyse des performances'!E$7,REAL_D,0)-2) -> 33805
A10: EL JADIDA | B10: =" + "&(E10-C10) -> + 17087 | C10: =OFFSET(C.Chèque_nb_ouvertures!B28,,MATCH('Analyse des performances'!C$7,REAL_D,0)-1) -> 2965 | E10: =OFFSET(C.Chèque_nb_ouvertures!C28,,MATCH('Analyse des performances'!E$7,REAL_D,0)-2) -> 20052
A11: FES | B11: =" + "&(E11-C11) -> + 12189 | C11: =OFFSET(C.Chèque_nb_ouvertures!B29,,MATCH('Analyse des performances'!C$7,REAL_D,0)-1) -> 2728 | E11: =OFFSET(C.Chèque_nb_ouvertures!C29,,MATCH('Analyse des performances'!E$7,REAL_D,0)-2) -> 14917
A12: LAAYOUNE | B12: =" + "&(E12-C12) -> + 3335 | C12: =OFFSET(C.Chèque_nb_ouvertures!B30,,MATCH('Analyse des performances'!C$7,REAL_D,0)-1) -> 637 | E12: =OFFSET(C.Chèque_nb_ouvertures!C30,,MATCH('Analyse des performances'!E$7,REAL_D,0)-2) -> 3972
A13: MARRAKECH | B13: =" + "&(E13-C13) -> + 15749 | C13: =OFFSET(C.Chèque_nb_ouvertures!B31,,MATCH('Analyse des performances'!C$7,REAL_D,0)-1) -> 3425 | E13: =OFFSET(C.Chèque_nb_ouvertures!C31,,MATCH('Analyse des performances'!E$7,REAL_D,0)-2) -> 19174
A14: MEKNES | B14: =" + "&(E14-C14) -> + 14065 | C14: =OFFSET(C.Chèque_nb_ouvertures!B32,,MATCH('Analyse des performances'!C$7,REAL_D,0)-1) -> 3192 | E14: =OFFSET(C.Chèque_nb_ouvertures!C32,,MATCH('Analyse des performances'!E$7,REAL_D,0)-2) -> 17257
A15: OUJDA | B15: =" + "&(E15-C15) -> + 14294 | C15: =OFFSET(C.Chèque_nb_ouvertures!B33,,MATCH('Analyse des performances'!C$7,REAL_D,0)-1) -> 2336 | E15: =OFFSET(C.Chèque_nb_ouvertures!C33,,MATCH('Analyse des performances'!E$7,REAL_D,0)-2) -> 16630
A16: RABAT | B16: =" + "&(E16-C16) -> + 23361 | C16: =OFFSET(C.Chèque_nb_ouvertures!B34,,MATCH('Analyse des performances'!C$7,REAL_D,0)-1) -> 4391 | E16: =OFFSET(C.Chèque_nb_ouvertures!C34,,MATCH('Analyse des performances'!E$7,REAL_D,0)-2) -> 27752
A17: TANGER | B17: =" + "&(E17-C17) -> + 13604 | C17: =OFFSET(C.Chèque_nb_ouvertures!B35,,MATCH('Analyse des performances'!C$7,REAL_D,0)-1) -> 2229 | E17: =OFFSET(C.Chèque_nb_ouvertures!C35,,MATCH('Analyse des performances'!E$7,REAL_D,0)-2) -> 15833

Sheet C.Chèque_nb_ouvertures
A1: (en nombre) | B1: =+B6 -> 40544 | C1: =+C6 -> 40575 | D1: =+D6 -> 40603 | E1: =+E6 -> 40634 | F1: =+F6 -> 40664 | G1: =+G6 -> 40695 | H1: =+H6 -> 40725 | I1: =+I6 -> 40756 | ... JQ1: =+JQ6 -> 48914
A2: SIRD | B2: 2 | C2: 3 | D2: 4 | E2: 5 | F2: 6 | G2: 7 | H2: 8 | I2: 9 | J2: 10 | K2: 11 | L2: 12 | M2: 13 | N2: 14 | O2: 15 | P2: 16 | Q2: 17 | R2: 18 | S2: 19 | T2: 20 | U2: 21 | V2: 22 | W2: 23 | X2: 24 | Y2: 25 | Z2: 26 | AA2: 27 | AB2: 28 | AC2: 29 | AD2: 30 | AE2: 31 | AF2: 32 | AG2: 33 | AH2: 34 | AI2: 35 | AJ2: 36 | AK2: 37 | AL2: 38 | AM2: 39 | AN2: 40 | AO2: 41 | AP2: 42 | AQ2: 43 | AR2: 44 | AS2: 45 | AT2: 46 | AU2: 47 | AV2: 48 | AW2: 49 | AX2: 50 | AY2: 51 | AZ2: 52 | BA2: 53 | BB2: 54 | BC2: 55 | BD2: 56 | BE2: 57 | BF2: 58 | BG2: 59 | BH2: 60 | BI2: 61 | BJ2: 62 | BK2: 63 | BL2: 64 | BM2: 65 | BN2: 66 | BO2: 67 | BP2: 68 | BQ2: 69 | BR2: 70 | BS2: 71 | BT2: 72 | BU2: 73 | BV2: 74 | BW2: 75 | BX2: 76 | BY2: 77 | BZ2: 78 | CA2: 79 | CB2: 80 | CC2: 81 | CD2: 82 | CE2: 83 | CF2: 84 | CG2: 85 | CH2: 86 | CI2: 87 | CJ2: 88 | CK2: 89 | CL2: 90 | CM2: 91 | CN2: 92 | CO2: 93 | CP2: 94 | CQ2: 95 | CR2: 96 | CS2: 97 | CT2: 98 | CU2: 99 | CV2: 100 | CW2: 101 | CX2: 102 | CY2: 103 | CZ2: 104 | DA2: 105 | DB2: 106 | DC2: 107 | DD2: 108 | DE2: 109 | DF2: 110 | DG2: 111 | DH2: 112 | DI2: 113 | DJ2: 114 | DK2: 115 | DL2: 116 | DM2: 117 | DN2: 118 | DO2: 119 | DP2: 120 | DQ2: 121 | DR2: 122 | DS2: 123 | DT2: 124 | DU2: 125 | DV2: 126 | DW2: 127 | DX2: 128 | DY2: 129 | DZ2: 130 | EA2: 131 | EB2: 132 | EC2: 133 | ED2: 134 | EE2: 135 | EF2: 136 | EG2: 137 | EH2: 138 | EI2: 139 | EJ2: 140 | EK2: 141 | EL2: 142 | EM2: 143 | EN2: 144 | EO2: 145 | EP2: 146 | EQ2: 147 | ER2: 148 | ES2: 149 | ET2: 150 | EU2: 151 | EV2: 152 | EW2: 153 | EX2: 154 | EY2: 155 | EZ2: 156 | FA2: 157 | FB2: 158 | FC2: 159 | FD2: 160 | FE2: 161 | FF2: 162 | FG2: 163 | FH2: 164 | FI2: 165 | FJ2: 166 | FK2: 167 | FL2: 168 | FM2: 169 | FN2: 170 | FO2: 171 | FP2: 172 | FQ2: 173 | FR2: 174 | FS2: 175 | FT2: 176 | FU2: 177 | FV2: 178 | FW2: 179 | FX2: 180 | FY2: 181 | FZ2: 182 | GA2: 183 | GB2: 184 | GC2: 185 | GD2: 186 | GE2: 187 | GF2: 188 | GG2: 189 | GH2: 190 | GI2: 191 | GJ2: 192 | GK2: 193 | GL2: 194 | GM2: 195 | GN2: 196 | GO2: 197 | GP2: 198 | GQ2: 199 | GR2: 200 | GS2: 201 | GT2: 202 | GU2: 203 | GV2: 204 | GW2: 205 | GX2: 206 | GY2: 207 | GZ2: 208 | HA2: 209 | HB2: 210 | HC2: 211 | HD2: 212 | HE2: 213 | HF2: 214 | HG2: 215 | HH2: 216 | HI2: 217 | HJ2: 218 | HK2: 219 | HL2: 220 | HM2: 221 | HN2: 222 | HO2: 223 | HP2: 224 | HQ2: 225 | HR2: 226 | HS2: 227 | HT2: 228 | HU2: 229 | HV2: 230 | HW2: 231 | HX2: 232 | HY2: 233 | HZ2: 234 | IA2: 235 | IB2: 236 | IC2: 237 | ID2: 238 | IE2: 239 | IF2: 240 | IG2: 241 | IH2: 242 | II2: 243 | IJ2: 244 | IK2: 245 | IL2: 246 | IM2: 247 | IN2: 248 | IO2: 249 | IP2: 250 | IQ2: 251 | IR2: 252 | IS2: 253 | IT2: 254 | IU2: 255 | IV2: 256 | IW2: 257 | IX2: 258 | IY2: 259 | IZ2: 260 | JA2: 261 | JB2: 262 | JC2: 263 | JD2: 264 | JE2: 265 | JF2: 266 | JG2: 267 | JH2: 268 | JI2: 269 | JJ2: 270 | JK2: 271 | JL2: 272 | JM2: 273 | JN2: 274 | JO2: 275 | JP2: 276 | JQ2: 277
AL4: A METTRE A JOUR DEPUIS JANVIER
A6: Réalisé Mensuel | B6: 40544 | C6: 40575 | D6: 40603 | E6: 40634 | F6: 40664 | G6: 40695 | H6: 40725 | I6: 40756 | J6: 40787 | K6: 40817 | L6: 40848 | M6: 40878 | N6: 40909 | O6: 40940 | P6: 40969 | Q6: 41000 | R6: 41030 | S6: 41061 | T6: 41091 | U6: 41122 | V6: 41153 | W6: 41183 | X6: 41214 | Y6: 41244 | Z6: 41275 | AA6: 41306 | AB6: 41334 | AC6: 41365 | AD6: 41395 | AE6: 41426 | AF6: 41456 | AG6: 41487 | AH6: 41518 | AI6: 41548 | AJ6: 41579 | AK6: 41609 | AL6: 41640 | AM6: 41671 | AN6: 41699 | AO6: 41730 | AP6: 41760 | AQ6: 41791 | AR6: 41821 | AS6: 41852 | AT6: 41883 | AU6: 41913 | AV6: 41944 | AW6: 41974 | AX6: 42005 | AY6: 42036 | AZ6: 42064 | BA6: 42095 | BB6: 42125 | BC6: 42156 | BD6: 42186 | BE6: 42217 | BF6: 42248 | BG6: 42278 | BH6: 42309 | BI6: 42339 | BJ6: 42370 | BK6: 42401 | BL6: 42430 | BM6: 42461 | BN6: 42491 | BO6: 42522 | BP6: 42552 | BQ6: 42583 | BR6: 42614 | BS6: 42644 | BT6: 42675 | BU6: 42705 | BV6: 42736 | BW6: 42767 | BX6: 42795 | BY6: 42826 | BZ6: 42856 | CA6: 42887 | CB6: 42917 | CC6: 42948 | CD6: 42979 | CE6: 43009 | CF6: 43040 | CG6: 43070 | CH6: 43101 | CI6: 43132 | CJ6: 43160 | CK6: 43191 | CL6: 43221 | CM6: 43252 | CN6: 43282 | CO6: 43313 | CP6: 43344 | CQ6: 43374 | CR6: 43405 | CS6: 43435 | CT6: 43466 | CU6: 43497 | CV6: 43525 | CW6: 43556 | CX6: 43586 | CY6: 43617 | CZ6: 43647 | DA6: 43678 | DB6: 43709 | DC6: 43739 | DD6: 43770 | DE6: 43800 | DF6: 43831 | DG6: 43862 | DH6: 43891 | DI6: 43922 | DJ6: 43952 | DK6: 43983 | DL6: 44013 | DM6: 44044 | DN6: 44075 | DO6: 44105 | DP6: 44136 | DQ6: 44166 | DR6: 44197 | DS6: 44228 | DT6: 44256 | DU6: 44287 | DV6: 44317 | DW6: 44348 | DX6: 44378 | DY6: 44409 | DZ6: 44440 | EA6: 44470 | EB6: 44501 | EC6: 44531 | ED6: 44562 | EE6: 44593 | EF6: 44621 | EG6: 44652 | EH6: 44682 | EI6: 44713 | EJ6: 44743 | EK6: 44774 | EL6: 44805 | EM6: 44835 | EN6: 44866 | EO6: 44896 | EP6: 44927 | EQ6: 44958 | ER6: 44986 | ES6: 45017 | ET6: 45047 | EU6: 45078 | EV6: 45108 | EW6: 45139 | EX6: 45170 | EY6: 45200 | EZ6: 45231 | FA6: 45261 | FB6: 45292 | FC6: 45323 | FD6: 45352 | FE6: 45383 | FF6: 45413 | FG6: 45444 | FH6: 45474 | FI6: 45505 | FJ6: 45536 | FK6: 45566 | FL6: 45597 | FM6: 45627 | FN6: 45658 | FO6: 45689 | FP6: 45717 | FQ6: 45748 | FR6: 45778 | FS6: 45809 | FT6: 45839 | FU6: 45870 | FV6: 45901 | FW6: 45931 | FX6: 45962 | FY6: 45992 | FZ6: 46023 | GA6: 46054 | GB6: 46082 | GC6: 46113 | GD6: 46143 | GE6: 46174 | GF6: 46204 | GG6: 46235 | GH6: 46266 | GI6: 46296 | GJ6: 46327 | GK6: 46357 | GL6: 46388 | GM6: 46419 | GN6: 46447 | GO6: 46478 | GP6: 46508 | GQ6: 46539 | GR6: 46569 | GS6: 46600 | GT6: 46631 | GU6: 46661 | GV6: 46692 | GW6: 46722 | GX6: 46753 | GY6: 46784 | GZ6: 46813 | HA6: 46844 | HB6: 46874 | HC6: 46905 | HD6: 46935 | HE6: 46966 | HF6: 46997 | HG6: 47027 | HH6: 47058 | HI6: 47088 | HJ6: 47119 | HK6: 47150 | HL6: 47178 | HM6: 47209 | HN6: 47239 | HO6: 47270 | HP6: 47300 | HQ6: 47331 | HR6: 47362 | HS6: 47392 | HT6: 47423 | HU6: 47453 | HV6: 47484 | HW6: 47515 | HX6: 47543 | HY6: 47574 | HZ6: 47604 | IA6: 47635 | IB6: 47665 | IC6: 47696 | ID6: 47727 | IE6: 47757 | IF6: 47788 | IG6: 47818 | IH6: 47849 | II6: 47880 | IJ6: 47908 | IK6: 47939 | IL6: 47969 | IM6: 48000 | IN6: 48030 | IO6: 48061 | IP6: 48092 | IQ6: 48122 | IR6: 48153 | IS6: 48183 | IT6: 48214 | IU6: 48245 | IV6: 48274 | IW6: 48305 | IX6: 48335 | IY6: 48366 | IZ6: 48396 | JA6: 48427 | JB6: 48458 | JC6: 48488 | JD6: 48519 | JE6: 48549 | JF6: 48580 | JG6: 48611 | JH6: 48639 | JI6: 48670 | JJ6: 48700 | JK6: 48731 | JL6: 48761 | JM6: 48792 | JN6: 48823 | JO6: 48853 | JP6: 48884 | JQ6: 48914
A7: AGADIR | B7: 3930 | C7: 2631 | D7: 2489 | E7: 2931 | F7: 3139 | G7: 2915 | H7: 1932 | I7: 1715 | J7: 2014 | K7: 1849 | L7: 1584 | M7: 1839 | N7: 3512 | O7: 2451 | P7: 2730 | Q7: 2327 | R7: 2148 | S7: 2087 | T7: 1712 | U7: 1380 | V7: 1946 | W7: 6172 | X7: 2057 | Y7: 2072 | Z7: 2668 | AA7: 3259 | AB7: 2423 | AC7: 3358 | AD7: 2928 | AE7: 3150 | AF7: 2029 | AG7: 1503 | AH7: 2502 | AI7: 2790 | AJ7: 2327 | AK7: 2085 | AL7: 6791 | AM7: 3679 | AN7: 4754 | AO7: 5804 | AP7: 3195 | AQ7: 3146 | AR7: 2241 | AS7: 2608
A8: CASABLANCA | B8: 5258 | C8: 3443 | D8: 5901 | E8: 6979 | F8: 4427 | G8: 4699 | H8: 3711 | I8: 3082 | J8: 3984 | K8: 4688 | L8: 3163 | M8: 3468 | N8: 4861 | O8: 4859 | P8: 4408 | Q8: 3533 | R8: 4595 | S8: 4520 | T8: 4077 | U8: 2952 | V8: 3679 | W8: 4284 | X8: 3808 | Y8: 3384 | Z8: 4232 | AA8: 3774 | AB8: 4706 | AC8: 5830 | AD8: 4280 | AE8: 4101 | AF8: 3862 | AG8: 3020 | AH8: 3574 | AI8: 4059 | AJ8: 3259 | AK8: 3141 | AL8: 4444 | AM8: 5015 | AN8: 6178 | AO8: 5882 | AP8: 6272 | AQ8: 6398 | AR8: 5272 | AS8: 5753
A9: EL JADIDA | B9: 3358 | C9: 2624 | D9: 3143 | E9: 4392 | F9: 4897 | G9: 4355 | H9: 2379 | I9: 1968 | J9: 2113 | K9: 2168 | L9: 1674 | M9: 1787 | N9: 2965 | O9: 2969 | P9: 2648 | Q9: 2361 | R9: 2208 | S9: 2673 | T9: 2243 | U9: 1985 | V9: 2958 | W9: 9026 | X9: 2642 | Y9: 2803 | Z9: 3231 | AA9: 2780 | AB9: 3311 | AC9: 4419 | AD9: 3792 | AE9: 2656 | AF9: 2348 | AG9: 1977 | AH9: 2416 | AI9: 2475 | AJ9: 1937 | AK9: 2415 | AL9: 7918 | AM9: 4870 | AN9: 3450 | AO9: 4409 | AP9: 3140 | AQ9: 2670 | AR9: 2710 | AS9: 2486
A10: FES | B10: 1932 | C10: 1731 | D10: 3032 | E10: 3169 | F10: 3399 | G10: 2456 | H10: 2151 | I10: 1783 | J10: 1991 | K10: 2914 | L10: 1696 | M10: 1687 | N10: 2728 | O10: 2152 | P10: 2087 | Q10: 1513 | R10: 1647 | S10: 1577 | T10: 1289 | U10: 1924 | V10: 1830 | W10: 5551 | X10: 1757 | Y10: 1614 | Z10: 1674 | AA10: 3249 | AB10: 2557 | AC10: 1989 | AD10: 2930 | AE10: 1756 | AF10: 1355 | AG10: 1300 | AH10: 1936 | AI10: 1401 | AJ10: 1120 | AK10: 1361 | AL10: 2281 | AM10: 1598 | AN10: 2202 | AO10: 2561 | AP10: 2576 | AQ10: 1698 | AR10: 2121 | AS10: 1950
A11: LAAYOUNE | B11: 555 | C11: 578 | D11: 615 | E11: 452 | F11: 453 | G11: 522 | H11: 561 | I11: 694 | J11: 624 | K11: 454 | L11: 306 | M11: 301 | N11: 637 | O11: 493 | P11: 424 | Q11: 512 | R11: 497 | S11: 442 | T11: 495 | U11: 472 | V11: 463 | W11: 532 | X11: 437 | Y11: 703 | Z11: 703 | AA11: 807 | AB11: 1753 | AC11: 1939 | AD11: 594 | AE11: 444 | AF11: 393 | AG11: 333 | AH11: 335 | AI11: 281 | AJ11: 300 | AK11: 298 | AL11: 579 | AM11: 1092 | AN11: 2403 | AO11: 959 | AP11: 696 | AQ11: 593 | AR11: 431 | AS11: 433
A12: MARRAKECH | B12: 3403 | C12: 2083 | D12: 2832 | E12: 4010 | F12: 3316 | G12: 2771 | H12: 2441 | I12: 1650 | J12: 1807 | K12: 1699 | L12: 1800 | M12: 1568 | N12: 3425 | O12: 2393 | P12: 2112 | Q12: 3037 | R12: 2198 | S12: 3040 | T12: 1509 | U12: 1460 | V12: 2189 | W12: 4346 | X12: 2109 | Y12: 1764 | Z12: 2636 | AA12: 3175 | AB12: 2921 | AC12: 2466 | AD12: 2379 | AE12: 2369 | AF12: 1930 | AG12: 1606 | AH12: 2218 | AI12: 1917 | AJ12: 1255 | AK12: 1873 | AL12: 4356 | AM12: 3034 | AN12: 3488 | AO12: 3547 | AP12: 2858 | AQ12: 3096 | AR12: 2747 | AS12: 2112
A13: MEKNES | B13: 3288 | C13: 2462 | D13: 2789 | E13: 2762 | F13: 3194 | G13: 3340 | H13: 2494 | I13: 1678 | J13: 2007 | K13: 2142 | L13: 1779 | M13: 1468 | N13: 3192 | O13: 2671 | P13: 2288 | Q13: 1845 | R13: 2023 | S13: 1926 | T13: 1461 | U13: 1851 | V13: 3299 | W13: 4831 | X13: 2116 | Y13: 1921 | Z13: 3072 | AA13: 3513 | AB13: 3130 | AC13: 2944 | AD13: 2809 | AE13: 2164 | AF13: 1850 | AG13: 1489 | AH13: 3345 | AI13: 3439 | AJ13: 2432 | AK13: 1632 | AL13: 3443 | AM13: 3744 | AN13: 3423 | AO13: 3877 | AP13: 2745 | AQ13: 2198 | AR13: 1461 | AS13: 1769
A14: OUJDA | B14: 2099 | C14: 2615 | D14: 2338 | E14: 2490 | F14: 2631 | G14: 2393 | H14: 1581 | I14: 1391 | J14: 1847 | K14: 1628 | L14: 1150 | M14: 1167 | N14: 2336 | O14: 1913 | P14: 2648 | Q14: 2055 | R14: 2279 | S14: 2294 | T14: 1772 | U14: 1333 | V14: 2230 | W14: 3941 | X14: 1502 | Y14: 1476 | Z14: 2261 | AA14: 2373 | AB14: 2340 | AC14: 2237 | AD14: 2282 | AE14: 2368 | AF14: 1716 | AG14: 1150 | AH14: 1217 | AI14: 1413 | AJ14: 1223 | AK14: 1517 | AL14: 3849 | AM14: 2782 | AN14: 3173 | AO14: 3246 | AP14: 1987 | AQ14: 2075 | AR14: 1449 | AS14: 1402
A15: RABAT | B15: 4505 | C15: 3647 | D15: 4762 | E15: 5084 | F15: 5399 | G15: 4268 | H15: 2630 | I15: 2375 | J15: 2951 | K15: 3143 | L15: 3521 | M15: 3253 | N15: 4391 | O15: 3980 | P15: 3916 | Q15: 3160 | R15: 4275 | S15: 3356 | T15: 2397 | U15: 2277 | V15: 4705 | W15: 4718 | X15: 3161 | Y15: 2074 | Z15: 3021 | AA15: 5403 | AB15: 4349 | AC15: 3963 | AD15: 4318 | AE15: 3948 | AF15: 3316 | AG15: 2330 | AH15: 3286 | AI15: 3167 | AJ15: 2292 | AK15: 2152 | AL15: 6648 | AM15: 4929 | AN15: 5484 | AO15: 4844 | AP15: 5208 | AQ15: 3846 | AR15: 2955 | AS15: 2762
A16: TANGER | B16: 2241 | C16: 1501 | D16: 1781 | E16: 2787 | F16: 3187 | G16: 2529 | H16: 1533 | I16: 1654 | J16: 1731 | K16: 2012 | L16: 1310 | M16: 1676 | N16: 2229 | O16: 2155 | P16: 2406 | Q16: 1734 | R16: 2114 | S16: 1818 | T16: 1528 | U16: 1849 | V16: 1692 | W16: 2437 | X16: 1452 | Y16: 1652 | Z16: 1895 | AA16: 2048 | AB16: 1789 | AC16: 2180 | AD16: 2830 | AE16: 1921 | AF16: 1510 | AG16: 1029 | AH16: 1627 | AI16: 1412 | AJ16: 1610 | AK16: 3292 | AL16: 3098 | AM16: 2766 | AN16: 3008 | AO16: 2785 | AP16: 2689 | AQ16: 2879 | AR16: 1315 | AS16: 1839
A17: ABB | B17: =SUM(B7:B16) -> 30569 | C17: =SUM(C7:C16) -> 23315 | D17: =SUM(D7:D16) -> 29682 | E17: =SUM(E7:E16) -> 35056 | F17: =SUM(F7:F16) -> 34042 | G17: =SUM(G7:G16) -> 30248 | H17: =SUM(H7:H16) -> 21413 | I17: =SUM(I7:I16) -> 17990 | ... JQ17: =SUM(JQ7:JQ16) -> 0
A25: Réalisé Cumulé | B25: 40544 | C25: 40575 | D25: 40603 | E25: 40634 | F25: 40664 | G25: 40695 | H25: 40725 | I25: 40756 | J25: 40787 | K25: 40817 | L25: 40848 | M25: 40878 | N25: 40909 | O25: 40940 | P25: 40969 | Q25: 41000 | R25: 41030 | S25: 41061 | T25: 41091 | U25: 41122 | V25: 41153 | W25: 41183 | X25: 41214 | Y25: 41244 | Z25: 41275 | AA25: 41306 | AB25: 41334 | AC25: 41365 | AD25: 41395 | AE25: 41426 | AF25: 41456 | AG25: 41487 | AH25: 41518 | AI25: 41548 | AJ25: 41579 | AK25: 41609 | AL25: 41640 | AM25: 41671 | AN25: 41699 | AO25: 41730 | AP25: 41760 | AQ25: 41791 | AR25: 41821 | AS25: 41852 | AT25: 41883 | AU25: 41913 | AV25: 41944 | AW25: 41974 | AX25: 42005 | AY25: 42036 | AZ25: 42064 | BA25: 42095 | BB25: 42125 | BC25: 42156 | BD25: 42186 | BE25: 42217 | BF25: 42248 | BG25: 42278 | BH25: 42309 | BI25: 42339 | BJ25: 42370 | BK25: 42401 | BL25: 42430 | BM25: 42461 | BN25: 42491 | BO25: 42522 | BP25: 42552 | BQ25: 42583 | BR25: 42614 | BS25: 42644 | BT25: 42675 | BU25: 42705 | BV25: 42736 | BW25: 42767 | BX25: 42795 | BY25: 42826 | BZ25: 42856 | CA25: 42887 | CB25: 42917 | CC25: 42948 | CD25: 42979 | CE25: 43009 | CF25: 43040 | CG25: 43070 | CH25: 43101 | CI25: 43132 | CJ25: 43160 | CK25: 43191 | CL25: 43221 | CM25: 43252 | CN25: 43282 | CO25: 43313 | CP25: 43344 | CQ25: 43374 | CR25: 43405 | CS25: 43435 | CT25: 43466 | CU25: 43497 | CV25: 43525 | CW25: 43556 | CX25: 43586 | CY25: 43617 | CZ25: 43647 | DA25: 43678 | DB25: 43709 | DC25: 43739 | DD25: 43770 | DE25: 43800 | DF25: 43831 | DG25: 43862 | DH25: 43891 | DI25: 43922 | DJ25: 43952 | DK25: 43983 | DL25: 44013 | DM25: 44044 | DN25: 44075 | DO25: 44105 | DP25: 44136 | DQ25: 44166 | DR25: 44197 | DS25: 44228 | DT25: 44256 | DU25: 44287 | DV25: 44317 | DW25: 44348 | DX25: 44378 | DY25: 44409 | DZ25: 44440 | EA25: 44470 | EB25: 44501 | EC25: 44531 | ED25: 44562 | EE25: 44593 | EF25: 44621 | EG25: 44652 | EH25: 44682 | EI25: 44713 | EJ25: 44743 | EK25: 44774 | EL25: 44805 | EM25: 44835 | EN25: 44866 | EO25: 44896 | EP25: 44927 | EQ25: 44958 | ER25: 44986 | ES25: 45017 | ET25: 45047 | EU25: 45078 | EV25: 45108 | EW25: 45139 | EX25: 45170 | EY25: 45200 | EZ25: 45231 | FA25: 45261 | FB25: 45292 | FC25: 45323 | FD25: 45352 | FE25: 45383 | FF25: 45413 | FG25: 45444 | FH25: 45474 | FI25: 45505 | FJ25: 45536 | FK25: 45566 | FL25: 45597 | FM25: 45627 | FN25: 45658 | FO25: 45689 | FP25: 45717 | FQ25: 45748 | FR25: 45778 | FS25: 45809 | FT25: 45839 | FU25: 45870 | FV25: 45901 | FW25: 45931 | FX25: 45962 | FY25: 45992 | FZ25: 46023 | GA25: 46054 | GB25: 46082 | GC25: 46113 | GD25: 46143 | GE25: 46174 | GF25: 46204 | GG25: 46235 | GH25: 46266 | GI25: 46296 | GJ25: 46327 | GK25: 46357 | GL25: 46388 | GM25: 46419 | GN25: 46447 | GO25: 46478 | GP25: 46508 | GQ25: 46539 | GR25: 46569 | GS25: 46600 | GT25: 46631 | GU25: 46661 | GV25: 46692 | GW25: 46722 | GX25: 46753 | GY25: 46784 | GZ25: 46813 | HA25: 46844 | HB25: 46874 | HC25: 46905 | HD25: 46935 | HE25: 46966 | HF25: 46997 | HG25: 47027 | HH25: 47058 | HI25: 47088 | HJ25: 47119 | HK25: 47150 | HL25: 47178 | HM25: 47209 | HN25: 47239 | HO25: 47270 | HP25: 47300 | HQ25: 47331 | HR25: 47362 | HS25: 47392 | HT25: 47423 | HU25: 47453 | HV25: 47484 | HW25: 47515 | HX25: 47543 | HY25: 47574 | HZ25: 47604 | IA25: 47635 | IB25: 47665 | IC25: 47696 | ID25: 47727 | IE25: 47757 | IF25: 47788 | IG25: 47818 | IH25: 47849 | II25: 47880 | IJ25: 47908 | IK25: 47939 | IL25: 47969 | IM25: 48000 | IN25: 48030 | IO25: 48061 | IP25: 48092 | IQ25: 48122 | IR25: 48153 | IS25: 48183 | IT25: 48214 | IU25: 48245 | IV25: 48274 | IW25: 48305 | IX25: 48335 | IY25: 48366 | IZ25: 48396 | JA25: 48427 | JB25: 48458 | JC25: 48488 | JD25: 48519 | JE25: 48549 | JF25: 48580 | JG25: 48611 | JH25: 48639 | JI25: 48670 | JJ25: 48700 | JK25: 48731 | JL25: 48761 | JM25: 48792 | JN25: 48823 | JO25: 48853 | JP25: 48884 | JQ25: 48914
A26: AGADIR | B26: =SUM(B7:$B7) -> 3930 | C26: =SUM($B7:C7) -> 6561 | D26: =SUM($B7:D7) -> 9050 | E26: =SUM($B7:E7) -> 11981 | F26: =SUM($B7:F7) -> 15120 | G26: =SUM($B7:G7) -> 18035 | H26: =SUM($B7:H7) -> 19967 | I26: =SUM($B7:I7) -> 21682 | J26: =SUM($B7:J7) -> 23696 | ... M26: =SUM($B7:M7) -> 28968 | N26: =SUM($N7:N7) -> 3512 | O26: =SUM($N7:O7) -> 5963 | P26: =SUM($N7:P7) -> 8693 | Q26: =SUM($N7:Q7) -> 11020 | R26: =SUM($N7:R7) -> 13168 | S26: =SUM($N7:S7) -> 15255 | T26: =SUM($N7:T7) -> 16967 | U26: =SUM($N7:U7) -> 18347 | ... Y26: =SUM($N7:Y7) -> 30594 | Z26: =SUM($Z7:Z7) -> 2668 | AA26: =SUM($Z7:AA7) -> 5927 | AB26: =SUM($Z7:AB7) -> 8350 | AC26: =SUM($Z7:AC7) -> 11708 | AD26: =SUM($Z7:AD7) -> 14636 | AE26: =SUM($Z7:AE7) -> 17786 | AF26: =SUM($Z7:AF7) -> 19815 | AG26: =SUM($Z7:AG7) -> 21318 | ... AK26: =SUM($Z7:AK7) -> 31022 | AL26: =SUM($AL7:AL7) -> 6791 | AM26: =SUM($AL7:AM7) -> 10470 | AN26: =SUM($AL7:AN7) -> 15224 | AO26: =SUM($AL7:AO7) -> 21028 | AP26: =SUM($AL7:AP7) -> 24223 | AQ26: =SUM($AL7:AQ7) -> 27369 | AR26: =SUM($AL7:AR7) -> 29610 | AS26: =SUM($AL7:AS7) -> 32218 | ... AW26: =SUM($AL7:AW7) -> 32218 | AX26: =SUM($AX7:AX7) -> 0 | AY26: =SUM($AX7:AY7) -> 0 | AZ26: =SUM($AX7:AZ7) -> 0 | BA26: =SUM($AX7:BA7) -> 0 | BB26: =SUM($AX7:BB7) -> 0 | BC26: =SUM($AX7:BC7) -> 0 | BD26: =SUM($AX7:BD7) -> 0 | BE26: =SUM($AX7:BE7) -> 0 | ... BI26: =SUM($AX7:BI7) -> 0 | BJ26: =SUM($BJ7:BJ7) -> 0 | BK26: =SUM($BJ7:BK7) -> 0 | BL26: =SUM($BJ7:BL7) -> 0 | BM26: =SUM($BJ7:BM7) -> 0 | BN26: =SUM($BJ7:BN7) -> 0 | BO26: =SUM($BJ7:BO7) -> 0 | BP26: =SUM($BJ7:BP7) -> 0 | BQ26: =SUM($BJ7:BQ7) -> 0 | ... BU26: =SUM($BJ7:BU7) -> 0 | BV26: =SUM($BV7:BV7) -> 0 | BW26: =SUM($BV7:BW7) -> 0 | BX26: =SUM($BV7:BX7) -> 0 | BY26: =SUM($BV7:BY7) -> 0 | BZ26: =SUM($BV7:BZ7) -> 0 | CA26: =SUM($BV7:CA7) -> 0 | CB26: =SUM($BV7:CB7) -> 0 | CC26: =SUM($BV7:CC7) -> 0 | ... CG26: =SUM($BV7:CG7) -> 0 | CH26: =SUM($CH7:CH7) -> 0 | CI26: =SUM($CH7:CI7) -> 0 | CJ26: =SUM($CH7:CJ7) -> 0 | CK26: =SUM($CH7:CK7) -> 0 | CL26: =SUM($CH7:CL7) -> 0 | CM26: =SUM($CH7:CM7) -> 0 | CN26: =SUM($CH7:CN7) -> 0 | CO26: =SUM($CH7:CO7) -> 0 | ... CS26: =SUM($CH7:CS7) -> 0 | CT26: =SUM($CT7:CT7) -> 0 | CU26: =SUM($CT7:CU7) -> 0 | CV26: =SUM($CT7:CV7) -> 0 | CW26: =SUM($CT7:CW7) -> 0 | CX26: =SUM($CT7:CX7) -> 0 | CY26: =SUM($CT7:CY7) -> 0 | CZ26: =SUM($CT7:CZ7) -> 0 | DA26: =SUM($CT7:DA7) -> 0 | ... DE26: =SUM($CT7:DE7) -> 0 | DF26: =SUM($DF7:DF7) -> 0 | DG26: =SUM($DF7:DG7) -> 0 | DH26: =SUM($DF7:DH7) -> 0 | DI26: =SUM($DF7:DI7) -> 0 | DJ26: =SUM($DF7:DJ7) -> 0 | DK26: =SUM($DF7:DK7) -> 0 | DL26: =SUM($DF7:DL7) -> 0 | DM26: =SUM($DF7:DM7) -> 0 | ... DQ26: =SUM($DF7:DQ7) -> 0 | DR26: =SUM($DR7:DR7) -> 0 | DS26: =SUM($DR7:DS7) -> 0 | DT26: =SUM($DR7:DT7) -> 0 | DU26: =SUM($DR7:DU7) -> 0 | DV26: =SUM($DR7:DV7) -> 0 | DW26: =SUM($DR7:DW7) -> 0 | DX26: =SUM($DR7:DX7) -> 0 | DY26: =SUM($DR7:DY7) -> 0 | ... EC26: =SUM($DR7:EC7) -> 0 | ED26: =SUM($ED7:ED7) -> 0 | EE26: =SUM($ED7:EE7) -> 0 | EF26: =SUM($ED7:EF7) -> 0 | EG26: =SUM($ED7:EG7) -> 0 | EH26: =SUM($ED7:EH7) -> 0 | EI26: =SUM($ED7:EI7) -> 0 | EJ26: =SUM($ED7:EJ7) -> 0 | EK26: =SUM($ED7:EK7) -> 0 | ... EO26: =SUM($ED7:EO7) -> 0 | EP26: =SUM($EP7:EP7) -> 0 | EQ26: =SUM($EP7:EQ7) -> 0 | ER26: =SUM($EP7:ER7) -> 0 | ES26: =SUM($EP7:ES7) -> 0 | ET26: =SUM($EP7:ET7) -> 0 | EU26: =SUM($EP7:EU7) -> 0 | EV26: =SUM($EP7:EV7) -> 0 | EW26: =SUM($EP7:EW7) -> 0 | ... FA26: =SUM($EP7:FA7) -> 0 | FB26: =SUM($FB7:FB7) -> 0 | FC26: =SUM($FB7:FC7) -> 0 | FD26: =SUM($FB7:FD7) -> 0 | FE26: =SUM($FB7:FE7) -> 0 | FF26: =SUM($FB7:FF7) -> 0 | FG26: =SUM($FB7:FG7) -> 0 | FH26: =SUM($FB7:FH7) -> 0 | FI26: =SUM($FB7:FI7) -> 0 | ... FM26: =SUM($FB7:FM7) -> 0 | FN26: =SUM($FN7:FN7) -> 0 | FO26: =SUM($FN7:FO7) -> 0 | FP26: =SUM($FN7:FP7) -> 0 | FQ26: =SUM($FN7:FQ7) -> 0 | FR26: =SUM($FN7:FR7) -> 0 | FS26: =SUM($FN7:FS7) -> 0 | FT26: =SUM($FN7:FT7) -> 0 | FU26: =SUM($FN7:FU7) -> 0 | ... FY26: =SUM($FN7:FY7) -> 0 | FZ26: =SUM($FZ7:FZ7) -> 0 | GA26: =SUM($FZ7:GA7) -> 0 | GB26: =SUM($FZ7:GB7) -> 0 | GC26: =SUM($FZ7:GC7) -> 0 | GD26: =SUM($FZ7:GD7) -> 0 | GE26: =SUM($FZ7:GE7) -> 0 | GF26: =SUM($FZ7:GF7) -> 0 | GG26: =SUM($FZ7:GG7) -> 0 | ... GK26: =SUM($FZ7:GK7) -> 0 | GL26: =SUM($GL7:GL7) -> 0 | GM26: =SUM($GL7:GM7) -> 0 | GN26: =SUM($GL7:GN7) -> 0 | GO26: =SUM($GL7:GO7) -> 0 | GP26: =SUM($GL7:GP7) -> 0 | GQ26: =SUM($GL7:GQ7) -> 0 | GR26: =SUM($GL7:GR7) -> 0 | GS26: =SUM($GL7:GS7) -> 0 | ... GW26: =SUM($GL7:GW7) -> 0 | GX26: =SUM($GX7:GX7) -> 0 | GY26: =SUM($GX7:GY7) -> 0 | GZ26: =SUM($GX7:GZ7) -> 0 | HA26: =SUM($GX7:HA7) -> 0 | HB26: =SUM($GX7:HB7) -> 0 | HC26: =SUM($GX7:HC7) -> 0 | HD26: =SUM($GX7:HD7) -> 0 | HE26: =SUM($GX7:HE7) -> 0 | ... HI26: =SUM($GX7:HI7) -> 0 | HJ26: =SUM($HJ7:HJ7) -> 0 | HK26: =SUM($HJ7:HK7) -> 0 | HL26: =SUM($HJ7:HL7) -> 0 | HM26: =SUM($HJ7:HM7) -> 0 | HN26: =SUM($HJ7:HN7) -> 0 | HO26: =SUM($HJ7:HO7) -> 0 | HP26: =SUM($HJ7:HP7) -> 0 | HQ26: =SUM($HJ7:HQ7) -> 0 | ... HU26: =SUM($HJ7:HU7) -> 0 | HV26: =SUM($HV7:HV7) -> 0 | HW26: =SUM($HV7:HW7) -> 0 | HX26: =SUM($HV7:HX7) -> 0 | HY26: =SUM($HV7:HY7) -> 0 | HZ26: =SUM($HV7:HZ7) -> 0 | IA26: =SUM($HV7:IA7) -> 0 | IB26: =SUM($HV7:IB7) -> 0 | IC26: =SUM($HV7:IC7) -> 0 | ... IG26: =SUM($HV7:IG7) -> 0 | IH26: =SUM($IH7:IH7) -> 0 | II26: =SUM($IH7:II7) -> 0 | IJ26: =SUM($IH7:IJ7) -> 0 | IK26: =SUM($IH7:IK7) -> 0 | IL26: =SUM($IH7:IL7) -> 0 | IM26: =SUM($IH7:IM7) -> 0 | IN26: =SUM($IH7:IN7) -> 0 | IO26: =SUM($IH7:IO7) -> 0 | ... IS26: =SUM($IH7:IS7) -> 0 | IT26: =SUM($IT7:IT7) -> 0 | IU26: =SUM($IT7:IU7) -> 0 | IV26: =SUM($IT7:IV7) -> 0 | IW26: =SUM($IT7:IW7) -> 0 | IX26: =SUM($IT7:IX7) -> 0 | IY26: =SUM($IT7:IY7) -> 0 | IZ26: =SUM($IT7:IZ7) -> 0 | JA26: =SUM($IT7:JA7) -> 0 | ... JE26: =SUM($IT7:JE7) -> 0 | JF26: =SUM($JF7:JF7) -> 0 | JG26: =SUM($JF7:JG7) -> 0 | JH26: =SUM($JF7:JH7) -> 0 | JI26: =SUM($JF7:JI7) -> 0 | JJ26: =SUM($JF7:JJ7) -> 0 | JK26: =SUM($JF7:JK7) -> 0 | JL26: =SUM($JF7:JL7) -> 0 | JM26: =SUM($JF7:JM7) -> 0 | ... JQ26: =SUM($JF7:JQ7) -> 0
A27: CASABLANCA | B27: =SUM(B8:$B8) -> 5258 | C27: =SUM($B8:C8) -> 8701 | D27: =SUM($B8:D8) -> 14602 | E27: =SUM($B8:E8) -> 21581 | F27: =SUM($B8:F8) -> 26008 | G27: =SUM($B8:G8) -> 30707 | H27: =SUM($B8:H8) -> 34418 | I27: =SUM($B8:I8) -> 37500 | J27: =SUM($B8:J8) -> 41484 | ... M27: =SUM($B8:M8) -> 52803 | N27: =SUM($N8:N8) -> 4861 | O27: =SUM($N8:O8) -> 9720 | P27: =SUM($N8:P8) -> 14128 | Q27: =SUM($N8:Q8) -> 17661 | R27: =SUM($N8:R8) -> 22256 | S27: =SUM($N8:S8) -> 26776 | T27: =SUM($N8:T8) -> 30853 | U27: =SUM($N8:U8) -> 33805 | ... Y27: =SUM($N8:Y8) -> 48960 | Z27: =SUM($Z8:Z8) -> 4232 | AA27: =SUM($Z8:AA8) -> 8006 | AB27: =SUM($Z8:AB8) -> 12712 | AC27: =SUM($Z8:AC8) -> 18542 | AD27: =SUM($Z8:AD8) -> 22822 | AE27: =SUM($Z8:AE8) -> 26923 | AF27: =SUM($Z8:AF8) -> 30785 | AG27: =SUM($Z8:AG8) -> 33805 | ... AK27: =SUM($Z8:AK8) -> 47838 | AL27: =SUM($AL8:AL8) -> 4444 | AM27: =SUM($AL8:AM8) -> 9459 | AN27: =SUM($AL8:AN8) -> 15637 | AO27: =SUM($AL8:AO8) -> 21519 | AP27: =SUM($AL8:AP8) -> 27791 | AQ27: =SUM($AL8:AQ8) -> 34189 | AR27: =SUM($AL8:AR8) -> 39461 | AS27: =SUM($AL8:AS8) -> 45214 | ... AW27: =SUM($AL8:AW8) -> 45214 | AX27: =SUM($AX8:AX8) -> 0 | AY27: =SUM($AX8:AY8) -> 0 | AZ27: =SUM($AX8:AZ8) -> 0 | BA27: =SUM($AX8:BA8) -> 0 | BB27: =SUM($AX8:BB8) -> 0 | BC27: =SUM($AX8:BC8) -> 0 | BD27: =SUM($AX8:BD8) -> 0 | BE27: =SUM($AX8:BE8) -> 0 | ... BI27: =SUM($AX8:BI8) -> 0 | BJ27: =SUM($BJ8:BJ8) -> 0 | BK27: =SUM($BJ8:BK8) -> 0 | BL27: =SUM($BJ8:BL8) -> 0 | BM27: =SUM($BJ8:BM8) -> 0 | BN27: =SUM($BJ8:BN8) -> 0 | BO27: =SUM($BJ8:BO8) -> 0 | BP27: =SUM($BJ8:BP8) -> 0 | BQ27: =SUM($BJ8:BQ8) -> 0 | ... BU27: =SUM($BJ8:BU8) -> 0 | BV27: =SUM($BV8:BV8) -> 0 | BW27: =SUM($BV8:BW8) -> 0 | BX27: =SUM($BV8:BX8) -> 0 | BY27: =SUM($BV8:BY8) -> 0 | BZ27: =SUM($BV8:BZ8) -> 0 | CA27: =SUM($BV8:CA8) -> 0 | CB27: =SUM($BV8:CB8) -> 0 | CC27: =SUM($BV8:CC8) -> 0 | ... CG27: =SUM($BV8:CG8) -> 0 | CH27: =SUM($CH8:CH8) -> 0 | CI27: =SUM($CH8:CI8) -> 0 | CJ27: =SUM($CH8:CJ8) -> 0 | CK27: =SUM($CH8:CK8) -> 0 | CL27: =SUM($CH8:CL8) -> 0 | CM27: =SUM($CH8:CM8) -> 0 | CN27: =SUM($CH8:CN8) -> 0 | CO27: =SUM($CH8:CO8) -> 0 | ... CS27: =SUM($CH8:CS8) -> 0 | CT27: =SUM($CT8:CT8) -> 0 | CU27: =SUM($CT8:CU8) -> 0 | CV27: =SUM($CT8:CV8) -> 0 | CW27: =SUM($CT8:CW8) -> 0 | CX27: =SUM($CT8:CX8) -> 0 | CY27: =SUM($CT8:CY8) -> 0 | CZ27: =SUM($CT8:CZ8) -> 0 | DA27: =SUM($CT8:DA8) -> 0 | ... DE27: =SUM($CT8:DE8) -> 0 | DF27: =SUM($DF8:DF8) -> 0 | DG27: =SUM($DF8:DG8) -> 0 | DH27: =SUM($DF8:DH8) -> 0 | DI27: =SUM($DF8:DI8) -> 0 | DJ27: =SUM($DF8:DJ8) -> 0 | DK27: =SUM($DF8:DK8) -> 0 | DL27: =SUM($DF8:DL8) -> 0 | DM27: =SUM($DF8:DM8) -> 0 | ... DQ27: =SUM($DF8:DQ8) -> 0 | DR27: =SUM($DR8:DR8) -> 0 | DS27: =SUM($DR8:DS8) -> 0 | DT27: =SUM($DR8:DT8) -> 0 | DU27: =SUM($DR8:DU8) -> 0 | DV27: =SUM($DR8:DV8) -> 0 | DW27: =SUM($DR8:DW8) -> 0 | DX27: =SUM($DR8:DX8) -> 0 | DY27: =SUM($DR8:DY8) -> 0 | ... EC27: =SUM($DR8:EC8) -> 0 | ED27: =SUM($ED8:ED8) -> 0 | EE27: =SUM($ED8:EE8) -> 0 | EF27: =SUM($ED8:EF8) -> 0 | EG27: =SUM($ED8:EG8) -> 0 | EH27: =SUM($ED8:EH8) -> 0 | EI27: =SUM($ED8:EI8) -> 0 | EJ27: =SUM($ED8:EJ8) -> 0 | EK27: =SUM($ED8:EK8) -> 0 | ... EO27: =SUM($ED8:EO8) -> 0 | EP27: =SUM($EP8:EP8) -> 0 | EQ27: =SUM($EP8:EQ8) -> 0 | ER27: =SUM($EP8:ER8) -> 0 | ES27: =SUM($EP8:ES8) -> 0 | ET27: =SUM($EP8:ET8) -> 0 | EU27: =SUM($EP8:EU8) -> 0 | EV27: =SUM($EP8:EV8) -> 0 | EW27: =SUM($EP8:EW8) -> 0 | ... FA27: =SUM($EP8:FA8) -> 0 | FB27: =SUM($FB8:FB8) -> 0 | FC27: =SUM($FB8:FC8) -> 0 | FD27: =SUM($FB8:FD8) -> 0 | FE27: =SUM($FB8:FE8) -> 0 | FF27: =SUM($FB8:FF8) -> 0 | FG27: =SUM($FB8:FG8) -> 0 | FH27: =SUM($FB8:FH8) -> 0 | FI27: =SUM($FB8:FI8) -> 0 | ... FM27: =SUM($FB8:FM8) -> 0 | FN27: =SUM($FN8:FN8) -> 0 | FO27: =SUM($FN8:FO8) -> 0 | FP27: =SUM($FN8:FP8) -> 0 | FQ27: =SUM($FN8:FQ8) -> 0 | FR27: =SUM($FN8:FR8) -> 0 | FS27: =SUM($FN8:FS8) -> 0 | FT27: =SUM($FN8:FT8) -> 0 | FU27: =SUM($FN8:FU8) -> 0 | ... FY27: =SUM($FN8:FY8) -> 0 | FZ27: =SUM($FZ8:FZ8) -> 0 | GA27: =SUM($FZ8:GA8) -> 0 | GB27: =SUM($FZ8:GB8) -> 0 | GC27: =SUM($FZ8:GC8) -> 0 | GD27: =SUM($FZ8:GD8) -> 0 | GE27: =SUM($FZ8:GE8) -> 0 | GF27: =SUM($FZ8:GF8) -> 0 | GG27: =SUM($FZ8:GG8) -> 0 | ... GK27: =SUM($FZ8:GK8) -> 0 | GL27: =SUM($GL8:GL8) -> 0 | GM27: =SUM($GL8:GM8) -> 0 | GN27: =SUM($GL8:GN8) -> 0 | GO27: =SUM($GL8:GO8) -> 0 | GP27: =SUM($GL8:GP8) -> 0 | GQ27: =SUM($GL8:GQ8) -> 0 | GR27: =SUM($GL8:GR8) -> 0 | GS27: =SUM($GL8:GS8) -> 0 | ... GW27: =SUM($GL8:GW8) -> 0 | GX27: =SUM($GX8:GX8) -> 0 | GY27: =SUM($GX8:GY8) -> 0 | GZ27: =SUM($GX8:GZ8) -> 0 | HA27: =SUM($GX8:HA8) -> 0 | HB27: =SUM($GX8:HB8) -> 0 | HC27: =SUM($GX8:HC8) -> 0 | HD27: =SUM($GX8:HD8) -> 0 | HE27: =SUM($GX8:HE8) -> 0 | ... HI27: =SUM($GX8:HI8) -> 0 | HJ27: =SUM($HJ8:HJ8) -> 0 | HK27: =SUM($HJ8:HK8) -> 0 | HL27: =SUM($HJ8:HL8) -> 0 | HM27: =SUM($HJ8:HM8) -> 0 | HN27: =SUM($HJ8:HN8) -> 0 | HO27: =SUM($HJ8:HO8) -> 0 | HP27: =SUM($HJ8:HP8) -> 0 | HQ27: =SUM($HJ8:HQ8) -> 0 | ... HU27: =SUM($HJ8:HU8) -> 0 | HV27: =SUM($HV8:HV8) -> 0 | HW27: =SUM($HV8:HW8) -> 0 | HX27: =SUM($HV8:HX8) -> 0 | HY27: =SUM($HV8:HY8) -> 0 | HZ27: =SUM($HV8:HZ8) -> 0 | IA27: =SUM($HV8:IA8) -> 0 | IB27: =SUM($HV8:IB8) -> 0 | IC27: =SUM($HV8:IC8) -> 0 | ... IG27: =SUM($HV8:IG8) -> 0 | IH27: =SUM($IH8:IH8) -> 0 | II27: =SUM($IH8:II8) -> 0 | IJ27: =SUM($IH8:IJ8) -> 0 | IK27: =SUM($IH8:IK8) -> 0 | IL27: =SUM($IH8:IL8) -> 0 | IM27: =SUM($IH8:IM8) -> 0 | IN27: =SUM($IH8:IN8) -> 0 | IO27: =SUM($IH8:IO8) -> 0 | ... IS27: =SUM($IH8:IS8) -> 0 | IT27: =SUM($IT8:IT8) -> 0 | IU27: =SUM($IT8:IU8) -> 0 | IV27: =SUM($IT8:IV8) -> 0 | IW27: =SUM($IT8:IW8) -> 0 | IX27: =SUM($IT8:IX8) -> 0 | IY27: =SUM($IT8:IY8) -> 0 | IZ27: =SUM($IT8:IZ8) -> 0 | JA27: =SUM($IT8:JA8) -> 0 | ... JE27: =SUM($IT8:JE8) -> 0 | JF27: =SUM($JF8:JF8) -> 0 | JG27: =SUM($JF8:JG8) -> 0 | JH27: =SUM($JF8:JH8) -> 0 | JI27: =SUM($JF8:JI8) -> 0 | JJ27: =SUM($JF8:JJ8) -> 0 | JK27: =SUM($JF8:JK8) -> 0 | JL27: =SUM($JF8:JL8) -> 0 | JM27: =SUM($JF8:JM8) -> 0 | ... JQ27: =SUM($JF8:JQ8) -> 0
A28: EL JADIDA | B28: =SUM(B9:$B9) -> 3358 | C28: =SUM($B9:C9) -> 5982 | D28: =SUM($B9:D9) -> 9125 | E28: =SUM($B9:E9) -> 13517 | F28: =SUM($B9:F9) -> 18414 | G28: =SUM($B9:G9) -> 22769 | H28: =SUM($B9:H9) -> 25148 | I28: =SUM($B9:I9) -> 27116 | J28: =SUM($B9:J9) -> 29229 | ... M28: =SUM($B9:M9) -> 34858 | N28: =SUM($N9:N9) -> 2965 | O28: =SUM($N9:O9) -> 5934 | P28: =SUM($N9:P9) -> 8582 | Q28: =SUM($N9:Q9) -> 10943 | R28: =SUM($N9:R9) -> 13151 | S28: =SUM($N9:S9) -> 15824 | T28: =SUM($N9:T9) -> 18067 | U28: =SUM($N9:U9) -> 20052 | ... Y28: =SUM($N9:Y9) -> 37481 | Z28: =SUM($Z9:Z9) -> 3231 | AA28: =SUM($Z9:AA9) -> 6011 | AB28: =SUM($Z9:AB9) -> 9322 | AC28: =SUM($Z9:AC9) -> 13741 | AD28: =SUM($Z9:AD9) -> 17533 | AE28: =SUM($Z9:AE9) -> 20189 | AF28: =SUM($Z9:AF9) -> 22537 | AG28: =SUM($Z9:AG9) -> 24514 | ... AK28: =SUM($Z9:AK9) -> 33757 | AL28: =SUM($AL9:AL9) -> 7918 | AM28: =SUM($AL9:AM9) -> 12788 | AN28: =SUM($AL9:AN9) -> 16238 | AO28: =SUM($AL9:AO9) -> 20647 | AP28: =SUM($AL9:AP9) -> 23787 | AQ28: =SUM($AL9:AQ9) -> 26457 | AR28: =SUM($AL9:AR9) -> 29167 | AS28: =SUM($AL9:AS9) -> 31653 | ... AW28: =SUM($AL9:AW9) -> 31653 | AX28: =SUM($AX9:AX9) -> 0 | AY28: =SUM($AX9:AY9) -> 0 | AZ28: =SUM($AX9:AZ9) -> 0 | BA28: =SUM($AX9:BA9) -> 0 | BB28: =SUM($AX9:BB9) -> 0 | BC28: =SUM($AX9:BC9) -> 0 | BD28: =SUM($AX9:BD9) -> 0 | BE28: =SUM($AX9:BE9) -> 0 | ... BI28: =SUM($AX9:BI9) -> 0 | BJ28: =SUM($BJ9:BJ9) -> 0 | BK28: =SUM($BJ9:BK9) -> 0 | BL28: =SUM($BJ9:BL9) -> 0 | BM28: =SUM($BJ9:BM9) -> 0 | BN28: =SUM($BJ9:BN9) -> 0 | BO28: =SUM($BJ9:BO9) -> 0 | BP28: =SUM($BJ9:BP9) -> 0 | BQ28: =SUM($BJ9:BQ9) -> 0 | ... BU28: =SUM($BJ9:BU9) -> 0 | BV28: =SUM($BV9:BV9) -> 0 | BW28: =SUM($BV9:BW9) -> 0 | BX28: =SUM($BV9:BX9) -> 0 | BY28: =SUM($BV9:BY9) -> 0 | BZ28: =SUM($BV9:BZ9) -> 0 | CA28: =SUM($BV9:CA9) -> 0 | CB28: =SUM($BV9:CB9) -> 0 | CC28: =SUM($BV9:CC9) -> 0 | ... CG28: =SUM($BV9:CG9) -> 0 | CH28: =SUM($CH9:CH9) -> 0 | CI28: =SUM($CH9:CI9) -> 0 | CJ28: =SUM($CH9:CJ9) -> 0 | CK28: =SUM($CH9:CK9) -> 0 | CL28: =SUM($CH9:CL9) -> 0 | CM28: =SUM($CH9:CM9) -> 0 | CN28: =SUM($CH9:CN9) -> 0 | CO28: =SUM($CH9:CO9) -> 0 | ... CS28: =SUM($CH9:CS9) -> 0 | CT28: =SUM($CT9:CT9) -> 0 | CU28: =SUM($CT9:CU9) -> 0 | CV28: =SUM($CT9:CV9) -> 0 | CW28: =SUM($CT9:CW9) -> 0 | CX28: =SUM($CT9:CX9) -> 0 | CY28: =SUM($CT9:CY9) -> 0 | CZ28: =SUM($CT9:CZ9) -> 0 | DA28: =SUM($CT9:DA9) -> 0 | ... DE28: =SUM($CT9:DE9) -> 0 | DF28: =SUM($DF9:DF9) -> 0 | DG28: =SUM($DF9:DG9) -> 0 | DH28: =SUM($DF9:DH9) -> 0 | DI28: =SUM($DF9:DI9) -> 0 | DJ28: =SUM($DF9:DJ9) -> 0 | DK28: =SUM($DF9:DK9) -> 0 | DL28: =SUM($DF9:DL9) -> 0 | DM28: =SUM($DF9:DM9) -> 0 | ... DQ28: =SUM($DF9:DQ9) -> 0 | DR28: =SUM($DR9:DR9) -> 0 | DS28: =SUM($DR9:DS9) -> 0 | DT28: =SUM($DR9:DT9) -> 0 | DU28: =SUM($DR9:DU9) -> 0 | DV28: =SUM($DR9:DV9) -> 0 | DW28: =SUM($DR9:DW9) -> 0 | DX28: =SUM($DR9:DX9) -> 0 | DY28: =SUM($DR9:DY9) -> 0 | ... EC28: =SUM($DR9:EC9) -> 0 | ED28: =SUM($ED9:ED9) -> 0 | EE28: =SUM($ED9:EE9) -> 0 | EF28: =SUM($ED9:EF9) -> 0 | EG28: =SUM($ED9:EG9) -> 0 | EH28: =SUM($ED9:EH9) -> 0 | EI28: =SUM($ED9:EI9) -> 0 | EJ28: =SUM($ED9:EJ9) -> 0 | EK28: =SUM($ED9:EK9) -> 0 | ... EO28: =SUM($ED9:EO9) -> 0 | EP28: =SUM($EP9:EP9) -> 0 | EQ28: =SUM($EP9:EQ9) -> 0 | ER28: =SUM($EP9:ER9) -> 0 | ES28: =SUM($EP9:ES9) -> 0 | ET28: =SUM($EP9:ET9) -> 0 | EU28: =SUM($EP9:EU9) -> 0 | EV28: =SUM($EP9:EV9) -> 0 | EW28: =SUM($EP9:EW9) -> 0 | ... FA28: =SUM($EP9:FA9) -> 0 | FB28: =SUM($FB9:FB9) -> 0 | FC28: =SUM($FB9:FC9) -> 0 | FD28: =SUM($FB9:FD9) -> 0 | FE28: =SUM($FB9:FE9) -> 0 | FF28: =SUM($FB9:FF9) -> 0 | FG28: =SUM($FB9:FG9) -> 0 | FH28: =SUM($FB9:FH9) -> 0 | FI28: =SUM($FB9:FI9) -> 0 | ... FM28: =SUM($FB9:FM9) -> 0 | FN28: =SUM($FN9:FN9) -> 0 | FO28: =SUM($FN9:FO9) -> 0 | FP28: =SUM($FN9:FP9) -> 0 | FQ28: =SUM($FN9:FQ9) -> 0 | FR28: =SUM($FN9:FR9) -> 0 | FS28: =SUM($FN9:FS9) -> 0 | FT28: =SUM($FN9:FT9) -> 0 | FU28: =SUM($FN9:FU9) -> 0 | ... FY28: =SUM($FN9:FY9) -> 0 | FZ28: =SUM($FZ9:FZ9) -> 0 | GA28: =SUM($FZ9:GA9) -> 0 | GB28: =SUM($FZ9:GB9) -> 0 | GC28: =SUM($FZ9:GC9) -> 0 | GD28: =SUM($FZ9:GD9) -> 0 | GE28: =SUM($FZ9:GE9) -> 0 | GF28: =SUM($FZ9:GF9) -> 0 | GG28: =SUM($FZ9:GG9) -> 0 | ... GK28: =SUM($FZ9:GK9) -> 0 | GL28: =SUM($GL9:GL9) -> 0 | GM28: =SUM($GL9:GM9) -> 0 | GN28: =SUM($GL9:GN9) -> 0 | GO28: =SUM($GL9:GO9) -> 0 | GP28: =SUM($GL9:GP9) -> 0 | GQ28: =SUM($GL9:GQ9) -> 0 | GR28: =SUM($GL9:GR9) -> 0 | GS28: =SUM($GL9:GS9) -> 0 | ... GW28: =SUM($GL9:GW9) -> 0 | GX28: =SUM($GX9:GX9) -> 0 | GY28: =SUM($GX9:GY9) -> 0 | GZ28: =SUM($GX9:GZ9) -> 0 | HA28: =SUM($GX9:HA9) -> 0 | HB28: =SUM($GX9:HB9) -> 0 | HC28: =SUM($GX9:HC9) -> 0 | HD28: =SUM($GX9:HD9) -> 0 | HE28: =SUM($GX9:HE9) -> 0 | ... HI28: =SUM($GX9:HI9) -> 0 | HJ28: =SUM($HJ9:HJ9) -> 0 | HK28: =SUM($HJ9:HK9) -> 0 | HL28: =SUM($HJ9:HL9) -> 0 | HM28: =SUM($HJ9:HM9) -> 0 | HN28: =SUM($HJ9:HN9) -> 0 | HO28: =SUM($HJ9:HO9) -> 0 | HP28: =SUM($HJ9:HP9) -> 0 | HQ28: =SUM($HJ9:HQ9) -> 0 | ... HU28: =SUM($HJ9:HU9) -> 0 | HV28: =SUM($HV9:HV9) -> 0 | HW28: =SUM($HV9:HW9) -> 0 | HX28: =SUM($HV9:HX9) -> 0 | HY28: =SUM($HV9:HY9) -> 0 | HZ28: =SUM($HV9:HZ9) -> 0 | IA28: =SUM($HV9:IA9) -> 0 | IB28: =SUM($HV9:IB9) -> 0 | IC28: =SUM($HV9:IC9) -> 0 | ... IG28: =SUM($HV9:IG9) -> 0 | IH28: =SUM($IH9:IH9) -> 0 | II28: =SUM($IH9:II9) -> 0 | IJ28: =SUM($IH9:IJ9) -> 0 | IK28: =SUM($IH9:IK9) -> 0 | IL28: =SUM($IH9:IL9) -> 0 | IM28: =SUM($IH9:IM9) -> 0 | IN28: =SUM($IH9:IN9) -> 0 | IO28: =SUM($IH9:IO9) -> 0 | ... IS28: =SUM($IH9:IS9) -> 0 | IT28: =SUM($IT9:IT9) -> 0 | IU28: =SUM($IT9:IU9) -> 0 | IV28: =SUM($IT9:IV9) -> 0 | IW28: =SUM($IT9:IW9) -> 0 | IX28: =SUM($IT9:IX9) -> 0 | IY28: =SUM($IT9:IY9) -> 0 | IZ28: =SUM($IT9:IZ9) -> 0 | JA28: =SUM($IT9:JA9) -> 0 | ... JE28: =SUM($IT9:JE9) -> 0 | JF28: =SUM($JF9:JF9) -> 0 | JG28: =SUM($JF9:JG9) -> 0 | JH28: =SUM($JF9:JH9) -> 0 | JI28: =SUM($JF9:JI9) -> 0 | JJ28: =SUM($JF9:JJ9) -> 0 | JK28: =SUM($JF9:JK9) -> 0 | JL28: =SUM($JF9:JL9) -> 0 | JM28: =SUM($JF9:JM9) -> 0 | ... JQ28: =SUM($JF9:JQ9) -> 0
A29: FES | B29: =SUM(B10:$B10) -> 1932 | C29: =SUM($B10:C10) -> 3663 | D29: =SUM($B10:D10) -> 6695 | E29: =SUM($B10:E10) -> 9864 | F29: =SUM($B10:F10) -> 13263 | G29: =SUM($B10:G10) -> 15719 | H29: =SUM($B10:H10) -> 17870 | I29: =SUM($B10:I10) -> 19653 | J29: =SUM($B10:J10) -> 21644 | ... M29: =SUM($B10:M10) -> 27941 | N29: =SUM($N10:N10) -> 2728 | O29: =SUM($N10:O10) -> 4880 | P29: =SUM($N10:P10) -> 6967 | Q29: =SUM($N10:Q10) -> 8480 | R29: =SUM($N10:R10) -> 10127 | S29: =SUM($N10:S10) -> 11704 | T29: =SUM($N10:T10) -> 12993 | U29: =SUM($N10:U10) -> 14917 | ... Y29: =SUM($N10:Y10) -> 25669 | Z29: =SUM($Z10:Z10) -> 1674 | AA29: =SUM($Z10:AA10) -> 4923 | AB29: =SUM($Z10:AB10) -> 7480 | AC29: =SUM($Z10:AC10) -> 9469 | AD29: =SUM($Z10:AD10) -> 12399 | AE29: =SUM($Z10:AE10) -> 14155 | AF29: =SUM($Z10:AF10) -> 15510 | AG29: =SUM($Z10:AG10) -> 16810 | ... AK29: =SUM($Z10:AK10) -> 22628 | AL29: =SUM($AL10:AL10) -> 2281 | AM29: =SUM($AL10:AM10) -> 3879 | AN29: =SUM($AL10:AN10) -> 6081 | AO29: =SUM($AL10:AO10) -> 8642 | AP29: =SUM($AL10:AP10) -> 11218 | AQ29: =SUM($AL10:AQ10) -> 12916 | AR29: =SUM($AL10:AR10) -> 15037 | AS29: =SUM($AL10:AS10) -> 16987 | ... AW29: =SUM($AL10:AW10) -> 16987 | AX29: =SUM($AX10:AX10) -> 0 | AY29: =SUM($AX10:AY10) -> 0 | AZ29: =SUM($AX10:AZ10) -> 0 | BA29: =SUM($AX10:BA10) -> 0 | BB29: =SUM($AX10:BB10) -> 0 | BC29: =SUM($AX10:BC10) -> 0 | BD29: =SUM($AX10:BD10) -> 0 | BE29: =SUM($AX10:BE10) -> 0 | ... BI29: =SUM($AX10:BI10) -> 0 | BJ29: =SUM($BJ10:BJ10) -> 0 | BK29: =SUM($BJ10:BK10) -> 0 | BL29: =SUM($BJ10:BL10) -> 0 | BM29: =SUM($BJ10:BM10) -> 0 | BN29: =SUM($BJ10:BN10) -> 0 | BO29: =SUM($BJ10:BO10) -> 0 | BP29: =SUM($BJ10:BP10) -> 0 | BQ29: =SUM($BJ10:BQ10) -> 0 | ... BU29: =SUM($BJ10:BU10) -> 0 | BV29: =SUM($BV10:BV10) -> 0 | BW29: =SUM($BV10:BW10) -> 0 | BX29: =SUM($BV10:BX10) -> 0 | BY29: =SUM($BV10:BY10) -> 0 | BZ29: =SUM($BV10:BZ10) -> 0 | CA29: =SUM($BV10:CA10) -> 0 | CB29: =SUM($BV10:CB10) -> 0 | CC29: =SUM($BV10:CC10) -> 0 | ... CG29: =SUM($BV10:CG10) -> 0 | CH29: =SUM($CH10:CH10) -> 0 | CI29: =SUM($CH10:CI10) -> 0 | CJ29: =SUM($CH10:CJ10) -> 0 | CK29: =SUM($CH10:CK10) -> 0 | CL29: =SUM($CH10:CL10) -> 0 | CM29: =SUM($CH10:CM10) -> 0 | CN29: =SUM($CH10:CN10) -> 0 | CO29: =SUM($CH10:CO10) -> 0 | ... CS29: =SUM($CH10:CS10) -> 0 | CT29: =SUM($CT10:CT10) -> 0 | CU29: =SUM($CT10:CU10) -> 0 | CV29: =SUM($CT10:CV10) -> 0 | CW29: =SUM($CT10:CW10) -> 0 | CX29: =SUM($CT10:CX10) -> 0 | CY29: =SUM($CT10:CY10) -> 0 | CZ29: =SUM($CT10:CZ10) -> 0 | DA29: =SUM($CT10:DA10) -> 0 | ... DE29: =SUM($CT10:DE10) -> 0 | DF29: =SUM($DF10:DF10) -> 0 | DG29: =SUM($DF10:DG10) -> 0 | DH29: =SUM($DF10:DH10) -> 0 | DI29: =SUM($DF10:DI10) -> 0 | DJ29: =SUM($DF10:DJ10) -> 0 | DK29: =SUM($DF10:DK10) -> 0 | DL29: =SUM($DF10:DL10) -> 0 | DM29: =SUM($DF10:DM10) -> 0 | ... DQ29: =SUM($DF10:DQ10) -> 0 | DR29: =SUM($DR10:DR10) -> 0 | DS29: =SUM($DR10:DS10) -> 0 | DT29: =SUM($DR10:DT10) -> 0 | DU29: =SUM($DR10:DU10) -> 0 | DV29: =SUM($DR10:DV10) -> 0 | DW29: =SUM($DR10:DW10) -> 0 | DX29: =SUM($DR10:DX10) -> 0 | DY29: =SUM($DR10:DY10) -> 0 | ... EC29: =SUM($DR10:EC10) -> 0 | ED29: =SUM($ED10:ED10) -> 0 | EE29: =SUM($ED10:EE10) -> 0 | EF29: =SUM($ED10:EF10) -> 0 | EG29: =SUM($ED10:EG10) -> 0 | EH29: =SUM($ED10:EH10) -> 0 | EI29: =SUM($ED10:EI10) -> 0 | EJ29: =SUM($ED10:EJ10) -> 0 | EK29: =SUM($ED10:EK10) -> 0 | ... EO29: =SUM($ED10:EO10) -> 0 | EP29: =SUM($EP10:EP10) -> 0 | EQ29: =SUM($EP10:EQ10) -> 0 | ER29: =SUM($EP10:ER10) -> 0 | ES29: =SUM($EP10:ES10) -> 0 | ET29: =SUM($EP10:ET10) -> 0 | EU29: =SUM($EP10:EU10) -> 0 | EV29: =SUM($EP10:EV10) -> 0 | EW29: =SUM($EP10:EW10) -> 0 | ... FA29: =SUM($EP10:FA10) -> 0 | FB29: =SUM($FB10:FB10) -> 0 | FC29: =SUM($FB10:FC10) -> 0 | FD29: =SUM($FB10:FD10) -> 0 | FE29: =SUM($FB10:FE10) -> 0 | FF29: =SUM($FB10:FF10) -> 0 | FG29: =SUM($FB10:FG10) -> 0 | FH29: =SUM($FB10:FH10) -> 0 | FI29: =SUM($FB10:FI10) -> 0 | ... FM29: =SUM($FB10:FM10) -> 0 | FN29: =SUM($FN10:FN10) -> 0 | FO29: =SUM($FN10:FO10) -> 0 | FP29: =SUM($FN10:FP10) -> 0 | FQ29: =SUM($FN10:FQ10) -> 0 | FR29: =SUM($FN10:FR10) -> 0 | FS29: =SUM($FN10:FS10) -> 0 | FT29: =SUM($FN10:FT10) -> 0 | FU29: =SUM($FN10:FU10) -> 0 | ... FY29: =SUM($FN10:FY10) -> 0 | FZ29: =SUM($FZ10:FZ10) -> 0 | GA29: =SUM($FZ10:GA10) -> 0 | GB29: =SUM($FZ10:GB10) -> 0 | GC29: =SUM($FZ10:GC10) -> 0 | GD29: =SUM($FZ10:GD10) -> 0 | GE29: =SUM($FZ10:GE10) -> 0 | GF29: =SUM($FZ10:GF10) -> 0 | GG29: =SUM($FZ10:GG10) -> 0 | ... GK29: =SUM($FZ10:GK10) -> 0 | GL29: =SUM($GL10:GL10) -> 0 | GM29: =SUM($GL10:GM10) -> 0 | GN29: =SUM($GL10:GN10) -> 0 | GO29: =SUM($GL10:GO10) -> 0 | GP29: =SUM($GL10:GP10) -> 0 | GQ29: =SUM($GL10:GQ10) -> 0 | GR29: =SUM($GL10:GR10) -> 0 | GS29: =SUM($GL10:GS10) -> 0 | ... GW29: =SUM($GL10:GW10) -> 0 | GX29: =SUM($GX10:GX10) -> 0 | GY29: =SUM($GX10:GY10) -> 0 | GZ29: =SUM($GX10:GZ10) -> 0 | HA29: =SUM($GX10:HA10) -> 0 | HB29: =SUM($GX10:HB10) -> 0 | HC29: =SUM($GX10:HC10) -> 0 | HD29: =SUM($GX10:HD10) -> 0 | HE29: =SUM($GX10:HE10) -> 0 | ... HI29: =SUM($GX10:HI10) -> 0 | HJ29: =SUM($HJ10:HJ10) -> 0 | HK29: =SUM($HJ10:HK10) -> 0 | HL29: =SUM($HJ10:HL10) -> 0 | HM29: =SUM($HJ10:HM10) -> 0 | HN29: =SUM($HJ10:HN10) -> 0 | HO29: =SUM($HJ10:HO10) -> 0 | HP29: =SUM($HJ10:HP10) -> 0 | HQ29: =SUM($HJ10:HQ10) -> 0 | ... HU29: =SUM($HJ10:HU10) -> 0 | HV29: =SUM($HV10:HV10) -> 0 | HW29: =SUM($HV10:HW10) -> 0 | HX29: =SUM($HV10:HX10) -> 0 | HY29: =SUM($HV10:HY10) -> 0 | HZ29: =SUM($HV10:HZ10) -> 0 | IA29: =SUM($HV10:IA10) -> 0 | IB29: =SUM($HV10:IB10) -> 0 | IC29: =SUM($HV10:IC10) -> 0 | ... IG29: =SUM($HV10:IG10) -> 0 | IH29: =SUM($IH10:IH10) -> 0 | II29: =SUM($IH10:II10) -> 0 | IJ29: =SUM($IH10:IJ10) -> 0 | IK29: =SUM($IH10:IK10) -> 0 | IL29: =SUM($IH10:IL10) -> 0 | IM29: =SUM($IH10:IM10) -> 0 | IN29: =SUM($IH10:IN10) -> 0 | IO29: =SUM($IH10:IO10) -> 0 | ... IS29: =SUM($IH10:IS10) -> 0 | IT29: =SUM($IT10:IT10) -> 0 | IU29: =SUM($IT10:IU10) -> 0 | IV29: =SUM($IT10:IV10) -> 0 | IW29: =SUM($IT10:IW10) -> 0 | IX29: =SUM($IT10:IX10) -> 0 | IY29: =SUM($IT10:IY10) -> 0 | IZ29: =SUM($IT10:IZ10) -> 0 | JA29: =SUM($IT10:JA10) -> 0 | ... JE29: =SUM($IT10:JE10) -> 0 | JF29: =SUM($JF10:JF10) -> 0 | JG29: =SUM($JF10:JG10) -> 0 | JH29: =SUM($JF10:JH10) -> 0 | JI29: =SUM($JF10:JI10) -> 0 | JJ29: =SUM($JF10:JJ10) -> 0 | JK29: =SUM($JF10:JK10) -> 0 | JL29: =SUM($JF10:JL10) -> 0 | JM29: =SUM($JF10:JM10) -> 0 | ... JQ29: =SUM($JF10:JQ10) -> 0
A30: LAAYOUNE | B30: =SUM(B11:$B11) -> 555 | C30: =SUM($B11:C11) -> 1133 | D30: =SUM($B11:D11) -> 1748 | E30: =SUM($B11:E11) -> 2200 | F30: =SUM($B11:F11) -> 2653 | G30: =SUM($B11:G11) -> 3175 | H30: =SUM($B11:H11) -> 3736 | I30: =SUM($B11:I11) -> 4430 | J30: =SUM($B11:J11) -> 5054 | ... M30: =SUM($B11:M11) -> 6115 | N30: =SUM($N11:N11) -> 637 | O30: =SUM($N11:O11) -> 1130 | P30: =SUM($N11:P11) -> 1554 | Q30: =SUM($N11:Q11) -> 2066 | R30: =SUM($N11:R11) -> 2563 | S30: =SUM($N11:S11) -> 3005 | T30: =SUM($N11:T11) -> 3500 | U30: =SUM($N11:U11) -> 3972 | ... Y30: =SUM($N11:Y11) -> 6107 | Z30: =SUM($Z11:Z11) -> 703 | AA30: =SUM($Z11:AA11) -> 1510 | AB30: =SUM($Z11:AB11) -> 3263 | AC30: =SUM($Z11:AC11) -> 5202 | AD30: =SUM($Z11:AD11) -> 5796 | AE30: =SUM($Z11:AE11) -> 6240 | AF30: =SUM($Z11:AF11) -> 6633 | AG30: =SUM($Z11:AG11) -> 6966 | ... AK30: =SUM($Z11:AK11) -> 8180 | AL30: =SUM($AL11:AL11) -> 579 | AM30: =SUM($AL11:AM11) -> 1671 | AN30: =SUM($AL11:AN11) -> 4074 | AO30: =SUM($AL11:AO11) -> 5033 | AP30: =SUM($AL11:AP11) -> 5729 | AQ30: =SUM($AL11:AQ11) -> 6322 | AR30: =SUM($AL11:AR11) -> 6753 | AS30: =SUM($AL11:AS11) -> 7186 | ... AW30: =SUM($AL11:AW11) -> 7186 | AX30: =SUM($AX11:AX11) -> 0 | AY30: =SUM($AX11:AY11) -> 0 | AZ30: =SUM($AX11:AZ11) -> 0 | BA30: =SUM($AX11:BA11) -> 0 | BB30: =SUM($AX11:BB11) -> 0 | BC30: =SUM($AX11:BC11) -> 0 | BD30: =SUM($AX11:BD11) -> 0 | BE30: =SUM($AX11:BE11) -> 0 | ... BI30: =SUM($AX11:BI11) -> 0 | BJ30: =SUM($BJ11:BJ11) -> 0 | BK30: =SUM($BJ11:BK11) -> 0 | BL30: =SUM($BJ11:BL11) -> 0 | BM30: =SUM($BJ11:BM11) -> 0 | BN30: =SUM($BJ11:BN11) -> 0 | BO30: =SUM($BJ11:BO11) -> 0 | BP30: =SUM($BJ11:BP11) -> 0 | BQ30: =SUM($BJ11:BQ11) -> 0 | ... BU30: =SUM($BJ11:BU11) -> 0 | BV30: =SUM($BV11:BV11) -> 0 | BW30: =SUM($BV11:BW11) -> 0 | BX30: =SUM($BV11:BX11) -> 0 | BY30: =SUM($BV11:BY11) -> 0 | BZ30: =SUM($BV11:BZ11) -> 0 | CA30: =SUM($BV11:CA11) -> 0 | CB30: =SUM($BV11:CB11) -> 0 | CC30: =SUM($BV11:CC11) -> 0 | ... CG30: =SUM($BV11:CG11) -> 0 | CH30: =SUM($CH11:CH11) -> 0 | CI30: =SUM($CH11:CI11) -> 0 | CJ30: =SUM($CH11:CJ11) -> 0 | CK30: =SUM($CH11:CK11) -> 0 | CL30: =SUM($CH11:CL11) -> 0 | CM30: =SUM($CH11:CM11) -> 0 | CN30: =SUM($CH11:CN11) -> 0 | CO30: =SUM($CH11:CO11) -> 0 | ... CS30: =SUM($CH11:CS11) -> 0 | CT30: =SUM($CT11:CT11) -> 0 | CU30: =SUM($CT11:CU11) -> 0 | CV30: =SUM($CT11:CV11) -> 0 | CW30: =SUM($CT11:CW11) -> 0 | CX30: =SUM($CT11:CX11) -> 0 | CY30: =SUM($CT11:CY11) -> 0 | CZ30: =SUM($CT11:CZ11) -> 0 | DA30: =SUM($CT11:DA11) -> 0 | ... DE30: =SUM($CT11:DE11) -> 0 | DF30: =SUM($DF11:DF11) -> 0 | DG30: =SUM($DF11:DG11) -> 0 | DH30: =SUM($DF11:DH11) -> 0 | DI30: =SUM($DF11:DI11) -> 0 | DJ30: =SUM($DF11:DJ11) -> 0 | DK30: =SUM($DF11:DK11) -> 0 | DL30: =SUM($DF11:DL11) -> 0 | DM30: =SUM($DF11:DM11) -> 0 | ... DQ30: =SUM($DF11:DQ11) -> 0 | DR30: =SUM($DR11:DR11) -> 0 | DS30: =SUM($DR11:DS11) -> 0 | DT30: =SUM($DR11:DT11) -> 0 | DU30: =SUM($DR11:DU11) -> 0 | DV30: =SUM($DR11:DV11) -> 0 | DW30: =SUM($DR11:DW11) -> 0 | DX30: =SUM($DR11:DX11) -> 0 | DY30: =SUM($DR11:DY11) -> 0 | ... EC30: =SUM($DR11:EC11) -> 0 | ED30: =SUM($ED11:ED11) -> 0 | EE30: =SUM($ED11:EE11) -> 0 | EF30: =SUM($ED11:EF11) -> 0 | EG30: =SUM($ED11:EG11) -> 0 | EH30: =SUM($ED11:EH11) -> 0 | EI30: =SUM($ED11:EI11) -> 0 | EJ30: =SUM($ED11:EJ11) -> 0 | EK30: =SUM($ED11:EK11) -> 0 | ... EO30: =SUM($ED11:EO11) -> 0 | EP30: =SUM($EP11:EP11) -> 0 | EQ30: =SUM($EP11:EQ11) -> 0 | ER30: =SUM($EP11:ER11) -> 0 | ES30: =SUM($EP11:ES11) -> 0 | ET30: =SUM($EP11:ET11) -> 0 | EU30: =SUM($EP11:EU11) -> 0 | EV30: =SUM($EP11:EV11) -> 0 | EW30: =SUM($EP11:EW11) -> 0 | ... FA30: =SUM($EP11:FA11) -> 0 | FB30: =SUM($FB11:FB11) -> 0 | FC30: =SUM($FB11:FC11) -> 0 | FD30: =SUM($FB11:FD11) -> 0 | FE30: =SUM($FB11:FE11) -> 0 | FF30: =SUM($FB11:FF11) -> 0 | FG30: =SUM($FB11:FG11) -> 0 | FH30: =SUM($FB11:FH11) -> 0 | FI30: =SUM($FB11:FI11) -> 0 | ... FM30: =SUM($FB11:FM11) -> 0 | FN30: =SUM($FN11:FN11) -> 0 | FO30: =SUM($FN11:FO11) -> 0 | FP30: =SUM($FN11:FP11) -> 0 | FQ30: =SUM($FN11:FQ11) -> 0 | FR30: =SUM($FN11:FR11) -> 0 | FS30: =SUM($FN11:FS11) -> 0 | FT30: =SUM($FN11:FT11) -> 0 | FU30: =SUM($FN11:FU11) -> 0 | ... FY30: =SUM($FN11:FY11) -> 0 | FZ30: =SUM($FZ11:FZ11) -> 0 | GA30: =SUM($FZ11:GA11) -> 0 | GB30: =SUM($FZ11:GB11) -> 0 | GC30: =SUM($FZ11:GC11) -> 0 | GD30: =SUM($FZ11:GD11) -> 0 | GE30: =SUM($FZ11:GE11) -> 0 | GF30: =SUM($FZ11:GF11) -> 0 | GG30: =SUM($FZ11:GG11) -> 0 | ... GK30: =SUM($FZ11:GK11) -> 0 | GL30: =SUM($GL11:GL11) -> 0 | GM30: =SUM($GL11:GM11) -> 0 | GN30: =SUM($GL11:GN11) -> 0 | GO30: =SUM($GL11:GO11) -> 0 | GP30: =SUM($GL11:GP11) -> 0 | GQ30: =SUM($GL11:GQ11) -> 0 | GR30: =SUM($GL11:GR11) -> 0 | GS30: =SUM($GL11:GS11) -> 0 | ... GW30: =SUM($GL11:GW11) -> 0 | GX30: =SUM($GX11:GX11) -> 0 | GY30: =SUM($GX11:GY11) -> 0 | GZ30: =SUM($GX11:GZ11) -> 0 | HA30: =SUM($GX11:HA11) -> 0 | HB30: =SUM($GX11:HB11) -> 0 | HC30: =SUM($GX11:HC11) -> 0 | HD30: =SUM($GX11:HD11) -> 0 | HE30: =SUM($GX11:HE11) -> 0 | ... HI30: =SUM($GX11:HI11) -> 0 | HJ30: =SUM($HJ11:HJ11) -> 0 | HK30: =SUM($HJ11:HK11) -> 0 | HL30: =SUM($HJ11:HL11) -> 0 | HM30: =SUM($HJ11:HM11) -> 0 | HN30: =SUM($HJ11:HN11) -> 0 | HO30: =SUM($HJ11:HO11) -> 0 | HP30: =SUM($HJ11:HP11) -> 0 | HQ30: =SUM($HJ11:HQ11) -> 0 | ... HU30: =SUM($HJ11:HU11) -> 0 | HV30: =SUM($HV11:HV11) -> 0 | HW30: =SUM($HV11:HW11) -> 0 | HX30: =SUM($HV11:HX11) -> 0 | HY30: =SUM($HV11:HY11) -> 0 | HZ30: =SUM($HV11:HZ11) -> 0 | IA30: =SUM($HV11:IA11) -> 0 | IB30: =SUM($HV11:IB11) -> 0 | IC30: =SUM($HV11:IC11) -> 0 | ... IG30: =SUM($HV11:IG11) -> 0 | IH30: =SUM($IH11:IH11) -> 0 | II30: =SUM($IH11:II11) -> 0 | IJ30: =SUM($IH11:IJ11) -> 0 | IK30: =SUM($IH11:IK11) -> 0 | IL30: =SUM($IH11:IL11) -> 0 | IM30: =SUM($IH11:IM11) -> 0 | IN30: =SUM($IH11:IN11) -> 0 | IO30: =SUM($IH11:IO11) -> 0 | ... IS30: =SUM($IH11:IS11) -> 0 | IT30: =SUM($IT11:IT11) -> 0 | IU30: =SUM($IT11:IU11) -> 0 | IV30: =SUM($IT11:IV11) -> 0 | IW30: =SUM($IT11:IW11) -> 0 | IX30: =SUM($IT11:IX11) -> 0 | IY30: =SUM($IT11:IY11) -> 0 | IZ30: =SUM($IT11:IZ11) -> 0 | JA30: =SUM($IT11:JA11) -> 0 | ... JE30: =SUM($IT11:JE11) -> 0 | JF30: =SUM($JF11:JF11) -> 0 | JG30: =SUM($JF11:JG11) -> 0 | JH30: =SUM($JF11:JH11) -> 0 | JI30: =SUM($JF11:JI11) -> 0 | JJ30: =SUM($JF11:JJ11) -> 0 | JK30: =SUM($JF11:JK11) -> 0 | JL30: =SUM($JF11:JL11) -> 0 | JM30: =SUM($JF11:JM11) -> 0 | ... JQ30: =SUM($JF11:JQ11) -> 0
A31: MARRAKECH | B31: =SUM(B12:$B12) -> 3403 | C31: =SUM($B12:C12) -> 5486 | D31: =SUM($B12:D12) -> 8318 | E31: =SUM($B12:E12) -> 12328 | F31: =SUM($B12:F12) -> 15644 | G31: =SUM($B12:G12) -> 18415 | H31: =SUM($B12:H12) -> 20856 | I31: =SUM($B12:I12) -> 22506 | J31: =SUM($B12:J12) -> 24313 | ... M31: =SUM($B12:M12) -> 29380 | N31: =SUM($N12:N12) -> 3425 | O31: =SUM($N12:O12) -> 5818 | P31: =SUM($N12:P12) -> 7930 | Q31: =SUM($N12:Q12) -> 10967 | R31: =SUM($N12:R12) -> 13165 | S31: =SUM($N12:S12) -> 16205 | T31: =SUM($N12:T12) -> 17714 | U31: =SUM($N12:U12) -> 19174 | ... Y31: =SUM($N12:Y12) -> 29582 | Z31: =SUM($Z12:Z12) -> 2636 | AA31: =SUM($Z12:AA12) -> 5811 | AB31: =SUM($Z12:AB12) -> 8732 | AC31: =SUM($Z12:AC12) -> 11198 | AD31: =SUM($Z12:AD12) -> 13577 | AE31: =SUM($Z12:AE12) -> 15946 | AF31: =SUM($Z12:AF12) -> 17876 | AG31: =SUM($Z12:AG12) -> 19482 | ... AK31: =SUM($Z12:AK12) -> 26745 | AL31: =SUM($AL12:AL12) -> 4356 | AM31: =SUM($AL12:AM12) -> 7390 | AN31: =SUM($AL12:AN12) -> 10878 | AO31: =SUM($AL12:AO12) -> 14425 | AP31: =SUM($AL12:AP12) -> 17283 | AQ31: =SUM($AL12:AQ12) -> 20379 | AR31: =SUM($AL12:AR12) -> 23126 | AS31: =SUM($AL12:AS12) -> 25238 | ... AW31: =SUM($AL12:AW12) -> 25238 | AX31: =SUM($AX12:AX12) -> 0 | AY31: =SUM($AX12:AY12) -> 0 | AZ31: =SUM($AX12:AZ12) -> 0 | BA31: =SUM($AX12:BA12) -> 0 | BB31: =SUM($AX12:BB12) -> 0 | BC31: =SUM($AX12:BC12) -> 0 | BD31: =SUM($AX12:BD12) -> 0 | BE31: =SUM($AX12:BE12) -> 0 | ... BI31: =SUM($AX12:BI12) -> 0 | BJ31: =SUM($BJ12:BJ12) -> 0 | BK31: =SUM($BJ12:BK12) -> 0 | BL31: =SUM($BJ12:BL12) -> 0 | BM31: =SUM($BJ12:BM12) -> 0 | BN31: =SUM($BJ12:BN12) -> 0 | BO31: =SUM($BJ12:BO12) -> 0 | BP31: =SUM($BJ12:BP12) -> 0 | BQ31: =SUM($BJ12:BQ12) -> 0 | ... BU31: =SUM($BJ12:BU12) -> 0 | BV31: =SUM($BV12:BV12) -> 0 | BW31: =SUM($BV12:BW12) -> 0 | BX31: =SUM($BV12:BX12) -> 0 | BY31: =SUM($BV12:BY12) -> 0 | BZ31: =SUM($BV12:BZ12) -> 0 | CA31: =SUM($BV12:CA12) -> 0 | CB31: =SUM($BV12:CB12) -> 0 | CC31: =SUM($BV12:CC12) -> 0 | ... CG31: =SUM($BV12:CG12) -> 0 | CH31: =SUM($CH12:CH12) -> 0 | CI31: =SUM($CH12:CI12) -> 0 | CJ31: =SUM($CH12:CJ12) -> 0 | CK31: =SUM($CH12:CK12) -> 0 | CL31: =SUM($CH12:CL12) -> 0 | CM31: =SUM($CH12:CM12) -> 0 | CN31: =SUM($CH12:CN12) -> 0 | CO31: =SUM($CH12:CO12) -> 0 | ... CS31: =SUM($CH12:CS12) -> 0 | CT31: =SUM($CT12:CT12) -> 0 | CU31: =SUM($CT12:CU12) -> 0 | CV31: =SUM($CT12:CV12) -> 0 | CW31: =SUM($CT12:CW12) -> 0 | CX31: =SUM($CT12:CX12) -> 0 | CY31: =SUM($CT12:CY12) -> 0 | CZ31: =SUM($CT12:CZ12) -> 0 | DA31: =SUM($CT12:DA12) -> 0 | ... DE31: =SUM($CT12:DE12) -> 0 | DF31: =SUM($DF12:DF12) -> 0 | DG31: =SUM($DF12:DG12) -> 0 | DH31: =SUM($DF12:DH12) -> 0 | DI31: =SUM($DF12:DI12) -> 0 | DJ31: =SUM($DF12:DJ12) -> 0 | DK31: =SUM($DF12:DK12) -> 0 | DL31: =SUM($DF12:DL12) -> 0 | DM31: =SUM($DF12:DM12) -> 0 | ... DQ31: =SUM($DF12:DQ12) -> 0 | DR31: =SUM($DR12:DR12) -> 0 | DS31: =SUM($DR12:DS12) -> 0 | DT31: =SUM($DR12:DT12) -> 0 | DU31: =SUM($DR12:DU12) -> 0 | DV31: =SUM($DR12:DV12) -> 0 | DW31: =SUM($DR12:DW12) -> 0 | DX31: =SUM($DR12:DX12) -> 0 | DY31: =SUM($DR12:DY12) -> 0 | ... EC31: =SUM($DR12:EC12) -> 0 | ED31: =SUM($ED12:ED12) -> 0 | EE31: =SUM($ED12:EE12) -> 0 | EF31: =SUM($ED12:EF12) -> 0 | EG31: =SUM($ED12:EG12) -> 0 | EH31: =SUM($ED12:EH12) -> 0 | EI31: =SUM($ED12:EI12) -> 0 | EJ31: =SUM($ED12:EJ12) -> 0 | EK31: =SUM($ED12:EK12) -> 0 | ... EO31: =SUM($ED12:EO12) -> 0 | EP31: =SUM($EP12:EP12) -> 0 | EQ31: =SUM($EP12:EQ12) -> 0 | ER31: =SUM($EP12:ER12) -> 0 | ES31: =SUM($EP12:ES12) -> 0 | ET31: =SUM($EP12:ET12) -> 0 | EU31: =SUM($EP12:EU12) -> 0 | EV31: =SUM($EP12:EV12) -> 0 | EW31: =SUM($EP12:EW12) -> 0 | ... FA31: =SUM($EP12:FA12) -> 0 | FB31: =SUM($FB12:FB12) -> 0 | FC31: =SUM($FB12:FC12) -> 0 | FD31: =SUM($FB12:FD12) -> 0 | FE31: =SUM($FB12:FE12) -> 0 | FF31: =SUM($FB12:FF12) -> 0 | FG31: =SUM($FB12:FG12) -> 0 | FH31: =SUM($FB12:FH12) -> 0 | FI31: =SUM($FB12:FI12) -> 0 | ... FM31: =SUM($FB12:FM12) -> 0 | FN31: =SUM($FN12:FN12) -> 0 | FO31: =SUM($FN12:FO12) -> 0 | FP31: =SUM($FN12:FP12) -> 0 | FQ31: =SUM($FN12:FQ12) -> 0 | FR31: =SUM($FN12:FR12) -> 0 | FS31: =SUM($FN12:FS12) -> 0 | FT31: =SUM($FN12:FT12) -> 0 | FU31: =SUM($FN12:FU12) -> 0 | ... FY31: =SUM($FN12:FY12) -> 0 | FZ31: =SUM($FZ12:FZ12) -> 0 | GA31: =SUM($FZ12:GA12) -> 0 | GB31: =SUM($FZ12:GB12) -> 0 | GC31: =SUM($FZ12:GC12) -> 0 | GD31: =SUM($FZ12:GD12) -> 0 | GE31: =SUM($FZ12:GE12) -> 0 | GF31: =SUM($FZ12:GF12) -> 0 | GG31: =SUM($FZ12:GG12) -> 0 | ... GK31: =SUM($FZ12:GK12) -> 0 | GL31: =SUM($GL12:GL12) -> 0 | GM31: =SUM($GL12:GM12) -> 0 | GN31: =SUM($GL12:GN12) -> 0 | GO31: =SUM($GL12:GO12) -> 0 | GP31: =SUM($GL12:GP12) -> 0 | GQ31: =SUM($GL12:GQ12) -> 0 | GR31: =SUM($GL12:GR12) -> 0 | GS31: =SUM($GL12:GS12) -> 0 | ... GW31: =SUM($GL12:GW12) -> 0 | GX31: =SUM($GX12:GX12) -> 0 | GY31: =SUM($GX12:GY12) -> 0 | GZ31: =SUM($GX12:GZ12) -> 0 | HA31: =SUM($GX12:HA12) -> 0 | HB31: =SUM($GX12:HB12) -> 0 | HC31: =SUM($GX12:HC12) -> 0 | HD31: =SUM($GX12:HD12) -> 0 | HE31: =SUM($GX12:HE12) -> 0 | ... HI31: =SUM($GX12:HI12) -> 0 | HJ31: =SUM($HJ12:HJ12) -> 0 | HK31: =SUM($HJ12:HK12) -> 0 | HL31: =SUM($HJ12:HL12) -> 0 | HM31: =SUM($HJ12:HM12) -> 0 | HN31: =SUM($HJ12:HN12) -> 0 | HO31: =SUM($HJ12:HO12) -> 0 | HP31: =SUM($HJ12:HP12) -> 0 | HQ31: =SUM($HJ12:HQ12) -> 0 | ... HU31: =SUM($HJ12:HU12) -> 0 | HV31: =SUM($HV12:HV12) -> 0 | HW31: =SUM($HV12:HW12) -> 0 | HX31: =SUM($HV12:HX12) -> 0 | HY31: =SUM($HV12:HY12) -> 0 | HZ31: =SUM($HV12:HZ12) -> 0 | IA31: =SUM($HV12:IA12) -> 0 | IB31: =SUM($HV12:IB12) -> 0 | IC31: =SUM($HV12:IC12) -> 0 | ... IG31: =SUM($HV12:IG12) -> 0 | IH31: =SUM($IH12:IH12) -> 0 | II31: =SUM($IH12:II12) -> 0 | IJ31: =SUM($IH12:IJ12) -> 0 | IK31: =SUM($IH12:IK12) -> 0 | IL31: =SUM($IH12:IL12) -> 0 | IM31: =SUM($IH12:IM12) -> 0 | IN31: =SUM($IH12:IN12) -> 0 | IO31: =SUM($IH12:IO12) -> 0 | ... IS31: =SUM($IH12:IS12) -> 0 | IT31: =SUM($IT12:IT12) -> 0 | IU31: =SUM($IT12:IU12) -> 0 | IV31: =SUM($IT12:IV12) -> 0 | IW31: =SUM($IT12:IW12) -> 0 | IX31: =SUM($IT12:IX12) -> 0 | IY31: =SUM($IT12:IY12) -> 0 | IZ31: =SUM($IT12:IZ12) -> 0 | JA31: =SUM($IT12:JA12) -> 0 | ... JE31: =SUM($IT12:JE12) -> 0 | JF31: =SUM($JF12:JF12) -> 0 | JG31: =SUM($JF12:JG12) -> 0 | JH31: =SUM($JF12:JH12) -> 0 | JI31: =SUM($JF12:JI12) -> 0 | JJ31: =SUM($JF12:JJ12) -> 0 | JK31: =SUM($JF12:JK12) -> 0 | JL31: =SUM($JF12:JL12) -> 0 | JM31: =SUM($JF12:JM12) -> 0 | ... JQ31: =SUM($JF12:JQ12) -> 0
