Workbook
Name REAL_D: OFFSET(C.Chèque_nb_ouvertures!$B$25,,,,COUNTIF(C.Chèque_nb_ouvertures!$26:$26,">0"))

Sheet Analyse des performances
A1: Analyse des performances
A7: Réalisé Cumulé | B7: du | C7: 40909 | D7: au | E7: 41122
A8: AGADIR | B8: =" + "&(E8-C8) -> + 14835 | C8: =OFFSET(C.Chèque_nb_ouvertures!B26,,MATCH('Analyse des performances'!C$7,REAL_D,0)-1) -> 3512 | E8: =OFFSET(C.Chèque_nb_ouvertures!C26,,MATCH('Analyse des performances'!E$7,REAL_D,0)-2) -> 18347
A9: CASABLANCA | B9: =" + "&(E9-C9) -> + 28944 | C9: =OFFSET(C.Chèque_nb_ouvertures!B27,,MATCH('Analyse des performances'!C$7,REAL_D,0)-1) -> 4861 | E9: =OFFSET(C.Chèque_nb_ouvertures!C27,,MATCH('Analyse des performances'!E$7,REAL_D,0)-2) -> 33805
A10: EL JADIDA | B10: =" + "&(E10-C10) -> + 17087 | C10: =OFFSET(C.Chèque_nb_ouvertures!B28,,MATCH('Analyse des performances'!C$7,REAL_D,0)-1) -> 2965 | E10: =OFFSET(C.Chèque_nb_ouvertures!C28,,MATCH('Analyse des performances'!E$7,REAL_D,0)-2) -> 20052
A11: FES | B11: =" + "&(E11-C11) -> + 12189 | C11: =OFFSET(C.Chèque_nb_ouvertures!B29,,MATCH('Analyse des performances'!C$7,REAL_D,0)-1) -> 2728 | E11: =OFFSET(C.Chèque_nb_ouvertures!C29,,MATCH('Analyse des performances'!E$7,REAL_D,0)-2) -> 14917
A12: LAAYOUNE | B12: =" + "&(E12-C12) -> + 3335 | C12: =OFFSET(C.Chèque_nb_ouvertures!B30,,MATCH('Analyse des performances'!C$7,REAL_D,0)-1) -> 637 | E12: =OFFSET(C.Chèque_nb_ouvertures!C30,,MATCH('Analyse des performances'!E$7,REAL_D,0)-2) -> 3972
A13: MARRAKECH | B13: =" + "&(E13-C13) -> + 15749 | C13: =OFFSET(C.Chèque_nb_ouvertures!B31,,MATCH('Analyse des performances'!C$7,REAL_D,0)-1) -> 3425 | E13: =OFFSET(C.Chèque_nb_ouvertures!C31,,MATCH('Analyse des performances'!E$7,REAL_D,0)-2) -> 19174
A14: MEKNES | B14: =" + "&(E14-C14) -> + 14065 | C14: =OFFSET(C.Chèque_nb_ouvertures!B32,,MATCH('Analyse des performances'!C$7,REAL_D,0)-1) -> 3192 | E14: =OFFSET(C.Chèque_nb_ouvertures!C32,,MATCH('Analyse des performances'!E$7,REAL_D,0)-2) -> 17257
A15: OUJDA | B15: =" + "&(E15-C15) -> + 14294 | C15: =OFFSET(C.Chèque_nb_ouvertures!B33,,MATCH('Analyse des performances'!C$7,REAL_D,0)-1) -> 2336 | E15: =OFFSET(C.Chèque_nb_ouvertures!C33,,MATCH('Analyse des performances'!E$7,REAL_D,0)-2) -> 16630
A16: RABAT | B16: =" + "&(E16-C16) -> + 23361 | C16: =OFFSET(C.Chèque_nb_ouvertures!B34,,MATCH('Analyse des performances'!C$7,REAL_D,0)-1) -> 4391 | E16: =OFFSET(C.Chèque_nb_ouvertures!C34,,MATCH('Analyse des performances'!E$7,REAL_D,0)-2) -> 27752
A17: TANGER | B17: =" + "&(E17-C17) -> + 13604 | C17: =OFFSET(C.Chèque_nb_ouvertures!B35,,MATCH('Analyse des performances'!C$7,REAL_D,0)-1) -> 2229 | E17: =OFFSET(C.Chèque_nb_ouvertures!C35,,MATCH('Analyse des performances'!E$7,REAL_D,0)-2) -> 15833

Sheet C.Chèque_nb_ouvertures
A1: (en nombre) | B1: =+B6 -> 40544 | C1: =+C6 -> 40575 | D1: =+D6 -> 40603 | E1: =+E6 -> 40634 | F1: =+F6 -> 40664 | G1: =+G6 -> 40695 | H1: =+H6 -> 40725 | I1: =+I6 -> 40756 | ... JQ1: =+JQ6 -> 48914
A2: SIRD | B2: 2 | C2: 3 | D2: 4 | E2: 5 | F2: 6 | G2: 7 | H2: 8 | I2: 9 | J2: 10 | K2: 11 | L2: 12 | M2: 13 | N2: 14 | O2: 15 | P2: 16 | Q2: 17 | R2: 18 | S2: 19 | T2: 20 | U2: 21 | V2: 22 | W2: 23 | X2: 24 | Y2: 25 | Z2: 26 | AA2: 27 | AB2: 28 | AC2: 29 | AD2: 30 | AE2: 31 | AF2: 32 | AG2: 33 | AH2: 34 | AI2: 35 | AJ2: 36 | AK2: 37 | AL2: 38 | AM2: 39 | AN2: 40 | AO2: 41 | AP2: 42 | AQ2: 43 | AR2: 44 | AS2: 45 | AT2: 46 | AU2: 47 | AV2: 48 | AW2: 49 | AX2: 50 | AY2: 51 | AZ2: 52 | BA2: 53 | BB2: 54 | BC2: 55 | BD2: 56 | BE2: 57 | BF2: 58 | BG2: 59 | BH2: 60 | BI2: 61 | BJ2: 62 | BK2: 63 | BL2: 64 | BM2: 65 | BN2: 66 | BO2: 67 | BP2: 68 | BQ2: 69 | BR2: 70 | BS2: 71 | BT2: 72 | BU2: 73 | BV2: 74 | BW2: 75 | BX2: 76 | BY2: 77 | BZ2: 78 | CA2: 79 | CB2: 80 | CC2: 81 | CD2: 82 | CE2: 83 | CF2: 84 | CG2: 85 | CH2: 86 | CI2: 87 | CJ2: 88 | CK2: 89 | CL2: 90 | CM2: 91 | CN2: 92 | CO2: 93 | CP2: 94 | CQ2: 95 | CR2: 96 | CS2: 97 | CT2: 98 | CU2: 99 | CV2: 100 | CW2: 101 | CX2: 102 | CY2: 103 | CZ2: 104 | DA2: 105 | DB2: 106 | DC2: 107 | DD2: 108 | DE2: 109 | DF2: 110 | DG2: 111 | DH2: 112 | DI2: 113 | DJ2: 114 | DK2: 115 | DL2: 116 | DM2: 117 | DN2: 118 | DO2: 119 | DP2: 120 | DQ2: 121 | DR2: 122 | DS2: 123 | DT2: 124 | DU2: 125 | DV2: 126 | DW2: 127 | DX2: 128 | DY2: 129 | DZ2: 130 | EA2: 131 | EB2: 132 | EC2: 133 | ED2: 134 | EE2: 135 | EF2: 136 | EG2: 137 | EH2: 138 | EI2: 139 | EJ2: 140 | EK2: 141 | EL2: 142 | EM2: 143 | EN2: 144 | EO2: 145 | EP2: 146 | EQ2: 147 | ER2: 148 | ES2: 149 | ET2: 150 | EU2: 151 | EV2: 152 | EW2: 153 | EX2: 154 | EY2: 155 | EZ2: 156 | FA2: 157 | FB2: 158 | FC2: 159 | FD2: 160 | FE2: 161 | FF2: 162 | FG2: 163 | FH2: 164 | FI2: 165 | FJ2: 166 | FK2: 167 | FL2: 168 | FM2: 169 | FN2: 170 | FO2: 171 | FP2: 172 | FQ2: 173 | FR2: 174 | FS2: 175 | FT2: 176 | FU2: 177 | FV2: 178 | FW2: 179 | FX2: 180 | FY2: 181 | FZ2: 182 | GA2: 183 | GB2: 184 | GC2: 185 | GD2: 186 | GE2: 187 | GF2: 188 | GG2: 189 | GH2: 190 | GI2: 191 | GJ2: 192 | GK2: 193 | GL2: 194 | GM2: 195 | GN2: 196 | GO2: 197 | GP2: 198 | GQ2: 199 | GR2: 200 | GS2: 201 | GT2: 202 | GU2: 203 | GV2: 204 | GW2: 205 | GX2: 206 | GY2: 207 | GZ2: 208 | HA2: 209 | HB2: 210 | HC2: 211 | HD2: 212 | HE2: 213 | HF2: 214 | HG2: 215 | HH2: 216 | HI2: 217 | HJ2: 218 | HK2: 219 | HL2: 220 | HM2: 221 | HN2: 222 | HO2: 223 | HP2: 224 | HQ2: 225 | HR2: 226 | HS2: 227 | HT2: 228 | HU2: 229 | HV2: 230 | HW2: 231 | HX2: 232 | HY2: 233 | HZ2: 234 | IA2: 235 | IB2: 236 | IC2: 237 | ID2: 238 | IE2: 239 | IF2: 240 | IG2: 241 | IH2: 242 | II2: 243 | IJ2: 244 | IK2: 245 | IL2: 246 | IM2: 247 | IN2: 248 | IO2: 249 | IP2: 250 | IQ2: 251 | IR2: 252 | IS2: 253 | IT2: 254 | IU2: 255 | IV2: 256 | IW2: 257 | IX2: 258 | IY2: 259 | IZ2: 260 | JA2: 261 | JB2: 262 | JC2: 263 | JD2: 264 | JE2: 265 | JF2: 266 | JG2: 267 | JH2: 268 | JI2: 269 | JJ2: 270 | JK2: 271 | JL2: 272 | JM2: 273 | JN2: 274 | JO2: 275 | JP2: 276 | JQ2: 277
AL4: A METTRE A JOUR DEPUIS JANVIER
A6: Réalisé Mensuel | B6: 40544 | C6: 40575 | D6: 40603 | E6: 40634 | F6: 40664 | G6: 40695 | H6: 40725 | I6: 40756 | J6: 40787 | K6: 40817 | L6: 40848 | M6: 40878 | N6: 40909 | O6: 40940 | P6: 40969 | Q6: 41000 | R6: 41030 | S6: 41061 | T6: 41091 | U6: 41122 | V6: 41153 | W6: 41183 | X6: 41214 | Y6: 41244 | Z6: 41275 | AA6: 41306 | AB6: 41334 | AC6: 41365 | AD6: 41395 | AE6: 41426 | AF6: 41456 | AG6: 41487 | AH6: 41518 | AI6: 41548 | AJ6: 41579 | AK6: 41609 | AL6: 41640 | AM6: 41671 | AN6: 41699 | AO6: 41730 | AP6: 41760 | AQ6: 41791 | AR6: 41821 | AS6: 41852 | AT6: 41883 | AU6: 41913 | AV6: 41944 | AW6: 41974 | AX6: 42005 | AY6: 42036 | AZ6: 42064 | BA6: 42095 | BB6: 42125 | BC6: 42156 | BD6: 42186 | BE6: 42217 | BF6: 42248 | BG6: 42278 | BH6: 42309 | BI6: 42339 | BJ6: 42370 | BK6: 42401 | BL6: 42430 | BM6: 42461 | BN6: 42491 | BO6: 42522 | BP6: 42552 | BQ6: 42583 | BR6: 42614 | BS6: 42644 | BT6: 42675 | BU6: 42705 | BV6: 42736 | BW6: 42767 | BX6: 42795 | BY6: 42826 | BZ6: 42856 | CA6: 42887 | CB6: 42917 | CC6: 42948 | CD6: 42979 | CE6: 43009 | CF6: 43040 | CG6: 43070 | CH6: 43101 | CI6: 43132 | CJ6: 43160 | CK6: 43191 | CL6: 43221 | CM6: 43252 | CN6: 43282 | CO6: 43313 | CP6: 43344 | CQ6: 43374 | CR6: 43405 | CS6: 43435 | CT6: 43466 | CU6: 43497 | CV6: 43525 | CW6: 43556 | CX6: 43586 | CY6: 43617 | CZ6: 43647 | DA6: 43678 | DB6: 43709 | DC6: 43739 | DD6: 43770 | DE6: 43800 | DF6: 43831 | DG6: 43862 | DH6: 43891 | DI6: 43922 | DJ6: 43952 | DK6: 43983 | DL6: 44013 | DM6: 44044 | DN6: 44075 | DO6: 44105 | DP6: 44136 | DQ6: 44166 | DR6: 44197 | DS6: 44228 | DT6: 44256 | DU6: 44287 | DV6: 44317 | DW6: 44348 | DX6: 44378 | DY6: 44409 | DZ6: 44440 | EA6: 44470 | EB6: 44501 | EC6: 44531 | ED6: 44562 | EE6: 44593 | EF6: 44621 | EG6: 44652 | EH6: 44682 | EI6: 44713 | EJ6: 44743 | EK6: 44774 | EL6: 44805 | EM6: 44835 | EN6: 44866 | EO6: 44896 | EP6: 44927 | EQ6: 44958 | ER6: 44986 | ES6: 45017 | ET6: 45047 | EU6: 45078 | EV6: 45108 | EW6: 45139 | EX6: 45170 | EY6: 45200 | EZ6: 45231 | FA6: 45261 | FB6: 45292 | FC6: 45323 | FD6: 45352 | FE6: 45383 | FF6: 45413 | FG6: 45444 | FH6: 45474 | FI6: 45505 | FJ6: 45536 | FK6: 45566 | FL6: 45597 | FM6: 45627 | FN6: 45658 | FO6: 45689 | FP6: 45717 | FQ6: 45748 | FR6: 45778 | FS6: 45809 | FT6: 45839 | FU6: 45870 | FV6: 45901 | FW6: 45931 | FX6: 45962 | FY6: 45992 | FZ6: 46023 | GA6: 46054 | GB6: 46082 | GC6: 46113 | GD6: 46143 | GE6: 46174 | GF6: 46204 | GG6: 46235 | GH6: 46266 | GI6: 46296 | GJ6: 46327 | GK6: 46357 | GL6: 46388 | GM6: 46419 | GN6: 46447 | GO6: 46478 | GP6: 46508 | GQ6: 46539 | GR6: 46569 | GS6: 46600 | GT6: 46631 | GU6: 46661 | GV6: 46692 | GW6: 46722 | GX6: 46753 | GY6: 46784 | GZ6: 46813 | HA6: 46844 | HB6: 46874 | HC6: 46905 | HD6: 46935 | HE6: 46966 | HF6: 46997 | HG6: 47027 | HH6: 47058 | HI6: 47088 | HJ6: 47119 | HK6: 47150 | HL6: 47178 | HM6: 47209 | HN6: 47239 | HO6: 47270 | HP6: 47300 | HQ6: 47331 | HR6: 47362 | HS6: 47392 | HT6: 47423 | HU6: 47453 | HV6: 47484 | HW6: 47515 | HX6: 47543 | HY6: 47574 | HZ6: 47604 | IA6: 47635 | IB6: 47665 | IC6: 47696 | ID6: 47727 | IE6: 47757 | IF6: 47788 | IG6: 47818 | IH6: 47849 | II6: 47880 | IJ6: 47908 | IK6: 47939 | IL6: 47969 | IM6: 48000 | IN6: 48030 | IO6: 48061 | IP6: 48092 | IQ6: 48122 | IR6: 48153 | IS6: 48183 | IT6: 48214 | IU6: 48245 | IV6: 48274 | IW6: 48305 | IX6: 48335 | IY6: 48366 | IZ6: 48396 | JA6: 48427 | JB6: 48458 | JC6: 48488 | JD6: 48519 | JE6: 48549 | JF6: 48580 | JG6: 48611 | JH6: 48639 | JI6: 48670 | JJ6: 48700 | JK6: 48731 | JL6: 48761 | JM6: 48792 | JN6: 48823 | JO6: 48853 | JP6: 48884 | JQ6: 48914
A7: AGADIR | B7: 3930 | C7: 2631 | D7: 2489 | E7: 2931 | F7: 3139 | G7: 2915 | H7: 1932 | I7: 1715 | J7: 2014 | K7: 1849 | L7: 1584 | M7: 1839 | N7: 3512 | O7: 2451 | P7: 2730 | Q7: 2327 | R7: 2148 | S7: 2087 | T7: 1712 | U7: 1380 | V7: 1946 | W7: 6172 | X7: 2057 | Y7: 2072 | Z7: 2668 | AA7: 3259 | AB7: 2423 | AC7: 3358 | AD7: 2928 | AE7: 3150 | AF7: 2029 | AG7: 1503 | AH7: 2502 | AI7: 2790 | AJ7: 2327 | AK7: 2085 | AL7: 6791 | AM7: 3679 | AN7: 4754 | AO7: 5804 | AP7: 3195 | AQ7: 3146 | AR7: 2241 | AS7: 2608
A8: CASABLANCA | B8: 5258 | C8: 3443 | D8: 5901 | E8: 6979 | F8: 4427 | G8: 4699 | H8: 3711 | I8: 3082 | J8: 3984 | K8: 4688 | L8: 3163 | M8: 3468 | N8: 4861 | O8: 4859 | P8: 4408 | Q8: 3533 | R8: 4595 | S8: 4520 | T8: 4077 | U8: 2952 | V8: 3679 | W8: 4284 | X8: 3808 | Y8: 3384 | Z8: 4232 | AA8: 3774 | AB8: 4706 | AC8: 5830 | AD8: 4280 | AE8: 4101 | AF8: 3862 | AG8: 3020 | AH8: 3574 | AI8: 4059 | AJ8: 3259 | AK8: 3141 | AL8: 4444 | AM8: 5015 | AN8: 6178 | AO8: 5882 | AP8: 6272 | AQ8: 6398 | AR8: 5272 | AS8: 5753
A9: EL JADIDA | B9: 3358 | C9: 2624 | D9: 3143 | E9: 4392 | F9: 4897 | G9: 4355 | H9: 2379 | I9: 1968 | J9: 2113 | K9: 2168 | L9: 1674 | M9: 1787 | N9: 2965 | O9: 2969 | P9: 2648 | Q9: 2361 | R9: 2208 | S9: 2673 | T9: 2243 | U9: 1985 | V9: 2958 | W9: 9026 | X9: 2642 | Y9: 2803 | Z9: 3231 | AA9: 2780 | AB9: 3311 | AC9: 4419 | AD9: 3792 | AE9: 2656 | AF9: 2348 | AG9: 1977 | AH9: 2416 | AI9: 2475 | AJ9: 1937 | AK9: 2415 | AL9: 7918 | AM9: 4870 | AN9: 3450 | AO9: 4409 | AP9: 3140 | AQ9: 2670 | AR9: 2710 | AS9: 2486
A10: FES | B10: 1932 | C10: 1731 | D10: 3032 | E10: 3169 | F10: 3399 | G10: 2456 | H10: 2151 | I10: 1783 | J10: 1991 | K10: 2914 | L10: 1696 | M10: 1687 | N10: 2728 | O10: 2152 | P10: 2087 | Q10: 1513 | R10: 1647 | S10: 1577 | T10: 1289 | U10: 1924 | V10: 1830 | W10: 5551 | X10: 1757 | Y10: 1614 | Z10: 1674 | AA10: 3249 | AB10: 2557 | AC10: 1989 | AD10: 2930 | AE10: 1756 | AF10: 1355 | AG10: 1300 | AH10: 1936 | AI10: 1401 | AJ10: 1120 | AK10: 1361 | AL10: 2281 | AM10: 1598 | AN10: 2202 | AO10: 2561 | AP10: 2576 | AQ10: 1698 | AR10: 2121 | AS10: 1950
A11: LAAYOUNE | B11: 555 | C11: 578 | D11: 615 | E11: 452 | F11: 453 | G11: 522 | H11: 561 | I11: 694 | J11: 624 | K11: 454 | L11: 306 | M11: 301 | N11: 637 | O11: 493 | P11: 424 | Q11: 512 | R11: 497 | S11: 442 | T11: 495 | U11: 472 | V11: 463 | W11: 532 | X11: 437 | Y11: 703 | Z11: 703 | AA11: 807 | AB11: 1753 | AC11: 1939 | AD11: 594 | AE11: 444 | AF11: 393 | AG11: 333 | AH11: 335 | AI11: 281 | AJ11: 300 | AK11: 298 | AL11: 579 | AM11: 1092 | AN11: 2403 | AO11: 959 | AP11: 696 | AQ11: 593 | AR11: 431 | AS11: 433
A12: MARRAKECH | B12: 3403 | C12: 2083 | D12: 2832 | E12: 4010 | F12: 3316 | G12: 2771 | H12: 2441 | I12: 1650 | J12: 1807 | K12: 1699 | L12: 1800 | M12: 1568 | N12: 3425 | O12: 2393 | P12: 2112 | Q12: 3037 | R12: 2198 | S12: 3040 | T12: 1509 | U12: 1460 | V12: 2189 | W12: 4346 | X12: 2109 | Y12: 1764 | Z12: 2636 | AA12: 3175 | AB12: 2921 | AC12: 2466 | AD12: 2379 | AE12: 2369 | AF12: 1930 | AG12: 1606 | AH12: 2218 | AI12: 1917 | AJ12: 1255 | AK12: 1873 | AL12: 4356 | AM12: 3034 | AN12: 3488 | AO12: 3547 | AP12: 2858 | AQ12: 3096 | AR12: 2747 | AS12: 2112
A13: MEKNES | B13: 3288 | C13: 2462 | D13: 2789 | E13: 2762 | F13: 3194 | G13: 3340 | H13: 2494 | I13: 1678 | J13: 2007 | K13: 2142 | L13: 1779 | M13: 1468 | N13: 3192 | O13: 2671 | P13: 2288 | Q13: 1845 | R13: 2023 | S13: 1926 | T13: 1461 | U13: 1851 | V13: 3299 | W13: 4831 | X13: 2116 | Y13: 1921 | Z13: 3072 | AA13: 3513 | AB13: 3130 | AC13: 2944 | AD13: 2809 | AE13: 2164 | AF13: 1850 | AG13: 1489 | AH13: 3345 | AI13: 3439 | AJ13: 2432 | AK13: 1632 | AL13: 3443 | AM13: 3744 | AN13: 3423 | AO13: 3877 | AP13: 2745 | AQ13: 2198 | AR13: 1461 | AS13: 1769
A14: OUJDA | B14: 2099 | C14: 2615 | D14: 2338 | E14: 2490 | F14: 2631 | G14: 2393 | H14: 1581 | I14: 1391 | J14: 1847 | K14: 1628 | L14: 1150 | M14: 1167 | N14: 2336 | O14: 1913 | P14: 2648 | Q14: 2055 | R14: 2279 | S14: 2294 | T14: 1772 | U14: 1333 | V14: 2230 | W14: 3941 | X14: 1502 | Y14: 1476 | Z14: 2261 | AA14: 2373 | AB14: 2340 | AC14: 2237 | AD14: 2282 | AE14: 2368 | AF14: 1716 | AG14: 1150 | AH14: 1217 | AI14: 1413 | AJ14: 1223 | AK14: 1517 | AL14: 3849 | AM14: 2782 | AN14: 3173 | AO14: 3246 | AP14: 1987 | AQ14: 2075 | AR14: 1449 | AS14: 1402
A15: RABAT | B15: 4505 | C15: 3647 | D15: 4762 | E15: 5084 | F15: 5399 | G15: 4268 | H15: 2630 | I15: 2375 | J15: 2951 | K15: 3143 | L15: 3521 | M15: 3253 | N15: 4391 | O15: 3980 | P15: 3916 | Q15: 3160 | R15: 4275 | S15: 3356 | T15: 2397 | U15: 2277 | V15: 4705 | W15: 4718 | X15: 3161 | Y15: 2074 | Z15: 3021 | AA15: 5403 | AB15: 4349 | AC15: 3963 | AD15: 4318 | AE15: 3948 | AF15: 3316 | AG15: 2330 | AH15: 3286 | AI15: 3167 | AJ15: 2292 | AK15: 2152 | AL15: 6648 | AM15: 4929 | AN15: 5484 | AO15: 4844 | AP15: 5208 | AQ15: 3846 | AR15: 2955 | AS15: 2762
A16: TANGER | B16: 2241 | C16: 1501 | D16: 1781 | E16: 2787 | F16: 3187 | G16: 2529 | H16: 1533 | I16: 1654 | J16: 1731 | K16: 2012 | L16: 1310 | M16: 1676 | N16: 2229 | O16: 2155 | P16: 2406 | Q16: 1734 | R16: 2114 | S16: 1818 | T16: 1528 | U16: 1849 | V16: 1692 | W16: 2437 | X16: 1452 | Y16: 1652 | Z16: 1895 | AA16: 2048 | AB16: 1789 | AC16: 2180 | AD16: 2830 | AE16: 1921 | AF16: 1510 | AG16: 1029 | AH16: 1627 | AI16: 1412 | AJ16: 1610 | AK16: 3292 | AL16: 3098 | AM16: 2766 | AN16: 3008 | AO16: 2785 | AP16: 2689 | AQ16: 2879 | AR16: 1315 | AS16: 1839
A17: ABB | B17: =SUM(B7:B16) -> 30569 | C17: =SUM(C7:C16) -> 23315 | D17: =SUM(D7:D16) -> 29682 | E17: =SUM(E7:E16) -> 35056 | F17: =SUM(F7:F16) -> 34042 | G17: =SUM(G7:G16) -> 30248 | H17: =SUM(H7:H16) -> 21413 | I17: =SUM(I7:I16) -> 17990 | ... JQ17: =SUM(JQ7:JQ16) -> 0
A25: Réalisé Cumulé | B25: 40544 | C25: 40575 | D25: 40603 | E25: 40634 | F25: 40664 | G25: 40695 | H25: 40725 | I25: 40756 | J25: 40787 | K25: 40817 | L25: 40848 | M25: 40878 | N25: 40909 | O25: 40940 | P25: 40969 | Q25: 41000 | R25: 41030 | S25: 41061 | T25: 41091 | U25: 41122 | V25: 41153 | W25: 41183 | X25: 41214 | Y25: 41244 | Z25: 41275 | AA25: 41306 | AB25: 41334 | AC25: 41365 | AD25: 41395 | AE25: 41426 | AF25: 41456 | AG25: 41487 | AH25: 41518 | AI25: 41548 | AJ25: 41579 | AK25: 41609 | AL25: 41640 | AM25: 41671 | AN25: 41699 | AO25: 41730 | AP25: 41760 | AQ25: 41791 | AR25: 41821 | AS25: 41852 | AT25: 41883 | AU25: 41913 | AV25: 41944 | AW25: 41974 | AX25: 42005 | AY25: 42036 | AZ25: 42064 | BA25: 42095 | BB25: 42125 | BC25: 42156 | BD25: 42186 | BE25: 42217 | BF25: 42248 | BG25: 42278 | BH25: 42309 | BI25: 42339 | BJ25: 42370 | BK25: 42401 | BL25: 42430 | BM25: 42461 | BN25: 42491 | BO25: 42522 | BP25: 42552 | BQ25: 42583 | BR25: 42614 | BS25: 42644 | BT25: 42675 | BU25: 42705 | BV25: 42736 | BW25: 42767 | BX25: 42795 | BY25: 42826 | BZ25: 42856 | CA25: 42887 | CB25: 42917 | CC25: 42948 | CD25: 42979 | CE25: 43009 | CF25: 43040 | CG25: 43070 | CH25: 43101 | CI25: 43132 | CJ25: 43160 | CK25: 43191 | CL25: 43221 | CM25: 43252 | CN25: 43282 | CO25: 43313 | CP25: 43344 | CQ25: 43374 | CR25: 43405 | CS25: 43435 | CT25: 43466 | CU25: 43497 | CV25: 43525 | CW25: 43556 | CX25: 43586 | CY25: 43617 | CZ25: 43647 | DA25: 43678 | DB25: 43709 | DC25: 43739 | DD25: 43770 | DE25: 43800 | DF25: 43831 | DG25: 43862 | DH25: 43891 | DI25: 43922 | DJ25: 43952 | DK25: 43983 | DL25: 44013 | DM25: 44044 | DN25: 44075 | DO25: 44105 | DP25: 44136 | DQ25: 44166 | DR25: 44197 | DS25: 44228 | DT25: 44256 | DU25: 44287 | DV25: 44317 | DW25: 44348 | DX25: 44378 | DY25: 44409 | DZ25: 44440 | EA25: 44470 | EB25: 44501 | EC25: 44531 | ED25: 44562 | EE25: 44593 | EF25: 44621 | EG25: 44652 | EH25: 44682 | EI25: 44713 | EJ25: 44743 | EK25: 44774 | EL25: 44805 | EM25: 44835 | EN25: 44866 | EO25: 44896 | EP25: 44927 | EQ25: 44958 | ER25: 44986 | ES25: 45017 | ET25: 45047 | EU25: 45078 | EV25: 45108 | EW25: 45139 | EX25: 45170 | EY25: 45200 | EZ25: 45231 | FA25: 45261 | FB25: 45292 | FC25: 45323 | FD25: 45352 | FE25: 45383 | FF25: 45413 | FG25: 45444 | FH25: 45474 | FI25: 45505 | FJ25: 45536 | FK25: 45566 | FL25: 45597 | FM25: 45627 | FN25: 45658 | FO25: 45689 | FP25: 45717 | FQ25: 45748 | FR25: 45778 | FS25: 45809 | FT25: 45839 | FU25: 45870 | FV25: 45901 | FW25: 45931 | FX25: 45962 | FY25: 45992 | FZ25: 46023 | GA25: 46054 | GB25: 46082 | GC25: 46113 | GD25: 46143 | GE25: 46174 | GF25: 46204 | GG25: 46235 | GH25: 46266 | GI25: 46296 | GJ25: 46327 | GK25: 46357 | GL25: 46388 | GM25: 46419 | GN25: 46447 | GO25: 46478 | GP25: 46508 | GQ25: 46539 | GR25: 46569 | GS25: 46600 | GT25: 46631 | GU25: 46661 | GV25: 46692 | GW25: 46722 | GX25: 46753 | GY25: 46784 | GZ25: 46813 | HA25: 46844 | HB25: 46874 | HC25: 46905 | HD25: 46935 | HE25: 46966 | HF25: 46997 | HG25: 47027 | HH25: 47058 | HI25: 47088 | HJ25: 47119 | HK25: 47150 | HL25: 47178 | HM25: 47209 | HN25: 47239 | HO25: 47270 | HP25: 47300 | HQ25: 47331 | HR25: 47362 | HS25: 47392 | HT25: 47423 | HU25: 47453 | HV25: 47484 | HW25: 47515 | HX25: 47543 | HY25: 47574 | HZ25: 47604 | IA25: 47635 | IB25: 47665 | IC25: 47696 | ID25: 47727 | IE25: 47757 | IF25: 47788 | IG25: 47818 | IH25: 47849 | II25: 47880 | IJ25: 47908 | IK25: 47939 | IL25: 47969 | IM25: 48000 | IN25: 48030 | IO25: 48061 | IP25: 48092 | IQ25: 48122 | IR25: 48153 | IS25: 48183 | IT25: 48214 | IU25: 48245 | IV25: 48274 | IW25: 48305 | IX25: 48335 | IY25: 48366 | IZ25: 48396 | JA25: 48427 | JB25: 48458 | JC25: 48488 | JD25: 48519 | JE25: 48549 | JF25: 48580 | JG25: 48611 | JH25: 48639 | JI25: 48670 | JJ25: 48700 | JK25: 48731 | JL25: 48761 | JM25: 48792 | JN25: 48823 | JO25: 48853 | JP25: 48884 | JQ25: 48914
A26: AGADIR | B26: =SUM(B7:$B7) -> 3930 | C26: =SUM($B7:C7) -> 6561 | D26: =SUM($B7:D7) -> 9050 | E26: =SUM($B7:E7) -> 11981 | F26: =SUM($B7:F7) -> 15120 | G26: =SUM($B7:G7) -> 18035 | H26: =SUM($B7:H7) -> 19967 | I26: =SUM($B7:I7) -> 21682 | J26: =SUM($B7:J7) -> 23696 | ... M26: =SUM($B7:M7) -> 28968 | N26: =SUM($N7:N7) -> 3512 | O26: =SUM($N7:O7) -> 5963 | P26: =SUM($N7:P7) -> 8693 | Q26: =SUM($N7:Q7) -> 11020 | R26: =SUM($N7:R7) -> 13168 | S26: =SUM($N7:S7) -> 15255 | T26: =SUM($N7:T7) -> 16967 | U26: =SUM($N7:U7) -> 18347 | ... Y26: =SUM($N7:Y7) -> 30594 | Z26: =SUM($Z7:Z7) -> 2668 | AA26: =SUM($Z7:AA7) -> 5927 | AB26: =SUM($Z7:AB7) -> 8350 | AC26: =SUM($Z7:AC7) -> 11708 | AD26: =SUM($Z7:AD7) -> 14636 | AE26: =SUM($Z7:AE7) -> 17786 | AF26: =SUM($Z7:AF7) -> 19815 | AG26: =SUM($Z7:AG7) -> 21318 | ... AK26: =SUM($Z7:AK7) -> 31022 | AL26: =SUM($AL7:AL7) -> 6791 | AM26: =SUM($AL7:AM7) -> 10470 | AN26: =SUM($AL7:AN7) -> 15224 | AO26: =SUM($AL7:AO7) -> 21028 | AP26: =SUM($AL7:AP7) -> 24223 | AQ26: =SUM($AL7:AQ7) -> 27369 | AR26: =SUM($AL7:AR7) -> 29610 | AS26: =SUM($AL7:AS7) -> 32218 | ... AW26: =SUM($AL7:AW7) -> 32218 | AX26: =SUM($AX7:AX7) -> 0 | AY26: =SUM($AX7:AY7) -> 0 | AZ26: =SUM($AX7:AZ7) -> 0 | BA26: =SUM($AX7:BA7) -> 0 | BB26: =SUM($AX7:BB7) -> 0 | BC26: =SUM($AX7:BC7) -> 0 | BD26: =SUM($AX7:BD7) -> 0 | BE26: =SUM($AX7:BE7) -> 0 | ... BI26: =SUM($AX7:BI7) -> 0 | BJ26: =SUM($BJ7:BJ7) -> 0 | BK26: =SUM($BJ7:BK7) -> 0 | BL26: =SUM($BJ7:BL7) -> 0 | BM26: =SUM($BJ7:BM7) -> 0 | BN26: =SUM($BJ7:BN7) -> 0 | BO26: =SUM($BJ7:BO7) -> 0 | BP26: =SUM($BJ7:BP7) -> 0 | BQ26: =SUM($BJ7:BQ7) -> 0 | ... BU26: =SUM($BJ7:BU7) -> 0 | BV26: =SUM($BV7:BV7) -> 0 | BW26: =SUM($BV7:BW7) -> 0 | BX26: =SUM($BV7:BX7) -> 0 | BY26: =SUM($BV7:BY7) -> 0 | BZ26: =SUM($BV7:BZ7) -> 0 | CA26: =SUM($BV7:CA7) -> 0 | CB26: =SUM($BV7:CB7) -> 0 | CC26: =SUM($BV7:CC7) -> 0 | ... CG26: =SUM($BV7:CG7) -> 0 | CH26: =SUM($CH7:CH7) -> 0 | CI26: =SUM($CH7:CI7) -> 0 | CJ26: =SUM($CH7:CJ7) -> 0 | CK26: =SUM($CH7:CK7) -> 0 | CL26: =SUM($CH7:CL7) -> 0 | CM26: =SUM($CH7:CM7) -> 0 | CN26: =SUM($CH7:CN7) -> 0 | CO26: =SUM($CH7:CO7) -> 0 | ... CS26: =SUM($CH7:CS7) -> 0 | CT26: =SUM($CT7:CT7) -> 0 | CU26: =SUM($CT7:CU7) -> 0 | CV26: =SUM($CT7:CV7) -> 0 | CW26: =SUM($CT7:CW7) -> 0 | CX26: =SUM($CT7:CX7) -> 0 | CY26: =SUM($CT7:CY7) -> 0 | CZ26: =SUM($CT7:CZ7) -> 0 | DA26: =SUM($CT7:DA7) -> 0 | ... DE26: =SUM($CT7:DE7) -> 0 | DF26: =SUM($DF7:DF7) -> 0 | DG26: =SUM($DF7:DG7) -> 0 | DH26: =SUM($DF7:DH7) -> 0 | DI26: =SUM($DF7:DI7) -> 0 | DJ26: =SUM($DF7:DJ7) -> 0 | DK26: =SUM($DF7:DK7) -> 0 | DL26: =SUM($DF7:DL7) -> 0 | DM26: =SUM($DF7:DM7) -> 0 | ... DQ26: =SUM($DF7:DQ7) -> 0 | DR26: =SUM($DR7:DR7) -> 0 | DS26: =SUM($DR7:DS7) -> 0 | DT26: =SUM($DR7:DT7) -> 0 | DU26: =SUM($DR7:DU7) -> 0 | DV26: =SUM($DR7:DV7) -> 0 | DW26: =SUM($DR7:DW7) -> 0 | DX26: =SUM($DR7:DX7) -> 0 | DY26: =SUM($DR7:DY7) -> 0 | ... EC26: =SUM($DR7:EC7) -> 0 | ED26: =SUM($ED7:ED7) -> 0 | EE26: =SUM($ED7:EE7) -> 0 | EF26: =SUM($ED7:EF7) -> 0 | EG26: =SUM($ED7:EG7) -> 0 | EH26: =SUM($ED7:EH7) -> 0 | EI26: =SUM($ED7:EI7) -> 0 | EJ26: =SUM($ED7:EJ7) -> 0 | EK26: =SUM($ED7:EK7) -> 0 | ... EO26: =SUM($ED7:EO7) -> 0 | EP26: =SUM($EP7:EP7) -> 0 | EQ26: =SUM($EP7:EQ7) -> 0 | ER26: =SUM($EP7:ER7) -> 0 | ES26: =SUM($EP7:ES7) -> 0 | ET26: =SUM($EP7:ET7) -> 0 | EU26: =SUM($EP7:EU7) -> 0 | EV26: =SUM($EP7:EV7) -> 0 | EW26: =SUM($EP7:EW7) -> 0 | ... FA26: =SUM($EP7:FA7) -> 0 | FB26: =SUM($FB7:FB7) -> 0 | FC26: =SUM($FB7:FC7) -> 0 | FD26: =SUM($FB7:FD7) -> 0 | FE26: =SUM($FB7:FE7) -> 0 | FF26: =SUM($FB7:FF7) -> 0 | FG26: =SUM($FB7:FG7) -> 0 | FH26: =SUM($FB7:FH7) -> 0 | FI26: =SUM($FB7:FI7) -> 0 | ... FM26: =SUM($FB7:FM7) -> 0 | FN26: =SUM($FN7:FN7) -> 0 | FO26: =SUM($FN7:FO7) -> 0 | FP26: =SUM($FN7:FP7) -> 0 | FQ26: =SUM($FN7:FQ7) -> 0 | FR26: =SUM($FN7:FR7) -> 0 | FS26: =SUM($FN7:FS7) -> 0 | FT26: =SUM($FN7:FT7) -> 0 | FU26: =SUM($FN7:FU7) -> 0 | ... FY26: =SUM($FN7:FY7) -> 0 | FZ26: =SUM($FZ7:FZ7) -> 0 | GA26: =SUM($FZ7:GA7) -> 0 | GB26: =SUM($FZ7:GB7) -> 0 | GC26: =SUM($FZ7:GC7) -> 0 | GD26: =SUM($FZ7:GD7) -> 0 | GE26: =SUM($FZ7:GE7) -> 0 | GF26: =SUM($FZ7:GF7) -> 0 | GG26: =SUM($FZ7:GG7) -> 0 | ... GK26: =SUM($FZ7:GK7) -> 0 | GL26: =SUM($GL7:GL7) -> 0 | GM26: =SUM($GL7:GM7) -> 0 | GN26: =SUM($GL7:GN7) -> 0 | GO26: =SUM($GL7:GO7) -> 0 | GP26: =SUM($GL7:GP7) -> 0 | GQ26: =SUM($GL7:GQ7) -> 0 | GR26: =SUM($GL7:GR7) -> 0 | GS26: =SUM($GL7:GS7) -> 0 | ... GW26: =SUM($GL7:GW7) -> 0 | GX26: =SUM($GX7:GX7) -> 0 | GY26: =SUM($GX7:GY7) -> 0 | GZ26: =SUM($GX7:GZ7) -> 0 | HA26: =SUM($GX7:HA7) -> 0 | HB26: =SUM($GX7:HB7) -> 0 | HC26: =SUM($GX7:HC7) -> 0 | HD26: =SUM($GX7:HD7) -> 0 | HE26: =SUM($GX7:HE7) -> 0 | ... HI26: =SUM($GX7:HI7) -> 0 | HJ26: =SUM($HJ7:HJ7) -> 0 | HK26: =SUM($HJ7:HK7) -> 0 | HL26: =SUM($HJ7:HL7) -> 0 | HM26: =SUM($HJ7:HM7) -> 0 | HN26: =SUM($HJ7:HN7) -> 0 | HO26: =SUM($HJ7:HO7) -> 0 | HP26: =SUM($HJ7:HP7) -> 0 | HQ26: =SUM($HJ7:HQ7) -> 0 | ... HU26: =SUM($HJ7:HU7) -> 0 | HV26: =SUM($HV7:HV7) -> 0 | HW26: =SUM($HV7:HW7) -> 0 | HX26: =SUM($HV7:HX7) -> 0 | HY26: =SUM($HV7:HY7) -> 0 | HZ26: =SUM($HV7:HZ7) -> 0 | IA26: =SUM($HV7:IA7) -> 0 | IB26: =SUM($HV7:IB7) -> 0 | IC26: =SUM($HV7:IC7) -> 0 | ... IG26: =SUM($HV7:IG7) -> 0 | IH26: =SUM($IH7:IH7) -> 0 | II26: =SUM($IH7:II7) -> 0 | IJ26: =SUM($IH7:IJ7) -> 0 | IK26: =SUM($IH7:IK7) -> 0 | IL26: =SUM($IH7:IL7) -> 0 | IM26: =SUM($IH7:IM7) -> 0 | IN26: =SUM($IH7:IN7) -> 0 | IO26: =SUM($IH7:IO7) -> 0 | ... IS26: =SUM($IH7:IS7) -> 0 | IT26: =SUM($IT7:IT7) -> 0 | IU26: =SUM($IT7:IU7) -> 0 | IV26: =SUM($IT7:IV7) -> 0 | IW26: =SUM($IT7:IW7) -> 0 | IX26: =SUM($IT7:IX7) -> 0 | IY26: =SUM($IT7:IY7) -> 0 | IZ26: =SUM($IT7:IZ7) -> 0 | JA26: =SUM($IT7:JA7) -> 0 | ... JE26: =SUM($IT7:JE7) -> 0 | JF26: =SUM($JF7:JF7) -> 0 | JG26: =SUM($JF7:JG7) -> 0 | JH26: =SUM($JF7:JH7) -> 0 | JI26: =SUM($JF7:JI7) -> 0 | JJ26: =SUM($JF7:JJ7) -> 0 | JK26: =SUM($JF7:JK7) -> 0 | JL26: =SUM($JF7:JL7) -> 0 | JM26: =SUM($JF7:JM7) -> 0 | ... JQ26: =SUM($JF7:JQ7) -> 0
A27: CASABLANCA | B27: =SUM(B8:$B8) -> 5258 | C27: =SUM($B8:C8) -> 8701 | D27: =SUM($B8:D8) -> 14602 | E27: =SUM($B8:E8) -> 21581 | F27: =SUM($B8:F8) -> 26008 | G27: =SUM($B8:G8) -> 30707 | H27: =SUM($B8:H8) -> 34418 | I27: =SUM($B8:I8) -> 37500 | J27: =SUM($B8:J8) -> 41484 | ... M27: =SUM($B8:M8) -> 52803 | N27: =SUM($N8:N8) -> 4861 | O27: =SUM($N8:O8) -> 9720 | P27: =SUM($N8:P8) -> 14128 | Q27: =SUM($N8:Q8) -> 17661 | R27: =SUM($N8:R8) -> 22256 | S27: =SUM($N8:S8) -> 26776 | T27: =SUM($N8:T8) -> 30853 | U27: =SUM($N8:U8) -> 33805 | ... Y27: =SUM($N8:Y8) -> 48960 | Z27: =SUM($Z8:Z8) -> 4232 | AA27: =SUM($Z8:AA8) -> 8006 | AB27: =SUM($Z8:AB8) -> 12712 | AC27: =SUM($Z8:AC8) -> 18542 | AD27: =SUM($Z8:AD8) -> 22822 | AE27: =SUM($Z8:AE8) -> 26923 | AF27: =SUM($Z8:AF8) -> 30785 | AG27: =SUM($Z8:AG8) -> 33805 | ... AK27: =SUM($Z8:AK8) -> 47838 | AL27: =SUM($AL8:AL8) -> 4444 | AM27: =SUM($AL8:AM8) -> 9459 | AN27: =SUM($AL8:AN8) -> 15637 | AO27: =SUM($AL8:AO8) -> 21519 | AP27: =SUM($AL8:AP8) -> 27791 | AQ27: =SUM($AL8:AQ8) -> 34189 | AR27: =SUM($AL8:AR8) -> 39461 | AS27: =SUM($AL8:AS8) -> 45214 | ... AW27: =SUM($AL8:AW8) -> 45214 | AX27: =SUM($AX8:AX8) -> 0 | AY27: =SUM($AX8:AY8) -> 0 | AZ27: =SUM($AX8:AZ8) -> 0 | BA27: =SUM($AX8:BA8) -> 0 | BB27: =SUM($AX8:BB8) -> 0 | BC27: =SUM($AX8:BC8) -> 0 | BD27: =SUM($AX8:BD8) -> 0 | BE27: =SUM($AX8:BE8) -> 0 | ... BI27: =SUM($AX8:BI8) -> 0 | BJ27: =SUM($BJ8:BJ8) -> 0 | BK27: =SUM($BJ8:BK8) -> 0 | BL27: =SUM($BJ8:BL8) -> 0 | BM27: =SUM($BJ8:BM8) -> 0 | BN27: =SUM($BJ8:BN8) -> 0 | BO27: =SUM($BJ8:BO8) -> 0 | BP27: =SUM($BJ8:BP8) -> 0 | BQ27: =SUM($BJ8:BQ8) -> 0 | ... BU27: =SUM($BJ8:BU8) -> 0 | BV27: =SUM($BV8:BV8) -> 0 | BW27: =SUM($BV8:BW8) -> 0 | BX27: =SUM($BV8:BX8) -> 0 | BY27: =SUM($BV8:BY8) -> 0 | BZ27: =SUM($BV8:BZ8) -> 0 | CA27: =SUM($BV8:CA8) -> 0 | CB27: =SUM($BV8:CB8) -> 0 | CC27: =SUM($BV8:CC8) -> 0 | ... CG27: =SUM($BV8:CG8) -> 0 | CH27: =SUM($CH8:CH8) -> 0 | CI27: =SUM($CH8:CI8) -> 0 | CJ27: =SUM($CH8:CJ8) -> 0 | CK27: =SUM($CH8:CK8) -> 0 | CL27: =SUM($CH8:CL8) -> 0 | CM27: =SUM($CH8:CM8) -> 0 | CN27: =SUM($CH8:CN8) -> 0 | CO27: =SUM($CH8:CO8) -> 0 | ... CS27: =SUM($CH8:CS8) -> 0 | CT27: =SUM($CT8:CT8) -> 0 | CU27: =SUM($CT8:CU8) -> 0 | CV27: =SUM($CT8:CV8) -> 0 | CW27: =SUM($CT8:CW8) -> 0 | CX27: =SUM($CT8:CX8) -> 0 | CY27: =SUM($CT8:CY8) -> 0 | CZ27: =SUM($CT8:CZ8) -> 0 | DA27: =SUM($CT8:DA8) -> 0 | ... DE27: =SUM($CT8:DE8) -> 0 | DF27: =SUM($DF8:DF8) -> 0 | DG27: =SUM($DF8:DG8) -> 0 | DH27: =SUM($DF8:DH8) -> 0 | DI27: =SUM($DF8:DI8) -> 0 | DJ27: =SUM($DF8:DJ8) -> 0 | DK27: =SUM($DF8:DK8) -> 0 | DL27: =SUM($DF8:DL8) -> 0 | DM27: =SUM($DF8:DM8) -> 0 | ... DQ27: =SUM($DF8:DQ8) -> 0 | DR27: =SUM($DR8:DR8) -> 0 | DS27: =SUM($DR8:DS8) -> 0 | DT27: =SUM($DR8:DT8) -> 0 | DU27: =SUM($DR8:DU8) -> 0 | DV27: =SUM($DR8:DV8) -> 0 | DW27: =SUM($DR8:DW8) -> 0 | DX27: =SUM($DR8:DX8) -> 0 | DY27: =SUM($DR8:DY8) -> 0 | ... EC27: =SUM($DR8:EC8) -> 0 | ED27: =SUM($ED8:ED8) -> 0 | EE27: =SUM($ED8:EE8) -> 0 | EF27: =SUM($ED8:EF8) -> 0 | EG27: =SUM($ED8:EG8) -> 0 | EH27: =SUM($ED8:EH8) -> 0 | EI27: =SUM($ED8:EI8) -> 0 | EJ27: =SUM($ED8:EJ8) -> 0 | EK27: =SUM($ED8:EK8) -> 0 | ... EO27: =SUM($ED8:EO8) -> 0 | EP27: =SUM($EP8:EP8) -> 0 | EQ27: =SUM($EP8:EQ8) -> 0 | ER27: =SUM($EP8:ER8) -> 0 | ES27: =SUM($EP8:ES8) -> 0 | ET27: =SUM($EP8:ET8) -> 0 | EU27: =SUM($EP8:EU8) -> 0 | EV27: =SUM($EP8:EV8) -> 0 | EW27: =SUM($EP8:EW8) -> 0 | ... FA27: =SUM($EP8:FA8) -> 0 | FB27: =SUM($FB8:FB8) -> 0 | FC27: =SUM($FB8:FC8) -> 0 | FD27: =SUM($FB8:FD8) -> 0 | FE27: =SUM($FB8:FE8) -> 0 | FF27: =SUM($FB8:FF8) -> 0 | FG27: =SUM($FB8:FG8) -> 0 | FH27: =SUM($FB8:FH8) -> 0 | FI27: =SUM($FB8:FI8) -> 0 | ... FM27: =SUM($FB8:FM8) -> 0 | FN27: =SUM($FN8:FN8) -> 0 | FO27: =SUM($FN8:FO8) -> 0 | FP27: =SUM($FN8:FP8) -> 0 | FQ27: =SUM($FN8:FQ8) -> 0 | FR27: =SUM($FN8:FR8) -> 0 | FS27: =SUM($FN8:FS8) -> 0 | FT27: =SUM($FN8:FT8) -> 0 | FU27: =SUM($FN8:FU8) -> 0 | ... FY27: =SUM($FN8:FY8) -> 0 | FZ27: =SUM($FZ8:FZ8) -> 0 | GA27: =SUM($FZ8:GA8) -> 0 | GB27: =SUM($FZ8:GB8) -> 0 | GC27: =SUM($FZ8:GC8) -> 0 | GD27: =SUM($FZ8:GD8) -> 0 | GE27: =SUM($FZ8:GE8) -> 0 | GF27: =SUM($FZ8:GF8) -> 0 | GG27: =SUM($FZ8:GG8) -> 0 | ... GK27: =SUM($FZ8:GK8) -> 0 | GL27: =SUM($GL8:GL8) -> 0 | GM27: =SUM($GL8:GM8) -> 0 | GN27: =SUM($GL8:GN8) -> 0 | GO27: =SUM($GL8:GO8) -> 0 | GP27: =SUM($GL8:GP8) -> 0 | GQ27: =SUM($GL8:GQ8) -> 0 | GR27: =SUM($GL8:GR8) -> 0 | GS27: =SUM($GL8:GS8) -> 0 | ... GW27: =SUM($GL8:GW8) -> 0 | GX27: =SUM($GX8:GX8) -> 0 | GY27: =SUM($GX8:GY8) -> 0 | GZ27: =SUM($GX8:GZ8) -> 0 | HA27: =SUM($GX8:HA8) -> 0 | HB27: =SUM($GX8:HB8) -> 0 | HC27: =SUM($GX8:HC8) -> 0 | HD27: =SUM($GX8:HD8) -> 0 | HE27: =SUM($GX8:HE8) -> 0 | ... HI27: =SUM($GX8:HI8) -> 0 | HJ27: =SUM($HJ8:HJ8) -> 0 | HK27: =SUM($HJ8:HK8) -> 0 | HL27: =SUM($HJ8:HL8) -> 0 | HM27: =SUM($HJ8:HM8) -> 0 | HN27: =SUM($HJ8:HN8) -> 0 | HO27: =SUM($HJ8:HO8) -> 0 | HP27: =SUM($HJ8:HP8) -> 0 | HQ27: =SUM($HJ8:HQ8) -> 0 | ... HU27: =SUM($HJ8:HU8) -> 0 | HV27: =SUM($HV8:HV8) -> 0 | HW27: =SUM($HV8:HW8) -> 0 | HX27: =SUM($HV8:HX8) -> 0 | HY27: =SUM($HV8:HY8) -> 0 | HZ27: =SUM($HV8:HZ8) -> 0 | IA27: =SUM($HV8:IA8) -> 0 | IB27: =SUM($HV8:IB8) -> 0 | IC27: =SUM($HV8:IC8) -> 0 | ... IG27: =SUM($HV8:IG8) -> 0 | IH27: =SUM($IH8:IH8) -> 0 | II27: =SUM($IH8:II8) -> 0 | IJ27: =SUM($IH8:IJ8) -> 0 | IK27: =SUM($IH8:IK8) -> 0 | IL27: =SUM($IH8:IL8) -> 0 | IM27: =SUM($IH8:IM8) -> 0 | IN27: =SUM($IH8:IN8) -> 0 | IO27: =SUM($IH8:IO8) -> 0 | ... IS27: =SUM($IH8:IS8) -> 0 | IT27: =SUM($IT8:IT8) -> 0 | IU27: =SUM($IT8:IU8) -> 0 | IV27: =SUM($IT8:IV8) -> 0 | IW27: =SUM($IT8:IW8) -> 0 | IX27: =SUM($IT8:IX8) -> 0 | IY27: =SUM($IT8:IY8) -> 0 | IZ27: =SUM($IT8:IZ8) -> 0 | JA27: =SUM($IT8:JA8) -> 0 | ... JE27: =SUM($IT8:JE8) -> 0 | JF27: =SUM($JF8:JF8) -> 0 | JG27: =SUM($JF8:JG8) -> 0 | JH27: =SUM($JF8:JH8) -> 0 | JI27: =SUM($JF8:JI8) -> 0 | JJ27: =SUM($JF8:JJ8) -> 0 | JK27: =SUM($JF8:JK8) -> 0 | JL27: =SUM($JF8:JL8) -> 0 | JM27: =SUM($JF8:JM8) -> 0 | ... JQ27: =SUM($JF8:JQ8) -> 0
A28: EL JADIDA | B28: =SUM(B9:$B9) -> 3358 | C28: =SUM($B9:C9) -> 5982 | D28: =SUM($B9:D9) -> 9125 | E28: =SUM($B9:E9) -> 13517 | F28: =SUM($B9:F9) -> 18414 | G28: =SUM($B9:G9) -> 22769 | H28: =SUM($B9:H9) -> 25148 | I28: =SUM($B9:I9) -> 27116 | J28: =SUM($B9:J9) -> 29229 | ... M28: =SUM($B9:M9) -> 34858 | N28: =SUM($N9:N9) -> 2965 | O28: =SUM($N9:O9) -> 5934 | P28: =SUM($N9:P9) -> 8582 | Q28: =SUM($N9:Q9) -> 10943 | R28: =SUM($N9:R9) -> 13151 | S28: =SUM($N9:S9) -> 15824 | T28: =SUM($N9:T9) -> 18067 | U28: =SUM($N9:U9) -> 20052 | ... Y28: =SUM($N9:Y9) -> 37481 | Z28: =SUM($Z9:Z9) -> 3231 | AA28: =SUM($Z9:AA9) -> 6011 | AB28: =SUM($Z9:AB9) -> 9322 | AC28: =SUM($Z9:AC9) -> 13741 | AD28: =SUM($Z9:AD9) -> 17533 | AE28: =SUM($Z9:AE9) -> 20189 | AF28: =SUM($Z9:AF9) -> 22537 | AG28: =SUM($Z9:AG9) -> 24514 | ... AK28: =SUM($Z9:AK9) -> 33757 | AL28: =SUM($AL9:AL9) -> 7918 | AM28: =SUM($AL9:AM9) -> 12788 | AN28: =SUM($AL9:AN9) -> 16238 | AO28: =SUM($AL9:AO9) -> 20647 | AP28: =SUM($AL9:AP9) -> 23787 | AQ28: =SUM($AL9:AQ9) -> 26457 | AR28: =SUM($AL9:AR9) -> 29167 | AS28: =SUM($AL9:AS9) -> 31653 | ... AW28: =SUM($AL9:AW9) -> 31653 | AX28: =SUM($AX9:AX9) -> 0 | AY28: =SUM($AX9:AY9) -> 0 | AZ28: =SUM($AX9:AZ9) -> 0 | BA28: =SUM($AX9:BA9) -> 0 | BB28: =SUM($AX9:BB9) -> 0 | BC28: =SUM($AX9:BC9) -> 0 | BD28: =SUM($AX9:BD9) -> 0 | BE28: =SUM($AX9:BE9) -> 0 | ... BI28: =SUM($AX9:BI9) -> 0 | BJ28: =SUM($BJ9:BJ9) -> 0 | BK28: =SUM($BJ9:BK9) -> 0 | BL28: =SUM($BJ9:BL9) -> 0 | BM28: =SUM($BJ9:BM9) -> 0 | BN28: =SUM($BJ9:BN9) -> 0 | BO28: =SUM($BJ9:BO9) -> 0 | BP28: =SUM($BJ9:BP9) -> 0 | BQ28: =SUM($BJ9:BQ9) -> 0 | ... BU28: =SUM($BJ9:BU9) -> 0 | BV28: =SUM($BV9:BV9) -> 0 | BW28: =SUM($BV9:BW9) -> 0 | BX28: =SUM($BV9:BX9) -> 0 | BY28: =SUM($BV9:BY9) -> 0 | BZ28: =SUM($BV9:BZ9) -> 0 | CA28: =SUM($BV9:CA9) -> 0 | CB28: =SUM($BV9:CB9) -> 0 | CC28: =SUM($BV9:CC9) -> 0 | ... CG28: =SUM($BV9:CG9) -> 0 | CH28: =SUM($CH9:CH9) -> 0 | CI28: =SUM($CH9:CI9) -> 0 | CJ28: =SUM($CH9:CJ9) -> 0 | CK28: =SUM($CH9:CK9) -> 0 | CL28: =SUM($CH9:CL9) -> 0 | CM28: =SUM($CH9:CM9) -> 0 | CN28: =SUM($CH9:CN9) -> 0 | CO28: =SUM($CH9:CO9) -> 0 | ... CS28: =SUM($CH9:CS9) -> 0 | CT28: =SUM($CT9:CT9) -> 0 | CU28: =SUM($CT9:CU9) -> 0 | CV28: =SUM($CT9:CV9) -> 0 | CW28: =SUM($CT9:CW9) -> 0 | CX28: =SUM($CT9:CX9) -> 0 | CY28: =SUM($CT9:CY9) -> 0 | CZ28: =SUM($CT9:CZ9) -> 0 | DA28: =SUM($CT9:DA9) -> 0 | ... DE28: =SUM($CT9:DE9) -> 0 | DF28: =SUM($DF9:DF9) -> 0 | DG28: =SUM($DF9:DG9) -> 0 | DH28: =SUM($DF9:DH9) -> 0 | DI28: =SUM($DF9:DI9) -> 0 | DJ28: =SUM($DF9:DJ9) -> 0 | DK28: =SUM($DF9:DK9) -> 0 | DL28: =SUM($DF9:DL9) -> 0 | DM28: =SUM($DF9:DM9) -> 0 | ... DQ28: =SUM($DF9:DQ9) -> 0 | DR28: =SUM($DR9:DR9) -> 0 | DS28: =SUM($DR9:DS9) -> 0 | DT28: =SUM($DR9:DT9) -> 0 | DU28: =SUM($DR9:DU9) -> 0 | DV28: =SUM($DR9:DV9) -> 0 | DW28: =SUM($DR9:DW9) -> 0 | DX28: =SUM($DR9:DX9) -> 0 | DY28: =SUM($DR9:DY9) -> 0 | ... EC28: =SUM($DR9:EC9) -> 0 | ED28: =SUM($ED9:ED9) -> 0 | EE28: =SUM($ED9:EE9) -> 0 | EF28: =SUM($ED9:EF9) -> 0 | EG28: =SUM($ED9:EG9) -> 0 | EH28: =SUM($ED9:EH9) -> 0 | EI28: =SUM($ED9:EI9) -> 0 | EJ28: =SUM($ED9:EJ9) -> 0 | EK28: =SUM($ED9:EK9) -> 0 | ... EO28: =SUM($ED9:EO9) -> 0 | EP28: =SUM($EP9:EP9) -> 0 | EQ28: =SUM($EP9:EQ9) -> 0 | ER28: =SUM($EP9:ER9) -> 0 | ES28: =SUM($EP9:ES9) -> 0 | ET28: =SUM($EP9:ET9) -> 0 | EU28: =SUM($EP9:EU9) -> 0 | EV28: =SUM($EP9:EV9) -> 0 | EW28: =SUM($EP9:EW9) -> 0 | ... FA28: =SUM($EP9:FA9) -> 0 | FB28: =SUM($FB9:FB9) -> 0 | FC28: =SUM($FB9:FC9) -> 0 | FD28: =SUM($FB9:FD9) -> 0 | FE28: =SUM($FB9:FE9) -> 0 | FF28: =SUM($FB9:FF9) -> 0 | FG28: =SUM($FB9:FG9) -> 0 | FH28: =SUM($FB9:FH9) -> 0 | FI28: =SUM($FB9:FI9) -> 0 | ... FM28: =SUM($FB9:FM9) -> 0 | FN28: =SUM($FN9:FN9) -> 0 | FO28: =SUM($FN9:FO9) -> 0 | FP28: =SUM($FN9:FP9) -> 0 | FQ28: =SUM($FN9:FQ9) -> 0 | FR28: =SUM($FN9:FR9) -> 0 | FS28: =SUM($FN9:FS9) -> 0 | FT28: =SUM($FN9:FT9) -> 0 | FU28: =SUM($FN9:FU9) -> 0 | ... FY28: =SUM($FN9:FY9) -> 0 | FZ28: =SUM($FZ9:FZ9) -> 0 | GA28: =SUM($FZ9:GA9) -> 0 | GB28: =SUM($FZ9:GB9) -> 0 | GC28: =SUM($FZ9:GC9) -> 0 | GD28: =SUM($FZ9:GD9) -> 0 | GE28: =SUM($FZ9:GE9) -> 0 | GF28: =SUM($FZ9:GF9) -> 0 | GG28: =SUM($FZ9:GG9) -> 0 | ... GK28: =SUM($FZ9:GK9) -> 0 | GL28: =SUM($GL9:GL9) -> 0 | GM28: =SUM($GL9:GM9) -> 0 | GN28: =SUM($GL9:GN9) -> 0 | GO28: =SUM($GL9:GO9) -> 0 | GP28: =SUM($GL9:GP9) -> 0 | GQ28: =SUM($GL9:GQ9) -> 0 | GR28: =SUM($GL9:GR9) -> 0 | GS28: =SUM($GL9:GS9) -> 0 | ... GW28: =SUM($GL9:GW9) -> 0 | GX28: =SUM($GX9:GX9) -> 0 | GY28: =SUM($GX9:GY9) -> 0 | GZ28: =SUM($GX9:GZ9) -> 0 | HA28: =SUM($GX9:HA9) -> 0 | HB28: =SUM($GX9:HB9) -> 0 | HC28: =SUM($GX9:HC9) -> 0 | HD28: =SUM($GX9:HD9) -> 0 | HE28: =SUM($GX9:HE9) -> 0 | ... HI28: =SUM($GX9:HI9) -> 0 | HJ28: =SUM($HJ9:HJ9) -> 0 | HK28: =SUM($HJ9:HK9) -> 0 | HL28: =SUM($HJ9:HL9) -> 0 | HM28: =SUM($HJ9:HM9) -> 0 | HN28: =SUM($HJ9:HN9) -> 0 | HO28: =SUM($HJ9:HO9) -> 0 | HP28: =SUM($HJ9:HP9) -> 0 | HQ28: =SUM($HJ9:HQ9) -> 0 | ... HU28: =SUM($HJ9:HU9) -> 0 | HV28: =SUM($HV9:HV9) -> 0 | HW28: =SUM($HV9:HW9) -> 0 | HX28: =SUM($HV9:HX9) -> 0 | HY28: =SUM($HV9:HY9) -> 0 | HZ28: =SUM($HV9:HZ9) -> 0 | IA28: =SUM($HV9:IA9) -> 0 | IB28: =SUM($HV9:IB9) -> 0 | IC28: =SUM($HV9:IC9) -> 0 | ... IG28: =SUM($HV9:IG9) -> 0 | IH28: =SUM($IH9:IH9) -> 0 | II28: =SUM($IH9:II9) -> 0 | IJ28: =SUM($IH9:IJ9) -> 0 | IK28: =SUM($IH9:IK9) -> 0 | IL28: =SUM($IH9:IL9) -> 0 | IM28: =SUM($IH9:IM9) -> 0 | IN28: =SUM($IH9:IN9) -> 0 | IO28: =SUM($IH9:IO9) -> 0 | ... IS28: =SUM($IH9:IS9) -> 0 | IT28: =SUM($IT9:IT9) -> 0 | IU28: =SUM($IT9:IU9) -> 0 | IV28: =SUM($IT9:IV9) -> 0 | IW28: =SUM($IT9:IW9) -> 0 | IX28: =SUM($IT9:IX9) -> 0 | IY28: =SUM($IT9:IY9) -> 0 | IZ28: =SUM($IT9:IZ9) -> 0 | JA28: =SUM($IT9:JA9) -> 0 | ... JE28: =SUM($IT9:JE9) -> 0 | JF28: =SUM($JF9:JF9) -> 0 | JG28: =SUM($JF9:JG9) -> 0 | JH28: =SUM($JF9:JH9) -> 0 | JI28: =SUM($JF9:JI9) -> 0 | JJ28: =SUM($JF9:JJ9) -> 0 | JK28: =SUM($JF9:JK9) -> 0 | JL28: =SUM($JF9:JL9) -> 0 | JM28: =SUM($JF9:JM9) -> 0 | ... JQ28: =SUM($JF9:JQ9) -> 0
A29: FES | B29: =SUM(B10:$B10) -> 1932 | C29: =SUM($B10:C10) -> 3663 | D29: =SUM($B10:D10) -> 6695 | E29: =SUM($B10:E10) -> 9864 | F29: =SUM($B10:F10) -> 13263 | G29: =SUM($B10:G10) -> 15719 | H29: =SUM($B10:H10) -> 17870 | I29: =SUM($B10:I10) -> 19653 | J29: =SUM($B10:J10) -> 21644 | ... M29: =SUM($B10:M10) -> 27941 | N29: =SUM($N10:N10) -> 2728 | O29: =SUM($N10:O10) -> 4880 | P29: =SUM($N10:P10) -> 6967 | Q29: =SUM($N10:Q10) -> 8480 | R29: =SUM($N10:R10) -> 10127 | S29: =SUM($N10:S10) -> 11704 | T29: =SUM($N10:T10) -> 12993 | U29: =SUM($N10:U10) -> 14917 | ... Y29: =SUM($N10:Y10) -> 25669 | Z29: =SUM($Z10:Z10) -> 1674 | AA29: =SUM($Z10:AA10) -> 4923 | AB29: =SUM($Z10:AB10) -> 7480 | AC29: =SUM($Z10:AC10) -> 9469 | AD29: =SUM($Z10:AD10) -> 12399 | AE29: =SUM($Z10:AE10) -> 14155 | AF29: =SUM($Z10:AF10) -> 15510 | AG29: =SUM($Z10:AG10) -> 16810 | ... AK29: =SUM($Z10:AK10) -> 22628 | AL29: =SUM($AL10:AL10) -> 2281 | AM29: =SUM($AL10:AM10) -> 3879 | AN29: =SUM($AL10:AN10) -> 6081 | AO29: =SUM($AL10:AO10) -> 8642 | AP29: =SUM($AL10:AP10) -> 11218 | AQ29: =SUM($AL10:AQ10) -> 12916 | AR29: =SUM($AL10:AR10) -> 15037 | AS29: =SUM($AL10:AS10) -> 16987 | ... AW29: =SUM($AL10:AW10) -> 16987 | AX29: =SUM($AX10:AX10) -> 0 | AY29: =SUM($AX10:AY10) -> 0 | AZ29: =SUM($AX10:AZ10) -> 0 | BA29: =SUM($AX10:BA10) -> 0 | BB29: =SUM($AX10:BB10) -> 0 | BC29: =SUM($AX10:BC10) -> 0 | BD29: =SUM($AX10:BD10) -> 0 | BE29: =SUM($AX10:BE10) -> 0 | ... BI29: =SUM($AX10:BI10) -> 0 | BJ29: =SUM($BJ10:BJ10) -> 0 | BK29: =SUM($BJ10:BK10) -> 0 | BL29: =SUM($BJ10:BL10) -> 0 | BM29: =SUM($BJ10:BM10) -> 0 | BN29: =SUM($BJ10:BN10) -> 0 | BO29: =SUM($BJ10:BO10) -> 0 | BP29: =SUM($BJ10:BP10) -> 0 | BQ29: =SUM($BJ10:BQ10) -> 0 | ... BU29: =SUM($BJ10:BU10) -> 0 | BV29: =SUM($BV10:BV10) -> 0 | BW29: =SUM($BV10:BW10) -> 0 | BX29: =SUM($BV10:BX10) -> 0 | BY29: =SUM($BV10:BY10) -> 0 | BZ29: =SUM($BV10:BZ10) -> 0 | CA29: =SUM($BV10:CA10) -> 0 | CB29: =SUM($BV10:CB10) -> 0 | CC29: =SUM($BV10:CC10) -> 0 | ... CG29: =SUM($BV10:CG10) -> 0 | CH29: =SUM($CH10:CH10) -> 0 | CI29: =SUM($CH10:CI10) -> 0 | CJ29: =SUM($CH10:CJ10) -> 0 | CK29: =SUM($CH10:CK10) -> 0 | CL29: =SUM($CH10:CL10) -> 0 | CM29: =SUM($CH10:CM10) -> 0 | CN29: =SUM($CH10:CN10) -> 0 | CO29: =SUM($CH10:CO10) -> 0 | ... CS29: =SUM($CH10:CS10) -> 0 | CT29: =SUM($CT10:CT10) -> 0 | CU29: =SUM($CT10:CU10) -> 0 | CV29: =SUM($CT10:CV10) -> 0 | CW29: =SUM($CT10:CW10) -> 0 | CX29: =SUM($CT10:CX10) -> 0 | CY29: =SUM($CT10:CY10) -> 0 | CZ29: =SUM($CT10:CZ10) -> 0 | DA29: =SUM($CT10:DA10) -> 0 | ... DE29: =SUM($CT10:DE10) -> 0 | DF29: =SUM($DF10:DF10) -> 0 | DG29: =SUM($DF10:DG10) -> 0 | DH29: =SUM($DF10:DH10) -> 0 | DI29: =SUM($DF10:DI10) -> 0 | DJ29: =SUM($DF10:DJ10) -> 0 | DK29: =SUM($DF10:DK10) -> 0 | DL29: =SUM($DF10:DL10) -> 0 | DM29: =SUM($DF10:DM10) -> 0 | ... DQ29: =SUM($DF10:DQ10) -> 0 | DR29: =SUM($DR10:DR10) -> 0 | DS29: =SUM($DR10:DS10) -> 0 | DT29: =SUM($DR10:DT10) -> 0 | DU29: =SUM($DR10:DU10) -> 0 | DV29: =SUM($DR10:DV10) -> 0 | DW29: =SUM($DR10:DW10) -> 0 | DX29: =SUM($DR10:DX10) -> 0 | DY29: =SUM($DR10:DY10) -> 0 | ... EC29: =SUM($DR10:EC10) -> 0 | ED29: =SUM($ED10:ED10) -> 0 | EE29: =SUM($ED10:EE10) -> 0 | EF29: =SUM($ED10:EF10) -> 0 | EG29: =SUM($ED10:EG10) -> 0 | EH29: =SUM($ED10:EH10) -> 0 | EI29: =SUM($ED10:EI10) -> 0 | EJ29: =SUM($ED10:EJ10) -> 0 | EK29: =SUM($ED10:EK10) -> 0 | ... EO29: =SUM($ED10:EO10) -> 0 | EP29: =SUM($EP10:EP10) -> 0 | EQ29: =SUM($EP10:EQ10) -> 0 | ER29: =SUM($EP10:ER10) -> 0 | ES29: =SUM($EP10:ES10) -> 0 | ET29: =SUM($EP10:ET10) -> 0 | EU29: =SUM($EP10:EU10) -> 0 | EV29: =SUM($EP10:EV10) -> 0 | EW29: =SUM($EP10:EW10) -> 0 | ... FA29: =SUM($EP10:FA10) -> 0 | FB29: =SUM($FB10:FB10) -> 0 | FC29: =SUM($FB10:FC10) -> 0 | FD29: =SUM($FB10:FD10) -> 0 | FE29: =SUM($FB10:FE10) -> 0 | FF29: =SUM($FB10:FF10) -> 0 | FG29: =SUM($FB10:FG10) -> 0 | FH29: =SUM($FB10:FH10) -> 0 | FI29: =SUM($FB10:FI10) -> 0 | ... FM29: =SUM($FB10:FM10) -> 0 | FN29: =SUM($FN10:FN10) -> 0 | FO29: =SUM($FN10:FO10) -> 0 | FP29: =SUM($FN10:FP10) -> 0 | FQ29: =SUM($FN10:FQ10) -> 0 | FR29: =SUM($FN10:FR10) -> 0 | FS29: =SUM($FN10:FS10) -> 0 | FT29: =SUM($FN10:FT10) -> 0 | FU29: =SUM($FN10:FU10) -> 0 | ... FY29: =SUM($FN10:FY10) -> 0 | FZ29: =SUM($FZ10:FZ10) -> 0 | GA29: =SUM($FZ10:GA10) -> 0 | GB29: =SUM($FZ10:GB10) -> 0 | GC29: =SUM($FZ10:GC10) -> 0 | GD29: =SUM($FZ10:GD10) -> 0 | GE29: =SUM($FZ10:GE10) -> 0 | GF29: =SUM($FZ10:GF10) -> 0 | GG29: =SUM($FZ10:GG10) -> 0 | ... GK29: =SUM($FZ10:GK10) -> 0 | GL29: =SUM($GL10:GL10) -> 0 | GM29: =SUM($GL10:GM10) -> 0 | GN29: =SUM($GL10:GN10) -> 0 | GO29: =SUM($GL10:GO10) -> 0 | GP29: =SUM($GL10:GP10) -> 0 | GQ29: =SUM($GL10:GQ10) -> 0 | GR29: =SUM($GL10:GR10) -> 0 | GS29: =SUM($GL10:GS10) -> 0 | ... GW29: =SUM($GL10:GW10) -> 0 | GX29: =SUM($GX10:GX10) -> 0 | GY29: =SUM($GX10:GY10) -> 0 | GZ29: =SUM($GX10:GZ10) -> 0 | HA29: =SUM($GX10:HA10) -> 0 | HB29: =SUM($GX10:HB10) -> 0 | HC29: =SUM($GX10:HC10) -> 0 | HD29: =SUM($GX10:HD10) -> 0 | HE29: =SUM($GX10:HE10) -> 0 | ... HI29: =SUM($GX10:HI10) -> 0 | HJ29: =SUM($HJ10:HJ10) -> 0 | HK29: =SUM($HJ10:HK10) -> 0 | HL29: =SUM($HJ10:HL10) -> 0 | HM29: =SUM($HJ10:HM10) -> 0 | HN29: =SUM($HJ10:HN10) -> 0 | HO29: =SUM($HJ10:HO10) -> 0 | HP29: =SUM($HJ10:HP10) -> 0 | HQ29: =SUM($HJ10:HQ10) -> 0 | ... HU29: =SUM($HJ10:HU10) -> 0 | HV29: =SUM($HV10:HV10) -> 0 | HW29: =SUM($HV10:HW10) -> 0 | HX29: =SUM($HV10:HX10) -> 0 | HY29: =SUM($HV10:HY10) -> 0 | HZ29: =SUM($HV10:HZ10) -> 0 | IA29: =SUM($HV10:IA10) -> 0 | IB29: =SUM($HV10:IB10) -> 0 | IC29: =SUM($HV10:IC10) -> 0 | ... IG29: =SUM($HV10:IG10) -> 0 | IH29: =SUM($IH10:IH10) -> 0 | II29: =SUM($IH10:II10) -> 0 | IJ29: =SUM($IH10:IJ10) -> 0 | IK29: =SUM($IH10:IK10) -> 0 | IL29: =SUM($IH10:IL10) -> 0 | IM29: =SUM($IH10:IM10) -> 0 | IN29: =SUM($IH10:IN10) -> 0 | IO29: =SUM($IH10:IO10) -> 0 | ... IS29: =SUM($IH10:IS10) -> 0 | IT29: =SUM($IT10:IT10) -> 0 | IU29: =SUM($IT10:IU10) -> 0 | IV29: =SUM($IT10:IV10) -> 0 | IW29: =SUM($IT10:IW10) -> 0 | IX29: =SUM($IT10:IX10) -> 0 | IY29: =SUM($IT10:IY10) -> 0 | IZ29: =SUM($IT10:IZ10) -> 0 | JA29: =SUM($IT10:JA10) -> 0 | ... JE29: =SUM($IT10:JE10) -> 0 | JF29: =SUM($JF10:JF10) -> 0 | JG29: =SUM($JF10:JG10) -> 0 | JH29: =SUM($JF10:JH10) -> 0 | JI29: =SUM($JF10:JI10) -> 0 | JJ29: =SUM($JF10:JJ10) -> 0 | JK29: =SUM($JF10:JK10) -> 0 | JL29: =SUM($JF10:JL10) -> 0 | JM29: =SUM($JF10:JM10) -> 0 | ... JQ29: =SUM($JF10:JQ10) -> 0
A30: LAAYOUNE | B30: =SUM(B11:$B11) -> 555 | C30: =SUM($B11:C11) -> 1133 | D30: =SUM($B11:D11) -> 1748 | E30: =SUM($B11:E11) -> 2200 | F30: =SUM($B11:F11) -> 2653 | G30: =SUM($B11:G11) -> 3175 | H30: =SUM($B11:H11) -> 3736 | I30: =SUM($B11:I11) -> 4430 | J30: =SUM($B11:J11) -> 5054 | ... M30: =SUM($B11:M11) -> 6115 | N30: =SUM($N11:N11) -> 637 | O30: =SUM($N11:O11) -> 1130 | P30: =SUM($N11:P11) -> 1554 | Q30: =SUM($N11:Q11) -> 2066 | R30: =SUM($N11:R11) -> 2563 | S30: =SUM($N11:S11) -> 3005 | T30: =SUM($N11:T11) -> 3500 | U30: =SUM($N11:U11) -> 3972 | ... Y30: =SUM($N11:Y11) -> 6107 | Z30: =SUM($Z11:Z11) -> 703 | AA30: =SUM($Z11:AA11) -> 1510 | AB30: =SUM($Z11:AB11) -> 3263 | AC30: =SUM($Z11:AC11) -> 5202 | AD30: =SUM($Z11:AD11) -> 5796 | AE30: =SUM($Z11:AE11) -> 6240 | AF30: =SUM($Z11:AF11) -> 6633 | AG30: =SUM($Z11:AG11) -> 6966 | ... AK30: =SUM($Z11:AK11) -> 8180 | AL30: =SUM($AL11:AL11) -> 579 | AM30: =SUM($AL11:AM11) -> 1671 | AN30: =SUM($AL11:AN11) -> 4074 | AO30: =SUM($AL11:AO11) -> 5033 | AP30: =SUM($AL11:AP11) -> 5729 | AQ30: =SUM($AL11:AQ11) -> 6322 | AR30: =SUM($AL11:AR11) -> 6753 | AS30: =SUM($AL11:AS11) -> 7186 | ... AW30: =SUM($AL11:AW11) -> 7186 | AX30: =SUM($AX11:AX11) -> 0 | AY30: =SUM($AX11:AY11) -> 0 | AZ30: =SUM($AX11:AZ11) -> 0 | BA30: =SUM($AX11:BA11) -> 0 | BB30: =SUM($AX11:BB11) -> 0 | BC30: =SUM($AX11:BC11) -> 0 | BD30: =SUM($AX11:BD11) -> 0 | BE30: =SUM($AX11:BE11) -> 0 | ... BI30: =SUM($AX11:BI11) -> 0 | BJ30: =SUM($BJ11:BJ11) -> 0 | BK30: =SUM($BJ11:BK11) -> 0 | BL30: =SUM($BJ11:BL11) -> 0 | BM30: =SUM($BJ11:BM11) -> 0 | BN30: =SUM($BJ11:BN11) -> 0 | BO30: =SUM($BJ11:BO11) -> 0 | BP30: =SUM($BJ11:BP11) -> 0 | BQ30: =SUM($BJ11:BQ11) -> 0 | ... BU30: =SUM($BJ11:BU11) -> 0 | BV30: =SUM($BV11:BV11) -> 0 | BW30: =SUM($BV11:BW11) -> 0 | BX30: =SUM($BV11:BX11) -> 0 | BY30: =SUM($BV11:BY11) -> 0 | BZ30: =SUM($BV11:BZ11) -> 0 | CA30: =SUM($BV11:CA11) -> 0 | CB30: =SUM($BV11:CB11) -> 0 | CC30: =SUM($BV11:CC11) -> 0 | ... CG30: =SUM($BV11:CG11) -> 0 | CH30: =SUM($CH11:CH11) -> 0 | CI30: =SUM($CH11:CI11) -> 0 | CJ30: =SUM($CH11:CJ11) -> 0 | CK30: =SUM($CH11:CK11) -> 0 | CL30: =SUM($CH11:CL11) -> 0 | CM30: =SUM($CH11:CM11) -> 0 | CN30: =SUM($CH11:CN11) -> 0 | CO30: =SUM($CH11:CO11) -> 0 | ... CS30: =SUM($CH11:CS11) -> 0 | CT30: =SUM($CT11:CT11) -> 0 | CU30: =SUM($CT11:CU11) -> 0 | CV30: =SUM($CT11:CV11) -> 0 | CW30: =SUM($CT11:CW11) -> 0 | CX30: =SUM($CT11:CX11) -> 0 | CY30: =SUM($CT11:CY11) -> 0 | CZ30: =SUM($CT11:CZ11) -> 0 | DA30: =SUM($CT11:DA11) -> 0 | ... DE30: =SUM($CT11:DE11) -> 0 | DF30: =SUM($DF11:DF11) -> 0 | DG30: =SUM($DF11:DG11) -> 0 | DH30: =SUM($DF11:DH11) -> 0 | DI30: =SUM($DF11:DI11) -> 0 | DJ30: =SUM($DF11:DJ11) -> 0 | DK30: =SUM($DF11:DK11) -> 0 | DL30: =SUM($DF11:DL11) -> 0 | DM30: =SUM($DF11:DM11) -> 0 | ... DQ30: =SUM($DF11:DQ11) -> 0 | DR30: =SUM($DR11:DR11) -> 0 | DS30: =SUM($DR11:DS11) -> 0 | DT30: =SUM($DR11:DT11) -> 0 | DU30: =SUM($DR11:DU11) -> 0 | DV30: =SUM($DR11:DV11) -> 0 | DW30: =SUM($DR11:DW11) -> 0 | DX30: =SUM($DR11:DX11) -> 0 | DY30: =SUM($DR11:DY11) -> 0 | ... EC30: =SUM($DR11:EC11) -> 0 | ED30: =SUM($ED11:ED11) -> 0 | EE30: =SUM($ED11:EE11) -> 0 | EF30: =SUM($ED11:EF11) -> 0 | EG30: =SUM($ED11:EG11) -> 0 | EH30: =SUM($ED11:EH11) -> 0 | EI30: =SUM($ED11:EI11) -> 0 | EJ30: =SUM($ED11:EJ11) -> 0 | EK30: =SUM($ED11:EK11) -> 0 | ... EO30: =SUM($ED11:EO11) -> 0 | EP30: =SUM($EP11:EP11) -> 0 | EQ30: =SUM($EP11:EQ11) -> 0 | ER30: =SUM($EP11:ER11) -> 0 | ES30: =SUM($EP11:ES11) -> 0 | ET30: =SUM($EP11:ET11) -> 0 | EU30: =SUM($EP11:EU11) -> 0 | EV30: =SUM($EP11:EV11) -> 0 | EW30: =SUM($EP11:EW11) -> 0 | ... FA30: =SUM($EP11:FA11) -> 0 | FB30: =SUM($FB11:FB11) -> 0 | FC30: =SUM($FB11:FC11) -> 0 | FD30: =SUM($FB11:FD11) -> 0 | FE30: =SUM($FB11:FE11) -> 0 | FF30: =SUM($FB11:FF11) -> 0 | FG30: =SUM($FB11:FG11) -> 0 | FH30: =SUM($FB11:FH11) -> 0 | FI30: =SUM($FB11:FI11) -> 0 | ... FM30: =SUM($FB11:FM11) -> 0 | FN30: =SUM($FN11:FN11) -> 0 | FO30: =SUM($FN11:FO11) -> 0 | FP30: =SUM($FN11:FP11) -> 0 | FQ30: =SUM($FN11:FQ11) -> 0 | FR30: =SUM($FN11:FR11) -> 0 | FS30: =SUM($FN11:FS11) -> 0 | FT30: =SUM($FN11:FT11) -> 0 | FU30: =SUM($FN11:FU11) -> 0 | ... FY30: =SUM($FN11:FY11) -> 0 | FZ30: =SUM($FZ11:FZ11) -> 0 | GA30: =SUM($FZ11:GA11) -> 0 | GB30: =SUM($FZ11:GB11) -> 0 | GC30: =SUM($FZ11:GC11) -> 0 | GD30: =SUM($FZ11:GD11) -> 0 | GE30: =SUM($FZ11:GE11) -> 0 | GF30: =SUM($FZ11:GF11) -> 0 | GG30: =SUM($FZ11:GG11) -> 0 | ... GK30: =SUM($FZ11:GK11) -> 0 | GL30: =SUM($GL11:GL11) -> 0 | GM30: =SUM($GL11:GM11) -> 0 | GN30: =SUM($GL11:GN11) -> 0 | GO30: =SUM($GL11:GO11) -> 0 | GP30: =SUM($GL11:GP11) -> 0 | GQ30: =SUM($GL11:GQ11) -> 0 | GR30: =SUM($GL11:GR11) -> 0 | GS30: =SUM($GL11:GS11) -> 0 | ... GW30: =SUM($GL11:GW11) -> 0 | GX30: =SUM($GX11:GX11) -> 0 | GY30: =SUM($GX11:GY11) -> 0 | GZ30: =SUM($GX11:GZ11) -> 0 | HA30: =SUM($GX11:HA11) -> 0 | HB30: =SUM($GX11:HB11) -> 0 | HC30: =SUM($GX11:HC11) -> 0 | HD30: =SUM($GX11:HD11) -> 0 | HE30: =SUM($GX11:HE11) -> 0 | ... HI30: =SUM($GX11:HI11) -> 0 | HJ30: =SUM($HJ11:HJ11) -> 0 | HK30: =SUM($HJ11:HK11) -> 0 | HL30: =SUM($HJ11:HL11) -> 0 | HM30: =SUM($HJ11:HM11) -> 0 | HN30: =SUM($HJ11:HN11) -> 0 | HO30: =SUM($HJ11:HO11) -> 0 | HP30: =SUM($HJ11:HP11) -> 0 | HQ30: =SUM($HJ11:HQ11) -> 0 | ... HU30: =SUM($HJ11:HU11) -> 0 | HV30: =SUM($HV11:HV11) -> 0 | HW30: =SUM($HV11:HW11) -> 0 | HX30: =SUM($HV11:HX11) -> 0 | HY30: =SUM($HV11:HY11) -> 0 | HZ30: =SUM($HV11:HZ11) -> 0 | IA30: =SUM($HV11:IA11) -> 0 | IB30: =SUM($HV11:IB11) -> 0 | IC30: =SUM($HV11:IC11) -> 0 | ... IG30: =SUM($HV11:IG11) -> 0 | IH30: =SUM($IH11:IH11) -> 0 | II30: =SUM($IH11:II11) -> 0 | IJ30: =SUM($IH11:IJ11) -> 0 | IK30: =SUM($IH11:IK11) -> 0 | IL30: =SUM($IH11:IL11) -> 0 | IM30: =SUM($IH11:IM11) -> 0 | IN30: =SUM($IH11:IN11) -> 0 | IO30: =SUM($IH11:IO11) -> 0 | ... IS30: =SUM($IH11:IS11) -> 0 | IT30: =SUM($IT11:IT11) -> 0 | IU30: =SUM($IT11:IU11) -> 0 | IV30: =SUM($IT11:IV11) -> 0 | IW30: =SUM($IT11:IW11) -> 0 | IX30: =SUM($IT11:IX11) -> 0 | IY30: =SUM($IT11:IY11) -> 0 | IZ30: =SUM($IT11:IZ11) -> 0 | JA30: =SUM($IT11:JA11) -> 0 | ... JE30: =SUM($IT11:JE11) -> 0 | JF30: =SUM($JF11:JF11) -> 0 | JG30: =SUM($JF11:JG11) -> 0 | JH30: =SUM($JF11:JH11) -> 0 | JI30: =SUM($JF11:JI11) -> 0 | JJ30: =SUM($JF11:JJ11) -> 0 | JK30: =SUM($JF11:JK11) -> 0 | JL30: =SUM($JF11:JL11) -> 0 | JM30: =SUM($JF11:JM11) -> 0 | ... JQ30: =SUM($JF11:JQ11) -> 0
A31: MARRAKECH | B31: =SUM(B12:$B12) -> 3403 | C31: =SUM($B12:C12) -> 5486 | D31: =SUM($B12:D12) -> 8318 | E31: =SUM($B12:E12) -> 12328 | F31: =SUM($B12:F12) -> 15644 | G31: =SUM($B12:G12) -> 18415 | H31: =SUM($B12:H12) -> 20856 | I31: =SUM($B12:I12) -> 22506 | J31: =SUM($B12:J12) -> 24313 | ... M31: =SUM($B12:M12) -> 29380 | N31: =SUM($N12:N12) -> 3425 | O31: =SUM($N12:O12) -> 5818 | P31: =SUM($N12:P12) -> 7930 | Q31: =SUM($N12:Q12) -> 10967 | R31: =SUM($N12:R12) -> 13165 | S31: =SUM($N12:S12) -> 16205 | T31: =SUM($N12:T12) -> 17714 | U31: =SUM($N12:U12) -> 19174 | ... Y31: =SUM($N12:Y12) -> 29582 | Z31: =SUM($Z12:Z12) -> 2636 | AA31: =SUM($Z12:AA12) -> 5811 | AB31: =SUM($Z12:AB12) -> 8732 | AC31: =SUM($Z12:AC12) -> 11198 | AD31: =SUM($Z12:AD12) -> 13577 | AE31: =SUM($Z12:AE12) -> 15946 | AF31: =SUM($Z12:AF12) -> 17876 | AG31: =SUM($Z12:AG12) -> 19482 | ... AK31: =SUM($Z12:AK12) -> 26745 | AL31: =SUM($AL12:AL12) -> 4356 | AM31: =SUM($AL12:AM12) -> 7390 | AN31: =SUM($AL12:AN12) -> 10878 | AO31: =SUM($AL12:AO12) -> 14425 | AP31: =SUM($AL12:AP12) -> 17283 | AQ31: =SUM($AL12:AQ12) -> 20379 | AR31: =SUM($AL12:AR12) -> 23126 | AS31: =SUM($AL12:AS12) -> 25238 | ... AW31: =SUM($AL12:AW12) -> 25238 | AX31: =SUM($AX12:AX12) -> 0 | AY31: =SUM($AX12:AY12) -> 0 | AZ31: =SUM($AX12:AZ12) -> 0 | BA31: =SUM($AX12:BA12) -> 0 | BB31: =SUM($AX12:BB12) -> 0 | BC31: =SUM($AX12:BC12) -> 0 | BD31: =SUM($AX12:BD12) -> 0 | BE31: =SUM($AX12:BE12) -> 0 | ... BI31: =SUM($AX12:BI12) -> 0 | BJ31: =SUM($BJ12:BJ12) -> 0 | BK31: =SUM($BJ12:BK12) -> 0 | BL31: =SUM($BJ12:BL12) -> 0 | BM31: =SUM($BJ12:BM12) -> 0 | BN31: =SUM($BJ12:BN12) -> 0 | BO31: =SUM($BJ12:BO12) -> 0 | BP31: =SUM($BJ12:BP12) -> 0 | BQ31: =SUM($BJ12:BQ12) -> 0 | ... BU31: =SUM($BJ12:BU12) -> 0 | BV31: =SUM($BV12:BV12) -> 0 | BW31: =SUM($BV12:BW12) -> 0 | BX31: =SUM($BV12:BX12) -> 0 | BY31: =SUM($BV12:BY12) -> 0 | BZ31: =SUM($BV12:BZ12) -> 0 | CA31: =SUM($BV12:CA12) -> 0 | CB31: =SUM($BV12:CB12) -> 0 | CC31: =SUM($BV12:CC12) -> 0 | ... CG31: =SUM($BV12:CG12) -> 0 | CH31: =SUM($CH12:CH12) -> 0 | CI31: =SUM($CH12:CI12) -> 0 | CJ31: =SUM($CH12:CJ12) -> 0 | CK31: =SUM($CH12:CK12) -> 0 | CL31: =SUM($CH12:CL12) -> 0 | CM31: =SUM($CH12:CM12) -> 0 | CN31: =SUM($CH12:CN12) -> 0 | CO31: =SUM($CH12:CO12) -> 0 | ... CS31: =SUM($CH12:CS12) -> 0 | CT31: =SUM($CT12:CT12) -> 0 | CU31: =SUM($CT12:CU12) -> 0 | CV31: =SUM($CT12:CV12) -> 0 | CW31: =SUM($CT12:CW12) -> 0 | CX31: =SUM($CT12:CX12) -> 0 | CY31: =SUM($CT12:CY12) -> 0 | CZ31: =SUM($CT12:CZ12) -> 0 | DA31: =SUM($CT12:DA12) -> 0 | ... DE31: =SUM($CT12:DE12) -> 0 | DF31: =SUM($DF12:DF12) -> 0 | DG31: =SUM($DF12:DG12) -> 0 | DH31: =SUM($DF12:DH12) -> 0 | DI31: =SUM($DF12:DI12) -> 0 | DJ31: =SUM($DF12:DJ12) -> 0 | DK31: =SUM($DF12:DK12) -> 0 | DL31: =SUM($DF12:DL12) -> 0 | DM31: =SUM($DF12:DM12) -> 0 | ... DQ31: =SUM($DF12:DQ12) -> 0 | DR31: =SUM($DR12:DR12) -> 0 | DS31: =SUM($DR12:DS12) -> 0 | DT31: =SUM($DR12:DT12) -> 0 | DU31: =SUM($DR12:DU12) -> 0 | DV31: =SUM($DR12:DV12) -> 0 | DW31: =SUM($DR12:DW12) -> 0 | DX31: =SUM($DR12:DX12) -> 0 | DY31: =SUM($DR12:DY12) -> 0 | ... EC31: =SUM($DR12:EC12) -> 0 | ED31: =SUM($ED12:ED12) -> 0 | EE31: =SUM($ED12:EE12) -> 0 | EF31: =SUM($ED12:EF12) -> 0 | EG31: =SUM($ED12:EG12) -> 0 | EH31: =SUM($ED12:EH12) -> 0 | EI31: =SUM($ED12:EI12) -> 0 | EJ31: =SUM($ED12:EJ12) -> 0 | EK31: =SUM($ED12:EK12) -> 0 | ... EO31: =SUM($ED12:EO12) -> 0 | EP31: =SUM($EP12:EP12) -> 0 | EQ31: =SUM($EP12:EQ12) -> 0 | ER31: =SUM($EP12:ER12) -> 0 | ES31: =SUM($EP12:ES12) -> 0 | ET31: =SUM($EP12:ET12) -> 0 | EU31: =SUM($EP12:EU12) -> 0 | EV31: =SUM($EP12:EV12) -> 0 | EW31: =SUM($EP12:EW12) -> 0 | ... FA31: =SUM($EP12:FA12) -> 0 | FB31: =SUM($FB12:FB12) -> 0 | FC31: =SUM($FB12:FC12) -> 0 | FD31: =SUM($FB12:FD12) -> 0 | FE31: =SUM($FB12:FE12) -> 0 | FF31: =SUM($FB12:FF12) -> 0 | FG31: =SUM($FB12:FG12) -> 0 | FH31: =SUM($FB12:FH12) -> 0 | FI31: =SUM($FB12:FI12) -> 0 | ... FM31: =SUM($FB12:FM12) -> 0 | FN31: =SUM($FN12:FN12) -> 0 | FO31: =SUM($FN12:FO12) -> 0 | FP31: =SUM($FN12:FP12) -> 0 | FQ31: =SUM($FN12:FQ12) -> 0 | FR31: =SUM($FN12:FR12) -> 0 | FS31: =SUM($FN12:FS12) -> 0 | FT31: =SUM($FN12:FT12) -> 0 | FU31: =SUM($FN12:FU12) -> 0 | ... FY31: =SUM($FN12:FY12) -> 0 | FZ31: =SUM($FZ12:FZ12) -> 0 | GA31: =SUM($FZ12:GA12) -> 0 | GB31: =SUM($FZ12:GB12) -> 0 | GC31: =SUM($FZ12:GC12) -> 0 | GD31: =SUM($FZ12:GD12) -> 0 | GE31: =SUM($FZ12:GE12) -> 0 | GF31: =SUM($FZ12:GF12) -> 0 | GG31: =SUM($FZ12:GG12) -> 0 | ... GK31: =SUM($FZ12:GK12) -> 0 | GL31: =SUM($GL12:GL12) -> 0 | GM31: =SUM($GL12:GM12) -> 0 | GN31: =SUM($GL12:GN12) -> 0 | GO31: =SUM($GL12:GO12) -> 0 | GP31: =SUM($GL12:GP12) -> 0 | GQ31: =SUM($GL12:GQ12) -> 0 | GR31: =SUM($GL12:GR12) -> 0 | GS31: =SUM($GL12:GS12) -> 0 | ... GW31: =SUM($GL12:GW12) -> 0 | GX31: =SUM($GX12:GX12) -> 0 | GY31: =SUM($GX12:GY12) -> 0 | GZ31: =SUM($GX12:GZ12) -> 0 | HA31: =SUM($GX12:HA12) -> 0 | HB31: =SUM($GX12:HB12) -> 0 | HC31: =SUM($GX12:HC12) -> 0 | HD31: =SUM($GX12:HD12) -> 0 | HE31: =SUM($GX12:HE12) -> 0 | ... HI31: =SUM($GX12:HI12) -> 0 | HJ31: =SUM($HJ12:HJ12) -> 0 | HK31: =SUM($HJ12:HK12) -> 0 | HL31: =SUM($HJ12:HL12) -> 0 | HM31: =SUM($HJ12:HM12) -> 0 | HN31: =SUM($HJ12:HN12) -> 0 | HO31: =SUM($HJ12:HO12) -> 0 | HP31: =SUM($HJ12:HP12) -> 0 | HQ31: =SUM($HJ12:HQ12) -> 0 | ... HU31: =SUM($HJ12:HU12) -> 0 | HV31: =SUM($HV12:HV12) -> 0 | HW31: =SUM($HV12:HW12) -> 0 | HX31: =SUM($HV12:HX12) -> 0 | HY31: =SUM($HV12:HY12) -> 0 | HZ31: =SUM($HV12:HZ12) -> 0 | IA31: =SUM($HV12:IA12) -> 0 | IB31: =SUM($HV12:IB12) -> 0 | IC31: =SUM($HV12:IC12) -> 0 | ... IG31: =SUM($HV12:IG12) -> 0 | IH31: =SUM($IH12:IH12) -> 0 | II31: =SUM($IH12:II12) -> 0 | IJ31: =SUM($IH12:IJ12) -> 0 | IK31: =SUM($IH12:IK12) -> 0 | IL31: =SUM($IH12:IL12) -> 0 | IM31: =SUM($IH12:IM12) -> 0 | IN31: =SUM($IH12:IN12) -> 0 | IO31: =SUM($IH12:IO12) -> 0 | ... IS31: =SUM($IH12:IS12) -> 0 | IT31: =SUM($IT12:IT12) -> 0 | IU31: =SUM($IT12:IU12) -> 0 | IV31: =SUM($IT12:IV12) -> 0 | IW31: =SUM($IT12:IW12) -> 0 | IX31: =SUM($IT12:IX12) -> 0 | IY31: =SUM($IT12:IY12) -> 0 | IZ31: =SUM($IT12:IZ12) -> 0 | JA31: =SUM($IT12:JA12) -> 0 | ... JE31: =SUM($IT12:JE12) -> 0 | JF31: =SUM($JF12:JF12) -> 0 | JG31: =SUM($JF12:JG12) -> 0 | JH31: =SUM($JF12:JH12) -> 0 | JI31: =SUM($JF12:JI12) -> 0 | JJ31: =SUM($JF12:JJ12) -> 0 | JK31: =SUM($JF12:JK12) -> 0 | JL31: =SUM($JF12:JL12) -> 0 | JM31: =SUM($JF12:JM12) -> 0 | ... JQ31: =SUM($JF12:JQ12) -> 0
A32: MEKNES | B32: =SUM(B13:$B13) -> 3288 | C32: =SUM($B13:C13) -> 5750 | D32: =SUM($B13:D13) -> 8539 | E32: =SUM($B13:E13) -> 11301 | F32: =SUM($B13:F13) -> 14495 | G32: =SUM($B13:G13) -> 17835 | H32: =SUM($B13:H13) -> 20329 | I32: =SUM($B13:I13) -> 22007 | J32: =SUM($B13:J13) -> 24014 | ... M32: =SUM($B13:M13) -> 29403 | N32: =SUM($N13:N13) -> 3192 | O32: =SUM($N13:O13) -> 5863 | P32: =SUM($N13:P13) -> 8151 | Q32: =SUM($N13:Q13) -> 9996 | R32: =SUM($N13:R13) -> 12019 | S32: =SUM($N13:S13) -> 13945 | T32: =SUM($N13:T13) -> 15406 | U32: =SUM($N13:U13) -> 17257 | ... Y32: =SUM($N13:Y13) -> 29424 | Z32: =SUM($Z13:Z13) -> 3072 | AA32: =SUM($Z13:AA13) -> 6585 | AB32: =SUM($Z13:AB13) -> 9715 | AC32: =SUM($Z13:AC13) -> 12659 | AD32: =SUM($Z13:AD13) -> 15468 | AE32: =SUM($Z13:AE13) -> 17632 | AF32: =SUM($Z13:AF13) -> 19482 | AG32: =SUM($Z13:AG13) -> 20971 | ... AK32: =SUM($Z13:AK13) -> 31819 | AL32: =SUM($AL13:AL13) -> 3443 | AM32: =SUM($AL13:AM13) -> 7187 | AN32: =SUM($AL13:AN13) -> 10610 | AO32: =SUM($AL13:AO13) -> 14487 | AP32: =SUM($AL13:AP13) -> 17232 | AQ32: =SUM($AL13:AQ13) -> 19430 | AR32: =SUM($AL13:AR13) -> 20891 | AS32: =SUM($AL13:AS13) -> 22660 | ... AW32: =SUM($AL13:AW13) -> 22660 | AX32: =SUM($AX13:AX13) -> 0 | AY32: =SUM($AX13:AY13) -> 0 | AZ32: =SUM($AX13:AZ13) -> 0 | BA32: =SUM($AX13:BA13) -> 0 | BB32: =SUM($AX13:BB13) -> 0 | BC32: =SUM($AX13:BC13) -> 0 | BD32: =SUM($AX13:BD13) -> 0 | BE32: =SUM($AX13:BE13) -> 0 | ... BI32: =SUM($AX13:BI13) -> 0 | BJ32: =SUM($BJ13:BJ13) -> 0 | BK32: =SUM($BJ13:BK13) -> 0 | BL32: =SUM($BJ13:BL13) -> 0 | BM32: =SUM($BJ13:BM13) -> 0 | BN32: =SUM($BJ13:BN13) -> 0 | BO32: =SUM($BJ13:BO13) -> 0 | BP32: =SUM($BJ13:BP13) -> 0 | BQ32: =SUM($BJ13:BQ13) -> 0 | ... BU32: =SUM($BJ13:BU13) -> 0 | BV32: =SUM($BV13:BV13) -> 0 | BW32: =SUM($BV13:BW13) -> 0 | BX32: =SUM($BV13:BX13) -> 0 | BY32: =SUM($BV13:BY13) -> 0 | BZ32: =SUM($BV13:BZ13) -> 0 | CA32: =SUM($BV13:CA13) -> 0 | CB32: =SUM($BV13:CB13) -> 0 | CC32: =SUM($BV13:CC13) -> 0 | ... CG32: =SUM($BV13:CG13) -> 0 | CH32: =SUM($CH13:CH13) -> 0 | CI32: =SUM($CH13:CI13) -> 0 | CJ32: =SUM($CH13:CJ13) -> 0 | CK32: =SUM($CH13:CK13) -> 0 | CL32: =SUM($CH13:CL13) -> 0 | CM32: =SUM($CH13:CM13) -> 0 | CN32: =SUM($CH13:CN13) -> 0 | CO32: =SUM($CH13:CO13) -> 0 | ... CS32: =SUM($CH13:CS13) -> 0 | CT32: =SUM($CT13:CT13) -> 0 | CU32: =SUM($CT13:CU13) -> 0 | CV32: =SUM($CT13:CV13) -> 0 | CW32: =SUM($CT13:CW13) -> 0 | CX32: =SUM($CT13:CX13) -> 0 | CY32: =SUM($CT13:CY13) -> 0 | CZ32: =SUM($CT13:CZ13) -> 0 | DA32: =SUM($CT13:DA13) -> 0 | ... DE32: =SUM($CT13:DE13) -> 0 | DF32: =SUM($DF13:DF13) -> 0 | DG32: =SUM($DF13:DG13) -> 0 | DH32: =SUM($DF13:DH13) -> 0 | DI32: =SUM($DF13:DI13) -> 0 | DJ32: =SUM($DF13:DJ13) -> 0 | DK32: =SUM($DF13:DK13) -> 0 | DL32: =SUM($DF13:DL13) -> 0 | DM32: =SUM($DF13:DM13) -> 0 | ... DQ32: =SUM($DF13:DQ13) -> 0 | DR32: =SUM($DR13:DR13) -> 0 | DS32: =SUM($DR13:DS13) -> 0 | DT32: =SUM($DR13:DT13) -> 0 | DU32: =SUM($DR13:DU13) -> 0 | DV32: =SUM($DR13:DV13) -> 0 | DW32: =SUM($DR13:DW13) -> 0 | DX32: =SUM($DR13:DX13) -> 0 | DY32: =SUM($DR13:DY13) -> 0 | ... EC32: =SUM($DR13:EC13) -> 0 | ED32: =SUM($ED13:ED13) -> 0 | EE32: =SUM($ED13:EE13) -> 0 | EF32: =SUM($ED13:EF13) -> 0 | EG32: =SUM($ED13:EG13) -> 0 | EH32: =SUM($ED13:EH13) -> 0 | EI32: =SUM($ED13:EI13) -> 0 | EJ32: =SUM($ED13:EJ13) -> 0 | EK32: =SUM($ED13:EK13) -> 0 | ... EO32: =SUM($ED13:EO13) -> 0 | EP32: =SUM($EP13:EP13) -> 0 | EQ32: =SUM($EP13:EQ13) -> 0 | ER32: =SUM($EP13:ER13) -> 0 | ES32: =SUM($EP13:ES13) -> 0 | ET32: =SUM($EP13:ET13) -> 0 | EU32: =SUM($EP13:EU13) -> 0 | EV32: =SUM($EP13:EV13) -> 0 | EW32: =SUM($EP13:EW13) -> 0 | ... FA32: =SUM($EP13:FA13) -> 0 | FB32: =SUM($FB13:FB13) -> 0 | FC32: =SUM($FB13:FC13) -> 0 | FD32: =SUM($FB13:FD13) -> 0 | FE32: =SUM($FB13:FE13) -> 0 | FF32: =SUM($FB13:FF13) -> 0 | FG32: =SUM($FB13:FG13) -> 0 | FH32: =SUM($FB13:FH13) -> 0 | FI32: =SUM($FB13:FI13) -> 0 | ... FM32: =SUM($FB13:FM13) -> 0 | FN32: =SUM($FN13:FN13) -> 0 | FO32: =SUM($FN13:FO13) -> 0 | FP32: =SUM($FN13:FP13) -> 0 | FQ32: =SUM($FN13:FQ13) -> 0 | FR32: =SUM($FN13:FR13) -> 0 | FS32: =SUM($FN13:FS13) -> 0 | FT32: =SUM($FN13:FT13) -> 0 | FU32: =SUM($FN13:FU13) -> 0 | ... FY32: =SUM($FN13:FY13) -> 0 | FZ32: =SUM($FZ13:FZ13) -> 0 | GA32: =SUM($FZ13:GA13) -> 0 | GB32: =SUM($FZ13:GB13) -> 0 | GC32: =SUM($FZ13:GC13) -> 0 | GD32: =SUM($FZ13:GD13) -> 0 | GE32: =SUM($FZ13:GE13) -> 0 | GF32: =SUM($FZ13:GF13) -> 0 | GG32: =SUM($FZ13:GG13) -> 0 | ... GK32: =SUM($FZ13:GK13) -> 0 | GL32: =SUM($GL13:GL13) -> 0 | GM32: =SUM($GL13:GM13) -> 0 | GN32: =SUM($GL13:GN13) -> 0 | GO32: =SUM($GL13:GO13) -> 0 | GP32: =SUM($GL13:GP13) -> 0 | GQ32: =SUM($GL13:GQ13) -> 0 | GR32: =SUM($GL13:GR13) -> 0 | GS32: =SUM($GL13:GS13) -> 0 | ... GW32: =SUM($GL13:GW13) -> 0 | GX32: =SUM($GX13:GX13) -> 0 | GY32: =SUM($GX13:GY13) -> 0 | GZ32: =SUM($GX13:GZ13) -> 0 | HA32: =SUM($GX13:HA13) -> 0 | HB32: =SUM($GX13:HB13) -> 0 | HC32: =SUM($GX13:HC13) -> 0 | HD32: =SUM($GX13:HD13) -> 0 | HE32: =SUM($GX13:HE13) -> 0 | ... HI32: =SUM($GX13:HI13) -> 0 | HJ32: =SUM($HJ13:HJ13) -> 0 | HK32: =SUM($HJ13:HK13) -> 0 | HL32: =SUM($HJ13:HL13) -> 0 | HM32: =SUM($HJ13:HM13) -> 0 | HN32: =SUM($HJ13:HN13) -> 0 | HO32: =SUM($HJ13:HO13) -> 0 | HP32: =SUM($HJ13:HP13) -> 0 | HQ32: =SUM($HJ13:HQ13) -> 0 | ... HU32: =SUM($HJ13:HU13) -> 0 | HV32: =SUM($HV13:HV13) -> 0 | HW32: =SUM($HV13:HW13) -> 0 | HX32: =SUM($HV13:HX13) -> 0 | HY32: =SUM($HV13:HY13) -> 0 | HZ32: =SUM($HV13:HZ13) -> 0 | IA32: =SUM($HV13:IA13) -> 0 | IB32: =SUM($HV13:IB13) -> 0 | IC32: =SUM($HV13:IC13) -> 0 | ... IG32: =SUM($HV13:IG13) -> 0 | IH32: =SUM($IH13:IH13) -> 0 | II32: =SUM($IH13:II13) -> 0 | IJ32: =SUM($IH13:IJ13) -> 0 | IK32: =SUM($IH13:IK13) -> 0 | IL32: =SUM($IH13:IL13) -> 0 | IM32: =SUM($IH13:IM13) -> 0 | IN32: =SUM($IH13:IN13) -> 0 | IO32: =SUM($IH13:IO13) -> 0 | ... IS32: =SUM($IH13:IS13) -> 0 | IT32: =SUM($IT13:IT13) -> 0 | IU32: =SUM($IT13:IU13) -> 0 | IV32: =SUM($IT13:IV13) -> 0 | IW32: =SUM($IT13:IW13) -> 0 | IX32: =SUM($IT13:IX13) -> 0 | IY32: =SUM($IT13:IY13) -> 0 | IZ32: =SUM($IT13:IZ13) -> 0 | JA32: =SUM($IT13:JA13) -> 0 | ... JE32: =SUM($IT13:JE13) -> 0 | JF32: =SUM($JF13:JF13) -> 0 | JG32: =SUM($JF13:JG13) -> 0 | JH32: =SUM($JF13:JH13) -> 0 | JI32: =SUM($JF13:JI13) -> 0 | JJ32: =SUM($JF13:JJ13) -> 0 | JK32: =SUM($JF13:JK13) -> 0 | JL32: =SUM($JF13:JL13) -> 0 | JM32: =SUM($JF13:JM13) -> 0 | ... JQ32: =SUM($JF13:JQ13) -> 0
A33: OUJDA | B33: =SUM(B14:$B14) -> 2099 | C33: =SUM($B14:C14) -> 4714 | D33: =SUM($B14:D14) -> 7052 | E33: =SUM($B14:E14) -> 9542 | F33: =SUM($B14:F14) -> 12173 | G33: =SUM($B14:G14) -> 14566 | H33: =SUM($B14:H14) -> 16147 | I33: =SUM($B14:I14) -> 17538 | J33: =SUM($B14:J14) -> 19385 | ... M33: =SUM($B14:M14) -> 23330 | N33: =SUM($N14:N14) -> 2336 | O33: =SUM($N14:O14) -> 4249 | P33: =SUM($N14:P14) -> 6897 | Q33: =SUM($N14:Q14) -> 8952 | R33: =SUM($N14:R14) -> 11231 | S33: =SUM($N14:S14) -> 13525 | T33: =SUM($N14:T14) -> 15297 | U33: =SUM($N14:U14) -> 16630 | ... Y33: =SUM($N14:Y14) -> 25779 | Z33: =SUM($Z14:Z14) -> 2261 | AA33: =SUM($Z14:AA14) -> 4634 | AB33: =SUM($Z14:AB14) -> 6974 | AC33: =SUM($Z14:AC14) -> 9211 | AD33: =SUM($Z14:AD14) -> 11493 | AE33: =SUM($Z14:AE14) -> 13861 | AF33: =SUM($Z14:AF14) -> 15577 | AG33: =SUM($Z14:AG14) -> 16727 | ... AK33: =SUM($Z14:AK14) -> 22097 | AL33: =SUM($AL14:AL14) -> 3849 | AM33: =SUM($AL14:AM14) -> 6631 | AN33: =SUM($AL14:AN14) -> 9804 | AO33: =SUM($AL14:AO14) -> 13050 | AP33: =SUM($AL14:AP14) -> 15037 | AQ33: =SUM($AL14:AQ14) -> 17112 | AR33: =SUM($AL14:AR14) -> 18561 | AS33: =SUM($AL14:AS14) -> 19963 | ... AW33: =SUM($AL14:AW14) -> 19963 | AX33: =SUM($AX14:AX14) -> 0 | AY33: =SUM($AX14:AY14) -> 0 | AZ33: =SUM($AX14:AZ14) -> 0 | BA33: =SUM($AX14:BA14) -> 0 | BB33: =SUM($AX14:BB14) -> 0 | BC33: =SUM($AX14:BC14) -> 0 | BD33: =SUM($AX14:BD14) -> 0 | BE33: =SUM($AX14:BE14) -> 0 | ... BI33: =SUM($AX14:BI14) -> 0 | BJ33: =SUM($BJ14:BJ14) -> 0 | BK33: =SUM($BJ14:BK14) -> 0 | BL33: =SUM($BJ14:BL14) -> 0 | BM33: =SUM($BJ14:BM14) -> 0 | BN33: =SUM($BJ14:BN14) -> 0 | BO33: =SUM($BJ14:BO14) -> 0 | BP33: =SUM($BJ14:BP14) -> 0 | BQ33: =SUM($BJ14:BQ14) -> 0 | ... BU33: =SUM($BJ14:BU14) -> 0 | BV33: =SUM($BV14:BV14) -> 0 | BW33: =SUM($BV14:BW14) -> 0 | BX33: =SUM($BV14:BX14) -> 0 | BY33: =SUM($BV14:BY14) -> 0 | BZ33: =SUM($BV14:BZ14) -> 0 | CA33: =SUM($BV14:CA14) -> 0 | CB33: =SUM($BV14:CB14) -> 0 | CC33: =SUM($BV14:CC14) -> 0 | ... CG33: =SUM($BV14:CG14) -> 0 | CH33: =SUM($CH14:CH14) -> 0 | CI33: =SUM($CH14:CI14) -> 0 | CJ33: =SUM($CH14:CJ14) -> 0 | CK33: =SUM($CH14:CK14) -> 0 | CL33: =SUM($CH14:CL14) -> 0 | CM33: =SUM($CH14:CM14) -> 0 | CN33: =SUM($CH14:CN14) -> 0 | CO33: =SUM($CH14:CO14) -> 0 | ... CS33: =SUM($CH14:CS14) -> 0 | CT33: =SUM($CT14:CT14) -> 0 | CU33: =SUM($CT14:CU14) -> 0 | CV33: =SUM($CT14:CV14) -> 0 | CW33: =SUM($CT14:CW14) -> 0 | CX33: =SUM($CT14:CX14) -> 0 | CY33: =SUM($CT14:CY14) -> 0 | CZ33: =SUM($CT14:CZ14) -> 0 | DA33: =SUM($CT14:DA14) -> 0 | ... DE33: =SUM($CT14:DE14) -> 0 | DF33: =SUM($DF14:DF14) -> 0 | DG33: =SUM($DF14:DG14) -> 0 | DH33: =SUM($DF14:DH14) -> 0 | DI33: =SUM($DF14:DI14) -> 0 | DJ33: =SUM($DF14:DJ14) -> 0 | DK33: =SUM($DF14:DK14) -> 0 | DL33: =SUM($DF14:DL14) -> 0 | DM33: =SUM($DF14:DM14) -> 0 | ... DQ33: =SUM($DF14:DQ14) -> 0 | DR33: =SUM($DR14:DR14) -> 0 | DS33: =SUM($DR14:DS14) -> 0 | DT33: =SUM($DR14:DT14) -> 0 | DU33: =SUM($DR14:DU14) -> 0 | DV33: =SUM($DR14:DV14) -> 0 | DW33: =SUM($DR14:DW14) -> 0 | DX33: =SUM($DR14:DX14) -> 0 | DY33: =SUM($DR14:DY14) -> 0 | ... EC33: =SUM($DR14:EC14) -> 0 | ED33: =SUM($ED14:ED14) -> 0 | EE33: =SUM($ED14:EE14) -> 0 | EF33: =SUM($ED14:EF14) -> 0 | EG33: =SUM($ED14:EG14) -> 0 | EH33: =SUM($ED14:EH14) -> 0 | EI33: =SUM($ED14:EI14) -> 0 | EJ33: =SUM($ED14:EJ14) -> 0 | EK33: =SUM($ED14:EK14) -> 0 | ... EO33: =SUM($ED14:EO14) -> 0 | EP33: =SUM($EP14:EP14) -> 0 | EQ33: =SUM($EP14:EQ14) -> 0 | ER33: =SUM($EP14:ER14) -> 0 | ES33: =SUM($EP14:ES14) -> 0 | ET33: =SUM($EP14:ET14) -> 0 | EU33: =SUM($EP14:EU14) -> 0 | EV33: =SUM($EP14:EV14) -> 0 | EW33: =SUM($EP14:EW14) -> 0 | ... FA33: =SUM($EP14:FA14) -> 0 | FB33: =SUM($FB14:FB14) -> 0 | FC33: =SUM($FB14:FC14) -> 0 | FD33: =SUM($FB14:FD14) -> 0 | FE33: =SUM($FB14:FE14) -> 0 | FF33: =SUM($FB14:FF14) -> 0 | FG33: =SUM($FB14:FG14) -> 0 | FH33: =SUM($FB14:FH14) -> 0 | FI33: =SUM($FB14:FI14) -> 0 | ... FM33: =SUM($FB14:FM14) -> 0 | FN33: =SUM($FN14:FN14) -> 0 | FO33: =SUM($FN14:FO14) -> 0 | FP33: =SUM($FN14:FP14) -> 0 | FQ33: =SUM($FN14:FQ14) -> 0 | FR33: =SUM($FN14:FR14) -> 0 | FS33: =SUM($FN14:FS14) -> 0 | FT33: =SUM($FN14:FT14) -> 0 | FU33: =SUM($FN14:FU14) -> 0 | ... FY33: =SUM($FN14:FY14) -> 0 | FZ33: =SUM($FZ14:FZ14) -> 0 | GA33: =SUM($FZ14:GA14) -> 0 | GB33: =SUM($FZ14:GB14) -> 0 | GC33: =SUM($FZ14:GC14) -> 0 | GD33: =SUM($FZ14:GD14) -> 0 | GE33: =SUM($FZ14:GE14) -> 0 | GF33: =SUM($FZ14:GF14) -> 0 | GG33: =SUM($FZ14:GG14) -> 0 | ... GK33: =SUM($FZ14:GK14) -> 0 | GL33: =SUM($GL14:GL14) -> 0 | GM33: =SUM($GL14:GM14) -> 0 | GN33: =SUM($GL14:GN14) -> 0 | GO33: =SUM($GL14:GO14) -> 0 | GP33: =SUM($GL14:GP14) -> 0 | GQ33: =SUM($GL14:GQ14) -> 0 | GR33: =SUM($GL14:GR14) -> 0 | GS33: =SUM($GL14:GS14) -> 0 | ... GW33: =SUM($GL14:GW14) -> 0 | GX33: =SUM($GX14:GX14) -> 0 | GY33: =SUM($GX14:GY14) -> 0 | GZ33: =SUM($GX14:GZ14) -> 0 | HA33: =SUM($GX14:HA14) -> 0 | HB33: =SUM($GX14:HB14) -> 0 | HC33: =SUM($GX14:HC14) -> 0 | HD33: =SUM($GX14:HD14) -> 0 | HE33: =SUM($GX14:HE14) -> 0 | ... HI33: =SUM($GX14:HI14) -> 0 | HJ33: =SUM($HJ14:HJ14) -> 0 | HK33: =SUM($HJ14:HK14) -> 0 | HL33: =SUM($HJ14:HL14) -> 0 | HM33: =SUM($HJ14:HM14) -> 0 | HN33: =SUM($HJ14:HN14) -> 0 | HO33: =SUM($HJ14:HO14) -> 0 | HP33: =SUM($HJ14:HP14) -> 0 | HQ33: =SUM($HJ14:HQ14) -> 0 | ... HU33: =SUM($HJ14:HU14) -> 0 | HV33: =SUM($HV14:HV14) -> 0 | HW33: =SUM($HV14:HW14) -> 0 | HX33: =SUM($HV14:HX14) -> 0 | HY33: =SUM($HV14:HY14) -> 0 | HZ33: =SUM($HV14:HZ14) -> 0 | IA33: =SUM($HV14:IA14) -> 0 | IB33: =SUM($HV14:IB14) -> 0 | IC33: =SUM($HV14:IC14) -> 0 | ... IG33: =SUM($HV14:IG14) -> 0 | IH33: =SUM($IH14:IH14) -> 0 | II33: =SUM($IH14:II14) -> 0 | IJ33: =SUM($IH14:IJ14) -> 0 | IK33: =SUM($IH14:IK14) -> 0 | IL33: =SUM($IH14:IL14) -> 0 | IM33: =SUM($IH14:IM14) -> 0 | IN33: =SUM($IH14:IN14) -> 0 | IO33: =SUM($IH14:IO14) -> 0 | ... IS33: =SUM($IH14:IS14) -> 0 | IT33: =SUM($IT14:IT14) -> 0 | IU33: =SUM($IT14:IU14) -> 0 | IV33: =SUM($IT14:IV14) -> 0 | IW33: =SUM($IT14:IW14) -> 0 | IX33: =SUM($IT14:IX14) -> 0 | IY33: =SUM($IT14:IY14) -> 0 | IZ33: =SUM($IT14:IZ14) -> 0 | JA33: =SUM($IT14:JA14) -> 0 | ... JE33: =SUM($IT14:JE14) -> 0 | JF33: =SUM($JF14:JF14) -> 0 | JG33: =SUM($JF14:JG14) -> 0 | JH33: =SUM($JF14:JH14) -> 0 | JI33: =SUM($JF14:JI14) -> 0 | JJ33: =SUM($JF14:JJ14) -> 0 | JK33: =SUM($JF14:JK14) -> 0 | JL33: =SUM($JF14:JL14) -> 0 | JM33: =SUM($JF14:JM14) -> 0 | ... JQ33: =SUM($JF14:JQ14) -> 0
A34: RABAT | B34: =SUM(B15:$B15) -> 4505 | C34: =SUM($B15:C15) -> 8152 | D34: =SUM($B15:D15) -> 12914 | E34: =SUM($B15:E15) -> 17998 | F34: =SUM($B15:F15) -> 23397 | G34: =SUM($B15:G15) -> 27665 | H34: =SUM($B15:H15) -> 30295 | I34: =SUM($B15:I15) -> 32670 | J34: =SUM($B15:J15) -> 35621 | ... M34: =SUM($B15:M15) -> 45538 | N34: =SUM($N15:N15) -> 4391 | O34: =SUM($N15:O15) -> 8371 | P34: =SUM($N15:P15) -> 12287 | Q34: =SUM($N15:Q15) -> 15447 | R34: =SUM($N15:R15) -> 19722 | S34: =SUM($N15:S15) -> 23078 | T34: =SUM($N15:T15) -> 25475 | U34: =SUM($N15:U15) -> 27752 | ... Y34: =SUM($N15:Y15) -> 42410 | Z34: =SUM($Z15:Z15) -> 3021 | AA34: =SUM($Z15:AA15) -> 8424 | AB34: =SUM($Z15:AB15) -> 12773 | AC34: =SUM($Z15:AC15) -> 16736 | AD34: =SUM($Z15:AD15) -> 21054 | AE34: =SUM($Z15:AE15) -> 25002 | AF34: =SUM($Z15:AF15) -> 28318 | AG34: =SUM($Z15:AG15) -> 30648 | ... AK34: =SUM($Z15:AK15) -> 41545 | AL34: =SUM($AL15:AL15) -> 6648 | AM34: =SUM($AL15:AM15) -> 11577 | AN34: =SUM($AL15:AN15) -> 17061 | AO34: =SUM($AL15:AO15) -> 21905 | AP34: =SUM($AL15:AP15) -> 27113 | AQ34: =SUM($AL15:AQ15) -> 30959 | AR34: =SUM($AL15:AR15) -> 33914 | AS34: =SUM($AL15:AS15) -> 36676 | ... AW34: =SUM($AL15:AW15) -> 36676 | AX34: =SUM($AX15:AX15) -> 0 | AY34: =SUM($AX15:AY15) -> 0 | AZ34: =SUM($AX15:AZ15) -> 0 | BA34: =SUM($AX15:BA15) -> 0 | BB34: =SUM($AX15:BB15) -> 0 | BC34: =SUM($AX15:BC15) -> 0 | BD34: =SUM($AX15:BD15) -> 0 | BE34: =SUM($AX15:BE15) -> 0 | ... BI34: =SUM($AX15:BI15) -> 0 | BJ34: =SUM($BJ15:BJ15) -> 0 | BK34: =SUM($BJ15:BK15) -> 0 | BL34: =SUM($BJ15:BL15) -> 0 | BM34: =SUM($BJ15:BM15) -> 0 | BN34: =SUM($BJ15:BN15) -> 0 | BO34: =SUM($BJ15:BO15) -> 0 | BP34: =SUM($BJ15:BP15) -> 0 | BQ34: =SUM($BJ15:BQ15) -> 0 | ... BU34: =SUM($BJ15:BU15) -> 0 | BV34: =SUM($BV15:BV15) -> 0 | BW34: =SUM($BV15:BW15) -> 0 | BX34: =SUM($BV15:BX15) -> 0 | BY34: =SUM($BV15:BY15) -> 0 | BZ34: =SUM($BV15:BZ15) -> 0 | CA34: =SUM($BV15:CA15) -> 0 | CB34: =SUM($BV15:CB15) -> 0 | CC34: =SUM($BV15:CC15) -> 0 | ... CG34: =SUM($BV15:CG15) -> 0 | CH34: =SUM($CH15:CH15) -> 0 | CI34: =SUM($CH15:CI15) -> 0 | CJ34: =SUM($CH15:CJ15) -> 0 | CK34: =SUM($CH15:CK15) -> 0 | CL34: =SUM($CH15:CL15) -> 0 | CM34: =SUM($CH15:CM15) -> 0 | CN34: =SUM($CH15:CN15) -> 0 | CO34: =SUM($CH15:CO15) -> 0 | ... CS34: =SUM($CH15:CS15) -> 0 | CT34: =SUM($CT15:CT15) -> 0 | CU34: =SUM($CT15:CU15) -> 0 | CV34: =SUM($CT15:CV15) -> 0 | CW34: =SUM($CT15:CW15) -> 0 | CX34: =SUM($CT15:CX15) -> 0 | CY34: =SUM($CT15:CY15) -> 0 | CZ34: =SUM($CT15:CZ15) -> 0 | DA34: =SUM($CT15:DA15) -> 0 | ... DE34: =SUM($CT15:DE15) -> 0 | DF34: =SUM($DF15:DF15) -> 0 | DG34: =SUM($DF15:DG15) -> 0 | DH34: =SUM($DF15:DH15) -> 0 | DI34: =SUM($DF15:DI15) -> 0 | DJ34: =SUM($DF15:DJ15) -> 0 | DK34: =SUM($DF15:DK15) -> 0 | DL34: =SUM($DF15:DL15) -> 0 | DM34: =SUM($DF15:DM15) -> 0 | ... DQ34: =SUM($DF15:DQ15) -> 0 | DR34: =SUM($DR15:DR15) -> 0 | DS34: =SUM($DR15:DS15) -> 0 | DT34: =SUM($DR15:DT15) -> 0 | DU34: =SUM($DR15:DU15) -> 0 | DV34: =SUM($DR15:DV15) -> 0 | DW34: =SUM($DR15:DW15) -> 0 | DX34: =SUM($DR15:DX15) -> 0 | DY34: =SUM($DR15:DY15) -> 0 | ... EC34: =SUM($DR15:EC15) -> 0 | ED34: =SUM($ED15:ED15) -> 0 | EE34: =SUM($ED15:EE15) -> 0 | EF34: =SUM($ED15:EF15) -> 0 | EG34: =SUM($ED15:EG15) -> 0 | EH34: =SUM($ED15:EH15) -> 0 | EI34: =SUM($ED15:EI15) -> 0 | EJ34: =SUM($ED15:EJ15) -> 0 | EK34: =SUM($ED15:EK15) -> 0 | ... EO34: =SUM($ED15:EO15) -> 0 | EP34: =SUM($EP15:EP15) -> 0 | EQ34: =SUM($EP15:EQ15) -> 0 | ER34: =SUM($EP15:ER15) -> 0 | ES34: =SUM($EP15:ES15) -> 0 | ET34: =SUM($EP15:ET15) -> 0 | EU34: =SUM($EP15:EU15) -> 0 | EV34: =SUM($EP15:EV15) -> 0 | EW34: =SUM($EP15:EW15) -> 0 | ... FA34: =SUM($EP15:FA15) -> 0 | FB34: =SUM($FB15:FB15) -> 0 | FC34: =SUM($FB15:FC15) -> 0 | FD34: =SUM($FB15:FD15) -> 0 | FE34: =SUM($FB15:FE15) -> 0 | FF34: =SUM($FB15:FF15) -> 0 | FG34: =SUM($FB15:FG15) -> 0 | FH34: =SUM($FB15:FH15) -> 0 | FI34: =SUM($FB15:FI15) -> 0 | ... FM34: =SUM($FB15:FM15) -> 0 | FN34: =SUM($FN15:FN15) -> 0 | FO34: =SUM($FN15:FO15) -> 0 | FP34: =SUM($FN15:FP15) -> 0 | FQ34: =SUM($FN15:FQ15) -> 0 | FR34: =SUM($FN15:FR15) -> 0 | FS34: =SUM($FN15:FS15) -> 0 | FT34: =SUM($FN15:FT15) -> 0 | FU34: =SUM($FN15:FU15) -> 0 | ... FY34: =SUM($FN15:FY15) -> 0 | FZ34: =SUM($FZ15:FZ15) -> 0 | GA34: =SUM($FZ15:GA15) -> 0 | GB34: =SUM($FZ15:GB15) -> 0 | GC34: =SUM($FZ15:GC15) -> 0 | GD34: =SUM($FZ15:GD15) -> 0 | GE34: =SUM($FZ15:GE15) -> 0 | GF34: =SUM($FZ15:GF15) -> 0 | GG34: =SUM($FZ15:GG15) -> 0 | ... GK34: =SUM($FZ15:GK15) -> 0 | GL34: =SUM($GL15:GL15) -> 0 | GM34: =SUM($GL15:GM15) -> 0 | GN34: =SUM($GL15:GN15) -> 0 | GO34: =SUM($GL15:GO15) -> 0 | GP34: =SUM($GL15:GP15) -> 0 | GQ34: =SUM($GL15:GQ15) -> 0 | GR34: =SUM($GL15:GR15) -> 0 | GS34: =SUM($GL15:GS15) -> 0 | ... GW34: =SUM($GL15:GW15) -> 0 | GX34: =SUM($GX15:GX15) -> 0 | GY34: =SUM($GX15:GY15) -> 0 | GZ34: =SUM($GX15:GZ15) -> 0 | HA34: =SUM($GX15:HA15) -> 0 | HB34: =SUM($GX15:HB15) -> 0 | HC34: =SUM($GX15:HC15) -> 0 | HD34: =SUM($GX15:HD15) -> 0 | HE34: =SUM($GX15:HE15) -> 0 | ... HI34: =SUM($GX15:HI15) -> 0 | HJ34: =SUM($HJ15:HJ15) -> 0 | HK34: =SUM($HJ15:HK15) -> 0 | HL34: =SUM($HJ15:HL15) -> 0 | HM34: =SUM($HJ15:HM15) -> 0 | HN34: =SUM($HJ15:HN15) -> 0 | HO34: =SUM($HJ15:HO15) -> 0 | HP34: =SUM($HJ15:HP15) -> 0 | HQ34: =SUM($HJ15:HQ15) -> 0 | ... HU34: =SUM($HJ15:HU15) -> 0 | HV34: =SUM($HV15:HV15) -> 0 | HW34: =SUM($HV15:HW15) -> 0 | HX34: =SUM($HV15:HX15) -> 0 | HY34: =SUM($HV15:HY15) -> 0 | HZ34: =SUM($HV15:HZ15) -> 0 | IA34: =SUM($HV15:IA15) -> 0 | IB34: =SUM($HV15:IB15) -> 0 | IC34: =SUM($HV15:IC15) -> 0 | ... IG34: =SUM($HV15:IG15) -> 0 | IH34: =SUM($IH15:IH15) -> 0 | II34: =SUM($IH15:II15) -> 0 | IJ34: =SUM($IH15:IJ15) -> 0 | IK34: =SUM($IH15:IK15) -> 0 | IL34: =SUM($IH15:IL15) -> 0 | IM34: =SUM($IH15:IM15) -> 0 | IN34: =SUM($IH15:IN15) -> 0 | IO34: =SUM($IH15:IO15) -> 0 | ... IS34: =SUM($IH15:IS15) -> 0 | IT34: =SUM($IT15:IT15) -> 0 | IU34: =SUM($IT15:IU15) -> 0 | IV34: =SUM($IT15:IV15) -> 0 | IW34: =SUM($IT15:IW15) -> 0 | IX34: =SUM($IT15:IX15) -> 0 | IY34: =SUM($IT15:IY15) -> 0 | IZ34: =SUM($IT15:IZ15) -> 0 | JA34: =SUM($IT15:JA15) -> 0 | ... JE34: =SUM($IT15:JE15) -> 0 | JF34: =SUM($JF15:JF15) -> 0 | JG34: =SUM($JF15:JG15) -> 0 | JH34: =SUM($JF15:JH15) -> 0 | JI34: =SUM($JF15:JI15) -> 0 | JJ34: =SUM($JF15:JJ15) -> 0 | JK34: =SUM($JF15:JK15) -> 0 | JL34: =SUM($JF15:JL15) -> 0 | JM34: =SUM($JF15:JM15) -> 0 | ... JQ34: =SUM($JF15:JQ15) -> 0
A35: TANGER | B35: =SUM(B16:$B16) -> 2241 | C35: =SUM($B16:C16) -> 3742 | D35: =SUM($B16:D16) -> 5523 | E35: =SUM($B16:E16) -> 8310 | F35: =SUM($B16:F16) -> 11497 | G35: =SUM($B16:G16) -> 14026 | H35: =SUM($B16:H16) -> 15559 | I35: =SUM($B16:I16) -> 17213 | J35: =SUM($B16:J16) -> 18944 | ... M35: =SUM($B16:M16) -> 23942 | N35: =SUM($N16:N16) -> 2229 | O35: =SUM($N16:O16) -> 4384 | P35: =SUM($N16:P16) -> 6790 | Q35: =SUM($N16:Q16) -> 8524 | R35: =SUM($N16:R16) -> 10638 | S35: =SUM($N16:S16) -> 12456 | T35: =SUM($N16:T16) -> 13984 | U35: =SUM($N16:U16) -> 15833 | ... Y35: =SUM($N16:Y16) -> 23066 | Z35: =SUM($Z16:Z16) -> 1895 | AA35: =SUM($Z16:AA16) -> 3943 | AB35: =SUM($Z16:AB16) -> 5732 | AC35: =SUM($Z16:AC16) -> 7912 | AD35: =SUM($Z16:AD16) -> 10742 | AE35: =SUM($Z16:AE16) -> 12663 | AF35: =SUM($Z16:AF16) -> 14173 | AG35: =SUM($Z16:AG16) -> 15202 | ... AK35: =SUM($Z16:AK16) -> 23143 | AL35: =SUM($AL16:AL16) -> 3098 | AM35: =SUM($AL16:AM16) -> 5864 | AN35: =SUM($AL16:AN16) -> 8872 | AO35: =SUM($AL16:AO16) -> 11657 | AP35: =SUM($AL16:AP16) -> 14346 | AQ35: =SUM($AL16:AQ16) -> 17225 | AR35: =SUM($AL16:AR16) -> 18540 | AS35: =SUM($AL16:AS16) -> 20379 | ... AW35: =SUM($AL16:AW16) -> 20379 | AX35: =SUM($AX16:AX16) -> 0 | AY35: =SUM($AX16:AY16) -> 0 | AZ35: =SUM($AX16:AZ16) -> 0 | BA35: =SUM($AX16:BA16) -> 0 | BB35: =SUM($AX16:BB16) -> 0 | BC35: =SUM($AX16:BC16) -> 0 | BD35: =SUM($AX16:BD16) -> 0 | BE35: =SUM($AX16:BE16) -> 0 | ... BI35: =SUM($AX16:BI16) -> 0 | BJ35: =SUM($BJ16:BJ16) -> 0 | BK35: =SUM($BJ16:BK16) -> 0 | BL35: =SUM($BJ16:BL16) -> 0 | BM35: =SUM($BJ16:BM16) -> 0 | BN35: =SUM($BJ16:BN16) -> 0 | BO35: =SUM($BJ16:BO16) -> 0 | BP35: =SUM($BJ16:BP16) -> 0 | BQ35: =SUM($BJ16:BQ16) -> 0 | ... BU35: =SUM($BJ16:BU16) -> 0 | BV35: =SUM($BV16:BV16) -> 0 | BW35: =SUM($BV16:BW16) -> 0 | BX35: =SUM($BV16:BX16) -> 0 | BY35: =SUM($BV16:BY16) -> 0 | BZ35: =SUM($BV16:BZ16) -> 0 | CA35: =SUM($BV16:CA16) -> 0 | CB35: =SUM($BV16:CB16) -> 0 | CC35: =SUM($BV16:CC16) -> 0 | ... CG35: =SUM($BV16:CG16) -> 0 | CH35: =SUM($CH16:CH16) -> 0 | CI35: =SUM($CH16:CI16) -> 0 | CJ35: =SUM($CH16:CJ16) -> 0 | CK35: =SUM($CH16:CK16) -> 0 | CL35: =SUM($CH16:CL16) -> 0 | CM35: =SUM($CH16:CM16) -> 0 | CN35: =SUM($CH16:CN16) -> 0 | CO35: =SUM($CH16:CO16) -> 0 | ... CS35: =SUM($CH16:CS16) -> 0 | CT35: =SUM($CT16:CT16) -> 0 | CU35: =SUM($CT16:CU16) -> 0 | CV35: =SUM($CT16:CV16) -> 0 | CW35: =SUM($CT16:CW16) -> 0 | CX35: =SUM($CT16:CX16) -> 0 | CY35: =SUM($CT16:CY16) -> 0 | CZ35: =SUM($CT16:CZ16) -> 0 | DA35: =SUM($CT16:DA16) -> 0 | ... DE35: =SUM($CT16:DE16) -> 0 | DF35: =SUM($DF16:DF16) -> 0 | DG35: =SUM($DF16:DG16) -> 0 | DH35: =SUM($DF16:DH16) -> 0 | DI35: =SUM($DF16:DI16) -> 0 | DJ35: =SUM($DF16:DJ16) -> 0 | DK35: =SUM($DF16:DK16) -> 0 | DL35: =SUM($DF16:DL16) -> 0 | DM35: =SUM($DF16:DM16) -> 0 | ... DQ35: =SUM($DF16:DQ16) -> 0 | DR35: =SUM($DR16:DR16) -> 0 | DS35: =SUM($DR16:DS16) -> 0 | DT35: =SUM($DR16:DT16) -> 0 | DU35: =SUM($DR16:DU16) -> 0 | DV35: =SUM($DR16:DV16) -> 0 | DW35: =SUM($DR16:DW16) -> 0 | DX35: =SUM($DR16:DX16) -> 0 | DY35: =SUM($DR16:DY16) -> 0 | ... EC35: =SUM($DR16:EC16) -> 0 | ED35: =SUM($ED16:ED16) -> 0 | EE35: =SUM($ED16:EE16) -> 0 | EF35: =SUM($ED16:EF16) -> 0 | EG35: =SUM($ED16:EG16) -> 0 | EH35: =SUM($ED16:EH16) -> 0 | EI35: =SUM($ED16:EI16) -> 0 | EJ35: =SUM($ED16:EJ16) -> 0 | EK35: =SUM($ED16:EK16) -> 0 | ... EO35: =SUM($ED16:EO16) -> 0 | EP35: =SUM($EP16:EP16) -> 0 | EQ35: =SUM($EP16:EQ16) -> 0 | ER35: =SUM($EP16:ER16) -> 0 | ES35: =SUM($EP16:ES16) -> 0 | ET35: =SUM($EP16:ET16) -> 0 | EU35: =SUM($EP16:EU16) -> 0 | EV35: =SUM($EP16:EV16) -> 0 | EW35: =SUM($EP16:EW16) -> 0 | ... FA35: =SUM($EP16:FA16) -> 0 | FB35: =SUM($FB16:FB16) -> 0 | FC35: =SUM($FB16:FC16) -> 0 | FD35: =SUM($FB16:FD16) -> 0 | FE35: =SUM($FB16:FE16) -> 0 | FF35: =SUM($FB16:FF16) -> 0 | FG35: =SUM($FB16:FG16) -> 0 | FH35: =SUM($FB16:FH16) -> 0 | FI35: =SUM($FB16:FI16) -> 0 | ... FM35: =SUM($FB16:FM16) -> 0 | FN35: =SUM($FN16:FN16) -> 0 | FO35: =SUM($FN16:FO16) -> 0 | FP35: =SUM($FN16:FP16) -> 0 | FQ35: =SUM($FN16:FQ16) -> 0 | FR35: =SUM($FN16:FR16) -> 0 | FS35: =SUM($FN16:FS16) -> 0 | FT35: =SUM($FN16:FT16) -> 0 | FU35: =SUM($FN16:FU16) -> 0 | ... FY35: =SUM($FN16:FY16) -> 0 | FZ35: =SUM($FZ16:FZ16) -> 0 | GA35: =SUM($FZ16:GA16) -> 0 | GB35: =SUM($FZ16:GB16) -> 0 | GC35: =SUM($FZ16:GC16) -> 0 | GD35: =SUM($FZ16:GD16) -> 0 | GE35: =SUM($FZ16:GE16) -> 0 | GF35: =SUM($FZ16:GF16) -> 0 | GG35: =SUM($FZ16:GG16) -> 0 | ... GK35: =SUM($FZ16:GK16) -> 0 | GL35: =SUM($GL16:GL16) -> 0 | GM35: =SUM($GL16:GM16) -> 0 | GN35: =SUM($GL16:GN16) -> 0 | GO35: =SUM($GL16:GO16) -> 0 | GP35: =SUM($GL16:GP16) -> 0 | GQ35: =SUM($GL16:GQ16) -> 0 | GR35: =SUM($GL16:GR16) -> 0 | GS35: =SUM($GL16:GS16) -> 0 | ... GW35: =SUM($GL16:GW16) -> 0 | GX35: =SUM($GX16:GX16) -> 0 | GY35: =SUM($GX16:GY16) -> 0 | GZ35: =SUM($GX16:GZ16) -> 0 | HA35: =SUM($GX16:HA16) -> 0 | HB35: =SUM($GX16:HB16) -> 0 | HC35: =SUM($GX16:HC16) -> 0 | HD35: =SUM($GX16:HD16) -> 0 | HE35: =SUM($GX16:HE16) -> 0 | ... HI35: =SUM($GX16:HI16) -> 0 | HJ35: =SUM($HJ16:HJ16) -> 0 | HK35: =SUM($HJ16:HK16) -> 0 | HL35: =SUM($HJ16:HL16) -> 0 | HM35: =SUM($HJ16:HM16) -> 0 | HN35: =SUM($HJ16:HN16) -> 0 | HO35: =SUM($HJ16:HO16) -> 0 | HP35: =SUM($HJ16:HP16) -> 0 | HQ35: =SUM($HJ16:HQ16) -> 0 | ... HU35: =SUM($HJ16:HU16) -> 0 | HV35: =SUM($HV16:HV16) -> 0 | HW35: =SUM($HV16:HW16) -> 0 | HX35: =SUM($HV16:HX16) -> 0 | HY35: =SUM($HV16:HY16) -> 0 | HZ35: =SUM($HV16:HZ16) -> 0 | IA35: =SUM($HV16:IA16) -> 0 | IB35: =SUM($HV16:IB16) -> 0 | IC35: =SUM($HV16:IC16) -> 0 | ... IG35: =SUM($HV16:IG16) -> 0 | IH35: =SUM($IH16:IH16) -> 0 | II35: =SUM($IH16:II16) -> 0 | IJ35: =SUM($IH16:IJ16) -> 0 | IK35: =SUM($IH16:IK16) -> 0 | IL35: =SUM($IH16:IL16) -> 0 | IM35: =SUM($IH16:IM16) -> 0 | IN35: =SUM($IH16:IN16) -> 0 | IO35: =SUM($IH16:IO16) -> 0 | ... IS35: =SUM($IH16:IS16) -> 0 | IT35: =SUM($IT16:IT16) -> 0 | IU35: =SUM($IT16:IU16) -> 0 | IV35: =SUM($IT16:IV16) -> 0 | IW35: =SUM($IT16:IW16) -> 0 | IX35: =SUM($IT16:IX16) -> 0 | IY35: =SUM($IT16:IY16) -> 0 | IZ35: =SUM($IT16:IZ16) -> 0 | JA35: =SUM($IT16:JA16) -> 0 | ... JE35: =SUM($IT16:JE16) -> 0 | JF35: =SUM($JF16:JF16) -> 0 | JG35: =SUM($JF16:JG16) -> 0 | JH35: =SUM($JF16:JH16) -> 0 | JI35: =SUM($JF16:JI16) -> 0 | JJ35: =SUM($JF16:JJ16) -> 0 | JK35: =SUM($JF16:JK16) -> 0 | JL35: =SUM($JF16:JL16) -> 0 | JM35: =SUM($JF16:JM16) -> 0 | ... JQ35: =SUM($JF16:JQ16) -> 0
A36: ABB | B36: =SUM(B26:B35) -> 30569 | C36: =SUM(C26:C35) -> 53884 | D36: =SUM(D26:D35) -> 83566 | E36: =SUM(E26:E35) -> 118622 | F36: =SUM(F26:F35) -> 152664 | G36: =SUM(G26:G35) -> 182912 | H36: =SUM(H26:H35) -> 204325 | I36: =SUM(I26:I35) -> 222315 | ... JE36: =SUM(JE26:JE35) -> 0 | JF36: =SUM($JF17:JF17) -> 0 | JG36: =SUM($JF17:JG17) -> 0 | JH36: =SUM($JF17:JH17) -> 0 | JI36: =SUM($JF17:JI17) -> 0 | JJ36: =SUM($JF17:JJ17) -> 0 | JK36: =SUM($JF17:JK17) -> 0 | JL36: =SUM($JF17:JL17) -> 0 | JM36: =SUM($JF17:JM17) -> 0 | ... JQ36: =SUM($JF17:JQ17) -> 0
C38: =COUNTIF(26:26,">0") -> 48
A44: Budget Mensuel | B44: 40544 | C44: 40575 | D44: 40603 | E44: 40634 | F44: 40664 | G44: 40695 | H44: 40725 | I44: 40756 | J44: 40787 | K44: 40817 | L44: 40848 | M44: 40878 | N44: 40909 | O44: 40940 | P44: 40969 | Q44: 41000 | R44: 41030 | S44: 41061 | T44: 41091 | U44: 41122 | V44: 41153 | W44: 41183 | X44: 41214 | Y44: 41244 | Z44: 41275 | AA44: 41306 | AB44: 41334 | AC44: 41365 | AD44: 41395 | AE44: 41426 | AF44: 41456 | AG44: 41487 | AH44: 41518 | AI44: 41548 | AJ44: 41579 | AK44: 41609 | AL44: 41640 | AM44: 41671 | AN44: 41699 | AO44: 41730 | AP44: 41760 | AQ44: 41791 | AR44: 41821 | AS44: 41852 | AT44: 41883 | AU44: 41913 | AV44: 41944 | AW44: 41974 | AX44: 42005 | AY44: 42036 | AZ44: 42064 | BA44: 42095 | BB44: 42125 | BC44: 42156 | BD44: 42186 | BE44: 42217 | BF44: 42248 | BG44: 42278 | BH44: 42309 | BI44: 42339 | BJ44: 42370 | BK44: 42401 | BL44: 42430 | BM44: 42461 | BN44: 42491 | BO44: 42522 | BP44: 42552 | BQ44: 42583 | BR44: 42614 | BS44: 42644 | BT44: 42675 | BU44: 42705 | BV44: 42736 | BW44: 42767 | BX44: 42795 | BY44: 42826 | BZ44: 42856 | CA44: 42887 | CB44: 42917 | CC44: 42948 | CD44: 42979 | CE44: 43009 | CF44: 43040 | CG44: 43070 | CH44: 43101 | CI44: 43132 | CJ44: 43160 | CK44: 43191 | CL44: 43221 | CM44: 43252 | CN44: 43282 | CO44: 43313 | CP44: 43344 | CQ44: 43374 | CR44: 43405 | CS44: 43435 | CT44: 43466 | CU44: 43497 | CV44: 43525 | CW44: 43556 | CX44: 43586 | CY44: 43617 | CZ44: 43647 | DA44: 43678 | DB44: 43709 | DC44: 43739 | DD44: 43770 | DE44: 43800 | DF44: 43831 | DG44: 43862 | DH44: 43891 | DI44: 43922 | DJ44: 43952 | DK44: 43983 | DL44: 44013 | DM44: 44044 | DN44: 44075 | DO44: 44105 | DP44: 44136 | DQ44: 44166 | DR44: 44197 | DS44: 44228 | DT44: 44256 | DU44: 44287 | DV44: 44317 | DW44: 44348 | DX44: 44378 | DY44: 44409 | DZ44: 44440 | EA44: 44470 | EB44: 44501 | EC44: 44531 | ED44: 44562 | EE44: 44593 | EF44: 44621 | EG44: 44652 | EH44: 44682 | EI44: 44713 | EJ44: 44743 | EK44: 44774 | EL44: 44805 | EM44: 44835 | EN44: 44866 | EO44: 44896 | EP44: 44927 | EQ44: 44958 | ER44: 44986 | ES44: 45017 | ET44: 45047 | EU44: 45078 | EV44: 45108 | EW44: 45139 | EX44: 45170 | EY44: 45200 | EZ44: 45231 | FA44: 45261 | FB44: 45292 | FC44: 45323 | FD44: 45352 | FE44: 45383 | FF44: 45413 | FG44: 45444 | FH44: 45474 | FI44: 45505 | FJ44: 45536 | FK44: 45566 | FL44: 45597 | FM44: 45627 | FN44: 45658 | FO44: 45689 | FP44: 45717 | FQ44: 45748 | FR44: 45778 | FS44: 45809 | FT44: 45839 | FU44: 45870 | FV44: 45901 | FW44: 45931 | FX44: 45962 | FY44: 45992 | FZ44: 46023 | GA44: 46054 | GB44: 46082 | GC44: 46113 | GD44: 46143 | GE44: 46174 | GF44: 46204 | GG44: 46235 | GH44: 46266 | GI44: 46296 | GJ44: 46327 | GK44: 46357 | GL44: 46388 | GM44: 46419 | GN44: 46447 | GO44: 46478 | GP44: 46508 | GQ44: 46539 | GR44: 46569 | GS44: 46600 | GT44: 46631 | GU44: 46661 | GV44: 46692 | GW44: 46722 | GX44: 46753 | GY44: 46784 | GZ44: 46813 | HA44: 46844 | HB44: 46874 | HC44: 46905 | HD44: 46935 | HE44: 46966 | HF44: 46997 | HG44: 47027 | HH44: 47058 | HI44: 47088 | HJ44: 47119 | HK44: 47150 | HL44: 47178 | HM44: 47209 | HN44: 47239 | HO44: 47270 | HP44: 47300 | HQ44: 47331 | HR44: 47362 | HS44: 47392 | HT44: 47423 | HU44: 47453 | HV44: 47484 | HW44: 47515 | HX44: 47543 | HY44: 47574 | HZ44: 47604 | IA44: 47635 | IB44: 47665 | IC44: 47696 | ID44: 47727 | IE44: 47757 | IF44: 47788 | IG44: 47818 | IH44: 47849 | II44: 47880 | IJ44: 47908 | IK44: 47939 | IL44: 47969 | IM44: 48000 | IN44: 48030 | IO44: 48061 | IP44: 48092 | IQ44: 48122 | IR44: 48153 | IS44: 48183 | IT44: 48214 | IU44: 48245 | IV44: 48274 | IW44: 48305 | IX44: 48335 | IY44: 48366 | IZ44: 48396 | JA44: 48427 | JB44: 48458 | JC44: 48488 | JD44: 48519 | JE44: 48549 | JF44: 48580 | JG44: 48611 | JH44: 48639 | JI44: 48670 | JJ44: 48700 | JK44: 48731 | JL44: 48761 | JM44: 48792 | JN44: 48823 | JO44: 48853 | JP44: 48884 | JQ44: 48914
A45: AGADIR | N45: 2650 | O45: 2650 | P45: 2650 | Q45: 2650 | R45: 2650 | S45: 2650 | T45: 2650 | U45: 2650 | V45: 2650 | W45: 2650 | X45: 2650 | Y45: 2650 | Z45: 2541.6667 | AA45: 2541.6667 | AB45: 2541.6667 | AC45: 2541.6667 | AD45: 2541.6667 | AE45: 2541.6667 | AF45: 2541.6667 | AG45: 2541.6667 | AH45: 2541.6667 | AI45: 2541.6667 | AJ45: 2541.6667 | AK45: 2541.6667 | AL45: 2430.5556 | AM45: 2430.5556 | AN45: 2430.5556 | AO45: 2430.5556 | AP45: 2430.5556 | AQ45: 2430.5556 | AR45: 2430.5556 | AS45: 2430.5556 | AT45: 2430.5556 | AU45: 2430.5556 | AV45: 2430.5556 | AW45: 2430.5556
A46: CASABLANCA | N46: 4816.6879 | O46: 4816.6879 | P46: 4816.6879 | Q46: 4816.6879 | R46: 4816.6879 | S46: 4816.6879 | T46: 4816.6879 | U46: 4816.6879 | V46: 4816.6879 | W46: 4816.6879 | X46: 4816.6879 | Y46: 4816.6879 | Z46: 4375 | AA46: 4375 | AB46: 4375 | AC46: 4375 | AD46: 4375 | AE46: 4375 | AF46: 4375 | AG46: 4375 | AH46: 4375 | AI46: 4375 | AJ46: 4375 | AK46: 4375 | AL46: 4027.7778 | AM46: 4027.7778 | AN46: 4027.7778 | AO46: 4027.7778 | AP46: 4027.7778 | AQ46: 4027.7778 | AR46: 4027.7778 | AS46: 4027.7778 | AT46: 4027.7778 | AU46: 4027.7778 | AV46: 4027.7778 | AW46: 4027.7778
A47: EL JADIDA | N47: 3350 | O47: 3350 | P47: 3350 | Q47: 3350 | R47: 3350 | S47: 3350 | T47: 3350 | U47: 3350 | V47: 3350 | W47: 3350 | X47: 3350 | Y47: 3350 | Z47: 3150 | AA47: 3150 | AB47: 3150 | AC47: 3150 | AD47: 3150 | AE47: 3150 | AF47: 3150 | AG47: 3150 | AH47: 3150 | AI47: 3150 | AJ47: 3150 | AK47: 3150 | AL47: 2916.6667 | AM47: 2916.6667 | AN47: 2916.6667 | AO47: 2916.6667 | AP47: 2916.6667 | AQ47: 2916.6667 | AR47: 2916.6667 | AS47: 2916.6667 | AT47: 2916.6667 | AU47: 2916.6667 | AV47: 2916.6667 | AW47: 2916.6667
A48: FES | N48: 2623.711 | O48: 2623.711 | P48: 2623.711 | Q48: 2623.711 | R48: 2623.711 | S48: 2623.711 | T48: 2623.711 | U48: 2623.711 | V48: 2623.711 | W48: 2623.711 | X48: 2623.711 | Y48: 2623.711 | Z48: 2333.3333 | AA48: 2333.3333 | AB48: 2333.3333 | AC48: 2333.3333 | AD48: 2333.3333 | AE48: 2333.3333 | AF48: 2333.3333 | AG48: 2333.3333 | AH48: 2333.3333 | AI48: 2333.3333 | AJ48: 2333.3333 | AK48: 2333.3333 | AL48: 2256.9444 | AM48: 2256.9444 | AN48: 2256.9444 | AO48: 2256.9444 | AP48: 2256.9444 | AQ48: 2256.9444 | AR48: 2256.9444 | AS48: 2256.9444 | AT48: 2256.9444 | AU48: 2256.9444 | AV48: 2256.9444 | AW48: 2256.9444
A49: LAAYOUNE | N49: 583.33333 | O49: 583.33333 | P49: 583.33333 | Q49: 583.33333 | R49: 583.33333 | S49: 583.33333 | T49: 583.33333 | U49: 583.33333 | V49: 583.33333 | W49: 583.33333 | X49: 583.33333 | Y49: 583.33333 | Z49: 504.16667 | AA49: 504.16667 | AB49: 504.16667 | AC49: 504.16667 | AD49: 504.16667 | AE49: 504.16667 | AF49: 504.16667 | AG49: 504.16667 | AH49: 504.16667 | AI49: 504.16667 | AJ49: 504.16667 | AK49: 504.16667 | AL49: 694.44444 | AM49: 694.44444 | AN49: 694.44444 | AO49: 694.44444 | AP49: 694.44444 | AQ49: 694.44444 | AR49: 694.44444 | AS49: 694.44444 | AT49: 694.44444 | AU49: 694.44444 | AV49: 694.44444 | AW49: 694.44444
A50: MARRAKECH | N50: 2780 | O50: 2780 | P50: 2780 | Q50: 2780 | R50: 2780 | S50: 2780 | T50: 2780 | U50: 2780 | V50: 2780 | W50: 2780 | X50: 2780 | Y50: 2780 | Z50: 2625 | AA50: 2625 | AB50: 2625 | AC50: 2625 | AD50: 2625 | AE50: 2625 | AF50: 2625 | AG50: 2625 | AH50: 2625 | AI50: 2625 | AJ50: 2625 | AK50: 2625 | AL50: 2430.5556 | AM50: 2430.5556 | AN50: 2430.5556 | AO50: 2430.5556 | AP50: 2430.5556 | AQ50: 2430.5556 | AR50: 2430.5556 | AS50: 2430.5556 | AT50: 2430.5556 | AU50: 2430.5556 | AV50: 2430.5556 | AW50: 2430.5556
A51: MEKNES | N51: 2942.3334 | O51: 2942.3334 | P51: 2942.3334 | Q51: 2942.3334 | R51: 2942.3334 | S51: 2942.3334 | T51: 2942.3334 | U51: 2942.3334 | V51: 2942.3334 | W51: 2942.3334 | X51: 2942.3334 | Y51: 2942.3334 | Z51: 2637.5 | AA51: 2637.5 | AB51: 2637.5 | AC51: 2637.5 | AD51: 2637.5 | AE51: 2637.5 | AF51: 2637.5 | AG51: 2637.5 | AH51: 2637.5 | AI51: 2637.5 | AJ51: 2637.5 | AK51: 2637.5 | AL51: 2430.5556 | AM51: 2430.5556 | AN51: 2430.5556 | AO51: 2430.5556 | AP51: 2430.5556 | AQ51: 2430.5556 | AR51: 2430.5556 | AS51: 2430.5556 | AT51: 2430.5556 | AU51: 2430.5556 | AV51: 2430.5556 | AW51: 2430.5556
A52: OUJDA | N52: 2398.1059 | O52: 2398.1059 | P52: 2398.1059 | Q52: 2398.1059 | R52: 2398.1059 | S52: 2398.1059 | T52: 2398.1059 | U52: 2398.1059 | V52: 2398.1059 | W52: 2398.1059 | X52: 2398.1059 | Y52: 2398.1059 | Z52: 2250 | AA52: 2250 | AB52: 2250 | AC52: 2250 | AD52: 2250 | AE52: 2250 | AF52: 2250 | AG52: 2250 | AH52: 2250 | AI52: 2250 | AJ52: 2250 | AK52: 2250 | AL52: 2118.0556 | AM52: 2118.0556 | AN52: 2118.0556 | AO52: 2118.0556 | AP52: 2118.0556 | AQ52: 2118.0556 | AR52: 2118.0556 | AS52: 2118.0556 | AT52: 2118.0556 | AU52: 2118.0556 | AV52: 2118.0556 | AW52: 2118.0556
A53: RABAT | N53: 4420.8333 | O53: 4420.8333 | P53: 4420.8333 | Q53: 4420.8333 | R53: 4420.8333 | S53: 4420.8333 | T53: 4420.8333 | U53: 4420.8333 | V53: 4420.8333 | W53: 4420.8333 | X53: 4420.8333 | Y53: 4420.8333 | Z53: 3875 | AA53: 3875 | AB53: 3875 | AC53: 3875 | AD53: 3875 | AE53: 3875 | AF53: 3875 | AG53: 3875 | AH53: 3875 | AI53: 3875 | AJ53: 3875 | AK53: 3875 | AL53: 3750 | AM53: 3750 | AN53: 3750 | AO53: 3750 | AP53: 3750 | AQ53: 3750 | AR53: 3750 | AS53: 3750 | AT53: 3750 | AU53: 3750 | AV53: 3750 | AW53: 3750
A54: TANGER | N54: 2185 | O54: 2185 | P54: 2185 | Q54: 2185 | R54: 2185 | S54: 2185 | T54: 2185 | U54: 2185 | V54: 2185 | W54: 2185 | X54: 2185 | Y54: 2185 | Z54: 2041.6667 | AA54: 2041.6667 | AB54: 2041.6667 | AC54: 2041.6667 | AD54: 2041.6667 | AE54: 2041.6667 | AF54: 2041.6667 | AG54: 2041.6667 | AH54: 2041.6667 | AI54: 2041.6667 | AJ54: 2041.6667 | AK54: 2041.6667 | AL54: 1944.4444 | AM54: 1944.4444 | AN54: 1944.4444 | AO54: 1944.4444 | AP54: 1944.4444 | AQ54: 1944.4444 | AR54: 1944.4444 | AS54: 1944.4444 | AT54: 1944.4444 | AU54: 1944.4444 | AV54: 1944.4444 | AW54: 1944.4444
A55: ABB | C55: =SUM(C45:C54) -> 0 | D55: =SUM(D45:D54) -> 0 | E55: =SUM(E45:E54) -> 0 | F55: =SUM(F45:F54) -> 0 | G55: =SUM(G45:G54) -> 0 | H55: =SUM(H45:H54) -> 0 | I55: =SUM(I45:I54) -> 0 | J55: =SUM(J45:J54) -> 0 | ... JQ55: =SUM(JQ45:JQ54) -> 0
A63: Budget Cumulé | B63: 40544 | C63: 40575 | D63: 40603 | E63: 40634 | F63: 40664 | G63: 40695 | H63: 40725 | I63: 40756 | J63: 40787 | K63: 40817 | L63: 40848 | M63: 40878 | N63: 40909 | O63: 40940 | P63: 40969 | Q63: 41000 | R63: 41030 | S63: 41061 | T63: 41091 | U63: 41122 | V63: 41153 | W63: 41183 | X63: 41214 | Y63: 41244 | Z63: 41275 | AA63: 41306 | AB63: 41334 | AC63: 41365 | AD63: 41395 | AE63: 41426 | AF63: 41456 | AG63: 41487 | AH63: 41518 | AI63: 41548 | AJ63: 41579 | AK63: 41609 | AL63: 41640 | AM63: 41671 | AN63: 41699 | AO63: 41730 | AP63: 41760 | AQ63: 41791 | AR63: 41821 | AS63: 41852 | AT63: 41883 | AU63: 41913 | AV63: 41944 | AW63: 41974 | AX63: 42005 | AY63: 42036 | AZ63: 42064 | BA63: 42095 | BB63: 42125 | BC63: 42156 | BD63: 42186 | BE63: 42217 | BF63: 42248 | BG63: 42278 | BH63: 42309 | BI63: 42339 | BJ63: 42370 | BK63: 42401 | BL63: 42430 | BM63: 42461 | BN63: 42491 | BO63: 42522 | BP63: 42552 | BQ63: 42583 | BR63: 42614 | BS63: 42644 | BT63: 42675 | BU63: 42705 | BV63: 42736 | BW63: 42767 | BX63: 42795 | BY63: 42826 | BZ63: 42856 | CA63: 42887 | CB63: 42917 | CC63: 42948 | CD63: 42979 | CE63: 43009 | CF63: 43040 | CG63: 43070 | CH63: 43101 | CI63: 43132 | CJ63: 43160 | CK63: 43191 | CL63: 43221 | CM63: 43252 | CN63: 43282 | CO63: 43313 | CP63: 43344 | CQ63: 43374 | CR63: 43405 | CS63: 43435 | CT63: 43466 | CU63: 43497 | CV63: 43525 | CW63: 43556 | CX63: 43586 | CY63: 43617 | CZ63: 43647 | DA63: 43678 | DB63: 43709 | DC63: 43739 | DD63: 43770 | DE63: 43800 | DF63: 43831 | DG63: 43862 | DH63: 43891 | DI63: 43922 | DJ63: 43952 | DK63: 43983 | DL63: 44013 | DM63: 44044 | DN63: 44075 | DO63: 44105 | DP63: 44136 | DQ63: 44166 | DR63: 44197 | DS63: 44228 | DT63: 44256 | DU63: 44287 | DV63: 44317 | DW63: 44348 | DX63: 44378 | DY63: 44409 | DZ63: 44440 | EA63: 44470 | EB63: 44501 | EC63: 44531 | ED63: 44562 | EE63: 44593 | EF63: 44621 | EG63: 44652 | EH63: 44682 | EI63: 44713 | EJ63: 44743 | EK63: 44774 | EL63: 44805 | EM63: 44835 | EN63: 44866 | EO63: 44896 | EP63: 44927 | EQ63: 44958 | ER63: 44986 | ES63: 45017 | ET63: 45047 | EU63: 45078 | EV63: 45108 | EW63: 45139 | EX63: 45170 | EY63: 45200 | EZ63: 45231 | FA63: 45261 | FB63: 45292 | FC63: 45323 | FD63: 45352 | FE63: 45383 | FF63: 45413 | FG63: 45444 | FH63: 45474 | FI63: 45505 | FJ63: 45536 | FK63: 45566 | FL63: 45597 | FM63: 45627 | FN63: 45658 | FO63: 45689 | FP63: 45717 | FQ63: 45748 | FR63: 45778 | FS63: 45809 | FT63: 45839 | FU63: 45870 | FV63: 45901 | FW63: 45931 | FX63: 45962 | FY63: 45992 | FZ63: 46023 | GA63: 46054 | GB63: 46082 | GC63: 46113 | GD63: 46143 | GE63: 46174 | GF63: 46204 | GG63: 46235 | GH63: 46266 | GI63: 46296 | GJ63: 46327 | GK63: 46357 | GL63: 46388 | GM63: 46419 | GN63: 46447 | GO63: 46478 | GP63: 46508 | GQ63: 46539 | GR63: 46569 | GS63: 46600 | GT63: 46631 | GU63: 46661 | GV63: 46692 | GW63: 46722 | GX63: 46753 | GY63: 46784 | GZ63: 46813 | HA63: 46844 | HB63: 46874 | HC63: 46905 | HD63: 46935 | HE63: 46966 | HF63: 46997 | HG63: 47027 | HH63: 47058 | HI63: 47088 | HJ63: 47119 | HK63: 47150 | HL63: 47178 | HM63: 47209 | HN63: 47239 | HO63: 47270 | HP63: 47300 | HQ63: 47331 | HR63: 47362 | HS63: 47392 | HT63: 47423 | HU63: 47453 | HV63: 47484 | HW63: 47515 | HX63: 47543 | HY63: 47574 | HZ63: 47604 | IA63: 47635 | IB63: 47665 | IC63: 47696 | ID63: 47727 | IE63: 47757 | IF63: 47788 | IG63: 47818 | IH63: 47849 | II63: 47880 | IJ63: 47908 | IK63: 47939 | IL63: 47969 | IM63: 48000 | IN63: 48030 | IO63: 48061 | IP63: 48092 | IQ63: 48122 | IR63: 48153 | IS63: 48183 | IT63: 48214 | IU63: 48245 | IV63: 48274 | IW63: 48305 | IX63: 48335 | IY63: 48366 | IZ63: 48396 | JA63: 48427 | JB63: 48458 | JC63: 48488 | JD63: 48519 | JE63: 48549 | JF63: 48580 | JG63: 48611 | JH63: 48639 | JI63: 48670 | JJ63: 48700 | JK63: 48731 | JL63: 48761 | JM63: 48792 | JN63: 48823 | JO63: 48853 | JP63: 48884 | JQ63: 48914
A64: AGADIR | B64: =SUM(B45:$B45) -> 0 | C64: =SUM($B45:C45) -> 0 | D64: =SUM($B45:D45) -> 0 | E64: =SUM($B45:E45) -> 0 | F64: =SUM($B45:F45) -> 0 | G64: =SUM($B45:G45) -> 0 | H64: =SUM($B45:H45) -> 0 | I64: =SUM($B45:I45) -> 0 | J64: =SUM($B45:J45) -> 0 | ... M64: =SUM($B45:M45) -> 0 | N64: =SUM($N45:N45) -> 2650 | O64: =SUM($N45:O45) -> 5300 | P64: =SUM($N45:P45) -> 7950 | Q64: =SUM($N45:Q45) -> 10600 | R64: =SUM($N45:R45) -> 13250 | S64: =SUM($N45:S45) -> 15900 | T64: =SUM($N45:T45) -> 18550 | U64: =SUM($N45:U45) -> 21200 | ... Y64: =SUM($N45:Y45) -> 31800 | Z64: =SUM($Z45:Z45) -> 2541.6667 | AA64: =SUM($Z45:AA45) -> 5083.3333 | AB64: =SUM($Z45:AB45) -> 7625 | AC64: =SUM($Z45:AC45) -> 10166.667 | AD64: =SUM($Z45:AD45) -> 12708.333 | AE64: =SUM($Z45:AE45) -> 15250 | AF64: =SUM($Z45:AF45) -> 17791.667 | AG64: =SUM($Z45:AG45) -> 20333.333 | ... AK64: =SUM($Z45:AK45) -> 30500 | AL64: =SUM($AL45:AL45) -> 2430.5556 | AM64: =SUM($AL45:AM45) -> 4861.1111 | AN64: =SUM($AL45:AN45) -> 7291.6667 | AO64: =SUM($AL45:AO45) -> 9722.2222 | AP64: =SUM($AL45:AP45) -> 12152.778 | AQ64: =SUM($AL45:AQ45) -> 14583.333 | AR64: =SUM($AL45:AR45) -> 17013.889 | AS64: =SUM($AL45:AS45) -> 19444.444 | ... AW64: =SUM($AL45:AW45) -> 29166.667 | AX64: =SUM($AX45:AX45) -> 0 | AY64: =SUM($AX45:AY45) -> 0 | AZ64: =SUM($AX45:AZ45) -> 0 | BA64: =SUM($AX45:BA45) -> 0 | BB64: =SUM($AX45:BB45) -> 0 | BC64: =SUM($AX45:BC45) -> 0 | BD64: =SUM($AX45:BD45) -> 0 | BE64: =SUM($AX45:BE45) -> 0 | ... BI64: =SUM($AX45:BI45) -> 0 | BJ64: =SUM($BJ45:BJ45) -> 0 | BK64: =SUM($BJ45:BK45) -> 0 | BL64: =SUM($BJ45:BL45) -> 0 | BM64: =SUM($BJ45:BM45) -> 0 | BN64: =SUM($BJ45:BN45) -> 0 | BO64: =SUM($BJ45:BO45) -> 0 | BP64: =SUM($BJ45:BP45) -> 0 | BQ64: =SUM($BJ45:BQ45) -> 0 | ... BU64: =SUM($BJ45:BU45) -> 0 | BV64: =SUM($BV45:BV45) -> 0 | BW64: =SUM($BV45:BW45) -> 0 | BX64: =SUM($BV45:BX45) -> 0 | BY64: =SUM($BV45:BY45) -> 0 | BZ64: =SUM($BV45:BZ45) -> 0 | CA64: =SUM($BV45:CA45) -> 0 | CB64: =SUM($BV45:CB45) -> 0 | CC64: =SUM($BV45:CC45) -> 0 | ... CG64: =SUM($BV45:CG45) -> 0 | CH64: =SUM($CH45:CH45) -> 0 | CI64: =SUM($CH45:CI45) -> 0 | CJ64: =SUM($CH45:CJ45) -> 0 | CK64: =SUM($CH45:CK45) -> 0 | CL64: =SUM($CH45:CL45) -> 0 | CM64: =SUM($CH45:CM45) -> 0 | CN64: =SUM($CH45:CN45) -> 0 | CO64: =SUM($CH45:CO45) -> 0 | ... CS64: =SUM($CH45:CS45) -> 0 | CT64: =SUM($CT45:CT45) -> 0 | CU64: =SUM($CT45:CU45) -> 0 | CV64: =SUM($CT45:CV45) -> 0 | CW64: =SUM($CT45:CW45) -> 0 | CX64: =SUM($CT45:CX45) -> 0 | CY64: =SUM($CT45:CY45) -> 0 | CZ64: =SUM($CT45:CZ45) -> 0 | DA64: =SUM($CT45:DA45) -> 0 | ... DE64: =SUM($CT45:DE45) -> 0 | DF64: =SUM($DF45:DF45) -> 0 | DG64: =SUM($DF45:DG45) -> 0 | DH64: =SUM($DF45:DH45) -> 0 | DI64: =SUM($DF45:DI45) -> 0 | DJ64: =SUM($DF45:DJ45) -> 0 | DK64: =SUM($DF45:DK45) -> 0 | DL64: =SUM($DF45:DL45) -> 0 | DM64: =SUM($DF45:DM45) -> 0 | ... DQ64: =SUM($DF45:DQ45) -> 0 | DR64: =SUM($DR45:DR45) -> 0 | DS64: =SUM($DR45:DS45) -> 0 | DT64: =SUM($DR45:DT45) -> 0 | DU64: =SUM($DR45:DU45) -> 0 | DV64: =SUM($DR45:DV45) -> 0 | DW64: =SUM($DR45:DW45) -> 0 | DX64: =SUM($DR45:DX45) -> 0 | DY64: =SUM($DR45:DY45) -> 0 | ... EC64: =SUM($DR45:EC45) -> 0 | ED64: =SUM($ED45:ED45) -> 0 | EE64: =SUM($ED45:EE45) -> 0 | EF64: =SUM($ED45:EF45) -> 0 | EG64: =SUM($ED45:EG45) -> 0 | EH64: =SUM($ED45:EH45) -> 0 | EI64: =SUM($ED45:EI45) -> 0 | EJ64: =SUM($ED45:EJ45) -> 0 | EK64: =SUM($ED45:EK45) -> 0 | ... EO64: =SUM($ED45:EO45) -> 0 | EP64: =SUM($EP45:EP45) -> 0 | EQ64: =SUM($EP45:EQ45) -> 0 | ER64: =SUM($EP45:ER45) -> 0 | ES64: =SUM($EP45:ES45) -> 0 | ET64: =SUM($EP45:ET45) -> 0 | EU64: =SUM($EP45:EU45) -> 0 | EV64: =SUM($EP45:EV45) -> 0 | EW64: =SUM($EP45:EW45) -> 0 | ... FA64: =SUM($EP45:FA45) -> 0 | FB64: =SUM($FB45:FB45) -> 0 | FC64: =SUM($FB45:FC45) -> 0 | FD64: =SUM($FB45:FD45) -> 0 | FE64: =SUM($FB45:FE45) -> 0 | FF64: =SUM($FB45:FF45) -> 0 | FG64: =SUM($FB45:FG45) -> 0 | FH64: =SUM($FB45:FH45) -> 0 | FI64: =SUM($FB45:FI45) -> 0 | ... FM64: =SUM($FB45:FM45) -> 0 | FN64: =SUM($FN45:FN45) -> 0 | FO64: =SUM($FN45:FO45) -> 0 | FP64: =SUM($FN45:FP45) -> 0 | FQ64: =SUM($FN45:FQ45) -> 0 | FR64: =SUM($FN45:FR45) -> 0 | FS64: =SUM($FN45:FS45) -> 0 | FT64: =SUM($FN45:FT45) -> 0 | FU64: =SUM($FN45:FU45) -> 0 | ... FY64: =SUM($FN45:FY45) -> 0 | FZ64: =SUM($FZ45:FZ45) -> 0 | GA64: =SUM($FZ45:GA45) -> 0 | GB64: =SUM($FZ45:GB45) -> 0 | GC64: =SUM($FZ45:GC45) -> 0 | GD64: =SUM($FZ45:GD45) -> 0 | GE64: =SUM($FZ45:GE45) -> 0 | GF64: =SUM($FZ45:GF45) -> 0 | GG64: =SUM($FZ45:GG45) -> 0 | ... GK64: =SUM($FZ45:GK45) -> 0 | GL64: =SUM($GL45:GL45) -> 0 | GM64: =SUM($GL45:GM45) -> 0 | GN64: =SUM($GL45:GN45) -> 0 | GO64: =SUM($GL45:GO45) -> 0 | GP64: =SUM($GL45:GP45) -> 0 | GQ64: =SUM($GL45:GQ45) -> 0 | GR64: =SUM($GL45:GR45) -> 0 | GS64: =SUM($GL45:GS45) -> 0 | ... GW64: =SUM($GL45:GW45) -> 0 | GX64: =SUM($GX45:GX45) -> 0 | GY64: =SUM($GX45:GY45) -> 0 | GZ64: =SUM($GX45:GZ45) -> 0 | HA64: =SUM($GX45:HA45) -> 0 | HB64: =SUM($GX45:HB45) -> 0 | HC64: =SUM($GX45:HC45) -> 0 | HD64: =SUM($GX45:HD45) -> 0 | HE64: =SUM($GX45:HE45) -> 0 | ... HI64: =SUM($GX45:HI45) -> 0 | HJ64: =SUM($HJ45:HJ45) -> 0 | HK64: =SUM($HJ45:HK45) -> 0 | HL64: =SUM($HJ45:HL45) -> 0 | HM64: =SUM($HJ45:HM45) -> 0 | HN64: =SUM($HJ45:HN45) -> 0 | HO64: =SUM($HJ45:HO45) -> 0 | HP64: =SUM($HJ45:HP45) -> 0 | HQ64: =SUM($HJ45:HQ45) -> 0 | ... HU64: =SUM($HJ45:HU45) -> 0 | HV64: =SUM($HV45:HV45) -> 0 | HW64: =SUM($HV45:HW45) -> 0 | HX64: =SUM($HV45:HX45) -> 0 | HY64: =SUM($HV45:HY45) -> 0 | HZ64: =SUM($HV45:HZ45) -> 0 | IA64: =SUM($HV45:IA45) -> 0 | IB64: =SUM($HV45:IB45) -> 0 | IC64: =SUM($HV45:IC45) -> 0 | ... IG64: =SUM($HV45:IG45) -> 0 | IH64: =SUM($IH45:IH45) -> 0 | II64: =SUM($IH45:II45) -> 0 | IJ64: =SUM($IH45:IJ45) -> 0 | IK64: =SUM($IH45:IK45) -> 0 | IL64: =SUM($IH45:IL45) -> 0 | IM64: =SUM($IH45:IM45) -> 0 | IN64: =SUM($IH45:IN45) -> 0 | IO64: =SUM($IH45:IO45) -> 0 | ... IS64: =SUM($IH45:IS45) -> 0 | IT64: =SUM($IT45:IT45) -> 0 | IU64: =SUM($IT45:IU45) -> 0 | IV64: =SUM($IT45:IV45) -> 0 | IW64: =SUM($IT45:IW45) -> 0 | IX64: =SUM($IT45:IX45) -> 0 | IY64: =SUM($IT45:IY45) -> 0 | IZ64: =SUM($IT45:IZ45) -> 0 | JA64: =SUM($IT45:JA45) -> 0 | ... JE64: =SUM($IT45:JE45) -> 0 | JF64: =SUM($JF45:JF45) -> 0 | JG64: =SUM($JF45:JG45) -> 0 | JH64: =SUM($JF45:JH45) -> 0 | JI64: =SUM($JF45:JI45) -> 0 | JJ64: =SUM($JF45:JJ45) -> 0 | JK64: =SUM($JF45:JK45) -> 0 | JL64: =SUM($JF45:JL45) -> 0 | JM64: =SUM($JF45:JM45) -> 0 | ... JQ64: =SUM($JF45:JQ45) -> 0
A65: CASABLANCA | B65: =SUM(B46:$B46) -> 0 | C65: =SUM($B46:C46) -> 0 | D65: =SUM($B46:D46) -> 0 | E65: =SUM($B46:E46) -> 0 | F65: =SUM($B46:F46) -> 0 | G65: =SUM($B46:G46) -> 0 | H65: =SUM($B46:H46) -> 0 | I65: =SUM($B46:I46) -> 0 | J65: =SUM($B46:J46) -> 0 | ... M65: =SUM($B46:M46) -> 0 | N65: =SUM($N46:N46) -> 4816.6879 | O65: =SUM($N46:O46) -> 9633.3758 | P65: =SUM($N46:P46) -> 14450.064 | Q65: =SUM($N46:Q46) -> 19266.752 | R65: =SUM($N46:R46) -> 24083.44 | S65: =SUM($N46:S46) -> 28900.127 | T65: =SUM($N46:T46) -> 33716.815 | U65: =SUM($N46:U46) -> 38533.503 | ... Y65: =SUM($N46:Y46) -> 57800.255 | Z65: =SUM($Z46:Z46) -> 4375 | AA65: =SUM($Z46:AA46) -> 8750 | AB65: =SUM($Z46:AB46) -> 13125 | AC65: =SUM($Z46:AC46) -> 17500 | AD65: =SUM($Z46:AD46) -> 21875 | AE65: =SUM($Z46:AE46) -> 26250 | AF65: =SUM($Z46:AF46) -> 30625 | AG65: =SUM($Z46:AG46) -> 35000 | ... AK65: =SUM($Z46:AK46) -> 52500 | AL65: =SUM($AL46:AL46) -> 4027.7778 | AM65: =SUM($AL46:AM46) -> 8055.5556 | AN65: =SUM($AL46:AN46) -> 12083.333 | AO65: =SUM($AL46:AO46) -> 16111.111 | AP65: =SUM($AL46:AP46) -> 20138.889 | AQ65: =SUM($AL46:AQ46) -> 24166.667 | AR65: =SUM($AL46:AR46) -> 28194.444 | AS65: =SUM($AL46:AS46) -> 32222.222 | ... AW65: =SUM($AL46:AW46) -> 48333.333 | AX65: =SUM($AX46:AX46) -> 0 | AY65: =SUM($AX46:AY46) -> 0 | AZ65: =SUM($AX46:AZ46) -> 0 | BA65: =SUM($AX46:BA46) -> 0 | BB65: =SUM($AX46:BB46) -> 0 | BC65: =SUM($AX46:BC46) -> 0 | BD65: =SUM($AX46:BD46) -> 0 | BE65: =SUM($AX46:BE46) -> 0 | ... BI65: =SUM($AX46:BI46) -> 0 | BJ65: =SUM($BJ46:BJ46) -> 0 | BK65: =SUM($BJ46:BK46) -> 0 | BL65: =SUM($BJ46:BL46) -> 0 | BM65: =SUM($BJ46:BM46) -> 0 | BN65: =SUM($BJ46:BN46) -> 0 | BO65: =SUM($BJ46:BO46) -> 0 | BP65: =SUM($BJ46:BP46) -> 0 | BQ65: =SUM($BJ46:BQ46) -> 0 | ... BU65: =SUM($BJ46:BU46) -> 0 | BV65: =SUM($BV46:BV46) -> 0 | BW65: =SUM($BV46:BW46) -> 0 | BX65: =SUM($BV46:BX46) -> 0 | BY65: =SUM($BV46:BY46) -> 0 | BZ65: =SUM($BV46:BZ46) -> 0 | CA65: =SUM($BV46:CA46) -> 0 | CB65: =SUM($BV46:CB46) -> 0 | CC65: =SUM($BV46:CC46) -> 0 | ... CG65: =SUM($BV46:CG46) -> 0 | CH65: =SUM($CH46:CH46) -> 0 | CI65: =SUM($CH46:CI46) -> 0 | CJ65: =SUM($CH46:CJ46) -> 0 | CK65: =SUM($CH46:CK46) -> 0 | CL65: =SUM($CH46:CL46) -> 0 | CM65: =SUM($CH46:CM46) -> 0 | CN65: =SUM($CH46:CN46) -> 0 | CO65: =SUM($CH46:CO46) -> 0 | ... CS65: =SUM($CH46:CS46) -> 0 | CT65: =SUM($CT46:CT46) -> 0 | CU65: =SUM($CT46:CU46) -> 0 | CV65: =SUM($CT46:CV46) -> 0 | CW65: =SUM($CT46:CW46) -> 0 | CX65: =SUM($CT46:CX46) -> 0 | CY65: =SUM($CT46:CY46) -> 0 | CZ65: =SUM($CT46:CZ46) -> 0 | DA65: =SUM($CT46:DA46) -> 0 | ... DE65: =SUM($CT46:DE46) -> 0 | DF65: =SUM($DF46:DF46) -> 0 | DG65: =SUM($DF46:DG46) -> 0 | DH65: =SUM($DF46:DH46) -> 0 | DI65: =SUM($DF46:DI46) -> 0 | DJ65: =SUM($DF46:DJ46) -> 0 | DK65: =SUM($DF46:DK46) -> 0 | DL65: =SUM($DF46:DL46) -> 0 | DM65: =SUM($DF46:DM46) -> 0 | ... DQ65: =SUM($DF46:DQ46) -> 0 | DR65: =SUM($DR46:DR46) -> 0 | DS65: =SUM($DR46:DS46) -> 0 | DT65: =SUM($DR46:DT46) -> 0 | DU65: =SUM($DR46:DU46) -> 0 | DV65: =SUM($DR46:DV46) -> 0 | DW65: =SUM($DR46:DW46) -> 0 | DX65: =SUM($DR46:DX46) -> 0 | DY65: =SUM($DR46:DY46) -> 0 | ... EC65: =SUM($DR46:EC46) -> 0 | ED65: =SUM($ED46:ED46) -> 0 | EE65: =SUM($ED46:EE46) -> 0 | EF65: =SUM($ED46:EF46) -> 0 | EG65: =SUM($ED46:EG46) -> 0 | EH65: =SUM($ED46:EH46) -> 0 | EI65: =SUM($ED46:EI46) -> 0 | EJ65: =SUM($ED46:EJ46) -> 0 | EK65: =SUM($ED46:EK46) -> 0 | ... EO65: =SUM($ED46:EO46) -> 0 | EP65: =SUM($EP46:EP46) -> 0 | EQ65: =SUM($EP46:EQ46) -> 0 | ER65: =SUM($EP46:ER46) -> 0 | ES65: =SUM($EP46:ES46) -> 0 | ET65: =SUM($EP46:ET46) -> 0 | EU65: =SUM($EP46:EU46) -> 0 | EV65: =SUM($EP46:EV46) -> 0 | EW65: =SUM($EP46:EW46) -> 0 | ... FA65: =SUM($EP46:FA46) -> 0 | FB65: =SUM($FB46:FB46) -> 0 | FC65: =SUM($FB46:FC46) -> 0 | FD65: =SUM($FB46:FD46) -> 0 | FE65: =SUM($FB46:FE46) -> 0 | FF65: =SUM($FB46:FF46) -> 0 | FG65: =SUM($FB46:FG46) -> 0 | FH65: =SUM($FB46:FH46) -> 0 | FI65: =SUM($FB46:FI46) -> 0 | ... FM65: =SUM($FB46:FM46) -> 0 | FN65: =SUM($FN46:FN46) -> 0 | FO65: =SUM($FN46:FO46) -> 0 | FP65: =SUM($FN46:FP46) -> 0 | FQ65: =SUM($FN46:FQ46) -> 0 | FR65: =SUM($FN46:FR46) -> 0 | FS65: =SUM($FN46:FS46) -> 0 | FT65: =SUM($FN46:FT46) -> 0 | FU65: =SUM($FN46:FU46) -> 0 | ... FY65: =SUM($FN46:FY46) -> 0 | FZ65: =SUM($FZ46:FZ46) -> 0 | GA65: =SUM($FZ46:GA46) -> 0 | GB65: =SUM($FZ46:GB46) -> 0 | GC65: =SUM($FZ46:GC46) -> 0 | GD65: =SUM($FZ46:GD46) -> 0 | GE65: =SUM($FZ46:GE46) -> 0 | GF65: =SUM($FZ46:GF46) -> 0 | GG65: =SUM($FZ46:GG46) -> 0 | ... GK65: =SUM($FZ46:GK46) -> 0 | GL65: =SUM($GL46:GL46) -> 0 | GM65: =SUM($GL46:GM46) -> 0 | GN65: =SUM($GL46:GN46) -> 0 | GO65: =SUM($GL46:GO46) -> 0 | GP65: =SUM($GL46:GP46) -> 0 | GQ65: =SUM($GL46:GQ46) -> 0 | GR65: =SUM($GL46:GR46) -> 0 | GS65: =SUM($GL46:GS46) -> 0 | ... GW65: =SUM($GL46:GW46) -> 0 | GX65: =SUM($GX46:GX46) -> 0 | GY65: =SUM($GX46:GY46) -> 0 | GZ65: =SUM($GX46:GZ46) -> 0 | HA65: =SUM($GX46:HA46) -> 0 | HB65: =SUM($GX46:HB46) -> 0 | HC65: =SUM($GX46:HC46) -> 0 | HD65: =SUM($GX46:HD46) -> 0 | HE65: =SUM($GX46:HE46) -> 0 | ... HI65: =SUM($GX46:HI46) -> 0 | HJ65: =SUM($HJ46:HJ46) -> 0 | HK65: =SUM($HJ46:HK46) -> 0 | HL65: =SUM($HJ46:HL46) -> 0 | HM65: =SUM($HJ46:HM46) -> 0 | HN65: =SUM($HJ46:HN46) -> 0 | HO65: =SUM($HJ46:HO46) -> 0 | HP65: =SUM($HJ46:HP46) -> 0 | HQ65: =SUM($HJ46:HQ46) -> 0 | ... HU65: =SUM($HJ46:HU46) -> 0 | HV65: =SUM($HV46:HV46) -> 0 | HW65: =SUM($HV46:HW46) -> 0 | HX65: =SUM($HV46:HX46) -> 0 | HY65: =SUM($HV46:HY46) -> 0 | HZ65: =SUM($HV46:HZ46) -> 0 | IA65: =SUM($HV46:IA46) -> 0 | IB65: =SUM($HV46:IB46) -> 0 | IC65: =SUM($HV46:IC46) -> 0 | ... IG65: =SUM($HV46:IG46) -> 0 | IH65: =SUM($IH46:IH46) -> 0 | II65: =SUM($IH46:II46) -> 0 | IJ65: =SUM($IH46:IJ46) -> 0 | IK65: =SUM($IH46:IK46) -> 0 | IL65: =SUM($IH46:IL46) -> 0 | IM65: =SUM($IH46:IM46) -> 0 | IN65: =SUM($IH46:IN46) -> 0 | IO65: =SUM($IH46:IO46) -> 0 | ... IS65: =SUM($IH46:IS46) -> 0 | IT65: =SUM($IT46:IT46) -> 0 | IU65: =SUM($IT46:IU46) -> 0 | IV65: =SUM($IT46:IV46) -> 0 | IW65: =SUM($IT46:IW46) -> 0 | IX65: =SUM($IT46:IX46) -> 0 | IY65: =SUM($IT46:IY46) -> 0 | IZ65: =SUM($IT46:IZ46) -> 0 | JA65: =SUM($IT46:JA46) -> 0 | ... JE65: =SUM($IT46:JE46) -> 0 | JF65: =SUM($JF46:JF46) -> 0 | JG65: =SUM($JF46:JG46) -> 0 | JH65: =SUM($JF46:JH46) -> 0 | JI65: =SUM($JF46:JI46) -> 0 | JJ65: =SUM($JF46:JJ46) -> 0 | JK65: =SUM($JF46:JK46) -> 0 | JL65: =SUM($JF46:JL46) -> 0 | JM65: =SUM($JF46:JM46) -> 0 | ... JQ65: =SUM($JF46:JQ46) -> 0
A66: EL JADIDA | B66: =SUM(B47:$B47) -> 0 | C66: =SUM($B47:C47) -> 0 | D66: =SUM($B47:D47) -> 0 | E66: =SUM($B47:E47) -> 0 | F66: =SUM($B47:F47) -> 0 | G66: =SUM($B47:G47) -> 0 | H66: =SUM($B47:H47) -> 0 | I66: =SUM($B47:I47) -> 0 | J66: =SUM($B47:J47) -> 0 | ... M66: =SUM($B47:M47) -> 0 | N66: =SUM($N47:N47) -> 3350 | O66: =SUM($N47:O47) -> 6700 | P66: =SUM($N47:P47) -> 10050 | Q66: =SUM($N47:Q47) -> 13400 | R66: =SUM($N47:R47) -> 16750 | S66: =SUM($N47:S47) -> 20100 | T66: =SUM($N47:T47) -> 23450 | U66: =SUM($N47:U47) -> 26800 | ... Y66: =SUM($N47:Y47) -> 40200 | Z66: =SUM($Z47:Z47) -> 3150 | AA66: =SUM($Z47:AA47) -> 6300 | AB66: =SUM($Z47:AB47) -> 9450 | AC66: =SUM($Z47:AC47) -> 12600 | AD66: =SUM($Z47:AD47) -> 15750 | AE66: =SUM($Z47:AE47) -> 18900 | AF66: =SUM($Z47:AF47) -> 22050 | AG66: =SUM($Z47:AG47) -> 25200 | ... AK66: =SUM($Z47:AK47) -> 37800 | AL66: =SUM($AL47:AL47) -> 2916.6667 | AM66: =SUM($AL47:AM47) -> 5833.3333 | AN66: =SUM($AL47:AN47) -> 8750 | AO66: =SUM($AL47:AO47) -> 11666.667 | AP66: =SUM($AL47:AP47) -> 14583.333 | AQ66: =SUM($AL47:AQ47) -> 17500 | AR66: =SUM($AL47:AR47) -> 20416.667 | AS66: =SUM($AL47:AS47) -> 23333.333 | ... AW66: =SUM($AL47:AW47) -> 35000 | AX66: =SUM($AX47:AX47) -> 0 | AY66: =SUM($AX47:AY47) -> 0 | AZ66: =SUM($AX47:AZ47) -> 0 | BA66: =SUM($AX47:BA47) -> 0 | BB66: =SUM($AX47:BB47) -> 0 | BC66: =SUM($AX47:BC47) -> 0 | BD66: =SUM($AX47:BD47) -> 0 | BE66: =SUM($AX47:BE47) -> 0 | ... BI66: =SUM($AX47:BI47) -> 0 | BJ66: =SUM($BJ47:BJ47) -> 0 | BK66: =SUM($BJ47:BK47) -> 0 | BL66: =SUM($BJ47:BL47) -> 0 | BM66: =SUM($BJ47:BM47) -> 0 | BN66: =SUM($BJ47:BN47) -> 0 | BO66: =SUM($BJ47:BO47) -> 0 | BP66: =SUM($BJ47:BP47) -> 0 | BQ66: =SUM($BJ47:BQ47) -> 0 | ... BU66: =SUM($BJ47:BU47) -> 0 | BV66: =SUM($BV47:BV47) -> 0 | BW66: =SUM($BV47:BW47) -> 0 | BX66: =SUM($BV47:BX47) -> 0 | BY66: =SUM($BV47:BY47) -> 0 | BZ66: =SUM($BV47:BZ47) -> 0 | CA66: =SUM($BV47:CA47) -> 0 | CB66: =SUM($BV47:CB47) -> 0 | CC66: =SUM($BV47:CC47) -> 0 | ... CG66: =SUM($BV47:CG47) -> 0 | CH66: =SUM($CH47:CH47) -> 0 | CI66: =SUM($CH47:CI47) -> 0 | CJ66: =SUM($CH47:CJ47) -> 0 | CK66: =SUM($CH47:CK47) -> 0 | CL66: =SUM($CH47:CL47) -> 0 | CM66: =SUM($CH47:CM47) -> 0 | CN66: =SUM($CH47:CN47) -> 0 | CO66: =SUM($CH47:CO47) -> 0 | ... CS66: =SUM($CH47:CS47) -> 0 | CT66: =SUM($CT47:CT47) -> 0 | CU66: =SUM($CT47:CU47) -> 0 | CV66: =SUM($CT47:CV47) -> 0 | CW66: =SUM($CT47:CW47) -> 0 | CX66: =SUM($CT47:CX47) -> 0 | CY66: =SUM($CT47:CY47) -> 0 | CZ66: =SUM($CT47:CZ47) -> 0 | DA66: =SUM($CT47:DA47) -> 0 | ... DE66: =SUM($CT47:DE47) -> 0 | DF66: =SUM($DF47:DF47) -> 0 | DG66: =SUM($DF47:DG47) -> 0 | DH66: =SUM($DF47:DH47) -> 0 | DI66: =SUM($DF47:DI47) -> 0 | DJ66: =SUM($DF47:DJ47) -> 0 | DK66: =SUM($DF47:DK47) -> 0 | DL66: =SUM($DF47:DL47) -> 0 | DM66: =SUM($DF47:DM47) -> 0 | ... DQ66: =SUM($DF47:DQ47) -> 0 | DR66: =SUM($DR47:DR47) -> 0 | DS66: =SUM($DR47:DS47) -> 0 | DT66: =SUM($DR47:DT47) -> 0 | DU66: =SUM($DR47:DU47) -> 0 | DV66: =SUM($DR47:DV47) -> 0 | DW66: =SUM($DR47:DW47) -> 0 | DX66: =SUM($DR47:DX47) -> 0 | DY66: =SUM($DR47:DY47) -> 0 | ... EC66: =SUM($DR47:EC47) -> 0 | ED66: =SUM($ED47:ED47) -> 0 | EE66: =SUM($ED47:EE47) -> 0 | EF66: =SUM($ED47:EF47) -> 0 | EG66: =SUM($ED47:EG47) -> 0 | EH66: =SUM($ED47:EH47) -> 0 | EI66: =SUM($ED47:EI47) -> 0 | EJ66: =SUM($ED47:EJ47) -> 0 | EK66: =SUM($ED47:EK47) -> 0 | ... EO66: =SUM($ED47:EO47) -> 0 | EP66: =SUM($EP47:EP47) -> 0 | EQ66: =SUM($EP47:EQ47) -> 0 | ER66: =SUM($EP47:ER47) -> 0 | ES66: =SUM($EP47:ES47) -> 0 | ET66: =SUM($EP47:ET47) -> 0 | EU66: =SUM($EP47:EU47) -> 0 | EV66: =SUM($EP47:EV47) -> 0 | EW66: =SUM($EP47:EW47) -> 0 | ... FA66: =SUM($EP47:FA47) -> 0 | FB66: =SUM($FB47:FB47) -> 0 | FC66: =SUM($FB47:FC47) -> 0 | FD66: =SUM($FB47:FD47) -> 0 | FE66: =SUM($FB47:FE47) -> 0 | FF66: =SUM($FB47:FF47) -> 0 | FG66: =SUM($FB47:FG47) -> 0 | FH66: =SUM($FB47:FH47) -> 0 | FI66: =SUM($FB47:FI47) -> 0 | ... FM66: =SUM($FB47:FM47) -> 0 | FN66: =SUM($FN47:FN47) -> 0 | FO66: =SUM($FN47:FO47) -> 0 | FP66: =SUM($FN47:FP47) -> 0 | FQ66: =SUM($FN47:FQ47) -> 0 | FR66: =SUM($FN47:FR47) -> 0 | FS66: =SUM($FN47:FS47) -> 0 | FT66: =SUM($FN47:FT47) -> 0 | FU66: =SUM($FN47:FU47) -> 0 | ... FY66: =SUM($FN47:FY47) -> 0 | FZ66: =SUM($FZ47:FZ47) -> 0 | GA66: =SUM($FZ47:GA47) -> 0 | GB66: =SUM($FZ47:GB47) -> 0 | GC66: =SUM($FZ47:GC47) -> 0 | GD66: =SUM($FZ47:GD47) -> 0 | GE66: =SUM($FZ47:GE47) -> 0 | GF66: =SUM($FZ47:GF47) -> 0 | GG66: =SUM($FZ47:GG47) -> 0 | ... GK66: =SUM($FZ47:GK47) -> 0 | GL66: =SUM($GL47:GL47) -> 0 | GM66: =SUM($GL47:GM47) -> 0 | GN66: =SUM($GL47:GN47) -> 0 | GO66: =SUM($GL47:GO47) -> 0 | GP66: =SUM($GL47:GP47) -> 0 | GQ66: =SUM($GL47:GQ47) -> 0 | GR66: =SUM($GL47:GR47) -> 0 | GS66: =SUM($GL47:GS47) -> 0 | ... GW66: =SUM($GL47:GW47) -> 0 | GX66: =SUM($GX47:GX47) -> 0 | GY66: =SUM($GX47:GY47) -> 0 | GZ66: =SUM($GX47:GZ47) -> 0 | HA66: =SUM($GX47:HA47) -> 0 | HB66: =SUM($GX47:HB47) -> 0 | HC66: =SUM($GX47:HC47) -> 0 | HD66: =SUM($GX47:HD47) -> 0 | HE66: =SUM($GX47:HE47) -> 0 | ... HI66: =SUM($GX47:HI47) -> 0 | HJ66: =SUM($HJ47:HJ47) -> 0 | HK66: =SUM($HJ47:HK47) -> 0 | HL66: =SUM($HJ47:HL47) -> 0 | HM66: =SUM($HJ47:HM47) -> 0 | HN66: =SUM($HJ47:HN47) -> 0 | HO66: =SUM($HJ47:HO47) -> 0 | HP66: =SUM($HJ47:HP47) -> 0 | HQ66: =SUM($HJ47:HQ47) -> 0 | ... HU66: =SUM($HJ47:HU47) -> 0 | HV66: =SUM($HV47:HV47) -> 0 | HW66: =SUM($HV47:HW47) -> 0 | HX66: =SUM($HV47:HX47) -> 0 | HY66: =SUM($HV47:HY47) -> 0 | HZ66: =SUM($HV47:HZ47) -> 0 | IA66: =SUM($HV47:IA47) -> 0 | IB66: =SUM($HV47:IB47) -> 0 | IC66: =SUM($HV47:IC47) -> 0 | ... IG66: =SUM($HV47:IG47) -> 0 | IH66: =SUM($IH47:IH47) -> 0 | II66: =SUM($IH47:II47) -> 0 | IJ66: =SUM($IH47:IJ47) -> 0 | IK66: =SUM($IH47:IK47) -> 0 | IL66: =SUM($IH47:IL47) -> 0 | IM66: =SUM($IH47:IM47) -> 0 | IN66: =SUM($IH47:IN47) -> 0 | IO66: =SUM($IH47:IO47) -> 0 | ... IS66: =SUM($IH47:IS47) -> 0 | IT66: =SUM($IT47:IT47) -> 0 | IU66: =SUM($IT47:IU47) -> 0 | IV66: =SUM($IT47:IV47) -> 0 | IW66: =SUM($IT47:IW47) -> 0 | IX66: =SUM($IT47:IX47) -> 0 | IY66: =SUM($IT47:IY47) -> 0 | IZ66: =SUM($IT47:IZ47) -> 0 | JA66: =SUM($IT47:JA47) -> 0 | ... JE66: =SUM($IT47:JE47) -> 0 | JF66: =SUM($JF47:JF47) -> 0 | JG66: =SUM($JF47:JG47) -> 0 | JH66: =SUM($JF47:JH47) -> 0 | JI66: =SUM($JF47:JI47) -> 0 | JJ66: =SUM($JF47:JJ47) -> 0 | JK66: =SUM($JF47:JK47) -> 0 | JL66: =SUM($JF47:JL47) -> 0 | JM66: =SUM($JF47:JM47) -> 0 | ... JQ66: =SUM($JF47:JQ47) -> 0
A67: FES | B67: =SUM(B48:$B48) -> 0 | C67: =SUM($B48:C48) -> 0 | D67: =SUM($B48:D48) -> 0 | E67: =SUM($B48:E48) -> 0 | F67: =SUM($B48:F48) -> 0 | G67: =SUM($B48:G48) -> 0 | H67: =SUM($B48:H48) -> 0 | I67: =SUM($B48:I48) -> 0 | J67: =SUM($B48:J48) -> 0 | ... M67: =SUM($B48:M48) -> 0 | N67: =SUM($N48:N48) -> 2623.711 | O67: =SUM($N48:O48) -> 5247.4221 | P67: =SUM($N48:P48) -> 7871.1331 | Q67: =SUM($N48:Q48) -> 10494.844 | R67: =SUM($N48:R48) -> 13118.555 | S67: =SUM($N48:S48) -> 15742.266 | T67: =SUM($N48:T48) -> 18365.977 | U67: =SUM($N48:U48) -> 20989.688 | ... Y67: =SUM($N48:Y48) -> 31484.532 | Z67: =SUM($Z48:Z48) -> 2333.3333 | AA67: =SUM($Z48:AA48) -> 4666.6667 | AB67: =SUM($Z48:AB48) -> 7000 | AC67: =SUM($Z48:AC48) -> 9333.3333 | AD67: =SUM($Z48:AD48) -> 11666.667 | AE67: =SUM($Z48:AE48) -> 14000 | AF67: =SUM($Z48:AF48) -> 16333.333 | AG67: =SUM($Z48:AG48) -> 18666.667 | ... AK67: =SUM($Z48:AK48) -> 28000 | AL67: =SUM($AL48:AL48) -> 2256.9444 | AM67: =SUM($AL48:AM48) -> 4513.8889 | AN67: =SUM($AL48:AN48) -> 6770.8333 | AO67: =SUM($AL48:AO48) -> 9027.7778 | AP67: =SUM($AL48:AP48) -> 11284.722 | AQ67: =SUM($AL48:AQ48) -> 13541.667 | AR67: =SUM($AL48:AR48) -> 15798.611 | AS67: =SUM($AL48:AS48) -> 18055.556 | ... AW67: =SUM($AL48:AW48) -> 27083.333 | AX67: =SUM($AX48:AX48) -> 0 | AY67: =SUM($AX48:AY48) -> 0 | AZ67: =SUM($AX48:AZ48) -> 0 | BA67: =SUM($AX48:BA48) -> 0 | BB67: =SUM($AX48:BB48) -> 0 | BC67: =SUM($AX48:BC48) -> 0 | BD67: =SUM($AX48:BD48) -> 0 | BE67: =SUM($AX48:BE48) -> 0 | ... BI67: =SUM($AX48:BI48) -> 0 | BJ67: =SUM($BJ48:BJ48) -> 0 | BK67: =SUM($BJ48:BK48) -> 0 | BL67: =SUM($BJ48:BL48) -> 0 | BM67: =SUM($BJ48:BM48) -> 0 | BN67: =SUM($BJ48:BN48) -> 0 | BO67: =SUM($BJ48:BO48) -> 0 | BP67: =SUM($BJ48:BP48) -> 0 | BQ67: =SUM($BJ48:BQ48) -> 0 | ... BU67: =SUM($BJ48:BU48) -> 0 | BV67: =SUM($BV48:BV48) -> 0 | BW67: =SUM($BV48:BW48) -> 0 | BX67: =SUM($BV48:BX48) -> 0 | BY67: =SUM($BV48:BY48) -> 0 | BZ67: =SUM($BV48:BZ48) -> 0 | CA67: =SUM($BV48:CA48) -> 0 | CB67: =SUM($BV48:CB48) -> 0 | CC67: =SUM($BV48:CC48) -> 0 | ... CG67: =SUM($BV48:CG48) -> 0 | CH67: =SUM($CH48:CH48) -> 0 | CI67: =SUM($CH48:CI48) -> 0 | CJ67: =SUM($CH48:CJ48) -> 0 | CK67: =SUM($CH48:CK48) -> 0 | CL67: =SUM($CH48:CL48) -> 0 | CM67: =SUM($CH48:CM48) -> 0 | CN67: =SUM($CH48:CN48) -> 0 | CO67: =SUM($CH48:CO48) -> 0 | ... CS67: =SUM($CH48:CS48) -> 0 | CT67: =SUM($CT48:CT48) -> 0 | CU67: =SUM($CT48:CU48) -> 0 | CV67: =SUM($CT48:CV48) -> 0 | CW67: =SUM($CT48:CW48) -> 0 | CX67: =SUM($CT48:CX48) -> 0 | CY67: =SUM($CT48:CY48) -> 0 | CZ67: =SUM($CT48:CZ48) -> 0 | DA67: =SUM($CT48:DA48) -> 0 | ... DE67: =SUM($CT48:DE48) -> 0 | DF67: =SUM($DF48:DF48) -> 0 | DG67: =SUM($DF48:DG48) -> 0 | DH67: =SUM($DF48:DH48) -> 0 | DI67: =SUM($DF48:DI48) -> 0 | DJ67: =SUM($DF48:DJ48) -> 0 | DK67: =SUM($DF48:DK48) -> 0 | DL67: =SUM($DF48:DL48) -> 0 | DM67: =SUM($DF48:DM48) -> 0 | ... DQ67: =SUM($DF48:DQ48) -> 0 | DR67: =SUM($DR48:DR48) -> 0 | DS67: =SUM($DR48:DS48) -> 0 | DT67: =SUM($DR48:DT48) -> 0 | DU67: =SUM($DR48:DU48) -> 0 | DV67: =SUM($DR48:DV48) -> 0 | DW67: =SUM($DR48:DW48) -> 0 | DX67: =SUM($DR48:DX48) -> 0 | DY67: =SUM($DR48:DY48) -> 0 | ... EC67: =SUM($DR48:EC48) -> 0 | ED67: =SUM($ED48:ED48) -> 0 | EE67: =SUM($ED48:EE48) -> 0 | EF67: =SUM($ED48:EF48) -> 0 | EG67: =SUM($ED48:EG48) -> 0 | EH67: =SUM($ED48:EH48) -> 0 | EI67: =SUM($ED48:EI48) -> 0 | EJ67: =SUM($ED48:EJ48) -> 0 | EK67: =SUM($ED48:EK48) -> 0 | ... EO67: =SUM($ED48:EO48) -> 0 | EP67: =SUM($EP48:EP48) -> 0 | EQ67: =SUM($EP48:EQ48) -> 0 | ER67: =SUM($EP48:ER48) -> 0 | ES67: =SUM($EP48:ES48) -> 0 | ET67: =SUM($EP48:ET48) -> 0 | EU67: =SUM($EP48:EU48) -> 0 | EV67: =SUM($EP48:EV48) -> 0 | EW67: =SUM($EP48:EW48) -> 0 | ... FA67: =SUM($EP48:FA48) -> 0 | FB67: =SUM($FB48:FB48) -> 0 | FC67: =SUM($FB48:FC48) -> 0 | FD67: =SUM($FB48:FD48) -> 0 | FE67: =SUM($FB48:FE48) -> 0 | FF67: =SUM($FB48:FF48) -> 0 | FG67: =SUM($FB48:FG48) -> 0 | FH67: =SUM($FB48:FH48) -> 0 | FI67: =SUM($FB48:FI48) -> 0 | ... FM67: =SUM($FB48:FM48) -> 0 | FN67: =SUM($FN48:FN48) -> 0 | FO67: =SUM($FN48:FO48) -> 0 | FP67: =SUM($FN48:FP48) -> 0 | FQ67: =SUM($FN48:FQ48) -> 0 | FR67: =SUM($FN48:FR48) -> 0 | FS67: =SUM($FN48:FS48) -> 0 | FT67: =SUM($FN48:FT48) -> 0 | FU67: =SUM($FN48:FU48) -> 0 | ... FY67: =SUM($FN48:FY48) -> 0 | FZ67: =SUM($FZ48:FZ48) -> 0 | GA67: =SUM($FZ48:GA48) -> 0 | GB67: =SUM($FZ48:GB48) -> 0 | GC67: =SUM($FZ48:GC48) -> 0 | GD67: =SUM($FZ48:GD48) -> 0 | GE67: =SUM($FZ48:GE48) -> 0 | GF67: =SUM($FZ48:GF48) -> 0 | GG67: =SUM($FZ48:GG48) -> 0 | ... GK67: =SUM($FZ48:GK48) -> 0 | GL67: =SUM($GL48:GL48) -> 0 | GM67: =SUM($GL48:GM48) -> 0 | GN67: =SUM($GL48:GN48) -> 0 | GO67: =SUM($GL48:GO48) -> 0 | GP67: =SUM($GL48:GP48) -> 0 | GQ67: =SUM($GL48:GQ48) -> 0 | GR67: =SUM($GL48:GR48) -> 0 | GS67: =SUM($GL48:GS48) -> 0 | ... GW67: =SUM($GL48:GW48) -> 0 | GX67: =SUM($GX48:GX48) -> 0 | GY67: =SUM($GX48:GY48) -> 0 | GZ67: =SUM($GX48:GZ48) -> 0 | HA67: =SUM($GX48:HA48) -> 0 | HB67: =SUM($GX48:HB48) -> 0 | HC67: =SUM($GX48:HC48) -> 0 | HD67: =SUM($GX48:HD48) -> 0 | HE67: =SUM($GX48:HE48) -> 0 | ... HI67: =SUM($GX48:HI48) -> 0 | HJ67: =SUM($HJ48:HJ48) -> 0 | HK67: =SUM($HJ48:HK48) -> 0 | HL67: =SUM($HJ48:HL48) -> 0 | HM67: =SUM($HJ48:HM48) -> 0 | HN67: =SUM($HJ48:HN48) -> 0 | HO67: =SUM($HJ48:HO48) -> 0 | HP67: =SUM($HJ48:HP48) -> 0 | HQ67: =SUM($HJ48:HQ48) -> 0 | ... HU67: =SUM($HJ48:HU48) -> 0 | HV67: =SUM($HV48:HV48) -> 0 | HW67: =SUM($HV48:HW48) -> 0 | HX67: =SUM($HV48:HX48) -> 0 | HY67: =SUM($HV48:HY48) -> 0 | HZ67: =SUM($HV48:HZ48) -> 0 | IA67: =SUM($HV48:IA48) -> 0 | IB67: =SUM($HV48:IB48) -> 0 | IC67: =SUM($HV48:IC48) -> 0 | ... IG67: =SUM($HV48:IG48) -> 0 | IH67: =SUM($IH48:IH48) -> 0 | II67: =SUM($IH48:II48) -> 0 | IJ67: =SUM($IH48:IJ48) -> 0 | IK67: =SUM($IH48:IK48) -> 0 | IL67: =SUM($IH48:IL48) -> 0 | IM67: =SUM($IH48:IM48) -> 0 | IN67: =SUM($IH48:IN48) -> 0 | IO67: =SUM($IH48:IO48) -> 0 | ... IS67: =SUM($IH48:IS48) -> 0 | IT67: =SUM($IT48:IT48) -> 0 | IU67: =SUM($IT48:IU48) -> 0 | IV67: =SUM($IT48:IV48) -> 0 | IW67: =SUM($IT48:IW48) -> 0 | IX67: =SUM($IT48:IX48) -> 0 | IY67: =SUM($IT48:IY48) -> 0 | IZ67: =SUM($IT48:IZ48) -> 0 | JA67: =SUM($IT48:JA48) -> 0 | ... JE67: =SUM($IT48:JE48) -> 0 | JF67: =SUM($JF48:JF48) -> 0 | JG67: =SUM($JF48:JG48) -> 0 | JH67: =SUM($JF48:JH48) -> 0 | JI67: =SUM($JF48:JI48) -> 0 | JJ67: =SUM($JF48:JJ48) -> 0 | JK67: =SUM($JF48:JK48) -> 0 | JL67: =SUM($JF48:JL48) -> 0 | JM67: =SUM($JF48:JM48) -> 0 | ... JQ67: =SUM($JF48:JQ48) -> 0
A68: LAAYOUNE | B68: =SUM(B49:$B49) -> 0 | C68: =SUM($B49:C49) -> 0 | D68: =SUM($B49:D49) -> 0 | E68: =SUM($B49:E49) -> 0 | F68: =SUM($B49:F49) -> 0 | G68: =SUM($B49:G49) -> 0 | H68: =SUM($B49:H49) -> 0 | I68: =SUM($B49:I49) -> 0 | J68: =SUM($B49:J49) -> 0 | ... M68: =SUM($B49:M49) -> 0 | N68: =SUM($N49:N49) -> 583.33333 | O68: =SUM($N49:O49) -> 1166.6667 | P68: =SUM($N49:P49) -> 1750 | Q68: =SUM($N49:Q49) -> 2333.3333 | R68: =SUM($N49:R49) -> 2916.6667 | S68: =SUM($N49:S49) -> 3500 | T68: =SUM($N49:T49) -> 4083.3333 | U68: =SUM($N49:U49) -> 4666.6667 | ... Y68: =SUM($N49:Y49) -> 7000 | Z68: =SUM($Z49:Z49) -> 504.16667 | AA68: =SUM($Z49:AA49) -> 1008.3333 | AB68: =SUM($Z49:AB49) -> 1512.5 | AC68: =SUM($Z49:AC49) -> 2016.6667 | AD68: =SUM($Z49:AD49) -> 2520.8333 | AE68: =SUM($Z49:AE49) -> 3025 | AF68: =SUM($Z49:AF49) -> 3529.1667 | AG68: =SUM($Z49:AG49) -> 4033.3333 | ... AK68: =SUM($Z49:AK49) -> 6050 | AL68: =SUM($AL49:AL49) -> 694.44444 | AM68: =SUM($AL49:AM49) -> 1388.8889 | AN68: =SUM($AL49:AN49) -> 2083.3333 | AO68: =SUM($AL49:AO49) -> 2777.7778 | AP68: =SUM($AL49:AP49) -> 3472.2222 | AQ68: =SUM($AL49:AQ49) -> 4166.6667 | AR68: =SUM($AL49:AR49) -> 4861.1111 | AS68: =SUM($AL49:AS49) -> 5555.5556 | ... AW68: =SUM($AL49:AW49) -> 8333.3333 | AX68: =SUM($AX49:AX49) -> 0 | AY68: =SUM($AX49:AY49) -> 0 | AZ68: =SUM($AX49:AZ49) -> 0 | BA68: =SUM($AX49:BA49) -> 0 | BB68: =SUM($AX49:BB49) -> 0 | BC68: =SUM($AX49:BC49) -> 0 | BD68: =SUM($AX49:BD49) -> 0 | BE68: =SUM($AX49:BE49) -> 0 | ... BI68: =SUM($AX49:BI49) -> 0 | BJ68: =SUM($BJ49:BJ49) -> 0 | BK68: =SUM($BJ49:BK49) -> 0 | BL68: =SUM($BJ49:BL49) -> 0 | BM68: =SUM($BJ49:BM49) -> 0 | BN68: =SUM($BJ49:BN49) -> 0 | BO68: =SUM($BJ49:BO49) -> 0 | BP68: =SUM($BJ49:BP49) -> 0 | BQ68: =SUM($BJ49:BQ49) -> 0 | ... BU68: =SUM($BJ49:BU49) -> 0 | BV68: =SUM($BV49:BV49) -> 0 | BW68: =SUM($BV49:BW49) -> 0 | BX68: =SUM($BV49:BX49) -> 0 | BY68: =SUM($BV49:BY49) -> 0 | BZ68: =SUM($BV49:BZ49) -> 0 | CA68: =SUM($BV49:CA49) -> 0 | CB68: =SUM($BV49:CB49) -> 0 | CC68: =SUM($BV49:CC49) -> 0 | ... CG68: =SUM($BV49:CG49) -> 0 | CH68: =SUM($CH49:CH49) -> 0 | CI68: =SUM($CH49:CI49) -> 0 | CJ68: =SUM($CH49:CJ49) -> 0 | CK68: =SUM($CH49:CK49) -> 0 | CL68: =SUM($CH49:CL49) -> 0 | CM68: =SUM($CH49:CM49) -> 0 | CN68: =SUM($CH49:CN49) -> 0 | CO68: =SUM($CH49:CO49) -> 0 | ... CS68: =SUM($CH49:CS49) -> 0 | CT68: =SUM($CT49:CT49) -> 0 | CU68: =SUM($CT49:CU49) -> 0 | CV68: =SUM($CT49:CV49) -> 0 | CW68: =SUM($CT49:CW49) -> 0 | CX68: =SUM($CT49:CX49) -> 0 | CY68: =SUM($CT49:CY49) -> 0 | CZ68: =SUM($CT49:CZ49) -> 0 | DA68: =SUM($CT49:DA49) -> 0 | ... DE68: =SUM($CT49:DE49) -> 0 | DF68: =SUM($DF49:DF49) -> 0 | DG68: =SUM($DF49:DG49) -> 0 | DH68: =SUM($DF49:DH49) -> 0 | DI68: =SUM($DF49:DI49) -> 0 | DJ68: =SUM($DF49:DJ49) -> 0 | DK68: =SUM($DF49:DK49) -> 0 | DL68: =SUM($DF49:DL49) -> 0 | DM68: =SUM($DF49:DM49) -> 0 | ... DQ68: =SUM($DF49:DQ49) -> 0 | DR68: =SUM($DR49:DR49) -> 0 | DS68: =SUM($DR49:DS49) -> 0 | DT68: =SUM($DR49:DT49) -> 0 | DU68: =SUM($DR49:DU49) -> 0 | DV68: =SUM($DR49:DV49) -> 0 | DW68: =SUM($DR49:DW49) -> 0 | DX68: =SUM($DR49:DX49) -> 0 | DY68: =SUM($DR49:DY49) -> 0 | ... EC68: =SUM($DR49:EC49) -> 0 | ED68: =SUM($ED49:ED49) -> 0 | EE68: =SUM($ED49:EE49) -> 0 | EF68: =SUM($ED49:EF49) -> 0 | EG68: =SUM($ED49:EG49) -> 0 | EH68: =SUM($ED49:EH49) -> 0 | EI68: =SUM($ED49:EI49) -> 0 | EJ68: =SUM($ED49:EJ49) -> 0 | EK68: =SUM($ED49:EK49) -> 0 | ... EO68: =SUM($ED49:EO49) -> 0 | EP68: =SUM($EP49:EP49) -> 0 | EQ68: =SUM($EP49:EQ49) -> 0 | ER68: =SUM($EP49:ER49) -> 0 | ES68: =SUM($EP49:ES49) -> 0 | ET68: =SUM($EP49:ET49) -> 0 | EU68: =SUM($EP49:EU49) -> 0 | EV68: =SUM($EP49:EV49) -> 0 | EW68: =SUM($EP49:EW49) -> 0 | ... FA68: =SUM($EP49:FA49) -> 0 | FB68: =SUM($FB49:FB49) -> 0 | FC68: =SUM($FB49:FC49) -> 0 | FD68: =SUM($FB49:FD49) -> 0 | FE68: =SUM($FB49:FE49) -> 0 | FF68: =SUM($FB49:FF49) -> 0 | FG68: =SUM($FB49:FG49) -> 0 | FH68: =SUM($FB49:FH49) -> 0 | FI68: =SUM($FB49:FI49) -> 0 | ... FM68: =SUM($FB49:FM49) -> 0 | FN68: =SUM($FN49:FN49) -> 0 | FO68: =SUM($FN49:FO49) -> 0 | FP68: =SUM($FN49:FP49) -> 0 | FQ68: =SUM($FN49:FQ49) -> 0 | FR68: =SUM($FN49:FR49) -> 0 | FS68: =SUM($FN49:FS49) -> 0 | FT68: =SUM($FN49:FT49) -> 0 | FU68: =SUM($FN49:FU49) -> 0 | ... FY68: =SUM($FN49:FY49) -> 0 | FZ68: =SUM($FZ49:FZ49) -> 0 | GA68: =SUM($FZ49:GA49) -> 0 | GB68: =SUM($FZ49:GB49) -> 0 | GC68: =SUM($FZ49:GC49) -> 0 | GD68: =SUM($FZ49:GD49) -> 0 | GE68: =SUM($FZ49:GE49) -> 0 | GF68: =SUM($FZ49:GF49) -> 0 | GG68: =SUM($FZ49:GG49) -> 0 | ... GK68: =SUM($FZ49:GK49) -> 0 | GL68: =SUM($GL49:GL49) -> 0 | GM68: =SUM($GL49:GM49) -> 0 | GN68: =SUM($GL49:GN49) -> 0 | GO68: =SUM($GL49:GO49) -> 0 | GP68: =SUM($GL49:GP49) -> 0 | GQ68: =SUM($GL49:GQ49) -> 0 | GR68: =SUM($GL49:GR49) -> 0 | GS68: =SUM($GL49:GS49) -> 0 | ... GW68: =SUM($GL49:GW49) -> 0 | GX68: =SUM($GX49:GX49) -> 0 | GY68: =SUM($GX49:GY49) -> 0 | GZ68: =SUM($GX49:GZ49) -> 0 | HA68: =SUM($GX49:HA49) -> 0 | HB68: =SUM($GX49:HB49) -> 0 | HC68: =SUM($GX49:HC49) -> 0 | HD68: =SUM($GX49:HD49) -> 0 | HE68: =SUM($GX49:HE49) -> 0 | ... HI68: =SUM($GX49:HI49) -> 0 | HJ68: =SUM($HJ49:HJ49) -> 0 | HK68: =SUM($HJ49:HK49) -> 0 | HL68: =SUM($HJ49:HL49) -> 0 | HM68: =SUM($HJ49:HM49) -> 0 | HN68: =SUM($HJ49:HN49) -> 0 | HO68: =SUM($HJ49:HO49) -> 0 | HP68: =SUM($HJ49:HP49) -> 0 | HQ68: =SUM($HJ49:HQ49) -> 0 | ... HU68: =SUM($HJ49:HU49) -> 0 | HV68: =SUM($HV49:HV49) -> 0 | HW68: =SUM($HV49:HW49) -> 0 | HX68: =SUM($HV49:HX49) -> 0 | HY68: =SUM($HV49:HY49) -> 0 | HZ68: =SUM($HV49:HZ49) -> 0 | IA68: =SUM($HV49:IA49) -> 0 | IB68: =SUM($HV49:IB49) -> 0 | IC68: =SUM($HV49:IC49) -> 0 | ... IG68: =SUM($HV49:IG49) -> 0 | IH68: =SUM($IH49:IH49) -> 0 | II68: =SUM($IH49:II49) -> 0 | IJ68: =SUM($IH49:IJ49) -> 0 | IK68: =SUM($IH49:IK49) -> 0 | IL68: =SUM($IH49:IL49) -> 0 | IM68: =SUM($IH49:IM49) -> 0 | IN68: =SUM($IH49:IN49) -> 0 | IO68: =SUM($IH49:IO49) -> 0 | ... IS68: =SUM($IH49:IS49) -> 0 | IT68: =SUM($IT49:IT49) -> 0 | IU68: =SUM($IT49:IU49) -> 0 | IV68: =SUM($IT49:IV49) -> 0 | IW68: =SUM($IT49:IW49) -> 0 | IX68: =SUM($IT49:IX49) -> 0 | IY68: =SUM($IT49:IY49) -> 0 | IZ68: =SUM($IT49:IZ49) -> 0 | JA68: =SUM($IT49:JA49) -> 0 | ... JE68: =SUM($IT49:JE49) -> 0 | JF68: =SUM($JF49:JF49) -> 0 | JG68: =SUM($JF49:JG49) -> 0 | JH68: =SUM($JF49:JH49) -> 0 | JI68: =SUM($JF49:JI49) -> 0 | JJ68: =SUM($JF49:JJ49) -> 0 | JK68: =SUM($JF49:JK49) -> 0 | JL68: =SUM($JF49:JL49) -> 0 | JM68: =SUM($JF49:JM49) -> 0 | ... JQ68: =SUM($JF49:JQ49) -> 0
A69: MARRAKECH | B69: =SUM(B50:$B50) -> 0 | C69: =SUM($B50:C50) -> 0 | D69: =SUM($B50:D50) -> 0 | E69: =SUM($B50:E50) -> 0 | F69: =SUM($B50:F50) -> 0 | G69: =SUM($B50:G50) -> 0 | H69: =SUM($B50:H50) -> 0 | I69: =SUM($B50:I50) -> 0 | J69: =SUM($B50:J50) -> 0 | ... M69: =SUM($B50:M50) -> 0 | N69: =SUM($N50:N50) -> 2780 | O69: =SUM($N50:O50) -> 5560 | P69: =SUM($N50:P50) -> 8340 | Q69: =SUM($N50:Q50) -> 11120 | R69: =SUM($N50:R50) -> 13900 | S69: =SUM($N50:S50) -> 16680 | T69: =SUM($N50:T50) -> 19460 | U69: =SUM($N50:U50) -> 22240 | ... Y69: =SUM($N50:Y50) -> 33360 | Z69: =SUM($Z50:Z50) -> 2625 | AA69: =SUM($Z50:AA50) -> 5250 | AB69: =SUM($Z50:AB50) -> 7875 | AC69: =SUM($Z50:AC50) -> 10500 | AD69: =SUM($Z50:AD50) -> 13125 | AE69: =SUM($Z50:AE50) -> 15750 | AF69: =SUM($Z50:AF50) -> 18375 | AG69: =SUM($Z50:AG50) -> 21000 | ... AK69: =SUM($Z50:AK50) -> 31500 | AL69: =SUM($AL50:AL50) -> 2430.5556 | AM69: =SUM($AL50:AM50) -> 4861.1111 | AN69: =SUM($AL50:AN50) -> 7291.6667 | AO69: =SUM($AL50:AO50) -> 9722.2222 | AP69: =SUM($AL50:AP50) -> 12152.778 | AQ69: =SUM($AL50:AQ50) -> 14583.333 | AR69: =SUM($AL50:AR50) -> 17013.889 | AS69: =SUM($AL50:AS50) -> 19444.444 | ... AW69: =SUM($AL50:AW50) -> 29166.667 | AX69: =SUM($AX50:AX50) -> 0 | AY69: =SUM($AX50:AY50) -> 0 | AZ69: =SUM($AX50:AZ50) -> 0 | BA69: =SUM($AX50:BA50) -> 0 | BB69: =SUM($AX50:BB50) -> 0 | BC69: =SUM($AX50:BC50) -> 0 | BD69: =SUM($AX50:BD50) -> 0 | BE69: =SUM($AX50:BE50) -> 0 | ... BI69: =SUM($AX50:BI50) -> 0 | BJ69: =SUM($BJ50:BJ50) -> 0 | BK69: =SUM($BJ50:BK50) -> 0 | BL69: =SUM($BJ50:BL50) -> 0 | BM69: =SUM($BJ50:BM50) -> 0 | BN69: =SUM($BJ50:BN50) -> 0 | BO69: =SUM($BJ50:BO50) -> 0 | BP69: =SUM($BJ50:BP50) -> 0 | BQ69: =SUM($BJ50:BQ50) -> 0 | ... BU69: =SUM($BJ50:BU50) -> 0 | BV69: =SUM($BV50:BV50) -> 0 | BW69: =SUM($BV50:BW50) -> 0 | BX69: =SUM($BV50:BX50) -> 0 | BY69: =SUM($BV50:BY50) -> 0 | BZ69: =SUM($BV50:BZ50) -> 0 | CA69: =SUM($BV50:CA50) -> 0 | CB69: =SUM($BV50:CB50) -> 0 | CC69: =SUM($BV50:CC50) -> 0 | ... CG69: =SUM($BV50:CG50) -> 0 | CH69: =SUM($CH50:CH50) -> 0 | CI69: =SUM($CH50:CI50) -> 0 | CJ69: =SUM($CH50:CJ50) -> 0 | CK69: =SUM($CH50:CK50) -> 0 | CL69: =SUM($CH50:CL50) -> 0 | CM69: =SUM($CH50:CM50) -> 0 | CN69: =SUM($CH50:CN50) -> 0 | CO69: =SUM($CH50:CO50) -> 0 | ... CS69: =SUM($CH50:CS50) -> 0 | CT69: =SUM($CT50:CT50) -> 0 | CU69: =SUM($CT50:CU50) -> 0 | CV69: =SUM($CT50:CV50) -> 0 | CW69: =SUM($CT50:CW50) -> 0 | CX69: =SUM($CT50:CX50) -> 0 | CY69: =SUM($CT50:CY50) -> 0 | CZ69: =SUM($CT50:CZ50) -> 0 | DA69: =SUM($CT50:DA50) -> 0 | ... DE69: =SUM($CT50:DE50) -> 0 | DF69: =SUM($DF50:DF50) -> 0 | DG69: =SUM($DF50:DG50) -> 0 | DH69: =SUM($DF50:DH50) -> 0 | DI69: =SUM($DF50:DI50) -> 0 | DJ69: =SUM($DF50:DJ50) -> 0 | DK69: =SUM($DF50:DK50) -> 0 | DL69: =SUM($DF50:DL50) -> 0 | DM69: =SUM($DF50:DM50) -> 0 | ... DQ69: =SUM($DF50:DQ50) -> 0 | DR69: =SUM($DR50:DR50) -> 0 | DS69: =SUM($DR50:DS50) -> 0 | DT69: =SUM($DR50:DT50) -> 0 | DU69: =SUM($DR50:DU50) -> 0 | DV69: =SUM($DR50:DV50) -> 0 | DW69: =SUM($DR50:DW50) -> 0 | DX69: =SUM($DR50:DX50) -> 0 | DY69: =SUM($DR50:DY50) -> 0 | ... EC69: =SUM($DR50:EC50) -> 0 | ED69: =SUM($ED50:ED50) -> 0 | EE69: =SUM($ED50:EE50) -> 0 | EF69: =SUM($ED50:EF50) -> 0 | EG69: =SUM($ED50:EG50) -> 0 | EH69: =SUM($ED50:EH50) -> 0 | EI69: =SUM($ED50:EI50) -> 0 | EJ69: =SUM($ED50:EJ50) -> 0 | EK69: =SUM($ED50:EK50) -> 0 | ... EO69: =SUM($ED50:EO50) -> 0 | EP69: =SUM($EP50:EP50) -> 0 | EQ69: =SUM($EP50:EQ50) -> 0 | ER69: =SUM($EP50:ER50) -> 0 | ES69: =SUM($EP50:ES50) -> 0 | ET69: =SUM($EP50:ET50) -> 0 | EU69: =SUM($EP50:EU50) -> 0 | EV69: =SUM($EP50:EV50) -> 0 | EW69: =SUM($EP50:EW50) -> 0 | ... FA69: =SUM($EP50:FA50) -> 0 | FB69: =SUM($FB50:FB50) -> 0 | FC69: =SUM($FB50:FC50) -> 0 | FD69: =SUM($FB50:FD50) -> 0 | FE69: =SUM($FB50:FE50) -> 0 | FF69: =SUM($FB50:FF50) -> 0 | FG69: =SUM($FB50:FG50) -> 0 | FH69: =SUM($FB50:FH50) -> 0 | FI69: =SUM($FB50:FI50) -> 0 | ... FM69: =SUM($FB50:FM50) -> 0 | FN69: =SUM($FN50:FN50) -> 0 | FO69: =SUM($FN50:FO50) -> 0 | FP69: =SUM($FN50:FP50) -> 0 | FQ69: =SUM($FN50:FQ50) -> 0 | FR69: =SUM($FN50:FR50) -> 0 | FS69: =SUM($FN50:FS50) -> 0 | FT69: =SUM($FN50:FT50) -> 0 | FU69: =SUM($FN50:FU50) -> 0 | ... FY69: =SUM($FN50:FY50) -> 0 | FZ69: =SUM($FZ50:FZ50) -> 0 | GA69: =SUM($FZ50:GA50) -> 0 | GB69: =SUM($FZ50:GB50) -> 0 | GC69: =SUM($FZ50:GC50) -> 0 | GD69: =SUM($FZ50:GD50) -> 0 | GE69: =SUM($FZ50:GE50) -> 0 | GF69: =SUM($FZ50:GF50) -> 0 | GG69: =SUM($FZ50:GG50) -> 0 | ... GK69: =SUM($FZ50:GK50) -> 0 | GL69: =SUM($GL50:GL50) -> 0 | GM69: =SUM($GL50:GM50) -> 0 | GN69: =SUM($GL50:GN50) -> 0 | GO69: =SUM($GL50:GO50) -> 0 | GP69: =SUM($GL50:GP50) -> 0 | GQ69: =SUM($GL50:GQ50) -> 0 | GR69: =SUM($GL50:GR50) -> 0 | GS69: =SUM($GL50:GS50) -> 0 | ... GW69: =SUM($GL50:GW50) -> 0 | GX69: =SUM($GX50:GX50) -> 0 | GY69: =SUM($GX50:GY50) -> 0 | GZ69: =SUM($GX50:GZ50) -> 0 | HA69: =SUM($GX50:HA50) -> 0 | HB69: =SUM($GX50:HB50) -> 0 | HC69: =SUM($GX50:HC50) -> 0 | HD69: =SUM($GX50:HD50) -> 0 | HE69: =SUM($GX50:HE50) -> 0 | ... HI69: =SUM($GX50:HI50) -> 0 | HJ69: =SUM($HJ50:HJ50) -> 0 | HK69: =SUM($HJ50:HK50) -> 0 | HL69: =SUM($HJ50:HL50) -> 0 | HM69: =SUM($HJ50:HM50) -> 0 | HN69: =SUM($HJ50:HN50) -> 0 | HO69: =SUM($HJ50:HO50) -> 0 | HP69: =SUM($HJ50:HP50) -> 0 | HQ69: =SUM($HJ50:HQ50) -> 0 | ... HU69: =SUM($HJ50:HU50) -> 0 | HV69: =SUM($HV50:HV50) -> 0 | HW69: =SUM($HV50:HW50) -> 0 | HX69: =SUM($HV50:HX50) -> 0 | HY69: =SUM($HV50:HY50) -> 0 | HZ69: =SUM($HV50:HZ50) -> 0 | IA69: =SUM($HV50:IA50) -> 0 | IB69: =SUM($HV50:IB50) -> 0 | IC69: =SUM($HV50:IC50) -> 0 | ... IG69: =SUM($HV50:IG50) -> 0 | IH69: =SUM($IH50:IH50) -> 0 | II69: =SUM($IH50:II50) -> 0 | IJ69: =SUM($IH50:IJ50) -> 0 | IK69: =SUM($IH50:IK50) -> 0 | IL69: =SUM($IH50:IL50) -> 0 | IM69: =SUM($IH50:IM50) -> 0 | IN69: =SUM($IH50:IN50) -> 0 | IO69: =SUM($IH50:IO50) -> 0 | ... IS69: =SUM($IH50:IS50) -> 0 | IT69: =SUM($IT50:IT50) -> 0 | IU69: =SUM($IT50:IU50) -> 0 | IV69: =SUM($IT50:IV50) -> 0 | IW69: =SUM($IT50:IW50) -> 0 | IX69: =SUM($IT50:IX50) -> 0 | IY69: =SUM($IT50:IY50) -> 0 | IZ69: =SUM($IT50:IZ50) -> 0 | JA69: =SUM($IT50:JA50) -> 0 | ... JE69: =SUM($IT50:JE50) -> 0 | JF69: =SUM($JF50:JF50) -> 0 | JG69: =SUM($JF50:JG50) -> 0 | JH69: =SUM($JF50:JH50) -> 0 | JI69: =SUM($JF50:JI50) -> 0 | JJ69: =SUM($JF50:JJ50) -> 0 | JK69: =SUM($JF50:JK50) -> 0 | JL69: =SUM($JF50:JL50) -> 0 | JM69: =SUM($JF50:JM50) -> 0 | ... JQ69: =SUM($JF50:JQ50) -> 0
A70: MEKNES | B70: =SUM(B51:$B51) -> 0 | C70: =SUM($B51:C51) -> 0 | D70: =SUM($B51:D51) -> 0 | E70: =SUM($B51:E51) -> 0 | F70: =SUM($B51:F51) -> 0 | G70: =SUM($B51:G51) -> 0 | H70: =SUM($B51:H51) -> 0 | I70: =SUM($B51:I51) -> 0 | J70: =SUM($B51:J51) -> 0 | ... M70: =SUM($B51:M51) -> 0 | N70: =SUM($N51:N51) -> 2942.3334 | O70: =SUM($N51:O51) -> 5884.6668 | P70: =SUM($N51:P51) -> 8827.0002 | Q70: =SUM($N51:Q51) -> 11769.334 | R70: =SUM($N51:R51) -> 14711.667 | S70: =SUM($N51:S51) -> 17654 | T70: =SUM($N51:T51) -> 20596.334 | U70: =SUM($N51:U51) -> 23538.667 | ... Y70: =SUM($N51:Y51) -> 35308.001 | Z70: =SUM($Z51:Z51) -> 2637.5 | AA70: =SUM($Z51:AA51) -> 5275 | AB70: =SUM($Z51:AB51) -> 7912.5 | AC70: =SUM($Z51:AC51) -> 10550 | AD70: =SUM($Z51:AD51) -> 13187.5 | AE70: =SUM($Z51:AE51) -> 15825 | AF70: =SUM($Z51:AF51) -> 18462.5 | AG70: =SUM($Z51:AG51) -> 21100 | ... AK70: =SUM($Z51:AK51) -> 31650 | AL70: =SUM($AL51:AL51) -> 2430.5556 | AM70: =SUM($AL51:AM51) -> 4861.1111 | AN70: =SUM($AL51:AN51) -> 7291.6667 | AO70: =SUM($AL51:AO51) -> 9722.2222 | AP70: =SUM($AL51:AP51) -> 12152.778 | AQ70: =SUM($AL51:AQ51) -> 14583.333 | AR70: =SUM($AL51:AR51) -> 17013.889 | AS70: =SUM($AL51:AS51) -> 19444.444 | ... AW70: =SUM($AL51:AW51) -> 29166.667 | AX70: =SUM($AX51:AX51) -> 0 | AY70: =SUM($AX51:AY51) -> 0 | AZ70: =SUM($AX51:AZ51) -> 0 | BA70: =SUM($AX51:BA51) -> 0 | BB70: =SUM($AX51:BB51) -> 0 | BC70: =SUM($AX51:BC51) -> 0 | BD70: =SUM($AX51:BD51) -> 0 | BE70: =SUM($AX51:BE51) -> 0 | ... BI70: =SUM($AX51:BI51) -> 0 | BJ70: =SUM($BJ51:BJ51) -> 0 | BK70: =SUM($BJ51:BK51) -> 0 | BL70: =SUM($BJ51:BL51) -> 0 | BM70: =SUM($BJ51:BM51) -> 0 | BN70: =SUM($BJ51:BN51) -> 0 | BO70: =SUM($BJ51:BO51) -> 0 | BP70: =SUM($BJ51:BP51) -> 0 | BQ70: =SUM($BJ51:BQ51) -> 0 | ... BU70: =SUM($BJ51:BU51) -> 0 | BV70: =SUM($BV51:BV51) -> 0 | BW70: =SUM($BV51:BW51) -> 0 | BX70: =SUM($BV51:BX51) -> 0 | BY70: =SUM($BV51:BY51) -> 0 | BZ70: =SUM($BV51:BZ51) -> 0 | CA70: =SUM($BV51:CA51) -> 0 | CB70: =SUM($BV51:CB51) -> 0 | CC70: =SUM($BV51:CC51) -> 0 | ... CG70: =SUM($BV51:CG51) -> 0 | CH70: =SUM($CH51:CH51) -> 0 | CI70: =SUM($CH51:CI51) -> 0 | CJ70: =SUM($CH51:CJ51) -> 0 | CK70: =SUM($CH51:CK51) -> 0 | CL70: =SUM($CH51:CL51) -> 0 | CM70: =SUM($CH51:CM51) -> 0 | CN70: =SUM($CH51:CN51) -> 0 | CO70: =SUM($CH51:CO51) -> 0 | ... CS70: =SUM($CH51:CS51) -> 0 | CT70: =SUM($CT51:CT51) -> 0 | CU70: =SUM($CT51:CU51) -> 0 | CV70: =SUM($CT51:CV51) -> 0 | CW70: =SUM($CT51:CW51) -> 0 | CX70: =SUM($CT51:CX51) -> 0 | CY70: =SUM($CT51:CY51) -> 0 | CZ70: =SUM($CT51:CZ51) -> 0 | DA70: =SUM($CT51:DA51) -> 0 | ... DE70: =SUM($CT51:DE51) -> 0 | DF70: =SUM($DF51:DF51) -> 0 | DG70: =SUM($DF51:DG51) -> 0 | DH70: =SUM($DF51:DH51) -> 0 | DI70: =SUM($DF51:DI51) -> 0 | DJ70: =SUM($DF51:DJ51) -> 0 | DK70: =SUM($DF51:DK51) -> 0 | DL70: =SUM($DF51:DL51) -> 0 | DM70: =SUM($DF51:DM51) -> 0 | ... DQ70: =SUM($DF51:DQ51) -> 0 | DR70: =SUM($DR51:DR51) -> 0 | DS70: =SUM($DR51:DS51) -> 0 | DT70: =SUM($DR51:DT51) -> 0 | DU70: =SUM($DR51:DU51) -> 0 | DV70: =SUM($DR51:DV51) -> 0 | DW70: =SUM($DR51:DW51) -> 0 | DX70: =SUM($DR51:DX51) -> 0 | DY70: =SUM($DR51:DY51) -> 0 | ... EC70: =SUM($DR51:EC51) -> 0 | ED70: =SUM($ED51:ED51) -> 0 | EE70: =SUM($ED51:EE51) -> 0 | EF70: =SUM($ED51:EF51) -> 0 | EG70: =SUM($ED51:EG51) -> 0 | EH70: =SUM($ED51:EH51) -> 0 | EI70: =SUM($ED51:EI51) -> 0 | EJ70: =SUM($ED51:EJ51) -> 0 | EK70: =SUM($ED51:EK51) -> 0 | ... EO70: =SUM($ED51:EO51) -> 0 | EP70: =SUM($EP51:EP51) -> 0 | EQ70: =SUM($EP51:EQ51) -> 0 | ER70: =SUM($EP51:ER51) -> 0 | ES70: =SUM($EP51:ES51) -> 0 | ET70: =SUM($EP51:ET51) -> 0 | EU70: =SUM($EP51:EU51) -> 0 | EV70: =SUM($EP51:EV51) -> 0 | EW70: =SUM($EP51:EW51) -> 0 | ... FA70: =SUM($EP51:FA51) -> 0 | FB70: =SUM($FB51:FB51) -> 0 | FC70: =SUM($FB51:FC51) -> 0 | FD70: =SUM($FB51:FD51) -> 0 | FE70: =SUM($FB51:FE51) -> 0 | FF70: =SUM($FB51:FF51) -> 0 | FG70: =SUM($FB51:FG51) -> 0 | FH70: =SUM($FB51:FH51) -> 0 | FI70: =SUM($FB51:FI51) -> 0 | ... FM70: =SUM($FB51:FM51) -> 0 | FN70: =SUM($FN51:FN51) -> 0 | FO70: =SUM($FN51:FO51) -> 0 | FP70: =SUM($FN51:FP51) -> 0 | FQ70: =SUM($FN51:FQ51) -> 0 | FR70: =SUM($FN51:FR51) -> 0 | FS70: =SUM($FN51:FS51) -> 0 | FT70: =SUM($FN51:FT51) -> 0 | FU70: =SUM($FN51:FU51) -> 0 | ... FY70: =SUM($FN51:FY51) -> 0 | FZ70: =SUM($FZ51:FZ51) -> 0 | GA70: =SUM($FZ51:GA51) -> 0 | GB70: =SUM($FZ51:GB51) -> 0 | GC70: =SUM($FZ51:GC51) -> 0 | GD70: =SUM($FZ51:GD51) -> 0 | GE70: =SUM($FZ51:GE51) -> 0 | GF70: =SUM($FZ51:GF51) -> 0 | GG70: =SUM($FZ51:GG51) -> 0 | ... GK70: =SUM($FZ51:GK51) -> 0 | GL70: =SUM($GL51:GL51) -> 0 | GM70: =SUM($GL51:GM51) -> 0 | GN70: =SUM($GL51:GN51) -> 0 | GO70: =SUM($GL51:GO51) -> 0 | GP70: =SUM($GL51:GP51) -> 0 | GQ70: =SUM($GL51:GQ51) -> 0 | GR70: =SUM($GL51:GR51) -> 0 | GS70: =SUM($GL51:GS51) -> 0 | ... GW70: =SUM($GL51:GW51) -> 0 | GX70: =SUM($GX51:GX51) -> 0 | GY70: =SUM($GX51:GY51) -> 0 | GZ70: =SUM($GX51:GZ51) -> 0 | HA70: =SUM($GX51:HA51) -> 0 | HB70: =SUM($GX51:HB51) -> 0 | HC70: =SUM($GX51:HC51) -> 0 | HD70: =SUM($GX51:HD51) -> 0 | HE70: =SUM($GX51:HE51) -> 0 | ... HI70: =SUM($GX51:HI51) -> 0 | HJ70: =SUM($HJ51:HJ51) -> 0 | HK70: =SUM($HJ51:HK51) -> 0 | HL70: =SUM($HJ51:HL51) -> 0 | HM70: =SUM($HJ51:HM51) -> 0 | HN70: =SUM($HJ51:HN51) -> 0 | HO70: =SUM($HJ51:HO51) -> 0 | HP70: =SUM($HJ51:HP51) -> 0 | HQ70: =SUM($HJ51:HQ51) -> 0 | ... HU70: =SUM($HJ51:HU51) -> 0 | HV70: =SUM($HV51:HV51) -> 0 | HW70: =SUM($HV51:HW51) -> 0 | HX70: =SUM($HV51:HX51) -> 0 | HY70: =SUM($HV51:HY51) -> 0 | HZ70: =SUM($HV51:HZ51) -> 0 | IA70: =SUM($HV51:IA51) -> 0 | IB70: =SUM($HV51:IB51) -> 0 | IC70: =SUM($HV51:IC51) -> 0 | ... IG70: =SUM($HV51:IG51) -> 0 | IH70: =SUM($IH51:IH51) -> 0 | II70: =SUM($IH51:II51) -> 0 | IJ70: =SUM($IH51:IJ51) -> 0 | IK70: =SUM($IH51:IK51) -> 0 | IL70: =SUM($IH51:IL51) -> 0 | IM70: =SUM($IH51:IM51) -> 0 | IN70: =SUM($IH51:IN51) -> 0 | IO70: =SUM($IH51:IO51) -> 0 | ... IS70: =SUM($IH51:IS51) -> 0 | IT70: =SUM($IT51:IT51) -> 0 | IU70: =SUM($IT51:IU51) -> 0 | IV70: =SUM($IT51:IV51) -> 0 | IW70: =SUM($IT51:IW51) -> 0 | IX70: =SUM($IT51:IX51) -> 0 | IY70: =SUM($IT51:IY51) -> 0 | IZ70: =SUM($IT51:IZ51) -> 0 | JA70: =SUM($IT51:JA51) -> 0 | ... JE70: =SUM($IT51:JE51) -> 0 | JF70: =SUM($JF51:JF51) -> 0 | JG70: =SUM($JF51:JG51) -> 0 | JH70: =SUM($JF51:JH51) -> 0 | JI70: =SUM($JF51:JI51) -> 0 | JJ70: =SUM($JF51:JJ51) -> 0 | JK70: =SUM($JF51:JK51) -> 0 | JL70: =SUM($JF51:JL51) -> 0 | JM70: =SUM($JF51:JM51) -> 0 | ... JQ70: =SUM($JF51:JQ51) -> 0
A71: OUJDA | B71: =SUM(B52:$B52) -> 0 | C71: =SUM($B52:C52) -> 0 | D71: =SUM($B52:D52) -> 0 | E71: =SUM($B52:E52) -> 0 | F71: =SUM($B52:F52) -> 0 | G71: =SUM($B52:G52) -> 0 | H71: =SUM($B52:H52) -> 0 | I71: =SUM($B52:I52) -> 0 | J71: =SUM($B52:J52) -> 0 | ... M71: =SUM($B52:M52) -> 0 | N71: =SUM($N52:N52) -> 2398.1059 | O71: =SUM($N52:O52) -> 4796.2118 | P71: =SUM($N52:P52) -> 7194.3177 | Q71: =SUM($N52:Q52) -> 9592.4236 | R71: =SUM($N52:R52) -> 11990.529 | S71: =SUM($N52:S52) -> 14388.635 | T71: =SUM($N52:T52) -> 16786.741 | U71: =SUM($N52:U52) -> 19184.847 | ... Y71: =SUM($N52:Y52) -> 28777.271 | Z71: =SUM($Z52:Z52) -> 2250 | AA71: =SUM($Z52:AA52) -> 4500 | AB71: =SUM($Z52:AB52) -> 6750 | AC71: =SUM($Z52:AC52) -> 9000 | AD71: =SUM($Z52:AD52) -> 11250 | AE71: =SUM($Z52:AE52) -> 13500 | AF71: =SUM($Z52:AF52) -> 15750 | AG71: =SUM($Z52:AG52) -> 18000 | ... AK71: =SUM($Z52:AK52) -> 27000 | AL71: =SUM($AL52:AL52) -> 2118.0556 | AM71: =SUM($AL52:AM52) -> 4236.1111 | AN71: =SUM($AL52:AN52) -> 6354.1667 | AO71: =SUM($AL52:AO52) -> 8472.2222 | AP71: =SUM($AL52:AP52) -> 10590.278 | AQ71: =SUM($AL52:AQ52) -> 12708.333 | AR71: =SUM($AL52:AR52) -> 14826.389 | AS71: =SUM($AL52:AS52) -> 16944.444 | ... AW71: =SUM($AL52:AW52) -> 25416.667 | AX71: =SUM($AX52:AX52) -> 0 | AY71: =SUM($AX52:AY52) -> 0 | AZ71: =SUM($AX52:AZ52) -> 0 | BA71: =SUM($AX52:BA52) -> 0 | BB71: =SUM($AX52:BB52) -> 0 | BC71: =SUM($AX52:BC52) -> 0 | BD71: =SUM($AX52:BD52) -> 0 | BE71: =SUM($AX52:BE52) -> 0 | ... BI71: =SUM($AX52:BI52) -> 0 | BJ71: =SUM($BJ52:BJ52) -> 0 | BK71: =SUM($BJ52:BK52) -> 0 | BL71: =SUM($BJ52:BL52) -> 0 | BM71: =SUM($BJ52:BM52) -> 0 | BN71: =SUM($BJ52:BN52) -> 0 | BO71: =SUM($BJ52:BO52) -> 0 | BP71: =SUM($BJ52:BP52) -> 0 | BQ71: =SUM($BJ52:BQ52) -> 0 | ... BU71: =SUM($BJ52:BU52) -> 0 | BV71: =SUM($BV52:BV52) -> 0 | BW71: =SUM($BV52:BW52) -> 0 | BX71: =SUM($BV52:BX52) -> 0 | BY71: =SUM($BV52:BY52) -> 0 | BZ71: =SUM($BV52:BZ52) -> 0 | CA71: =SUM($BV52:CA52) -> 0 | CB71: =SUM($BV52:CB52) -> 0 | CC71: =SUM($BV52:CC52) -> 0 | ... CG71: =SUM($BV52:CG52) -> 0 | CH71: =SUM($CH52:CH52) -> 0 | CI71: =SUM($CH52:CI52) -> 0 | CJ71: =SUM($CH52:CJ52) -> 0 | CK71: =SUM($CH52:CK52) -> 0 | CL71: =SUM($CH52:CL52) -> 0 | CM71: =SUM($CH52:CM52) -> 0 | CN71: =SUM($CH52:CN52) -> 0 | CO71: =SUM($CH52:CO52) -> 0 | ... CS71: =SUM($CH52:CS52) -> 0 | CT71: =SUM($CT52:CT52) -> 0 | CU71: =SUM($CT52:CU52) -> 0 | CV71: =SUM($CT52:CV52) -> 0 | CW71: =SUM($CT52:CW52) -> 0 | CX71: =SUM($CT52:CX52) -> 0 | CY71: =SUM($CT52:CY52) -> 0 | CZ71: =SUM($CT52:CZ52) -> 0 | DA71: =SUM($CT52:DA52) -> 0 | ... DE71: =SUM($CT52:DE52) -> 0 | DF71: =SUM($DF52:DF52) -> 0 | DG71: =SUM($DF52:DG52) -> 0 | DH71: =SUM($DF52:DH52) -> 0 | DI71: =SUM($DF52:DI52) -> 0 | DJ71: =SUM($DF52:DJ52) -> 0 | DK71: =SUM($DF52:DK52) -> 0 | DL71: =SUM($DF52:DL52) -> 0 | DM71: =SUM($DF52:DM52) -> 0 | ... DQ71: =SUM($DF52:DQ52) -> 0 | DR71: =SUM($DR52:DR52) -> 0 | DS71: =SUM($DR52:DS52) -> 0 | DT71: =SUM($DR52:DT52) -> 0 | DU71: =SUM($DR52:DU52) -> 0 | DV71: =SUM($DR52:DV52) -> 0 | DW71: =SUM($DR52:DW52) -> 0 | DX71: =SUM($DR52:DX52) -> 0 | DY71: =SUM($DR52:DY52) -> 0 | ... EC71: =SUM($DR52:EC52) -> 0 | ED71: =SUM($ED52:ED52) -> 0 | EE71: =SUM($ED52:EE52) -> 0 | EF71: =SUM($ED52:EF52) -> 0 | EG71: =SUM($ED52:EG52) -> 0 | EH71: =SUM($ED52:EH52) -> 0 | EI71: =SUM($ED52:EI52) -> 0 | EJ71: =SUM($ED52:EJ52) -> 0 | EK71: =SUM($ED52:EK52) -> 0 | ... EO71: =SUM($ED52:EO52) -> 0 | EP71: =SUM($EP52:EP52) -> 0 | EQ71: =SUM($EP52:EQ52) -> 0 | ER71: =SUM($EP52:ER52) -> 0 | ES71: =SUM($EP52:ES52) -> 0 | ET71: =SUM($EP52:ET52) -> 0 | EU71: =SUM($EP52:EU52) -> 0 | EV71: =SUM($EP52:EV52) -> 0 | EW71: =SUM($EP52:EW52) -> 0 | ... FA71: =SUM($EP52:FA52) -> 0 | FB71: =SUM($FB52:FB52) -> 0 | FC71: =SUM($FB52:FC52) -> 0 | FD71: =SUM($FB52:FD52) -> 0 | FE71: =SUM($FB52:FE52) -> 0 | FF71: =SUM($FB52:FF52) -> 0 | FG71: =SUM($FB52:FG52) -> 0 | FH71: =SUM($FB52:FH52) -> 0 | FI71: =SUM($FB52:FI52) -> 0 | ... FM71: =SUM($FB52:FM52) -> 0 | FN71: =SUM($FN52:FN52) -> 0 | FO71: =SUM($FN52:FO52) -> 0 | FP71: =SUM($FN52:FP52) -> 0 | FQ71: =SUM($FN52:FQ52) -> 0 | FR71: =SUM($FN52:FR52) -> 0 | FS71: =SUM($FN52:FS52) -> 0 | FT71: =SUM($FN52:FT52) -> 0 | FU71: =SUM($FN52:FU52) -> 0 | ... FY71: =SUM($FN52:FY52) -> 0 | FZ71: =SUM($FZ52:FZ52) -> 0 | GA71: =SUM($FZ52:GA52) -> 0 | GB71: =SUM($FZ52:GB52) -> 0 | GC71: =SUM($FZ52:GC52) -> 0 | GD71: =SUM($FZ52:GD52) -> 0 | GE71: =SUM($FZ52:GE52) -> 0 | GF71: =SUM($FZ52:GF52) -> 0 | GG71: =SUM($FZ52:GG52) -> 0 | ... GK71: =SUM($FZ52:GK52) -> 0 | GL71: =SUM($GL52:GL52) -> 0 | GM71: =SUM($GL52:GM52) -> 0 | GN71: =SUM($GL52:GN52) -> 0 | GO71: =SUM($GL52:GO52) -> 0 | GP71: =SUM($GL52:GP52) -> 0 | GQ71: =SUM($GL52:GQ52) -> 0 | GR71: =SUM($GL52:GR52) -> 0 | GS71: =SUM($GL52:GS52) -> 0 | ... GW71: =SUM($GL52:GW52) -> 0 | GX71: =SUM($GX52:GX52) -> 0 | GY71: =SUM($GX52:GY52) -> 0 | GZ71: =SUM($GX52:GZ52) -> 0 | HA71: =SUM($GX52:HA52) -> 0 | HB71: =SUM($GX52:HB52) -> 0 | HC71: =SUM($GX52:HC52) -> 0 | HD71: =SUM($GX52:HD52) -> 0 | HE71: =SUM($GX52:HE52) -> 0 | ... HI71: =SUM($GX52:HI52) -> 0 | HJ71: =SUM($HJ52:HJ52) -> 0 | HK71: =SUM($HJ52:HK52) -> 0 | HL71: =SUM($HJ52:HL52) -> 0 | HM71: =SUM($HJ52:HM52) -> 0 | HN71: =SUM($HJ52:HN52) -> 0 | HO71: =SUM($HJ52:HO52) -> 0 | HP71: =SUM($HJ52:HP52) -> 0 | HQ71: =SUM($HJ52:HQ52) -> 0 | ... HU71: =SUM($HJ52:HU52) -> 0 | HV71: =SUM($HV52:HV52) -> 0 | HW71: =SUM($HV52:HW52) -> 0 | HX71: =SUM($HV52:HX52) -> 0 | HY71: =SUM($HV52:HY52) -> 0 | HZ71: =SUM($HV52:HZ52) -> 0 | IA71: =SUM($HV52:IA52) -> 0 | IB71: =SUM($HV52:IB52) -> 0 | IC71: =SUM($HV52:IC52) -> 0 | ... IG71: =SUM($HV52:IG52) -> 0 | IH71: =SUM($IH52:IH52) -> 0 | II71: =SUM($IH52:II52) -> 0 | IJ71: =SUM($IH52:IJ52) -> 0 | IK71: =SUM($IH52:IK52) -> 0 | IL71: =SUM($IH52:IL52) -> 0 | IM71: =SUM($IH52:IM52) -> 0 | IN71: =SUM($IH52:IN52) -> 0 | IO71: =SUM($IH52:IO52) -> 0 | ... IS71: =SUM($IH52:IS52) -> 0 | IT71: =SUM($IT52:IT52) -> 0 | IU71: =SUM($IT52:IU52) -> 0 | IV71: =SUM($IT52:IV52) -> 0 | IW71: =SUM($IT52:IW52) -> 0 | IX71: =SUM($IT52:IX52) -> 0 | IY71: =SUM($IT52:IY52) -> 0 | IZ71: =SUM($IT52:IZ52) -> 0 | JA71: =SUM($IT52:JA52) -> 0 | ... JE71: =SUM($IT52:JE52) -> 0 | JF71: =SUM($JF52:JF52) -> 0 | JG71: =SUM($JF52:JG52) -> 0 | JH71: =SUM($JF52:JH52) -> 0 | JI71: =SUM($JF52:JI52) -> 0 | JJ71: =SUM($JF52:JJ52) -> 0 | JK71: =SUM($JF52:JK52) -> 0 | JL71: =SUM($JF52:JL52) -> 0 | JM71: =SUM($JF52:JM52) -> 0 | ... JQ71: =SUM($JF52:JQ52) -> 0
A72: RABAT | B72: =SUM(B53:$B53) -> 0 | C72: =SUM($B53:C53) -> 0 | D72: =SUM($B53:D53) -> 0 | E72: =SUM($B53:E53) -> 0 | F72: =SUM($B53:F53) -> 0 | G72: =SUM($B53:G53) -> 0 | H72: =SUM($B53:H53) -> 0 | I72: =SUM($B53:I53) -> 0 | J72: =SUM($B53:J53) -> 0 | ... M72: =SUM($B53:M53) -> 0 | N72: =SUM($N53:N53) -> 4420.8333 | O72: =SUM($N53:O53) -> 8841.6667 | P72: =SUM($N53:P53) -> 13262.5 | Q72: =SUM($N53:Q53) -> 17683.333 | R72: =SUM($N53:R53) -> 22104.167 | S72: =SUM($N53:S53) -> 26525 | T72: =SUM($N53:T53) -> 30945.833 | U72: =SUM($N53:U53) -> 35366.667 | ... Y72: =SUM($N53:Y53) -> 53050 | Z72: =SUM($Z53:Z53) -> 3875 | AA72: =SUM($Z53:AA53) -> 7750 | AB72: =SUM($Z53:AB53) -> 11625 | AC72: =SUM($Z53:AC53) -> 15500 | AD72: =SUM($Z53:AD53) -> 19375 | AE72: =SUM($Z53:AE53) -> 23250 | AF72: =SUM($Z53:AF53) -> 27125 | AG72: =SUM($Z53:AG53) -> 31000 | ... AK72: =SUM($Z53:AK53) -> 46500 | AL72: =SUM($AL53:AL53) -> 3750 | AM72: =SUM($AL53:AM53) -> 7500 | AN72: =SUM($AL53:AN53) -> 11250 | AO72: =SUM($AL53:AO53) -> 15000 | AP72: =SUM($AL53:AP53) -> 18750 | AQ72: =SUM($AL53:AQ53) -> 22500 | AR72: =SUM($AL53:AR53) -> 26250 | AS72: =SUM($AL53:AS53) -> 30000 | ... AW72: =SUM($AL53:AW53) -> 45000 | AX72: =SUM($AX53:AX53) -> 0 | AY72: =SUM($AX53:AY53) -> 0 | AZ72: =SUM($AX53:AZ53) -> 0 | BA72: =SUM($AX53:BA53) -> 0 | BB72: =SUM($AX53:BB53) -> 0 | BC72: =SUM($AX53:BC53) -> 0 | BD72: =SUM($AX53:BD53) -> 0 | BE72: =SUM($AX53:BE53) -> 0 | ... BI72: =SUM($AX53:BI53) -> 0 | BJ72: =SUM($BJ53:BJ53) -> 0 | BK72: =SUM($BJ53:BK53) -> 0 | BL72: =SUM($BJ53:BL53) -> 0 | BM72: =SUM($BJ53:BM53) -> 0 | BN72: =SUM($BJ53:BN53) -> 0 | BO72: =SUM($BJ53:BO53) -> 0 | BP72: =SUM($BJ53:BP53) -> 0 | BQ72: =SUM($BJ53:BQ53) -> 0 | ... BU72: =SUM($BJ53:BU53) -> 0 | BV72: =SUM($BV53:BV53) -> 0 | BW72: =SUM($BV53:BW53) -> 0 | BX72: =SUM($BV53:BX53) -> 0 | BY72: =SUM($BV53:BY53) -> 0 | BZ72: =SUM($BV53:BZ53) -> 0 | CA72: =SUM($BV53:CA53) -> 0 | CB72: =SUM($BV53:CB53) -> 0 | CC72: =SUM($BV53:CC53) -> 0 | ... CG72: =SUM($BV53:CG53) -> 0 | CH72: =SUM($CH53:CH53) -> 0 | CI72: =SUM($CH53:CI53) -> 0 | CJ72: =SUM($CH53:CJ53) -> 0 | CK72: =SUM($CH53:CK53) -> 0 | CL72: =SUM($CH53:CL53) -> 0 | CM72: =SUM($CH53:CM53) -> 0 | CN72: =SUM($CH53:CN53) -> 0 | CO72: =SUM($CH53:CO53) -> 0 | ... CS72: =SUM($CH53:CS53) -> 0 | CT72: =SUM($CT53:CT53) -> 0 | CU72: =SUM($CT53:CU53) -> 0 | CV72: =SUM($CT53:CV53) -> 0 | CW72: =SUM($CT53:CW53) -> 0 | CX72: =SUM($CT53:CX53) -> 0 | CY72: =SUM($CT53:CY53) -> 0 | CZ72: =SUM($CT53:CZ53) -> 0 | DA72: =SUM($CT53:DA53) -> 0 | ... DE72: =SUM($CT53:DE53) -> 0 | DF72: =SUM($DF53:DF53) -> 0 | DG72: =SUM($DF53:DG53) -> 0 | DH72: =SUM($DF53:DH53) -> 0 | DI72: =SUM($DF53:DI53) -> 0 | DJ72: =SUM($DF53:DJ53) -> 0 | DK72: =SUM($DF53:DK53) -> 0 | DL72: =SUM($DF53:DL53) -> 0 | DM72: =SUM($DF53:DM53) -> 0 | ... DQ72: =SUM($DF53:DQ53) -> 0 | DR72: =SUM($DR53:DR53) -> 0 | DS72: =SUM($DR53:DS53) -> 0 | DT72: =SUM($DR53:DT53) -> 0 | DU72: =SUM($DR53:DU53) -> 0 | DV72: =SUM($DR53:DV53) -> 0 | DW72: =SUM($DR53:DW53) -> 0 | DX72: =SUM($DR53:DX53) -> 0 | DY72: =SUM($DR53:DY53) -> 0 | ... EC72: =SUM($DR53:EC53) -> 0 | ED72: =SUM($ED53:ED53) -> 0 | EE72: =SUM($ED53:EE53) -> 0 | EF72: =SUM($ED53:EF53) -> 0 | EG72: =SUM($ED53:EG53) -> 0 | EH72: =SUM($ED53:EH53) -> 0 | EI72: =SUM($ED53:EI53) -> 0 | EJ72: =SUM($ED53:EJ53) -> 0 | EK72: =SUM($ED53:EK53) -> 0 | ... EO72: =SUM($ED53:EO53) -> 0 | EP72: =SUM($EP53:EP53) -> 0 | EQ72: =SUM($EP53:EQ53) -> 0 | ER72: =SUM($EP53:ER53) -> 0 | ES72: =SUM($EP53:ES53) -> 0 | ET72: =SUM($EP53:ET53) -> 0 | EU72: =SUM($EP53:EU53) -> 0 | EV72: =SUM($EP53:EV53) -> 0 | EW72: =SUM($EP53:EW53) -> 0 | ... FA72: =SUM($EP53:FA53) -> 0 | FB72: =SUM($FB53:FB53) -> 0 | FC72: =SUM($FB53:FC53) -> 0 | FD72: =SUM($FB53:FD53) -> 0 | FE72: =SUM($FB53:FE53) -> 0 | FF72: =SUM($FB53:FF53) -> 0 | FG72: =SUM($FB53:FG53) -> 0 | FH72: =SUM($FB53:FH53) -> 0 | FI72: =SUM($FB53:FI53) -> 0 | ... FM72: =SUM($FB53:FM53) -> 0 | FN72: =SUM($FN53:FN53) -> 0 | FO72: =SUM($FN53:FO53) -> 0 | FP72: =SUM($FN53:FP53) -> 0 | FQ72: =SUM($FN53:FQ53) -> 0 | FR72: =SUM($FN53:FR53) -> 0 | FS72: =SUM($FN53:FS53) -> 0 | FT72: =SUM($FN53:FT53) -> 0 | FU72: =SUM($FN53:FU53) -> 0 | ... FY72: =SUM($FN53:FY53) -> 0 | FZ72: =SUM($FZ53:FZ53) -> 0 | GA72: =SUM($FZ53:GA53) -> 0 | GB72: =SUM($FZ53:GB53) -> 0 | GC72: =SUM($FZ53:GC53) -> 0 | GD72: =SUM($FZ53:GD53) -> 0 | GE72: =SUM($FZ53:GE53) -> 0 | GF72: =SUM($FZ53:GF53) -> 0 | GG72: =SUM($FZ53:GG53) -> 0 | ... GK72: =SUM($FZ53:GK53) -> 0 | GL72: =SUM($GL53:GL53) -> 0 | GM72: =SUM($GL53:GM53) -> 0 | GN72: =SUM($GL53:GN53) -> 0 | GO72: =SUM($GL53:GO53) -> 0 | GP72: =SUM($GL53:GP53) -> 0 | GQ72: =SUM($GL53:GQ53) -> 0 | GR72: =SUM($GL53:GR53) -> 0 | GS72: =SUM($GL53:GS53) -> 0 | ... GW72: =SUM($GL53:GW53) -> 0 | GX72: =SUM($GX53:GX53) -> 0 | GY72: =SUM($GX53:GY53) -> 0 | GZ72: =SUM($GX53:GZ53) -> 0 | HA72: =SUM($GX53:HA53) -> 0 | HB72: =SUM($GX53:HB53) -> 0 | HC72: =SUM($GX53:HC53) -> 0 | HD72: =SUM($GX53:HD53) -> 0 | HE72: =SUM($GX53:HE53) -> 0 | ... HI72: =SUM($GX53:HI53) -> 0 | HJ72: =SUM($HJ53:HJ53) -> 0 | HK72: =SUM($HJ53:HK53) -> 0 | HL72: =SUM($HJ53:HL53) -> 0 | HM72: =SUM($HJ53:HM53) -> 0 | HN72: =SUM($HJ53:HN53) -> 0 | HO72: =SUM($HJ53:HO53) -> 0 | HP72: =SUM($HJ53:HP53) -> 0 | HQ72: =SUM($HJ53:HQ53) -> 0 | ... HU72: =SUM($HJ53:HU53) -> 0 | HV72: =SUM($HV53:HV53) -> 0 | HW72: =SUM($HV53:HW53) -> 0 | HX72: =SUM($HV53:HX53) -> 0 | HY72: =SUM($HV53:HY53) -> 0 | HZ72: =SUM($HV53:HZ53) -> 0 | IA72: =SUM($HV53:IA53) -> 0 | IB72: =SUM($HV53:IB53) -> 0 | IC72: =SUM($HV53:IC53) -> 0 | ... IG72: =SUM($HV53:IG53) -> 0 | IH72: =SUM($IH53:IH53) -> 0 | II72: =SUM($IH53:II53) -> 0 | IJ72: =SUM($IH53:IJ53) -> 0 | IK72: =SUM($IH53:IK53) -> 0 | IL72: =SUM($IH53:IL53) -> 0 | IM72: =SUM($IH53:IM53) -> 0 | IN72: =SUM($IH53:IN53) -> 0 | IO72: =SUM($IH53:IO53) -> 0 | ... IS72: =SUM($IH53:IS53) -> 0 | IT72: =SUM($IT53:IT53) -> 0 | IU72: =SUM($IT53:IU53) -> 0 | IV72: =SUM($IT53:IV53) -> 0 | IW72: =SUM($IT53:IW53) -> 0 | IX72: =SUM($IT53:IX53) -> 0 | IY72: =SUM($IT53:IY53) -> 0 | IZ72: =SUM($IT53:IZ53) -> 0 | JA72: =SUM($IT53:JA53) -> 0 | ... JE72: =SUM($IT53:JE53) -> 0 | JF72: =SUM($JF53:JF53) -> 0 | JG72: =SUM($JF53:JG53) -> 0 | JH72: =SUM($JF53:JH53) -> 0 | JI72: =SUM($JF53:JI53) -> 0 | JJ72: =SUM($JF53:JJ53) -> 0 | JK72: =SUM($JF53:JK53) -> 0 | JL72: =SUM($JF53:JL53) -> 0 | JM72: =SUM($JF53:JM53) -> 0 | ... JQ72: =SUM($JF53:JQ53) -> 0
A73: TANGER | B73: =SUM(B54:$B54) -> 0 | C73: =SUM($B54:C54) -> 0 | D73: =SUM($B54:D54) -> 0 | E73: =SUM($B54:E54) -> 0 | F73: =SUM($B54:F54) -> 0 | G73: =SUM($B54:G54) -> 0 | H73: =SUM($B54:H54) -> 0 | I73: =SUM($B54:I54) -> 0 | J73: =SUM($B54:J54) -> 0 | ... M73: =SUM($B54:M54) -> 0 | N73: =SUM($N54:N54) -> 2185 | O73: =SUM($N54:O54) -> 4370 | P73: =SUM($N54:P54) -> 6555 | Q73: =SUM($N54:Q54) -> 8740 | R73: =SUM($N54:R54) -> 10925 | S73: =SUM($N54:S54) -> 13110 | T73: =SUM($N54:T54) -> 15295 | U73: =SUM($N54:U54) -> 17480 | ... Y73: =SUM($N54:Y54) -> 26220 | Z73: =SUM($Z54:Z54) -> 2041.6667 | AA73: =SUM($Z54:AA54) -> 4083.3333 | AB73: =SUM($Z54:AB54) -> 6125 | AC73: =SUM($Z54:AC54) -> 8166.6667 | AD73: =SUM($Z54:AD54) -> 10208.333 | AE73: =SUM($Z54:AE54) -> 12250 | AF73: =SUM($Z54:AF54) -> 14291.667 | AG73: =SUM($Z54:AG54) -> 16333.333 | ... AK73: =SUM($Z54:AK54) -> 24500 | AL73: =SUM($AL54:AL54) -> 1944.4444 | AM73: =SUM($AL54:AM54) -> 3888.8889 | AN73: =SUM($AL54:AN54) -> 5833.3333 | AO73: =SUM($AL54:AO54) -> 7777.7778 | AP73: =SUM($AL54:AP54) -> 9722.2222 | AQ73: =SUM($AL54:AQ54) -> 11666.667 | AR73: =SUM($AL54:AR54) -> 13611.111 | AS73: =SUM($AL54:AS54) -> 15555.556 | ... AW73: =SUM($AL54:AW54) -> 23333.333 | AX73: =SUM($AX54:AX54) -> 0 | AY73: =SUM($AX54:AY54) -> 0 | AZ73: =SUM($AX54:AZ54) -> 0 | BA73: =SUM($AX54:BA54) -> 0 | BB73: =SUM($AX54:BB54) -> 0 | BC73: =SUM($AX54:BC54) -> 0 | BD73: =SUM($AX54:BD54) -> 0 | BE73: =SUM($AX54:BE54) -> 0 | ... BI73: =SUM($AX54:BI54) -> 0 | BJ73: =SUM($BJ54:BJ54) -> 0 | BK73: =SUM($BJ54:BK54) -> 0 | BL73: =SUM($BJ54:BL54) -> 0 | BM73: =SUM($BJ54:BM54) -> 0 | BN73: =SUM($BJ54:BN54) -> 0 | BO73: =SUM($BJ54:BO54) -> 0 | BP73: =SUM($BJ54:BP54) -> 0 | BQ73: =SUM($BJ54:BQ54) -> 0 | ... BU73: =SUM($BJ54:BU54) -> 0 | BV73: =SUM($BV54:BV54) -> 0 | BW73: =SUM($BV54:BW54) -> 0 | BX73: =SUM($BV54:BX54) -> 0 | BY73: =SUM($BV54:BY54) -> 0 | BZ73: =SUM($BV54:BZ54) -> 0 | CA73: =SUM($BV54:CA54) -> 0 | CB73: =SUM($BV54:CB54) -> 0 | CC73: =SUM($BV54:CC54) -> 0 | ... CG73: =SUM($BV54:CG54) -> 0 | CH73: =SUM($CH54:CH54) -> 0 | CI73: =SUM($CH54:CI54) -> 0 | CJ73: =SUM($CH54:CJ54) -> 0 | CK73: =SUM($CH54:CK54) -> 0 | CL73: =SUM($CH54:CL54) -> 0 | CM73: =SUM($CH54:CM54) -> 0 | CN73: =SUM($CH54:CN54) -> 0 | CO73: =SUM($CH54:CO54) -> 0 | ... CS73: =SUM($CH54:CS54) -> 0 | CT73: =SUM($CT54:CT54) -> 0 | CU73: =SUM($CT54:CU54) -> 0 | CV73: =SUM($CT54:CV54) -> 0 | CW73: =SUM($CT54:CW54) -> 0 | CX73: =SUM($CT54:CX54) -> 0 | CY73: =SUM($CT54:CY54) -> 0 | CZ73: =SUM($CT54:CZ54) -> 0 | DA73: =SUM($CT54:DA54) -> 0 | ... DE73: =SUM($CT54:DE54) -> 0 | DF73: =SUM($DF54:DF54) -> 0 | DG73: =SUM($DF54:DG54) -> 0 | DH73: =SUM($DF54:DH54) -> 0 | DI73: =SUM($DF54:DI54) -> 0 | DJ73: =SUM($DF54:DJ54) -> 0 | DK73: =SUM($DF54:DK54) -> 0 | DL73: =SUM($DF54:DL54) -> 0 | DM73: =SUM($DF54:DM54) -> 0 | ... DQ73: =SUM($DF54:DQ54) -> 0 | DR73: =SUM($DR54:DR54) -> 0 | DS73: =SUM($DR54:DS54) -> 0 | DT73: =SUM($DR54:DT54) -> 0 | DU73: =SUM($DR54:DU54) -> 0 | DV73: =SUM($DR54:DV54) -> 0 | DW73: =SUM($DR54:DW54) -> 0 | DX73: =SUM($DR54:DX54) -> 0 | DY73: =SUM($DR54:DY54) -> 0 | ... EC73: =SUM($DR54:EC54) -> 0 | ED73: =SUM($ED54:ED54) -> 0 | EE73: =SUM($ED54:EE54) -> 0 | EF73: =SUM($ED54:EF54) -> 0 | EG73: =SUM($ED54:EG54) -> 0 | EH73: =SUM($ED54:EH54) -> 0 | EI73: =SUM($ED54:EI54) -> 0 | EJ73: =SUM($ED54:EJ54) -> 0 | EK73: =SUM($ED54:EK54) -> 0 | ... EO73: =SUM($ED54:EO54) -> 0 | EP73: =SUM($EP54:EP54) -> 0 | EQ73: =SUM($EP54:EQ54) -> 0 | ER73: =SUM($EP54:ER54) -> 0 | ES73: =SUM($EP54:ES54) -> 0 | ET73: =SUM($EP54:ET54) -> 0 | EU73: =SUM($EP54:EU54) -> 0 | EV73: =SUM($EP54:EV54) -> 0 | EW73: =SUM($EP54:EW54) -> 0 | ... FA73: =SUM($EP54:FA54) -> 0 | FB73: =SUM($FB54:FB54) -> 0 | FC73: =SUM($FB54:FC54) -> 0 | FD73: =SUM($FB54:FD54) -> 0 | FE73: =SUM($FB54:FE54) -> 0 | FF73: =SUM($FB54:FF54) -> 0 | FG73: =SUM($FB54:FG54) -> 0 | FH73: =SUM($FB54:FH54) -> 0 | FI73: =SUM($FB54:FI54) -> 0 | ... FM73: =SUM($FB54:FM54) -> 0 | FN73: =SUM($FN54:FN54) -> 0 | FO73: =SUM($FN54:FO54) -> 0 | FP73: =SUM($FN54:FP54) -> 0 | FQ73: =SUM($FN54:FQ54) -> 0 | FR73: =SUM($FN54:FR54) -> 0 | FS73: =SUM($FN54:FS54) -> 0 | FT73: =SUM($FN54:FT54) -> 0 | FU73: =SUM($FN54:FU54) -> 0 | ... FY73: =SUM($FN54:FY54) -> 0 | FZ73: =SUM($FZ54:FZ54) -> 0 | GA73: =SUM($FZ54:GA54) -> 0 | GB73: =SUM($FZ54:GB54) -> 0 | GC73: =SUM($FZ54:GC54) -> 0 | GD73: =SUM($FZ54:GD54) -> 0 | GE73: =SUM($FZ54:GE54) -> 0 | GF73: =SUM($FZ54:GF54) -> 0 | GG73: =SUM($FZ54:GG54) -> 0 | ... GK73: =SUM($FZ54:GK54) -> 0 | GL73: =SUM($GL54:GL54) -> 0 | GM73: =SUM($GL54:GM54) -> 0 | GN73: =SUM($GL54:GN54) -> 0 | GO73: =SUM($GL54:GO54) -> 0 | GP73: =SUM($GL54:GP54) -> 0 | GQ73: =SUM($GL54:GQ54) -> 0 | GR73: =SUM($GL54:GR54) -> 0 | GS73: =SUM($GL54:GS54) -> 0 | ... GW73: =SUM($GL54:GW54) -> 0 | GX73: =SUM($GX54:GX54) -> 0 | GY73: =SUM($GX54:GY54) -> 0 | GZ73: =SUM($GX54:GZ54) -> 0 | HA73: =SUM($GX54:HA54) -> 0 | HB73: =SUM($GX54:HB54) -> 0 | HC73: =SUM($GX54:HC54) -> 0 | HD73: =SUM($GX54:HD54) -> 0 | HE73: =SUM($GX54:HE54) -> 0 | ... HI73: =SUM($GX54:HI54) -> 0 | HJ73: =SUM($HJ54:HJ54) -> 0 | HK73: =SUM($HJ54:HK54) -> 0 | HL73: =SUM($HJ54:HL54) -> 0 | HM73: =SUM($HJ54:HM54) -> 0 | HN73: =SUM($HJ54:HN54) -> 0 | HO73: =SUM($HJ54:HO54) -> 0 | HP73: =SUM($HJ54:HP54) -> 0 | HQ73: =SUM($HJ54:HQ54) -> 0 | ... HU73: =SUM($HJ54:HU54) -> 0 | HV73: =SUM($HV54:HV54) -> 0 | HW73: =SUM($HV54:HW54) -> 0 | HX73: =SUM($HV54:HX54) -> 0 | HY73: =SUM($HV54:HY54) -> 0 | HZ73: =SUM($HV54:HZ54) -> 0 | IA73: =SUM($HV54:IA54) -> 0 | IB73: =SUM($HV54:IB54) -> 0 | IC73: =SUM($HV54:IC54) -> 0 | ... IG73: =SUM($HV54:IG54) -> 0 | IH73: =SUM($IH54:IH54) -> 0 | II73: =SUM($IH54:II54) -> 0 | IJ73: =SUM($IH54:IJ54) -> 0 | IK73: =SUM($IH54:IK54) -> 0 | IL73: =SUM($IH54:IL54) -> 0 | IM73: =SUM($IH54:IM54) -> 0 | IN73: =SUM($IH54:IN54) -> 0 | IO73: =SUM($IH54:IO54) -> 0 | ... IS73: =SUM($IH54:IS54) -> 0 | IT73: =SUM($IT54:IT54) -> 0 | IU73: =SUM($IT54:IU54) -> 0 | IV73: =SUM($IT54:IV54) -> 0 | IW73: =SUM($IT54:IW54) -> 0 | IX73: =SUM($IT54:IX54) -> 0 | IY73: =SUM($IT54:IY54) -> 0 | IZ73: =SUM($IT54:IZ54) -> 0 | JA73: =SUM($IT54:JA54) -> 0 | ... JE73: =SUM($IT54:JE54) -> 0 | JF73: =SUM($JF54:JF54) -> 0 | JG73: =SUM($JF54:JG54) -> 0 | JH73: =SUM($JF54:JH54) -> 0 | JI73: =SUM($JF54:JI54) -> 0 | JJ73: =SUM($JF54:JJ54) -> 0 | JK73: =SUM($JF54:JK54) -> 0 | JL73: =SUM($JF54:JL54) -> 0 | JM73: =SUM($JF54:JM54) -> 0 | ... JQ73: =SUM($JF54:JQ54) -> 0
A74: ABB | B74: =SUM(B64:B73) -> 0 | C74: =SUM(C64:C73) -> 0 | D74: =SUM(D64:D73) -> 0 | E74: =SUM(E64:E73) -> 0 | F74: =SUM(F64:F73) -> 0 | G74: =SUM(G64:G73) -> 0 | H74: =SUM(H64:H73) -> 0 | I74: =SUM(I64:I73) -> 0 | ... JQ74: =SUM(JQ64:JQ73) -> 0
