Workbook
Name colB_2: MIN(bilan!$B:$B)
Name test: IF(graph!$B$1<colB_2,colB_2,graph!$B$1)
Name test1: OFFSET(bilan!$E$2,MATCH(test,bilan!$B:$B,0)-2,,val)
Name val: IF(OR(graph!$B$3<graph!$B$1,graph!$B$3<colB_2),0,graph!$B$3-graph!$B$1+1)

Sheet Datas
A1: Resp | B1: CW | C1: Program | D1: WP
A2: Bréhon G. | B2: CW28 | C2: all | D2: WP1- EMC/ MFT meeting/ any Client reporting meeting
A3: Collardot T. | B3: CW29 | C3: X4 | D3: WP1- External Milestone with Supplier
A4: Cresciucci L. | B4: CW30 | C4: EC175 | D4: WP1- Supplier support
A5: Deguine S. | B5: CW31 | C5: EC225 | D5: WP1- Team Coordinator / SDR / Buyer meetings
A6: Diguet A. | B6: CW32 | C6: TIGER | D6: WP1- Mission on-site (At supplier)
A7: Manceau E. | B7: CW33 | C7: NH90 | D7: WP1- Surveillance / continuous improvment: Process & tools
A8: Meszaros J. | B8: CW34 | D8: WP1- Training
A9: Schalmz J. | B9: CW35 | D9: WP1- Altran reporting
A10: Soeiro-Ferreira P.N. | B10: CW36 | D10: WP1/WP2- Management
B11: CW37 | D11: WP2- IRM/EMC
B12: CW38 | D12: WP2- Precriticity assessment
B13: CW39 | D13: WP2- Phase 1 - Problem description
B14: CW40 | D14: WP2- Phase 2 - Root-Cause analysis
B15: CW41 | D15: WP2- Phase 3 - Action plan
B16: CW42 | D16: WP2- Phase 4 - Action plan implementation
B17: CW43 | D17: WP2- Phase 5 - Action plan objectives achievement
B18: CW44 | D18: WP2- Surveillance / continuous improvment: Process & tools
B19: CW45 | D19: WP2- Team Coordinator meeting
B20: CW46 | D20: WP2- Training
B21: CW47 | D21: WP2- Altran reporting
B22: CW48
B23: CW49
B24: CW50
B25: CW51
B26: CW52
D38: 8H=1
D39: 1H= 0,125
D40: 2H =0,25
D41: 3H= 0,375
D42: 4H= 0,5

Sheet bilan
A1: Programmes | C1: Global (hours) | D1: X4 | E1: =Datas!D2 -> WP1- EMC/ MFT meeting/ any Client reporting meeting | F1: =Datas!D3 -> WP1- External Milestone with Supplier | G1: =Datas!D4 -> WP1- Supplier support | H1: =Datas!D5 -> WP1- Team Coordinator / SDR / Buyer meetings | I1: =Datas!D6 -> WP1- Mission on-site (At supplier) | J1: =Datas!D7 -> WP1- Surveillance / continuous improvment: Process & tools | K1: =Datas!D8 -> WP1- Training | L1: =Datas!D9 -> WP1- Altran reporting | M1: =Datas!D10 -> WP1/WP2- Management | O1: EC225 | P1: =E1 -> WP1- EMC/ MFT meeting/ any Client reporting meeting | Q1: =F1 -> WP1- External Milestone with Supplier | R1: =G1 -> WP1- Supplier support | S1: =H1 -> WP1- Team Coordinator / SDR / Buyer meetings | T1: =I1 -> WP1- Mission on-site (At supplier) | U1: =J1 -> WP1- Surveillance / continuous improvment: Process & tools | V1: =K1 -> WP1- Training | W1: =L1 -> WP1- Altran reporting | X1: =M1 -> WP1/WP2- Management | Z1: EC175 | AA1: =P1 -> WP1- EMC/ MFT meeting/ any Client reporting meeting | AB1: =Q1 -> WP1- External Milestone with Supplier | AC1: =R1 -> WP1- Supplier support | AD1: =S1 -> WP1- Team Coordinator / SDR / Buyer meetings | AE1: =T1 -> WP1- Mission on-site (At supplier) | AF1: =U1 -> WP1- Surveillance / continuous improvment: Process & tools | AG1: =V1 -> WP1- Training | AH1: =W1 -> WP1- Altran reporting | AI1: =X1 -> WP1/WP2- Management | AK1: =#REF! -> #REF!
A2: CW28 | B2: =RIGHT(A2,2)*1 -> 28 | C2: 46.064257 | D2: 24.109107 | E2: 8.3424611 | F2: 7.3882464 | G2: 6.8896641 | H2: 4.8481594 | I2: 2.5976716 | J2: 2.3320626 | K2: 1.6631978 | L2: 1.3277471 | M2: 4.9200284 | O2: 24.109107 | P2: 1 | Q2: 7.3882464 | R2: 6.8896641 | S2: 4.8481594 | T2: 2.5976716 | U2: 2.3320626 | V2: 1.6631978 | W2: 1.3277471 | X2: 4.9200284 | Z2: 24.109107 | AA2: 2 | AB2: 7.3882464 | AC2: 6.8896641 | AD2: 4.8481594 | AE2: 2.5976716 | AF2: 2.3320626 | AG2: 1.6631978 | AH2: 1.3277471 | AI2: 4.9200284 | AK2: =#REF!+#REF! -> #REF!
A3: CW29 | B3: =RIGHT(A3,2)*1 -> 29 | C3: 62.98555 | D3: 32.740763 | E3: 20.555997 | F3: 15.90279 | G3: 8.3741474 | H3: 6.4642126 | I3: 5.3485152 | J3: 3.2083627 | K3: 1.6631978 | L3: 1.4992209 | M3: 7.0597058 | O3: 32.740763 | P3: 1 | Q3: 15.90279 | R3: 8.3741474 | S3: 6.4642126 | T3: 5.3485152 | U3: 3.2083627 | V3: 1.6631978 | W3: 1.4992209 | X3: 7.0597058 | Z3: 32.740763 | AA3: 2 | AB3: 15.90279 | AC3: 8.3741474 | AD3: 6.4642126 | AE3: 5.3485152 | AF3: 3.2083627 | AG3: 1.6631978 | AH3: 1.4992209 | AI3: 7.0597058 | AK3: =#REF!+#REF! -> #REF!
A4: CW30 | B4: =RIGHT(A4,2)*1 -> 30 | C4: 53.109125 | D4: 28.276114 | E4: 17.677296 | F4: 16.348569 | G4: 12.313744 | H4: 7.8365628 | I4: 6.4642126 | J4: 4.0364295 | K4: 2.0385047 | L4: 1.6631978 | M4: 5.082856 | O4: 28.276114 | P4: 17.677296 | Q4: 16.348569 | R4: 12.313744 | S4: 7.8365628 | T4: 6.4642126 | U4: 4.0364295 | V4: 2.0385047 | W4: 1.6631978 | X4: 5.082856 | Z4: 28.276114 | AA4: 17.677296 | AB4: 16.348569 | AC4: 12.313744 | AD4: 7.8365628 | AE4: 6.4642126 | AF4: 4.0364295 | AG4: 2.0385047 | AH4: 1.6631978 | AI4: 5.082856 | AK4: =#REF!+#REF! -> #REF!
A5: CW31 | B5: =RIGHT(A5,2)*1 -> 31 | C5: 66.578909 | D5: 35.419553 | E5: 20.553178 | F5: 20.473439 | G5: 12.313744 | H5: 8.4349812 | I5: 6.4642126 | J5: 4.0364295 | K5: 2.9139849 | L5: 1.6631978 | M5: 5.8454536 | O5: 35.419553 | P5: 20.553178 | Q5: 20.473439 | R5: 12.313744 | S5: 8.4349812 | T5: 6.4642126 | U5: 4.0364295 | V5: 2.9139849 | W5: 1.6631978 | X5: 5.8454536 | Z5: 35.419553 | AA5: 20.553178 | AB5: 20.473439 | AC5: 12.313744 | AD5: 8.4349812 | AE5: 6.4642126 | AF5: 4.0364295 | AG5: 2.9139849 | AH5: 1.6631978 | AI5: 5.8454536 | AK5: =#REF!+#REF! -> #REF!
A6: CW32 | B6: =RIGHT(A6,2)*1 -> 32 | C6: 62.567641 | D6: 33.33605 | E6: 22.991426 | F6: 19.920103 | G6: 8.625885 | H6: 8.2091626 | I6: 6.4642126 | J6: 2.3260492 | K6: 2.0213285 | L6: 1.6631978 | M6: 4.4980816 | O6: 33.33605 | P6: 22.991426 | Q6: 19.920103 | R6: 8.625885 | S6: 8.2091626 | T6: 6.4642126 | U6: 2.3260492 | V6: 2.0213285 | W6: 1.6631978 | X6: 4.4980816 | Z6: 33.33605 | AA6: 22.991426 | AB6: 19.920103 | AC6: 8.625885 | AD6: 8.2091626 | AE6: 6.4642126 | AF6: 2.3260492 | AG6: 2.0213285 | AH6: 1.6631978 | AI6: 4.4980816 | AK6: =#REF!+#REF! -> #REF!
A7: CW33 | B7: =RIGHT(A7,2)*1 -> 33 | C7: 59.066237 | D7: 31.252547 | E7: 17.254029 | F7: 16.692619 | G7: 8.9483849 | H7: 8.2091626 | I7: 6.4642126 | J7: 2.5603744 | K7: 2.3260492 | L7: 1.6631978 | M7: 4.2956411 | O7: 31.252547 | P7: 17.254029 | Q7: 16.692619 | R7: 8.9483849 | S7: 8.2091626 | T7: 6.4642126 | U7: 2.5603744 | V7: 2.3260492 | W7: 1.6631978 | X7: 4.2956411 | Z7: 31.252547 | AA7: 17.254029 | AB7: 16.692619 | AC7: 8.9483849 | AD7: 8.2091626 | AE7: 6.4642126 | AF7: 2.5603744 | AG7: 2.3260492 | AH7: 1.6631978 | AI7: 4.2956411 | AK7: =#REF!+#REF! -> #REF!
A8: CW34 | B8: =RIGHT(A8,2)*1 -> 34 | C8: 43.784191 | D8: 31.378373 | E8: 24.627488 | F8: 23.216177 | G8: 14.709229 | H8: 8.2341487 | I8: 4.8481594 | J8: 2.2987047 | K8: 1.7449469 | L8: 1.6631978 | M8: 2.9742397 | O8: 31.378373 | P8: 24.627488 | Q8: 23.216177 | R8: 14.709229 | S8: 8.2341487 | T8: 4.8481594 | U8: 2.2987047 | V8: 1.7449469 | W8: 1.6631978 | X8: 2.9742397 | Z8: 31.378373 | AA8: 24.627488 | AB8: 23.216177 | AC8: 14.709229 | AD8: 8.2341487 | AE8: 4.8481594 | AF8: 2.2987047 | AG8: 1.7449469 | AH8: 1.6631978 | AI8: 2.9742397 | AK8: =#REF!+#REF! -> #REF!
A9: CW35 | B9: =RIGHT(A9,2)*1 -> 35 | C9: 43.820607 | D9: 27.189588 | E9: 23.216177 | F9: 14.789167 | G9: 10.360429 | H9: 8.5929394 | I9: 8.2091626 | J9: 4.8481594 | K9: 2.3919719 | L9: 2.0385047 | M9: 4.8241375 | O9: 27.189588 | P9: 23.216177 | Q9: 14.789167 | R9: 10.360429 | S9: 8.5929394 | T9: 8.2091626 | U9: 4.8481594 | V9: 2.3919719 | W9: 2.0385047 | X9: 4.8241375 | Z9: 27.189588 | AA9: 23.216177 | AB9: 14.789167 | AC9: 10.360429 | AD9: 8.5929394 | AE9: 8.2091626 | AF9: 4.8481594 | AG9: 2.3919719 | AH9: 2.0385047 | AI9: 4.8241375 | AK9: =#REF!+#REF! -> #REF!
A10: CW36 | B10: =RIGHT(A10,2)*1 -> 36 | C10: 42.982622 | D10: 30.63752 | E10: 23.216177 | F10: 13.393256 | G10: 8.2260591 | H10: 8.2091626 | I10: 4.8481594 | J10: 2.4153857 | K10: 2.0324914 | L10: 1.6631978 | M10: 3.731858 | O10: 30.63752 | P10: 23.216177 | Q10: 13.393256 | R10: 8.2260591 | S10: 8.2091626 | T10: 4.8481594 | U10: 2.4153857 | V10: 2.0324914 | W10: 1.6631978 | X10: 3.731858 | Z10: 30.63752 | AA10: 23.216177 | AB10: 13.393256 | AC10: 8.2260591 | AD10: 8.2091626 | AE10: 4.8481594 | AF10: 2.4153857 | AG10: 2.0324914 | AH10: 1.6631978 | AI10: 3.731858 | AK10: =#REF!+#REF! -> #REF!
A11: CW37 | B11: =RIGHT(A11,2)*1 -> 37 | C11: 45.295825 | D11: 26.292438 | E11: 25.894967 | F11: 13.20589 | G11: 8.2091626 | H11: 7.8258616 | I11: 4.8481594 | J11: 2.6196071 | K11: 2.2748567 | L11: 1.6631978 | M11: 2.6474553 | O11: 26.292438 | P11: 25.894967 | Q11: 13.20589 | R11: 8.2091626 | S11: 7.8258616 | T11: 4.8481594 | U11: 2.6196071 | V11: 2.2748567 | W11: 1.6631978 | X11: 2.6474553 | Z11: 26.292438 | AA11: 25.894967 | AB11: 13.20589 | AC11: 8.2091626 | AD11: 7.8258616 | AE11: 4.8481594 | AF11: 2.6196071 | AG11: 2.2748567 | AH11: 1.6631978 | AI11: 2.6474553 | AK11: =#REF!+#REF! -> #REF!
A12: CW38 | B12: =RIGHT(A12,2)*1 -> 38 | C12: 46.064257 | D12: 24.109107 | E12: 8.3424611 | F12: 7.3882464 | G12: 6.8896641 | H12: 4.8481594 | I12: 2.5976716 | J12: 2.3320626 | K12: 1.6631978 | L12: 1.3277471 | M12: 4.9200284 | O12: 24.109107 | P12: 8.3424611 | Q12: 7.3882464 | R12: 6.8896641 | S12: 4.8481594 | T12: 2.5976716 | U12: 2.3320626 | V12: 1.6631978 | W12: 1.3277471 | X12: 4.9200284 | Z12: 24.109107 | AA12: 8.3424611 | AB12: 7.3882464 | AC12: 6.8896641 | AD12: 4.8481594 | AE12: 2.5976716 | AF12: 2.3320626 | AG12: 1.6631978 | AH12: 1.3277471 | AI12: 4.9200284 | AK12: =#REF!+#REF! -> #REF!
A13: CW39 | B13: =RIGHT(A13,2)*1 -> 39 | C13: 62.98555 | D13: 32.740763 | E13: 20.555997 | F13: 15.90279 | G13: 8.3741474 | H13: 6.4642126 | I13: 5.3485152 | J13: 3.2083627 | K13: 1.6631978 | L13: 1.4992209 | M13: 7.0597058 | O13: 32.740763 | P13: 20.555997 | Q13: 15.90279 | R13: 8.3741474 | S13: 6.4642126 | T13: 5.3485152 | U13: 3.2083627 | V13: 1.6631978 | W13: 1.4992209 | X13: 7.0597058 | Z13: 32.740763 | AA13: 20.555997 | AB13: 15.90279 | AC13: 8.3741474 | AD13: 6.4642126 | AE13: 5.3485152 | AF13: 3.2083627 | AG13: 1.6631978 | AH13: 1.4992209 | AI13: 7.0597058 | AK13: =#REF!+#REF! -> #REF!
... A20: CW46 | B20: =RIGHT(A20,2)*1 -> 46 | C20: 42.982622 | D20: 30.63752 | E20: 23.216177 | F20: 13.393256 | G20: 8.2260591 | H20: 8.2091626 | I20: 4.8481594 | J20: 2.4153857 | K20: 2.0324914 | L20: 1.6631978 | M20: 3.731858 | O20: 30.63752 | P20: 23.216177 | Q20: 13.393256 | R20: 8.2260591 | S20: 8.2091626 | T20: 4.8481594 | U20: 2.4153857 | V20: 2.0324914 | W20: 1.6631978 | X20: 3.731858 | Z20: 30.63752 | AA20: 23.216177 | AB20: 13.393256 | AC20: 8.2260591 | AD20: 8.2091626 | AE20: 4.8481594 | AF20: 2.4153857 | AG20: 2.0324914 | AH20: 1.6631978 | AI20: 3.731858 | AK20: =#REF!+#REF! -> #REF!

Sheet calc-graph
B1: =bilan!E1 -> WP1- EMC/ MFT meeting/ any Client reporting meeting | C1: =bilan!F1 -> WP1- External Milestone with Supplier | D1: =bilan!G1 -> WP1- Supplier support | E1: =bilan!H1 -> WP1- Team Coordinator / SDR / Buyer meetings | F1: =bilan!I1 -> WP1- Mission on-site (At supplier) | G1: =bilan!J1 -> WP1- Surveillance / continuous improvment: Process & tools | H1: =bilan!K1 -> WP1- Training | I1: =bilan!L1 -> WP1- Altran reporting | J1: =bilan!M1 -> WP1/WP2- Management
A2: X4 | B2: =IF(ISERROR(SUM(OFFSET(test1,,COLUMN()-2))),1,SUM(OFFSET(test1,,COLUMN()-2))) -> 61.2219 | C2: =IF(ISERROR(SUM(OFFSET(test1,,COLUMN()-2))),1,SUM(OFFSET(test1,,COLUMN()-2))) -> 56.742112 | D2: =IF(ISERROR(SUM(OFFSET(test1,,COLUMN()-2))),1,SUM(OFFSET(test1,,COLUMN()-2))) -> 33.253373 | E2: =IF(ISERROR(SUM(OFFSET(test1,,COLUMN()-2))),1,SUM(OFFSET(test1,,COLUMN()-2))) -> 24.480707 | F2: =IF(ISERROR(SUM(OFFSET(test1,,COLUMN()-2))),1,SUM(OFFSET(test1,,COLUMN()-2))) -> 19.392638 | G2: =IF(ISERROR(SUM(OFFSET(test1,,COLUMN()-2))),1,SUM(OFFSET(test1,,COLUMN()-2))) -> 10.398908 | H2: =IF(ISERROR(SUM(OFFSET(test1,,COLUMN()-2))),1,SUM(OFFSET(test1,,COLUMN()-2))) -> 6.9738181 | I2: =IF(ISERROR(SUM(OFFSET(test1,,COLUMN()-2))),1,SUM(OFFSET(test1,,COLUMN()-2))) -> 4.9895933 | J2: =IF(ISERROR(SUM(OFFSET(test1,,COLUMN()-2))),1,SUM(OFFSET(test1,,COLUMN()-2))) -> 15.426391
A3: EC225 | B3: =IF(ISERROR(SUM(OFFSET(test1,,COLUMN()+9))),1,SUM(OFFSET(test1,,COLUMN()+9))) -> 61.2219 | C3: =IF(ISERROR(SUM(OFFSET(test1,,COLUMN()+9))),1,SUM(OFFSET(test1,,COLUMN()+9))) -> 56.742112 | D3: =IF(ISERROR(SUM(OFFSET(test1,,COLUMN()+9))),1,SUM(OFFSET(test1,,COLUMN()+9))) -> 33.253373 | E3: =IF(ISERROR(SUM(OFFSET(test1,,COLUMN()+9))),1,SUM(OFFSET(test1,,COLUMN()+9))) -> 24.480707 | F3: =IF(ISERROR(SUM(OFFSET(test1,,COLUMN()+9))),1,SUM(OFFSET(test1,,COLUMN()+9))) -> 19.392638 | G3: =IF(ISERROR(SUM(OFFSET(test1,,COLUMN()+9))),1,SUM(OFFSET(test1,,COLUMN()+9))) -> 10.398908 | H3: =IF(ISERROR(SUM(OFFSET(test1,,COLUMN()+9))),1,SUM(OFFSET(test1,,COLUMN()+9))) -> 6.9738181 | I3: =IF(ISERROR(SUM(OFFSET(test1,,COLUMN()+9))),1,SUM(OFFSET(test1,,COLUMN()+9))) -> 4.9895933 | J3: =IF(ISERROR(SUM(OFFSET(test1,,COLUMN()+9))),1,SUM(OFFSET(test1,,COLUMN()+9))) -> 15.426391
A4: EC175 | B4: =IF(ISERROR(SUM(OFFSET(test1,,COLUMN()+20))),1,SUM(OFFSET(test1,,COLUMN()+20))) -> 61.2219 | C4: =IF(ISERROR(SUM(OFFSET(test1,,COLUMN()+20))),1,SUM(OFFSET(test1,,COLUMN()+20))) -> 56.742112 | D4: =IF(ISERROR(SUM(OFFSET(test1,,COLUMN()+20))),1,SUM(OFFSET(test1,,COLUMN()+20))) -> 33.253373 | E4: =IF(ISERROR(SUM(OFFSET(test1,,COLUMN()+20))),1,SUM(OFFSET(test1,,COLUMN()+20))) -> 24.480707 | F4: =IF(ISERROR(SUM(OFFSET(test1,,COLUMN()+20))),1,SUM(OFFSET(test1,,COLUMN()+20))) -> 19.392638 | G4: =IF(ISERROR(SUM(OFFSET(test1,,COLUMN()+20))),1,SUM(OFFSET(test1,,COLUMN()+20))) -> 10.398908 | H4: =IF(ISERROR(SUM(OFFSET(test1,,COLUMN()+20))),1,SUM(OFFSET(test1,,COLUMN()+20))) -> 6.9738181 | I4: =IF(ISERROR(SUM(OFFSET(test1,,COLUMN()+20))),1,SUM(OFFSET(test1,,COLUMN()+20))) -> 4.9895933 | J4: =IF(ISERROR(SUM(OFFSET(test1,,COLUMN()+20))),1,SUM(OFFSET(test1,,COLUMN()+20))) -> 15.426391

Sheet graph
B1: 30
B3: 32
