Workbook
Name CULTURE: Parcellaire!$B:$B
Name PARCELLE: Parcellaire!$D:$D
Name YEAR: Parcellaire!$A:$A

Sheet BILAN
A1: Année | B1: CULTURE | C1: PARCELLE | D1: PRODUIT | E1: Unit | F1: CATEGORIE
A2: 2013 | B2: {=INDEX(Parcellaire!$B$2:$B$57,MATCH(BILAN!A2,IF(Parcellaire!$D$2:$D$57=BILAN!C2,Parcellaire!$A$2:$A$57,""),0))} -> TOURNESOL | C2: Andres | D2: Pac 22 | E2: L | F2: ENGRAIS
A3: 2013 | B3: {=INDEX(Parcellaire!$B$2:$B$57,MATCH(BILAN!A3,IF(Parcellaire!$D$2:$D$57=BILAN!C3,Parcellaire!$A$2:$A$57,""),0))} -> TOURNESOL | C3: Bousquet Pourtanel | D3: Pac 22 | E3: L | F3: ENGRAIS
A4: 2013 | B4: {=INDEX(Parcellaire!$B$2:$B$57,MATCH(BILAN!A4,IF(Parcellaire!$D$2:$D$57=BILAN!C4,Parcellaire!$A$2:$A$57,""),0))} -> TOURNESOL | C4: Moulin Barthes | D4: Pac 22 | E4: L | F4: ENGRAIS
A5: 2013 | B5: {=INDEX(Parcellaire!$B$2:$B$57,MATCH(BILAN!A5,IF(Parcellaire!$D$2:$D$57=BILAN!C5,Parcellaire!$A$2:$A$57,""),0))} -> TOURNESOL | C5: Moulin Côteau | D5: Pac 22 | E5: L | F5: ENGRAIS
A6: 2013 | B6: {=INDEX(Parcellaire!$B$2:$B$57,MATCH(BILAN!A6,IF(Parcellaire!$D$2:$D$57=BILAN!C6,Parcellaire!$A$2:$A$57,""),0))} -> TOURNESOL | C6: Picotalène Midi | D6: Pac 22 | E6: L | F6: ENGRAIS
A7: 2013 | B7: {=INDEX(Parcellaire!$B$2:$B$57,MATCH(BILAN!A7,IF(Parcellaire!$D$2:$D$57=BILAN!C7,Parcellaire!$A$2:$A$57,""),0))} -> TOURNESOL | C7: Picotalène Nord | D7: Pac 22 | E7: L | F7: ENGRAIS
A8: 2013 | B8: {=INDEX(Parcellaire!$B$2:$B$57,MATCH(BILAN!A8,IF(Parcellaire!$D$2:$D$57=BILAN!C8,Parcellaire!$A$2:$A$57,""),0))} -> TOURNESOL | C8: Pourtanel | D8: Pac 22 | E8: L | F8: ENGRAIS
A9: 2013 | B9: {=INDEX(Parcellaire!$B$2:$B$57,MATCH(BILAN!A9,IF(Parcellaire!$D$2:$D$57=BILAN!C9,Parcellaire!$A$2:$A$57,""),0))} -> TOURNESOL | C9: L'Aule métairie | D9: Pac 22 | E9: L | F9: ENGRAIS
A10: 2013 | B10: {=INDEX(Parcellaire!$B$2:$B$57,MATCH(BILAN!A10,IF(Parcellaire!$D$2:$D$57=BILAN!C10,Parcellaire!$A$2:$A$57,""),0))} -> TOURNESOL | C10: L'Aule Plaine | D10: Pac 22 | E10: L | F10: ENGRAIS
A11: 2013 | B11: {=INDEX(Parcellaire!$B$2:$B$57,MATCH(BILAN!A11,IF(Parcellaire!$D$2:$D$57=BILAN!C11,Parcellaire!$A$2:$A$57,""),0))} -> SOJA | C11: Engleyse Route | D11: Physiolith | E11: Kg | F11: ENGRAIS
A12: 2013 | B12: {=INDEX(Parcellaire!$B$2:$B$57,MATCH(BILAN!A12,IF(Parcellaire!$D$2:$D$57=BILAN!C12,Parcellaire!$A$2:$A$57,""),0))} -> SORGHO | C12: Engleyse métairie | D12: Physiolith | E12: Kg | F12: ENGRAIS
A13: 2013 | B13: {=INDEX(Parcellaire!$B$2:$B$57,MATCH(BILAN!A13,IF(Parcellaire!$D$2:$D$57=BILAN!C13,Parcellaire!$A$2:$A$57,""),0))} -> SOJA | C13: Engleyse Route | D13: Physiolith | E13: Kg | F13: ENGRAIS
... A65: 2014 | B65: {=INDEX(Parcellaire!$B$2:$B$57,MATCH(BILAN!A65,IF(Parcellaire!$D$2:$D$57=BILAN!C65,Parcellaire!$A$2:$A$57,""),0))} -> BLE TENDRE | C65: L'Aule métairie | D65: Heliosol | E65: L | F65: DIVERS

Sheet Parcellaire
A1: Année | B1: Culture | C1: Variété | D1: Parcelle
A2: 2013 | B2: TOURNESOL | C2: LG5474 | D2: Andres
A3: 2013 | B3: BLE DUR | C3: PESCADOUX | D3: Bousquet Château
A4: 2013 | B4: TOURNESOL | C4: SY SAMIN | D4: Bousquet Pourtanel
A5: 2013 | B5: GEL | C5: - | D5: Bousquet Prairie
A6: 2013 | B6: BLE DUR | C6: MIRADOUX | D6: Bousquet Route
A7: 2013 | B7: BLE DUR | C7: SCULPTUR | D7: Engleyse Bousquet
A8: 2013 | B8: SORGHO | C8: ARDITO | D8: Engleyse métairie
A9: 2013 | B9: SOJA | C9: ISIDOR | D9: Engleyse Route
A10: 2013 | B10: BLE DUR | C10: MIRADOUX | D10: Escarcelou
A11: 2013 | B11: BLE DUR | C11: MIRADOUX | D11: Escarcelou Jachère
A12: 2013 | B12: BLE DUR | C12: MIRADOUX | D12: Escarcelou Pte
A13: 2013 | B13: GEL | C13: - | D13: Gel fixe #1
... A57: 2014 | B57: TOURNESOL | C57: - | D57: Seillonne
