Workbook
Name A: PARAMS!$A:$A
Name BQC: PARAMS!$A:$A
Name Extract: Synthèse!$B$3

Sheet Synthèse
B1: Prévisionnel de trésorerie
B3: Compte | C3: BP
B4: Etablissement
C6: =IF(PARAMS!H$1="","","<= " & TEXT(PARAMS!H$1,"jj/mm")) -> <= 19/04 | D6: =IF(PARAMS!I$1="", "",TEXT(DATE(YEAR(PARAMS!H$1),MONTH(PARAMS!H$1),DAY(PARAMS!H$1)+1),"jj/mm") & " - " & TEXT(PARAMS!I$1,"jj/mm")) -> 20/04 - 26/04 | E6: =IF(PARAMS!J$1="", "",TEXT(DATE(YEAR(PARAMS!I$1),MONTH(PARAMS!I$1),DAY(PARAMS!I$1)+1),"jj/mm") & " - " & TEXT(PARAMS!J$1,"jj/mm")) -> 27/04 - 03/05 | F6: =IF(PARAMS!K$1="", "",TEXT(DATE(YEAR(PARAMS!J$1),MONTH(PARAMS!J$1),DAY(PARAMS!J$1)+1),"jj/mm") & " - " & TEXT(PARAMS!K$1,"jj/mm")) -> 04/05 - 10/05 | G6: =IF(PARAMS!L$1="", "",TEXT(DATE(YEAR(PARAMS!K$1),MONTH(PARAMS!K$1),DAY(PARAMS!K$1)+1),"jj/mm") & " - " & TEXT(PARAMS!L$1,"jj/mm")) -> 11/05 - 17/05 | H6: =IF(PARAMS!M$1="", "",TEXT(DATE(YEAR(PARAMS!L$1),MONTH(PARAMS!L$1),DAY(PARAMS!L$1)+1),"jj/mm") & " - " & TEXT(PARAMS!M$1,"jj/mm")) -> 18/05 - 19/05
B7: Solde calculé/reporté | C7: =SUMPRODUCT( (($C$3="")+(PARAMS!A2:A99=$C$3)), PARAMS!F3:F100) -> 15000 | D7: =IF(PARAMS!I$1="", "",C9) -> 23335 | E7: =IF(PARAMS!J$1="", "",D9) -> 23335 | F7: =IF(PARAMS!K$1="", "",E9) -> 28959 | G7: =IF(PARAMS!L$1="", "",F9) -> 38050.38 | H7: =IF(PARAMS!M$1="", "",G9) -> 58711.38
B8: Cumul des lignes | C8: =IF(PARAMS!H$1="", "",SUM(C11:C650)) -> 8335 | D8: =IF(PARAMS!I$1="", "",SUM(D11:D650)) -> 0 | E8: =IF(PARAMS!J$1="", "",SUM(E11:E650)) -> 5624 | F8: =IF(PARAMS!K$1="", "",SUM(F11:F650)) -> 9091.38 | G8: =IF(PARAMS!L$1="", "",SUM(G11:G650)) -> 20661 | H8: =IF(PARAMS!M$1="", "",SUM(H11:H650)) -> 0
B9: Nouveau solde | C9: =IF(PARAMS!H$1="", "",C8+C7) -> 23335 | D9: =IF(PARAMS!I$1="", "",D8+D7) -> 23335 | E9: =IF(PARAMS!J$1="", "",E8+E7) -> 28959 | F9: =IF(PARAMS!K$1="", "",F8+F7) -> 38050.38 | G9: =IF(PARAMS!L$1="", "",G8+G7) -> 58711.38 | H9: =IF(PARAMS!M$1="", "",H8+H7) -> 58711.38
B11: =IF(PARAMS!$E2="","",HYPERLINK("#"&PARAMS!D2&"!A1",PARAMS!E2)) | C11: =IF(OR(PARAMS!H$1="",PARAMS!$D2=""),"",PARAMS!$C2*SUMPRODUCT((INDIRECT("'"&PARAMS!$D2&"'!C2:C65000")>PARAMS!G$1)*((INDIRECT("'"&PARAMS!$D2&"'!C2:C65000")<=PARAMS!H$1))*(OR($C$3="",INDIRECT("'"&PARAMS!$D2&"'!A2:A65000")=$C$3))*(OR($C$4="",INDIRECT("'"&PARAMS!$D2&"'!B2:B65000")=$C$4)),INDIRECT("'"&PARAMS!$D2&"'!D2:D65000"))) | D11: =IF(OR(PARAMS!I$1="",PARAMS!$D2=""),"",PARAMS!$C2*SUMPRODUCT((INDIRECT("'"&PARAMS!$D2&"'!C2:C65000")>PARAMS!H$1)*((INDIRECT("'"&PARAMS!$D2&"'!C2:C65000")<=PARAMS!I$1))*(OR($C$3="",INDIRECT("'"&PARAMS!$D2&"'!A2:A65000")=$C$3))*(OR($C$4="",INDIRECT("'"&PARAMS!$D2&"'!B2:B65000")=$C$4)),INDIRECT("'"&PARAMS!$D2&"'!D2:D65000"))) | E11: =IF(OR(PARAMS!J$1="",PARAMS!$D2=""),"",PARAMS!$C2*SUMPRODUCT((INDIRECT("'"&PARAMS!$D2&"'!C2:C65000")>PARAMS!I$1)*((INDIRECT("'"&PARAMS!$D2&"'!C2:C65000")<=PARAMS!J$1))*(OR($C$3="",INDIRECT("'"&PARAMS!$D2&"'!A2:A65000")=$C$3))*(OR($C$4="",INDIRECT("'"&PARAMS!$D2&"'!B2:B65000")=$C$4)),INDIRECT("'"&PARAMS!$D2&"'!D2:D65000"))) | F11: =IF(OR(PARAMS!K$1="",PARAMS!$D2=""),"",PARAMS!$C2*SUMPRODUCT((INDIRECT("'"&PARAMS!$D2&"'!C2:C65000")>PARAMS!J$1)*((INDIRECT("'"&PARAMS!$D2&"'!C2:C65000")<=PARAMS!K$1))*(OR($C$3="",INDIRECT("'"&PARAMS!$D2&"'!A2:A65000")=$C$3))*(OR($C$4="",INDIRECT("'"&PARAMS!$D2&"'!B2:B65000")=$C$4)),INDIRECT("'"&PARAMS!$D2&"'!D2:D65000"))) | G11: =IF(OR(PARAMS!L$1="",PARAMS!$D2=""),"",PARAMS!$C2*SUMPRODUCT((INDIRECT("'"&PARAMS!$D2&"'!C2:C65000")>PARAMS!K$1)*((INDIRECT("'"&PARAMS!$D2&"'!C2:C65000")<=PARAMS!L$1))*(OR($C$3="",INDIRECT("'"&PARAMS!$D2&"'!A2:A65000")=$C$3))*(OR($C$4="",INDIRECT("'"&PARAMS!$D2&"'!B2:B65000")=$C$4)),INDIRECT("'"&PARAMS!$D2&"'!D2:D65000"))) | H11: =IF(OR(PARAMS!M$1="",PARAMS!$D2=""),"",PARAMS!$C2*SUMPRODUCT((INDIRECT("'"&PARAMS!$D2&"'!C2:C65000")>PARAMS!L$1)*((INDIRECT("'"&PARAMS!$D2&"'!C2:C65000")<=PARAMS!M$1))*(OR($C$3="",INDIRECT("'"&PARAMS!$D2&"'!A2:A65000")=$C$3))*(OR($C$4="",INDIRECT("'"&PARAMS!$D2&"'!B2:B65000")=$C$4)),INDIRECT("'"&PARAMS!$D2&"'!D2:D65000")))
B12: =IF(PARAMS!$E3="","",HYPERLINK("#"&PARAMS!D3&"!A1",PARAMS!E3)) -> Commandes client | C12: =IF(ISBLANK($C$3),IF(OR(PARAMS!H$1="",PARAMS!$D3=""),"",PARAMS!$C3*SUMPRODUCT((INDIRECT("'"&PARAMS!$D3&"'!C2:C65000")>PARAMS!G$1)*((INDIRECT("'"&PARAMS!$D3&"'!C2:C65000")<=PARAMS!H$1))*(OR($C$3="",INDIRECT("'"&PARAMS!$D3&"'!A2:A65000")=$C$3))*(OR($C$4="",INDIRECT("'"&PARAMS!$D3&"'!B2:B65000")=$C$4)),INDIRECT("'"&PARAMS!$D3&"'!D2:D65000"))),IF(OR(PARAMS!H$1="",PARAMS!$D3=""),"",PARAMS!$C3*SUMPRODUCT((INDIRECT("'"&PARAMS!$D3&"'!C2:C65000")>PARAMS!G$1)*((INDIRECT("'"&PARAMS!$D3&"'!C2:C65000")<=PARAMS!H$1))*(INDIRECT("'"&PARAMS!$D3&"'!A2:A65000")=$C$3)*(OR($C$4="",INDIRECT("'"&PARAMS!$D3&"'!B2:B65000")=$C$4)),INDIRECT("'"&PARAMS!$D3&"'!D2:D65000")))) -> 0 | D12: =IF(ISBLANK($C$3),IF(OR(PARAMS!I$1="",PARAMS!$D3=""),"",PARAMS!$C3*SUMPRODUCT((INDIRECT("'"&PARAMS!$D3&"'!C2:C65000")>PARAMS!H$1)*((INDIRECT("'"&PARAMS!$D3&"'!C2:C65000")<=PARAMS!I$1))*(OR($C$3="",INDIRECT("'"&PARAMS!$D3&"'!A2:A65000")=$C$3))*(OR($C$4="",INDIRECT("'"&PARAMS!$D3&"'!B2:B65000")=$C$4)),INDIRECT("'"&PARAMS!$D3&"'!D2:D65000"))),IF(OR(PARAMS!I$1="",PARAMS!$D3=""),"",PARAMS!$C3*SUMPRODUCT((INDIRECT("'"&PARAMS!$D3&"'!C2:C65000")>PARAMS!H$1)*((INDIRECT("'"&PARAMS!$D3&"'!C2:C65000")<=PARAMS!I$1))*(INDIRECT("'"&PARAMS!$D3&"'!A2:A65000")=$C$3)*(OR($C$4="",INDIRECT("'"&PARAMS!$D3&"'!B2:B65000")=$C$4)),INDIRECT("'"&PARAMS!$D3&"'!D2:D65000")))) -> 0 | E12: =IF(ISBLANK($C$3),IF(OR(PARAMS!J$1="",PARAMS!$D3=""),"",PARAMS!$C3*SUMPRODUCT((INDIRECT("'"&PARAMS!$D3&"'!C2:C65000")>PARAMS!I$1)*((INDIRECT("'"&PARAMS!$D3&"'!C2:C65000")<=PARAMS!J$1))*(OR($C$3="",INDIRECT("'"&PARAMS!$D3&"'!A2:A65000")=$C$3))*(OR($C$4="",INDIRECT("'"&PARAMS!$D3&"'!B2:B65000")=$C$4)),INDIRECT("'"&PARAMS!$D3&"'!D2:D65000"))),IF(OR(PARAMS!J$1="",PARAMS!$D3=""),"",PARAMS!$C3*SUMPRODUCT((INDIRECT("'"&PARAMS!$D3&"'!C2:C65000")>PARAMS!I$1)*((INDIRECT("'"&PARAMS!$D3&"'!C2:C65000")<=PARAMS!J$1))*(INDIRECT("'"&PARAMS!$D3&"'!A2:A65000")=$C$3)*(OR($C$4="",INDIRECT("'"&PARAMS!$D3&"'!B2:B65000")=$C$4)),INDIRECT("'"&PARAMS!$D3&"'!D2:D65000")))) -> 0 | F12: =IF(ISBLANK($C$3),IF(OR(PARAMS!K$1="",PARAMS!$D3=""),"",PARAMS!$C3*SUMPRODUCT((INDIRECT("'"&PARAMS!$D3&"'!C2:C65000")>PARAMS!J$1)*((INDIRECT("'"&PARAMS!$D3&"'!C2:C65000")<=PARAMS!K$1))*(OR($C$3="",INDIRECT("'"&PARAMS!$D3&"'!A2:A65000")=$C$3))*(OR($C$4="",INDIRECT("'"&PARAMS!$D3&"'!B2:B65000")=$C$4)),INDIRECT("'"&PARAMS!$D3&"'!D2:D65000"))),IF(OR(PARAMS!K$1="",PARAMS!$D3=""),"",PARAMS!$C3*SUMPRODUCT((INDIRECT("'"&PARAMS!$D3&"'!C2:C65000")>PARAMS!J$1)*((INDIRECT("'"&PARAMS!$D3&"'!C2:C65000")<=PARAMS!K$1))*(INDIRECT("'"&PARAMS!$D3&"'!A2:A65000")=$C$3)*(OR($C$4="",INDIRECT("'"&PARAMS!$D3&"'!B2:B65000")=$C$4)),INDIRECT("'"&PARAMS!$D3&"'!D2:D65000")))) -> 0 | G12: =IF(ISBLANK($C$3),IF(OR(PARAMS!L$1="",PARAMS!$D3=""),"",PARAMS!$C3*SUMPRODUCT((INDIRECT("'"&PARAMS!$D3&"'!C2:C65000")>PARAMS!K$1)*((INDIRECT("'"&PARAMS!$D3&"'!C2:C65000")<=PARAMS!L$1))*(OR($C$3="",INDIRECT("'"&PARAMS!$D3&"'!A2:A65000")=$C$3))*(OR($C$4="",INDIRECT("'"&PARAMS!$D3&"'!B2:B65000")=$C$4)),INDIRECT("'"&PARAMS!$D3&"'!D2:D65000"))),IF(OR(PARAMS!L$1="",PARAMS!$D3=""),"",PARAMS!$C3*SUMPRODUCT((INDIRECT("'"&PARAMS!$D3&"'!C2:C65000")>PARAMS!K$1)*((INDIRECT("'"&PARAMS!$D3&"'!C2:C65000")<=PARAMS!L$1))*(INDIRECT("'"&PARAMS!$D3&"'!A2:A65000")=$C$3)*(OR($C$4="",INDIRECT("'"&PARAMS!$D3&"'!B2:B65000")=$C$4)),INDIRECT("'"&PARAMS!$D3&"'!D2:D65000")))) -> 0 | H12: =IF(ISBLANK($C$3),IF(OR(PARAMS!M$1="",PARAMS!$D3=""),"",PARAMS!$C3*SUMPRODUCT((INDIRECT("'"&PARAMS!$D3&"'!C2:C65000")>PARAMS!L$1)*((INDIRECT("'"&PARAMS!$D3&"'!C2:C65000")<=PARAMS!M$1))*(OR($C$3="",INDIRECT("'"&PARAMS!$D3&"'!A2:A65000")=$C$3))*(OR($C$4="",INDIRECT("'"&PARAMS!$D3&"'!B2:B65000")=$C$4)),INDIRECT("'"&PARAMS!$D3&"'!D2:D65000"))),IF(OR(PARAMS!M$1="",PARAMS!$D3=""),"",PARAMS!$C3*SUMPRODUCT((INDIRECT("'"&PARAMS!$D3&"'!C2:C65000")>PARAMS!L$1)*((INDIRECT("'"&PARAMS!$D3&"'!C2:C65000")<=PARAMS!M$1))*(INDIRECT("'"&PARAMS!$D3&"'!A2:A65000")=$C$3)*(OR($C$4="",INDIRECT("'"&PARAMS!$D3&"'!B2:B65000")=$C$4)),INDIRECT("'"&PARAMS!$D3&"'!D2:D65000")))) -> 0
B13: =IF(PARAMS!$E4="","",HYPERLINK("#"&PARAMS!D4&"!A1",PARAMS!E4)) -> Commandes filiales - FI | C13: =IF(ISBLANK($C$3),IF(OR(PARAMS!H$1="",PARAMS!$D4=""),"",PARAMS!$C4*SUMPRODUCT((INDIRECT("'"&PARAMS!$D4&"'!C2:C65000")>PARAMS!G$1)*((INDIRECT("'"&PARAMS!$D4&"'!C2:C65000")<=PARAMS!H$1))*(OR($C$3="",INDIRECT("'"&PARAMS!$D4&"'!A2:A65000")=$C$3))*(OR($C$4="",INDIRECT("'"&PARAMS!$D4&"'!B2:B65000")=$C$4)),INDIRECT("'"&PARAMS!$D4&"'!D2:D65000"))),IF(OR(PARAMS!H$1="",PARAMS!$D4=""),"",PARAMS!$C4*SUMPRODUCT((INDIRECT("'"&PARAMS!$D4&"'!C2:C65000")>PARAMS!G$1)*((INDIRECT("'"&PARAMS!$D4&"'!C2:C65000")<=PARAMS!H$1))*(INDIRECT("'"&PARAMS!$D4&"'!A2:A65000")=$C$3)*(OR($C$4="",INDIRECT("'"&PARAMS!$D4&"'!B2:B65000")=$C$4)),INDIRECT("'"&PARAMS!$D4&"'!D2:D65000")))) -> 0 | D13: =IF(ISBLANK($C$3),IF(OR(PARAMS!I$1="",PARAMS!$D4=""),"",PARAMS!$C4*SUMPRODUCT((INDIRECT("'"&PARAMS!$D4&"'!C2:C65000")>PARAMS!H$1)*((INDIRECT("'"&PARAMS!$D4&"'!C2:C65000")<=PARAMS!I$1))*(OR($C$3="",INDIRECT("'"&PARAMS!$D4&"'!A2:A65000")=$C$3))*(OR($C$4="",INDIRECT("'"&PARAMS!$D4&"'!B2:B65000")=$C$4)),INDIRECT("'"&PARAMS!$D4&"'!D2:D65000"))),IF(OR(PARAMS!I$1="",PARAMS!$D4=""),"",PARAMS!$C4*SUMPRODUCT((INDIRECT("'"&PARAMS!$D4&"'!C2:C65000")>PARAMS!H$1)*((INDIRECT("'"&PARAMS!$D4&"'!C2:C65000")<=PARAMS!I$1))*(INDIRECT("'"&PARAMS!$D4&"'!A2:A65000")=$C$3)*(OR($C$4="",INDIRECT("'"&PARAMS!$D4&"'!B2:B65000")=$C$4)),INDIRECT("'"&PARAMS!$D4&"'!D2:D65000")))) -> 0 | E13: =IF(ISBLANK($C$3),IF(OR(PARAMS!J$1="",PARAMS!$D4=""),"",PARAMS!$C4*SUMPRODUCT((INDIRECT("'"&PARAMS!$D4&"'!C2:C65000")>PARAMS!I$1)*((INDIRECT("'"&PARAMS!$D4&"'!C2:C65000")<=PARAMS!J$1))*(OR($C$3="",INDIRECT("'"&PARAMS!$D4&"'!A2:A65000")=$C$3))*(OR($C$4="",INDIRECT("'"&PARAMS!$D4&"'!B2:B65000")=$C$4)),INDIRECT("'"&PARAMS!$D4&"'!D2:D65000"))),IF(OR(PARAMS!J$1="",PARAMS!$D4=""),"",PARAMS!$C4*SUMPRODUCT((INDIRECT("'"&PARAMS!$D4&"'!C2:C65000")>PARAMS!I$1)*((INDIRECT("'"&PARAMS!$D4&"'!C2:C65000")<=PARAMS!J$1))*(INDIRECT("'"&PARAMS!$D4&"'!A2:A65000")=$C$3)*(OR($C$4="",INDIRECT("'"&PARAMS!$D4&"'!B2:B65000")=$C$4)),INDIRECT("'"&PARAMS!$D4&"'!D2:D65000")))) -> 0 | F13: =IF(ISBLANK($C$3),IF(OR(PARAMS!K$1="",PARAMS!$D4=""),"",PARAMS!$C4*SUMPRODUCT((INDIRECT("'"&PARAMS!$D4&"'!C2:C65000")>PARAMS!J$1)*((INDIRECT("'"&PARAMS!$D4&"'!C2:C65000")<=PARAMS!K$1))*(OR($C$3="",INDIRECT("'"&PARAMS!$D4&"'!A2:A65000")=$C$3))*(OR($C$4="",INDIRECT("'"&PARAMS!$D4&"'!B2:B65000")=$C$4)),INDIRECT("'"&PARAMS!$D4&"'!D2:D65000"))),IF(OR(PARAMS!K$1="",PARAMS!$D4=""),"",PARAMS!$C4*SUMPRODUCT((INDIRECT("'"&PARAMS!$D4&"'!C2:C65000")>PARAMS!J$1)*((INDIRECT("'"&PARAMS!$D4&"'!C2:C65000")<=PARAMS!K$1))*(INDIRECT("'"&PARAMS!$D4&"'!A2:A65000")=$C$3)*(OR($C$4="",INDIRECT("'"&PARAMS!$D4&"'!B2:B65000")=$C$4)),INDIRECT("'"&PARAMS!$D4&"'!D2:D65000")))) -> 0 | G13: =IF(ISBLANK($C$3),IF(OR(PARAMS!L$1="",PARAMS!$D4=""),"",PARAMS!$C4*SUMPRODUCT((INDIRECT("'"&PARAMS!$D4&"'!C2:C65000")>PARAMS!K$1)*((INDIRECT("'"&PARAMS!$D4&"'!C2:C65000")<=PARAMS!L$1))*(OR($C$3="",INDIRECT("'"&PARAMS!$D4&"'!A2:A65000")=$C$3))*(OR($C$4="",INDIRECT("'"&PARAMS!$D4&"'!B2:B65000")=$C$4)),INDIRECT("'"&PARAMS!$D4&"'!D2:D65000"))),IF(OR(PARAMS!L$1="",PARAMS!$D4=""),"",PARAMS!$C4*SUMPRODUCT((INDIRECT("'"&PARAMS!$D4&"'!C2:C65000")>PARAMS!K$1)*((INDIRECT("'"&PARAMS!$D4&"'!C2:C65000")<=PARAMS!L$1))*(INDIRECT("'"&PARAMS!$D4&"'!A2:A65000")=$C$3)*(OR($C$4="",INDIRECT("'"&PARAMS!$D4&"'!B2:B65000")=$C$4)),INDIRECT("'"&PARAMS!$D4&"'!D2:D65000")))) -> 0 | H13: =IF(ISBLANK($C$3),IF(OR(PARAMS!M$1="",PARAMS!$D4=""),"",PARAMS!$C4*SUMPRODUCT((INDIRECT("'"&PARAMS!$D4&"'!C2:C65000")>PARAMS!L$1)*((INDIRECT("'"&PARAMS!$D4&"'!C2:C65000")<=PARAMS!M$1))*(OR($C$3="",INDIRECT("'"&PARAMS!$D4&"'!A2:A65000")=$C$3))*(OR($C$4="",INDIRECT("'"&PARAMS!$D4&"'!B2:B65000")=$C$4)),INDIRECT("'"&PARAMS!$D4&"'!D2:D65000"))),IF(OR(PARAMS!M$1="",PARAMS!$D4=""),"",PARAMS!$C4*SUMPRODUCT((INDIRECT("'"&PARAMS!$D4&"'!C2:C65000")>PARAMS!L$1)*((INDIRECT("'"&PARAMS!$D4&"'!C2:C65000")<=PARAMS!M$1))*(INDIRECT("'"&PARAMS!$D4&"'!A2:A65000")=$C$3)*(OR($C$4="",INDIRECT("'"&PARAMS!$D4&"'!B2:B65000")=$C$4)),INDIRECT("'"&PARAMS!$D4&"'!D2:D65000")))) -> 0
B14: =IF(PARAMS!$E5="","",HYPERLINK("#"&PARAMS!D5&"!A1",PARAMS!E5)) -> Commandes filiales - FIMP | C14: =IF(ISBLANK($C$3),IF(OR(PARAMS!H$1="",PARAMS!$D5=""),"",PARAMS!$C5*SUMPRODUCT((INDIRECT("'"&PARAMS!$D5&"'!C2:C65000")>PARAMS!G$1)*((INDIRECT("'"&PARAMS!$D5&"'!C2:C65000")<=PARAMS!H$1))*(OR($C$3="",INDIRECT("'"&PARAMS!$D5&"'!A2:A65000")=$C$3))*(OR($C$4="",INDIRECT("'"&PARAMS!$D5&"'!B2:B65000")=$C$4)),INDIRECT("'"&PARAMS!$D5&"'!D2:D65000"))),IF(OR(PARAMS!H$1="",PARAMS!$D5=""),"",PARAMS!$C5*SUMPRODUCT((INDIRECT("'"&PARAMS!$D5&"'!C2:C65000")>PARAMS!G$1)*((INDIRECT("'"&PARAMS!$D5&"'!C2:C65000")<=PARAMS!H$1))*(INDIRECT("'"&PARAMS!$D5&"'!A2:A65000")=$C$3)*(OR($C$4="",INDIRECT("'"&PARAMS!$D5&"'!B2:B65000")=$C$4)),INDIRECT("'"&PARAMS!$D5&"'!D2:D65000")))) -> 0 | D14: =IF(ISBLANK($C$3),IF(OR(PARAMS!I$1="",PARAMS!$D5=""),"",PARAMS!$C5*SUMPRODUCT((INDIRECT("'"&PARAMS!$D5&"'!C2:C65000")>PARAMS!H$1)*((INDIRECT("'"&PARAMS!$D5&"'!C2:C65000")<=PARAMS!I$1))*(OR($C$3="",INDIRECT("'"&PARAMS!$D5&"'!A2:A65000")=$C$3))*(OR($C$4="",INDIRECT("'"&PARAMS!$D5&"'!B2:B65000")=$C$4)),INDIRECT("'"&PARAMS!$D5&"'!D2:D65000"))),IF(OR(PARAMS!I$1="",PARAMS!$D5=""),"",PARAMS!$C5*SUMPRODUCT((INDIRECT("'"&PARAMS!$D5&"'!C2:C65000")>PARAMS!H$1)*((INDIRECT("'"&PARAMS!$D5&"'!C2:C65000")<=PARAMS!I$1))*(INDIRECT("'"&PARAMS!$D5&"'!A2:A65000")=$C$3)*(OR($C$4="",INDIRECT("'"&PARAMS!$D5&"'!B2:B65000")=$C$4)),INDIRECT("'"&PARAMS!$D5&"'!D2:D65000")))) -> 0 | E14: =IF(ISBLANK($C$3),IF(OR(PARAMS!J$1="",PARAMS!$D5=""),"",PARAMS!$C5*SUMPRODUCT((INDIRECT("'"&PARAMS!$D5&"'!C2:C65000")>PARAMS!I$1)*((INDIRECT("'"&PARAMS!$D5&"'!C2:C65000")<=PARAMS!J$1))*(OR($C$3="",INDIRECT("'"&PARAMS!$D5&"'!A2:A65000")=$C$3))*(OR($C$4="",INDIRECT("'"&PARAMS!$D5&"'!B2:B65000")=$C$4)),INDIRECT("'"&PARAMS!$D5&"'!D2:D65000"))),IF(OR(PARAMS!J$1="",PARAMS!$D5=""),"",PARAMS!$C5*SUMPRODUCT((INDIRECT("'"&PARAMS!$D5&"'!C2:C65000")>PARAMS!I$1)*((INDIRECT("'"&PARAMS!$D5&"'!C2:C65000")<=PARAMS!J$1))*(INDIRECT("'"&PARAMS!$D5&"'!A2:A65000")=$C$3)*(OR($C$4="",INDIRECT("'"&PARAMS!$D5&"'!B2:B65000")=$C$4)),INDIRECT("'"&PARAMS!$D5&"'!D2:D65000")))) -> 0 | F14: =IF(ISBLANK($C$3),IF(OR(PARAMS!K$1="",PARAMS!$D5=""),"",PARAMS!$C5*SUMPRODUCT((INDIRECT("'"&PARAMS!$D5&"'!C2:C65000")>PARAMS!J$1)*((INDIRECT("'"&PARAMS!$D5&"'!C2:C65000")<=PARAMS!K$1))*(OR($C$3="",INDIRECT("'"&PARAMS!$D5&"'!A2:A65000")=$C$3))*(OR($C$4="",INDIRECT("'"&PARAMS!$D5&"'!B2:B65000")=$C$4)),INDIRECT("'"&PARAMS!$D5&"'!D2:D65000"))),IF(OR(PARAMS!K$1="",PARAMS!$D5=""),"",PARAMS!$C5*SUMPRODUCT((INDIRECT("'"&PARAMS!$D5&"'!C2:C65000")>PARAMS!J$1)*((INDIRECT("'"&PARAMS!$D5&"'!C2:C65000")<=PARAMS!K$1))*(INDIRECT("'"&PARAMS!$D5&"'!A2:A65000")=$C$3)*(OR($C$4="",INDIRECT("'"&PARAMS!$D5&"'!B2:B65000")=$C$4)),INDIRECT("'"&PARAMS!$D5&"'!D2:D65000")))) -> 0 | G14: =IF(ISBLANK($C$3),IF(OR(PARAMS!L$1="",PARAMS!$D5=""),"",PARAMS!$C5*SUMPRODUCT((INDIRECT("'"&PARAMS!$D5&"'!C2:C65000")>PARAMS!K$1)*((INDIRECT("'"&PARAMS!$D5&"'!C2:C65000")<=PARAMS!L$1))*(OR($C$3="",INDIRECT("'"&PARAMS!$D5&"'!A2:A65000")=$C$3))*(OR($C$4="",INDIRECT("'"&PARAMS!$D5&"'!B2:B65000")=$C$4)),INDIRECT("'"&PARAMS!$D5&"'!D2:D65000"))),IF(OR(PARAMS!L$1="",PARAMS!$D5=""),"",PARAMS!$C5*SUMPRODUCT((INDIRECT("'"&PARAMS!$D5&"'!C2:C65000")>PARAMS!K$1)*((INDIRECT("'"&PARAMS!$D5&"'!C2:C65000")<=PARAMS!L$1))*(INDIRECT("'"&PARAMS!$D5&"'!A2:A65000")=$C$3)*(OR($C$4="",INDIRECT("'"&PARAMS!$D5&"'!B2:B65000")=$C$4)),INDIRECT("'"&PARAMS!$D5&"'!D2:D65000")))) -> 0 | H14: =IF(ISBLANK($C$3),IF(OR(PARAMS!M$1="",PARAMS!$D5=""),"",PARAMS!$C5*SUMPRODUCT((INDIRECT("'"&PARAMS!$D5&"'!C2:C65000")>PARAMS!L$1)*((INDIRECT("'"&PARAMS!$D5&"'!C2:C65000")<=PARAMS!M$1))*(OR($C$3="",INDIRECT("'"&PARAMS!$D5&"'!A2:A65000")=$C$3))*(OR($C$4="",INDIRECT("'"&PARAMS!$D5&"'!B2:B65000")=$C$4)),INDIRECT("'"&PARAMS!$D5&"'!D2:D65000"))),IF(OR(PARAMS!M$1="",PARAMS!$D5=""),"",PARAMS!$C5*SUMPRODUCT((INDIRECT("'"&PARAMS!$D5&"'!C2:C65000")>PARAMS!L$1)*((INDIRECT("'"&PARAMS!$D5&"'!C2:C65000")<=PARAMS!M$1))*(INDIRECT("'"&PARAMS!$D5&"'!A2:A65000")=$C$3)*(OR($C$4="",INDIRECT("'"&PARAMS!$D5&"'!B2:B65000")=$C$4)),INDIRECT("'"&PARAMS!$D5&"'!D2:D65000")))) -> 0
B15: =IF(PARAMS!$E6="","",HYPERLINK("#"&PARAMS!D6&"!A1",PARAMS!E6)) -> BL client | C15: =IF(ISBLANK($C$3),IF(OR(PARAMS!H$1="",PARAMS!$D6=""),"",PARAMS!$C6*SUMPRODUCT((INDIRECT("'"&PARAMS!$D6&"'!C2:C65000")>PARAMS!G$1)*((INDIRECT("'"&PARAMS!$D6&"'!C2:C65000")<=PARAMS!H$1))*(OR($C$3="",INDIRECT("'"&PARAMS!$D6&"'!A2:A65000")=$C$3))*(OR($C$4="",INDIRECT("'"&PARAMS!$D6&"'!B2:B65000")=$C$4)),INDIRECT("'"&PARAMS!$D6&"'!D2:D65000"))),IF(OR(PARAMS!H$1="",PARAMS!$D6=""),"",PARAMS!$C6*SUMPRODUCT((INDIRECT("'"&PARAMS!$D6&"'!C2:C65000")>PARAMS!G$1)*((INDIRECT("'"&PARAMS!$D6&"'!C2:C65000")<=PARAMS!H$1))*(INDIRECT("'"&PARAMS!$D6&"'!A2:A65000")=$C$3)*(OR($C$4="",INDIRECT("'"&PARAMS!$D6&"'!B2:B65000")=$C$4)),INDIRECT("'"&PARAMS!$D6&"'!D2:D65000")))) -> 0 | D15: =IF(ISBLANK($C$3),IF(OR(PARAMS!I$1="",PARAMS!$D6=""),"",PARAMS!$C6*SUMPRODUCT((INDIRECT("'"&PARAMS!$D6&"'!C2:C65000")>PARAMS!H$1)*((INDIRECT("'"&PARAMS!$D6&"'!C2:C65000")<=PARAMS!I$1))*(OR($C$3="",INDIRECT("'"&PARAMS!$D6&"'!A2:A65000")=$C$3))*(OR($C$4="",INDIRECT("'"&PARAMS!$D6&"'!B2:B65000")=$C$4)),INDIRECT("'"&PARAMS!$D6&"'!D2:D65000"))),IF(OR(PARAMS!I$1="",PARAMS!$D6=""),"",PARAMS!$C6*SUMPRODUCT((INDIRECT("'"&PARAMS!$D6&"'!C2:C65000")>PARAMS!H$1)*((INDIRECT("'"&PARAMS!$D6&"'!C2:C65000")<=PARAMS!I$1))*(INDIRECT("'"&PARAMS!$D6&"'!A2:A65000")=$C$3)*(OR($C$4="",INDIRECT("'"&PARAMS!$D6&"'!B2:B65000")=$C$4)),INDIRECT("'"&PARAMS!$D6&"'!D2:D65000")))) -> 0 | E15: =IF(ISBLANK($C$3),IF(OR(PARAMS!J$1="",PARAMS!$D6=""),"",PARAMS!$C6*SUMPRODUCT((INDIRECT("'"&PARAMS!$D6&"'!C2:C65000")>PARAMS!I$1)*((INDIRECT("'"&PARAMS!$D6&"'!C2:C65000")<=PARAMS!J$1))*(OR($C$3="",INDIRECT("'"&PARAMS!$D6&"'!A2:A65000")=$C$3))*(OR($C$4="",INDIRECT("'"&PARAMS!$D6&"'!B2:B65000")=$C$4)),INDIRECT("'"&PARAMS!$D6&"'!D2:D65000"))),IF(OR(PARAMS!J$1="",PARAMS!$D6=""),"",PARAMS!$C6*SUMPRODUCT((INDIRECT("'"&PARAMS!$D6&"'!C2:C65000")>PARAMS!I$1)*((INDIRECT("'"&PARAMS!$D6&"'!C2:C65000")<=PARAMS!J$1))*(INDIRECT("'"&PARAMS!$D6&"'!A2:A65000")=$C$3)*(OR($C$4="",INDIRECT("'"&PARAMS!$D6&"'!B2:B65000")=$C$4)),INDIRECT("'"&PARAMS!$D6&"'!D2:D65000")))) -> 0 | F15: =IF(ISBLANK($C$3),IF(OR(PARAMS!K$1="",PARAMS!$D6=""),"",PARAMS!$C6*SUMPRODUCT((INDIRECT("'"&PARAMS!$D6&"'!C2:C65000")>PARAMS!J$1)*((INDIRECT("'"&PARAMS!$D6&"'!C2:C65000")<=PARAMS!K$1))*(OR($C$3="",INDIRECT("'"&PARAMS!$D6&"'!A2:A65000")=$C$3))*(OR($C$4="",INDIRECT("'"&PARAMS!$D6&"'!B2:B65000")=$C$4)),INDIRECT("'"&PARAMS!$D6&"'!D2:D65000"))),IF(OR(PARAMS!K$1="",PARAMS!$D6=""),"",PARAMS!$C6*SUMPRODUCT((INDIRECT("'"&PARAMS!$D6&"'!C2:C65000")>PARAMS!J$1)*((INDIRECT("'"&PARAMS!$D6&"'!C2:C65000")<=PARAMS!K$1))*(INDIRECT("'"&PARAMS!$D6&"'!A2:A65000")=$C$3)*(OR($C$4="",INDIRECT("'"&PARAMS!$D6&"'!B2:B65000")=$C$4)),INDIRECT("'"&PARAMS!$D6&"'!D2:D65000")))) -> 0 | G15: =IF(ISBLANK($C$3),IF(OR(PARAMS!L$1="",PARAMS!$D6=""),"",PARAMS!$C6*SUMPRODUCT((INDIRECT("'"&PARAMS!$D6&"'!C2:C65000")>PARAMS!K$1)*((INDIRECT("'"&PARAMS!$D6&"'!C2:C65000")<=PARAMS!L$1))*(OR($C$3="",INDIRECT("'"&PARAMS!$D6&"'!A2:A65000")=$C$3))*(OR($C$4="",INDIRECT("'"&PARAMS!$D6&"'!B2:B65000")=$C$4)),INDIRECT("'"&PARAMS!$D6&"'!D2:D65000"))),IF(OR(PARAMS!L$1="",PARAMS!$D6=""),"",PARAMS!$C6*SUMPRODUCT((INDIRECT("'"&PARAMS!$D6&"'!C2:C65000")>PARAMS!K$1)*((INDIRECT("'"&PARAMS!$D6&"'!C2:C65000")<=PARAMS!L$1))*(INDIRECT("'"&PARAMS!$D6&"'!A2:A65000")=$C$3)*(OR($C$4="",INDIRECT("'"&PARAMS!$D6&"'!B2:B65000")=$C$4)),INDIRECT("'"&PARAMS!$D6&"'!D2:D65000")))) -> 0 | H15: =IF(ISBLANK($C$3),IF(OR(PARAMS!M$1="",PARAMS!$D6=""),"",PARAMS!$C6*SUMPRODUCT((INDIRECT("'"&PARAMS!$D6&"'!C2:C65000")>PARAMS!L$1)*((INDIRECT("'"&PARAMS!$D6&"'!C2:C65000")<=PARAMS!M$1))*(OR($C$3="",INDIRECT("'"&PARAMS!$D6&"'!A2:A65000")=$C$3))*(OR($C$4="",INDIRECT("'"&PARAMS!$D6&"'!B2:B65000")=$C$4)),INDIRECT("'"&PARAMS!$D6&"'!D2:D65000"))),IF(OR(PARAMS!M$1="",PARAMS!$D6=""),"",PARAMS!$C6*SUMPRODUCT((INDIRECT("'"&PARAMS!$D6&"'!C2:C65000")>PARAMS!L$1)*((INDIRECT("'"&PARAMS!$D6&"'!C2:C65000")<=PARAMS!M$1))*(INDIRECT("'"&PARAMS!$D6&"'!A2:A65000")=$C$3)*(OR($C$4="",INDIRECT("'"&PARAMS!$D6&"'!B2:B65000")=$C$4)),INDIRECT("'"&PARAMS!$D6&"'!D2:D65000")))) -> 0
B16: =IF(PARAMS!$E7="","",HYPERLINK("#"&PARAMS!D7&"!A1",PARAMS!E7)) -> BL filiales -FI | C16: =IF(ISBLANK($C$3),IF(OR(PARAMS!H$1="",PARAMS!$D7=""),"",PARAMS!$C7*SUMPRODUCT((INDIRECT("'"&PARAMS!$D7&"'!C2:C65000")>PARAMS!G$1)*((INDIRECT("'"&PARAMS!$D7&"'!C2:C65000")<=PARAMS!H$1))*(OR($C$3="",INDIRECT("'"&PARAMS!$D7&"'!A2:A65000")=$C$3))*(OR($C$4="",INDIRECT("'"&PARAMS!$D7&"'!B2:B65000")=$C$4)),INDIRECT("'"&PARAMS!$D7&"'!D2:D65000"))),IF(OR(PARAMS!H$1="",PARAMS!$D7=""),"",PARAMS!$C7*SUMPRODUCT((INDIRECT("'"&PARAMS!$D7&"'!C2:C65000")>PARAMS!G$1)*((INDIRECT("'"&PARAMS!$D7&"'!C2:C65000")<=PARAMS!H$1))*(INDIRECT("'"&PARAMS!$D7&"'!A2:A65000")=$C$3)*(OR($C$4="",INDIRECT("'"&PARAMS!$D7&"'!B2:B65000")=$C$4)),INDIRECT("'"&PARAMS!$D7&"'!D2:D65000")))) -> 0 | D16: =IF(ISBLANK($C$3),IF(OR(PARAMS!I$1="",PARAMS!$D7=""),"",PARAMS!$C7*SUMPRODUCT((INDIRECT("'"&PARAMS!$D7&"'!C2:C65000")>PARAMS!H$1)*((INDIRECT("'"&PARAMS!$D7&"'!C2:C65000")<=PARAMS!I$1))*(OR($C$3="",INDIRECT("'"&PARAMS!$D7&"'!A2:A65000")=$C$3))*(OR($C$4="",INDIRECT("'"&PARAMS!$D7&"'!B2:B65000")=$C$4)),INDIRECT("'"&PARAMS!$D7&"'!D2:D65000"))),IF(OR(PARAMS!I$1="",PARAMS!$D7=""),"",PARAMS!$C7*SUMPRODUCT((INDIRECT("'"&PARAMS!$D7&"'!C2:C65000")>PARAMS!H$1)*((INDIRECT("'"&PARAMS!$D7&"'!C2:C65000")<=PARAMS!I$1))*(INDIRECT("'"&PARAMS!$D7&"'!A2:A65000")=$C$3)*(OR($C$4="",INDIRECT("'"&PARAMS!$D7&"'!B2:B65000")=$C$4)),INDIRECT("'"&PARAMS!$D7&"'!D2:D65000")))) -> 0 | E16: =IF(ISBLANK($C$3),IF(OR(PARAMS!J$1="",PARAMS!$D7=""),"",PARAMS!$C7*SUMPRODUCT((INDIRECT("'"&PARAMS!$D7&"'!C2:C65000")>PARAMS!I$1)*((INDIRECT("'"&PARAMS!$D7&"'!C2:C65000")<=PARAMS!J$1))*(OR($C$3="",INDIRECT("'"&PARAMS!$D7&"'!A2:A65000")=$C$3))*(OR($C$4="",INDIRECT("'"&PARAMS!$D7&"'!B2:B65000")=$C$4)),INDIRECT("'"&PARAMS!$D7&"'!D2:D65000"))),IF(OR(PARAMS!J$1="",PARAMS!$D7=""),"",PARAMS!$C7*SUMPRODUCT((INDIRECT("'"&PARAMS!$D7&"'!C2:C65000")>PARAMS!I$1)*((INDIRECT("'"&PARAMS!$D7&"'!C2:C65000")<=PARAMS!J$1))*(INDIRECT("'"&PARAMS!$D7&"'!A2:A65000")=$C$3)*(OR($C$4="",INDIRECT("'"&PARAMS!$D7&"'!B2:B65000")=$C$4)),INDIRECT("'"&PARAMS!$D7&"'!D2:D65000")))) -> 0 | F16: =IF(ISBLANK($C$3),IF(OR(PARAMS!K$1="",PARAMS!$D7=""),"",PARAMS!$C7*SUMPRODUCT((INDIRECT("'"&PARAMS!$D7&"'!C2:C65000")>PARAMS!J$1)*((INDIRECT("'"&PARAMS!$D7&"'!C2:C65000")<=PARAMS!K$1))*(OR($C$3="",INDIRECT("'"&PARAMS!$D7&"'!A2:A65000")=$C$3))*(OR($C$4="",INDIRECT("'"&PARAMS!$D7&"'!B2:B65000")=$C$4)),INDIRECT("'"&PARAMS!$D7&"'!D2:D65000"))),IF(OR(PARAMS!K$1="",PARAMS!$D7=""),"",PARAMS!$C7*SUMPRODUCT((INDIRECT("'"&PARAMS!$D7&"'!C2:C65000")>PARAMS!J$1)*((INDIRECT("'"&PARAMS!$D7&"'!C2:C65000")<=PARAMS!K$1))*(INDIRECT("'"&PARAMS!$D7&"'!A2:A65000")=$C$3)*(OR($C$4="",INDIRECT("'"&PARAMS!$D7&"'!B2:B65000")=$C$4)),INDIRECT("'"&PARAMS!$D7&"'!D2:D65000")))) -> 0 | G16: =IF(ISBLANK($C$3),IF(OR(PARAMS!L$1="",PARAMS!$D7=""),"",PARAMS!$C7*SUMPRODUCT((INDIRECT("'"&PARAMS!$D7&"'!C2:C65000")>PARAMS!K$1)*((INDIRECT("'"&PARAMS!$D7&"'!C2:C65000")<=PARAMS!L$1))*(OR($C$3="",INDIRECT("'"&PARAMS!$D7&"'!A2:A65000")=$C$3))*(OR($C$4="",INDIRECT("'"&PARAMS!$D7&"'!B2:B65000")=$C$4)),INDIRECT("'"&PARAMS!$D7&"'!D2:D65000"))),IF(OR(PARAMS!L$1="",PARAMS!$D7=""),"",PARAMS!$C7*SUMPRODUCT((INDIRECT("'"&PARAMS!$D7&"'!C2:C65000")>PARAMS!K$1)*((INDIRECT("'"&PARAMS!$D7&"'!C2:C65000")<=PARAMS!L$1))*(INDIRECT("'"&PARAMS!$D7&"'!A2:A65000")=$C$3)*(OR($C$4="",INDIRECT("'"&PARAMS!$D7&"'!B2:B65000")=$C$4)),INDIRECT("'"&PARAMS!$D7&"'!D2:D65000")))) -> 0 | H16: =IF(ISBLANK($C$3),IF(OR(PARAMS!M$1="",PARAMS!$D7=""),"",PARAMS!$C7*SUMPRODUCT((INDIRECT("'"&PARAMS!$D7&"'!C2:C65000")>PARAMS!L$1)*((INDIRECT("'"&PARAMS!$D7&"'!C2:C65000")<=PARAMS!M$1))*(OR($C$3="",INDIRECT("'"&PARAMS!$D7&"'!A2:A65000")=$C$3))*(OR($C$4="",INDIRECT("'"&PARAMS!$D7&"'!B2:B65000")=$C$4)),INDIRECT("'"&PARAMS!$D7&"'!D2:D65000"))),IF(OR(PARAMS!M$1="",PARAMS!$D7=""),"",PARAMS!$C7*SUMPRODUCT((INDIRECT("'"&PARAMS!$D7&"'!C2:C65000")>PARAMS!L$1)*((INDIRECT("'"&PARAMS!$D7&"'!C2:C65000")<=PARAMS!M$1))*(INDIRECT("'"&PARAMS!$D7&"'!A2:A65000")=$C$3)*(OR($C$4="",INDIRECT("'"&PARAMS!$D7&"'!B2:B65000")=$C$4)),INDIRECT("'"&PARAMS!$D7&"'!D2:D65000")))) -> 0
B17: =IF(PARAMS!$E8="","",HYPERLINK("#"&PARAMS!D8&"!A1",PARAMS!E8)) -> BL filiales -FIMP | C17: =IF(ISBLANK($C$3),IF(OR(PARAMS!H$1="",PARAMS!$D8=""),"",PARAMS!$C8*SUMPRODUCT((INDIRECT("'"&PARAMS!$D8&"'!C2:C65000")>PARAMS!G$1)*((INDIRECT("'"&PARAMS!$D8&"'!C2:C65000")<=PARAMS!H$1))*(OR($C$3="",INDIRECT("'"&PARAMS!$D8&"'!A2:A65000")=$C$3))*(OR($C$4="",INDIRECT("'"&PARAMS!$D8&"'!B2:B65000")=$C$4)),INDIRECT("'"&PARAMS!$D8&"'!D2:D65000"))),IF(OR(PARAMS!H$1="",PARAMS!$D8=""),"",PARAMS!$C8*SUMPRODUCT((INDIRECT("'"&PARAMS!$D8&"'!C2:C65000")>PARAMS!G$1)*((INDIRECT("'"&PARAMS!$D8&"'!C2:C65000")<=PARAMS!H$1))*(INDIRECT("'"&PARAMS!$D8&"'!A2:A65000")=$C$3)*(OR($C$4="",INDIRECT("'"&PARAMS!$D8&"'!B2:B65000")=$C$4)),INDIRECT("'"&PARAMS!$D8&"'!D2:D65000")))) -> 0 | D17: =IF(ISBLANK($C$3),IF(OR(PARAMS!I$1="",PARAMS!$D8=""),"",PARAMS!$C8*SUMPRODUCT((INDIRECT("'"&PARAMS!$D8&"'!C2:C65000")>PARAMS!H$1)*((INDIRECT("'"&PARAMS!$D8&"'!C2:C65000")<=PARAMS!I$1))*(OR($C$3="",INDIRECT("'"&PARAMS!$D8&"'!A2:A65000")=$C$3))*(OR($C$4="",INDIRECT("'"&PARAMS!$D8&"'!B2:B65000")=$C$4)),INDIRECT("'"&PARAMS!$D8&"'!D2:D65000"))),IF(OR(PARAMS!I$1="",PARAMS!$D8=""),"",PARAMS!$C8*SUMPRODUCT((INDIRECT("'"&PARAMS!$D8&"'!C2:C65000")>PARAMS!H$1)*((INDIRECT("'"&PARAMS!$D8&"'!C2:C65000")<=PARAMS!I$1))*(INDIRECT("'"&PARAMS!$D8&"'!A2:A65000")=$C$3)*(OR($C$4="",INDIRECT("'"&PARAMS!$D8&"'!B2:B65000")=$C$4)),INDIRECT("'"&PARAMS!$D8&"'!D2:D65000")))) -> 0 | E17: =IF(ISBLANK($C$3),IF(OR(PARAMS!J$1="",PARAMS!$D8=""),"",PARAMS!$C8*SUMPRODUCT((INDIRECT("'"&PARAMS!$D8&"'!C2:C65000")>PARAMS!I$1)*((INDIRECT("'"&PARAMS!$D8&"'!C2:C65000")<=PARAMS!J$1))*(OR($C$3="",INDIRECT("'"&PARAMS!$D8&"'!A2:A65000")=$C$3))*(OR($C$4="",INDIRECT("'"&PARAMS!$D8&"'!B2:B65000")=$C$4)),INDIRECT("'"&PARAMS!$D8&"'!D2:D65000"))),IF(OR(PARAMS!J$1="",PARAMS!$D8=""),"",PARAMS!$C8*SUMPRODUCT((INDIRECT("'"&PARAMS!$D8&"'!C2:C65000")>PARAMS!I$1)*((INDIRECT("'"&PARAMS!$D8&"'!C2:C65000")<=PARAMS!J$1))*(INDIRECT("'"&PARAMS!$D8&"'!A2:A65000")=$C$3)*(OR($C$4="",INDIRECT("'"&PARAMS!$D8&"'!B2:B65000")=$C$4)),INDIRECT("'"&PARAMS!$D8&"'!D2:D65000")))) -> 0 | F17: =IF(ISBLANK($C$3),IF(OR(PARAMS!K$1="",PARAMS!$D8=""),"",PARAMS!$C8*SUMPRODUCT((INDIRECT("'"&PARAMS!$D8&"'!C2:C65000")>PARAMS!J$1)*((INDIRECT("'"&PARAMS!$D8&"'!C2:C65000")<=PARAMS!K$1))*(OR($C$3="",INDIRECT("'"&PARAMS!$D8&"'!A2:A65000")=$C$3))*(OR($C$4="",INDIRECT("'"&PARAMS!$D8&"'!B2:B65000")=$C$4)),INDIRECT("'"&PARAMS!$D8&"'!D2:D65000"))),IF(OR(PARAMS!K$1="",PARAMS!$D8=""),"",PARAMS!$C8*SUMPRODUCT((INDIRECT("'"&PARAMS!$D8&"'!C2:C65000")>PARAMS!J$1)*((INDIRECT("'"&PARAMS!$D8&"'!C2:C65000")<=PARAMS!K$1))*(INDIRECT("'"&PARAMS!$D8&"'!A2:A65000")=$C$3)*(OR($C$4="",INDIRECT("'"&PARAMS!$D8&"'!B2:B65000")=$C$4)),INDIRECT("'"&PARAMS!$D8&"'!D2:D65000")))) -> 0 | G17: =IF(ISBLANK($C$3),IF(OR(PARAMS!L$1="",PARAMS!$D8=""),"",PARAMS!$C8*SUMPRODUCT((INDIRECT("'"&PARAMS!$D8&"'!C2:C65000")>PARAMS!K$1)*((INDIRECT("'"&PARAMS!$D8&"'!C2:C65000")<=PARAMS!L$1))*(OR($C$3="",INDIRECT("'"&PARAMS!$D8&"'!A2:A65000")=$C$3))*(OR($C$4="",INDIRECT("'"&PARAMS!$D8&"'!B2:B65000")=$C$4)),INDIRECT("'"&PARAMS!$D8&"'!D2:D65000"))),IF(OR(PARAMS!L$1="",PARAMS!$D8=""),"",PARAMS!$C8*SUMPRODUCT((INDIRECT("'"&PARAMS!$D8&"'!C2:C65000")>PARAMS!K$1)*((INDIRECT("'"&PARAMS!$D8&"'!C2:C65000")<=PARAMS!L$1))*(INDIRECT("'"&PARAMS!$D8&"'!A2:A65000")=$C$3)*(OR($C$4="",INDIRECT("'"&PARAMS!$D8&"'!B2:B65000")=$C$4)),INDIRECT("'"&PARAMS!$D8&"'!D2:D65000")))) -> 0 | H17: =IF(ISBLANK($C$3),IF(OR(PARAMS!M$1="",PARAMS!$D8=""),"",PARAMS!$C8*SUMPRODUCT((INDIRECT("'"&PARAMS!$D8&"'!C2:C65000")>PARAMS!L$1)*((INDIRECT("'"&PARAMS!$D8&"'!C2:C65000")<=PARAMS!M$1))*(OR($C$3="",INDIRECT("'"&PARAMS!$D8&"'!A2:A65000")=$C$3))*(OR($C$4="",INDIRECT("'"&PARAMS!$D8&"'!B2:B65000")=$C$4)),INDIRECT("'"&PARAMS!$D8&"'!D2:D65000"))),IF(OR(PARAMS!M$1="",PARAMS!$D8=""),"",PARAMS!$C8*SUMPRODUCT((INDIRECT("'"&PARAMS!$D8&"'!C2:C65000")>PARAMS!L$1)*((INDIRECT("'"&PARAMS!$D8&"'!C2:C65000")<=PARAMS!M$1))*(INDIRECT("'"&PARAMS!$D8&"'!A2:A65000")=$C$3)*(OR($C$4="",INDIRECT("'"&PARAMS!$D8&"'!B2:B65000")=$C$4)),INDIRECT("'"&PARAMS!$D8&"'!D2:D65000")))) -> 0
B18: =IF(PARAMS!$E9="","",HYPERLINK("#"&PARAMS!D9&"!A1",PARAMS!E9)) -> Factures client non comptabilisées | C18: =IF(ISBLANK($C$3),IF(OR(PARAMS!H$1="",PARAMS!$D9=""),"",PARAMS!$C9*SUMPRODUCT((INDIRECT("'"&PARAMS!$D9&"'!C2:C65000")>PARAMS!G$1)*((INDIRECT("'"&PARAMS!$D9&"'!C2:C65000")<=PARAMS!H$1))*(OR($C$3="",INDIRECT("'"&PARAMS!$D9&"'!A2:A65000")=$C$3))*(OR($C$4="",INDIRECT("'"&PARAMS!$D9&"'!B2:B65000")=$C$4)),INDIRECT("'"&PARAMS!$D9&"'!D2:D65000"))),IF(OR(PARAMS!H$1="",PARAMS!$D9=""),"",PARAMS!$C9*SUMPRODUCT((INDIRECT("'"&PARAMS!$D9&"'!C2:C65000")>PARAMS!G$1)*((INDIRECT("'"&PARAMS!$D9&"'!C2:C65000")<=PARAMS!H$1))*(INDIRECT("'"&PARAMS!$D9&"'!A2:A65000")=$C$3)*(OR($C$4="",INDIRECT("'"&PARAMS!$D9&"'!B2:B65000")=$C$4)),INDIRECT("'"&PARAMS!$D9&"'!D2:D65000")))) -> 0 | D18: =IF(ISBLANK($C$3),IF(OR(PARAMS!I$1="",PARAMS!$D9=""),"",PARAMS!$C9*SUMPRODUCT((INDIRECT("'"&PARAMS!$D9&"'!C2:C65000")>PARAMS!H$1)*((INDIRECT("'"&PARAMS!$D9&"'!C2:C65000")<=PARAMS!I$1))*(OR($C$3="",INDIRECT("'"&PARAMS!$D9&"'!A2:A65000")=$C$3))*(OR($C$4="",INDIRECT("'"&PARAMS!$D9&"'!B2:B65000")=$C$4)),INDIRECT("'"&PARAMS!$D9&"'!D2:D65000"))),IF(OR(PARAMS!I$1="",PARAMS!$D9=""),"",PARAMS!$C9*SUMPRODUCT((INDIRECT("'"&PARAMS!$D9&"'!C2:C65000")>PARAMS!H$1)*((INDIRECT("'"&PARAMS!$D9&"'!C2:C65000")<=PARAMS!I$1))*(INDIRECT("'"&PARAMS!$D9&"'!A2:A65000")=$C$3)*(OR($C$4="",INDIRECT("'"&PARAMS!$D9&"'!B2:B65000")=$C$4)),INDIRECT("'"&PARAMS!$D9&"'!D2:D65000")))) -> 0 | E18: =IF(ISBLANK($C$3),IF(OR(PARAMS!J$1="",PARAMS!$D9=""),"",PARAMS!$C9*SUMPRODUCT((INDIRECT("'"&PARAMS!$D9&"'!C2:C65000")>PARAMS!I$1)*((INDIRECT("'"&PARAMS!$D9&"'!C2:C65000")<=PARAMS!J$1))*(OR($C$3="",INDIRECT("'"&PARAMS!$D9&"'!A2:A65000")=$C$3))*(OR($C$4="",INDIRECT("'"&PARAMS!$D9&"'!B2:B65000")=$C$4)),INDIRECT("'"&PARAMS!$D9&"'!D2:D65000"))),IF(OR(PARAMS!J$1="",PARAMS!$D9=""),"",PARAMS!$C9*SUMPRODUCT((INDIRECT("'"&PARAMS!$D9&"'!C2:C65000")>PARAMS!I$1)*((INDIRECT("'"&PARAMS!$D9&"'!C2:C65000")<=PARAMS!J$1))*(INDIRECT("'"&PARAMS!$D9&"'!A2:A65000")=$C$3)*(OR($C$4="",INDIRECT("'"&PARAMS!$D9&"'!B2:B65000")=$C$4)),INDIRECT("'"&PARAMS!$D9&"'!D2:D65000")))) -> 0 | F18: =IF(ISBLANK($C$3),IF(OR(PARAMS!K$1="",PARAMS!$D9=""),"",PARAMS!$C9*SUMPRODUCT((INDIRECT("'"&PARAMS!$D9&"'!C2:C65000")>PARAMS!J$1)*((INDIRECT("'"&PARAMS!$D9&"'!C2:C65000")<=PARAMS!K$1))*(OR($C$3="",INDIRECT("'"&PARAMS!$D9&"'!A2:A65000")=$C$3))*(OR($C$4="",INDIRECT("'"&PARAMS!$D9&"'!B2:B65000")=$C$4)),INDIRECT("'"&PARAMS!$D9&"'!D2:D65000"))),IF(OR(PARAMS!K$1="",PARAMS!$D9=""),"",PARAMS!$C9*SUMPRODUCT((INDIRECT("'"&PARAMS!$D9&"'!C2:C65000")>PARAMS!J$1)*((INDIRECT("'"&PARAMS!$D9&"'!C2:C65000")<=PARAMS!K$1))*(INDIRECT("'"&PARAMS!$D9&"'!A2:A65000")=$C$3)*(OR($C$4="",INDIRECT("'"&PARAMS!$D9&"'!B2:B65000")=$C$4)),INDIRECT("'"&PARAMS!$D9&"'!D2:D65000")))) -> 0 | G18: =IF(ISBLANK($C$3),IF(OR(PARAMS!L$1="",PARAMS!$D9=""),"",PARAMS!$C9*SUMPRODUCT((INDIRECT("'"&PARAMS!$D9&"'!C2:C65000")>PARAMS!K$1)*((INDIRECT("'"&PARAMS!$D9&"'!C2:C65000")<=PARAMS!L$1))*(OR($C$3="",INDIRECT("'"&PARAMS!$D9&"'!A2:A65000")=$C$3))*(OR($C$4="",INDIRECT("'"&PARAMS!$D9&"'!B2:B65000")=$C$4)),INDIRECT("'"&PARAMS!$D9&"'!D2:D65000"))),IF(OR(PARAMS!L$1="",PARAMS!$D9=""),"",PARAMS!$C9*SUMPRODUCT((INDIRECT("'"&PARAMS!$D9&"'!C2:C65000")>PARAMS!K$1)*((INDIRECT("'"&PARAMS!$D9&"'!C2:C65000")<=PARAMS!L$1))*(INDIRECT("'"&PARAMS!$D9&"'!A2:A65000")=$C$3)*(OR($C$4="",INDIRECT("'"&PARAMS!$D9&"'!B2:B65000")=$C$4)),INDIRECT("'"&PARAMS!$D9&"'!D2:D65000")))) -> 0 | H18: =IF(ISBLANK($C$3),IF(OR(PARAMS!M$1="",PARAMS!$D9=""),"",PARAMS!$C9*SUMPRODUCT((INDIRECT("'"&PARAMS!$D9&"'!C2:C65000")>PARAMS!L$1)*((INDIRECT("'"&PARAMS!$D9&"'!C2:C65000")<=PARAMS!M$1))*(OR($C$3="",INDIRECT("'"&PARAMS!$D9&"'!A2:A65000")=$C$3))*(OR($C$4="",INDIRECT("'"&PARAMS!$D9&"'!B2:B65000")=$C$4)),INDIRECT("'"&PARAMS!$D9&"'!D2:D65000"))),IF(OR(PARAMS!M$1="",PARAMS!$D9=""),"",PARAMS!$C9*SUMPRODUCT((INDIRECT("'"&PARAMS!$D9&"'!C2:C65000")>PARAMS!L$1)*((INDIRECT("'"&PARAMS!$D9&"'!C2:C65000")<=PARAMS!M$1))*(INDIRECT("'"&PARAMS!$D9&"'!A2:A65000")=$C$3)*(OR($C$4="",INDIRECT("'"&PARAMS!$D9&"'!B2:B65000")=$C$4)),INDIRECT("'"&PARAMS!$D9&"'!D2:D65000")))) -> 0
B19: =IF(PARAMS!$E10="","",HYPERLINK("#"&PARAMS!D10&"!A1",PARAMS!E10)) -> Factures filiales non comptabilisées | C19: =IF(ISBLANK($C$3),IF(OR(PARAMS!H$1="",PARAMS!$D10=""),"",PARAMS!$C10*SUMPRODUCT((INDIRECT("'"&PARAMS!$D10&"'!C2:C65000")>PARAMS!G$1)*((INDIRECT("'"&PARAMS!$D10&"'!C2:C65000")<=PARAMS!H$1))*(OR($C$3="",INDIRECT("'"&PARAMS!$D10&"'!A2:A65000")=$C$3))*(OR($C$4="",INDIRECT("'"&PARAMS!$D10&"'!B2:B65000")=$C$4)),INDIRECT("'"&PARAMS!$D10&"'!D2:D65000"))),IF(OR(PARAMS!H$1="",PARAMS!$D10=""),"",PARAMS!$C10*SUMPRODUCT((INDIRECT("'"&PARAMS!$D10&"'!C2:C65000")>PARAMS!G$1)*((INDIRECT("'"&PARAMS!$D10&"'!C2:C65000")<=PARAMS!H$1))*(INDIRECT("'"&PARAMS!$D10&"'!A2:A65000")=$C$3)*(OR($C$4="",INDIRECT("'"&PARAMS!$D10&"'!B2:B65000")=$C$4)),INDIRECT("'"&PARAMS!$D10&"'!D2:D65000")))) -> 0 | D19: =IF(ISBLANK($C$3),IF(OR(PARAMS!I$1="",PARAMS!$D10=""),"",PARAMS!$C10*SUMPRODUCT((INDIRECT("'"&PARAMS!$D10&"'!C2:C65000")>PARAMS!H$1)*((INDIRECT("'"&PARAMS!$D10&"'!C2:C65000")<=PARAMS!I$1))*(OR($C$3="",INDIRECT("'"&PARAMS!$D10&"'!A2:A65000")=$C$3))*(OR($C$4="",INDIRECT("'"&PARAMS!$D10&"'!B2:B65000")=$C$4)),INDIRECT("'"&PARAMS!$D10&"'!D2:D65000"))),IF(OR(PARAMS!I$1="",PARAMS!$D10=""),"",PARAMS!$C10*SUMPRODUCT((INDIRECT("'"&PARAMS!$D10&"'!C2:C65000")>PARAMS!H$1)*((INDIRECT("'"&PARAMS!$D10&"'!C2:C65000")<=PARAMS!I$1))*(INDIRECT("'"&PARAMS!$D10&"'!A2:A65000")=$C$3)*(OR($C$4="",INDIRECT("'"&PARAMS!$D10&"'!B2:B65000")=$C$4)),INDIRECT("'"&PARAMS!$D10&"'!D2:D65000")))) -> 0 | E19: =IF(ISBLANK($C$3),IF(OR(PARAMS!J$1="",PARAMS!$D10=""),"",PARAMS!$C10*SUMPRODUCT((INDIRECT("'"&PARAMS!$D10&"'!C2:C65000")>PARAMS!I$1)*((INDIRECT("'"&PARAMS!$D10&"'!C2:C65000")<=PARAMS!J$1))*(OR($C$3="",INDIRECT("'"&PARAMS!$D10&"'!A2:A65000")=$C$3))*(OR($C$4="",INDIRECT("'"&PARAMS!$D10&"'!B2:B65000")=$C$4)),INDIRECT("'"&PARAMS!$D10&"'!D2:D65000"))),IF(OR(PARAMS!J$1="",PARAMS!$D10=""),"",PARAMS!$C10*SUMPRODUCT((INDIRECT("'"&PARAMS!$D10&"'!C2:C65000")>PARAMS!I$1)*((INDIRECT("'"&PARAMS!$D10&"'!C2:C65000")<=PARAMS!J$1))*(INDIRECT("'"&PARAMS!$D10&"'!A2:A65000")=$C$3)*(OR($C$4="",INDIRECT("'"&PARAMS!$D10&"'!B2:B65000")=$C$4)),INDIRECT("'"&PARAMS!$D10&"'!D2:D65000")))) -> 0 | F19: =IF(ISBLANK($C$3),IF(OR(PARAMS!K$1="",PARAMS!$D10=""),"",PARAMS!$C10*SUMPRODUCT((INDIRECT("'"&PARAMS!$D10&"'!C2:C65000")>PARAMS!J$1)*((INDIRECT("'"&PARAMS!$D10&"'!C2:C65000")<=PARAMS!K$1))*(OR($C$3="",INDIRECT("'"&PARAMS!$D10&"'!A2:A65000")=$C$3))*(OR($C$4="",INDIRECT("'"&PARAMS!$D10&"'!B2:B65000")=$C$4)),INDIRECT("'"&PARAMS!$D10&"'!D2:D65000"))),IF(OR(PARAMS!K$1="",PARAMS!$D10=""),"",PARAMS!$C10*SUMPRODUCT((INDIRECT("'"&PARAMS!$D10&"'!C2:C65000")>PARAMS!J$1)*((INDIRECT("'"&PARAMS!$D10&"'!C2:C65000")<=PARAMS!K$1))*(INDIRECT("'"&PARAMS!$D10&"'!A2:A65000")=$C$3)*(OR($C$4="",INDIRECT("'"&PARAMS!$D10&"'!B2:B65000")=$C$4)),INDIRECT("'"&PARAMS!$D10&"'!D2:D65000")))) -> 0 | G19: =IF(ISBLANK($C$3),IF(OR(PARAMS!L$1="",PARAMS!$D10=""),"",PARAMS!$C10*SUMPRODUCT((INDIRECT("'"&PARAMS!$D10&"'!C2:C65000")>PARAMS!K$1)*((INDIRECT("'"&PARAMS!$D10&"'!C2:C65000")<=PARAMS!L$1))*(OR($C$3="",INDIRECT("'"&PARAMS!$D10&"'!A2:A65000")=$C$3))*(OR($C$4="",INDIRECT("'"&PARAMS!$D10&"'!B2:B65000")=$C$4)),INDIRECT("'"&PARAMS!$D10&"'!D2:D65000"))),IF(OR(PARAMS!L$1="",PARAMS!$D10=""),"",PARAMS!$C10*SUMPRODUCT((INDIRECT("'"&PARAMS!$D10&"'!C2:C65000")>PARAMS!K$1)*((INDIRECT("'"&PARAMS!$D10&"'!C2:C65000")<=PARAMS!L$1))*(INDIRECT("'"&PARAMS!$D10&"'!A2:A65000")=$C$3)*(OR($C$4="",INDIRECT("'"&PARAMS!$D10&"'!B2:B65000")=$C$4)),INDIRECT("'"&PARAMS!$D10&"'!D2:D65000")))) -> 0 | H19: =IF(ISBLANK($C$3),IF(OR(PARAMS!M$1="",PARAMS!$D10=""),"",PARAMS!$C10*SUMPRODUCT((INDIRECT("'"&PARAMS!$D10&"'!C2:C65000")>PARAMS!L$1)*((INDIRECT("'"&PARAMS!$D10&"'!C2:C65000")<=PARAMS!M$1))*(OR($C$3="",INDIRECT("'"&PARAMS!$D10&"'!A2:A65000")=$C$3))*(OR($C$4="",INDIRECT("'"&PARAMS!$D10&"'!B2:B65000")=$C$4)),INDIRECT("'"&PARAMS!$D10&"'!D2:D65000"))),IF(OR(PARAMS!M$1="",PARAMS!$D10=""),"",PARAMS!$C10*SUMPRODUCT((INDIRECT("'"&PARAMS!$D10&"'!C2:C65000")>PARAMS!L$1)*((INDIRECT("'"&PARAMS!$D10&"'!C2:C65000")<=PARAMS!M$1))*(INDIRECT("'"&PARAMS!$D10&"'!A2:A65000")=$C$3)*(OR($C$4="",INDIRECT("'"&PARAMS!$D10&"'!B2:B65000")=$C$4)),INDIRECT("'"&PARAMS!$D10&"'!D2:D65000")))) -> 0
B20: =IF(PARAMS!$E11="","",HYPERLINK("#"&PARAMS!D11&"!A1",PARAMS!E11)) | C20: =IF(ISBLANK($C$3),IF(OR(PARAMS!H$1="",PARAMS!$D11=""),"",PARAMS!$C11*SUMPRODUCT((INDIRECT("'"&PARAMS!$D11&"'!C2:C65000")>PARAMS!G$1)*((INDIRECT("'"&PARAMS!$D11&"'!C2:C65000")<=PARAMS!H$1))*(OR($C$3="",INDIRECT("'"&PARAMS!$D11&"'!A2:A65000")=$C$3))*(OR($C$4="",INDIRECT("'"&PARAMS!$D11&"'!B2:B65000")=$C$4)),INDIRECT("'"&PARAMS!$D11&"'!D2:D65000"))),IF(OR(PARAMS!H$1="",PARAMS!$D11=""),"",PARAMS!$C11*SUMPRODUCT((INDIRECT("'"&PARAMS!$D11&"'!C2:C65000")>PARAMS!G$1)*((INDIRECT("'"&PARAMS!$D11&"'!C2:C65000")<=PARAMS!H$1))*(INDIRECT("'"&PARAMS!$D11&"'!A2:A65000")=$C$3)*(OR($C$4="",INDIRECT("'"&PARAMS!$D11&"'!B2:B65000")=$C$4)),INDIRECT("'"&PARAMS!$D11&"'!D2:D65000")))) | D20: =IF(ISBLANK($C$3),IF(OR(PARAMS!I$1="",PARAMS!$D11=""),"",PARAMS!$C11*SUMPRODUCT((INDIRECT("'"&PARAMS!$D11&"'!C2:C65000")>PARAMS!H$1)*((INDIRECT("'"&PARAMS!$D11&"'!C2:C65000")<=PARAMS!I$1))*(OR($C$3="",INDIRECT("'"&PARAMS!$D11&"'!A2:A65000")=$C$3))*(OR($C$4="",INDIRECT("'"&PARAMS!$D11&"'!B2:B65000")=$C$4)),INDIRECT("'"&PARAMS!$D11&"'!D2:D65000"))),IF(OR(PARAMS!I$1="",PARAMS!$D11=""),"",PARAMS!$C11*SUMPRODUCT((INDIRECT("'"&PARAMS!$D11&"'!C2:C65000")>PARAMS!H$1)*((INDIRECT("'"&PARAMS!$D11&"'!C2:C65000")<=PARAMS!I$1))*(INDIRECT("'"&PARAMS!$D11&"'!A2:A65000")=$C$3)*(OR($C$4="",INDIRECT("'"&PARAMS!$D11&"'!B2:B65000")=$C$4)),INDIRECT("'"&PARAMS!$D11&"'!D2:D65000")))) | E20: =IF(ISBLANK($C$3),IF(OR(PARAMS!J$1="",PARAMS!$D11=""),"",PARAMS!$C11*SUMPRODUCT((INDIRECT("'"&PARAMS!$D11&"'!C2:C65000")>PARAMS!I$1)*((INDIRECT("'"&PARAMS!$D11&"'!C2:C65000")<=PARAMS!J$1))*(OR($C$3="",INDIRECT("'"&PARAMS!$D11&"'!A2:A65000")=$C$3))*(OR($C$4="",INDIRECT("'"&PARAMS!$D11&"'!B2:B65000")=$C$4)),INDIRECT("'"&PARAMS!$D11&"'!D2:D65000"))),IF(OR(PARAMS!J$1="",PARAMS!$D11=""),"",PARAMS!$C11*SUMPRODUCT((INDIRECT("'"&PARAMS!$D11&"'!C2:C65000")>PARAMS!I$1)*((INDIRECT("'"&PARAMS!$D11&"'!C2:C65000")<=PARAMS!J$1))*(INDIRECT("'"&PARAMS!$D11&"'!A2:A65000")=$C$3)*(OR($C$4="",INDIRECT("'"&PARAMS!$D11&"'!B2:B65000")=$C$4)),INDIRECT("'"&PARAMS!$D11&"'!D2:D65000")))) | F20: =IF(ISBLANK($C$3),IF(OR(PARAMS!K$1="",PARAMS!$D11=""),"",PARAMS!$C11*SUMPRODUCT((INDIRECT("'"&PARAMS!$D11&"'!C2:C65000")>PARAMS!J$1)*((INDIRECT("'"&PARAMS!$D11&"'!C2:C65000")<=PARAMS!K$1))*(OR($C$3="",INDIRECT("'"&PARAMS!$D11&"'!A2:A65000")=$C$3))*(OR($C$4="",INDIRECT("'"&PARAMS!$D11&"'!B2:B65000")=$C$4)),INDIRECT("'"&PARAMS!$D11&"'!D2:D65000"))),IF(OR(PARAMS!K$1="",PARAMS!$D11=""),"",PARAMS!$C11*SUMPRODUCT((INDIRECT("'"&PARAMS!$D11&"'!C2:C65000")>PARAMS!J$1)*((INDIRECT("'"&PARAMS!$D11&"'!C2:C65000")<=PARAMS!K$1))*(INDIRECT("'"&PARAMS!$D11&"'!A2:A65000")=$C$3)*(OR($C$4="",INDIRECT("'"&PARAMS!$D11&"'!B2:B65000")=$C$4)),INDIRECT("'"&PARAMS!$D11&"'!D2:D65000")))) | G20: =IF(ISBLANK($C$3),IF(OR(PARAMS!L$1="",PARAMS!$D11=""),"",PARAMS!$C11*SUMPRODUCT((INDIRECT("'"&PARAMS!$D11&"'!C2:C65000")>PARAMS!K$1)*((INDIRECT("'"&PARAMS!$D11&"'!C2:C65000")<=PARAMS!L$1))*(OR($C$3="",INDIRECT("'"&PARAMS!$D11&"'!A2:A65000")=$C$3))*(OR($C$4="",INDIRECT("'"&PARAMS!$D11&"'!B2:B65000")=$C$4)),INDIRECT("'"&PARAMS!$D11&"'!D2:D65000"))),IF(OR(PARAMS!L$1="",PARAMS!$D11=""),"",PARAMS!$C11*SUMPRODUCT((INDIRECT("'"&PARAMS!$D11&"'!C2:C65000")>PARAMS!K$1)*((INDIRECT("'"&PARAMS!$D11&"'!C2:C65000")<=PARAMS!L$1))*(INDIRECT("'"&PARAMS!$D11&"'!A2:A65000")=$C$3)*(OR($C$4="",INDIRECT("'"&PARAMS!$D11&"'!B2:B65000")=$C$4)),INDIRECT("'"&PARAMS!$D11&"'!D2:D65000")))) | H20: =IF(ISBLANK($C$3),IF(OR(PARAMS!M$1="",PARAMS!$D11=""),"",PARAMS!$C11*SUMPRODUCT((INDIRECT("'"&PARAMS!$D11&"'!C2:C65000")>PARAMS!L$1)*((INDIRECT("'"&PARAMS!$D11&"'!C2:C65000")<=PARAMS!M$1))*(OR($C$3="",INDIRECT("'"&PARAMS!$D11&"'!A2:A65000")=$C$3))*(OR($C$4="",INDIRECT("'"&PARAMS!$D11&"'!B2:B65000")=$C$4)),INDIRECT("'"&PARAMS!$D11&"'!D2:D65000"))),IF(OR(PARAMS!M$1="",PARAMS!$D11=""),"",PARAMS!$C11*SUMPRODUCT((INDIRECT("'"&PARAMS!$D11&"'!C2:C65000")>PARAMS!L$1)*((INDIRECT("'"&PARAMS!$D11&"'!C2:C65000")<=PARAMS!M$1))*(INDIRECT("'"&PARAMS!$D11&"'!A2:A65000")=$C$3)*(OR($C$4="",INDIRECT("'"&PARAMS!$D11&"'!B2:B65000")=$C$4)),INDIRECT("'"&PARAMS!$D11&"'!D2:D65000"))))
B21: =IF(PARAMS!$E12="","",HYPERLINK("#"&PARAMS!D12&"!A1",PARAMS!E12)) -> Règlt. attendus | C21: =IF(ISBLANK($C$3),IF(OR(PARAMS!H$1="",PARAMS!$D12=""),"",PARAMS!$C12*SUMPRODUCT((INDIRECT("'"&PARAMS!$D12&"'!C2:C65000")>PARAMS!G$1)*((INDIRECT("'"&PARAMS!$D12&"'!C2:C65000")<=PARAMS!H$1))*(OR($C$3="",INDIRECT("'"&PARAMS!$D12&"'!A2:A65000")=$C$3))*(OR($C$4="",INDIRECT("'"&PARAMS!$D12&"'!B2:B65000")=$C$4)),INDIRECT("'"&PARAMS!$D12&"'!D2:D65000"))),IF(OR(PARAMS!H$1="",PARAMS!$D12=""),"",PARAMS!$C12*SUMPRODUCT((INDIRECT("'"&PARAMS!$D12&"'!C2:C65000")>PARAMS!G$1)*((INDIRECT("'"&PARAMS!$D12&"'!C2:C65000")<=PARAMS!H$1))*(INDIRECT("'"&PARAMS!$D12&"'!A2:A65000")=$C$3)*(OR($C$4="",INDIRECT("'"&PARAMS!$D12&"'!B2:B65000")=$C$4)),INDIRECT("'"&PARAMS!$D12&"'!D2:D65000")))) -> 0 | D21: =IF(ISBLANK($C$3),IF(OR(PARAMS!I$1="",PARAMS!$D12=""),"",PARAMS!$C12*SUMPRODUCT((INDIRECT("'"&PARAMS!$D12&"'!C2:C65000")>PARAMS!H$1)*((INDIRECT("'"&PARAMS!$D12&"'!C2:C65000")<=PARAMS!I$1))*(OR($C$3="",INDIRECT("'"&PARAMS!$D12&"'!A2:A65000")=$C$3))*(OR($C$4="",INDIRECT("'"&PARAMS!$D12&"'!B2:B65000")=$C$4)),INDIRECT("'"&PARAMS!$D12&"'!D2:D65000"))),IF(OR(PARAMS!I$1="",PARAMS!$D12=""),"",PARAMS!$C12*SUMPRODUCT((INDIRECT("'"&PARAMS!$D12&"'!C2:C65000")>PARAMS!H$1)*((INDIRECT("'"&PARAMS!$D12&"'!C2:C65000")<=PARAMS!I$1))*(INDIRECT("'"&PARAMS!$D12&"'!A2:A65000")=$C$3)*(OR($C$4="",INDIRECT("'"&PARAMS!$D12&"'!B2:B65000")=$C$4)),INDIRECT("'"&PARAMS!$D12&"'!D2:D65000")))) -> 0 | E21: =IF(ISBLANK($C$3),IF(OR(PARAMS!J$1="",PARAMS!$D12=""),"",PARAMS!$C12*SUMPRODUCT((INDIRECT("'"&PARAMS!$D12&"'!C2:C65000")>PARAMS!I$1)*((INDIRECT("'"&PARAMS!$D12&"'!C2:C65000")<=PARAMS!J$1))*(OR($C$3="",INDIRECT("'"&PARAMS!$D12&"'!A2:A65000")=$C$3))*(OR($C$4="",INDIRECT("'"&PARAMS!$D12&"'!B2:B65000")=$C$4)),INDIRECT("'"&PARAMS!$D12&"'!D2:D65000"))),IF(OR(PARAMS!J$1="",PARAMS!$D12=""),"",PARAMS!$C12*SUMPRODUCT((INDIRECT("'"&PARAMS!$D12&"'!C2:C65000")>PARAMS!I$1)*((INDIRECT("'"&PARAMS!$D12&"'!C2:C65000")<=PARAMS!J$1))*(INDIRECT("'"&PARAMS!$D12&"'!A2:A65000")=$C$3)*(OR($C$4="",INDIRECT("'"&PARAMS!$D12&"'!B2:B65000")=$C$4)),INDIRECT("'"&PARAMS!$D12&"'!D2:D65000")))) -> 0 | F21: =IF(ISBLANK($C$3),IF(OR(PARAMS!K$1="",PARAMS!$D12=""),"",PARAMS!$C12*SUMPRODUCT((INDIRECT("'"&PARAMS!$D12&"'!C2:C65000")>PARAMS!J$1)*((INDIRECT("'"&PARAMS!$D12&"'!C2:C65000")<=PARAMS!K$1))*(OR($C$3="",INDIRECT("'"&PARAMS!$D12&"'!A2:A65000")=$C$3))*(OR($C$4="",INDIRECT("'"&PARAMS!$D12&"'!B2:B65000")=$C$4)),INDIRECT("'"&PARAMS!$D12&"'!D2:D65000"))),IF(OR(PARAMS!K$1="",PARAMS!$D12=""),"",PARAMS!$C12*SUMPRODUCT((INDIRECT("'"&PARAMS!$D12&"'!C2:C65000")>PARAMS!J$1)*((INDIRECT("'"&PARAMS!$D12&"'!C2:C65000")<=PARAMS!K$1))*(INDIRECT("'"&PARAMS!$D12&"'!A2:A65000")=$C$3)*(OR($C$4="",INDIRECT("'"&PARAMS!$D12&"'!B2:B65000")=$C$4)),INDIRECT("'"&PARAMS!$D12&"'!D2:D65000")))) -> 0 | G21: =IF(ISBLANK($C$3),IF(OR(PARAMS!L$1="",PARAMS!$D12=""),"",PARAMS!$C12*SUMPRODUCT((INDIRECT("'"&PARAMS!$D12&"'!C2:C65000")>PARAMS!K$1)*((INDIRECT("'"&PARAMS!$D12&"'!C2:C65000")<=PARAMS!L$1))*(OR($C$3="",INDIRECT("'"&PARAMS!$D12&"'!A2:A65000")=$C$3))*(OR($C$4="",INDIRECT("'"&PARAMS!$D12&"'!B2:B65000")=$C$4)),INDIRECT("'"&PARAMS!$D12&"'!D2:D65000"))),IF(OR(PARAMS!L$1="",PARAMS!$D12=""),"",PARAMS!$C12*SUMPRODUCT((INDIRECT("'"&PARAMS!$D12&"'!C2:C65000")>PARAMS!K$1)*((INDIRECT("'"&PARAMS!$D12&"'!C2:C65000")<=PARAMS!L$1))*(INDIRECT("'"&PARAMS!$D12&"'!A2:A65000")=$C$3)*(OR($C$4="",INDIRECT("'"&PARAMS!$D12&"'!B2:B65000")=$C$4)),INDIRECT("'"&PARAMS!$D12&"'!D2:D65000")))) -> 0 | H21: =IF(ISBLANK($C$3),IF(OR(PARAMS!M$1="",PARAMS!$D12=""),"",PARAMS!$C12*SUMPRODUCT((INDIRECT("'"&PARAMS!$D12&"'!C2:C65000")>PARAMS!L$1)*((INDIRECT("'"&PARAMS!$D12&"'!C2:C65000")<=PARAMS!M$1))*(OR($C$3="",INDIRECT("'"&PARAMS!$D12&"'!A2:A65000")=$C$3))*(OR($C$4="",INDIRECT("'"&PARAMS!$D12&"'!B2:B65000")=$C$4)),INDIRECT("'"&PARAMS!$D12&"'!D2:D65000"))),IF(OR(PARAMS!M$1="",PARAMS!$D12=""),"",PARAMS!$C12*SUMPRODUCT((INDIRECT("'"&PARAMS!$D12&"'!C2:C65000")>PARAMS!L$1)*((INDIRECT("'"&PARAMS!$D12&"'!C2:C65000")<=PARAMS!M$1))*(INDIRECT("'"&PARAMS!$D12&"'!A2:A65000")=$C$3)*(OR($C$4="",INDIRECT("'"&PARAMS!$D12&"'!B2:B65000")=$C$4)),INDIRECT("'"&PARAMS!$D12&"'!D2:D65000")))) -> 0
B22: =IF(PARAMS!$E13="","",HYPERLINK("#"&PARAMS!D13&"!A1",PARAMS!E13)) -> Règlt. attendus par BO | C22: =IF(ISBLANK($C$3),IF(OR(PARAMS!H$1="",PARAMS!$D13=""),"",PARAMS!$C13*SUMPRODUCT((INDIRECT("'"&PARAMS!$D13&"'!C2:C65000")>PARAMS!G$1)*((INDIRECT("'"&PARAMS!$D13&"'!C2:C65000")<=PARAMS!H$1))*(OR($C$3="",INDIRECT("'"&PARAMS!$D13&"'!A2:A65000")=$C$3))*(OR($C$4="",INDIRECT("'"&PARAMS!$D13&"'!B2:B65000")=$C$4)),INDIRECT("'"&PARAMS!$D13&"'!D2:D65000"))),IF(OR(PARAMS!H$1="",PARAMS!$D13=""),"",PARAMS!$C13*SUMPRODUCT((INDIRECT("'"&PARAMS!$D13&"'!C2:C65000")>PARAMS!G$1)*((INDIRECT("'"&PARAMS!$D13&"'!C2:C65000")<=PARAMS!H$1))*(INDIRECT("'"&PARAMS!$D13&"'!A2:A65000")=$C$3)*(OR($C$4="",INDIRECT("'"&PARAMS!$D13&"'!B2:B65000")=$C$4)),INDIRECT("'"&PARAMS!$D13&"'!D2:D65000")))) -> 0 | D22: =IF(ISBLANK($C$3),IF(OR(PARAMS!I$1="",PARAMS!$D13=""),"",PARAMS!$C13*SUMPRODUCT((INDIRECT("'"&PARAMS!$D13&"'!C2:C65000")>PARAMS!H$1)*((INDIRECT("'"&PARAMS!$D13&"'!C2:C65000")<=PARAMS!I$1))*(OR($C$3="",INDIRECT("'"&PARAMS!$D13&"'!A2:A65000")=$C$3))*(OR($C$4="",INDIRECT("'"&PARAMS!$D13&"'!B2:B65000")=$C$4)),INDIRECT("'"&PARAMS!$D13&"'!D2:D65000"))),IF(OR(PARAMS!I$1="",PARAMS!$D13=""),"",PARAMS!$C13*SUMPRODUCT((INDIRECT("'"&PARAMS!$D13&"'!C2:C65000")>PARAMS!H$1)*((INDIRECT("'"&PARAMS!$D13&"'!C2:C65000")<=PARAMS!I$1))*(INDIRECT("'"&PARAMS!$D13&"'!A2:A65000")=$C$3)*(OR($C$4="",INDIRECT("'"&PARAMS!$D13&"'!B2:B65000")=$C$4)),INDIRECT("'"&PARAMS!$D13&"'!D2:D65000")))) -> 0 | E22: =IF(ISBLANK($C$3),IF(OR(PARAMS!J$1="",PARAMS!$D13=""),"",PARAMS!$C13*SUMPRODUCT((INDIRECT("'"&PARAMS!$D13&"'!C2:C65000")>PARAMS!I$1)*((INDIRECT("'"&PARAMS!$D13&"'!C2:C65000")<=PARAMS!J$1))*(OR($C$3="",INDIRECT("'"&PARAMS!$D13&"'!A2:A65000")=$C$3))*(OR($C$4="",INDIRECT("'"&PARAMS!$D13&"'!B2:B65000")=$C$4)),INDIRECT("'"&PARAMS!$D13&"'!D2:D65000"))),IF(OR(PARAMS!J$1="",PARAMS!$D13=""),"",PARAMS!$C13*SUMPRODUCT((INDIRECT("'"&PARAMS!$D13&"'!C2:C65000")>PARAMS!I$1)*((INDIRECT("'"&PARAMS!$D13&"'!C2:C65000")<=PARAMS!J$1))*(INDIRECT("'"&PARAMS!$D13&"'!A2:A65000")=$C$3)*(OR($C$4="",INDIRECT("'"&PARAMS!$D13&"'!B2:B65000")=$C$4)),INDIRECT("'"&PARAMS!$D13&"'!D2:D65000")))) -> 0 | F22: =IF(ISBLANK($C$3),IF(OR(PARAMS!K$1="",PARAMS!$D13=""),"",PARAMS!$C13*SUMPRODUCT((INDIRECT("'"&PARAMS!$D13&"'!C2:C65000")>PARAMS!J$1)*((INDIRECT("'"&PARAMS!$D13&"'!C2:C65000")<=PARAMS!K$1))*(OR($C$3="",INDIRECT("'"&PARAMS!$D13&"'!A2:A65000")=$C$3))*(OR($C$4="",INDIRECT("'"&PARAMS!$D13&"'!B2:B65000")=$C$4)),INDIRECT("'"&PARAMS!$D13&"'!D2:D65000"))),IF(OR(PARAMS!K$1="",PARAMS!$D13=""),"",PARAMS!$C13*SUMPRODUCT((INDIRECT("'"&PARAMS!$D13&"'!C2:C65000")>PARAMS!J$1)*((INDIRECT("'"&PARAMS!$D13&"'!C2:C65000")<=PARAMS!K$1))*(INDIRECT("'"&PARAMS!$D13&"'!A2:A65000")=$C$3)*(OR($C$4="",INDIRECT("'"&PARAMS!$D13&"'!B2:B65000")=$C$4)),INDIRECT("'"&PARAMS!$D13&"'!D2:D65000")))) -> 0 | G22: =IF(ISBLANK($C$3),IF(OR(PARAMS!L$1="",PARAMS!$D13=""),"",PARAMS!$C13*SUMPRODUCT((INDIRECT("'"&PARAMS!$D13&"'!C2:C65000")>PARAMS!K$1)*((INDIRECT("'"&PARAMS!$D13&"'!C2:C65000")<=PARAMS!L$1))*(OR($C$3="",INDIRECT("'"&PARAMS!$D13&"'!A2:A65000")=$C$3))*(OR($C$4="",INDIRECT("'"&PARAMS!$D13&"'!B2:B65000")=$C$4)),INDIRECT("'"&PARAMS!$D13&"'!D2:D65000"))),IF(OR(PARAMS!L$1="",PARAMS!$D13=""),"",PARAMS!$C13*SUMPRODUCT((INDIRECT("'"&PARAMS!$D13&"'!C2:C65000")>PARAMS!K$1)*((INDIRECT("'"&PARAMS!$D13&"'!C2:C65000")<=PARAMS!L$1))*(INDIRECT("'"&PARAMS!$D13&"'!A2:A65000")=$C$3)*(OR($C$4="",INDIRECT("'"&PARAMS!$D13&"'!B2:B65000")=$C$4)),INDIRECT("'"&PARAMS!$D13&"'!D2:D65000")))) -> 0 | H22: =IF(ISBLANK($C$3),IF(OR(PARAMS!M$1="",PARAMS!$D13=""),"",PARAMS!$C13*SUMPRODUCT((INDIRECT("'"&PARAMS!$D13&"'!C2:C65000")>PARAMS!L$1)*((INDIRECT("'"&PARAMS!$D13&"'!C2:C65000")<=PARAMS!M$1))*(OR($C$3="",INDIRECT("'"&PARAMS!$D13&"'!A2:A65000")=$C$3))*(OR($C$4="",INDIRECT("'"&PARAMS!$D13&"'!B2:B65000")=$C$4)),INDIRECT("'"&PARAMS!$D13&"'!D2:D65000"))),IF(OR(PARAMS!M$1="",PARAMS!$D13=""),"",PARAMS!$C13*SUMPRODUCT((INDIRECT("'"&PARAMS!$D13&"'!C2:C65000")>PARAMS!L$1)*((INDIRECT("'"&PARAMS!$D13&"'!C2:C65000")<=PARAMS!M$1))*(INDIRECT("'"&PARAMS!$D13&"'!A2:A65000")=$C$3)*(OR($C$4="",INDIRECT("'"&PARAMS!$D13&"'!B2:B65000")=$C$4)),INDIRECT("'"&PARAMS!$D13&"'!D2:D65000")))) -> 0
B23: =IF(PARAMS!$E14="","",HYPERLINK("#"&PARAMS!D14&"!A1",PARAMS!E14)) -> Règlt. attendus par Traite NA | C23: =IF(ISBLANK($C$3),IF(OR(PARAMS!H$1="",PARAMS!$D14=""),"",PARAMS!$C14*SUMPRODUCT((INDIRECT("'"&PARAMS!$D14&"'!C2:C65000")>PARAMS!G$1)*((INDIRECT("'"&PARAMS!$D14&"'!C2:C65000")<=PARAMS!H$1))*(OR($C$3="",INDIRECT("'"&PARAMS!$D14&"'!A2:A65000")=$C$3))*(OR($C$4="",INDIRECT("'"&PARAMS!$D14&"'!B2:B65000")=$C$4)),INDIRECT("'"&PARAMS!$D14&"'!D2:D65000"))),IF(OR(PARAMS!H$1="",PARAMS!$D14=""),"",PARAMS!$C14*SUMPRODUCT((INDIRECT("'"&PARAMS!$D14&"'!C2:C65000")>PARAMS!G$1)*((INDIRECT("'"&PARAMS!$D14&"'!C2:C65000")<=PARAMS!H$1))*(INDIRECT("'"&PARAMS!$D14&"'!A2:A65000")=$C$3)*(OR($C$4="",INDIRECT("'"&PARAMS!$D14&"'!B2:B65000")=$C$4)),INDIRECT("'"&PARAMS!$D14&"'!D2:D65000")))) -> 0 | D23: =IF(ISBLANK($C$3),IF(OR(PARAMS!I$1="",PARAMS!$D14=""),"",PARAMS!$C14*SUMPRODUCT((INDIRECT("'"&PARAMS!$D14&"'!C2:C65000")>PARAMS!H$1)*((INDIRECT("'"&PARAMS!$D14&"'!C2:C65000")<=PARAMS!I$1))*(OR($C$3="",INDIRECT("'"&PARAMS!$D14&"'!A2:A65000")=$C$3))*(OR($C$4="",INDIRECT("'"&PARAMS!$D14&"'!B2:B65000")=$C$4)),INDIRECT("'"&PARAMS!$D14&"'!D2:D65000"))),IF(OR(PARAMS!I$1="",PARAMS!$D14=""),"",PARAMS!$C14*SUMPRODUCT((INDIRECT("'"&PARAMS!$D14&"'!C2:C65000")>PARAMS!H$1)*((INDIRECT("'"&PARAMS!$D14&"'!C2:C65000")<=PARAMS!I$1))*(INDIRECT("'"&PARAMS!$D14&"'!A2:A65000")=$C$3)*(OR($C$4="",INDIRECT("'"&PARAMS!$D14&"'!B2:B65000")=$C$4)),INDIRECT("'"&PARAMS!$D14&"'!D2:D65000")))) -> 0 | E23: =IF(ISBLANK($C$3),IF(OR(PARAMS!J$1="",PARAMS!$D14=""),"",PARAMS!$C14*SUMPRODUCT((INDIRECT("'"&PARAMS!$D14&"'!C2:C65000")>PARAMS!I$1)*((INDIRECT("'"&PARAMS!$D14&"'!C2:C65000")<=PARAMS!J$1))*(OR($C$3="",INDIRECT("'"&PARAMS!$D14&"'!A2:A65000")=$C$3))*(OR($C$4="",INDIRECT("'"&PARAMS!$D14&"'!B2:B65000")=$C$4)),INDIRECT("'"&PARAMS!$D14&"'!D2:D65000"))),IF(OR(PARAMS!J$1="",PARAMS!$D14=""),"",PARAMS!$C14*SUMPRODUCT((INDIRECT("'"&PARAMS!$D14&"'!C2:C65000")>PARAMS!I$1)*((INDIRECT("'"&PARAMS!$D14&"'!C2:C65000")<=PARAMS!J$1))*(INDIRECT("'"&PARAMS!$D14&"'!A2:A65000")=$C$3)*(OR($C$4="",INDIRECT("'"&PARAMS!$D14&"'!B2:B65000")=$C$4)),INDIRECT("'"&PARAMS!$D14&"'!D2:D65000")))) -> 0 | F23: =IF(ISBLANK($C$3),IF(OR(PARAMS!K$1="",PARAMS!$D14=""),"",PARAMS!$C14*SUMPRODUCT((INDIRECT("'"&PARAMS!$D14&"'!C2:C65000")>PARAMS!J$1)*((INDIRECT("'"&PARAMS!$D14&"'!C2:C65000")<=PARAMS!K$1))*(OR($C$3="",INDIRECT("'"&PARAMS!$D14&"'!A2:A65000")=$C$3))*(OR($C$4="",INDIRECT("'"&PARAMS!$D14&"'!B2:B65000")=$C$4)),INDIRECT("'"&PARAMS!$D14&"'!D2:D65000"))),IF(OR(PARAMS!K$1="",PARAMS!$D14=""),"",PARAMS!$C14*SUMPRODUCT((INDIRECT("'"&PARAMS!$D14&"'!C2:C65000")>PARAMS!J$1)*((INDIRECT("'"&PARAMS!$D14&"'!C2:C65000")<=PARAMS!K$1))*(INDIRECT("'"&PARAMS!$D14&"'!A2:A65000")=$C$3)*(OR($C$4="",INDIRECT("'"&PARAMS!$D14&"'!B2:B65000")=$C$4)),INDIRECT("'"&PARAMS!$D14&"'!D2:D65000")))) -> 0 | G23: =IF(ISBLANK($C$3),IF(OR(PARAMS!L$1="",PARAMS!$D14=""),"",PARAMS!$C14*SUMPRODUCT((INDIRECT("'"&PARAMS!$D14&"'!C2:C65000")>PARAMS!K$1)*((INDIRECT("'"&PARAMS!$D14&"'!C2:C65000")<=PARAMS!L$1))*(OR($C$3="",INDIRECT("'"&PARAMS!$D14&"'!A2:A65000")=$C$3))*(OR($C$4="",INDIRECT("'"&PARAMS!$D14&"'!B2:B65000")=$C$4)),INDIRECT("'"&PARAMS!$D14&"'!D2:D65000"))),IF(OR(PARAMS!L$1="",PARAMS!$D14=""),"",PARAMS!$C14*SUMPRODUCT((INDIRECT("'"&PARAMS!$D14&"'!C2:C65000")>PARAMS!K$1)*((INDIRECT("'"&PARAMS!$D14&"'!C2:C65000")<=PARAMS!L$1))*(INDIRECT("'"&PARAMS!$D14&"'!A2:A65000")=$C$3)*(OR($C$4="",INDIRECT("'"&PARAMS!$D14&"'!B2:B65000")=$C$4)),INDIRECT("'"&PARAMS!$D14&"'!D2:D65000")))) -> 0 | H23: =IF(ISBLANK($C$3),IF(OR(PARAMS!M$1="",PARAMS!$D14=""),"",PARAMS!$C14*SUMPRODUCT((INDIRECT("'"&PARAMS!$D14&"'!C2:C65000")>PARAMS!L$1)*((INDIRECT("'"&PARAMS!$D14&"'!C2:C65000")<=PARAMS!M$1))*(OR($C$3="",INDIRECT("'"&PARAMS!$D14&"'!A2:A65000")=$C$3))*(OR($C$4="",INDIRECT("'"&PARAMS!$D14&"'!B2:B65000")=$C$4)),INDIRECT("'"&PARAMS!$D14&"'!D2:D65000"))),IF(OR(PARAMS!M$1="",PARAMS!$D14=""),"",PARAMS!$C14*SUMPRODUCT((INDIRECT("'"&PARAMS!$D14&"'!C2:C65000")>PARAMS!L$1)*((INDIRECT("'"&PARAMS!$D14&"'!C2:C65000")<=PARAMS!M$1))*(INDIRECT("'"&PARAMS!$D14&"'!A2:A65000")=$C$3)*(OR($C$4="",INDIRECT("'"&PARAMS!$D14&"'!B2:B65000")=$C$4)),INDIRECT("'"&PARAMS!$D14&"'!D2:D65000")))) -> 0
... B79: =IF(PARAMS!$E70="","",HYPERLINK("#"&PARAMS!D70&"!A1",PARAMS!E70)) -> CESSION | C79: =IF(ISBLANK($C$3),IF(OR(PARAMS!H$1="",PARAMS!$D70=""),"",PARAMS!$C70*SUMPRODUCT((INDIRECT("'"&PARAMS!$D70&"'!C2:C65000")>PARAMS!G$1)*((INDIRECT("'"&PARAMS!$D70&"'!C2:C65000")<=PARAMS!H$1))*(OR($C$3="",INDIRECT("'"&PARAMS!$D70&"'!A2:A65000")=$C$3))*(OR($C$4="",INDIRECT("'"&PARAMS!$D70&"'!B2:B65000")=$C$4)),INDIRECT("'"&PARAMS!$D70&"'!D2:D65000"))),IF(OR(PARAMS!H$1="",PARAMS!$D70=""),"",PARAMS!$C70*SUMPRODUCT((INDIRECT("'"&PARAMS!$D70&"'!C2:C65000")>PARAMS!G$1)*((INDIRECT("'"&PARAMS!$D70&"'!C2:C65000")<=PARAMS!H$1))*(INDIRECT("'"&PARAMS!$D70&"'!A2:A65000")=$C$3)*(OR($C$4="",INDIRECT("'"&PARAMS!$D70&"'!B2:B65000")=$C$4)),INDIRECT("'"&PARAMS!$D70&"'!D2:D65000")))) -> 0 | D79: =IF(ISBLANK($C$3),IF(OR(PARAMS!I$1="",PARAMS!$D70=""),"",PARAMS!$C70*SUMPRODUCT((INDIRECT("'"&PARAMS!$D70&"'!C2:C65000")>PARAMS!H$1)*((INDIRECT("'"&PARAMS!$D70&"'!C2:C65000")<=PARAMS!I$1))*(OR($C$3="",INDIRECT("'"&PARAMS!$D70&"'!A2:A65000")=$C$3))*(OR($C$4="",INDIRECT("'"&PARAMS!$D70&"'!B2:B65000")=$C$4)),INDIRECT("'"&PARAMS!$D70&"'!D2:D65000"))),IF(OR(PARAMS!I$1="",PARAMS!$D70=""),"",PARAMS!$C70*SUMPRODUCT((INDIRECT("'"&PARAMS!$D70&"'!C2:C65000")>PARAMS!H$1)*((INDIRECT("'"&PARAMS!$D70&"'!C2:C65000")<=PARAMS!I$1))*(INDIRECT("'"&PARAMS!$D70&"'!A2:A65000")=$C$3)*(OR($C$4="",INDIRECT("'"&PARAMS!$D70&"'!B2:B65000")=$C$4)),INDIRECT("'"&PARAMS!$D70&"'!D2:D65000")))) -> 0 | E79: =IF(ISBLANK($C$3),IF(OR(PARAMS!J$1="",PARAMS!$D70=""),"",PARAMS!$C70*SUMPRODUCT((INDIRECT("'"&PARAMS!$D70&"'!C2:C65000")>PARAMS!I$1)*((INDIRECT("'"&PARAMS!$D70&"'!C2:C65000")<=PARAMS!J$1))*(OR($C$3="",INDIRECT("'"&PARAMS!$D70&"'!A2:A65000")=$C$3))*(OR($C$4="",INDIRECT("'"&PARAMS!$D70&"'!B2:B65000")=$C$4)),INDIRECT("'"&PARAMS!$D70&"'!D2:D65000"))),IF(OR(PARAMS!J$1="",PARAMS!$D70=""),"",PARAMS!$C70*SUMPRODUCT((INDIRECT("'"&PARAMS!$D70&"'!C2:C65000")>PARAMS!I$1)*((INDIRECT("'"&PARAMS!$D70&"'!C2:C65000")<=PARAMS!J$1))*(INDIRECT("'"&PARAMS!$D70&"'!A2:A65000")=$C$3)*(OR($C$4="",INDIRECT("'"&PARAMS!$D70&"'!B2:B65000")=$C$4)),INDIRECT("'"&PARAMS!$D70&"'!D2:D65000")))) -> 0 | F79: =IF(ISBLANK($C$3),IF(OR(PARAMS!K$1="",PARAMS!$D70=""),"",PARAMS!$C70*SUMPRODUCT((INDIRECT("'"&PARAMS!$D70&"'!C2:C65000")>PARAMS!J$1)*((INDIRECT("'"&PARAMS!$D70&"'!C2:C65000")<=PARAMS!K$1))*(OR($C$3="",INDIRECT("'"&PARAMS!$D70&"'!A2:A65000")=$C$3))*(OR($C$4="",INDIRECT("'"&PARAMS!$D70&"'!B2:B65000")=$C$4)),INDIRECT("'"&PARAMS!$D70&"'!D2:D65000"))),IF(OR(PARAMS!K$1="",PARAMS!$D70=""),"",PARAMS!$C70*SUMPRODUCT((INDIRECT("'"&PARAMS!$D70&"'!C2:C65000")>PARAMS!J$1)*((INDIRECT("'"&PARAMS!$D70&"'!C2:C65000")<=PARAMS!K$1))*(INDIRECT("'"&PARAMS!$D70&"'!A2:A65000")=$C$3)*(OR($C$4="",INDIRECT("'"&PARAMS!$D70&"'!B2:B65000")=$C$4)),INDIRECT("'"&PARAMS!$D70&"'!D2:D65000")))) -> 0 | G79: =IF(ISBLANK($C$3),IF(OR(PARAMS!L$1="",PARAMS!$D70=""),"",PARAMS!$C70*SUMPRODUCT((INDIRECT("'"&PARAMS!$D70&"'!C2:C65000")>PARAMS!K$1)*((INDIRECT("'"&PARAMS!$D70&"'!C2:C65000")<=PARAMS!L$1))*(OR($C$3="",INDIRECT("'"&PARAMS!$D70&"'!A2:A65000")=$C$3))*(OR($C$4="",INDIRECT("'"&PARAMS!$D70&"'!B2:B65000")=$C$4)),INDIRECT("'"&PARAMS!$D70&"'!D2:D65000"))),IF(OR(PARAMS!L$1="",PARAMS!$D70=""),"",PARAMS!$C70*SUMPRODUCT((INDIRECT("'"&PARAMS!$D70&"'!C2:C65000")>PARAMS!K$1)*((INDIRECT("'"&PARAMS!$D70&"'!C2:C65000")<=PARAMS!L$1))*(INDIRECT("'"&PARAMS!$D70&"'!A2:A65000")=$C$3)*(OR($C$4="",INDIRECT("'"&PARAMS!$D70&"'!B2:B65000")=$C$4)),INDIRECT("'"&PARAMS!$D70&"'!D2:D65000")))) -> 0 | H79: =IF(ISBLANK($C$3),IF(OR(PARAMS!M$1="",PARAMS!$D70=""),"",PARAMS!$C70*SUMPRODUCT((INDIRECT("'"&PARAMS!$D70&"'!C2:C65000")>PARAMS!L$1)*((INDIRECT("'"&PARAMS!$D70&"'!C2:C65000")<=PARAMS!M$1))*(OR($C$3="",INDIRECT("'"&PARAMS!$D70&"'!A2:A65000")=$C$3))*(OR($C$4="",INDIRECT("'"&PARAMS!$D70&"'!B2:B65000")=$C$4)),INDIRECT("'"&PARAMS!$D70&"'!D2:D65000"))),IF(OR(PARAMS!M$1="",PARAMS!$D70=""),"",PARAMS!$C70*SUMPRODUCT((INDIRECT("'"&PARAMS!$D70&"'!C2:C65000")>PARAMS!L$1)*((INDIRECT("'"&PARAMS!$D70&"'!C2:C65000")<=PARAMS!M$1))*(INDIRECT("'"&PARAMS!$D70&"'!A2:A65000")=$C$3)*(OR($C$4="",INDIRECT("'"&PARAMS!$D70&"'!B2:B65000")=$C$4)),INDIRECT("'"&PARAMS!$D70&"'!D2:D65000")))) -> 0
