Workbook

Sheet Feuil1
B2: Dimensions du module:
B3: L (mm) = | C3: 6000
B4: l (mm) = | C4: 3000
B5: Nb de solives = | C5: 9
B6: Longueur totale de poutre (mm) = | C6: =C3*2+C4*2+C4*C5 -> 45000
B7: Espacement entre solives (mm) = | C7: =C3/(C5+1) -> 600
B9: Données:
B10: Charge (kg/m²) = | C10: 250
B11: Charge (N/mm) = | C11: =(((C3*10^-3*C4*10^-3)*C10)*10)/C6 -> 1
B12: Surface (m2) = | C12: =(C3*C4)*10^-6 -> 18
B13: Module d'Young Acier (N/mm²) = | C13: 210000
B14: Masse volumique Acier S235 (kg/m3) = | C14: 7800
B15: Limite d'élasticité Acier S235 fy = | C15: 235
B16: g = | C16: 9.81
B17: Densité Bouleau (kg/m3) = | C17: 700
B18: Epaisseur du plancher (mm) = | C18: 21
B19: Volume du plancher (m3) = | C19: =(C4*C3*C18)*10^-9 -> 0.378
B20: Masse du plancher (kg) = | C20: =C19*C17 -> 264.6
B21: Poids du plancher (N) = | C21: =C20*9.81 -> 2595.726
B22: Charge du plancher (N/m2) = | C22: =C21/C12 -> 144.207
B23: γM0 = | C23: 1

Sheet Solives U
D2: Calcul des actions pour une solive | G2: Pré-dimensionnement
D3: Charge permanente plancher P | G3: Wpl,x min (mm3) = Mpl/fy = | H3: =E17*10^3/Feuil1!C15 -> 11330.462
D4: P (N/m) = | E4: =Feuil1!C22*Feuil1!C7*10^-3 -> 86.5242 | G4: flèche f (mm) = L/250 = | H4: =Feuil1!C4/250 -> 12
D5: Charge d'exploitation S
D6: S (N/m) = | E6: =Feuil1!C10*10*Feuil1!C7*10^-3 -> 1500 | G6: Détermination de IGxx min
G7: Pour la charge du plancher
D8: Calcul des sollicitations internes (Moment max et Effort tranchant max) | G8: IGxx (mm4) = | H8: =(5*E4*10^-3*Feuil1!C4^4)/(384*Feuil1!C13*H4) -> 36212.695
D9: Charge permanente | G9: Pour la surcharge d'exploitation
D10: Msd, P max (Nm) = (ql²)/2 = | E10: =E4*(Feuil1!C4*10^-3)^2/8 -> 97.339725 | G10: IGxx (mm4) = | H10: =(5*E6*10^-3*Feuil1!C4^4)/(384*Feuil1!C13*H4) -> 627790.18
D11: Vsd, P max (N) = ql/2 = | E11: =E4*(Feuil1!C4*10^-3)/2 -> 129.7863 | G11: IGxx min (mm4) = | H11: =H8+H10 -> 664002.87 | J11: Moment quadratique acceptable (mm4)
D12: Surcharge S | J12: {=SMALL(IF('Tableau profilés U'!J2:J286>=H11,'Tableau profilés U'!J2:J286),J15)} -> 674251.83
D13: Msd, S max (Nm) = (ql²)/2 = | E13: =E6*(Feuil1!C4*10^-3)^2/8 -> 1687.5 | G13: Vérification à l'EC3
D14: Vsd, S max (N) = ql/2 = | E14: =E6*(Feuil1!C4*10^-3)/2 -> 2250 | G14: Calcul de Mrd - vérification en flexion | J14: Niveau du moment quadratique
G15: Mrd (Nm) = (Wpl,x*fy)/γM0 = | H15: =((E34*Feuil1!C15)/Feuil1!C23)*10^-3 -> 3728.216 | J15: 1
D16: Pondération à l'E.L.U. (Etat Limite Ultime) | G16: vérification Msd poutre max (Nm) = (ql2)/2 = | H16: =(E39*10*(Feuil1!C4*10^-3)^2)/8 -> 44.0505
D17: Msd max (Nm) = | E17: =1.35*E10+1.5*E13 -> 2662.6586 | G17: d'où Msd max (Nm) = | H17: =1.35*(E10+H16)+1.5*E13 -> 2722.1268
D18: Vsd max (N) = | E18: =1.35*E11+1.5*E14 -> 3550.2115 | G18: Conclusion: Mrd > Msd ? | H18: =IF(H15>H17,"OK","NOK") -> OK
D19: Pondération à l'E.L.S. (Etat Limite Service)
D20: Ms max (Nm) = | E20: =E10+E13 -> 1784.8397 | G20: Calcul de Vrd - vérification en cisaillement
D21: Vs max (N) = | E21: =E11+E14 -> 2379.7863 | G21: Vrd (N) = 0,58*fy*Avz = | H21: =0.58*Feuil1!C15*E36 -> 22625.8
G22: vérification Vsd poutre max (N) = ql/2 = | H22: =((E39*10*Feuil1!C4*10^-3)/2)*10 -> 587.34
G23: d'où Vsd max (N) = | H23: =1.35*(E11+H22)+1.5*E14 -> 4343.1205
G24: Conclusion: Vrd > Vsd ? | H24: =IF(H21>H23,"OK","NOK") -> OK
G26: Calcul de la flèche f
D27: Caractéristiques du profilé U tôle pliée: | G27: f (mm) = fcharge permanente + fsurcharge + fpoutre = | H27: =((5*E4*10^-3*Feuil1!C4^4)/(384*Feuil1!C13*E37))+((5*E6*10^-3*Feuil1!C4^4)/(384*Feuil1!C13*E37))+((5*E39*10^-2*Feuil1!C4^4)/(384*Feuil1!C13*E37)) -> 12.109257
C28: 1 | D28: L (mm) | E28: =INDEX('Tableau profilés U'!A2:L286,MATCH($J$12,'Tableau profilés U'!J2:J286,0),C28) -> 85 | G28: Conclusion: f < L/250 ? | H28: =IF(H27<H4,"OK","NOK") -> NOK
C29: 2 | D29: Epaisseur b de la tôle (mm) | E29: =INDEX('Tableau profilés U'!A2:L286,MATCH($J$12,'Tableau profilés U'!J2:J286,0),C29) -> 2
C30: 3 | D30: H (mm) | E30: =INDEX('Tableau profilés U'!A2:L286,MATCH($J$12,'Tableau profilés U'!J2:J286,0),C30) -> 85
C31: 4 | D31: h' (mm) | E31: =INDEX('Tableau profilés U'!A2:L286,MATCH($J$12,'Tableau profilés U'!J2:J286,0),C31) -> 81
C32: 5 | D32: Distance d de G1 et G2 par rapport à l'axe x (mm) | E32: =INDEX('Tableau profilés U'!A2:L286,MATCH($J$12,'Tableau profilés U'!J2:J286,0),C32) -> 41.5
C33: 6 | D33: vy (mm) | E33: =INDEX('Tableau profilés U'!A2:L286,MATCH($J$12,'Tableau profilés U'!J2:J286,0),C33) -> 42.5
C34: 7 | D34: Module de resistance plastique Wpl,x (mm3) | E34: =INDEX('Tableau profilés U'!A2:L286,MATCH($J$12,'Tableau profilés U'!J2:J286,0),C34) -> 15864.749
C35: 8 | D35: Aire de la section (mm2) | E35: =INDEX('Tableau profilés U'!A2:L286,MATCH($J$12,'Tableau profilés U'!J2:J286,0),C35) -> 502
C36: 9 | D36: Aire de cisaillement Avz (mm2) | E36: =INDEX('Tableau profilés U'!A2:L286,MATCH($J$12,'Tableau profilés U'!J2:J286,0),C36) -> 166
C37: 10 | D37: IGxx (mm4) | E37: =INDEX('Tableau profilés U'!A2:L286,MATCH($J$12,'Tableau profilés U'!J2:J286,0),C37) -> 674251.83
C38: 11 | D38: Flèche f (mm) pour 250 kg/m² en essai de flexion | E38: =INDEX('Tableau profilés U'!A2:L286,MATCH($J$12,'Tableau profilés U'!J2:J286,0),C38) -> 7.4487323
C39: 12 | D39: Masse (kg/m) | E39: =INDEX('Tableau profilés U'!A2:L286,MATCH($J$12,'Tableau profilés U'!J2:J286,0),C39) -> 3.9156

Sheet Tableau profilés U
A1: L (mm) | B1: b (mm) | C1: H (mm) | D1: h' (mm) | E1: d (mm) | F1: vy (mm) | G1: Module de résistance plastique Wpl,x (mm3) | H1: Aire (mm2) | I1: Aire de cisaillement (mm2) | J1: IGxx (mm4) | K1: f (mm) | L1: Masse (kg/m)
A2: 30 | B2: 2 | C2: 10 | D2: =A2-(2*B2) -> 26 | E2: =(A2/2)-(B2/2) -> 14 | F2: =A2/2 -> 15 | G2: =J2/F2 -> 718.84444 | H2: =(C2*B2)*2+(D2*B2) -> 92 | I2: =H2-(2*C2*B2)+B2*B2 -> 56 | J2: =2*(C2*B2^3/12+(C2*B2*(E2)^2))+B2*D2^3/12 -> 10782.667 | K2: =(5*Feuil1!$C$11*Feuil1!$C$4^4)/(384*Feuil1!$C$13*J2) -> 465.77731 | L2: =((((C2*A2*Feuil1!$C$4)-((C2-B2)*D2*Feuil1!$C$4))*10^-9)*Feuil1!$C$14)/(Feuil1!$C$4*10^-3) -> 0.7176
A3: 30 | B3: 2 | C3: 15 | D3: =A3-(2*B3) -> 26 | E3: =(A3/2)-(B3/2) -> 14 | F3: =A3/2 -> 15 | G3: =J3/F3 -> 980.62222 | H3: =(C3*B3)*2+(D3*B3) -> 112 | I3: =H3-(2*C3*B3)+B3*B3 -> 56 | J3: =2*(C3*B3^3/12+(C3*B3*(E3)^2))+B3*D3^3/12 -> 14709.333 | K3: =(5*Feuil1!$C$11*Feuil1!$C$4^4)/(384*Feuil1!$C$13*J3) -> 341.43773 | L3: =((((C3*A3*Feuil1!$C$4)-((C3-B3)*D3*Feuil1!$C$4))*10^-9)*Feuil1!$C$14)/(Feuil1!$C$4*10^-3) -> 0.8736
A4: 30 | B4: 2 | C4: 20 | D4: =A4-(2*B4) -> 26 | E4: =(A4/2)-(B4/2) -> 14 | F4: =A4/2 -> 15 | G4: =J4/F4 -> 1242.4 | H4: =(C4*B4)*2+(D4*B4) -> 132 | I4: =H4-(2*C4*B4)+B4*B4 -> 56 | J4: =2*(C4*B4^3/12+(C4*B4*(E4)^2))+B4*D4^3/12 -> 18636 | K4: =(5*Feuil1!$C$11*Feuil1!$C$4^4)/(384*Feuil1!$C$13*J4) -> 269.49568 | L4: =((((C4*A4*Feuil1!$C$4)-((C4-B4)*D4*Feuil1!$C$4))*10^-9)*Feuil1!$C$14)/(Feuil1!$C$4*10^-3) -> 1.0296
A5: 30 | B5: 2 | C5: 25 | D5: =A5-(2*B5) -> 26 | E5: =(A5/2)-(B5/2) -> 14 | F5: =A5/2 -> 15 | G5: =J5/F5 -> 1504.1778 | H5: =(C5*B5)*2+(D5*B5) -> 152 | I5: =H5-(2*C5*B5)+B5*B5 -> 56 | J5: =2*(C5*B5^3/12+(C5*B5*(E5)^2))+B5*D5^3/12 -> 22562.667 | K5: =(5*Feuil1!$C$11*Feuil1!$C$4^4)/(384*Feuil1!$C$13*J5) -> 222.59432 | L5: =((((C5*A5*Feuil1!$C$4)-((C5-B5)*D5*Feuil1!$C$4))*10^-9)*Feuil1!$C$14)/(Feuil1!$C$4*10^-3) -> 1.1856
A6: 30 | B6: 2 | C6: 30 | D6: =A6-(2*B6) -> 26 | E6: =(A6/2)-(B6/2) -> 14 | F6: =A6/2 -> 15 | G6: =J6/F6 -> 1765.9556 | H6: =(C6*B6)*2+(D6*B6) -> 172 | I6: =H6-(2*C6*B6)+B6*B6 -> 56 | J6: =2*(C6*B6^3/12+(C6*B6*(E6)^2))+B6*D6^3/12 -> 26489.333 | K6: =(5*Feuil1!$C$11*Feuil1!$C$4^4)/(384*Feuil1!$C$13*J6) -> 189.59788 | L6: =((((C6*A6*Feuil1!$C$4)-((C6-B6)*D6*Feuil1!$C$4))*10^-9)*Feuil1!$C$14)/(Feuil1!$C$4*10^-3) -> 1.3416
A7: 30 | B7: 2 | C7: 35 | D7: =A7-(2*B7) -> 26 | E7: =(A7/2)-(B7/2) -> 14 | F7: =A7/2 -> 15 | G7: =J7/F7 -> 2027.7333 | H7: =(C7*B7)*2+(D7*B7) -> 192 | I7: =H7-(2*C7*B7)+B7*B7 -> 56 | J7: =2*(C7*B7^3/12+(C7*B7*(E7)^2))+B7*D7^3/12 -> 30416 | K7: =(5*Feuil1!$C$11*Feuil1!$C$4^4)/(384*Feuil1!$C$13*J7) -> 165.12104 | L7: =((((C7*A7*Feuil1!$C$4)-((C7-B7)*D7*Feuil1!$C$4))*10^-9)*Feuil1!$C$14)/(Feuil1!$C$4*10^-3) -> 1.4976
A8: 30 | B8: 2 | C8: 40 | D8: =A8-(2*B8) -> 26 | E8: =(A8/2)-(B8/2) -> 14 | F8: =A8/2 -> 15 | G8: =J8/F8 -> 2289.5111 | H8: =(C8*B8)*2+(D8*B8) -> 212 | I8: =H8-(2*C8*B8)+B8*B8 -> 56 | J8: =2*(C8*B8^3/12+(C8*B8*(E8)^2))+B8*D8^3/12 -> 34342.667 | K8: =(5*Feuil1!$C$11*Feuil1!$C$4^4)/(384*Feuil1!$C$13*J8) -> 146.24145 | L8: =((((C8*A8*Feuil1!$C$4)-((C8-B8)*D8*Feuil1!$C$4))*10^-9)*Feuil1!$C$14)/(Feuil1!$C$4*10^-3) -> 1.6536
A9: 30 | B9: 2 | C9: 45 | D9: =A9-(2*B9) -> 26 | E9: =(A9/2)-(B9/2) -> 14 | F9: =A9/2 -> 15 | G9: =J9/F9 -> 2551.2889 | H9: =(C9*B9)*2+(D9*B9) -> 232 | I9: =H9-(2*C9*B9)+B9*B9 -> 56 | J9: =2*(C9*B9^3/12+(C9*B9*(E9)^2))+B9*D9^3/12 -> 38269.333 | K9: =(5*Feuil1!$C$11*Feuil1!$C$4^4)/(384*Feuil1!$C$13*J9) -> 131.23619 | L9: =((((C9*A9*Feuil1!$C$4)-((C9-B9)*D9*Feuil1!$C$4))*10^-9)*Feuil1!$C$14)/(Feuil1!$C$4*10^-3) -> 1.8096
A10: 30 | B10: 2 | C10: 50 | D10: =A10-(2*B10) -> 26 | E10: =(A10/2)-(B10/2) -> 14 | F10: =A10/2 -> 15 | G10: =J10/F10 -> 2813.0667 | H10: =(C10*B10)*2+(D10*B10) -> 252 | I10: =H10-(2*C10*B10)+B10*B10 -> 56 | J10: =2*(C10*B10^3/12+(C10*B10*(E10)^2))+B10*D10^3/12 -> 42196 | K10: =(5*Feuil1!$C$11*Feuil1!$C$4^4)/(384*Feuil1!$C$13*J10) -> 119.02364 | L10: =((((C10*A10*Feuil1!$C$4)-((C10-B10)*D10*Feuil1!$C$4))*10^-9)*Feuil1!$C$14)/(Feuil1!$C$4*10^-3) -> 1.9656
A11: 30 | B11: 2 | C11: 55 | D11: =A11-(2*B11) -> 26 | E11: =(A11/2)-(B11/2) -> 14 | F11: =A11/2 -> 15 | G11: =J11/F11 -> 3074.8444 | H11: =(C11*B11)*2+(D11*B11) -> 272 | I11: =H11-(2*C11*B11)+B11*B11 -> 56 | J11: =2*(C11*B11^3/12+(C11*B11*(E11)^2))+B11*D11^3/12 -> 46122.667 | K11: =(5*Feuil1!$C$11*Feuil1!$C$4^4)/(384*Feuil1!$C$13*J11) -> 108.89053 | L11: =((((C11*A11*Feuil1!$C$4)-((C11-B11)*D11*Feuil1!$C$4))*10^-9)*Feuil1!$C$14)/(Feuil1!$C$4*10^-3) -> 2.1216
A12: 30 | B12: 2 | C12: 60 | D12: =A12-(2*B12) -> 26 | E12: =(A12/2)-(B12/2) -> 14 | F12: =A12/2 -> 15 | G12: =J12/F12 -> 3336.6222 | H12: =(C12*B12)*2+(D12*B12) -> 292 | I12: =H12-(2*C12*B12)+B12*B12 -> 56 | J12: =2*(C12*B12^3/12+(C12*B12*(E12)^2))+B12*D12^3/12 -> 50049.333 | K12: =(5*Feuil1!$C$11*Feuil1!$C$4^4)/(384*Feuil1!$C$13*J12) -> 100.34742 | L12: =((((C12*A12*Feuil1!$C$4)-((C12-B12)*D12*Feuil1!$C$4))*10^-9)*Feuil1!$C$14)/(Feuil1!$C$4*10^-3) -> 2.2776
A13: 30 | B13: 2 | C13: 65 | D13: =A13-(2*B13) -> 26 | E13: =(A13/2)-(B13/2) -> 14 | F13: =A13/2 -> 15 | G13: =J13/F13 -> 3598.4 | H13: =(C13*B13)*2+(D13*B13) -> 312 | I13: =H13-(2*C13*B13)+B13*B13 -> 56 | J13: =2*(C13*B13^3/12+(C13*B13*(E13)^2))+B13*D13^3/12 -> 53976 | K13: =(5*Feuil1!$C$11*Feuil1!$C$4^4)/(384*Feuil1!$C$13*J13) -> 93.047307 | L13: =((((C13*A13*Feuil1!$C$4)-((C13-B13)*D13*Feuil1!$C$4))*10^-9)*Feuil1!$C$14)/(Feuil1!$C$4*10^-3) -> 2.4336
... A286: 100 | B286: 2 | C286: 100 | D286: =A286-(2*B286) -> 96 | E286: =(A286/2)-(B286/2) -> 49 | F286: =A286/2 -> 50 | G286: =J286/F286 -> 22159.787 | H286: =(C286*B286)*2+(D286*B286) -> 592 | I286: =H286-(2*C286*B286)+B286*B286 -> 196 | J286: =2*(C286*B286^3/12+(C286*B286*(E286)^2))+B286*D286^3/12 -> 1107989.3 | K286: =(5*Feuil1!$C$11*Feuil1!$C$4^4)/(384*Feuil1!$C$13*J286) -> 4.5328247 | L286: =((((C286*A286*Feuil1!$C$4)-((C286-B286)*D286*Feuil1!$C$4))*10^-9)*Feuil1!$C$14)/(Feuil1!$C$4*10^-3) -> 4.6176
