Workbook
Name diver: Feuil2!$A$9:$A$10
Name finition: Feuil2!$A$13:$A$14
Name pose: Feuil2!$A$4:$A$6
Name pose1: Feuil2!$A$4:$A$6
Name travaux: Feuil2!$A$3,Feuil2!$A$3,Feuil2!$A$8,Feuil2!$A$12
Name travaux1: Feuil3!$A$1:$A$3
Name type: Feuil2!$C$2:$E$2

Sheet Feuil1
A2: neuf
C3: unité (m² / ml) | D3: quantité | E3: P.U HT | F3: montant HT
A4: pose | B4: montage mur placo | C4: =IF(B4="","",VLOOKUP(B4,Feuil2!A4:B6,2,0)) -> m² | E4: =IF(B="","",VLOOKUP(A2,Feuil2!C4:E6,2,0)) -> #NAME? | F4: =E4*D4 -> #NAME?
A5: finition | B5: deuxiéme passe enduit | C5: =IF(B5="","",VLOOKUP(B5,Feuil2!A5:B7,2,0)) -> #N/A
A6: diver | C6: =IF(B6="","",VLOOKUP(B6,Feuil2!A6:B8,2,0))
A7: pose | C7: =IF(B7="","",VLOOKUP(B7,Feuil2!A7:B9,2,0))

Sheet Feuil2
C2: neuf | D2: reno | E2: reno++
A3: pose
A4: montage mur placo | B4: m² | C4: 45 | D4: =C4*1.3 -> 58.5 | E4: =C4*1.4 -> 63
A5: montage mur hydro | B5: m² | C5: 55 | D5: =C5*1.3 -> 71.5 | E5: =C5*1.4 -> 77
A6: montage mur caro de platre | B6: m² | C6: 57 | D6: =C6*1.3 -> 74.1 | E6: =C6*1.4 -> 79.8
A8: diver
A9: pose bande calico | B9: ml | C9: 7 | D9: =C9*1.3 -> 9.1 | E9: =C9*1.4 -> 9.8
A10: pose bande armé | B10: ml | C10: 10 | D10: =C10*1.3 -> 13 | E10: =C10*1.4 -> 14
A12: finition
A13: deuxiéme passe enduit | B13: ml | C13: 3 | D13: =C13*1.3 -> 3.9 | E13: =C13*1.4 -> 4.2
A14: peinture | C14: 2 | D14: =C14*1.3 -> 2.6 | E14: =C14*1.4 -> 2.8

Sheet Feuil3
A1: =Feuil2!A3 -> pose
A2: =Feuil2!A8 -> diver
A3: =Feuil2!A12 -> finition
