Workbook
Name diver: Feuil2!$A$9:$A$10
Name finition: Feuil2!$A$13:$A$14
Name pose: Feuil2!$A$4:$A$6
Name pose1: Feuil2!$A$4:$A$6
Name travaux: Feuil2!$A$3,Feuil2!$A$3,Feuil2!$A$8,Feuil2!$A$12
Name travaux1: Feuil3!$A$1:$A$3
Name type: Feuil2!$C$2:$E$2

Sheet Feuil1
H1: http://forum.excel-pratique.com/post188904.html#p188904
A2: reno++
C3: unité (m² / ml) | D3: quantité | E3: prix
A4: pose | B4: montage mur placo | C4: =IF(B4="","",VLOOKUP(B4,Feuil2!$A$4:$B$6,2,0)) -> m² | D4: 4 | E4: =INDEX(Feuil2!$A$2:$E$14,MATCH($B$4,Feuil2!$A$2:$A$14,0),MATCH($A$2,Feuil2!$A$2:$E$2,0))*D4 -> 252
A5: diver | B5: montage mur placo | C5: =IF(B5="","",VLOOKUP(B5,Feuil2!$A$4:$B$6,2,0)) -> m² | D5: 4 | E5: =INDEX(Feuil2!$A$2:$E$14,MATCH($B$4,Feuil2!$A$2:$A$14,0),MATCH($A$2,Feuil2!$A$2:$E$2,0))*D5 -> 252

Sheet Feuil2
C2: neuf | D2: reno | E2: reno++
A3: pose
A4: montage mur placo | B4: m² | C4: 45 | D4: =C4*1.3 -> 58.5 | E4: =C4*1.4 -> 63
A5: montage mur hydro | B5: m² | C5: 55 | D5: =C5*1.3 -> 71.5 | E5: =C5*1.4 -> 77
A6: montage mur caro de platre | B6: m² | C6: 57 | D6: =C6*1.3 -> 74.1 | E6: =C6*1.4 -> 79.8
A8: diver
A9: pose bande calico | B9: ml | C9: 7 | D9: =C9*1.3 -> 9.1 | E9: =C9*1.4 -> 9.8
A10: pose bande armé | B10: ml | C10: 10 | D10: =C10*1.3 -> 13 | E10: =C10*1.4 -> 14
I11: diver | J11: =Feuil2!$A$9:$A$10
A12: finition | I12: finition | J12: =Feuil2!$A$13:$A$14
A13: deuxiéme passe enduit | B13: ml | C13: 3 | D13: =C13*1.3 -> 3.9 | E13: =C13*1.4 -> 4.2 | I13: pose | J13: =Feuil2!$A$4:$A$6
A14: peinture | C14: 2 | D14: =C14*1.3 -> 2.6 | E14: =C14*1.4 -> 2.8 | I14: pose1 | J14: =Feuil2!$A$4:$A$6
I15: travaux | J15: =Feuil2!$A$3;Feuil2!$A$3;Feuil2!$A$8;Feuil2!$A$12
I16: travaux1 | J16: =Feuil3!$A$1:$A$3
I17: type | J17: =Feuil2!$C$2:$E$2

Sheet Feuil3
A1: =Feuil2!A3 -> pose
A2: =Feuil2!A8 -> diver
A3: =Feuil2!A12 -> finition
