Workbook

Sheet liste adh
C1: Nombre d'Adhérents | H1: =B108 -> 4
A2: Nom & Prénom | C2: Danse société | E2: Danse latine | G2: Gymn. | I2: Adresse | J2: Email | K2: Téléphone | L2: Date de naissance | M2: Divers | N2: certif
C3: Déb. | D3: Interm. | E3: Déb. | F3: Interm. | G3: Cotis. | H3: Licence | N3: médic | O3: Soc | P3: Lat
A4: William | B4: =IF(C4="x",1,IF(D4="x",1,IF(E4="x",1,IF(F4="x",1,IF(G4="x",1,0))))) -> 1 | D4: x | O4: =IF(C4="x",1,IF(D4="x",1,0)) -> 1 | P4: =IF(F4="x",1,IF(E4="x",1,0)) -> 0
A5: Richard | B5: =IF(C5="x",1,IF(D5="x",1,IF(E5="x",1,IF(F5="x",1,IF(G5="x",1,0))))) -> 1 | C5: x | F5: x | O5: =IF(C5="x",1,IF(D5="x",1,0)) -> 1 | P5: =IF(F5="x",1,IF(E5="x",1,0)) -> 1
A6: Sandrine | B6: =IF(C6="x",1,IF(D6="x",1,IF(E6="x",1,IF(F6="x",1,IF(G6="x",1,0))))) -> 1 | E6: x | O6: =IF(C6="x",1,IF(D6="x",1,0)) -> 0 | P6: =IF(F6="x",1,IF(E6="x",1,0)) -> 1
A7: Louisette | B7: =IF(C7="x",1,IF(D7="x",1,IF(E7="x",1,IF(F7="x",1,IF(G7="x",1,0))))) -> 1 | G7: x | H7: x | O7: =IF(C7="x",1,IF(D7="x",1,0)) -> 0 | P7: =IF(F7="x",1,IF(E7="x",1,0)) -> 0
B8: =IF(C8="x",1,IF(D8="x",1,IF(E8="x",1,IF(F8="x",1,IF(G8="x",1,0))))) -> 0 | O8: =IF(C8="x",1,IF(D8="x",1,0)) -> 0 | P8: =IF(F8="x",1,IF(E8="x",1,0)) -> 0
B9: =IF(C9="x",1,IF(D9="x",1,IF(E9="x",1,IF(F9="x",1,IF(G9="x",1,0))))) -> 0 | O9: =IF(C9="x",1,IF(D9="x",1,0)) -> 0 | P9: =IF(F9="x",1,IF(E9="x",1,0)) -> 0
B10: =IF(C10="x",1,IF(D10="x",1,IF(E10="x",1,IF(F10="x",1,IF(G10="x",1,0))))) -> 0 | O10: =IF(C10="x",1,IF(D10="x",1,0)) -> 0 | P10: =IF(F10="x",1,IF(E10="x",1,0)) -> 0
B11: =IF(C11="x",1,IF(D11="x",1,IF(E11="x",1,IF(F11="x",1,IF(G11="x",1,0))))) -> 0 | O11: =IF(C11="x",1,IF(D11="x",1,0)) -> 0 | P11: =IF(F11="x",1,IF(E11="x",1,0)) -> 0
B12: =IF(C12="x",1,IF(D12="x",1,IF(E12="x",1,IF(F12="x",1,IF(G12="x",1,0))))) -> 0 | O12: =IF(C12="x",1,IF(D12="x",1,0)) -> 0 | P12: =IF(F12="x",1,IF(E12="x",1,0)) -> 0
B13: =IF(C13="x",1,IF(D13="x",1,IF(E13="x",1,IF(F13="x",1,IF(G13="x",1,0))))) -> 0 | O13: =IF(C13="x",1,IF(D13="x",1,0)) -> 0 | P13: =IF(F13="x",1,IF(E13="x",1,0)) -> 0
B14: =IF(C14="x",1,IF(D14="x",1,IF(E14="x",1,IF(F14="x",1,IF(G14="x",1,0))))) -> 0 | O14: =IF(C14="x",1,IF(D14="x",1,0)) -> 0 | P14: =IF(F14="x",1,IF(E14="x",1,0)) -> 0
B15: =IF(C15="x",1,IF(D15="x",1,IF(E15="x",1,IF(F15="x",1,IF(G15="x",1,0))))) -> 0 | O15: =IF(C15="x",1,IF(D15="x",1,0)) -> 0 | P15: =IF(F15="x",1,IF(E15="x",1,0)) -> 0
B16: =IF(C16="x",1,IF(D16="x",1,IF(E16="x",1,IF(F16="x",1,IF(G16="x",1,0))))) -> 0 | O16: =IF(C16="x",1,IF(D16="x",1,0)) -> 0 | P16: =IF(F16="x",1,IF(E16="x",1,0)) -> 0
B17: =IF(C17="x",1,IF(D17="x",1,IF(E17="x",1,IF(F17="x",1,IF(G17="x",1,0))))) -> 0 | O17: =IF(C17="x",1,IF(D17="x",1,0)) -> 0 | P17: =IF(F17="x",1,IF(E17="x",1,0)) -> 0
B18: =IF(C18="x",1,IF(D18="x",1,IF(E18="x",1,IF(F18="x",1,IF(G18="x",1,0))))) -> 0 | O18: =IF(C18="x",1,IF(D18="x",1,0)) -> 0 | P18: =IF(F18="x",1,IF(E18="x",1,0)) -> 0
B19: =IF(C19="x",1,IF(D19="x",1,IF(E19="x",1,IF(F19="x",1,IF(G19="x",1,0))))) -> 0 | O19: =IF(C19="x",1,IF(D19="x",1,0)) -> 0 | P19: =IF(F19="x",1,IF(E19="x",1,0)) -> 0
... B32: =IF(C32="x",1,IF(D32="x",1,IF(E32="x",1,IF(F32="x",1,IF(G32="x",1,0))))) -> 0 | O32: =IF(C32="x",1,IF(D32="x",1,0)) -> 0 | P32: =IF(F32="x",1,IF(E32="x",1,0)) -> 0
B33: =IF(C33="x",1,IF(D33="x",1,IF(E33="x",1,IF(F33="x",1,IF(G33="x",1,0))))) -> 0 | L33: 19882 | O33: =IF(C33="x",1,IF(D33="x",1,0)) -> 0 | P33: =IF(F33="x",1,IF(E33="x",1,0)) -> 0
B34: =IF(C34="x",1,IF(D34="x",1,IF(E34="x",1,IF(F34="x",1,IF(G34="x",1,0))))) -> 0 | O34: =IF(C34="x",1,IF(D34="x",1,0)) -> 0 | P34: =IF(F34="x",1,IF(E34="x",1,0)) -> 0
B35: =IF(C35="x",1,IF(D35="x",1,IF(E35="x",1,IF(F35="x",1,IF(G35="x",1,0))))) -> 0 | O35: =IF(C35="x",1,IF(D35="x",1,0)) -> 0 | P35: =IF(F35="x",1,IF(E35="x",1,0)) -> 0
B36: =IF(C36="x",1,IF(D36="x",1,IF(E36="x",1,IF(F36="x",1,IF(G36="x",1,0))))) -> 0 | O36: =IF(C36="x",1,IF(D36="x",1,0)) -> 0 | P36: =IF(F36="x",1,IF(E36="x",1,0)) -> 0
B37: =IF(C37="x",1,IF(D37="x",1,IF(E37="x",1,IF(F37="x",1,IF(G37="x",1,0))))) -> 0 | O37: =IF(C37="x",1,IF(D37="x",1,0)) -> 0 | P37: =IF(F37="x",1,IF(E37="x",1,0)) -> 0
B38: =IF(C38="x",1,IF(D38="x",1,IF(E38="x",1,IF(F38="x",1,IF(G38="x",1,0))))) -> 0 | O38: =IF(C38="x",1,IF(D38="x",1,0)) -> 0 | P38: =IF(F38="x",1,IF(E38="x",1,0)) -> 0
B39: =IF(C39="x",1,IF(D39="x",1,IF(E39="x",1,IF(F39="x",1,IF(G39="x",1,0))))) -> 0 | O39: =IF(C39="x",1,IF(D39="x",1,0)) -> 0 | P39: =IF(F39="x",1,IF(E39="x",1,0)) -> 0
B40: =IF(C40="x",1,IF(D40="x",1,IF(E40="x",1,IF(F40="x",1,IF(G40="x",1,0))))) -> 0 | O40: =IF(C40="x",1,IF(D40="x",1,0)) -> 0 | P40: =IF(F40="x",1,IF(E40="x",1,0)) -> 0
B41: =IF(C41="x",1,IF(D41="x",1,IF(E41="x",1,IF(F41="x",1,IF(G41="x",1,0))))) -> 0 | O41: =IF(C41="x",1,IF(D41="x",1,0)) -> 0 | P41: =IF(F41="x",1,IF(E41="x",1,0)) -> 0
B42: =IF(C42="x",1,IF(D42="x",1,IF(E42="x",1,IF(F42="x",1,IF(G42="x",1,0))))) -> 0 | O42: =IF(C42="x",1,IF(D42="x",1,0)) -> 0 | P42: =IF(F42="x",1,IF(E42="x",1,0)) -> 0
B43: =IF(C43="x",1,IF(D43="x",1,IF(E43="x",1,IF(F43="x",1,IF(G43="x",1,0))))) -> 0 | O43: =IF(C43="x",1,IF(D43="x",1,0)) -> 0 | P43: =IF(F43="x",1,IF(E43="x",1,0)) -> 0
B44: =IF(C44="x",1,IF(D44="x",1,IF(E44="x",1,IF(F44="x",1,IF(G44="x",1,0))))) -> 0 | O44: =IF(C44="x",1,IF(D44="x",1,0)) -> 0 | P44: =IF(F44="x",1,IF(E44="x",1,0)) -> 0
B45: =IF(C45="x",1,IF(D45="x",1,IF(E45="x",1,IF(F45="x",1,IF(G45="x",1,0))))) -> 0 | O45: =IF(C45="x",1,IF(D45="x",1,0)) -> 0 | P45: =IF(F45="x",1,IF(E45="x",1,0)) -> 0
... B100: =IF(C100="x",1,IF(D100="x",1,IF(E100="x",1,IF(F100="x",1,IF(G100="x",1,0))))) -> 0 | O100: =IF(C100="x",1,IF(D100="x",1,0)) -> 0 | P100: =IF(F100="x",1,IF(E100="x",1,0)) -> 0
O102: =SUM(O4:O100) -> 2 | P102: =SUM(P4:P100) -> 2
C103: Danse Société | E103: Danse Latine | G103: Gym | H103: Licence
A104: Total adhérent par activités | C104: =O102 -> 2 | E104: =P102 -> 2 | G104: =COUNTIF(G4:G100,"x") -> 1
C105: Deb. | D105: Inter | E105: Déb. | F105: Inter
C106: =COUNTIF(C4:C100,"x") -> 1 | D106: =COUNTIF(D4:D100,"x") -> 1 | E106: =COUNTIF(E4:E100,"x") -> 1 | F106: =COUNTIF(F4:F100,"x") -> 1 | G106: =COUNTIF(G4:G100,"x") -> 1 | H106: =COUNTIF(H4:H100,"x") -> 1
A108: TOTAL Adhérents | B108: =SUM(B4:B100) -> 4
...

Sheet calculs
C1: ATTENTION ,NE SAISIR SUR CETTE FEUILLE QUE SUR LES COLONNES I- J- K
A2: Nom & Prénom | B2: Observ. diverses | C2: Danse société | E2: Danse latine | G2: Gymn. | I2: TOTAL | J2: Chèque(s) | M2: Reste | N2: cotisation 2012 | Q2: 7.5
C3: Déb. | D3: Interm. | E3: Déb. | F3: Interm. | G3: Cotis. | H3: Licenc | J3: 1 | K3: 2 | L3: 3 | M3: Dû | N3: Calculs transitoires | Q3: Totaux
A4: ='liste adh'!A4 -> William | C4: ='liste adh'!C4 -> 0 | D4: ='liste adh'!D4 -> x | E4: ='liste adh'!E4 -> 0 | F4: ='liste adh'!F4 -> 0 | G4: ='liste adh'!G4 -> 0 | H4: ='liste adh'!H4 -> 0 | I4: =IF(A4>0,(SUM(N4:P4)+T$12),0) -> 210 | M4: =I4-(J4+K4+L4) -> 210 | N4: =IF(AND(C4="x",D4="x"),T$9,IF(C4="x",T$8,IF(D4="x",T$8,0))) -> 200 | O4: =IF(AND(E4="x",F4="x"),T$7,IF(E4="x",T$6,IF(F4="x",T$6,0))) -> 0 | P4: =IF(AND(G4="x",H4="x"),(T$10+T$11),IF(G4="x",T$10,0)) -> 0 | Q4: =SUM(N4:P4) -> 200
A5: ='liste adh'!A5 -> Richard | C5: ='liste adh'!C5 -> x | D5: ='liste adh'!D5 -> 0 | E5: ='liste adh'!E5 -> 0 | F5: ='liste adh'!F5 -> x | G5: ='liste adh'!G5 -> 0 | H5: ='liste adh'!H5 -> 0 | I5: =IF(A5>0,(SUM(N5:P5)+T$12),0) -> 360 | M5: =I5-(J5+K5+L5) -> 360 | N5: =IF(AND(C5="x",D5="x"),T$9,IF(C5="x",T$8,IF(D5="x",T$8,0))) -> 200 | O5: =IF(AND(E5="x",F5="x"),T$7,IF(E5="x",T$6,IF(F5="x",T$6,0))) -> 150 | P5: =IF(AND(G5="x",H5="x"),(T$10+T$11),IF(G5="x",T$10,0)) -> 0 | Q5: =SUM(N5:P5) -> 350 | S5: TARIFS année en cours
A6: ='liste adh'!A6 -> Sandrine | C6: ='liste adh'!C6 -> 0 | D6: ='liste adh'!D6 -> 0 | E6: ='liste adh'!E6 -> x | F6: ='liste adh'!F6 -> 0 | G6: ='liste adh'!G6 -> 0 | H6: ='liste adh'!H6 -> 0 | I6: =IF(A6>0,(SUM(N6:P6)+T$12),0) -> 160 | M6: =I6-(J6+K6+L6) -> 160 | N6: =IF(AND(C6="x",D6="x"),T$9,IF(C6="x",T$8,IF(D6="x",T$8,0))) -> 0 | O6: =IF(AND(E6="x",F6="x"),T$7,IF(E6="x",T$6,IF(F6="x",T$6,0))) -> 150 | P6: =IF(AND(G6="x",H6="x"),(T$10+T$11),IF(G6="x",T$10,0)) -> 0 | Q6: =SUM(N6:P6) -> 150 | S6: Danses latines 1 cours | T6: 150
A7: ='liste adh'!A7 -> Louisette | C7: ='liste adh'!C7 -> 0 | D7: ='liste adh'!D7 -> 0 | E7: ='liste adh'!E7 -> 0 | F7: ='liste adh'!F7 -> 0 | G7: ='liste adh'!G7 -> x | H7: ='liste adh'!H7 -> x | I7: =IF(A7>0,(SUM(N7:P7)+T$12),0) -> 181.9 | M7: =I7-(J7+K7+L7) -> 181.9 | N7: =IF(AND(C7="x",D7="x"),T$9,IF(C7="x",T$8,IF(D7="x",T$8,0))) -> 0 | O7: =IF(AND(E7="x",F7="x"),T$7,IF(E7="x",T$6,IF(F7="x",T$6,0))) -> 0 | P7: =IF(AND(G7="x",H7="x"),(T$10+T$11),IF(G7="x",T$10,0)) -> 171.9 | Q7: =SUM(N7:P7) -> 171.9 | S7: Danses latines 2 cours | T7: 250
A8: ='liste adh'!A8 -> 0 | C8: ='liste adh'!C8 -> 0 | D8: ='liste adh'!D8 -> 0 | E8: ='liste adh'!E8 -> 0 | F8: ='liste adh'!F8 -> 0 | G8: ='liste adh'!G8 -> 0 | H8: ='liste adh'!H8 -> 0 | I8: =IF(A8>0,(SUM(N8:P8)+T$12),0) -> 0 | M8: =I8-(J8+K8+L8) -> 0 | N8: =IF(AND(C8="x",D8="x"),T$9,IF(C8="x",T$8,IF(D8="x",T$8,0))) -> 0 | O8: =IF(AND(E8="x",F8="x"),T$7,IF(E8="x",T$6,IF(F8="x",T$6,0))) -> 0 | P8: =IF(AND(G8="x",H8="x"),(T$10+T$11),IF(G8="x",T$10,0)) -> 0 | Q8: =SUM(N8:P8) -> 0 | S8: Danse société 1 cours | T8: 200
A9: ='liste adh'!A9 -> 0 | C9: ='liste adh'!C9 -> 0 | D9: ='liste adh'!D9 -> 0 | E9: ='liste adh'!E9 -> 0 | F9: ='liste adh'!F9 -> 0 | G9: ='liste adh'!G9 -> 0 | H9: ='liste adh'!H9 -> 0 | I9: =IF(A9>0,(SUM(N9:P9)+T$12),0) -> 0 | M9: =I9-(J9+K9+L9) -> 0 | N9: =IF(AND(C9="x",D9="x"),T$9,IF(C9="x",T$8,IF(D9="x",T$8,0))) -> 0 | O9: =IF(AND(E9="x",F9="x"),T$7,IF(E9="x",T$6,IF(F9="x",T$6,0))) -> 0 | P9: =IF(AND(G9="x",H9="x"),(T$10+T$11),IF(G9="x",T$10,0)) -> 0 | Q9: =SUM(N9:P9) -> 0 | S9: Danse société 2 cours | T9: 300
A10: ='liste adh'!A10 -> 0 | C10: ='liste adh'!C10 -> 0 | D10: ='liste adh'!D10 -> 0 | E10: ='liste adh'!E10 -> 0 | F10: ='liste adh'!F10 -> 0 | G10: ='liste adh'!G10 -> 0 | H10: ='liste adh'!H10 -> 0 | I10: =IF(A10>0,(SUM(N10:P10)+T$12),0) -> 0 | M10: =I10-(J10+K10+L10) -> 0 | N10: =IF(AND(C10="x",D10="x"),T$9,IF(C10="x",T$8,IF(D10="x",T$8,0))) -> 0 | O10: =IF(AND(E10="x",F10="x"),T$7,IF(E10="x",T$6,IF(F10="x",T$6,0))) -> 0 | P10: =IF(AND(G10="x",H10="x"),(T$10+T$11),IF(G10="x",T$10,0)) -> 0 | Q10: =SUM(N10:P10) -> 0 | S10: Atelier-Gym | T10: 150
A11: ='liste adh'!A11 -> 0 | C11: ='liste adh'!C11 -> 0 | D11: ='liste adh'!D11 -> 0 | E11: ='liste adh'!E11 -> 0 | F11: ='liste adh'!F11 -> 0 | G11: ='liste adh'!G11 -> 0 | H11: ='liste adh'!H11 -> 0 | I11: =IF(A11>0,(SUM(N11:P11)+T$12),0) -> 0 | M11: =I11-(J11+K11+L11) -> 0 | N11: =IF(AND(C11="x",D11="x"),T$9,IF(C11="x",T$8,IF(D11="x",T$8,0))) -> 0 | O11: =IF(AND(E11="x",F11="x"),T$7,IF(E11="x",T$6,IF(F11="x",T$6,0))) -> 0 | P11: =IF(AND(G11="x",H11="x"),(T$10+T$11),IF(G11="x",T$10,0)) -> 0 | Q11: =SUM(N11:P11) -> 0 | S11: Licence | T11: 21.9
A12: ='liste adh'!A12 -> 0 | C12: ='liste adh'!C12 -> 0 | D12: ='liste adh'!D12 -> 0 | E12: ='liste adh'!E12 -> 0 | F12: ='liste adh'!F12 -> 0 | G12: ='liste adh'!G12 -> 0 | H12: ='liste adh'!H12 -> 0 | I12: =IF(A12>0,(SUM(N12:P12)+T$12),0) -> 0 | M12: =I12-(J12+K12+L12) -> 0 | N12: =IF(AND(C12="x",D12="x"),T$9,IF(C12="x",T$8,IF(D12="x",T$8,0))) -> 0 | O12: =IF(AND(E12="x",F12="x"),T$7,IF(E12="x",T$6,IF(F12="x",T$6,0))) -> 0 | P12: =IF(AND(G12="x",H12="x"),(T$10+T$11),IF(G12="x",T$10,0)) -> 0 | Q12: =SUM(N12:P12) -> 0 | S12: Adhésion | T12: 10
A13: ='liste adh'!A13 -> 0 | C13: ='liste adh'!C13 -> 0 | D13: ='liste adh'!D13 -> 0 | E13: ='liste adh'!E13 -> 0 | F13: ='liste adh'!F13 -> 0 | G13: ='liste adh'!G13 -> 0 | H13: ='liste adh'!H13 -> 0 | I13: =IF(A13>0,(SUM(N13:P13)+T$12),0) -> 0 | M13: =I13-(J13+K13+L13) -> 0 | N13: =IF(AND(C13="x",D13="x"),T$9,IF(C13="x",T$8,IF(D13="x",T$8,0))) -> 0 | O13: =IF(AND(E13="x",F13="x"),T$7,IF(E13="x",T$6,IF(F13="x",T$6,0))) -> 0 | P13: =IF(AND(G13="x",H13="x"),(T$10+T$11),IF(G13="x",T$10,0)) -> 0 | Q13: =SUM(N13:P13) -> 0
A14: ='liste adh'!A14 -> 0 | C14: ='liste adh'!C14 -> 0 | D14: ='liste adh'!D14 -> 0 | E14: ='liste adh'!E14 -> 0 | F14: ='liste adh'!F14 -> 0 | G14: ='liste adh'!G14 -> 0 | H14: ='liste adh'!H14 -> 0 | I14: =IF(A14>0,(SUM(N14:P14)+T$12),0) -> 0 | M14: =I14-(J14+K14+L14) -> 0 | N14: =IF(AND(C14="x",D14="x"),T$9,IF(C14="x",T$8,IF(D14="x",T$8,0))) -> 0 | O14: =IF(AND(E14="x",F14="x"),T$7,IF(E14="x",T$6,IF(F14="x",T$6,0))) -> 0 | P14: =IF(AND(G14="x",H14="x"),(T$10+T$11),IF(G14="x",T$10,0)) -> 0 | Q14: =SUM(N14:P14) -> 0
A15: ='liste adh'!A15 -> 0 | C15: ='liste adh'!C15 -> 0 | D15: ='liste adh'!D15 -> 0 | E15: ='liste adh'!E15 -> 0 | F15: ='liste adh'!F15 -> 0 | G15: ='liste adh'!G15 -> 0 | H15: ='liste adh'!H15 -> 0 | I15: =IF(A15>0,(SUM(N15:P15)+T$12),0) -> 0 | M15: =I15-(J15+K15+L15) -> 0 | N15: =IF(AND(C15="x",D15="x"),T$9,IF(C15="x",T$8,IF(D15="x",T$8,0))) -> 0 | O15: =IF(AND(E15="x",F15="x"),T$7,IF(E15="x",T$6,IF(F15="x",T$6,0))) -> 0 | P15: =IF(AND(G15="x",H15="x"),(T$10+T$11),IF(G15="x",T$10,0)) -> 0 | Q15: =SUM(N15:P15) -> 0
A16: ='liste adh'!A16 -> 0 | C16: ='liste adh'!C16 -> 0 | D16: ='liste adh'!D16 -> 0 | E16: ='liste adh'!E16 -> 0 | F16: ='liste adh'!F16 -> 0 | G16: ='liste adh'!G16 -> 0 | H16: ='liste adh'!H16 -> 0 | I16: =IF(A16>0,(SUM(N16:P16)+T$12),0) -> 0 | M16: =I16-(J16+K16+L16) -> 0 | N16: =IF(AND(C16="x",D16="x"),T$9,IF(C16="x",T$8,IF(D16="x",T$8,0))) -> 0 | O16: =IF(AND(E16="x",F16="x"),T$7,IF(E16="x",T$6,IF(F16="x",T$6,0))) -> 0 | P16: =IF(AND(G16="x",H16="x"),(T$10+T$11),IF(G16="x",T$10,0)) -> 0 | Q16: =SUM(N16:P16) -> 0
A17: ='liste adh'!A17 -> 0 | C17: ='liste adh'!C17 -> 0 | D17: ='liste adh'!D17 -> 0 | F17: ='liste adh'!F17 -> 0 | G17: ='liste adh'!G17 -> 0 | H17: ='liste adh'!H17 -> 0 | I17: =IF(A17>0,(SUM(N17:P17)+T$12),0) -> 0 | M17: =I17-(J17+K17+L17) -> 0 | N17: =IF(AND(C17="x",D17="x"),T$9,IF(C17="x",T$8,IF(D17="x",T$8,0))) -> 0 | O17: =IF(AND(E17="x",F17="x"),T$7,IF(E17="x",T$6,IF(F17="x",T$6,0))) -> 0 | P17: =IF(AND(G17="x",H17="x"),(T$10+T$11),IF(G17="x",T$10,0)) -> 0 | Q17: =SUM(N17:P17) -> 0
A18: ='liste adh'!A18 -> 0 | C18: ='liste adh'!C18 -> 0 | D18: ='liste adh'!D18 -> 0 | E18: ='liste adh'!E18 -> 0 | F18: ='liste adh'!F18 -> 0 | G18: ='liste adh'!G18 -> 0 | H18: ='liste adh'!H18 -> 0 | I18: =IF(A18>0,(SUM(N18:P18)+T$12),0) -> 0 | M18: =I18-(J18+K18+L18) -> 0 | N18: =IF(AND(C18="x",D18="x"),T$9,IF(C18="x",T$8,IF(D18="x",T$8,0))) -> 0 | O18: =IF(AND(E18="x",F18="x"),T$7,IF(E18="x",T$6,IF(F18="x",T$6,0))) -> 0 | P18: =IF(AND(G18="x",H18="x"),(T$10+T$11),IF(G18="x",T$10,0)) -> 0 | Q18: =SUM(N18:P18) -> 0
A19: ='liste adh'!A19 -> 0 | C19: ='liste adh'!C19 -> 0 | D19: ='liste adh'!D19 -> 0 | E19: ='liste adh'!E19 -> 0 | F19: ='liste adh'!F19 -> 0 | G19: ='liste adh'!G19 -> 0 | H19: ='liste adh'!H19 -> 0 | I19: =IF(A19>0,(SUM(N19:P19)+T$12),0) -> 0 | M19: =I19-(J19+K19+L19) -> 0 | N19: =IF(AND(C19="x",D19="x"),T$9,IF(C19="x",T$8,IF(D19="x",T$8,0))) -> 0 | O19: =IF(AND(E19="x",F19="x"),T$7,IF(E19="x",T$6,IF(F19="x",T$6,0))) -> 0 | P19: =IF(AND(G19="x",H19="x"),(T$10+T$11),IF(G19="x",T$10,0)) -> 0 | Q19: =SUM(N19:P19) -> 0
A20: ='liste adh'!A20 -> 0 | C20: ='liste adh'!C20 -> 0 | D20: ='liste adh'!D20 -> 0 | E20: ='liste adh'!E20 -> 0 | F20: ='liste adh'!F20 -> 0 | G20: ='liste adh'!G20 -> 0 | H20: ='liste adh'!H20 -> 0 | I20: =IF(A20>0,(SUM(N20:P20)+T$12),0) -> 0 | M20: =I20-(J20+K20+L20) -> 0 | N20: =IF(AND(C20="x",D20="x"),T$9,IF(C20="x",T$8,IF(D20="x",T$8,0))) -> 0 | O20: =IF(AND(E20="x",F20="x"),T$7,IF(E20="x",T$6,IF(F20="x",T$6,0))) -> 0 | P20: =IF(AND(G20="x",H20="x"),(T$10+T$11),IF(G20="x",T$10,0)) -> 0 | Q20: =SUM(N20:P20) -> 0
A21: ='liste adh'!A21 -> 0 | C21: ='liste adh'!C21 -> 0 | D21: ='liste adh'!D21 -> 0 | E21: ='liste adh'!E21 -> 0 | F21: ='liste adh'!F21 -> 0 | G21: ='liste adh'!G21 -> 0 | H21: ='liste adh'!H21 -> 0 | I21: =IF(A21>0,(SUM(N21:P21)+T$12),0) -> 0 | M21: =I21-(J21+K21+L21) -> 0 | N21: =IF(AND(C21="x",D21="x"),T$9,IF(C21="x",T$8,IF(D21="x",T$8,0))) -> 0 | O21: =IF(AND(E21="x",F21="x"),T$7,IF(E21="x",T$6,IF(F21="x",T$6,0))) -> 0 | P21: =IF(AND(G21="x",H21="x"),(T$10+T$11),IF(G21="x",T$10,0)) -> 0 | Q21: =SUM(N21:P21) -> 0
A22: ='liste adh'!A22 -> 0 | C22: ='liste adh'!C22 -> 0 | D22: ='liste adh'!D22 -> 0 | E22: ='liste adh'!E22 -> 0 | F22: ='liste adh'!F22 -> 0 | G22: ='liste adh'!G22 -> 0 | H22: ='liste adh'!H22 -> 0 | I22: =IF(A22>0,(SUM(N22:P22)+T$12),0) -> 0 | M22: =I22-(J22+K22+L22) -> 0 | N22: =IF(AND(C22="x",D22="x"),T$9,IF(C22="x",T$8,IF(D22="x",T$8,0))) -> 0 | O22: =IF(AND(E22="x",F22="x"),T$7,IF(E22="x",T$6,IF(F22="x",T$6,0))) -> 0 | P22: =IF(AND(G22="x",H22="x"),(T$10+T$11),IF(G22="x",T$10,0)) -> 0 | Q22: =SUM(N22:P22) -> 0
A23: ='liste adh'!A23 -> 0 | C23: ='liste adh'!C23 -> 0 | D23: ='liste adh'!D23 -> 0 | E23: ='liste adh'!E23 -> 0 | F23: ='liste adh'!F23 -> 0 | G23: ='liste adh'!G23 -> 0 | H23: ='liste adh'!H23 -> 0 | I23: =IF(A23>0,(SUM(N23:P23)+T$12),0) -> 0 | M23: =I23-(J23+K23+L23) -> 0 | N23: =IF(AND(C23="x",D23="x"),T$9,IF(C23="x",T$8,IF(D23="x",T$8,0))) -> 0 | O23: =IF(AND(E23="x",F23="x"),T$7,IF(E23="x",T$6,IF(F23="x",T$6,0))) -> 0 | P23: =IF(AND(G23="x",H23="x"),(T$10+T$11),IF(G23="x",T$10,0)) -> 0 | Q23: =SUM(N23:P23) -> 0
A24: ='liste adh'!A24 -> 0 | C24: ='liste adh'!C24 -> 0 | D24: ='liste adh'!D24 -> 0 | E24: ='liste adh'!E24 -> 0 | F24: ='liste adh'!F24 -> 0 | G24: ='liste adh'!G24 -> 0 | H24: ='liste adh'!H24 -> 0 | I24: =IF(A24>0,(SUM(N24:P24)+T$12),0) -> 0 | M24: =I24-(J24+K24+L24) -> 0 | N24: =IF(AND(C24="x",D24="x"),T$9,IF(C24="x",T$8,IF(D24="x",T$8,0))) -> 0 | O24: =IF(AND(E24="x",F24="x"),T$7,IF(E24="x",T$6,IF(F24="x",T$6,0))) -> 0 | P24: =IF(AND(G24="x",H24="x"),(T$10+T$11),IF(G24="x",T$10,0)) -> 0 | Q24: =SUM(N24:P24) -> 0
A25: ='liste adh'!A25 -> 0 | C25: ='liste adh'!C25 -> 0 | D25: ='liste adh'!D25 -> 0 | E25: ='liste adh'!E25 -> 0 | F25: ='liste adh'!F25 -> 0 | G25: ='liste adh'!G25 -> 0 | H25: ='liste adh'!H25 -> 0 | I25: =IF(A25>0,(SUM(N25:P25)+T$12),0) -> 0 | M25: =I25-(J25+K25+L25) -> 0 | N25: =IF(AND(C25="x",D25="x"),T$9,IF(C25="x",T$8,IF(D25="x",T$8,0))) -> 0 | O25: =IF(AND(E25="x",F25="x"),T$7,IF(E25="x",T$6,IF(F25="x",T$6,0))) -> 0 | P25: =IF(AND(G25="x",H25="x"),(T$10+T$11),IF(G25="x",T$10,0)) -> 0 | Q25: =SUM(N25:P25) -> 0
A26: ='liste adh'!A26 -> 0 | C26: ='liste adh'!C26 -> 0 | D26: ='liste adh'!D26 -> 0 | E26: ='liste adh'!E26 -> 0 | F26: ='liste adh'!F26 -> 0 | G26: ='liste adh'!G26 -> 0 | H26: ='liste adh'!H26 -> 0 | I26: =IF(A26>0,(SUM(N26:P26)+T$12),0) -> 0 | M26: =I26-(J26+K26+L26) -> 0 | N26: =IF(AND(C26="x",D26="x"),T$9,IF(C26="x",T$8,IF(D26="x",T$8,0))) -> 0 | O26: =IF(AND(E26="x",F26="x"),T$7,IF(E26="x",T$6,IF(F26="x",T$6,0))) -> 0 | P26: =IF(AND(G26="x",H26="x"),(T$10+T$11),IF(G26="x",T$10,0)) -> 0 | Q26: =SUM(N26:P26) -> 0
A27: ='liste adh'!A27 -> 0 | C27: ='liste adh'!C27 -> 0 | D27: ='liste adh'!D27 -> 0 | E27: ='liste adh'!E27 -> 0 | F27: ='liste adh'!F27 -> 0 | G27: ='liste adh'!G27 -> 0 | H27: ='liste adh'!H27 -> 0 | I27: =IF(A27>0,(SUM(N27:P27)+T$12),0) -> 0 | M27: =I27-(J27+K27+L27) -> 0 | N27: =IF(AND(C27="x",D27="x"),T$9,IF(C27="x",T$8,IF(D27="x",T$8,0))) -> 0 | O27: =IF(AND(E27="x",F27="x"),T$7,IF(E27="x",T$6,IF(F27="x",T$6,0))) -> 0 | P27: =IF(AND(G27="x",H27="x"),(T$10+T$11),IF(G27="x",T$10,0)) -> 0 | Q27: =SUM(N27:P27) -> 0
A28: ='liste adh'!A28 -> 0 | C28: ='liste adh'!C28 -> 0 | D28: ='liste adh'!D28 -> 0 | E28: ='liste adh'!E28 -> 0 | F28: ='liste adh'!F28 -> 0 | G28: ='liste adh'!G28 -> 0 | H28: ='liste adh'!H28 -> 0 | I28: =IF(A28>0,(SUM(N28:P28)+T$12),0) -> 0 | M28: =I28-(J28+K28+L28) -> 0 | N28: =IF(AND(C28="x",D28="x"),T$9,IF(C28="x",T$8,IF(D28="x",T$8,0))) -> 0 | O28: =IF(AND(E28="x",F28="x"),T$7,IF(E28="x",T$6,IF(F28="x",T$6,0))) -> 0 | P28: =IF(AND(G28="x",H28="x"),(T$10+T$11),IF(G28="x",T$10,0)) -> 0 | Q28: =SUM(N28:P28) -> 0
A29: ='liste adh'!A29 -> 0 | C29: ='liste adh'!C29 -> 0 | D29: ='liste adh'!D29 -> 0 | E29: ='liste adh'!E29 -> 0 | F29: ='liste adh'!F29 -> 0 | G29: ='liste adh'!G29 -> 0 | H29: ='liste adh'!H29 -> 0 | I29: =IF(A29>0,(SUM(N29:P29)+T$12),0) -> 0 | M29: =I29-(J29+K29+L29) -> 0 | N29: =IF(AND(C29="x",D29="x"),T$9,IF(C29="x",T$8,IF(D29="x",T$8,0))) -> 0 | O29: =IF(AND(E29="x",F29="x"),T$7,IF(E29="x",T$6,IF(F29="x",T$6,0))) -> 0 | P29: =IF(AND(G29="x",H29="x"),(T$10+T$11),IF(G29="x",T$10,0)) -> 0 | Q29: =SUM(N29:P29) -> 0
... A100: ='liste adh'!A100 -> 0 | C100: ='liste adh'!C100 -> 0 | D100: ='liste adh'!D100 -> 0 | E100: ='liste adh'!E100 -> 0 | F100: ='liste adh'!F100 -> 0 | G100: ='liste adh'!G100 -> 0 | H100: ='liste adh'!H100 -> 0 | I100: =IF(A100>0,(SUM(N100:P100)+T$12),0) -> 0 | M100: =I100-(J100+K100+L100) -> 0 | N100: =IF(AND(C100="x",D100="x"),T$9,IF(C100="x",T$8,IF(D100="x",T$8,0))) -> 0 | O100: =IF(AND(E100="x",F100="x"),T$7,IF(E100="x",T$6,IF(F100="x",T$6,0))) -> 0 | P100: =IF(AND(G100="x",H100="x"),(T$10+T$11),IF(G100="x",T$10,0)) -> 0 | Q100: =SUM(N100:P100) -> 0
B101: Totaux | C101: ='liste adh'!C101 -> 0 | D101: ='liste adh'!D101 -> 0 | E101: ='liste adh'!E101 -> 0 | F101: ='liste adh'!F101 -> 0 | G101: ='liste adh'!G101 -> 0 | H101: ='liste adh'!H101 -> 0 | J101: =SUM(J4:J100) -> 0 | K101: =SUM(K4:K100) -> 0 | L101: =SUM(L4:L100) -> 0 | Q101: =SUM(Q4:Q100) -> 871.9 | S101: Total Activités
C104: Danse Société | E104: Danse latine | G104: Gymnastique
C105: Deb. | D105: Interm. | E105: Déb. | F105: Interm. | G105: Cot. | H105: Lic.
A106: TOTAL Adhérents | C106: =COUNTIF(C4:C100,"x") -> 1 | D106: =COUNTIF(D4:D100,"x") -> 1 | E106: =COUNTIF(E4:E100,"x") -> 1 | F106: =COUNTIF(F4:F100,"x") -> 1 | G106: =COUNTIF(G4:G100,"x") -> 1 | H106: =COUNTIF(H4:H100,"x") -> 1 | I106: ='liste adh'!B108 -> 4
A107: TOTAL GENERAL (cotis + activités) | I107: =SUM(I4:I100) -> 911.9
A108: Total Cotisation: ( adhérents X cot) | I108: =7.5*I106 -> 30
A110: Total Activités : | I110: =SUM(Q4:Q81) -> 871.9

Sheet Bilan 2012
C3: 2012
B4: Nombre Adhérents | C4: ='liste adh'!B108 -> 4
B5: Danses de Société | C5: ='liste adh'!C104:D104 -> 2
B6: Danses Latines | C6: ='liste adh'!P102 -> 2
B7: Atelier" bien etre" | C7: =calculs!G106 -> 1
B8: Cotisation Adhésion | C8: =7.5*C4 -> 30
B9: Cotisation Activités | C9: =calculs!Q101 -> 871.9
B10: Cotisation Licence | C10: =calculs!H106*calculs!T11 -> 21.9
B11: Total | C11: =C8+C9+C10 -> 923.8

Sheet DIVERS
A2: ='liste adh'!A2 -> Nom & Prénom | B2: Certif.
B3: médical
A4: ='liste adh'!A4 -> William
A5: ='liste adh'!A5 -> Richard
A6: ='liste adh'!A6 -> Sandrine
A7: ='liste adh'!A7 -> Louisette
A8: ='liste adh'!A8 -> 0
A9: ='liste adh'!A9 -> 0
A10: ='liste adh'!A10 -> 0
A11: ='liste adh'!A11 -> 0
A12: ='liste adh'!A12 -> 0
A13: ='liste adh'!A13 -> 0
A14: ='liste adh'!A14 -> 0
A15: ='liste adh'!A15 -> 0
... A100: ='liste adh'!A100 -> 0
