Workbook

Sheet Feuil1
A1: Doris | B1: 5984 | C1: Essence | D1: Ultramar | E1: 40909 | F1: =MONTH(E1) -> 1 | G1: 13.05 | H1: 0.65 | I1: 1.3 | J1: 15 | K1: Visa | Q1: janvier | R1: 1 | S1: =SUMIF($F$1:$F$199,R1,$J$1:$J$199) -> 15 | U1: Essence | V1: =SUMIF(C1:C197,U1,J1:J197) -> 138.02 | X1: Doris | Y1: =SUMIF(A1:A197,X1,J1:J197) -> 339
A2: Gabriel | B2: 5933 | C2: Pièces | D2: Ultramar | E2: 40941 | F2: =MONTH(E2) -> 2 | G2: 83.5 | H2: 4.17 | I2: 8.33 | J2: 96 | K2: Visa | Q2: février | R2: 2 | S2: =SUMIF($F$1:$F$199,R2,$J$1:$J$199) -> 96 | U2: Pièces | V2: =SUMIF(C1:C197,U2,J1:J197) -> 96 | X2: Gabriel | Y2: =SUMIF(A1:A197,X2,J1:J197) -> 168
A3: Gabriel | B3: 9594 | C3: Restaurant | D3: Ultramar | E3: 40971 | F3: =MONTH(E3) -> 3 | G3: 59.49 | H3: 3.13 | I3: 6.25 | J3: 72 | K3: Visa | Q3: mars | R3: 3 | S3: =SUMIF($F$1:$F$199,R3,$J$1:$J$199) -> 72 | U3: Restaurant | V3: =SUMIF(C1:C197,U3,J1:J197) -> 72 | X3: Richard | Y3: =SUMIF(A1:A197,X3,J1:J197) -> 237.02
A4: Doris | C4: Fourniture | D4: Crevier | E4: 41003 | F4: =MONTH(E4) -> 4 | G4: 91.32 | H4: 4.57 | I4: 9.11 | J4: 105 | K4: Visa | Q4: avril | R4: 4 | S4: =SUMIF($F$1:$F$199,R4,$J$1:$J$199) -> 105 | U4: Fourniture | V4: =SUMIF(C1:C197,U4,J1:J197) -> 105
A5: Doris | C5: Péages | D5: Crevier | E5: 41034 | F5: =MONTH(E5) -> 5 | G5: 91.32 | H5: 4.57 | I5: 9.11 | J5: 105 | K5: Visa | Q5: mai | R5: 5 | S5: =SUMIF($F$1:$F$199,R5,$J$1:$J$199) -> 105 | U5: Entretien et réparations véhicule | V5: =SUMIF(C1:C197,U5,J1:J197) -> 114
A6: Richard | B6: 2527 | C6: Entretien et réparations véhicule | D6: Ultramar | E6: 41066 | F6: =MONTH(E6) -> 6 | G6: 99.15 | H6: 4.96 | I6: 9.89 | J6: 114 | K6: Visa | Q6: juin | R6: 6 | S6: =SUMIF($F$1:$F$199,R6,$J$1:$J$199) -> 114 | U6: Péages | V6: =SUMIF(C1:C197,U6,J1:J197) -> 105
A7: Richard | B7: A1796568 | C7: Essence | D7: Crevier | E7: 41097 | F7: =MONTH(E7) -> 7 | G7: 53.06 | H7: 2.65 | I7: 5.29 | J7: 61 | K7: Visa | Q7: juillet | R7: 7 | S7: =SUMIF($F$1:$F$199,R7,$J$1:$J$199) -> 61 | U7: Location d'outils | V7: =SUMIF(C1:C197,U7,J1:J197) -> 114
A8: Doris | B8: JRV02717 | C8: Location d'outils | D8: Impériale | E8: 41129 | F8: =MONTH(E8) -> 8 | G8: 99.12 | H8: 4.96 | I8: 9.92 | J8: 114 | K8: Visa | Q8: août | R8: 8 | S8: =SUMIF($F$1:$F$199,R8,$J$1:$J$199) -> 114
A9: Richard | B9: 9852 | C9: Essence | D9: Ultramar | E9: 41161 | F9: =MONTH(E9) -> 9 | G9: 53.94 | H9: 2.7 | I9: 5.38 | J9: 62.02 | K9: Visa | Q9: septembre | R9: 9 | S9: =SUMIF($F$1:$F$199,R9,$J$1:$J$199) -> 62.02
Q10: octobre | R10: 10 | S10: =SUMIF($F$1:$F$199,R10,$J$1:$J$199) -> 0
Q11: novembre | R11: 11 | S11: =SUMIF($F$1:$F$199,R11,$J$1:$J$199) -> 0
Q12: décembre | R12: 12 | S12: =SUMIF($F$1:$F$199,R12,$J$1:$J$199) -> 0
Q15: Total annuel | S15: =SUM(S1:S14) -> 744.02 | V15: =SUM(V1:V14) -> 744.02 | Y15: =SUM(Y1:Y14) -> 744.02

Sheet Feuil2

Sheet Feuil3

Sheet DV-IDENTITY-0
A1: =IF(Feuil1!1:1,"AAAAAF++vwA=",0) -> #VALUE! | B1: =AND(Feuil1!A1,"AAAAAF++vwE=") -> #VALUE! | C1: =AND(Feuil1!B1,"AAAAAF++vwI=") -> #VALUE! | D1: =AND(Feuil1!C1,"AAAAAF++vwM=") -> #VALUE! | E1: =AND(Feuil1!D1,"AAAAAF++vwQ=") -> #VALUE! | F1: =AND(Feuil1!E1,"AAAAAF++vwU=") -> #VALUE! | G1: =AND(Feuil1!F1,"AAAAAF++vwY=") -> #VALUE! | H1: =AND(Feuil1!G1,"AAAAAF++vwc=") -> #VALUE! | I1: =AND(Feuil1!H1,"AAAAAF++vwg=") -> #VALUE! | J1: =AND(Feuil1!I1,"AAAAAF++vwk=") -> #VALUE! | K1: =AND(Feuil1!J1,"AAAAAF++vwo=") -> #VALUE! | L1: =AND(Feuil1!K1,"AAAAAF++vws=") -> #VALUE! | M1: =AND(Feuil1!L1,"AAAAAF++vww=") -> #VALUE! | N1: =AND(Feuil1!M1,"AAAAAF++vw0=") -> #VALUE! | O1: =AND(Feuil1!N1,"AAAAAF++vw4=") -> #VALUE! | P1: =AND(Feuil1!O1,"AAAAAF++vw8=") -> #VALUE! | Q1: =AND(Feuil1!P1,"AAAAAF++vxA=") -> #VALUE! | R1: =AND(Feuil1!Q1,"AAAAAF++vxE=") -> #VALUE! | S1: =AND(Feuil1!R1,"AAAAAF++vxI=") -> #VALUE! | T1: =AND(Feuil1!S1,"AAAAAF++vxM=") -> #VALUE! | U1: =AND(Feuil1!T1,"AAAAAF++vxQ=") -> #VALUE! | V1: =AND(Feuil1!U1,"AAAAAF++vxU=") -> #VALUE! | W1: =AND(Feuil1!V1,"AAAAAF++vxY=") -> #VALUE! | X1: =AND(Feuil1!W1,"AAAAAF++vxc=") -> #VALUE! | Y1: =AND(Feuil1!X1,"AAAAAF++vxg=") -> #VALUE! | Z1: =AND(Feuil1!Y1,"AAAAAF++vxk=") -> #VALUE! | AA1: =IF(Feuil1!2:2,"AAAAAF++vxo=",0) -> 0 | AB1: =AND(Feuil1!A2,"AAAAAF++vxs=") -> #VALUE! | AC1: =AND(Feuil1!B2,"AAAAAF++vxw=") -> #VALUE! | AD1: =AND(Feuil1!C2,"AAAAAF++vx0=") -> #VALUE! | AE1: =AND(Feuil1!D2,"AAAAAF++vx4=") -> #VALUE! | AF1: =AND(Feuil1!E2,"AAAAAF++vx8=") -> #VALUE! | AG1: =AND(Feuil1!F2,"AAAAAF++vyA=") -> #VALUE! | AH1: =AND(Feuil1!G2,"AAAAAF++vyE=") -> #VALUE! | AI1: =AND(Feuil1!H2,"AAAAAF++vyI=") -> #VALUE! | AJ1: =AND(Feuil1!I2,"AAAAAF++vyM=") -> #VALUE! | AK1: =AND(Feuil1!J2,"AAAAAF++vyQ=") -> #VALUE! | AL1: =AND(Feuil1!K2,"AAAAAF++vyU=") -> #VALUE! | AM1: =AND(Feuil1!L2,"AAAAAF++vyY=") -> #VALUE! | AN1: =AND(Feuil1!M2,"AAAAAF++vyc=") -> #VALUE! | AO1: =AND(Feuil1!N2,"AAAAAF++vyg=") -> #VALUE! | AP1: =AND(Feuil1!O2,"AAAAAF++vyk=") -> #VALUE! | AQ1: =AND(Feuil1!P2,"AAAAAF++vyo=") -> #VALUE! | AR1: =AND(Feuil1!Q2,"AAAAAF++vys=") -> #VALUE! | AS1: =AND(Feuil1!R2,"AAAAAF++vyw=") -> #VALUE! | AT1: =AND(Feuil1!S2,"AAAAAF++vy0=") -> #VALUE! | AU1: =AND(Feuil1!T2,"AAAAAF++vy4=") -> #VALUE! | AV1: =AND(Feuil1!U2,"AAAAAF++vy8=") -> #VALUE! | AW1: =AND(Feuil1!V2,"AAAAAF++vzA=") -> #VALUE! | AX1: =AND(Feuil1!W2,"AAAAAF++vzE=") -> #VALUE! | AY1: =AND(Feuil1!X2,"AAAAAF++vzI=") -> #VALUE! | AZ1: =AND(Feuil1!Y2,"AAAAAF++vzM=") -> #VALUE! | BA1: =IF(Feuil1!3:3,"AAAAAF++vzQ=",0) -> 0 | BB1: =AND(Feuil1!A3,"AAAAAF++vzU=") -> #VALUE! | BC1: =AND(Feuil1!B3,"AAAAAF++vzY=") -> #VALUE! | BD1: =AND(Feuil1!C3,"AAAAAF++vzc=") -> #VALUE! | BE1: =AND(Feuil1!D3,"AAAAAF++vzg=") -> #VALUE! | BF1: =AND(Feuil1!E3,"AAAAAF++vzk=") -> #VALUE! | BG1: =AND(Feuil1!F3,"AAAAAF++vzo=") -> #VALUE! | BH1: =AND(Feuil1!G3,"AAAAAF++vzs=") -> #VALUE! | BI1: =AND(Feuil1!H3,"AAAAAF++vzw=") -> #VALUE! | BJ1: =AND(Feuil1!I3,"AAAAAF++vz0=") -> #VALUE! | BK1: =AND(Feuil1!J3,"AAAAAF++vz4=") -> #VALUE! | BL1: =AND(Feuil1!K3,"AAAAAF++vz8=") -> #VALUE! | BM1: =AND(Feuil1!L3,"AAAAAF++v0A=") -> #VALUE! | BN1: =AND(Feuil1!M3,"AAAAAF++v0E=") -> #VALUE! | BO1: =AND(Feuil1!N3,"AAAAAF++v0I=") -> #VALUE! | BP1: =AND(Feuil1!O3,"AAAAAF++v0M=") -> #VALUE! | BQ1: =AND(Feuil1!P3,"AAAAAF++v0Q=") -> #VALUE! | BR1: =AND(Feuil1!Q3,"AAAAAF++v0U=") -> #VALUE! | BS1: =AND(Feuil1!R3,"AAAAAF++v0Y=") -> #VALUE! | BT1: =AND(Feuil1!S3,"AAAAAF++v0c=") -> #VALUE! | BU1: =AND(Feuil1!T3,"AAAAAF++v0g=") -> #VALUE! | BV1: =AND(Feuil1!U3,"AAAAAF++v0k=") -> #VALUE! | BW1: =AND(Feuil1!V3,"AAAAAF++v0o=") -> #VALUE! | BX1: =AND(Feuil1!W3,"AAAAAF++v0s=") -> #VALUE! | BY1: =AND(Feuil1!X3,"AAAAAF++v0w=") -> #VALUE! | BZ1: =AND(Feuil1!Y3,"AAAAAF++v00=") -> #VALUE! | CA1: =IF(Feuil1!4:4,"AAAAAF++v04=",0) -> 0 | CB1: =AND(Feuil1!A4,"AAAAAF++v08=") -> #VALUE! | CC1: =AND(Feuil1!B4,"AAAAAF++v1A=") -> #VALUE! | CD1: =AND(Feuil1!C4,"AAAAAF++v1E=") -> #VALUE! | CE1: =AND(Feuil1!D4,"AAAAAF++v1I=") -> #VALUE! | CF1: =AND(Feuil1!E4,"AAAAAF++v1M=") -> #VALUE! | CG1: =AND(Feuil1!F4,"AAAAAF++v1Q=") -> #VALUE! | CH1: =AND(Feuil1!G4,"AAAAAF++v1U=") -> #VALUE! | CI1: =AND(Feuil1!H4,"AAAAAF++v1Y=") -> #VALUE! | CJ1: =AND(Feuil1!I4,"AAAAAF++v1c=") -> #VALUE! | CK1: =AND(Feuil1!J4,"AAAAAF++v1g=") -> #VALUE! | CL1: =AND(Feuil1!K4,"AAAAAF++v1k=") -> #VALUE! | CM1: =AND(Feuil1!L4,"AAAAAF++v1o=") -> #VALUE! | CN1: =AND(Feuil1!M4,"AAAAAF++v1s=") -> #VALUE! | CO1: =AND(Feuil1!N4,"AAAAAF++v1w=") -> #VALUE! | CP1: =AND(Feuil1!O4,"AAAAAF++v10=") -> #VALUE! | CQ1: =AND(Feuil1!P4,"AAAAAF++v14=") -> #VALUE! | CR1: =AND(Feuil1!Q4,"AAAAAF++v18=") -> #VALUE! | CS1: =AND(Feuil1!R4,"AAAAAF++v2A=") -> #VALUE! | CT1: =AND(Feuil1!S4,"AAAAAF++v2E=") -> #VALUE! | CU1: =AND(Feuil1!T4,"AAAAAF++v2I=") -> #VALUE! | CV1: =AND(Feuil1!U4,"AAAAAF++v2M=") -> #VALUE! | CW1: =AND(Feuil1!V4,"AAAAAF++v2Q=") -> #VALUE! | CX1: =AND(Feuil1!W4,"AAAAAF++v2U=") -> #VALUE! | CY1: =AND(Feuil1!X4,"AAAAAF++v2Y=") -> #VALUE! | CZ1: =AND(Feuil1!Y4,"AAAAAF++v2c=") -> #VALUE! | DA1: =IF(Feuil1!5:5,"AAAAAF++v2g=",0) -> 0 | DB1: =AND(Feuil1!A5,"AAAAAF++v2k=") -> #VALUE! | DC1: =AND(Feuil1!B5,"AAAAAF++v2o=") -> #VALUE! | DD1: =AND(Feuil1!C5,"AAAAAF++v2s=") -> #VALUE! | DE1: =AND(Feuil1!D5,"AAAAAF++v2w=") -> #VALUE! | DF1: =AND(Feuil1!E5,"AAAAAF++v20=") -> #VALUE! | DG1: =AND(Feuil1!F5,"AAAAAF++v24=") -> #VALUE! | DH1: =AND(Feuil1!G5,"AAAAAF++v28=") -> #VALUE! | DI1: =AND(Feuil1!H5,"AAAAAF++v3A=") -> #VALUE! | DJ1: =AND(Feuil1!I5,"AAAAAF++v3E=") -> #VALUE! | DK1: =AND(Feuil1!J5,"AAAAAF++v3I=") -> #VALUE! | DL1: =AND(Feuil1!K5,"AAAAAF++v3M=") -> #VALUE! | DM1: =AND(Feuil1!L5,"AAAAAF++v3Q=") -> #VALUE! | DN1: =AND(Feuil1!M5,"AAAAAF++v3U=") -> #VALUE! | DO1: =AND(Feuil1!N5,"AAAAAF++v3Y=") -> #VALUE! | DP1: =AND(Feuil1!O5,"AAAAAF++v3c=") -> #VALUE! | DQ1: =AND(Feuil1!P5,"AAAAAF++v3g=") -> #VALUE! | DR1: =AND(Feuil1!Q5,"AAAAAF++v3k=") -> #VALUE! | DS1: =AND(Feuil1!R5,"AAAAAF++v3o=") -> #VALUE! | DT1: =AND(Feuil1!S5,"AAAAAF++v3s=") -> #VALUE! | DU1: =AND(Feuil1!T5,"AAAAAF++v3w=") -> #VALUE! | DV1: =AND(Feuil1!U5,"AAAAAF++v30=") -> #VALUE! | DW1: =AND(Feuil1!V5,"AAAAAF++v34=") -> #VALUE! | DX1: =AND(Feuil1!W5,"AAAAAF++v38=") -> #VALUE! | DY1: =AND(Feuil1!X5,"AAAAAF++v4A=") -> #VALUE! | DZ1: =AND(Feuil1!Y5,"AAAAAF++v4E=") -> #VALUE! | EA1: =IF(Feuil1!6:6,"AAAAAF++v4I=",0) -> 0 | EB1: =AND(Feuil1!A6,"AAAAAF++v4M=") -> #VALUE! | EC1: =AND(Feuil1!B6,"AAAAAF++v4Q=") -> #VALUE! | ED1: =AND(Feuil1!C6,"AAAAAF++v4U=") -> #VALUE! | EE1: =AND(Feuil1!D6,"AAAAAF++v4Y=") -> #VALUE! | EF1: =AND(Feuil1!E6,"AAAAAF++v4c=") -> #VALUE! | EG1: =AND(Feuil1!F6,"AAAAAF++v4g=") -> #VALUE! | EH1: =AND(Feuil1!G6,"AAAAAF++v4k=") -> #VALUE! | EI1: =AND(Feuil1!H6,"AAAAAF++v4o=") -> #VALUE! | EJ1: =AND(Feuil1!I6,"AAAAAF++v4s=") -> #VALUE! | EK1: =AND(Feuil1!J6,"AAAAAF++v4w=") -> #VALUE! | EL1: =AND(Feuil1!K6,"AAAAAF++v40=") -> #VALUE! | EM1: =AND(Feuil1!L6,"AAAAAF++v44=") -> #VALUE! | EN1: =AND(Feuil1!M6,"AAAAAF++v48=") -> #VALUE! | EO1: =AND(Feuil1!N6,"AAAAAF++v5A=") -> #VALUE! | EP1: =AND(Feuil1!O6,"AAAAAF++v5E=") -> #VALUE! | EQ1: =AND(Feuil1!P6,"AAAAAF++v5I=") -> #VALUE! | ER1: =AND(Feuil1!Q6,"AAAAAF++v5M=") -> #VALUE! | ES1: =AND(Feuil1!R6,"AAAAAF++v5Q=") -> #VALUE! | ET1: =AND(Feuil1!S6,"AAAAAF++v5U=") -> #VALUE! | EU1: =AND(Feuil1!T6,"AAAAAF++v5Y=") -> #VALUE! | EV1: =AND(Feuil1!U6,"AAAAAF++v5c=") -> #VALUE! | EW1: =AND(Feuil1!V6,"AAAAAF++v5g=") -> #VALUE! | EX1: =AND(Feuil1!W6,"AAAAAF++v5k=") -> #VALUE! | EY1: =AND(Feuil1!X6,"AAAAAF++v5o=") -> #VALUE! | EZ1: =AND(Feuil1!Y6,"AAAAAF++v5s=") -> #VALUE! | FA1: =IF(Feuil1!7:7,"AAAAAF++v5w=",0) -> 0 | FB1: =AND(Feuil1!A7,"AAAAAF++v50=") -> #VALUE! | FC1: =AND(Feuil1!B7,"AAAAAF++v54=") -> #VALUE! | FD1: =AND(Feuil1!C7,"AAAAAF++v58=") -> #VALUE! | FE1: =AND(Feuil1!D7,"AAAAAF++v6A=") -> #VALUE! | FF1: =AND(Feuil1!E7,"AAAAAF++v6E=") -> #VALUE! | FG1: =AND(Feuil1!F7,"AAAAAF++v6I=") -> #VALUE! | FH1: =AND(Feuil1!G7,"AAAAAF++v6M=") -> #VALUE! | FI1: =AND(Feuil1!H7,"AAAAAF++v6Q=") -> #VALUE! | FJ1: =AND(Feuil1!I7,"AAAAAF++v6U=") -> #VALUE! | FK1: =AND(Feuil1!J7,"AAAAAF++v6Y=") -> #VALUE! | FL1: =AND(Feuil1!K7,"AAAAAF++v6c=") -> #VALUE! | FM1: =AND(Feuil1!L7,"AAAAAF++v6g=") -> #VALUE! | FN1: =AND(Feuil1!M7,"AAAAAF++v6k=") -> #VALUE! | FO1: =AND(Feuil1!N7,"AAAAAF++v6o=") -> #VALUE! | FP1: =AND(Feuil1!O7,"AAAAAF++v6s=") -> #VALUE! | FQ1: =AND(Feuil1!P7,"AAAAAF++v6w=") -> #VALUE! | FR1: =AND(Feuil1!Q7,"AAAAAF++v60=") -> #VALUE! | FS1: =AND(Feuil1!R7,"AAAAAF++v64=") -> #VALUE! | FT1: =AND(Feuil1!S7,"AAAAAF++v68=") -> #VALUE! | FU1: =AND(Feuil1!T7,"AAAAAF++v7A=") -> #VALUE! | FV1: =AND(Feuil1!U7,"AAAAAF++v7E=") -> #VALUE! | FW1: =AND(Feuil1!V7,"AAAAAF++v7I=") -> #VALUE! | FX1: =AND(Feuil1!W7,"AAAAAF++v7M=") -> #VALUE! | FY1: =AND(Feuil1!X7,"AAAAAF++v7Q=") -> #VALUE! | FZ1: =AND(Feuil1!Y7,"AAAAAF++v7U=") -> #VALUE! | GA1: =IF(Feuil1!8:8,"AAAAAF++v7Y=",0) -> 0 | GB1: =AND(Feuil1!A8,"AAAAAF++v7c=") -> #VALUE! | GC1: =AND(Feuil1!B8,"AAAAAF++v7g=") -> #VALUE! | GD1: =AND(Feuil1!C8,"AAAAAF++v7k=") -> #VALUE! | GE1: =AND(Feuil1!D8,"AAAAAF++v7o=") -> #VALUE! | GF1: =AND(Feuil1!E8,"AAAAAF++v7s=") -> #VALUE! | GG1: =AND(Feuil1!F8,"AAAAAF++v7w=") -> #VALUE! | GH1: =AND(Feuil1!G8,"AAAAAF++v70=") -> #VALUE! | GI1: =AND(Feuil1!H8,"AAAAAF++v74=") -> #VALUE! | GJ1: =AND(Feuil1!I8,"AAAAAF++v78=") -> #VALUE! | GK1: =AND(Feuil1!J8,"AAAAAF++v8A=") -> #VALUE! | GL1: =AND(Feuil1!K8,"AAAAAF++v8E=") -> #VALUE! | GM1: =AND(Feuil1!L8,"AAAAAF++v8I=") -> #VALUE! | GN1: =AND(Feuil1!M8,"AAAAAF++v8M=") -> #VALUE! | GO1: =AND(Feuil1!N8,"AAAAAF++v8Q=") -> #VALUE! | GP1: =AND(Feuil1!O8,"AAAAAF++v8U=") -> #VALUE! | GQ1: =AND(Feuil1!P8,"AAAAAF++v8Y=") -> #VALUE! | GR1: =AND(Feuil1!Q8,"AAAAAF++v8c=") -> #VALUE! | GS1: =AND(Feuil1!R8,"AAAAAF++v8g=") -> #VALUE! | GT1: =AND(Feuil1!S8,"AAAAAF++v8k=") -> #VALUE! | GU1: =AND(Feuil1!T8,"AAAAAF++v8o=") -> #VALUE! | GV1: =AND(Feuil1!U8,"AAAAAF++v8s=") -> #VALUE! | GW1: =AND(Feuil1!V8,"AAAAAF++v8w=") -> #VALUE! | GX1: =AND(Feuil1!W8,"AAAAAF++v80=") -> #VALUE! | GY1: =AND(Feuil1!X8,"AAAAAF++v84=") -> #VALUE! | GZ1: =AND(Feuil1!Y8,"AAAAAF++v88=") -> #VALUE! | HA1: =IF(Feuil1!9:9,"AAAAAF++v9A=",0) -> 0 | HB1: =AND(Feuil1!A9,"AAAAAF++v9E=") -> #VALUE! | HC1: =AND(Feuil1!B9,"AAAAAF++v9I=") -> #VALUE! | HD1: =AND(Feuil1!C9,"AAAAAF++v9M=") -> #VALUE! | HE1: =AND(Feuil1!D9,"AAAAAF++v9Q=") -> #VALUE! | HF1: =AND(Feuil1!E9,"AAAAAF++v9U=") -> #VALUE! | HG1: =AND(Feuil1!F9,"AAAAAF++v9Y=") -> #VALUE! | HH1: =AND(Feuil1!G9,"AAAAAF++v9c=") -> #VALUE! | HI1: =AND(Feuil1!H9,"AAAAAF++v9g=") -> #VALUE! | HJ1: =AND(Feuil1!I9,"AAAAAF++v9k=") -> #VALUE! | HK1: =AND(Feuil1!J9,"AAAAAF++v9o=") -> #VALUE! | HL1: =AND(Feuil1!K9,"AAAAAF++v9s=") -> #VALUE! | HM1: =AND(Feuil1!L9,"AAAAAF++v9w=") -> #VALUE! | HN1: =AND(Feuil1!M9,"AAAAAF++v90=") -> #VALUE! | HO1: =AND(Feuil1!N9,"AAAAAF++v94=") -> #VALUE! | HP1: =AND(Feuil1!O9,"AAAAAF++v98=") -> #VALUE! | HQ1: =AND(Feuil1!P9,"AAAAAF++v+A=") -> #VALUE! | HR1: =AND(Feuil1!Q9,"AAAAAF++v+E=") -> #VALUE! | HS1: =AND(Feuil1!R9,"AAAAAF++v+I=") -> #VALUE! | HT1: =AND(Feuil1!S9,"AAAAAF++v+M=") -> #VALUE! | HU1: =AND(Feuil1!T9,"AAAAAF++v+Q=") -> #VALUE! | HV1: =AND(Feuil1!U9,"AAAAAF++v+U=") -> #VALUE! | HW1: =AND(Feuil1!V9,"AAAAAF++v+Y=") -> #VALUE! | HX1: =AND(Feuil1!W9,"AAAAAF++v+c=") -> #VALUE! | HY1: =AND(Feuil1!X9,"AAAAAF++v+g=") -> #VALUE! | HZ1: =AND(Feuil1!Y9,"AAAAAF++v+k=") -> #VALUE! | IA1: =IF(Feuil1!10:10,"AAAAAF++v+o=",0) -> 0 | IB1: =AND(Feuil1!A10,"AAAAAF++v+s=") -> #VALUE! | IC1: =AND(Feuil1!B10,"AAAAAF++v+w=") -> #VALUE! | ID1: =AND(Feuil1!C10,"AAAAAF++v+0=") -> #VALUE! | IE1: =AND(Feuil1!D10,"AAAAAF++v+4=") -> #VALUE! | IF1: =AND(Feuil1!E10,"AAAAAF++v+8=") -> #VALUE! | IG1: =AND(Feuil1!F10,"AAAAAF++v/A=") -> #VALUE! | IH1: =AND(Feuil1!G10,"AAAAAF++v/E=") -> #VALUE! | II1: =AND(Feuil1!H10,"AAAAAF++v/I=") -> #VALUE! | IJ1: =AND(Feuil1!I10,"AAAAAF++v/M=") -> #VALUE! | IK1: =AND(Feuil1!J10,"AAAAAF++v/Q=") -> #VALUE! | IL1: =AND(Feuil1!K10,"AAAAAF++v/U=") -> #VALUE! | IM1: =AND(Feuil1!L10,"AAAAAF++v/Y=") -> #VALUE! | IN1: =AND(Feuil1!M10,"AAAAAF++v/c=") -> #VALUE! | IO1: =AND(Feuil1!N10,"AAAAAF++v/g=") -> #VALUE! | IP1: =AND(Feuil1!O10,"AAAAAF++v/k=") -> #VALUE! | IQ1: =AND(Feuil1!P10,"AAAAAF++v/o=") -> #VALUE! | IR1: =AND(Feuil1!Q10,"AAAAAF++v/s=") -> #VALUE! | IS1: =AND(Feuil1!R10,"AAAAAF++v/w=") -> #VALUE! | IT1: =AND(Feuil1!S10,"AAAAAF++v/0=") -> #VALUE! | IU1: =AND(Feuil1!T10,"AAAAAF++v/4=") -> #VALUE! | IV1: =AND(Feuil1!U10,"AAAAAF++v/8=") -> #VALUE!
A2: =AND(Feuil1!V10,"AAAAAFvuPAA=") -> #VALUE! | B2: =AND(Feuil1!W10,"AAAAAFvuPAE=") -> #VALUE! | C2: =AND(Feuil1!X10,"AAAAAFvuPAI=") -> #VALUE! | D2: =AND(Feuil1!Y10,"AAAAAFvuPAM=") -> #VALUE! | E2: =IF(Feuil1!11:11,"AAAAAFvuPAQ=",0) -> 0 | F2: =AND(Feuil1!A11,"AAAAAFvuPAU=") -> #VALUE! | G2: =AND(Feuil1!B11,"AAAAAFvuPAY=") -> #VALUE! | H2: =AND(Feuil1!C11,"AAAAAFvuPAc=") -> #VALUE! | I2: =AND(Feuil1!D11,"AAAAAFvuPAg=") -> #VALUE! | J2: =AND(Feuil1!E11,"AAAAAFvuPAk=") -> #VALUE! | K2: =AND(Feuil1!F11,"AAAAAFvuPAo=") -> #VALUE! | L2: =AND(Feuil1!G11,"AAAAAFvuPAs=") -> #VALUE! | M2: =AND(Feuil1!H11,"AAAAAFvuPAw=") -> #VALUE! | N2: =AND(Feuil1!I11,"AAAAAFvuPA0=") -> #VALUE! | O2: =AND(Feuil1!J11,"AAAAAFvuPA4=") -> #VALUE! | P2: =AND(Feuil1!K11,"AAAAAFvuPA8=") -> #VALUE! | Q2: =AND(Feuil1!L11,"AAAAAFvuPBA=") -> #VALUE! | R2: =AND(Feuil1!M11,"AAAAAFvuPBE=") -> #VALUE! | S2: =AND(Feuil1!N11,"AAAAAFvuPBI=") -> #VALUE! | T2: =AND(Feuil1!O11,"AAAAAFvuPBM=") -> #VALUE! | U2: =AND(Feuil1!P11,"AAAAAFvuPBQ=") -> #VALUE! | V2: =AND(Feuil1!Q11,"AAAAAFvuPBU=") -> #VALUE! | W2: =AND(Feuil1!R11,"AAAAAFvuPBY=") -> #VALUE! | X2: =AND(Feuil1!S11,"AAAAAFvuPBc=") -> #VALUE! | Y2: =AND(Feuil1!T11,"AAAAAFvuPBg=") -> #VALUE! | Z2: =AND(Feuil1!U11,"AAAAAFvuPBk=") -> #VALUE! | AA2: =AND(Feuil1!V11,"AAAAAFvuPBo=") -> #VALUE! | AB2: =AND(Feuil1!W11,"AAAAAFvuPBs=") -> #VALUE! | AC2: =AND(Feuil1!X11,"AAAAAFvuPBw=") -> #VALUE! | AD2: =AND(Feuil1!Y11,"AAAAAFvuPB0=") -> #VALUE! | AE2: =IF(Feuil1!12:12,"AAAAAFvuPB4=",0) -> 0 | AF2: =AND(Feuil1!A12,"AAAAAFvuPB8=") -> #VALUE! | AG2: =AND(Feuil1!B12,"AAAAAFvuPCA=") -> #VALUE! | AH2: =AND(Feuil1!C12,"AAAAAFvuPCE=") -> #VALUE! | AI2: =AND(Feuil1!D12,"AAAAAFvuPCI=") -> #VALUE! | AJ2: =AND(Feuil1!E12,"AAAAAFvuPCM=") -> #VALUE! | AK2: =AND(Feuil1!F12,"AAAAAFvuPCQ=") -> #VALUE! | AL2: =AND(Feuil1!G12,"AAAAAFvuPCU=") -> #VALUE! | AM2: =AND(Feuil1!H12,"AAAAAFvuPCY=") -> #VALUE! | AN2: =AND(Feuil1!I12,"AAAAAFvuPCc=") -> #VALUE! | AO2: =AND(Feuil1!J12,"AAAAAFvuPCg=") -> #VALUE! | AP2: =AND(Feuil1!K12,"AAAAAFvuPCk=") -> #VALUE! | AQ2: =AND(Feuil1!L12,"AAAAAFvuPCo=") -> #VALUE! | AR2: =AND(Feuil1!M12,"AAAAAFvuPCs=") -> #VALUE! | AS2: =AND(Feuil1!N12,"AAAAAFvuPCw=") -> #VALUE! | AT2: =AND(Feuil1!O12,"AAAAAFvuPC0=") -> #VALUE! | AU2: =AND(Feuil1!P12,"AAAAAFvuPC4=") -> #VALUE! | AV2: =AND(Feuil1!Q12,"AAAAAFvuPC8=") -> #VALUE! | AW2: =AND(Feuil1!R12,"AAAAAFvuPDA=") -> #VALUE! | AX2: =AND(Feuil1!S12,"AAAAAFvuPDE=") -> #VALUE! | AY2: =AND(Feuil1!T12,"AAAAAFvuPDI=") -> #VALUE! | AZ2: =AND(Feuil1!U12,"AAAAAFvuPDM=") -> #VALUE! | BA2: =AND(Feuil1!V12,"AAAAAFvuPDQ=") -> #VALUE! | BB2: =AND(Feuil1!W12,"AAAAAFvuPDU=") -> #VALUE! | BC2: =AND(Feuil1!X12,"AAAAAFvuPDY=") -> #VALUE! | BD2: =AND(Feuil1!Y12,"AAAAAFvuPDc=") -> #VALUE! | BE2: =IF(Feuil1!13:13,"AAAAAFvuPDg=",0) -> 0 | BF2: =AND(Feuil1!A13,"AAAAAFvuPDk=") -> #VALUE! | BG2: =AND(Feuil1!B13,"AAAAAFvuPDo=") -> #VALUE! | BH2: =AND(Feuil1!C13,"AAAAAFvuPDs=") -> #VALUE! | BI2: =AND(Feuil1!D13,"AAAAAFvuPDw=") -> #VALUE! | BJ2: =AND(Feuil1!E13,"AAAAAFvuPD0=") -> #VALUE! | BK2: =AND(Feuil1!F13,"AAAAAFvuPD4=") -> #VALUE! | BL2: =AND(Feuil1!G13,"AAAAAFvuPD8=") -> #VALUE! | BM2: =AND(Feuil1!H13,"AAAAAFvuPEA=") -> #VALUE! | BN2: =AND(Feuil1!I13,"AAAAAFvuPEE=") -> #VALUE! | BO2: =AND(Feuil1!J13,"AAAAAFvuPEI=") -> #VALUE! | BP2: =AND(Feuil1!K13,"AAAAAFvuPEM=") -> #VALUE! | BQ2: =AND(Feuil1!L13,"AAAAAFvuPEQ=") -> #VALUE! | BR2: =AND(Feuil1!M13,"AAAAAFvuPEU=") -> #VALUE! | BS2: =AND(Feuil1!N13,"AAAAAFvuPEY=") -> #VALUE! | BT2: =AND(Feuil1!O13,"AAAAAFvuPEc=") -> #VALUE! | BU2: =AND(Feuil1!P13,"AAAAAFvuPEg=") -> #VALUE! | BV2: =AND(Feuil1!Q13,"AAAAAFvuPEk=") -> #VALUE! | BW2: =AND(Feuil1!R13,"AAAAAFvuPEo=") -> #VALUE! | BX2: =AND(Feuil1!S13,"AAAAAFvuPEs=") -> #VALUE! | BY2: =AND(Feuil1!T13,"AAAAAFvuPEw=") -> #VALUE! | BZ2: =AND(Feuil1!U13,"AAAAAFvuPE0=") -> #VALUE! | CA2: =AND(Feuil1!V13,"AAAAAFvuPE4=") -> #VALUE! | CB2: =AND(Feuil1!W13,"AAAAAFvuPE8=") -> #VALUE! | CC2: =AND(Feuil1!X13,"AAAAAFvuPFA=") -> #VALUE! | CD2: =AND(Feuil1!Y13,"AAAAAFvuPFE=") -> #VALUE! | CE2: =IF(Feuil1!14:14,"AAAAAFvuPFI=",0) -> 0 | CF2: =AND(Feuil1!A14,"AAAAAFvuPFM=") -> #VALUE! | CG2: =AND(Feuil1!B14,"AAAAAFvuPFQ=") -> #VALUE! | CH2: =AND(Feuil1!C14,"AAAAAFvuPFU=") -> #VALUE! | CI2: =AND(Feuil1!D14,"AAAAAFvuPFY=") -> #VALUE! | CJ2: =AND(Feuil1!E14,"AAAAAFvuPFc=") -> #VALUE! | CK2: =AND(Feuil1!F14,"AAAAAFvuPFg=") -> #VALUE! | CL2: =AND(Feuil1!G14,"AAAAAFvuPFk=") -> #VALUE! | CM2: =AND(Feuil1!H14,"AAAAAFvuPFo=") -> #VALUE! | CN2: =AND(Feuil1!I14,"AAAAAFvuPFs=") -> #VALUE! | CO2: =AND(Feuil1!J14,"AAAAAFvuPFw=") -> #VALUE! | CP2: =AND(Feuil1!K14,"AAAAAFvuPF0=") -> #VALUE! | CQ2: =AND(Feuil1!L14,"AAAAAFvuPF4=") -> #VALUE! | CR2: =AND(Feuil1!M14,"AAAAAFvuPF8=") -> #VALUE! | CS2: =AND(Feuil1!N14,"AAAAAFvuPGA=") -> #VALUE! | CT2: =AND(Feuil1!O14,"AAAAAFvuPGE=") -> #VALUE! | CU2: =AND(Feuil1!P14,"AAAAAFvuPGI=") -> #VALUE! | CV2: =AND(Feuil1!Q14,"AAAAAFvuPGM=") -> #VALUE! | CW2: =AND(Feuil1!R14,"AAAAAFvuPGQ=") -> #VALUE! | CX2: =AND(Feuil1!S14,"AAAAAFvuPGU=") -> #VALUE! | CY2: =AND(Feuil1!T14,"AAAAAFvuPGY=") -> #VALUE! | CZ2: =AND(Feuil1!U14,"AAAAAFvuPGc=") -> #VALUE! | DA2: =AND(Feuil1!V14,"AAAAAFvuPGg=") -> #VALUE! | DB2: =AND(Feuil1!W14,"AAAAAFvuPGk=") -> #VALUE! | DC2: =AND(Feuil1!X14,"AAAAAFvuPGo=") -> #VALUE! | DD2: =AND(Feuil1!Y14,"AAAAAFvuPGs=") -> #VALUE! | DE2: =IF(Feuil1!15:15,"AAAAAFvuPGw=",0) -> 0 | DF2: =AND(Feuil1!A15,"AAAAAFvuPG0=") -> #VALUE! | DG2: =AND(Feuil1!B15,"AAAAAFvuPG4=") -> #VALUE! | DH2: =AND(Feuil1!C15,"AAAAAFvuPG8=") -> #VALUE! | DI2: =AND(Feuil1!D15,"AAAAAFvuPHA=") -> #VALUE! | DJ2: =AND(Feuil1!E15,"AAAAAFvuPHE=") -> #VALUE! | DK2: =AND(Feuil1!F15,"AAAAAFvuPHI=") -> #VALUE! | DL2: =AND(Feuil1!G15,"AAAAAFvuPHM=") -> #VALUE! | DM2: =AND(Feuil1!H15,"AAAAAFvuPHQ=") -> #VALUE! | DN2: =AND(Feuil1!I15,"AAAAAFvuPHU=") -> #VALUE! | DO2: =AND(Feuil1!J15,"AAAAAFvuPHY=") -> #VALUE! | DP2: =AND(Feuil1!K15,"AAAAAFvuPHc=") -> #VALUE! | DQ2: =AND(Feuil1!L15,"AAAAAFvuPHg=") -> #VALUE! | DR2: =AND(Feuil1!M15,"AAAAAFvuPHk=") -> #VALUE! | DS2: =AND(Feuil1!N15,"AAAAAFvuPHo=") -> #VALUE! | DT2: =AND(Feuil1!O15,"AAAAAFvuPHs=") -> #VALUE! | DU2: =AND(Feuil1!P15,"AAAAAFvuPHw=") -> #VALUE! | DV2: =AND(Feuil1!Q15,"AAAAAFvuPH0=") -> #VALUE! | DW2: =AND(Feuil1!R15,"AAAAAFvuPH4=") -> #VALUE! | DX2: =AND(Feuil1!S15,"AAAAAFvuPH8=") -> #VALUE! | DY2: =AND(Feuil1!T15,"AAAAAFvuPIA=") -> #VALUE! | DZ2: =AND(Feuil1!U15,"AAAAAFvuPIE=") -> #VALUE! | EA2: =AND(Feuil1!V15,"AAAAAFvuPII=") -> #VALUE! | EB2: =AND(Feuil1!W15,"AAAAAFvuPIM=") -> #VALUE! | EC2: =AND(Feuil1!X15,"AAAAAFvuPIQ=") -> #VALUE! | ED2: =AND(Feuil1!Y15,"AAAAAFvuPIU=") -> #VALUE! | EE2: =IF(Feuil1!A:A,"AAAAAFvuPIY=",0) -> #VALUE! | EF2: =IF(Feuil1!B:B,"AAAAAFvuPIc=",0) -> AAAAAFvuPIc= | EG2: =IF(Feuil1!C:C,"AAAAAFvuPIg=",0) -> #VALUE! | EH2: =IF(Feuil1!D:D,"AAAAAFvuPIk=",0) -> #VALUE! | EI2: =IF(Feuil1!E:E,"AAAAAFvuPIo=",0) -> AAAAAFvuPIo= | EJ2: =IF(Feuil1!F:F,"AAAAAFvuPIs=",0) -> AAAAAFvuPIs= | EK2: =IF(Feuil1!G:G,"AAAAAFvuPIw=",0) -> AAAAAFvuPIw= | EL2: =IF(Feuil1!H:H,"AAAAAFvuPI0=",0) -> AAAAAFvuPI0= | EM2: =IF(Feuil1!I:I,"AAAAAFvuPI4=",0) -> AAAAAFvuPI4= | EN2: =IF(Feuil1!J:J,"AAAAAFvuPI8=",0) -> AAAAAFvuPI8= | EO2: =IF(Feuil1!K:K,"AAAAAFvuPJA=",0) -> #VALUE! | EP2: =IF(Feuil1!L:L,"AAAAAFvuPJE=",0) -> 0 | EQ2: =IF(Feuil1!M:M,"AAAAAFvuPJI=",0) -> 0 | ER2: =IF(Feuil1!N:N,"AAAAAFvuPJM=",0) -> 0 | ES2: =IF(Feuil1!O:O,"AAAAAFvuPJQ=",0) -> 0 | ET2: =IF(Feuil1!P:P,"AAAAAFvuPJU=",0) -> 0 | EU2: =IF(Feuil1!Q:Q,"AAAAAFvuPJY=",0) -> #VALUE! | EV2: =IF(Feuil1!R:R,"AAAAAFvuPJc=",0) -> AAAAAFvuPJc= | EW2: =IF(Feuil1!S:S,"AAAAAFvuPJg=",0) -> AAAAAFvuPJg= | EX2: =IF(Feuil1!T:T,"AAAAAFvuPJk=",0) -> 0 | EY2: =IF(Feuil1!U:U,"AAAAAFvuPJo=",0) -> #VALUE! | EZ2: =IF(Feuil1!V:V,"AAAAAFvuPJs=",0) -> AAAAAFvuPJs= | FA2: =IF(Feuil1!W:W,"AAAAAFvuPJw=",0) -> 0 | FB2: =IF(Feuil1!X:X,"AAAAAFvuPJ0=",0) -> #VALUE! | FC2: =IF(Feuil1!Y:Y,"AAAAAFvuPJ4=",0) -> AAAAAFvuPJ4= | FD2: =IF(Feuil1!Z:Z,"AAAAAFvuPJ8=",0) -> 0 | FE2: =IF(Feuil2!1:1,"AAAAAFvuPKA=",0) -> 0 | FF2: =AND(Feuil2!A1,"AAAAAFvuPKE=") -> #VALUE! | FG2: =IF(Feuil2!A:A,"AAAAAFvuPKI=",0) -> 0 | FH2: =IF(Feuil3!1:1,"AAAAAFvuPKM=",0) -> 0 | FI2: =AND(Feuil3!A1,"AAAAAFvuPKQ=") -> #VALUE! | FJ2: =IF(Feuil3!A:A,"AAAAAFvuPKU=",0) -> 0 | FK2: AAAAAFvuPKY= | FL2: AAAAAFvuPKc=
