Workbook

Sheet Répartition
A1: Final | B1: 18:00 - 19:00 | C1: 19:00 - 20:00 | D1: 20:00 - 21:00 | E1: 21:00 - 22:00 | F1: 22:00 - 23:00 | G1: 23:00 - 00:00 | H1: 00:00 - 01:00 | I1: 01:00 - 02:00
A2: 20 | B2: 91.3 | C2: 63.8 | D2: 56.1 | E2: 8.8 | F2: 80.3 | G2: 49.5 | H2: 79.2 | I2: 99 | K2: 111 | L2: =SUM(B2:D31) -> 3585 | M2: =L2/$L$8 -> 0.13837265 | U2: 111 | V2: =SUM(E2:I31) -> 5896 | W2: =V2/$V$8 -> 0.15215052
A3: 21 | B3: 89.1 | C3: 70.4 | D3: 79.2 | E3: 14.3 | F3: 75.9 | G3: 49.5 | H3: 79.2 | I3: 99 | K3: 112 | L3: =SUM(B42:D81) -> 4359.1 | M3: =L3/$L$8 -> 0.1682511 | U3: 112 | V3: =SUM(E43:I81) -> 7224.9 | W3: =V3/$V$8 -> 0.18644374
A4: 22 | B4: 73.7 | C4: 55 | D4: 51.7 | E4: 5.5 | F4: 68.2 | G4: 35.2 | H4: 45.1 | I4: 82.5 | K4: 211 | L4: =SUM(B82:D111) -> 3111.3 | M4: =L4/$L$8 -> 0.12008893 | U4: 211 | V4: =SUM(E82:I111) -> 4190.4 | W4: =V4/$V$8 -> 0.10813629
A5: 23 | B5: 55 | C5: 38.5 | D5: 35.2 | E5: 5.5 | F5: 50.6 | G5: 39.6 | H5: 46.2 | I5: 62.7 | K5: 212 | L5: =SUM(B122:D163) -> 5410.6 | M5: =L5/$L$8 -> 0.20883655 | U5: 212 | V5: =SUM(E122:I163) -> 8241.3 | W5: =V5/$V$8 -> 0.21267267
A6: 24 | B6: 69.3 | C6: 52.8 | D6: 64.9 | E6: 6.6 | F6: 77 | G6: 56.1 | H6: 73.7 | I6: 101.2 | K6: 221 | L6: =SUM(B164:D219) -> 6960.6 | M6: =L6/$L$8 -> 0.26866294 | U6: 221 | V6: =SUM(E164:I219) -> 11080.6 | W6: =V6/$V$8 -> 0.28594285
A7: 25 | B7: 63.8 | C7: 56.1 | D7: 50.6 | E7: 3.3 | F7: 59.4 | G7: 44 | H7: 69.3 | I7: 93.5 | K7: 222 | L7: =SUM(B230:D261) -> 2481.7 | M7: =L7/$L$8 -> 0.095787836 | U7: 222 | V7: =SUM(E230:I261) -> 2117.9 | W7: =V7/$V$8 -> 0.054653932
A8: 26 | B8: 44 | C8: 45.1 | D8: 33 | E8: 6.6 | F8: 69.3 | G8: 28.6 | H8: 49.5 | I8: 55 | L8: =SUM(L2:L7) -> 25908.3 | V8: =SUM(V2:V7) -> 38751.1
A9: 27 | B9: 89.1 | C9: 67.1 | D9: 63.8 | E9: 12.1 | F9: 89.1 | G9: 46.2 | H9: 63.8 | I9: 83.6
A10: 28 | B10: 76 | C10: 48 | D10: 37 | E10: 4 | F10: 71 | G10: 40 | H10: 51 | I10: 52 | L10: 22 | V10: 26
A11: 29 | B11: 5 | C11: 4 | D11: 8 | E11: 1 | F11: 14 | G11: 11 | H11: 9 | I11: 22 | K11: 111 | L11: =$L$10*M2 -> 3.0441982 | U11: 111 | V11: =$V$10*W2 -> 3.9559135
A12: 30 | B12: 78.1 | C12: 67.1 | D12: 63.8 | E12: 9.9 | F12: 77 | G12: 40.7 | H12: 73.7 | I12: 97.9 | K12: 112 | L12: =$L$10*M3 -> 3.7015242 | U12: 112 | V12: =$V$10*W3 -> 4.8475372
A13: 31 | B13: 41 | C13: 37 | D13: 45 | E13: 6 | F13: 41 | G13: 21 | H13: 28 | I13: 33 | K13: 211 | L13: =$L$10*M4 -> 2.6419564 | U13: 211 | V13: =$V$10*W4 -> 2.8115434
A14: 32 | B14: 0 | C14: 0 | D14: 2 | E14: 0 | F14: 19 | G14: 14 | H14: 20 | I14: 20 | K14: 212 | L14: =$L$10*M5 -> 4.5944041 | U14: 212 | V14: =$V$10*W5 -> 5.5294895
A15: 33 | B15: 22 | C15: 14 | D15: 16 | E15: 1 | F15: 25 | G15: 15 | H15: 16 | I15: 36 | K15: 221 | L15: =$L$10*M6 -> 5.9105846 | U15: 221 | V15: =$V$10*W6 -> 7.4345141
A16: 34 | B16: 40 | C16: 26 | D16: 28 | E16: 6 | F16: 48 | G16: 46 | H16: 37 | I16: 57 | K16: 222 | L16: =$L$10*M7 -> 2.1073324 | U16: 222 | V16: =$V$10*W7 -> 1.4210022
A17: 35 | B17: 46.2 | C17: 29.7 | D17: 34.1 | E17: 4.4 | F17: 68.2 | G17: 37.4 | H17: 57.2 | I17: 62.7
A18: 36 | B18: 49.5 | C18: 57.2 | D18: 41.8 | E18: 9.9 | F18: 49.5 | G18: 47.3 | H18: 74.8 | I18: 93.5
A19: 37 | B19: 64 | C19: 53 | D19: 32 | E19: 7 | F19: 45 | G19: 42 | H19: 55 | I19: 73 | K19: 111 | L19: 3 | M19: 3 | N19: 3 | O19: 4 | P19: 4 | U19: 111 | V19: 4 | W19: 4 | X19: 4 | Y19: 5 | Z19: 5 | AA19: 5
A20: 38 | B20: 39 | C20: 26 | D20: 21 | E20: 3 | F20: 35 | G20: 21 | H20: 30 | I20: 42 | K20: 112 | L20: 4 | M20: 4 | N20: 4 | O20: 4 | P20: 4 | U20: 112 | V20: 5 | W20: 5 | X20: 5 | Y20: 5 | Z20: 6 | AA20: 6
A21: 39 | B21: 39 | C21: 38 | D21: 15 | E21: 2 | F21: 27 | G21: 30 | H21: 37 | I21: 49 | K21: 211 | L21: 3 | M21: 3 | N21: 3 | O21: 3 | P21: 3 | U21: 211 | V21: 3 | W21: 3 | X21: 3 | Y21: 3 | Z21: 3 | AA21: 3
A22: 40 | B22: 47.3 | C22: 56.1 | D22: 19.8 | E22: 3.3 | F22: 63.8 | G22: 48.4 | H22: 38.5 | I22: 77 | K22: 212 | L22: 4 | M22: 5 | N22: 5 | O22: 5 | P22: 5 | U22: 212 | V22: 6 | W22: 6 | X22: 6 | Y22: 6 | Z22: 6 | AA22: 6
A23: 41 | B23: 34.1 | C23: 57.2 | D23: 25.3 | E23: 6.6 | F23: 63.8 | G23: 53.9 | H23: 59.4 | I23: 91.3 | K23: 221 | L23: 6 | M23: 6 | N23: 7 | O23: 7 | P23: 7 | U23: 221 | V23: 7 | W23: 8 | X23: 8 | Y23: 8 | Z23: 8 | AA23: 9
A24: 42 | B24: 31 | C24: 25 | D24: 17 | E24: 3 | F24: 26 | G24: 26 | H24: 35 | I24: 35 | K24: 222 | L24: 2 | M24: 2 | N24: 2 | O24: 2 | P24: 3 | U24: 222 | V24: 1 | W24: 1 | X24: 2 | Y24: 2 | Z24: 2 | AA24: 2
A25: 43 | B25: 22 | C25: 24 | D25: 10 | E25: 4 | F25: 34 | G25: 19 | H25: 20 | I25: 49 | L25: =SUM(L19:L24) -> 22 | M25: =SUM(M19:M24) -> 23 | N25: =SUM(N19:N24) -> 24 | O25: =SUM(O19:O24) -> 25 | P25: =SUM(P19:P24) -> 26 | Q25: =SUM(Q19:Q24) -> 0 | R25: =SUM(R19:R24) -> 0 | S25: =SUM(S19:S24) -> 0 | V25: =SUM(V19:V24) -> 26 | W25: =SUM(W19:W24) -> 27 | X25: =SUM(X19:X24) -> 28 | Y25: =SUM(Y19:Y24) -> 29 | Z25: =SUM(Z19:Z24) -> 30 | AA25: =SUM(AA19:AA24) -> 31
A26: 44 | B26: 27 | C26: 32 | D26: 16 | E26: 5 | F26: 41 | G26: 24 | H26: 31 | I26: 42
A27: 45 | B27: 45.1 | C27: 34.1 | D27: 20.9 | E27: 4.4 | F27: 40.7 | G27: 34.1 | H27: 34.1 | I27: 42.9 | L27: 3
A28: 46 | B28: 26 | C28: 24 | D28: 11 | E28: 4 | F28: 26 | G28: 17 | H28: 36 | I28: 18 | L28: 4
A29: 47 | B29: 59 | C29: 55 | D29: 51 | E29: 3 | F29: 73 | G29: 49 | H29: 60 | I29: 110
A30: 48 | B30: 18 | C30: 16 | D30: 11 | E30: 3 | F30: 33 | G30: 23 | H30: 29 | I30: 41
A31: 49 | B31: 29 | C31: 23 | D31: 16 | E31: 0 | F31: 20 | G31: 14 | H31: 25 | I31: 26
A32: 50 | B32: 0 | C32: 0 | D32: 0 | E32: 0 | F32: 0 | G32: 0 | H32: 0 | I32: 0
A33: 51 | B33: 0 | C33: 0 | D33: 0 | E33: 0 | F33: 0 | G33: 0 | H33: 0 | I33: 0
A34: 52 | B34: 0 | C34: 0 | D34: 0 | E34: 0 | F34: 0 | G34: 0 | H34: 0 | I34: 0
A35: 53 | B35: 0 | C35: 0 | D35: 0 | E35: 0 | F35: 0 | G35: 0 | H35: 0 | I35: 0
A36: 54 | B36: 0 | C36: 0 | D36: 0 | E36: 0 | F36: 0 | G36: 0 | H36: 0 | I36: 0
A37: 55 | B37: 0 | C37: 0 | D37: 0 | E37: 0 | F37: 0 | G37: 0 | H37: 0 | I37: 0
A38: 56 | B38: 0 | C38: 0 | D38: 0 | E38: 0 | F38: 0 | G38: 0 | H38: 0 | I38: 0
A39: 57 | B39: 0 | C39: 0 | D39: 0 | E39: 0 | F39: 0 | G39: 0 | H39: 0 | I39: 0
A40: 58 | B40: 0 | C40: 0 | D40: 0 | E40: 0 | F40: 0 | G40: 0 | H40: 0 | I40: 0
...

Sheet Stat de base 
A1: Glissières | B1: 18:00 - 19:00 | C1: 19:00 - 20:00 | D1: 20:00 - 21:00 | E1: 21:00 - 22:00 | F1: 22:00 - 23:00 | G1: 23:00 - 00:00 | H1: 00:00 - 01:00 | I1: 01:00 - 02:00 | K1: Blocs | L1: Total 18h00 à 21h00 | M1: % par blocs | U1: Blocs | V1: Total 21h50 à 02h00 | W1: % par blocs
A2: 20 | B2: 36.3 | C2: 59.4 | D2: 94.6 | E2: 8.8 | F2: 78.1 | G2: 50.6 | H2: 89.1 | I2: 96.8 | K2: 111 | L2: =SUM(B2:D31) -> 2942.9 | M2: =L2/$L$8 -> 0.14435887 | U2: 111 | V2: =SUM(E2:I31) -> 5107.2 | W2: =V2/$V$8 -> 0.14426956
A3: 21 | B3: 55 | C3: 79.2 | D3: 85.8 | E3: 13.2 | F3: 89.1 | G3: 48.4 | H3: 73.7 | I3: 57.2 | K3: 112 | L3: =SUM(B32:D71) -> 3391.3 | M3: =L3/$L$8 -> 0.16635436 | U3: 112 | V3: =SUM(E33:I71) -> 6881.7 | W3: =V3/$V$8 -> 0.19439611
A4: 22 | B4: 44 | C4: 44 | D4: 35.2 | E4: 2.2 | F4: 64.9 | G4: 44 | H4: 48.4 | I4: 42.9 | K4: 211 | L4: =SUM(B72:D101) -> 2277.4 | M4: =L4/$L$8 -> 0.11171392 | U4: 211 | V4: =SUM(E72:I101) -> 3811.7 | W4: =V4/$V$8 -> 0.10767392
A5: 23 | B5: 29.7 | C5: 45.1 | D5: 33 | E5: 6.6 | F5: 53.9 | G5: 30.8 | H5: 46.2 | I5: 38.5 | K5: 212 | L5: =SUM(B102:D143) -> 4002.7 | M5: =L5/$L$8 -> 0.19634553 | U5: 212 | V5: =SUM(E102:I143) -> 7470.7 | W5: =V5/$V$8 -> 0.21103434
A6: 24 | B6: 35.2 | C6: 55 | D6: 53.9 | E6: 8.8 | F6: 73.7 | G6: 53.9 | H6: 74.8 | I6: 66 | K6: 221 | L6: =SUM(B144:D199) -> 5827 | M6: =L6/$L$8 -> 0.28583342 | U6: 221 | V6: =SUM(E144:I199) -> 10124.9 | W6: =V6/$V$8 -> 0.28601089
A7: 25 | B7: 40.7 | C7: 53.9 | D7: 46.2 | E7: 15.4 | F7: 66 | G7: 70.4 | H7: 81.4 | I7: 84.7 | K7: 222 | L7: =SUM(B200:D231) -> 1944.7 | M7: =L7/$L$8 -> 0.095393898 | U7: 222 | V7: =SUM(E200:I231) -> 2004.2 | W7: =V7/$V$8 -> 0.056615179
A8: 26 | B8: 22 | C8: 49.5 | D8: 35.2 | E8: 7.7 | F8: 49.5 | G8: 37.4 | H8: 46.2 | I8: 46.2 | L8: =SUM(L2:L7) -> 20386 | V8: =SUM(V2:V7) -> 35400.4
A9: 27 | B9: 42.9 | C9: 59.4 | D9: 61.6 | E9: 8.8 | F9: 67.1 | G9: 36.3 | H9: 69.3 | I9: 68.2
A10: 28 | B10: 51 | C10: 46 | D10: 50 | E10: 9 | F10: 41 | G10: 28 | H10: 42 | I10: 37
A11: 29 | B11: 6 | C11: 6 | D11: 2 | E11: 3 | F11: 10 | G11: 9 | H11: 22 | I11: 10
A12: 30 | B12: 37.4 | C12: 73.7 | D12: 57.2 | E12: 8.8 | F12: 84.7 | G12: 42.9 | H12: 52.8 | I12: 57.2
A13: 31 | B13: 21 | C13: 53 | D13: 36 | E13: 4 | F13: 43 | G13: 23 | H13: 32 | I13: 25
A14: 32 | B14: 0 | C14: 0 | D14: 0 | E14: 0 | F14: 15 | G14: 4 | H14: 23 | I14: 6 | L14: Collaborateurs | V14: Collaborateurs
A15: 33 | B15: 21 | C15: 6 | D15: 11 | E15: 0 | F15: 19 | G15: 10 | H15: 19 | I15: 14 | L15: 22 | M15: 23 | N15: 24 | O15: 25 | P15: 26 | Q15: 27 | R15: 28 | S15: 29 | V15: 22 | W15: 23 | X15: 24 | Y15: 25 | Z15: 26 | AA15: 27 | AB15: 28 | AC15: 29 | AD15: 30 | AE15: 31 | AF15: 32 | AG15: 33
A16: 34 | B16: 34 | C16: 26 | D16: 20 | E16: 6 | F16: 44 | G16: 23 | H16: 46 | I16: 38 | K16: 111 | L16: =L$15*$M2 -> 3.1758952 | M16: =M$15*$M2 -> 3.3202541 | N16: =N$15*$M2 -> 3.464613 | O16: =O$15*$M2 -> 3.6089718 | P16: =P$15*$M2 -> 3.7533307 | Q16: =Q$15*$M2 -> 3.8976896 | R16: =R$15*$M2 -> 4.0420485 | S16: =S$15*$M2 -> 4.1864073 | U16: 111 | V16: =V$15*$W2 -> 3.1739302 | W16: =W$15*$W2 -> 3.3181998 | X16: =X$15*$W2 -> 3.4624694 | Y16: =Y$15*$W2 -> 3.6067389 | Z16: =Z$15*$W2 -> 3.7510085 | AA16: =AA$15*$W2 -> 3.895278 | AB16: =AB$15*$W2 -> 4.0395476 | AC16: =AC$15*$W2 -> 4.1838171 | ... AG16: =AG$15*$W2 -> 4.7608954
A17: 35 | B17: 44 | C17: 53.9 | D17: 34.1 | E17: 4.4 | F17: 59.4 | G17: 39.6 | H17: 55 | I17: 51.7 | K17: 112 | L17: =L$15*$M3 -> 3.6597959 | M17: =M$15*$M3 -> 3.8261503 | N17: =N$15*$M3 -> 3.9925047 | O17: =O$15*$M3 -> 4.158859 | P17: =P$15*$M3 -> 4.3252134 | Q17: =Q$15*$M3 -> 4.4915677 | R17: =R$15*$M3 -> 4.6579221 | S17: =S$15*$M3 -> 4.8242765 | U17: 112 | V17: =V$15*$W3 -> 4.2767144 | W17: =W$15*$W3 -> 4.4711105 | X17: =X$15*$W3 -> 4.6655066 | Y17: =Y$15*$W3 -> 4.8599027 | Z17: =Z$15*$W3 -> 5.0542988 | AA17: =AA$15*$W3 -> 5.2486949 | AB17: =AB$15*$W3 -> 5.443091 | AC17: =AC$15*$W3 -> 5.6374871 | ... AG17: =AG$15*$W3 -> 6.4150716
A18: 36 | B18: 25.3 | C18: 47.3 | D18: 35.2 | E18: 4.4 | F18: 57.2 | G18: 45.1 | H18: 97.9 | I18: 67.1 | K18: 211 | L18: =L$15*$M4 -> 2.4577063 | M18: =M$15*$M4 -> 2.5694202 | N18: =N$15*$M4 -> 2.6811341 | O18: =O$15*$M4 -> 2.792848 | P18: =P$15*$M4 -> 2.904562 | Q18: =Q$15*$M4 -> 3.0162759 | R18: =R$15*$M4 -> 3.1279898 | S18: =S$15*$M4 -> 3.2397037 | U18: 211 | V18: =V$15*$W4 -> 2.3688263 | W18: =W$15*$W4 -> 2.4765003 | X18: =X$15*$W4 -> 2.5841742 | Y18: =Y$15*$W4 -> 2.6918481 | Z18: =Z$15*$W4 -> 2.799522 | AA18: =AA$15*$W4 -> 2.907196 | AB18: =AB$15*$W4 -> 3.0148699 | AC18: =AC$15*$W4 -> 3.1225438 | ... AG18: =AG$15*$W4 -> 3.5532395
A19: 37 | B19: 39 | C19: 37 | D19: 21 | E19: 3 | F19: 46 | G19: 21 | H19: 40 | I19: 37 | K19: 212 | L19: =L$15*$M5 -> 4.3196017 | M19: =M$15*$M5 -> 4.5159472 | N19: =N$15*$M5 -> 4.7122927 | O19: =O$15*$M5 -> 4.9086383 | P19: =P$15*$M5 -> 5.1049838 | Q19: =Q$15*$M5 -> 5.3013293 | R19: =R$15*$M5 -> 5.4976749 | S19: =S$15*$M5 -> 5.6940204 | U19: 212 | V19: =V$15*$W5 -> 4.6427554 | W19: =W$15*$W5 -> 4.8537898 | X19: =X$15*$W5 -> 5.0648241 | Y19: =Y$15*$W5 -> 5.2758585 | Z19: =Z$15*$W5 -> 5.4868928 | AA19: =AA$15*$W5 -> 5.6979271 | AB19: =AB$15*$W5 -> 5.9089615 | AC19: =AC$15*$W5 -> 6.1199958 | ... AG19: =AG$15*$W5 -> 6.9641332
A20: 38 | B20: 25 | C20: 16 | D20: 17 | E20: 1 | F20: 29 | G20: 22 | H20: 21 | I20: 15 | K20: 221 | L20: =L$15*$M6 -> 6.2883351 | M20: =M$15*$M6 -> 6.5741685 | N20: =N$15*$M6 -> 6.860002 | O20: =O$15*$M6 -> 7.1458354 | P20: =P$15*$M6 -> 7.4316688 | Q20: =Q$15*$M6 -> 7.7175022 | R20: =R$15*$M6 -> 8.0033356 | S20: =S$15*$M6 -> 8.289169 | U20: 221 | V20: =V$15*$W6 -> 6.2922396 | W20: =W$15*$W6 -> 6.5782505 | X20: =X$15*$W6 -> 6.8642614 | Y20: =Y$15*$W6 -> 7.1502723 | Z20: =Z$15*$W6 -> 7.4362832 | AA20: =AA$15*$W6 -> 7.7222941 | AB20: =AB$15*$W6 -> 8.008305 | AC20: =AC$15*$W6 -> 8.2943159 | ... AG20: =AG$15*$W6 -> 9.4383595
A21: 39 | B21: 24 | C21: 26 | D21: 11 | E21: 0 | F21: 26 | G21: 31 | H21: 38 | I21: 25 | K21: 222 | L21: =L$15*$M7 -> 2.0986658 | M21: =M$15*$M7 -> 2.1940596 | N21: =N$15*$M7 -> 2.2894535 | O21: =O$15*$M7 -> 2.3848474 | P21: =P$15*$M7 -> 2.4802413 | Q21: =Q$15*$M7 -> 2.5756352 | R21: =R$15*$M7 -> 2.6710291 | S21: =S$15*$M7 -> 2.766423 | U21: 222 | V21: =V$15*$W7 -> 1.2455339 | W21: =W$15*$W7 -> 1.3021491 | X21: =X$15*$W7 -> 1.3587643 | Y21: =Y$15*$W7 -> 1.4153795 | Z21: =Z$15*$W7 -> 1.4719947 | AA21: =AA$15*$W7 -> 1.5286098 | AB21: =AB$15*$W7 -> 1.585225 | AC21: =AC$15*$W7 -> 1.6418402 | ... AG21: =AG$15*$W7 -> 1.8683009
A22: 40 | B22: 44 | C22: 40.7 | D22: 27.5 | E22: 3.3 | F22: 49.5 | G22: 41.8 | H22: 57.2 | I22: 41.8
A23: 41 | B23: 30.8 | C23: 47.3 | D23: 17.6 | E23: 3.3 | F23: 61.6 | G23: 39.6 | H23: 57.2 | I23: 82.5
A24: 42 | B24: 28 | C24: 16 | D24: 13 | E24: 3 | F24: 26 | G24: 14 | H24: 27 | I24: 21
A25: 43 | B25: 20 | C25: 28 | D25: 13 | E25: 3 | F25: 25 | G25: 15 | H25: 23 | I25: 19 | L25: 22 | M25: 23 | N25: 24 | O25: 25 | P25: 26 | Q25: 27 | R25: 28 | S25: 29 | V25: 22 | W25: 23 | X25: 24 | Y25: 25 | Z25: 26 | AA25: 27 | AB25: 28 | AC25: 29 | AD25: 30 | AE25: 31 | AF25: 32 | AG25: 33
A26: 44 | B26: 24 | C26: 19 | D26: 18 | E26: 4 | F26: 34 | G26: 34 | H26: 30 | I26: 21 | K26: 111 | L26: 3 | M26: 4 | N26: 4 | O26: 4 | P26: 4 | Q26: 4 | R26: 4 | S26: 4 | U26: 111 | V26: 3 | W26: 3 | X26: 3 | Y26: 3 | Z26: 4 | AA26: 4 | AB26: 4 | AC26: 4 | AD26: 4 | AE26: 4 | AF26: 4 | AG26: 5
A27: 45 | B27: 34.1 | C27: 44 | D27: 22 | E27: 0 | F27: 39.6 | G27: 28.6 | H27: 41.8 | I27: 44 | K27: 112 | L27: 4 | M27: 4 | N27: 4 | O27: 5 | P27: 5 | Q27: 5 | R27: 5 | S27: 5 | U27: 112 | V27: 4 | W27: 4 | X27: 4 | Y27: 5 | Z27: 5 | AA27: 5 | AB27: 5 | AC27: 6 | AD27: 6 | AE27: 6 | AF27: 6 | AG27: 6
A28: 46 | B28: 21 | C28: 16 | D28: 13 | E28: 0 | F28: 26 | G28: 15 | H28: 22 | I28: 9 | K28: 211 | L28: 3 | M28: 3 | N28: 3 | O28: 3 | P28: 3 | Q28: 3 | R28: 3 | S28: 3 | U28: 211 | V28: 2 | W28: 3 | X28: 3 | Y28: 3 | Z28: 3 | AA28: 3 | AB28: 3 | AC28: 3 | AD28: 3 | AE28: 4 | AF28: 4 | AG28: 4
A29: 47 | B29: 24 | C29: 53 | D29: 32 | E29: 5 | F29: 71 | G29: 46 | H29: 80 | I29: 59 | K29: 212 | L29: 4 | M29: 4 | N29: 4 | O29: 4 | P29: 4 | Q29: 5 | R29: 5 | S29: 6 | U29: 212 | V29: 5 | W29: 5 | X29: 5 | Y29: 5 | Z29: 5 | AA29: 5 | AB29: 6 | AC29: 6 | AD29: 6 | AE29: 6 | AF29: 7 | AG29: 7
A30: 48 | B30: 21 | C30: 13 | D30: 6 | E30: 5 | F30: 14 | G30: 17 | H30: 49 | I30: 21 | K30: 221 | L30: 6 | M30: 6 | N30: 6 | O30: 6 | P30: 7 | Q30: 7 | R30: 8 | S30: 8 | U30: 221 | V30: 6 | W30: 6 | X30: 7 | Y30: 7 | Z30: 7 | AA30: 8 | AB30: 8 | AC30: 8 | AD30: 9 | AE30: 9 | AF30: 9 | AG30: 9
A31: 49 | B31: 23 | C31: 18 | D31: 6 | E31: 0 | F31: 22 | G31: 13 | H31: 24 | I31: 15 | K31: 222 | L31: 2 | M31: 2 | N31: 3 | O31: 3 | P31: 3 | Q31: 3 | R31: 3 | S31: 3 | U31: 222 | V31: 2 | W31: 2 | X31: 2 | Y31: 2 | Z31: 2 | AA31: 2 | AB31: 2 | AC31: 2 | AD31: 2 | AE31: 2 | AF31: 2 | AG31: 2
A32: 60 | B32: 9 | C32: 10 | D32: 6 | E32: 0 | F32: 11 | G32: 4 | H32: 8 | I32: 8 | L32: =SUM(L26:L31) -> 22 | M32: =SUM(M26:M31) -> 23 | N32: =SUM(N26:N31) -> 24 | O32: =SUM(O26:O31) -> 25 | P32: =SUM(P26:P31) -> 26 | Q32: =SUM(Q26:Q31) -> 27 | R32: =SUM(R26:R31) -> 28 | S32: =SUM(S26:S31) -> 29 | V32: =SUM(V26:V31) -> 22 | W32: =SUM(W26:W31) -> 23 | X32: =SUM(X26:X31) -> 24 | Y32: =SUM(Y26:Y31) -> 25 | Z32: =SUM(Z26:Z31) -> 26 | AA32: =SUM(AA26:AA31) -> 27 | AB32: =SUM(AB26:AB31) -> 28 | AC32: =SUM(AC26:AC31) -> 29 | ... AG32: =SUM(AG26:AG31) -> 33
A33: 61 | B33: 15.3 | C33: 9.9 | D33: 6.3 | E33: 0.9 | F33: 16.2 | G33: 6.3 | H33: 10.8 | I33: 10.8
A34: 62 | B34: 23.4 | C34: 13.5 | D34: 12.6 | E34: 4.5 | F34: 27 | G34: 8.1 | H34: 16.2 | I34: 19.8
A35: 63 | B35: 4.5 | C35: 9 | D35: 8.1 | E35: 0.9 | F35: 18 | G35: 13.5 | H35: 18 | I35: 6.3
A36: 64 | B36: 27 | C36: 20 | D36: 14 | E36: 2 | F36: 40 | G36: 19 | H36: 34 | I36: 31
A37: 65 | B37: 24 | C37: 20 | D37: 25 | E37: 4 | F37: 76 | G37: 27 | H37: 63 | I37: 57
A38: 66 | B38: 21 | C38: 10 | D38: 6 | E38: 1 | F38: 15 | G38: 16 | H38: 11 | I38: 12
A39: 67 | B39: 14 | C39: 10 | D39: 11 | E39: 3 | F39: 18 | G39: 5 | H39: 17 | I39: 16
A40: 68 | B40: 11 | C40: 14 | D40: 13 | E40: 3 | F40: 36 | G40: 17 | H40: 23 | I40: 27
...

Sheet 18h00
J1: 18h00 | S1: 42545
A2: Glissières | B2: 22 | C2: 23 | D2: 24 | E2: 25 | F2: 26 | G2: 27 | H2: Glissières | J2: Glissières | K2: 22 | L2: 23 | M2: 24 | N2: 25 | O2: 26 | P2: 27 | Q2: Glissières | S2: Glissières | T2: 22 | U2: 23 | V2: 24 | W2: 25 | X2: 26 | Y2: 27 | Z2: Glissières | AA2: Nombre de collaborateurs
A3: 99 | B3: =SUM('Stat de base '!$B$62:$D$71) -> 913.8 | C3: =SUM('Stat de base '!$B$62:$D$71) -> 913.8 | D3: =SUM('Stat de base '!$B$62:$D$71) -> 913.8 | E3: =SUM('Stat de base '!$B$63:$D$71) -> 778.5 | F3: =SUM('Stat de base '!$B$63:$D$71) -> 778.5 | G3: =SUM('Stat de base '!$B$63:$D$71) -> 778.5 | H3: 99 | J3: 191 | K3: =SUM('Stat de base '!$B$136:$D$143) -> 1082.1 | L3: =SUM('Stat de base '!$B$136:$D$143) -> 1082.1 | M3: =SUM('Stat de base '!$B$136:$D$143) -> 1082.1 | N3: =SUM('Stat de base '!$B$136:$D$143) -> 1082.1 | O3: =SUM('Stat de base '!$B$136:$D$143) -> 1082.1 | P3: =SUM('Stat de base '!$B$138:$D$143) -> 808.2 | Q3: 191 | S3: 200 | T3: =SUM('Stat de base '!$B$144:$D$152) -> 1031.1 | U3: =SUM('Stat de base '!$B$144:$D$152) -> 1031.1 | V3: =SUM('Stat de base '!$B$144:$D$152) -> 1031.1 | W3: =SUM('Stat de base '!$B$144:$D$152) -> 1031.1 | X3: =SUM('Stat de base '!$B$144:$D$151) -> 909 | Y3: =SUM('Stat de base '!$B$144:$D$151) -> 909 | Z3: 200
A4: 98 | H4: 98 | J4: 190 | Q4: 190 | S4: 201 | Z4: 201
A5: 97 | H5: 97 | J5: 189 | Q5: 189 | S5: 202 | Z5: 202
A6: 96 | H6: 96 | J6: 188 | Q6: 188 | S6: 203 | Z6: 203
A7: 95 | H7: 95 | J7: 187 | Q7: 187 | S7: 204 | Z7: 204
A8: 94 | H8: 94 | J8: 186 | Q8: 186 | S8: 205 | Z8: 205
A9: 93 | H9: 93 | J9: 185 | P9: =SUM('Stat de base '!$B$131:$D$137) -> 849.2 | Q9: 185 | S9: 206 | Z9: 206
A10: 92 | H10: 92 | J10: 184 | Q10: 184 | S10: 207 | Z10: 207
A11: 91 | H11: 91 | J11: 183 | K11: =SUM('Stat de base '!$B$126:$D$135) -> 966.4 | L11: =SUM('Stat de base '!$B$126:$D$135) -> 966.4 | M11: =SUM('Stat de base '!$B$126:$D$135) -> 966.4 | N11: =SUM('Stat de base '!$B$126:$D$135) -> 966.4 | O11: =SUM('Stat de base '!$B$126:$D$135) -> 966.4 | Q11: 183 | S11: 208 | X11: =SUM('Stat de base '!$B$152:$D$160) -> 987 | Y11: =SUM('Stat de base '!$B$152:$D$160) -> 987 | Z11: 208
A12: 90 | E12: =SUM('Stat de base '!$B$57:$D$62) -> 670 | F12: =SUM('Stat de base '!$B$57:$D$62) -> 670 | G12: =SUM('Stat de base '!$B$57:$D$62) -> 670 | H12: 90 | J12: 182 | Q12: 182 | S12: 209 | T12: =SUM('Stat de base '!$B$153:$D$162) -> 1021.4 | U12: =SUM('Stat de base '!$B$153:$D$162) -> 1021.4 | V12: =SUM('Stat de base '!$B$153:$D$162) -> 1021.4 | W12: =SUM('Stat de base '!$B$153:$D$162) -> 1021.4 | Z12: 209
A13: 89 | B13: =SUM('Stat de base '!$B$54:$D$61) -> 856.6 | C13: =SUM('Stat de base '!$B$54:$D$61) -> 856.6 | D13: =SUM('Stat de base '!$B$54:$D$61) -> 856.6 | H13: 89 | J13: 181 | Q13: 181 | S13: 210 | Z13: 210
A14: 88 | H14: 88 | J14: 180 | Q14: 180 | S14: 211 | Z14: 211
A15: 87 | H15: 87 | J15: 179 | Q15: 179 | S15: 212 | Z15: 212
A16: 86 | H16: 86 | J16: 178 | P16: =SUM('Stat de base '!$B$121:$D$130) -> 797.1 | Q16: 178 | S16: 213 | Z16: 213
A17: 85 | H17: 85 | J17: 177 | Q17: 177 | S17: 214 | Z17: 214
A18: 84 | E18: =SUM('Stat de base '!$B$51:$D$56) -> 667.3 | F18: =SUM('Stat de base '!$B$51:$D$56) -> 667.3 | G18: =SUM('Stat de base '!$B$51:$D$56) -> 667.3 | H18: 84 | J18: 176 | Q18: 176 | S18: 215 | Z18: 215
A19: 83 | H19: 83 | J19: 175 | Q19: 175 | S19: 216 | Z19: 216
A20: 82 | H20: 82 | J20: 174 | Q20: 174 | S20: 217 | X20: =SUM('Stat de base '!$B$161:$D$167) -> 627.7 | Y20: =SUM('Stat de base '!$B$161:$D$167) -> 627.7 | Z20: 217
A21: 81 | B21: =SUM('Stat de base '!$B$46:$D$53) -> 875.3 | C21: =SUM('Stat de base '!$B$46:$D$53) -> 875.3 | D21: =SUM('Stat de base '!$B$46:$D$53) -> 875.3 | H21: 81 | J21: 173 | K21: =SUM('Stat de base '!$B$115:$D$125) -> 928.6 | L21: =SUM('Stat de base '!$B$115:$D$125) -> 928.6 | M21: =SUM('Stat de base '!$B$115:$D$125) -> 928.6 | N21: =SUM('Stat de base '!$B$115:$D$125) -> 928.6 | O21: =SUM('Stat de base '!$B$115:$D$125) -> 928.6 | Q21: 173 | S21: 218 | Z21: 218
A22: 80 | H22: 80 | J22: 172 | Q22: 172 | S22: 219 | T22: =SUM('Stat de base '!$B$163:$D$171) -> 868.6 | U22: =SUM('Stat de base '!$B$163:$D$171) -> 868.6 | V22: =SUM('Stat de base '!$B$163:$D$171) -> 868.6 | W22: =SUM('Stat de base '!$B$163:$D$171) -> 868.6 | Z22: 219
A23: 79 | H23: 79 | J23: 171 | Q23: 171 | S23: 220 | Z23: 220
A24: 78 | E24: =SUM('Stat de base '!$B$44:$D$50) -> 657.9 | F24: =SUM('Stat de base '!$B$44:$D$50) -> 657.9 | G24: =SUM('Stat de base '!$B$44:$D$50) -> 657.9 | H24: 78 | J24: 170 | Q24: 170 | S24: 221 | Z24: 221
A25: 77 | H25: 77 | J25: 169 | Q25: 169 | S25: 222 | Z25: 222
A26: 76 | H26: 76 | J26: 168 | P26: =SUM('Stat de base '!$B$112:$D$120) -> 799.6 | Q26: 168 | S26: 223 | Z26: 223
A27: 75 | H27: 75 | J27: 167 | Q27: 167 | S27: 224 | X27: =SUM('Stat de base '!$B$168:$D$176) -> 899.7 | Y27: =SUM('Stat de base '!$B$168:$D$176) -> 899.7 | Z27: 224
A28: 74 | H28: 74 | J28: 166 | Q28: 166 | S28: 225 | Z28: 225
A29: 73 | B29: =SUM('Stat de base '!$B$32:$D$45) -> 745.6 | C29: =SUM('Stat de base '!$B$32:$D$45) -> 745.6 | D29: =SUM('Stat de base '!$B$32:$D$45) -> 745.6 | H29: 73 | J29: 165 | Q29: 165 | S29: 226 | Z29: 226
A30: 72 | H30: 72 | J30: 164 | Q30: 164 | S30: 227 | Z30: 227
A31: 71 | E31: =SUM('Stat de base '!$B$32:$D$43) -> 617.6 | F31: =SUM('Stat de base '!$B$32:$D$43) -> 617.6 | G31: =SUM('Stat de base '!$B$32:$D$43) -> 617.6 | H31: 71 | J31: 163 | Q31: 163 | S31: 228 | T31: =SUM('Stat de base '!$B$172:$D$180) -> 1097 | U31: =SUM('Stat de base '!$B$172:$D$180) -> 1097 | V31: =SUM('Stat de base '!$B$172:$D$180) -> 1097 | W31: =SUM('Stat de base '!$B$172:$D$180) -> 1097 | Z31: 228
A32: 70 | H32: 70 | J32: 162 | K32: =SUM('Stat de base '!$B$102:$D$114) -> 1025.6 | L32: =SUM('Stat de base '!$B$102:$D$114) -> 1025.6 | M32: =SUM('Stat de base '!$B$102:$D$114) -> 1025.6 | N32: =SUM('Stat de base '!$B$102:$D$114) -> 1025.6 | O32: =SUM('Stat de base '!$B$102:$D$114) -> 1025.6 | Q32: 162 | S32: 229 | Z32: 229
A33: 69 | H33: 69 | J33: 161 | Q33: 161 | S33: 230 | Z33: 230
A34: 68 | H34: 68 | J34: 160 | Q34: 160 | S34: 231 | Z34: 231
A35: 67 | H35: 67 | J35: 159 | P35: =SUM('Stat de base '!$B$102:$D$111) -> 748.6 | Q35: 159 | S35: 232 | Z35: 232
A36: 66 | H36: 66 | J36: 158 | Q36: 158 | S36: 233 | X36: =SUM('Stat de base '!$B$177:$D$182) -> 815.3 | Y36: =SUM('Stat de base '!$B$177:$D$182) -> 815.3 | Z36: 233
A37: 65 | H37: 65 | J37: 157 | Q37: 157 | S37: 234 | Z37: 234
A38: 64 | H38: 64 | J38: 156 | Q38: 156 | S38: 235 | Z38: 235
A39: 63 | H39: 63 | J39: 155 | Q39: 155 | S39: 236 | Z39: 236
A40: 62 | H40: 62 | J40: 154 | Q40: 154 | S40: 237 | T40: =SUM('Stat de base '!$B$181:$D$190) -> 928.5 | U40: =SUM('Stat de base '!$B$181:$D$190) -> 928.5 | V40: =SUM('Stat de base '!$B$181:$D$190) -> 928.5 | W40: =SUM('Stat de base '!$B$181:$D$190) -> 928.5 | Z40: 237
...

Sheet 21h00
A1: Lundi au jeudi | M1: 21h00 | Y1: 42424
A2: Lu-Je 21h50 | B2: 25 | C2: 26 | D2: 27 | E2: 28 | F2: 29 | G2: 30 | H2: 31 | I2: 32 | J2: 33 | K2: Lu-Je 21h50 | M2: Lu-Je 21h50 | N2: 25 | O2: 26 | P2: 27 | Q2: 28 | R2: 29 | S2: 30 | T2: 31 | U2: 32 | V2: 33 | W2: Lu-Je 21h50 | Y2: Lu-Je 21h50 | Z2: 25 | AA2: 26 | AB2: 27 | AC2: 28 | AD2: 29 | AE2: 30 | AF2: 31 | AG2: 32 | AH2: 33 | AI2: Lu-Je 21h50
A3: 99 | B3: =SUM('Stat de base '!$E$65:$I$71) -> 1258.6 | C3: =SUM('Stat de base '!$E$65:$I$71) -> 1258.6 | D3: =SUM('Stat de base '!$E$65:$I$71) -> 1258.6 | E3: =SUM('Stat de base '!$E$65:$I$71) -> 1258.6 | F3: =SUM('Stat de base '!$E$66:$I$71) -> 1073.6 | G3: =SUM('Stat de base '!$E$66:$I$71) -> 1073.6 | H3: =SUM('Stat de base '!$E$66:$I$71) -> 1073.6 | I3: =SUM('Stat de base '!$E$66:$I$71) -> 1073.6 | J3: =SUM('Stat de base '!$E$66:$I$71) -> 1073.6 | K3: 99 | M3: 191 | N3: =SUM('Stat de base '!$E$137:$I$143) -> 1684.6 | O3: =SUM('Stat de base '!$E$137:$I$143) -> 1684.6 | P3: =SUM('Stat de base '!$E$137:$I$143) -> 1684.6 | Q3: =SUM('Stat de base '!$E$138:$I$143) -> 1524 | R3: =SUM('Stat de base '!$E$138:$I$143) -> 1524 | S3: =SUM('Stat de base '!$E$138:$I$143) -> 1524 | T3: =SUM('Stat de base '!$E$138:$I$143) -> 1524 | U3: =SUM('Stat de base '!$E$140:$I$143) -> 1054.3 | V3: =SUM('Stat de base '!$E$140:$I$143) -> 1054.3 | W3: 191 | Y3: 200 | Z3: =SUM('Stat de base '!$E$144:$I$149) -> 1436.4 | AA3: =SUM('Stat de base '!$E$144:$I$149) -> 1436.4 | AB3: =SUM('Stat de base '!$E$144:$I$148) -> 1249.4 | AC3: =SUM('Stat de base '!$E$144:$I$148) -> 1249.4 | AD3: =SUM('Stat de base '!$E$144:$I$148) -> 1249.4 | AE3: =SUM('Stat de base '!$E$144:$I$148) -> 1249.4 | AF3: =SUM('Stat de base '!$E$144:$I$148) -> 1249.4 | AG3: =SUM('Stat de base '!$E$144:$I$148) -> 1249.4 | AH3: =SUM('Stat de base '!$E$144:$I$148) -> 1249.4 | AI3: 200
A4: 98 | K4: 98 | M4: 190 | W4: 190 | Y4: 201 | AI4: 201
A5: 97 | K5: 97 | M5: 189 | W5: 189 | Y5: 202 | AI5: 202
A6: 96 | K6: 96 | M6: 188 | W6: 188 | Y6: 203 | AI6: 203
A7: 95 | K7: 95 | M7: 187 | U7: =SUM('Stat de base '!$E$135:$I$139) -> 1138.5 | V7: =SUM('Stat de base '!$E$135:$I$139) -> 1138.5 | W7: 187 | Y7: 204 | AI7: 204
A8: 94 | K8: 94 | M8: 186 | W8: 186 | Y8: 205 | AB8: =SUM('Stat de base '!$E$149:$I$155) -> 1331.3 | AC8: =SUM('Stat de base '!$E$149:$I$155) -> 1331.3 | AD8: =SUM('Stat de base '!$E$149:$I$155) -> 1331.3 | AE8: =SUM('Stat de base '!$E$149:$I$154) -> 1161.3 | AF8: =SUM('Stat de base '!$E$149:$I$154) -> 1161.3 | AG8: =SUM('Stat de base '!$E$149:$I$154) -> 1161.3 | AH8: =SUM('Stat de base '!$E$149:$I$154) -> 1161.3 | AI8: 205
A9: 93 | F9: =SUM('Stat de base '!$E$61:$I$65) -> 1059.1 | G9: =SUM('Stat de base '!$E$61:$I$65) -> 1059.1 | H9: =SUM('Stat de base '!$E$61:$I$65) -> 1059.1 | I9: =SUM('Stat de base '!$E$61:$I$65) -> 1059.1 | J9: =SUM('Stat de base '!$E$61:$I$65) -> 1059.1 | K9: 93 | M9: 185 | Q9: =SUM('Stat de base '!$E$132:$I$137) -> 1171.5 | R9: =SUM('Stat de base '!$E$132:$I$137) -> 1171.5 | S9: =SUM('Stat de base '!$E$132:$I$137) -> 1171.5 | T9: =SUM('Stat de base '!$E$132:$I$137) -> 1171.5 | W9: 185 | Y9: 206 | Z9: =SUM('Stat de base '!$E$150:$I$157) -> 1532.6 | AA9: =SUM('Stat de base '!$E$150:$I$157) -> 1532.6 | AI9: 206
A10: 92 | B10: =SUM('Stat de base '!$E$58:$I$64) -> 1506.4 | C10: =SUM('Stat de base '!$E$58:$I$64) -> 1506.4 | D10: =SUM('Stat de base '!$E$58:$I$64) -> 1506.4 | E10: =SUM('Stat de base '!$E$58:$I$64) -> 1506.4 | K10: 92 | M10: 184 | N10: =SUM('Stat de base '!$E$130:$I$136) -> 1510.3 | O10: =SUM('Stat de base '!$E$130:$I$136) -> 1510.3 | P10: =SUM('Stat de base '!$E$130:$I$136) -> 1510.3 | W10: 184 | Y10: 207 | AI10: 207
A11: 91 | K11: 91 | M11: 183 | W11: 183 | Y11: 208 | AI11: 208
A12: 90 | K12: 90 | M12: 182 | U12: =SUM('Stat de base '!$E$130:$I$134) -> 1002.1 | V12: =SUM('Stat de base '!$E$130:$I$134) -> 1002.1 | W12: 182 | Y12: 209 | AI12: 209
A13: 89 | K13: 89 | M13: 181 | W13: 181 | Y13: 210 | AI13: 210
A14: 88 | F14: =SUM('Stat de base '!$E$55:$I$60) -> 1195.5 | G14: =SUM('Stat de base '!$E$55:$I$60) -> 1195.5 | H14: =SUM('Stat de base '!$E$55:$I$60) -> 1195.5 | I14: =SUM('Stat de base '!$E$55:$I$60) -> 1195.5 | J14: =SUM('Stat de base '!$E$55:$I$60) -> 1195.5 | K14: 88 | M14: 180 | W14: 180 | Y14: 211 | AE14: =SUM('Stat de base '!$E$155:$I$160) -> 1111.3 | AF14: =SUM('Stat de base '!$E$155:$I$160) -> 1111.3 | AG14: =SUM('Stat de base '!$E$155:$I$160) -> 1111.3 | AH14: =SUM('Stat de base '!$E$155:$I$160) -> 1111.3 | AI14: 211
A15: 87 | K15: 87 | M15: 179 | Q15: =SUM('Stat de base '!$E$125:$I$131) -> 1096.4 | R15: =SUM('Stat de base '!$E$125:$I$131) -> 1096.4 | S15: =SUM('Stat de base '!$E$125:$I$131) -> 1096.4 | T15: =SUM('Stat de base '!$E$125:$I$131) -> 1096.4 | W15: 179 | Y15: 212 | AB15: =SUM('Stat de base '!$E$156:$I$162) -> 1318.8 | AC15: =SUM('Stat de base '!$E$156:$I$162) -> 1318.8 | AD15: =SUM('Stat de base '!$E$156:$I$162) -> 1318.8 | AI15: 212
A16: 86 | K16: 86 | M16: 178 | W16: 178 | Y16: 213 | AI16: 213
A17: 85 | B17: =SUM('Stat de base '!$E$52:$I$57) -> 1403.5 | C17: =SUM('Stat de base '!$E$52:$I$57) -> 1403.5 | D17: =SUM('Stat de base '!$E$52:$I$57) -> 1403.5 | E17: =SUM('Stat de base '!$E$52:$I$57) -> 1403.5 | K17: 85 | M17: 177 | N17: =SUM('Stat de base '!$E$120:$I$129) -> 1252 | O17: =SUM('Stat de base '!$E$120:$I$129) -> 1252 | P17: =SUM('Stat de base '!$E$120:$I$129) -> 1252 | U17: =SUM('Stat de base '!$E$121:$I$129) -> 1099 | V17: =SUM('Stat de base '!$E$121:$I$129) -> 1099 | W17: 177 | Y17: 214 | Z17: =SUM('Stat de base '!$E$158:$I$165) -> 1470.5 | AA17: =SUM('Stat de base '!$E$158:$I$165) -> 1470.5 | AI17: 214
A18: 84 | K18: 84 | M18: 176 | W18: 176 | Y18: 215 | AI18: 215
A19: 83 | K19: 83 | M19: 175 | W19: 175 | Y19: 216 | AI19: 216
A20: 82 | F20: =SUM('Stat de base '!$E$50:$I$54) -> 1308.2 | G20: =SUM('Stat de base '!$E$50:$I$54) -> 1308.2 | H20: =SUM('Stat de base '!$E$50:$I$54) -> 1308.2 | I20: =SUM('Stat de base '!$E$50:$I$54) -> 1308.2 | J20: =SUM('Stat de base '!$E$50:$I$54) -> 1308.2 | K20: 82 | M20: 174 | W20: 174 | Y20: 217 | AE20: =SUM('Stat de base '!$E$161:$I$166) -> 1027.5 | AF20: =SUM('Stat de base '!$E$161:$I$166) -> 1027.5 | AG20: =SUM('Stat de base '!$E$161:$I$166) -> 1027.5 | AH20: =SUM('Stat de base '!$E$161:$I$166) -> 1027.5 | AI20: 217
A21: 81 | K21: 81 | M21: 173 | W21: 173 | Y21: 218 | AI21: 218
A22: 80 | K22: 80 | M22: 172 | W22: 172 | Y22: 219 | AB22: =SUM('Stat de base '!$E$163:$I$169) -> 1162.6 | AC22: =SUM('Stat de base '!$E$163:$I$169) -> 1162.6 | AD22: =SUM('Stat de base '!$E$163:$I$169) -> 1162.6 | AI22: 219
A23: 79 | B23: =SUM('Stat de base '!$E$45:$I$51) -> 1422.9 | C23: =SUM('Stat de base '!$E$45:$I$51) -> 1422.9 | D23: =SUM('Stat de base '!$E$45:$I$51) -> 1422.9 | E23: =SUM('Stat de base '!$E$45:$I$51) -> 1422.9 | K23: 79 | M23: 171 | Q23: =SUM('Stat de base '!$E$116:$I$123) -> 1295.5 | R23: =SUM('Stat de base '!$E$116:$I$123) -> 1295.5 | S23: =SUM('Stat de base '!$E$116:$I$123) -> 1295.5 | T23: =SUM('Stat de base '!$E$116:$I$123) -> 1295.5 | W23: 171 | Y23: 220 | AI23: 220
A24: 78 | K24: 78 | M24: 170 | W24: 170 | Y24: 221 | AI24: 221
A25: 77 | F25: =SUM('Stat de base '!$E$43:$I$49) -> 1159 | G25: =SUM('Stat de base '!$E$43:$I$49) -> 1159 | H25: =SUM('Stat de base '!$E$43:$I$49) -> 1159 | I25: =SUM('Stat de base '!$E$43:$I$49) -> 1159 | J25: =SUM('Stat de base '!$E$43:$I$49) -> 1159 | K25: 77 | M25: 169 | W25: 169 | Y25: 222 | Z25: =SUM('Stat de base '!$E$166:$I$174) -> 1492.9 | AA25: =SUM('Stat de base '!$E$166:$I$174) -> 1492.9 | AI25: 222
A26: 76 | K26: 76 | M26: 168 | U26: =SUM('Stat de base '!$E$116:$I$120) -> 989.5 | V26: =SUM('Stat de base '!$E$116:$I$120) -> 989.5 | W26: 168 | Y26: 223 | AE26: =SUM('Stat de base '!$E$167:$I$173) -> 1158.5 | AF26: =SUM('Stat de base '!$E$167:$I$173) -> 1158.5 | AG26: =SUM('Stat de base '!$E$167:$I$173) -> 1158.5 | AH26: =SUM('Stat de base '!$E$167:$I$173) -> 1158.5 | AI26: 223
A27: 75 | K27: 75 | M27: 167 | N27: =SUM('Stat de base '!$E$112:$I$119) -> 1530.5 | O27: =SUM('Stat de base '!$E$112:$I$119) -> 1530.5 | P27: =SUM('Stat de base '!$E$112:$I$119) -> 1530.5 | W27: 167 | Y27: 224 | AI27: 224
A28: 74 | K28: 74 | M28: 166 | W28: 166 | Y28: 225 | AI28: 225
A29: 73 | K29: 73 | M29: 165 | W29: 165 | Y29: 226 | AB29: =SUM('Stat de base '!$E$170:$I$177) -> 1328.5 | AC29: =SUM('Stat de base '!$E$170:$I$177) -> 1328.5 | AD29: =SUM('Stat de base '!$E$170:$I$177) -> 1328.5 | AI29: 226
A30: 72 | B30: =SUM('Stat de base '!$E$32:$I$44) -> 1321.3 | C30: =SUM('Stat de base '!$E$32:$I$44) -> 1321.3 | D30: =SUM('Stat de base '!$E$32:$I$44) -> 1321.3 | E30: =SUM('Stat de base '!$E$32:$I$44) -> 1321.3 | K30: 72 | M30: 164 | W30: 164 | Y30: 227 | AI30: 227
A31: 71 | K31: 71 | M31: 163 | Q31: =SUM('Stat de base '!$E$110:$I$115) -> 1066 | R31: =SUM('Stat de base '!$E$110:$I$115) -> 1066 | S31: =SUM('Stat de base '!$E$110:$I$115) -> 1066 | T31: =SUM('Stat de base '!$E$110:$I$115) -> 1066 | U31: =SUM('Stat de base '!$E$110:$I$115) -> 1066 | V31: =SUM('Stat de base '!$E$110:$I$115) -> 1066 | W31: 163 | Y31: 228 | AI31: 228
A32: 70 | F32: =SUM('Stat de base '!$E$32:$I$42) -> 1117.3 | G32: =SUM('Stat de base '!$E$32:$I$42) -> 1117.3 | H32: =SUM('Stat de base '!$E$32:$I$42) -> 1117.3 | I32: =SUM('Stat de base '!$E$32:$I$42) -> 1117.3 | J32: =SUM('Stat de base '!$E$32:$I$42) -> 1117.3 | K32: 70 | M32: 162 | W32: 162 | Y32: 229 | AI32: 229
A33: 69 | K33: 69 | M33: 161 | W33: 161 | Y33: 230 | AE33: =SUM('Stat de base '!$E$174:$I$179) -> 1135.4 | AF33: =SUM('Stat de base '!$E$174:$I$179) -> 1135.4 | AG33: =SUM('Stat de base '!$E$174:$I$179) -> 1135.4 | AH33: =SUM('Stat de base '!$E$174:$I$179) -> 1135.4 | AI33: 230
A34: 68 | K34: 68 | M34: 160 | W34: 160 | Y34: 231 | Z34: =SUM('Stat de base '!$E$175:$I$181) -> 1307.8 | AA34: =SUM('Stat de base '!$E$175:$I$181) -> 1307.8 | AI34: 231
A35: 67 | K35: 67 | M35: 159 | N35: =SUM('Stat de base '!$E$102:$I$111) -> 1493.3 | O35: =SUM('Stat de base '!$E$102:$I$111) -> 1493.3 | P35: =SUM('Stat de base '!$E$102:$I$111) -> 1493.3 | W35: 159 | Y35: 232 | AI35: 232
A36: 66 | K36: 66 | M36: 158 | W36: 158 | Y36: 233 | AI36: 233
A37: 65 | K37: 65 | M37: 157 | Q37: =SUM('Stat de base '!$E$102:$I$109) -> 1121.3 | R37: =SUM('Stat de base '!$E$102:$I$109) -> 1121.3 | S37: =SUM('Stat de base '!$E$102:$I$109) -> 1121.3 | T37: =SUM('Stat de base '!$E$102:$I$109) -> 1121.3 | U37: =SUM('Stat de base '!$E$102:$I$109) -> 1121.3 | V37: =SUM('Stat de base '!$E$102:$I$109) -> 1121.3 | W37: 157 | Y37: 234 | AB37: =SUM('Stat de base '!$E$178:$I$183) -> 1219.5 | AC37: =SUM('Stat de base '!$E$178:$I$183) -> 1219.5 | AD37: =SUM('Stat de base '!$E$178:$I$183) -> 1219.5 | AI37: 234
A38: 64 | K38: 64 | M38: 156 | W38: 156 | Y38: 235 | AI38: 235
A39: 63 | K39: 63 | M39: 155 | W39: 155 | Y39: 236 | AE39: =SUM('Stat de base '!$E$180:$I$186) -> 1134.7 | AF39: =SUM('Stat de base '!$E$180:$I$186) -> 1134.7 | AG39: =SUM('Stat de base '!$E$180:$I$186) -> 1134.7 | AH39: =SUM('Stat de base '!$E$180:$I$186) -> 1134.7 | AI39: 236
A40: 62 | K40: 62 | M40: 154 | W40: 154 | Y40: 237 | AI40: 237
...
