Workbook

Sheet armoire rouge 1
C2: Date du jour : | D2: =TODAY() -> 43683
B3: Armoire rouge 1
B5: Référence | C5: Libellé | D5: Quantité | E5: Date péremption | F5: Date péremption
B6: 3522920003017 | C6: anchois olive | D6: 4 | E6: 44196 | F6: 44561
B7: 5410641700231 | C7: cornichons 370ml | D7: 8 | E7: 44561
B8: 8414092002019 | C8: coulis de tomate 350g | D8: 3 | E8: 44074
B9: 3700824441917 | C9: EP agaragar 50g | D9: 4 | E9: 43523
B10: 8428201060197 | C10: EP ail poudre 50g | D10: 0 | E10: néant
B11: 3700824445014 | C11: EP baies de genévrier 50g | D11: 2 | E11: 43888
B12: 3700824445212 | C12: EP basilic 50g | D12: 5 | E12: 43646
B13: 9114453819636 | C13: EP bocal vide | D13: 2 | E13: néant
B14: 3700824449319 | C14: EP canelle 22cm 50g | D14: 4 | E14: 43738
B15: 3700824443317 | C15: EP canelle 25g | D15: 8 | E15: 43373
B16: 3700824443010 | C16: EP carvi 50g | D16: 4 | E16: 43465
B17: 3700824441016 | C17: EP clous de girofle 25g | D17: 3 | E17: 43585
B18: 3700824449616 | C18: EP coriandre en grains 50g | D18: 4 | E18: 43646
B19: 3700824449715 | C19: EP cumin entier 50g | D19: 1 | E19: 43131
B20: 3700824419114 | C20: EP curcuma 50g | D20: 3 | E20: 43523 | F20: 43646
B21: 3700824442716 | C21: EP curry anc 50g | D21: 6 | E21: 43523
B22: 3700824442723 | C22: EP curry anc boc45g | D22: 0 | E22: néant
B23: 3700824429519 | C23: EP épices bbq 50g | D23: 13 | E23: 43465
B24: 3700824429618 | C24: EP épices cajun 50g | D24: 6 | E24: 43069 | F24: 43465
B25: 3700824423029 | C25: EP épices carbonnades 55g boc | D25: 2 | E25: néant
B26: 3700824423012 | C26: EP épices carbonnades 50g | D26: 3 | E26: 43190
B27: 3700824429410 | C27: EP épices couscous 50g | D27: 3 | E27: 43523
B28: 3700824429113 | C28: EP épices crumble 50g | D28: 2 | E28: 43434
B29: 3700824421919 | C29: EP épices foie gras50g | D29: 5 | E29: 43434
B30: 3700824421810 | C30: EP épices gyros 50g | D30: 2 | E30: 43496
B31: 3760012400065 | C31: EP fleur de sel de guérande 125g | D31: 6 | E31: néant
B32: 3700824442426 | C32: EP gingembre 30g boc | D32: 3 | E32: néant
B33: 3700824442419 | C33: EP gingembre 50g kraft | D33: 1 | E33: 43190
B34: 3700824423111 | C34: EP gremolata 50g | D34: 1 | E34: néant
B35: 3700824440712 | C35: EP laurier 10g kraft | D35: 6 | E35: 43799
B36: 3700824432915 | C36: EP mélange 3 poivres 50g | D36: 0 | E36: 43738
B37: 3700824422114 | C37: EP mélange antillais 50g | D37: 0 | E37: 43799
B38: 3700824421025 | C38: EP mélange col boc50g | D38: 0 | E38: néant
B39: 3700824420912 | C39: EP mélange italien 50g | D39: 0 | E39: 43799
B40: 9547725121345 | C40: EP moulin a muscade | D40: 0 | E40: néant
B41: 9719712886482 | C41: EP moulin hetre | D41: 0 | E41: néant
B42: 3700824441313 | C42: EP muscade 25g kraft | D42: 1 | E42: 43738
...

Sheet armoire rouge 2
C2: Date du jour : | D2: =TODAY() -> 43683
B3: Armoire rouge 2
B5: Référence | C5: Libellé | D5: Quantité | E5: Date péremption | F5: Date péremption
B6: 8717496904300 | C6: ananas tranches 400ml | D6: 17 | E6: 43615
B7: 4009309542620 | C7: asperges 330g | D7: 6 | E7: 44196
B8: 3770004096183 | C8: bouillon parfum 100g | D8: 2 | E8: 43139
B9: 3770004096169 | C9: bouillon tom/épi 100g | D9: 3 | E9: 43139
B10: 4044889000344 | C10: cacao quick 400g | D10: 5 | E10: 43802
B11: 5453001322360 | C11: café capsule 20pc | D11: 3 | E11: néant
B12: 8437000372318 | C12: Caroube poudre 375g | D12: 4 | E12: 43281
B13: 4009309555620 | C13: champignons coupés 330g | D13: 10 | E13: 43830
B14: 3267110002714 | C14: choco 330g | D14: 5 | E14: 43393
B15: 3267110002783 | C15: choco noir s/lact s/ gluten 220g | D15: 3 | E15: 43413
B16: 3267110002653 | C16: choco sans lactose sans/gluten 300g | D16: 4 | E16: 43559
B17: 8411066002969 | C17: chocolat chaud 200g | D17: 7 | E17: 43251
B18: 8711812402686 | C18: chou rouge pommes 340g | D18: 10 | E18: 43830
B19: 3301594000092 | C19: compote 660g | D19: 7 | E19: 44345
B20: 9837139301645 | C20: compote abricot 315g | D20: 7 | E20: 44388
B21: 3301594000634 | C21: Compote pomme 315g | D21: 8 | E21: 44327
B22: 3301594000689 | C22: compote rhubarbe 315g | D22: 5 | E22: 44310
B23: 3760005721030 | C23: confiture 340g 3 agrumes | D23: 2 | E23: 43465
... B27: 4000345051411 | C27: cubes bouillon légumes 8 pces | D27: 12 | E27: 43483
B28: 4000345051138 | C28: cubes bouillon boeuf 8pces | D28: 18 | E28: 43525 | F28: 43446
B29: 4000345051428 | C29: cubes bouillon vég peu de sel 8p | D29: 12 | E29: 43446
B30: 4000345051121 | C30: cubes bouillon volaille 8pces | D30: 12 | E30: 43530 | F30: 43482
B31: 8717496904317 | C31: cubes d ananas 400g | D31: 12 | E31: 43676
B32: 4009309753422 | C32: demi peches 720ml | D32: 7 | E32: 43373
B33: 3301596000328 | C33: gelée groseilles 235g | D33: 8 | E33: 44373
B34: 3278584347119 | C34: gousse vanille 5g | D34: 8 | E34: 43705
B35: 8711812402761 | C35: haricots bl tomate 360g | D35: 10 | E35: 43830
B36: 8711812402648 | C36: haricots bruns 360g | D36: 5 | E36: 43830
B37: 8711812402716 | C37: haricots verts 340g | D37: 10 | E37: 43465
B38: 8711812404192 | C38: Mais Doux 180g | D38: 4 | E38: 43830
B39: 3431590002674 | C39: marrons entiers 320g | D39: 6 | E39: 43734
B40: 8717496900159 | C40: mélange d haricots 400g | D40: 6 | E40: 43795
B41: 3770003484264 | C41: miel champ 200g | D41: 4 | E41: 43496
B42: 3770003484295 | C42: miel chat 200g | D42: 4 | E42: 43708
... B73: 7898206500027 | C73: sucre brun 1kg | D73: 11 | E73: 43689
B74: 3760004870050 | C74: sucre canne 500g bec verseur | D74: 6 | E74: néant
B75: 3760004870029 | C75: sucre de canne 1kg | D75: 3 | E75: néant
...

Sheet armoire rouge 3
C2: Date du jour : | D2: =TODAY() -> 43683
B3: Armoire rouge 3
B5: Référence | C5: Libellé | D5: Quantité | E5: Date péremption | F5: Date péremption
B6: 5413401001203 | C6: amandes choc lait 200g | D6: 0 | E6: néant
B7: 5413401001210 | C7: amandes choc noir 200g | D7: 4 | E7: 43086
B8: 5413401001456 | C8: baie de goji 100g | D8: 5 | E8: 43131
B9: 8710873002088 | C9: bicuits au gouda 125g | D9: 13 | E9: 43120
B10: 5410464100423 | C10: biscuit choco orange 45g | D10: 8 | E10: 43152
B11: 5400905005073 | C11: biscuits épau choc 120g | D11: 5 | E11: 43100
B12: 7640104959557 | C12: biscuits épeautre bébé 150g | D12: 5 | E12: 43158
B13: 8711823054607 | C13: boudoirs 125g | D13: 8 | E13: 43315
B14: 8710873002101 | C14: boules gouda/oignons 125g | D14: 9 | E14: 43190
B15: 8715061862277 | C15: cake au beurre 325g | D15: 6 | E15: 43196
B16: 5413401001333 | C16: canneberges choco noir 200g | D16: 1 | E16: néant
B17: 5425034750137 | C17: charlotte caramel 100g | D17: -4 | E17: 43170
B18: 5425034750151 | C18: charlotte chocolat 100g | D18: 5 | E18: 43156
B19: 5425034750120 | C19: charlotte nature 100g | D19: 11 | E19: 43156
B20: 5425034750144 | C20: charlotte vanille 100g | D20: 6 | E20: 43159
B21: 8422947800314 | C21: chips au sel 125g | D21: 8 | E21: 43136
B22: 728229123613 | C22: chips bleues sans gluten 110g | D22: 3 | E22: 43065
B23: 8711812414870 | C23: chips de pois chiches sel 75g | D23: 7 | E23: 43215
B24: 8437000299646 | C24: chips paprika sans gluten125g | D24: 8 | E24: 43220
B25: 8422947800338 | C25: chips végétal mix 30g | D25: 3 | E25: 43143
B26: 5413401000282 | C26: CHOCO MINI 225G | D26: 7 | E26: 43264
B27: 5419980014658 | C27: chocolat nao fondant 100g | D27: 6 | E27: 43358
B28: 8411066002891 | C28: chocolat blanc 100 yaourt fraises | D28: 7 | E28: 43157
... B41: 3396410153113 | C41: formule choc 125g | D41: 13 | E41: 43209
B42: 5400905007534 | C42: galettes fines 165g | D42: 4 | E42: 43099 | F42: 43224
B43: 3760087771794 | C43: gaufres 4duos | D43: 5 | E43: 43099 | F43: 43167
B44: 5400910109674 | C44: gr de lin 200g | D44: 2 | E44: 43328
B45: 5400910109636 | C45: gr de potiron 200g | D45: 7 | E45: 43168
B46: 5400910109650 | C46: gr de tournesol 200g | D46: 2 | E46: 43323
B47: 5400910109797 | C47: Gr sésame 200g | D47: 3 | E47: 43263
B48: 5413401002415 | C48: graine chia noire 200g | D48: 5 | E48: 43070
B49: 5410781321525 | C49: mélange salé 150g | D49: 4 | E49: 43141
B50: 5410781322447 | C50: melange sante125g | D50: 2 | E50: 43174
B51: 5410781320047 | C51: mendiant raisins 200g | D51: 5 | E51: 43332
B52: 5410781321044 | C52: Mendiant S/raisins 200g | D52: 2 | E52: 43271
B53: 5413401000800 | C53: noisettes 150g | D53: 0 | E53: néant
B54: 5413401000992 | C54: NOIX CAJOU TAMARI 150G | D54: 5 | E54: 43281
...

Sheet Armoire alcool
C2: Date du jour : | D2: =TODAY() -> 43683
B3: Armoire Bières
B5: Référence | C5: Libellé | D5: Quantité | E5: Date péremption | F5: Date péremption
B6: 5425018230389 | C6: Ardeur blanc 70cl | D6: 6
B7: 5425018230372 | C7: Ardeur rouge 70cl | D7: 7
B8: 5425030760673 | C8: Bubble fraise 70cl | D8: 5
B9: 3301592000117 | C9: cidre doux 37.5cl | D9: 4
B10: 3301592000483 | C10: cidre doux 75cl | D10: 7
B11: 3760166510214 | C11: clairette de die 75cl | D11: 11
B12: 5425030760376 | C12: Color Coffee 50cl | D12: 5
B13: 3760009850057 | C13: crémant alsace 75cl | D13: 12
B14: 3760009850064 | C14: crémant alsace rosé75cl | D14: 13
B15: 5425030760871 | C15: creme de rhum 70cl | D15: 4
B16: 3248843070072 | C16: cubi vin rosé 3l | D16: 3
B17: 3248843060073 | C17: cubi vin rouge 3l | D17: 1
... B59: 3248840602030 | C59: Vin rouge maréchal 75cl | D59: 1

Sheet Armoire à Bières
C2: Date du jour : | D2: =TODAY() -> 43683
B3: Armoire Bières
B5: Référence | C5: Libellé | D5: Quantité | E5: Date péremption | F5: Date péremption
B6: 5430000083508 | C6: abbaye villers33cl | D6: 2 | E6: néant
B7: 5410702000621 | C7: Aubéole 33CL | D7: 11 | E7: 43888
B8: 5410702000652 | C8: Aubeole 4x33cl | D8: 6 | E8: 43981
B9: 5410702000638 | C9: Aubéole 75CL | D9: 22 | E9: 44012
B10: 9122237805885 | C10: bière fleurs de sureau 33cl | D10: 4 | E10: 43617
B11: 9011947539943 | C11: bière paternel 33cl | D11: 16 | E11: 43617
B12: 9616149465856 | C12: bière thomassine 33cl | D12: 17 | E12: 43891
B13: 5411879222243 | C13: binchoise fruits 33cl | D13: 8 | E13: 43829
B14: 5430000083003 | C14: Brogne Blo 33cl | D14: -15 | E14: néant
B15: 5430000083089 | C15: Brogne blonde 75cl | D15: 8 | E15: néant
B16: 5430000083102 | C16: Brogne brune 33cl | D16: 39 | E16: néant
B17: 5430000083126 | C17: Brogne brune 75cl | D17: 3 | E17: néant
B18: 5430000083058 | C18: brogne de noel 75cl | D18: 0 | E18: néant
B19: 5411065210849 | C19: Brunehaut Amb 4x33cl | D19: 5 | E19: 43860
B20: 5411065200864 | C20: Brunehaut Bl 33cl | D20: -3 | E20: néant
B21: 5411065210825 | C21: brunehaut bl 4x33cl | D21: 10 | E21: 43920
B22: 5411065210832 | C22: brunehaut Blo 4x33cl | D22: 1 | E22: 43220 | F22: 43099
B23: 5411065201328 | C23: brunehaut triple 33cl | D23: 5 | E23: 43920
B24: 5425000540359 | C24: Caracole 33cl | D24: 0 | E24: néant
B25: 5410702600470 | C25: Coffret Aubeole 4x33cl | D25: 4 | E25: 43888
B26: 5412186000661 | C26: coffret delirium 4*0.33 | D26: 1 | E26: 43281
B27: 5410325105024 | C27: Cuvée des lacs 25CL | D27: 46 | E27: 43829
B28: 5410325100296 | C28: Joseph 75cl | D28: 4 | E28: 43464
B29: 5410702000515 | C29: moinette 75cl | D29: 7 | E29: 43829
B30: 5425000540366 | C30: Nostradamus 33cl | D30: 4 | E30: 43099
B31: 5410702000812 | C31: Saison dupont 75cl | D31: 18 | E31: 43677 | F31: 43707
B32: 5410325101132 | C32: Sara blonde 75cl | D32: -30 | E32: 43829
B33: 5410325101125 | C33: sara blonde bio 25cl | D33: 22 | E33: 44195
B34: 5410325100036 | C34: Sara brune bio 25CL | D34: 19 | E34: 43829
B35: 5425000540281 | C35: Saxo 33cl | D35: 3 | E35: 42824
B36: 5425032456963 | C36: tresor de wallonie 6x33cl | D36: 1 | E36: néant
B37: 5425000540274 | C37: Troublette 33cl | D37: 6 | E37: 43099
B38: 9593206887861 | C38: Valisette Aubéole 75cl | D38: 3 | E38: 44012

Sheet étagère à thé
C2: Date du jour : | D2: =TODAY() -> 43683
B3: Etagère Thé
B5: Référence | C5: Libellé | D5: Quantité | E5: Date péremption | F5: Date péremption
B6: 3760029840335 | C6: elixir concent/20inf/bio | D6: 0 | E6: néant
B7: 3760029841684 | C7: elixir depura/bio 20inf | D7: 0 | E7: néant
B8: 3760029840328 | C8: elixir Detente/20inf/bio | D8: 0 | E8: néant
B9: 3760029840311 | C9: elixir elimin/20inf/bio | D9: 0 | E9: néant
B10: 3760029840342 | C10: elixir protect/20inf/bio | D10: 1 | E10: 43827
B11: 9884141272432 | C11: thé 17sachet | D11: 0 | E11: néant
B12: 8712053307082 | C12: thé amincissant 20 sach | D12: 0 | E12: néant
B13: 871561004659 | C13: thé blanc 24 inf | D13: 7 | E13: 43659
B14: 4012824402232 | C14: thé bonne nuit vanille | D14: 5 | E14: 43921
B15: 871561004642 | C15: thé breakfast 24inf | D15: 5 | E15: 43470
B16: 8711743200207 | C16: thé camomille 20 sachets | D16: 5 | E16: 43677
B17: 8711812421410 | C17: thé citron/miel 20 sachets | D17: 2 | E17: 43982
B18: 8711743207305 | C18: thé cranberry 20sachets | D18: 3 | E18: 43646
B19: 8711743200504 | C19: thé millepertuis 20sachets | D19: 3 | E19: 43738
B20: 8711743201501 | C20: thé minceur 20 sachets | D20: 1 | E20: 43738
B21: 871561004611 | C21: thé vert 24 inf | D21: 0 | E21: néant
B22: 4001257283501 | C22: thé vert cit 25 sach | D22: 0 | E22: néant
B23: 871561004673 | C23: thé vert menthe 24inf | D23: 0 | E23: néant
B24: 8711743201105 | C24: thé vessie et reins 20sachets | D24: 3 | E24: 43738
B25: 4012824529380 | C25: thé vrac ginger 90g | D25: 2 | E25: 43555
B26: 4012824401228 | C26: thé Y bonne nuit 17 sach | D26: 4 | E26: 43921
B27: 4012824400122 | C27: thé Y choco 17 sachets | D27: 4 | E27: 43738
B28: 4012824400511 | C28: thé Y citr vert 17 sachets | D28: 1 | E28: 43523
B29: 4012824400023 | C29: thé Y classic 17 sachets | D29: 5 | E29: 43554
B30: 4012824403192 | C30: thé Y défenses nat 17 sach | D30: 8 | E30: 43861
B31: 4012824401273 | C31: thé Y Détox 17 sachets | D31: 5 | E31: 43585
B32: 4012824401884 | C32: thé Y équilibre 17 sach | D32: 3 | E32: 43921
B33: 4012824401600 | C33: thé Y équilibre féminin 17sach | D33: 7 | E33: 43799
B34: 4012824401310 | C34: thé Y gingem citr 17 sachets | D34: 4 | E34: 43646 | F34: 44043
B35: 4012824401136 | C35: thé Y grd calme 17sach | D35: 4 | E35: 43769
B36: 4012824401402 | C36: thé Y réconfort 17 sachets | D36: 0 | E36: 44043
B37: 4004148013140 | C37: tisane d ortie 15 sach | D37: 5 | E37: 43708
B38: 4004148013072 | C38: tisane menthe poivrée 15sachets | D38: 4 | E38: 43769
B39: 4006227761621 | C39: t-sac filtres n°1 100pces | D39: 3 | E39: néant
B40: 4006227762628 | C40: t-sac filtres n°2 100pces | D40: 6 | E40: néant

Sheet étagère congél et Vrac
C2: Date du jour : | D2: =TODAY() -> 43683
B3: Etagère congélateur et étagère Vrac
B5: Référence | C5: Libellé | D5: Quantité | E5: Date péremption | F5: Date péremption
C6: Etagère Congélateur
B8: 8002352840121 | C8: agave sirop840g | D8: 3 | E8: 43194
B9: 9725755477181 | C9: Coulis 25cl | D9: 4 | E9: 43554
B10: 3278582922288 | C10: nappage caramel 190g | D10: 2 | E10: 43639
B11: 3278584321010 | C11: nappage chocolat 185g | D11: 4 | E11: 43477
B12: 8712439040206 | C12: sirop d erable 500ml | D12: 4 | E12: 44083
B13: 5430000520034 | C13: sirop d hibiscus 500ml | D13: 3 | E13: 43502
B14: 8711812840129 | C14: vermicelle chocolat 225g | D14: 4 | E14: 43193
C17: Etagère Vrac
B19: 5413401011509 | C19: Abricots bio/kg | D19: 5.4 | E19: 43089
B20: 5413401011004 | C20: Amandes Nat bio/kg | D20: 3.75 | E20: 43403
B21: 5413401011523 | C21: bananes chips bio/kg | D21: 8 | E21: 43158
B22: 5413401011554 | C22: Dattes Medj Bio/Kg | D22: 2.31 | E22: 43190
B23: 5413401011547 | C23: Figues Bio/ Kg | D23: 8.09 | E23: 43328
B24: 5413401014517 | C24: flocons sarrasin bio/au kg | D24: 6.06 | E24: néant
B25: 9438110186849 | C25: gingembre confit/kg/bio | D25: 4.29 | E25: 43608
B26: 5413401011608 | C26: Mél energ. S/Suc Bio /Kg | D26: 4.29 | E26: 43404
B27: 5413401011080 | C27: mél noix Bio/Kg | D27: 5.89 | E27: 43475
B28: 5413401016320 | C28: Mix 9 délices bio /Kg | D28: 4.05 | E28: 43704
B29: 9488132704729 | C29: mix super fruits/bio | D29: 2.54 | E29: 43644
B30: 5413401011073 | C30: Noix bio/Kg | D30: 11.74 | E30: 43100
B31: 5413401011257 | C31: noix cajou salée bio/au kg | D31: 7.85 | E31: 43502
B32: 5413401011028 | C32: Noix de Cajou Bio/Kg | D32: 7.17 | E32: 43830
B33: 5413401011059 | C33: Noix du brésil bio/kg | D33: 21.72 | E33: 43498
B34: 5413401011530 | C34: Raisin Thomp Bio/Kg | D34: 4.51 | E34: 43159

Sheet étagère sans gluten
C2: Date du jour : | D2: =TODAY() -> 43683
B3: Etagère sans gluten
B5: Référence | C5: Libellé | D5: Quantité | E5: Date péremption | F5: Date péremption
B6: 8008698014356 | C6: barre de fruits sans gluten125g | D6: 2 | E6: 43193
B7: 5412916950884 | C7: biscuit abricot sans sucre150g | D7: 4 | E7: 43272
B8: 5412916950891 | C8: biscuit fraise sans sucre150g | D8: 1 | E8: 43408
B9: 5425032131037 | C9: bonbon citron 100g | D9: 3 | E9: 43313
B10: 5425032131068 | C10: bonbon miel/citron 100g | D10: 3 | E10: 43390
B11: 5425032131075 | C11: bonbon miel/thym 100g | D11: 3 | E11: 43390
B12: 5412091003474 | C12: bonbon sans sucre fruities 200g | D12: 4 | E12: 43545
B13: 5412091001968 | C13: bonbon sans sucre teddies 200g | D13: 6 | E13: 43383
B14: 5412091003399 | C14: bonbon sans sucre eucamint200g | D14: 3 | E14: 43379
B15: 5425032132225 | C15: bonbons eucalyptus 120g | D15: 3 | E15: 43369
B16: 3352751000035 | C16: boules au miel 100g | D16: 22 | E16: 43355
B17: 8008698003961 | C17: choco sticks 150g | D17: 9 | E17: 43233
... B19: 5412860010061 | C19: chocolat lait/nois s/sucre 85g | D19: 4 | E19: 43312
B20: 5412860010047 | C20: chocolat noir s/ sucre 85g | D20: 0 | E20: néant
B21: 8008698014349 | C21: chocolix 110g | D21: 6 | E21: 43309
B22: 8718836330933 | C22: cookies sans gluten 100g | D22: 0 | E22: néant
B23: 8008698005491 | C23: cookies sans gluten 200g | D23: 4 | E23: 43175
B24: 5425000560203 | C24: gaufres choco s/sucre 240g | D24: 3 | E24: 43077
B25: 3352751000059 | C25: guimauves 40g | D25: 12 | E25: 43527
B26: 8008698054109 | C26: milly gris et ciocc 52g | D26: 10 | E26: 43141
B27: 8008698001325 | C27: orangino 150g | D27: 7 | E27: 43076
B28: 3380380070280 | C28: pdf crousty 125g | D28: 3 | E28: 43264
B29: 8008698004920 | C29: petit beurre sans gluten130g | D29: 5 | E29: 43236
B30: 8008698015377 | C30: sablé au beurre 120g | D30: 9 | E30: 43206

Sheet étagère N° 1
C2: Date du jour : | D2: =TODAY() -> 43683
B3: Etagère 1
B5: Référence | C5: Libellé | D5: Quantité | E5: Date péremption | F5: Date péremption
B6: 8423352204322 | C6: boisson avoine 1l | D6: 1 | E6: 43225
B7: 5411788043540 | C7: boisson riz 3x200ml | D7: 3 | E7: 43285
B8: 8423352200294 | C8: Boisson riz 1l | D8: 3 | E8: 43274
B9: 3396410048105 | C9: boisson riz/epeautre/nois 1l | D9: 12 | E9: 43316 | F9: 43363
B10: 8423352204339 | C10: boisson riz/nois1l | D10: 3 | E10: 43085 | F10: 43288
B11: 5411188080190 | C11: dessert soya choco 4x125g | D11: 7 | E11: 43178
B12: 5411188080183 | C12: dessert soya vanille 4x125g | D12: 5 | E12: 43206
B13: 5411788045810 | C13: drink épeautre calcium1l | D13: 2 | E13: 43269 | F13: 43342
B14: 5411788045179 | C14: drink épeautre naturel 1l | D14: 1 | E14: 43403
B15: 5411788043632 | C15: drink nois amande 3*200ml | D15: 0 | E15: 43190
B16: 5411188092612 | C16: drink soja choco 250ml | D16: 7 | E16: 43256
B17: 5411188081845 | C17: drink soja chocolat 1l | D17: 4 | E17: 43115
B18: 5411188092636 | C18: drink soja fraises 250ml | D18: 9 | E18: 43109
B19: 5411188080091 | C19: drink soja vanille 1l | D19: 3 | E19: 43185
B20: 5411188092629 | C20: drink soja vanille 250ml | D20: 8 | E20: 43228
B21: 8423352200300 | C21: Lait amande 1l | D21: 6 | E21: 43337
B22: 3267110008242 | C22: lait amande choco 1l | D22: 5 | E22: 43117
B23: 3267110008259 | C23: lait amande choco 3*200ml | D23: 4 | E23: 43243
B24: 3396410119447 | C24: lait amande evernat 1l | D24: 5 | E24: 43359
B25: 4104060031533 | C25: lait de chevre 1/2écrémé 1l | D25: 2 | E25: 43134
... B29: 3396410119454 | C29: nutriamande 200ml | D29: 9 | E29: 43314
C31: Etagère 1 b
B32: 3760200010038 | C32: Crème de coco 400ml | D32: 7 | E32: 43351
B33: 3267110008297 | C33: cuisine amande 3x200ml | D33: 2 | E33: 43176
B34: 3431590008980 | C34: dessert choco s/lact 2x110g | D34: 6 | E34: 43393
B35: 3431590008973 | C35: dessert sans lactose 2x110g | D35: 2 | E35: 43391
B36: 3760200010021 | C36: lait de coco 400ml | D36: 4 | E36: 43363
B37: 8004192301008 | C37: Lauretana natu 50cl | D37: 2 | E37: néant
B38: 8004192202008 | C38: Lauretana natur 1.5l | D38: 11 | E38: néant
B39: 8004192302005 | C39: Lauretana Pet 0.5l | D39: 4 | E39: 43190
B40: 8004192201001 | C40: Lauretana pet 1.5l | D40: -1 | E40: néant
B41: 3257971080112 | C41: mont roucous 1.5l | D41: 10 | E41: néant
B42: 3257971080648 | C42: montroucous 6x50cl | D42: 6 | E42: 43522
B43: 4009890217723 | C43: pudding choc 3x40g | D43: 10 | E43: 43281
B44: 4009890217716 | C44: pudding vanille 3pces | D44: 11 | E44: 43495
B45: 8711812375782 | C45: sirop de citron vert 500ml | D45: 5 | E45: 43337
B46: 8041435103975 | C46: sirop de fruits/ 50cl | D46: 5 | E46: néant
...

Sheet étagère N° 2
C2: Date du jour : | D2: =TODAY() -> 43683
B3: Etagère N° 2
B5: Référence | C5: Libellé | D5: Quantité | E5: Date péremption | F5: Date péremption
B6: 8858947401204 | C6: Aloe vera grenade 350ml | D6: 10 | E6: 43418
B7: 8858947401105 | C7: Aloevera nature 350ml | D7: 10 | E7: 43411
B8: 8858947401303 | C8: Aloevera citron 350ml | D8: 9 | E8: 43438
B9: 5400514321045 | C9: bionina citron 33cl | D9: 20 | E9: 43300
B10: 5400514311046 | C10: bionina cranberries /grenade 33cl | D10: 25 | E10: 43308
B11: 5400514301047 | C11: bionina orange 33cl | D11: 20 | E11: 43160
B12: 5400514331044 | C12: bionina pamplemousse 33 Cl | D12: 26 | E12: 43415
B13: 7618500941124 | C13: biotta Breuss 500ml | D13: 3 | E13: 43315
B14: 5411087001111 | C14: jus betterave 75cl | D14: 12 | E14: 43616
B15: 5411087001210 | C15: jus canneberges 0.75l | D15: 4 | E15: 43677
B16: 5411087001098 | C16: jus carotte 0.75l | D16: 4 | E16: 43616
B17: 4015533021428 | C17: jus d ananas 700ml | D17: 12 | E17: 43475
... B23: 5411087001043 | C23: Jus orange Paj 75cl | D23: 7 | E23: 43496
B24: 5411087001050 | C24: jus pamplemousse 75cl | D24: 2 | E24: 43496 | F24: 43554
B25: 7618500940653 | C25: jus PDT 50cl | D25: 8 | E25: 43724
B26: 4004191001088 | C26: jus Pruneaux 750ml | D26: 6 | E26: 43624
C31: Etagère 2 b
B32: 5400134349740 | C32: cubi Pom pasteurisé 3L | D32: 39 | E32: 43405
B33: 9836866587284 | C33: jus 1L | D33: 106 | E33: 43160
B34: 5411087002019 | C34: jus de pomme 20cl | D34: 22 | E34: 43738
B35: 3396410164430 | C35: jus multi fruit 1l | D35: 5 | E35: 43173
B36: 3396410181710 | C36: jus multi fruits 6x200ml | D36: 4 | E36: 43385
B37: 5411087001203 | C37: jus multi fruits 75cl | D37: 2 | E37: 43580
B38: 9237633934544 | C38: jus Pomme 1L | D38: 10 | E38: 43160
B39: 3396410181673 | C39: jus pomme 6x200ml | D39: 4 | E39: 43324
B40: 5411087001180 | C40: jus pomme ananas 0.75l | D40: 3 | E40: 43585
B41: 5411087001128 | C41: jus pomme/mangue 75cl | D41: 4 | E41: 43585
B42: 5411087001081 | C42: jus raisins 0.75l | D42: 7 | E42: 43677
B43: 5411087001340 | C43: jus Sante 20 Cl | D43: 11 | E43: 43403
... B48: 5411087001012 | C48: paj jus pomme 75cl | D48: 5 | E48: 43702
C49: jus pomme canneberge | E49: 43523

Sheet étagère N° 3
C2: Date du jour : | D2: =TODAY() -> 43683
B3: Etagère N° 3
B5: Référence | C5: Libellé | D5: Quantité | E5: Date péremption | F5: Date péremption
B6: 3760005721504 | C6: Coquillette comp 500g | D6: 9 | E6: 43464
B7: 3760005721528 | C7: Coquillettes Bl 500g | D7: 8 | E7: 43250
B8: 8015602000206 | C8: farfalle blancs 250g | D8: 19 | E8: 43684
B9: 8008698004586 | C9: gnocchi 300g | D9: 2 | E9: 43299
B10: 5425016980033 | C10: pate d épeautre 500g | D10: 16 | E10: 43220
B11: 8017977037795 | C11: pates s/gluten 250g | D11: -1 | E11: 43199
B12: 3760005721443 | C12: pennes bl 500g | D12: 7 | E12: 43646
B13: 3760005721429 | C13: pennes compl 500g | D13: 12 | E13: 43250
B14: 8017977016349 | C14: pennes mais s gluten 500g | D14: 3 | E14: 43464
B15: 3760005721481 | C15: spaghettis blancs 500g | D15: 6 | E15: 43646
B16: 3760005721467 | C16: spaghettis comp 500g | D16: 16 | E16: 43585
B17: 8422947840020 | C17: spirellis épeautre 250g | D17: 2 | E17: 43218
... B21: 3760005721405 | C21: vermicelles blancs 500g | D21: 4 | E21: 43554
C27: Etagère 3 b
B28: 5411788046916 | C28: boulgour mix 250g | D28: 1 | E28: 43408
B29: 5411788033121 | C29: couscous 500g | D29: 4 | E29: 43333
B30: 3431590008133 | C30: graine express quinoa 250g | D30: 3 | E30: 43453
B31: 3431590008164 | C31: graines express mélange 250g | D31: 4 | E31: 43362
B32: 3431590008140 | C32: graines express riz 250g | D32: 3 | E32: 43212
B33: 8718885870640 | C33: haricots lima 450g | D33: 4 | E33: 43586
B34: 8718885871241 | C34: haricots rouges 450g | D34: 6 | E34: 43618
B35: 8711997002060 | C35: lentilles vertes 1kg | D35: 2 | E35: 43432
B36: 5425038000399 | C36: lentilles vertes 500g | D36: 11 | E36: 43343
B37: 5411788033862 | C37: millet 500g | D37: 1 | E37: 43531
B38: 8711997002084 | C38: pois chiches 1kg | D38: 7 | E38: 43669
B39: 5425038000016 | C39: quinoa 500g | D39: 15 | E39: 43311 | F39: 43646
B40: 3770004096534 | C40: riz a la noix de coco 250g | D40: 0 | E40: néant
B41: 3770004096558 | C41: riz aux épices douces 250g | D41: 2 | E41: 43724
B42: 3770004096565 | C42: riz aux lentilles 250g | D42: 5 | E42: 43574
B43: 3770004096541 | C43: riz basmati curcuma 250g | D43: 3 | E43: 43645
B44: 8718976015974 | C44: riz blanc 400g | D44: 5 | E44: 43645
B45: 8410769002979 | C45: riz complet ebre 1kg | D45: 0 | E45: 43311
B46: 8711997003562 | C46: riz complet ferme 1kg | D46: 1 | E46: néant
B47: 8410769002962 | C47: riz rond bl ebre 1kg | D47: 7 | E47: 43799
B48: 5411788035774 | C48: sarrasin 500g | D48: 2 | E48: 43420
B49: 8711812435554 | C49: son d avoine 400g | D49: 4 | E49: 43278
B50: 8713576008241 | C50: son de blé 250g | D50: 7 | E50: 43251

Sheet étagère N° 4
C2: Date du jour : | D2: =TODAY() -> 43683
B3: Etagère N° 4
B5: Référence | C5: Libellé | D5: Quantité | E5: Date péremption | F5: Date péremption
B6: 8711812346775 | C6: biscotte int 125g | D6: 1 | E6: néant
B7: 3268350120350 | C7: biscottes d épeautre 270g | D7: 5 | E7: 43169
B8: 4021234402336 | C8: cornflakes 375g | D8: 10 | E8: 43402
B9: 5411788021371 | C9: cornflakes s/gluten 375g | D9: 0 | E9: néant
B10: 8008698002209 | C10: crisp rolls sans gluten 150g | D10: 3 | E10: 43199
B11: 3111900350595 | C11: flakes 3chocolats 400g | D11: 9 | E11: 43335
B12: 8017977010477 | C12: Flakes épautre 375g | D12: 0 | E12: 43329
B13: 5411788047777 | C13: flakes épeautre 375g | D13: 3 | E13: néant
B14: 4021234202066 | C14: krunchy choco 375g | D14: 3 | E14: 43224
B15: 4021234201069 | C15: krunchy épeautre 375g | D15: 4 | E15: 43192
B16: 4021234201014 | C16: krunchy fruits des bois 375g | D16: 2 | E16: 43117
B17: 5425016980002 | C17: muesli 500g | D17: 8 | E17: 43364
B18: 3111900308381 | C18: muesli fruits des bois 600g | D18: 8 | E18: 43284
B19: 3111900350618 | C19: muesli superfruits 500g | D19: 13 | E19: 43263
B20: 4021234103318 | C20: muesli/quinoa 500gr | D20: 5 | E20: 43239
B21: 3396410151447 | C21: ours o choc 250g | D21: 6 | E21: 43534
B22: 3380380072512 | C22: pdf oignons 150g | D22: 1 | E22: 43371
B23: 3380380048432 | C23: pdf sarrasin avec sel 150g | D23: 5 | E23: 43462
B24: 3380380046940 | C24: pdf sarrasin sans sel 150g | D24: 8 | E24: 43462
B25: 5425038000177 | C25: petits flocons 500g | D25: 8 | E25: 43385
C31: Etagère 4 b
B32: 4005394122174 | C32: extrait de levain de seigle 30g | D32: 2 | E32: 43403
B33: 2000000000008 | C33: Farine 3 céréales 3kg | D33: 3 | E33: 43155 | F33: 43181
B34: 8711997001452 | C34: farine blanche épeautre 1kg | D34: 6 | E34: 43330
B35: 5400910110144 | C35: farine coco/s gluten500g | D35: 1 | E35: 43221
B36: 4038507005989 | C36: farine d amarante complète 500g | D36: 3 | E36: 43131
B37: 4038507005941 | C37: farine de chataignes 350g | D37: 1 | E37: 43131
B38: 8711997003081 | C38: farine de riz 500g | D38: 3 | E38: 43162
B39: 5425016981061 | C39: farine épeautre 78% 3kg | D39: -4 | E39: 43138
B40: 5425016981047 | C40: farine épeautre 87% 3kg | D40: 2 | E40: 43184
B41: 8711812993269 | C41: farine fermentante 500g | D41: 2 | E41: 43269
B42: 8711997001940 | C42: farine fermentante 1kg eko | D42: 4 | E42: 43409
B43: 5425016982082 | C43: farine froment 65% 3kg | D43: 2 | E43: 43258
B44: 5425016982068 | C44: farine froment 78% 3kg | D44: 1 | E44: 43243
B45: 5425016982044 | C45: farine froment 87% 3kg | D45: 1 | E45: néant
B46: 3556355023098 | C46: farine petit épeautre 500g | D46: 5 | E46: 43421
B47: 8711812843168 | C47: Farine pois chiches 500g | D47: 4 | E47: 43273
...

Sheet étagère N° 7
C2: Date du jour : | D2: =TODAY() -> 43683
B3: Etagère N° 7
B5: Référence | C5: Libellé | D5: Quantité | E5: Date péremption | F5: Date péremption
B6: 3283950070300 | C6: beurre de karité 100g | D6: 1 | E6: néant
B7: 5425017930211 | C7: bio drainage 100ml | D7: 2 | E7: 43038
B8: 5425017930266 | C8: bio points rouges 100ml | D8: 3 | E8: 43342
B9: 5425017930129 | C9: cr pattes d oie 30ml | D9: 2 | E9: néant
B10: 5425017930181 | C10: crème gommante 50ml | D10: 2 | E10: 43281
B11: 5425017930303 | C11: crème après soleil75ml | D11: 3 | E11: néant
B12: 4001638089654 | C12: crème jour lissante 30ml | D12: 1 | E12: 43615
B13: 602561978301 | C13: crème mains 60g | D13: 3 | E13: 43496
B14: 5425017930297 | C14: crème nuit 50ml | D14: 3 | E14: néant
B15: 4001638080262 | C15: crème nuit à l iris 30ml | D15: 3 | E15: 43585
B16: 602561889768 | C16: crème peaux matures 30g | D16: 3 | E16: 43464
B17: 602561020000 | C17: crème peaux sensibles 30g | D17: 2 | E17: 43464
B18: 602561243621 | C18: crème pieds 60g | D18: 2 | E18: 43585
B19: 5425017930174 | C19: crème raf cou 50ml | D19: 2 | E19: néant
B20: 5425017930143 | C20: crème réparatrice 75ml | D20: 3 | E20: néant
B21: 4033981742054 | C21: crème solaire SPF15 75ml | D21: 3 | E21: 43008
B22: 4033981742078 | C22: crème solaire SPF20 75ml | D22: 3 | E22: 43646
B23: 4033981742047 | C23: crème solaire SPF10 75ml | D23: 3 | E23: 43008
B24: 4033981742092 | C24: crème solaire SPF25 75ml | D24: 3 | E24: 43342
B25: 4033981742061 | C25: crème solaire SPF30 75ml | D25: 3 | E25: 43738
B26: 602561545794 | C26: démaquillant 100ml | D26: 3 | E26: 43131
B27: 4001638095723 | C27: démaquillant tonique 2en1 100ml | D27: 2 | E27: 43861
B28: 602561276926 | C28: été en famille 100ml | D28: 7 | E28: 43616
B29: 602561282644 | C29: gel huile acne 50ml | D29: -1 | E29: 43523
B30: 602561787064 | C30: gel huile beauté 50ml | D30: 4 | E30: 43464
B31: 602561231192 | C31: gel huile poitrine d enfer 50ml | D31: 3 | E31: 43523
B32: 5425017930020 | C32: huile anti rides30ml | D32: 1 | E32: néant
B33: 9115943247045 | C33: huile argan 100ml | D33: 1 | E33: néant
B34: 602561819703 | C34: huile bonne mine 50ml | D34: -2 | E34: 43523
B35: 5425017931089 | C35: huile calendula 50ml | D35: 2 | E35: 43069
B36: 5425017931027 | C36: huile d arnica 50ml | D36: 2 | E36: 43099
B37: 9074555632393 | C37: huile jojoba100ml | D37: 2 | E37: néant
B38: 5425017931102 | C38: huile millepertuis 50ml | D38: 2 | E38: 43373
B39: 602561315601 | C39: huile minceur/fermeté 100ml | D39: 4 | E39: 43220
B40: 5425017931119 | C40: huile noisette 50ml | D40: 1 | E40: néant
B41: 4001638095730 | C41: lait démaquillant 100ml | D41: 3 | E41: 43496
B42: 5425017930228 | C42: lait demaquillant 200ml | D42: 3 | E42: 43373
...

Sheet Caisses
C2: Date du jour : | D2: =TODAY() -> 43683
B3: Etagère bonbons
B5: Référence | C5: Libellé | D5: Quantité | E5: Date péremption | F5: Date péremption
B6: 9326277425423 | C6: boc 40g | D6: 1
B7: 9737928291535 | C7: confit 125g | D7: -1 | E7: 43530
B8: 9237863222398 | C8: Confits 110g | D8: 64 | E8: 43220 | F8: 43281 | G8: 43342
B9: 9674422782618 | C9: Confitures 100% fruits 210g | D9: 10 | E9: 43130
B10: 9973541782784 | C10: Confitures normales 210g | D10: 12 | E10: 43130
B11: 9157537227477 | C11: Dressing 25cl bouteille carrée | D11: 3
B12: 5430000520065 | C12: fleur de sel 25g | D12: -4 | E12: 44196
B13: 9413446924457 | C13: gelée pomme-poire safranée | D13: -2 | E13: 43434
B14: 9147891540169 | C14: Huiles 20cl | D14: 9 | E14: 43464 | F14: 43281
B15: 9028866235153 | C15: meringues safranées | D15: -7 | E15: 43159
B16: 9204374676828 | C16: Moutarde 110g | D16: 16 | E16: 43281 | F16: 43646
B17: 9654754685535 | C17: pate de fruits assort 125g | D17: 15 | E17: 43646
B18: 9424564841762 | C18: Pickels 210g | D18: 6 | E18: 43554
B19: 9216634797334 | C19: pochette de safran 0.1gr | D19: 0
B20: 9857879357794 | C20: Sauce 25 Cl | D20: 7 | E20: 43464
B21: 9408889679378 | C21: Sel | D21: 7 | E21: 43464
B22: 9227474515767 | C22: sirop de safran | D22: -6 | E22: 43177
C23: sirop d'hibiscus | E23: 43805
B24: 9992651178249 | C24: Sucettes Mix | D24: 0
B25: 9983723355835 | C25: Tapenade 110g | D25: 19 | E25: 43554 | F25: 43646
B26: 9267689366815 | C26: Vinaigre 20cl | D26: 12 | E26: 43464 | F26: 43646 | G26: 43738
B27: 9137622823531 | C27: vinaigre a l hibiscus 250ml | D27: 1 | E27: 43556
B28: 5430000520041 | C28: vinaigre balsamique hibiscus 250ml | D28: -11 | E28: 43693
B29: 9882610814724 | C29: vinaigre de cidre safrané | D29: 2
B30: 9514715427997 | C30: vinaigrette 20cl | D30: 6 | E30: 43464 | F30: 43554

Sheet étagère bonbons
C2: Date du jour : | D2: =TODAY() -> 43683
B3: Etagère bonbons
B5: Référence | C5: Libellé | D5: Quantité | E5: Date péremption | F5: Date péremption
B6: 3326104000010 | C6: argilgum | D6: 25
B7: 9646768246684 | C7: bonbon au thym 100g | D7: -35
B8: 8712514092137 | C8: bonbon s/gluten90g | D8: 5 | E8: 43460
B9: 8711542001920 | C9: candy café 75g | D9: 11 | E9: 43555
B10: 8711542001838 | C10: candy fraises 75g | D10: 11 | E10: 43555
B11: 8711542000947 | C11: candy fruits 75g | D11: 4 | E11: 43646
B12: 8711542000770 | C12: candy sucette orange 7pces | D12: 6 | E12: 43524
B13: 5413401000022 | C13: COLA 100G | D13: 15 | E13: 43356
B14: 5413401000213 | C14: FRUTTINI MIX 100G | D14: 11 | E14: 43415
B15: 4038857114010 | C15: jo frutti 80g | D15: 9 | E15: 43329
B16: 5413401000121 | C16: jo frutti 100g | D16: 7
B17: 5413401000008 | C17: OURSONS 100G | D17: 9
B18: 5413401000015 | C18: oursons bio 100g | D18: -13
B19: 5413401001098 | C19: reglisse au miel 100g | D19: 0
B20: 5413401000206 | C20: SURES TENDRES 100G | D20: -2
B21: 5413401000039 | C21: surettes 100g | D21: 19 | E21: 43570

Sheet tableau complet
B2: Date du jour : | E2: =TODAY() -> 43683
B5: Libellé | C5: Prix U | D5: date | E5: Date péremption | F5: Date péremption | G5: Fournisseur
A6: 1 | B6: abbaye villers 33cl | C6: 1.29 | D6: date | E6: néant
A7: 2 | B7: Abricots /Kg | C7: 2.95 | E7: Frais
A8: 3 | B8: Abricots confiture / Kg | C8: 2.35 | E8: Frais
A9: 4 | B9: Abricots vrac bio/kg | C9: 15.63 | D9: date | E9: 43524
A10: 5 | B10: agave sirop 250 ml | C10: 2.63 | D10: date | E10: 43897
A11: 6 | B11: Ail sec/Kg/bio | C11: 4.99 | E11: Frais

Sheet Tableau pertes
D4: PERTES
C8: Date | D8: Dénomination | E8: Quantité | F8: Prix U | G8: Prix total | H8: remarque
D9: =IF(ISNA(VLOOKUP(B9,'tableau complet'!$A$6:$C$11,2,0)),"",(VLOOKUP(B9,'tableau complet'!$A$6:$C$11,2,0))) | F9: =IF(ISNA(VLOOKUP(B9,'tableau complet'!$A$6:$C$11,3,0)),"",(VLOOKUP(B9,'tableau complet'!$A$6:$C$11,3,0))) | G9: =IF(ISERROR(E9*F9),"",E9*F9) | H9: =IF(ISNA(VLOOKUP(B9,'tableau complet'!$A$6:$D$11,4,0)),"",(VLOOKUP(B9,'tableau complet'!$A$6:$D$11,4,0)))
D10: =IF(ISNA(VLOOKUP(B10,'tableau complet'!$A$6:$C$11,2,0)),"",(VLOOKUP(B10,'tableau complet'!$A$6:$C$11,2,0))) | F10: =IF(ISNA(VLOOKUP(B10,'tableau complet'!$A$6:$C$11,3,0)),"",(VLOOKUP(B10,'tableau complet'!$A$6:$C$11,3,0))) | G10: =IF(ISERROR(E10*F10),"",E10*F10) | H10: =IF(ISNA(VLOOKUP(B10,'tableau complet'!$A$6:$D$11,4,0)),"",(VLOOKUP(B10,'tableau complet'!$A$6:$D$11,4,0)))
D11: =IF(ISNA(VLOOKUP(B11,'tableau complet'!$A$6:$C$11,2,0)),"",(VLOOKUP(B11,'tableau complet'!$A$6:$C$11,2,0))) | F11: =IF(ISNA(VLOOKUP(B11,'tableau complet'!$A$6:$C$11,3,0)),"",(VLOOKUP(B11,'tableau complet'!$A$6:$C$11,3,0))) | G11: =IF(ISERROR(E11*F11),"",E11*F11) | H11: =IF(ISNA(VLOOKUP(B11,'tableau complet'!$A$6:$D$11,4,0)),"",(VLOOKUP(B11,'tableau complet'!$A$6:$D$11,4,0)))
D12: =IF(ISNA(VLOOKUP(B12,'tableau complet'!$A$6:$C$11,2,0)),"",(VLOOKUP(B12,'tableau complet'!$A$6:$C$11,2,0))) | F12: =IF(ISNA(VLOOKUP(B12,'tableau complet'!$A$6:$C$11,3,0)),"",(VLOOKUP(B12,'tableau complet'!$A$6:$C$11,3,0))) | G12: =IF(ISERROR(E12*F12),"",E12*F12) | H12: =IF(ISNA(VLOOKUP(B12,'tableau complet'!$A$6:$D$11,4,0)),"",(VLOOKUP(B12,'tableau complet'!$A$6:$D$11,4,0)))
D13: =IF(ISNA(VLOOKUP(B13,'tableau complet'!$A$6:$C$11,2,0)),"",(VLOOKUP(B13,'tableau complet'!$A$6:$C$11,2,0))) | F13: =IF(ISNA(VLOOKUP(B13,'tableau complet'!$A$6:$C$11,3,0)),"",(VLOOKUP(B13,'tableau complet'!$A$6:$C$11,3,0))) | G13: =IF(ISERROR(E13*F13),"",E13*F13) | H13: =IF(ISNA(VLOOKUP(B13,'tableau complet'!$A$6:$D$11,4,0)),"",(VLOOKUP(B13,'tableau complet'!$A$6:$D$11,4,0)))
D14: =IF(ISNA(VLOOKUP(B14,'tableau complet'!$A$6:$C$11,2,0)),"",(VLOOKUP(B14,'tableau complet'!$A$6:$C$11,2,0))) | F14: =IF(ISNA(VLOOKUP(B14,'tableau complet'!$A$6:$C$11,3,0)),"",(VLOOKUP(B14,'tableau complet'!$A$6:$C$11,3,0))) | G14: =IF(ISERROR(E14*F14),"",E14*F14) | H14: =IF(ISNA(VLOOKUP(B14,'tableau complet'!$A$6:$D$11,4,0)),"",(VLOOKUP(B14,'tableau complet'!$A$6:$D$11,4,0)))
D15: =IF(ISNA(VLOOKUP(B15,'tableau complet'!$A$6:$C$11,2,0)),"",(VLOOKUP(B15,'tableau complet'!$A$6:$C$11,2,0))) | F15: =IF(ISNA(VLOOKUP(B15,'tableau complet'!$A$6:$C$11,3,0)),"",(VLOOKUP(B15,'tableau complet'!$A$6:$C$11,3,0))) | G15: =IF(ISERROR(E15*F15),"",E15*F15) | H15: =IF(ISNA(VLOOKUP(B15,'tableau complet'!$A$6:$D$11,4,0)),"",(VLOOKUP(B15,'tableau complet'!$A$6:$D$11,4,0)))
D16: =IF(ISNA(VLOOKUP(B16,'tableau complet'!$A$6:$C$11,2,0)),"",(VLOOKUP(B16,'tableau complet'!$A$6:$C$11,2,0))) | F16: =IF(ISNA(VLOOKUP(B16,'tableau complet'!$A$6:$C$11,3,0)),"",(VLOOKUP(B16,'tableau complet'!$A$6:$C$11,3,0))) | G16: =IF(ISERROR(E16*F16),"",E16*F16) | H16: =IF(ISNA(VLOOKUP(B16,'tableau complet'!$A$6:$D$11,4,0)),"",(VLOOKUP(B16,'tableau complet'!$A$6:$D$11,4,0)))
D17: =IF(ISNA(VLOOKUP(B17,'tableau complet'!$A$6:$C$11,2,0)),"",(VLOOKUP(B17,'tableau complet'!$A$6:$C$11,2,0))) | F17: =IF(ISNA(VLOOKUP(B17,'tableau complet'!$A$6:$C$11,3,0)),"",(VLOOKUP(B17,'tableau complet'!$A$6:$C$11,3,0))) | G17: =IF(ISERROR(E17*F17),"",E17*F17) | H17: =IF(ISNA(VLOOKUP(B17,'tableau complet'!$A$6:$D$11,4,0)),"",(VLOOKUP(B17,'tableau complet'!$A$6:$D$11,4,0)))
D18: =IF(ISNA(VLOOKUP(B18,'tableau complet'!$A$6:$C$11,2,0)),"",(VLOOKUP(B18,'tableau complet'!$A$6:$C$11,2,0))) | F18: =IF(ISNA(VLOOKUP(B18,'tableau complet'!$A$6:$C$11,3,0)),"",(VLOOKUP(B18,'tableau complet'!$A$6:$C$11,3,0))) | G18: =IF(ISERROR(E18*F18),"",E18*F18) | H18: =IF(ISNA(VLOOKUP(B18,'tableau complet'!$A$6:$D$11,4,0)),"",(VLOOKUP(B18,'tableau complet'!$A$6:$D$11,4,0)))
D19: =IF(ISNA(VLOOKUP(B19,'tableau complet'!$A$6:$C$11,2,0)),"",(VLOOKUP(B19,'tableau complet'!$A$6:$C$11,2,0))) | F19: =IF(ISNA(VLOOKUP(B19,'tableau complet'!$A$6:$C$11,3,0)),"",(VLOOKUP(B19,'tableau complet'!$A$6:$C$11,3,0))) | G19: =IF(ISERROR(E19*F19),"",E19*F19) | H19: =IF(ISNA(VLOOKUP(B19,'tableau complet'!$A$6:$D$11,4,0)),"",(VLOOKUP(B19,'tableau complet'!$A$6:$D$11,4,0)))
D20: =IF(ISNA(VLOOKUP(B20,'tableau complet'!$A$6:$C$11,2,0)),"",(VLOOKUP(B20,'tableau complet'!$A$6:$C$11,2,0))) | F20: =IF(ISNA(VLOOKUP(B20,'tableau complet'!$A$6:$C$11,3,0)),"",(VLOOKUP(B20,'tableau complet'!$A$6:$C$11,3,0))) | G20: =IF(ISERROR(E20*F20),"",E20*F20) | H20: =IF(ISNA(VLOOKUP(B20,'tableau complet'!$A$6:$D$11,4,0)),"",(VLOOKUP(B20,'tableau complet'!$A$6:$D$11,4,0)))
... D46: =IF(ISNA(VLOOKUP(B46,'tableau complet'!$A$6:$C$11,2,0)),"",(VLOOKUP(B46,'tableau complet'!$A$6:$C$11,2,0))) | F46: =IF(ISNA(VLOOKUP(B46,'tableau complet'!$A$6:$C$11,3,0)),"",(VLOOKUP(B46,'tableau complet'!$A$6:$C$11,3,0))) | G46: =IF(ISERROR(E46*F46),"",E46*F46) | H46: =IF(ISNA(VLOOKUP(B46,'tableau complet'!$A$6:$D$11,4,0)),"",(VLOOKUP(B46,'tableau complet'!$A$6:$D$11,4,0)))
C47: Total des pertes | G47: =SUM(G9:G46) -> 0
