Workbook

Sheet Feuil1
B1: Boisson | D1: P.Laitiers | F1: Mets Composés | H1: Soupes | J1: Dess-Grignot. | L1: Lég-Fruits | N1: P.Céréaliers | P1: Viandes | R1: Divers | T1: MG | V1: Resto
A2: =IF([1]Boissons!C4>=1,[1]Boissons!C4," ") | B2: =IF([1]Boissons!C4>=1,[1]Boissons!A4," ") | C2: =IF('[1]P. Laitiers'!C4>=1,'[1]P. Laitiers'!C4," ") | D2: =IF('[1]P. Laitiers'!C4>=1,'[1]P. Laitiers'!A4," ") | E2: =IF('[1]Mets c.'!C4>=1,'[1]Mets c.'!C4," ") | F2: =IF('[1]Mets c.'!C4>=1,'[1]Mets c.'!A4," ") | G2: =IF([1]Soupes!C4>=1,[1]Soupes!C4," ") | H2: =IF([1]Soupes!C4>=1,[1]Soupes!A4," ") | I2: =IF('[1]Dess-Grignot'!C4>=1,'[1]Dess-Grignot'!C4," ") | J2: =IF('[1]Dess-Grignot'!C4>=1,'[1]Dess-Grignot'!A4," ") | K2: =IF('[1]Lég-Fruits'!C4>=1,'[1]Lég-Fruits'!C4," ") | L2: =IF('[1]Lég-Fruits'!C4>=1,'[1]Lég-Fruits'!A4," ") | M2: =IF([1]P.Céréaliers!C4>=1,[1]P.Céréaliers!C4," ") | N2: =IF([1]P.Céréaliers!C4>=1,[1]P.Céréaliers!A4," ") | O2: =IF([1]Viandes!C4>=1,[1]Viandes!C4," ") | P2: =IF([1]Viandes!C4>=1,[1]Viandes!A4," ") | Q2: =IF([1]Divers!C4>=1,[1]Divers!C4," ") | R2: =IF([1]Divers!C4>=1,[1]Divers!A4," ") | S2: =IF([1]MG!C4>=1,[1]MG!C4," ") | T2: =IF([1]MG!C4>=1,[1]MG!A4," ") | U2: =IF([1]Resto!C4>=1,[1]Resto!C4," ") | V2: =IF([1]Resto!C4,[1]Resto!A4," ")
A3: =IF([1]Boissons!C5>=1,[1]Boissons!C5," ") | B3: =IF([1]Boissons!C5>=1,[1]Boissons!A5," ") | C3: =IF('[1]P. Laitiers'!C5>=1,'[1]P. Laitiers'!C5," ") | D3: =IF('[1]P. Laitiers'!C5>=1,'[1]P. Laitiers'!A5," ") | E3: =IF('[1]Mets c.'!C5>=1,'[1]Mets c.'!C5," ") | F3: =IF('[1]Mets c.'!C5>=1,'[1]Mets c.'!A5," ") | G3: =IF([1]Soupes!C5>=1,[1]Soupes!C5," ") | H3: =IF([1]Soupes!C5>=1,[1]Soupes!A5," ") | I3: =IF('[1]Dess-Grignot'!C5>=1,'[1]Dess-Grignot'!C5," ") | J3: =IF('[1]Dess-Grignot'!C5>=1,'[1]Dess-Grignot'!A5," ") | K3: =IF('[1]Lég-Fruits'!C5>=1,'[1]Lég-Fruits'!C5," ") | L3: =IF('[1]Lég-Fruits'!C5>=1,'[1]Lég-Fruits'!A5," ") | M3: =IF([1]P.Céréaliers!C5>=1,[1]P.Céréaliers!C5," ") | N3: =IF([1]P.Céréaliers!C5>=1,[1]P.Céréaliers!A5," ") | O3: =IF([1]Viandes!C5>=1,[1]Viandes!C5," ") | P3: =IF([1]Viandes!C5>=1,[1]Viandes!A5," ") | Q3: =IF([1]Divers!C5>=1,[1]Divers!C5," ") | R3: =IF([1]Divers!C5>=1,[1]Divers!A5," ") | S3: =IF([1]MG!C5>=1,[1]MG!C5," ") | T3: =IF([1]MG!C5>=1,[1]MG!A5," ") | U3: =IF([1]Resto!C5>=1,[1]Resto!C5," ") | V3: =IF([1]Resto!C5,[1]Resto!A5," ")
A4: =IF([1]Boissons!C6>=1,[1]Boissons!C6," ") | B4: =IF([1]Boissons!C6>=1,[1]Boissons!A6," ") | C4: =IF('[1]P. Laitiers'!C6>=1,'[1]P. Laitiers'!C6," ") -> 1 | D4: =IF('[1]P. Laitiers'!C6>=1,'[1]P. Laitiers'!A6," ") -> Camembert | E4: =IF('[1]Mets c.'!C6>=1,'[1]Mets c.'!C6," ") | F4: =IF('[1]Mets c.'!C6>=1,'[1]Mets c.'!A6," ") | G4: =IF([1]Soupes!C6>=1,[1]Soupes!C6," ") | H4: =IF([1]Soupes!C6>=1,[1]Soupes!A6," ") | I4: =IF('[1]Dess-Grignot'!C6>=1,'[1]Dess-Grignot'!C6," ") | J4: =IF('[1]Dess-Grignot'!C6>=1,'[1]Dess-Grignot'!A6," ") | K4: =IF('[1]Lég-Fruits'!C6>=1,'[1]Lég-Fruits'!C6," ") | L4: =IF('[1]Lég-Fruits'!C6>=1,'[1]Lég-Fruits'!A6," ") | M4: =IF([1]P.Céréaliers!C6>=1,[1]P.Céréaliers!C6," ") | N4: =IF([1]P.Céréaliers!C6>=1,[1]P.Céréaliers!A6," ") | O4: =IF([1]Viandes!C6>=1,[1]Viandes!C6," ") | P4: =IF([1]Viandes!C6>=1,[1]Viandes!A6," ") | Q4: =IF([1]Divers!C6>=1,[1]Divers!C6," ") | R4: =IF([1]Divers!C6>=1,[1]Divers!A6," ") | S4: =IF([1]MG!C6>=1,[1]MG!C6," ") | T4: =IF([1]MG!C6>=1,[1]MG!A6," ") | U4: =IF([1]Resto!C6>=1,[1]Resto!C6," ") | V4: =IF([1]Resto!C6,[1]Resto!A6," ")
A5: =IF([1]Boissons!C7>=1,[1]Boissons!C7," ") -> 2 | B5: =IF([1]Boissons!C7>=1,[1]Boissons!A7," ") -> Thé glacé, saveur de citron, prêt-à-boire | C5: =IF('[1]P. Laitiers'!C7>=1,'[1]P. Laitiers'!C7," ") | D5: =IF('[1]P. Laitiers'!C7>=1,'[1]P. Laitiers'!A7," ") | E5: =IF('[1]Mets c.'!C7>=1,'[1]Mets c.'!C7," ") | F5: =IF('[1]Mets c.'!C7>=1,'[1]Mets c.'!A7," ") | G5: =IF([1]Soupes!C7>=1,[1]Soupes!C7," ") | H5: =IF([1]Soupes!C7>=1,[1]Soupes!A7," ") | I5: =IF('[1]Dess-Grignot'!C7>=1,'[1]Dess-Grignot'!C7," ") | J5: =IF('[1]Dess-Grignot'!C7>=1,'[1]Dess-Grignot'!A7," ") | K5: =IF('[1]Lég-Fruits'!C7>=1,'[1]Lég-Fruits'!C7," ") | L5: =IF('[1]Lég-Fruits'!C7>=1,'[1]Lég-Fruits'!A7," ") | M5: =IF([1]P.Céréaliers!C7>=1,[1]P.Céréaliers!C7," ") | N5: =IF([1]P.Céréaliers!C7>=1,[1]P.Céréaliers!A7," ") | O5: =IF([1]Viandes!C7>=1,[1]Viandes!C7," ") | P5: =IF([1]Viandes!C7>=1,[1]Viandes!A7," ") | Q5: =IF([1]Divers!C7>=1,[1]Divers!C7," ") | R5: =IF([1]Divers!C7>=1,[1]Divers!A7," ") | S5: =IF([1]MG!C7>=1,[1]MG!C7," ") | T5: =IF([1]MG!C7>=1,[1]MG!A7," ") | U5: =IF([1]Resto!C7>=1,[1]Resto!C7," ") | V5: =IF([1]Resto!C7,[1]Resto!A7," ")
A6: =IF([1]Boissons!C8>=1,[1]Boissons!C8," ") | B6: =IF([1]Boissons!C8>=1,[1]Boissons!A8," ") | C6: =IF('[1]P. Laitiers'!C8>=1,'[1]P. Laitiers'!C8," ") | D6: =IF('[1]P. Laitiers'!C8>=1,'[1]P. Laitiers'!A8," ") | E6: =IF('[1]Mets c.'!C8>=1,'[1]Mets c.'!C8," ") | F6: =IF('[1]Mets c.'!C8>=1,'[1]Mets c.'!A8," ") | G6: =IF([1]Soupes!C8>=1,[1]Soupes!C8," ") | H6: =IF([1]Soupes!C8>=1,[1]Soupes!A8," ") | I6: =IF('[1]Dess-Grignot'!C8>=1,'[1]Dess-Grignot'!C8," ") -> 3 | J6: =IF('[1]Dess-Grignot'!C8>=1,'[1]Dess-Grignot'!A8," ") -> Biscuit à l’avoine, avec raisins secs, commercial | K6: =IF('[1]Lég-Fruits'!C8>=1,'[1]Lég-Fruits'!C8," ") -> 1 | L6: =IF('[1]Lég-Fruits'!C8>=1,'[1]Lég-Fruits'!A8," ") -> Carottes crues | M6: =IF([1]P.Céréaliers!C8>=1,[1]P.Céréaliers!C8," ") | N6: =IF([1]P.Céréaliers!C8>=1,[1]P.Céréaliers!A8," ") | O6: =IF([1]Viandes!C8>=1,[1]Viandes!C8," ") | P6: =IF([1]Viandes!C8>=1,[1]Viandes!A8," ") | Q6: =IF([1]Divers!C8>=1,[1]Divers!C8," ") | R6: =IF([1]Divers!C8>=1,[1]Divers!A8," ") | S6: =IF([1]MG!C8>=1,[1]MG!C8," ") | T6: =IF([1]MG!C8>=1,[1]MG!A8," ") | U6: =IF([1]Resto!C8>=1,[1]Resto!C8," ") | V6: =IF([1]Resto!C8,[1]Resto!A8," ")
A7: =IF([1]Boissons!C9>=1,[1]Boissons!C9," ") | B7: =IF([1]Boissons!C9>=1,[1]Boissons!A9," ") | C7: =IF('[1]P. Laitiers'!C9>=1,'[1]P. Laitiers'!C9," ") | D7: =IF('[1]P. Laitiers'!C9>=1,'[1]P. Laitiers'!A9," ") | E7: =IF('[1]Mets c.'!C9>=1,'[1]Mets c.'!C9," ") | F7: =IF('[1]Mets c.'!C9>=1,'[1]Mets c.'!A9," ") | G7: =IF([1]Soupes!C9>=1,[1]Soupes!C9," ") | H7: =IF([1]Soupes!C9>=1,[1]Soupes!A9," ") | I7: =IF('[1]Dess-Grignot'!C9>=1,'[1]Dess-Grignot'!C9," ") | J7: =IF('[1]Dess-Grignot'!C9>=1,'[1]Dess-Grignot'!A9," ") | K7: =IF('[1]Lég-Fruits'!C9>=1,'[1]Lég-Fruits'!C9," ") | L7: =IF('[1]Lég-Fruits'!C9>=1,'[1]Lég-Fruits'!A9," ") | M7: =IF([1]P.Céréaliers!C9>=1,[1]P.Céréaliers!C9," ") | N7: =IF([1]P.Céréaliers!C9>=1,[1]P.Céréaliers!A9," ") | O7: =IF([1]Viandes!C9>=1,[1]Viandes!C9," ") | P7: =IF([1]Viandes!C9>=1,[1]Viandes!A9," ") | Q7: =IF([1]Divers!C9>=1,[1]Divers!C9," ") | R7: =IF([1]Divers!C9>=1,[1]Divers!A9," ") | S7: =IF([1]MG!C9>=1,[1]MG!C9," ") | T7: =IF([1]MG!C9>=1,[1]MG!A9," ") | U7: =IF([1]Resto!C9>=1,[1]Resto!C9," ") | V7: =IF([1]Resto!C9,[1]Resto!A9," ")
A8: =IF([1]Boissons!C10>=1,[1]Boissons!C10," ") | B8: =IF([1]Boissons!C10>=1,[1]Boissons!A10," ") | C8: =IF('[1]P. Laitiers'!C10>=1,'[1]P. Laitiers'!C10," ") | D8: =IF('[1]P. Laitiers'!C10>=1,'[1]P. Laitiers'!A10," ") | E8: =IF('[1]Mets c.'!C10>=1,'[1]Mets c.'!C10," ") | F8: =IF('[1]Mets c.'!C10>=1,'[1]Mets c.'!A10," ") | G8: =IF([1]Soupes!C10>=1,[1]Soupes!C10," ") | H8: =IF([1]Soupes!C10>=1,[1]Soupes!A10," ") | I8: =IF('[1]Dess-Grignot'!C10>=1,'[1]Dess-Grignot'!C10," ") | J8: =IF('[1]Dess-Grignot'!C10>=1,'[1]Dess-Grignot'!A10," ") | K8: =IF('[1]Lég-Fruits'!C10>=1,'[1]Lég-Fruits'!C10," ") | L8: =IF('[1]Lég-Fruits'!C10>=1,'[1]Lég-Fruits'!A10," ") | M8: =IF([1]P.Céréaliers!C101,[1]P.Céréaliers!C10," ") | N8: =IF([1]P.Céréaliers!C10>=1,[1]P.Céréaliers!A10," ") | O8: =IF([1]Viandes!C10>=1,[1]Viandes!C10," ") | P8: =IF([1]Viandes!C10>=1,[1]Viandes!A10," ") | Q8: =IF([1]Divers!C10>=1,[1]Divers!C10," ") | R8: =IF([1]Divers!C10>=1,[1]Divers!A10," ") | S8: =IF([1]MG!C10>=1,[1]MG!C10," ") | T8: =IF([1]MG!C10>=1,[1]MG!A10," ") | U8: =IF([1]Resto!C10>=1,[1]Resto!C10," ") | V8: =IF([1]Resto!C10,[1]Resto!A10," ")
A9: =IF([1]Boissons!C11>=1,[1]Boissons!C11," ") | B9: =IF([1]Boissons!C11>=1,[1]Boissons!A11," ") | C9: =IF('[1]P. Laitiers'!C11>=1,'[1]P. Laitiers'!C11," ") | D9: =IF('[1]P. Laitiers'!C11>=1,'[1]P. Laitiers'!A11," ") | E9: =IF('[1]Mets c.'!C11>=1,'[1]Mets c.'!C11," ") -> 1 | F9: =IF('[1]Mets c.'!C11>=1,'[1]Mets c.'!A11," ") -> Salade césar avec poulet (maison) | G9: =IF([1]Soupes!C11>=1,[1]Soupes!C11," ") | H9: =IF([1]Soupes!C11>=1,[1]Soupes!A11," ") | I9: =IF('[1]Dess-Grignot'!C11>=1,'[1]Dess-Grignot'!C11," ") | J9: =IF('[1]Dess-Grignot'!C11>=1,'[1]Dess-Grignot'!A11," ") | K9: =IF('[1]Lég-Fruits'!C11>=1,'[1]Lég-Fruits'!C11," ") -> 1 | L9: =IF('[1]Lég-Fruits'!C11>=1,'[1]Lég-Fruits'!A11," ") -> Carottes bouililes, égouttées | M9: =IF([1]P.Céréaliers!C111,[1]P.Céréaliers!C11," ") | N9: =IF([1]P.Céréaliers!C11>=1,[1]P.Céréaliers!A11," ") | O9: =IF([1]Viandes!C11>=1,[1]Viandes!C11," ") | P9: =IF([1]Viandes!C11>=1,[1]Viandes!A11," ") | Q9: =IF([1]Divers!C11>=1,[1]Divers!C11," ") | R9: =IF([1]Divers!C11>=1,[1]Divers!A11," ") | S9: =IF([1]MG!C11>=1,[1]MG!C11," ") | T9: =IF([1]MG!C11>=1,[1]MG!A11," ") | U9: =IF([1]Resto!C11>=1,[1]Resto!C11," ") | V9: =IF([1]Resto!C11,[1]Resto!A11," ")
A10: =IF([1]Boissons!C12>=1,[1]Boissons!C12," ") | B10: =IF([1]Boissons!C12>=1,[1]Boissons!A12," ") | C10: =IF('[1]P. Laitiers'!C12>=1,'[1]P. Laitiers'!C12," ") | D10: =IF('[1]P. Laitiers'!C12>=1,'[1]P. Laitiers'!A12," ") | E10: =IF('[1]Mets c.'!C12>=1,'[1]Mets c.'!C12," ") | F10: =IF('[1]Mets c.'!C12>=1,'[1]Mets c.'!A12," ") | G10: =IF([1]Soupes!C12>=1,[1]Soupes!C12," ") -> 2 | H10: =IF([1]Soupes!C12>=1,[1]Soupes!A12," ") -> Soupe poulet et nouilles maison | I10: =IF('[1]Dess-Grignot'!C12>=1,'[1]Dess-Grignot'!C12," ") | J10: =IF('[1]Dess-Grignot'!C12>=1,'[1]Dess-Grignot'!A12," ") | K10: =IF('[1]Lég-Fruits'!C12>=1,'[1]Lég-Fruits'!C12," ") | L10: =IF('[1]Lég-Fruits'!C12>=1,'[1]Lég-Fruits'!A12," ") | M10: =IF([1]P.Céréaliers!C12>=1,[1]P.Céréaliers!C12," ") | N10: =IF([1]P.Céréaliers!C12>=1,[1]P.Céréaliers!A12," ") | O10: =IF([1]Viandes!C12>=1,[1]Viandes!C12," ") | P10: =IF([1]Viandes!C12>=1,[1]Viandes!A12," ") | Q10: =IF([1]Divers!C12>=1,[1]Divers!C12," ") | R10: =IF([1]Divers!C12>=1,[1]Divers!A12," ") | S10: =IF([1]MG!C12>=1,[1]MG!C12," ") | T10: =IF([1]MG!C12>=1,[1]MG!A12," ") | U10: =IF([1]Resto!C12>=1,[1]Resto!C12," ") | V10: =IF([1]Resto!C12,[1]Resto!A12," ")
A11: =IF([1]Boissons!C13>=1,[1]Boissons!C13," ") | B11: =IF([1]Boissons!C13>=1,[1]Boissons!A13," ") | C11: =IF('[1]P. Laitiers'!C13>=1,'[1]P. Laitiers'!C13," ") | D11: =IF('[1]P. Laitiers'!C13>=1,'[1]P. Laitiers'!A13," ") | E11: =IF('[1]Mets c.'!C13>=1,'[1]Mets c.'!C13," ") | F11: =IF('[1]Mets c.'!C13>=1,'[1]Mets c.'!A13," ") | G11: =IF([1]Soupes!C13>=1,[1]Soupes!C13," ") | H11: =IF([1]Soupes!C13>=1,[1]Soupes!A13," ") | I11: =IF('[1]Dess-Grignot'!C13>=1,'[1]Dess-Grignot'!C13," ") | J11: =IF('[1]Dess-Grignot'!C13>=1,'[1]Dess-Grignot'!A13," ") | K11: =IF('[1]Lég-Fruits'!C13>=1,'[1]Lég-Fruits'!C13," ") | L11: =IF('[1]Lég-Fruits'!C13>=1,'[1]Lég-Fruits'!A13," ") | M11: =IF([1]P.Céréaliers!C13>=1,[1]P.Céréaliers!C13," ") | N11: =IF([1]P.Céréaliers!C13>=1,[1]P.Céréaliers!A13," ") | O11: =IF([1]Viandes!C13>=1,[1]Viandes!C13," ") | P11: =IF([1]Viandes!C13>=1,[1]Viandes!A13," ") | Q11: =IF([1]Divers!C13>=1,[1]Divers!C13," ") | R11: =IF([1]Divers!C13>=1,[1]Divers!A13," ") | S11: =IF([1]MG!C13>=1,[1]MG!C13," ") | T11: =IF([1]MG!C13>=1,[1]MG!A13," ") | U11: =IF([1]Resto!C13>=1,[1]Resto!C13," ") | V11: =IF([1]Resto!C13,[1]Resto!A13," ")
A12: =IF([1]Boissons!C14>=1,[1]Boissons!C14," ") | B12: =IF([1]Boissons!C14>=1,[1]Boissons!A14," ") | C12: =IF('[1]P. Laitiers'!C14>=1,'[1]P. Laitiers'!C14," ") | D12: =IF('[1]P. Laitiers'!C14>=1,'[1]P. Laitiers'!A14," ") | E12: =IF('[1]Mets c.'!C14>=1,'[1]Mets c.'!C14," ") | F12: =IF('[1]Mets c.'!C14>=1,'[1]Mets c.'!A14," ") | G12: =IF([1]Soupes!C14>=1,[1]Soupes!C14," ") | H12: =IF([1]Soupes!C14>=1,[1]Soupes!A14," ") | I12: =IF('[1]Dess-Grignot'!C14>=1,'[1]Dess-Grignot'!C14," ") | J12: =IF('[1]Dess-Grignot'!C14>=1,'[1]Dess-Grignot'!A14," ") | K12: =IF('[1]Lég-Fruits'!C14>=1,'[1]Lég-Fruits'!C14," ") | L12: =IF('[1]Lég-Fruits'!C14>=1,'[1]Lég-Fruits'!A14," ") | M12: =IF([1]P.Céréaliers!C14>=1,[1]P.Céréaliers!C14," ") | N12: =IF([1]P.Céréaliers!C14>=1,[1]P.Céréaliers!A14," ") | O12: =IF([1]Viandes!C14>=1,[1]Viandes!C14," ") | P12: =IF([1]Viandes!C14>=1,[1]Viandes!A14," ") | Q12: =IF([1]Divers!C14>=1,[1]Divers!C14," ") | R12: =IF([1]Divers!C14>=1,[1]Divers!A14," ") | S12: =IF([1]MG!C14>=1,[1]MG!C14," ") | T12: =IF([1]MG!C14>=1,[1]MG!A14," ") | U12: =IF([1]Resto!C14>=1,[1]Resto!C14," ") | V12: =IF([1]Resto!C14,[1]Resto!A14," ")
A13: =IF([1]Boissons!C15>=1,[1]Boissons!C15," ") | B13: =IF([1]Boissons!C15>=1,[1]Boissons!A15," ") | C13: =IF('[1]P. Laitiers'!C15>=1,'[1]P. Laitiers'!C15," ") | D13: =IF('[1]P. Laitiers'!C15>=1,'[1]P. Laitiers'!A15," ") | E13: =IF('[1]Mets c.'!C15>=1,'[1]Mets c.'!C15," ") | F13: =IF('[1]Mets c.'!C15>=1,'[1]Mets c.'!A15," ") | G13: =IF([1]Soupes!C17>=1,[1]Soupes!C17," ") | H13: =IF([1]Soupes!C17>=1,[1]Soupes!A16," ") | I13: =IF('[1]Dess-Grignot'!C15>=1,'[1]Dess-Grignot'!C15," ") | J13: =IF('[1]Dess-Grignot'!C15>=1,'[1]Dess-Grignot'!A15," ") | K13: =IF('[1]Lég-Fruits'!C15>=1,'[1]Lég-Fruits'!C15," ") | L13: =IF('[1]Lég-Fruits'!C15>=1,'[1]Lég-Fruits'!A15," ") | M13: =IF([1]P.Céréaliers!C15>=1,[1]P.Céréaliers!C15," ") | N13: =IF([1]P.Céréaliers!C15>=1,[1]P.Céréaliers!A15," ") | O13: =IF([1]Viandes!C15>=1,[1]Viandes!C15," ") | P13: =IF([1]Viandes!C15>=1,[1]Viandes!A15," ") | Q13: =IF([1]Divers!C15>=1,[1]Divers!C15," ") | R13: =IF([1]Divers!C15>=1,[1]Divers!A15," ") | S13: =IF([1]MG!C15>=1,[1]MG!C15," ") | T13: =IF([1]MG!C15>=1,[1]MG!A15," ") | U13: =IF([1]Resto!C15>=1,[1]Resto!C15," ") | V13: =IF([1]Resto!C15,[1]Resto!A15," ")
A14: =IF([1]Boissons!C16>=1,[1]Boissons!C16," ") | B14: =IF([1]Boissons!C16>=1,[1]Boissons!A16," ") | C14: =IF('[1]P. Laitiers'!C16>=1,'[1]P. Laitiers'!C16," ") | D14: =IF('[1]P. Laitiers'!C16>=1,'[1]P. Laitiers'!A16," ") | E14: =IF('[1]Mets c.'!C16>=1,'[1]Mets c.'!C16," ") | F14: =IF('[1]Mets c.'!C16>=1,'[1]Mets c.'!A16," ") | G14: =IF([1]Soupes!C18>=1,[1]Soupes!C18," ") | H14: =IF([1]Soupes!C18>=1,[1]Soupes!A18," ") | I14: =IF('[1]Dess-Grignot'!C16>=1,'[1]Dess-Grignot'!C16," ") | J14: =IF('[1]Dess-Grignot'!C16>=1,'[1]Dess-Grignot'!A16," ") | K14: =IF('[1]Lég-Fruits'!C16>=1,'[1]Lég-Fruits'!C16," ") | L14: =IF('[1]Lég-Fruits'!C16>=1,'[1]Lég-Fruits'!A16," ") | M14: =IF([1]P.Céréaliers!C16>=1,[1]P.Céréaliers!C16," ") | N14: =IF([1]P.Céréaliers!C16>=1,[1]P.Céréaliers!A16," ") | O14: =IF([1]Viandes!C16>=1,[1]Viandes!C16," ") | P14: =IF([1]Viandes!C16>=1,[1]Viandes!A16," ") | Q14: =IF([1]Divers!C16>=1,[1]Divers!C16," ") | R14: =IF([1]Divers!C16>=1,[1]Divers!A16," ") | S14: =IF([1]MG!C16>=1,[1]MG!C16," ") | T14: =IF([1]MG!C16>=1,[1]MG!A16," ") | U14: =IF([1]Resto!C16>=1,[1]Resto!C16," ") | V14: =IF([1]Resto!C16,[1]Resto!A16," ")
A15: =IF([1]Boissons!C17>=1,[1]Boissons!C17," ") | B15: =IF([1]Boissons!C17>=1,[1]Boissons!A17," ") | C15: =IF('[1]P. Laitiers'!C17>=1,'[1]P. Laitiers'!C17," ") | D15: =IF('[1]P. Laitiers'!C17>=1,'[1]P. Laitiers'!A17," ") | E15: =IF('[1]Mets c.'!C17>=1,'[1]Mets c.'!C17," ") | F15: =IF('[1]Mets c.'!C17>=1,'[1]Mets c.'!A17," ") | G15: =IF([1]Soupes!C19>=1,[1]Soupes!C19," ") | H15: =IF([1]Soupes!C19>=1,[1]Soupes!A19," ") | I15: =IF('[1]Dess-Grignot'!C17>=1,'[1]Dess-Grignot'!C17," ") | J15: =IF('[1]Dess-Grignot'!C17>=1,'[1]Dess-Grignot'!A17," ") | K15: =IF('[1]Lég-Fruits'!C17>=1,'[1]Lég-Fruits'!C17," ") | L15: =IF('[1]Lég-Fruits'!C17>=1,'[1]Lég-Fruits'!A17," ") | M15: =IF([1]P.Céréaliers!C17>=1,[1]P.Céréaliers!C17," ") | N15: =IF([1]P.Céréaliers!C17>=1,[1]P.Céréaliers!A17," ") | O15: =IF([1]Viandes!C17>=1,[1]Viandes!C17," ") | P15: =IF([1]Viandes!C17>=1,[1]Viandes!A17," ") | Q15: =IF([1]Divers!C17>=1,[1]Divers!C17," ") | R15: =IF([1]Divers!C17>=1,[1]Divers!A17," ") | S15: =IF([1]MG!C17>=1,[1]MG!C17," ") | T15: =IF([1]MG!C17>=1,[1]MG!A17," ") | U15: =IF([1]Resto!C17>=1,[1]Resto!C17," ") | V15: =IF([1]Resto!C17,[1]Resto!A17," ")
A16: =IF([1]Boissons!C18>=1,[1]Boissons!C18," ") | B16: =IF([1]Boissons!C18>=1,[1]Boissons!A18," ") | C16: =IF('[1]P. Laitiers'!C18>=1,'[1]P. Laitiers'!C18," ") | D16: =IF('[1]P. Laitiers'!C18>=1,'[1]P. Laitiers'!A18," ") | E16: =IF('[1]Mets c.'!C18>=1,'[1]Mets c.'!C18," ") | F16: =IF('[1]Mets c.'!C18>=1,'[1]Mets c.'!A18," ") | G16: =IF([1]Soupes!C20>=1,[1]Soupes!C20," ") | H16: =IF([1]Soupes!C20>=1,[1]Soupes!A20," ") | I16: =IF('[1]Dess-Grignot'!C18>=1,'[1]Dess-Grignot'!C18," ") | J16: =IF('[1]Dess-Grignot'!C18>=1,'[1]Dess-Grignot'!A18," ") | K16: =IF('[1]Lég-Fruits'!C18>=1,'[1]Lég-Fruits'!C18," ") | L16: =IF('[1]Lég-Fruits'!C18>=1,'[1]Lég-Fruits'!A18," ") | M16: =IF([1]P.Céréaliers!C18>=1,[1]P.Céréaliers!C18," ") | N16: =IF([1]P.Céréaliers!C18>=1,[1]P.Céréaliers!A18," ") | O16: =IF([1]Viandes!C18>=1,[1]Viandes!C18," ") | P16: =IF([1]Viandes!C18>=1,[1]Viandes!A18," ") | Q16: =IF([1]Divers!C18>=1,[1]Divers!C18," ") | R16: =IF([1]Divers!C18>=1,[1]Divers!A18," ") | S16: =IF([1]MG!C18>=1,[1]MG!C18," ") | T16: =IF([1]MG!C18>=1,[1]MG!A18," ") | U16: =IF([1]Resto!C18>=1,[1]Resto!C18," ") | V16: =IF([1]Resto!C18,[1]Resto!A18," ")
A17: =IF([1]Boissons!C19>=1,[1]Boissons!C19," ") | B17: =IF([1]Boissons!C19>=1,[1]Boissons!A19," ") | C17: =IF('[1]P. Laitiers'!C19>=1,'[1]P. Laitiers'!C19," ") | D17: =IF('[1]P. Laitiers'!C19>=1,'[1]P. Laitiers'!A19," ") | E17: =IF('[1]Mets c.'!C19>=1,'[1]Mets c.'!C19," ") | F17: =IF('[1]Mets c.'!C19>=1,'[1]Mets c.'!A19," ") | G17: =IF([1]Soupes!C21>=1,[1]Soupes!C21," ") | H17: =IF([1]Soupes!C21>=1,[1]Soupes!A21," ") | I17: =IF('[1]Dess-Grignot'!C19>=1,'[1]Dess-Grignot'!C19," ") | J17: =IF('[1]Dess-Grignot'!C19>=1,'[1]Dess-Grignot'!A19," ") | K17: =IF('[1]Lég-Fruits'!C19>=1,'[1]Lég-Fruits'!C19," ") | L17: =IF('[1]Lég-Fruits'!C19>=1,'[1]Lég-Fruits'!A19," ") | M17: =IF([1]P.Céréaliers!C19>=1,[1]P.Céréaliers!C19," ") | N17: =IF([1]P.Céréaliers!C19>=1,[1]P.Céréaliers!A19," ") | O17: =IF(,[1]Viandes!C19," ") | P17: =IF([1]Viandes!C19>=1,[1]Viandes!A19," ") | Q17: =IF([1]Divers!C19>=1,[1]Divers!C19," ") | R17: =IF([1]Divers!C19>=1,[1]Divers!A19," ") | S17: =IF([1]MG!C19>=1,[1]MG!C19," ") | T17: =IF([1]MG!C19>=1,[1]MG!A19," ") | U17: =IF([1]Resto!C19>=1,[1]Resto!C19," ") | V17: =IF([1]Resto!C19,[1]Resto!A19," ")
A18: =IF([1]Boissons!C20>=1,[1]Boissons!C20," ") | B18: =IF([1]Boissons!C20>=1,[1]Boissons!A20," ") | C18: =IF('[1]P. Laitiers'!C20>=1,'[1]P. Laitiers'!C20," ") | D18: =IF('[1]P. Laitiers'!C20>=1,'[1]P. Laitiers'!A20," ") | E18: =IF('[1]Mets c.'!C20>=1,'[1]Mets c.'!C20," ") | F18: =IF('[1]Mets c.'!C20>=1,'[1]Mets c.'!A20," ") | G18: =IF([1]Soupes!C22>=1,[1]Soupes!C22," ") | H18: =IF([1]Soupes!C22>=1,[1]Soupes!A22," ") | I18: =IF('[1]Dess-Grignot'!C20>=1,'[1]Dess-Grignot'!C20," ") | J18: =IF('[1]Dess-Grignot'!C20>=1,'[1]Dess-Grignot'!A20," ") | K18: =IF('[1]Lég-Fruits'!C20>=1,'[1]Lég-Fruits'!C20," ") | L18: =IF('[1]Lég-Fruits'!C20>=1,'[1]Lég-Fruits'!A20," ") | M18: =IF([1]P.Céréaliers!C20>=1,[1]P.Céréaliers!C20," ") | N18: =IF([1]P.Céréaliers!C20>=1,[1]P.Céréaliers!A20," ") | O18: =IF([1]Viandes!C20>=1,[1]Viandes!C20," ") | P18: =IF([1]Viandes!C20>=1,[1]Viandes!A20," ") | Q18: =IF([1]Divers!C20>=1,[1]Divers!C20," ") | R18: =IF([1]Divers!C20>=1,[1]Divers!A20," ") | S18: =IF([1]MG!C20>=1,[1]MG!C20," ") | T18: =IF([1]MG!C20>=1,[1]MG!A20," ") | U18: =IF([1]Resto!C20>=1,[1]Resto!C20," ") | V18: =IF([1]Resto!C20,[1]Resto!A20," ")
A19: =IF([1]Boissons!C21>=1,[1]Boissons!C21," ") | B19: =IF([1]Boissons!C21>=1,[1]Boissons!A21," ") | C19: =IF('[1]P. Laitiers'!C21>=1,'[1]P. Laitiers'!C21," ") | D19: =IF('[1]P. Laitiers'!C21>=1,'[1]P. Laitiers'!A21," ") | E19: =IF('[1]Mets c.'!C21>=1,'[1]Mets c.'!C21," ") | F19: =IF('[1]Mets c.'!C21>=1,'[1]Mets c.'!A21," ") | G19: =IF([1]Soupes!C23>=1,[1]Soupes!C23," ") | H19: =IF([1]Soupes!C23>=1,[1]Soupes!A23," ") | I19: =IF('[1]Dess-Grignot'!C21>=1,'[1]Dess-Grignot'!C21," ") | J19: =IF('[1]Dess-Grignot'!C21>=1,'[1]Dess-Grignot'!A21," ") | K19: =IF('[1]Lég-Fruits'!C21>=1,'[1]Lég-Fruits'!C21," ") | L19: =IF('[1]Lég-Fruits'!C21>=1,'[1]Lég-Fruits'!A21," ") | M19: =IF([1]P.Céréaliers!C21>=1,[1]P.Céréaliers!C21," ") | N19: =IF([1]P.Céréaliers!C21>=1,[1]P.Céréaliers!A21," ") | O19: =IF([1]Viandes!C21>=1,[1]Viandes!C21," ") | P19: =IF([1]Viandes!C21>=1,[1]Viandes!A21," ") | Q19: =IF([1]Divers!C21>=1,[1]Divers!C21," ") | R19: =IF([1]Divers!C21>=1,[1]Divers!A21," ") | S19: =IF([1]MG!C21>=1,[1]MG!C21," ") | T19: =IF([1]MG!C21>=1,[1]MG!A21," ") | U19: =IF([1]Resto!C21>=1,[1]Resto!C21," ") | V19: =IF([1]Resto!C21,[1]Resto!A21," ")
A20: =IF([1]Boissons!C22>=1,[1]Boissons!C22," ") | B20: =IF([1]Boissons!C22>=1,[1]Boissons!A22," ") | C20: =IF('[1]P. Laitiers'!C22>=1,'[1]P. Laitiers'!C22," ") | D20: =IF('[1]P. Laitiers'!C22>=1,'[1]P. Laitiers'!A22," ") | E20: =IF('[1]Mets c.'!C22>=1,'[1]Mets c.'!C22," ") | F20: =IF('[1]Mets c.'!C22>=1,'[1]Mets c.'!A22," ") | G20: =IF([1]Soupes!C24>=1,[1]Soupes!C24," ") | H20: =IF([1]Soupes!C24>=1,[1]Soupes!A24," ") | I20: =IF('[1]Dess-Grignot'!C22>=1,'[1]Dess-Grignot'!C22," ") | J20: =IF('[1]Dess-Grignot'!C22>=1,'[1]Dess-Grignot'!A22," ") | K20: =IF('[1]Lég-Fruits'!C22>=1,'[1]Lég-Fruits'!C22," ") | L20: =IF('[1]Lég-Fruits'!C22>=1,'[1]Lég-Fruits'!A22," ") | M20: =IF([1]P.Céréaliers!C22>=1,[1]P.Céréaliers!C22," ") | N20: =IF([1]P.Céréaliers!C22>=1,[1]P.Céréaliers!A22," ") | O20: =IF([1]Viandes!C22>=1,[1]Viandes!C22," ") | P20: =IF([1]Viandes!C22>=1,[1]Viandes!A22," ") | Q20: =IF([1]Divers!C22>=1,[1]Divers!C22," ") | R20: =IF([1]Divers!C22>=1,[1]Divers!A22," ") | S20: =IF([1]MG!C22>=1,[1]MG!C22," ") | T20: =IF([1]MG!C22>=1,[1]MG!A22," ") | U20: =IF([1]Resto!C22>=1,[1]Resto!C22," ") | V20: =IF([1]Resto!C22,[1]Resto!A22," ")
A21: =IF([1]Boissons!C23>=1,[1]Boissons!C23," ") | B21: =IF([1]Boissons!C23>=1,[1]Boissons!A23," ") | C21: =IF('[1]P. Laitiers'!C23>=1,'[1]P. Laitiers'!C23," ") | D21: =IF('[1]P. Laitiers'!C23>=1,'[1]P. Laitiers'!A23," ") | E21: =IF('[1]Mets c.'!C23>=1,'[1]Mets c.'!C23," ") | F21: =IF('[1]Mets c.'!C23>=1,'[1]Mets c.'!A23," ") | G21: =IF([1]Soupes!C25>=1,[1]Soupes!C25," ") | H21: =IF([1]Soupes!C25>=1,[1]Soupes!A25," ") | I21: =IF('[1]Dess-Grignot'!C23>=1,'[1]Dess-Grignot'!C23," ") | J21: =IF('[1]Dess-Grignot'!C23>=1,'[1]Dess-Grignot'!A23," ") | K21: =IF('[1]Lég-Fruits'!C23>=1,'[1]Lég-Fruits'!C23," ") | L21: =IF('[1]Lég-Fruits'!C23>=1,'[1]Lég-Fruits'!A23," ") | M21: =IF([1]P.Céréaliers!C23>=1,[1]P.Céréaliers!C23," ") | N21: =IF([1]P.Céréaliers!C23>=1,[1]P.Céréaliers!A23," ") | O21: =IF([1]Viandes!C23>=1,[1]Viandes!C23," ") | P21: =IF([1]Viandes!C23>=1,[1]Viandes!A23," ") | Q21: =IF([1]Divers!C23>=1,[1]Divers!C23," ") | R21: =IF([1]Divers!C23>=1,[1]Divers!A23," ") | S21: =IF([1]MG!C23>=1,[1]MG!C23," ") | T21: =IF([1]MG!C23>=1,[1]MG!A23," ") | U21: =IF([1]Resto!C23>=1,[1]Resto!C23," ") | V21: =IF([1]Resto!C23,[1]Resto!A23," ")
A22: =IF([1]Boissons!C24>=1,[1]Boissons!C24," ") | B22: =IF([1]Boissons!C24>=1,[1]Boissons!A24," ") | C22: =IF('[1]P. Laitiers'!C24>=1,'[1]P. Laitiers'!C24," ") | D22: =IF('[1]P. Laitiers'!C24>=1,'[1]P. Laitiers'!A24," ") | E22: =IF('[1]Mets c.'!C24>=1,'[1]Mets c.'!C24," ") | F22: =IF('[1]Mets c.'!C24>=1,'[1]Mets c.'!A24," ") | G22: =IF([1]Soupes!C26>=1,[1]Soupes!C26," ") | H22: =IF([1]Soupes!C26>=1,[1]Soupes!A26," ") | I22: =IF('[1]Dess-Grignot'!C24>=1,'[1]Dess-Grignot'!C24," ") | J22: =IF('[1]Dess-Grignot'!C24>=1,'[1]Dess-Grignot'!A24," ") | K22: =IF('[1]Lég-Fruits'!C24>=1,'[1]Lég-Fruits'!C24," ") | L22: =IF('[1]Lég-Fruits'!C24>=1,'[1]Lég-Fruits'!A24," ") | M22: =IF([1]P.Céréaliers!C24>=1,[1]P.Céréaliers!C24," ") | N22: =IF([1]P.Céréaliers!C24>=1,[1]P.Céréaliers!A24," ") | O22: =IF([1]Viandes!C24>=1,[1]Viandes!C24," ") | P22: =IF([1]Viandes!C24>=1,[1]Viandes!A24," ") | Q22: =IF([1]Divers!C24>=1,[1]Divers!C24," ") | R22: =IF([1]Divers!C24>=1,[1]Divers!A24," ") | S22: =IF([1]MG!C24>=1,[1]MG!C24," ") | T22: =IF([1]MG!C24>=1,[1]MG!A24," ") | U22: =IF([1]Resto!C24>=1,[1]Resto!C24," ") | V22: =IF([1]Resto!C24,[1]Resto!A24," ")
A23: =IF([1]Boissons!C25>=1,[1]Boissons!C25," ") | B23: =IF([1]Boissons!C25>=1,[1]Boissons!A25," ") | C23: =IF('[1]P. Laitiers'!C25>=1,'[1]P. Laitiers'!C25," ") | D23: =IF('[1]P. Laitiers'!C25>=1,'[1]P. Laitiers'!A25," ") | E23: =IF('[1]Mets c.'!C25>=1,'[1]Mets c.'!C25," ") | F23: =IF('[1]Mets c.'!C25>=1,'[1]Mets c.'!A25," ") | G23: =IF([1]Soupes!C27>=1,[1]Soupes!C27," ") | H23: =IF([1]Soupes!C27>=1,[1]Soupes!A27," ") | I23: =IF('[1]Dess-Grignot'!C25>=1,'[1]Dess-Grignot'!C25," ") | J23: =IF('[1]Dess-Grignot'!C25>=1,'[1]Dess-Grignot'!A25," ") | K23: =IF('[1]Lég-Fruits'!C25>=1,'[1]Lég-Fruits'!C25," ") | L23: =IF('[1]Lég-Fruits'!C25>=1,'[1]Lég-Fruits'!A25," ") | M23: =IF([1]P.Céréaliers!C25>=1,[1]P.Céréaliers!C25," ") | N23: =IF([1]P.Céréaliers!C25>=1,[1]P.Céréaliers!A25," ") | O23: =IF([1]Viandes!C25>=1,[1]Viandes!C25," ") | P23: =IF([1]Viandes!C25>=1,[1]Viandes!A25," ") | Q23: =IF([1]Divers!C25>=1,[1]Divers!C25," ") | R23: =IF([1]Divers!C25>=1,[1]Divers!A25," ") | S23: =IF([1]MG!C25>=1,[1]MG!C25," ") | T23: =IF([1]MG!C25>=1,[1]MG!A25," ") | U23: =IF([1]Resto!C25>=1,[1]Resto!C25," ") | V23: =IF([1]Resto!C25,[1]Resto!A25," ")
A24: =IF([1]Boissons!C26>=1,[1]Boissons!C26," ") | B24: =IF([1]Boissons!C26>=1,[1]Boissons!A26," ") | C24: =IF('[1]P. Laitiers'!C27>=1,'[1]P. Laitiers'!C27," ") | D24: =IF('[1]P. Laitiers'!C27>=1,'[1]P. Laitiers'!A27," ") | E24: =IF('[1]Mets c.'!C26>=1,'[1]Mets c.'!C26," ") | F24: =IF('[1]Mets c.'!C26>=1,'[1]Mets c.'!A26," ") | G24: =IF([1]Soupes!C28>=1,[1]Soupes!C28," ") | H24: =IF([1]Soupes!C28>=1,[1]Soupes!A28," ") | I24: =IF('[1]Dess-Grignot'!C26>=1,'[1]Dess-Grignot'!C26," ") | J24: =IF('[1]Dess-Grignot'!C26>=1,'[1]Dess-Grignot'!A26," ") | K24: =IF('[1]Lég-Fruits'!C26>=1,'[1]Lég-Fruits'!C26," ") | L24: =IF('[1]Lég-Fruits'!C26>=1,'[1]Lég-Fruits'!A26," ") | M24: =IF([1]P.Céréaliers!C26>=1,[1]P.Céréaliers!C26," ") | N24: =IF([1]P.Céréaliers!C26>=1,[1]P.Céréaliers!A26," ") | O24: =IF([1]Viandes!C27>=1,[1]Viandes!C27," ") | P24: =IF([1]Viandes!C27>=1,[1]Viandes!A27," ") | Q24: =IF([1]Divers!C26>=1,[1]Divers!C26," ") | R24: =IF([1]Divers!C26>=1,[1]Divers!A26," ") | S24: =IF([1]MG!C26>=1,[1]MG!C26," ") | T24: =IF([1]MG!C26>=1,[1]MG!A26," ") | U24: =IF([1]Resto!C26>=1,[1]Resto!C26," ") | V24: =IF([1]Resto!C26,[1]Resto!A26," ")
A25: =IF([1]Boissons!C27>=1,[1]Boissons!C27," ") | B25: =IF([1]Boissons!C27>=1,[1]Boissons!A27," ") | C25: =IF('[1]P. Laitiers'!C28>=1,'[1]P. Laitiers'!C28," ") | D25: =IF('[1]P. Laitiers'!C28>=1,'[1]P. Laitiers'!A28," ") | E25: =IF('[1]Mets c.'!C27>=1,'[1]Mets c.'!C27," ") | F25: =IF('[1]Mets c.'!C27>=1,'[1]Mets c.'!A27," ") | G25: =IF([1]Soupes!C29>=1,[1]Soupes!C29," ") | H25: =IF([1]Soupes!C29>=1,[1]Soupes!A29," ") | I25: =IF('[1]Dess-Grignot'!C27>=1,'[1]Dess-Grignot'!C27," ") | J25: =IF('[1]Dess-Grignot'!C27>=1,'[1]Dess-Grignot'!A27," ") | K25: =IF('[1]Lég-Fruits'!C27>=1,'[1]Lég-Fruits'!C27," ") | L25: =IF('[1]Lég-Fruits'!C27>=1,'[1]Lég-Fruits'!A27," ") | M25: =IF([1]P.Céréaliers!C27>=1,[1]P.Céréaliers!C27," ") | N25: =IF([1]P.Céréaliers!C27>=1,[1]P.Céréaliers!A27," ") | O25: =IF([1]Viandes!C28>=1,[1]Viandes!C28," ") | P25: =IF([1]Viandes!C28>=1,[1]Viandes!A28," ") | Q25: =IF([1]Divers!C27>=1,[1]Divers!C27," ") | R25: =IF([1]Divers!C27>=1,[1]Divers!A27," ") | S25: =IF([1]MG!C27>=1,[1]MG!C27," ") | T25: =IF([1]MG!C27>=1,[1]MG!A27," ") | U25: =IF([1]Resto!C27>=1,[1]Resto!C27," ") | V25: =IF([1]Resto!C27,[1]Resto!A27," ")
A26: =IF([1]Boissons!C28>=1,[1]Boissons!C28," ") | B26: =IF([1]Boissons!C28>=1,[1]Boissons!A28," ") | C26: =IF('[1]P. Laitiers'!C29>=1,'[1]P. Laitiers'!C29," ") | D26: =IF('[1]P. Laitiers'!C29>=1,'[1]P. Laitiers'!A29," ") | E26: =IF('[1]Mets c.'!C28>=1,'[1]Mets c.'!C28," ") | F26: =IF('[1]Mets c.'!C28>=1,'[1]Mets c.'!A28," ") | G26: =IF([1]Soupes!C30>=1,[1]Soupes!C30," ") | H26: =IF([1]Soupes!C30>=1,[1]Soupes!A30," ") | I26: =IF('[1]Dess-Grignot'!C28>=1,'[1]Dess-Grignot'!C28," ") | J26: =IF('[1]Dess-Grignot'!C28>=1,'[1]Dess-Grignot'!A28," ") | K26: =IF('[1]Lég-Fruits'!C28>=1,'[1]Lég-Fruits'!C28," ") | L26: =IF('[1]Lég-Fruits'!C28>=1,'[1]Lég-Fruits'!A28," ") | M26: =IF([1]P.Céréaliers!C28>=1,[1]P.Céréaliers!C28," ") | N26: =IF([1]P.Céréaliers!C28>=1,[1]P.Céréaliers!A28," ") | O26: =IF([1]Viandes!C29>=1,[1]Viandes!C29," ") | P26: =IF([1]Viandes!C29>=1,[1]Viandes!A29," ") | Q26: =IF([1]Divers!C28>=1,[1]Divers!C28," ") | R26: =IF([1]Divers!C28>=1,[1]Divers!A28," ") | S26: =IF([1]MG!C28>=1,[1]MG!C28," ") | T26: =IF([1]MG!C28>=1,[1]MG!A28," ") | U26: =IF([1]Resto!C28>=1,[1]Resto!C28," ") | V26: =IF([1]Resto!C28,[1]Resto!A28," ")
A27: =IF([1]Boissons!C29>=1,[1]Boissons!C29," ") | B27: =IF([1]Boissons!C29>=1,[1]Boissons!A29," ") | C27: =IF('[1]P. Laitiers'!C30>=1,'[1]P. Laitiers'!C30," ") | D27: =IF('[1]P. Laitiers'!C30>=1,'[1]P. Laitiers'!A30," ") | E27: =IF('[1]Mets c.'!C29>=1,'[1]Mets c.'!C29," ") | F27: =IF('[1]Mets c.'!C29>=1,'[1]Mets c.'!A29," ") | G27: =IF([1]Soupes!C31>=1,[1]Soupes!C31," ") | H27: =IF([1]Soupes!C31>=1,[1]Soupes!A31," ") | I27: =IF('[1]Dess-Grignot'!C29>=1,'[1]Dess-Grignot'!C29," ") | J27: =IF('[1]Dess-Grignot'!C29>=1,'[1]Dess-Grignot'!A29," ") | K27: =IF('[1]Lég-Fruits'!C29>=1,'[1]Lég-Fruits'!C29," ") | L27: =IF('[1]Lég-Fruits'!C29>=1,'[1]Lég-Fruits'!A29," ") | M27: =IF([1]P.Céréaliers!C29>=1,[1]P.Céréaliers!C29," ") | N27: =IF([1]P.Céréaliers!C29>=1,[1]P.Céréaliers!A29," ") | O27: =IF([1]Viandes!C30>=1,[1]Viandes!C30," ") | P27: =IF([1]Viandes!C30>=1,[1]Viandes!A30," ") | Q27: =IF([1]Divers!C29>=1,[1]Divers!C29," ") | R27: =IF([1]Divers!C29>=1,[1]Divers!A29," ") | S27: =IF([1]MG!C29>=1,[1]MG!C29," ") | T27: =IF([1]MG!C29>=1,[1]MG!A29," ") | U27: =IF([1]Resto!C29>=1,[1]Resto!C29," ") | V27: =IF([1]Resto!C29,[1]Resto!A29," ")

Sheet Feuil2

Sheet Feuil3
