Workbook

Sheet Feuil6
A1: fournisseur | B1: Column2 | C1: Nombre de numero_oa | D1: HT MO | E1: HT Facturé | F1: Somme de total_prix_fournisseur_ht | G1: Somme de Ecart prix | H1: Column8 | I1: CA HT | J1: ecart qte | K1: MB th | L1: ecart px | M1: MN HA | N1: Column14 | O1: FOURNISSEUR2 | P1: % /total | Q1: Nombre d'OA | R1: HT FACTURES | S1: ECART (€) | T1: ECART (%) | U1: Column9 | V1: Column15
A2: ABSOLUMENTDESIGN | C2: 4 | D2: 61 | E2: 61 | F2: 0 | G2: 0 | I2: 98.34 | K2: 0.37970307 | L2: 0 | M2: 0.37970307
A3: ABSOLUMENTDESIGN | C3: 8 | D3: 238 | E3: 239.01 | F3: -1.01 | G3: -0.0042436975 | I3: 405.11 | K3: 0.41250525 | L3: -0.00249315 | M3: 0.4100121
A4: ADLPFOURN | C4: 53 | D4: 1075.9 | E4: 1075.9 | F4: 0 | G4: 0 | I4: 1416.34 | K4: 0.24036601 | L4: 0 | M4: 0.24036601
A5: ADLPFOURN | C5: 20 | D5: 431.47 | E5: 431.47 | F5: 0 | G5: 0 | I5: 747.99 | K5: 0.42316074 | L5: 0 | M5: 0.42316074
A6: ALESSI | C6: 2 | D6: 99.5 | E6: 99.47 | F6: 0.03 | G6: 0.00030150754 | I6: 167.33 | K6: 0.40536664 | L6: 0.00017928644 | M6: 0.40554593
A7: AMAZON | C7: 124 | D7: 7023.42 | E7: 7072.34 | F7: -48.92 | G7: -0.0069652676 | I7: 10938.13 | K7: 0.35789573 | L7: -0.0044724281 | M7: 0.3534233
A8: AMAZON | C8: 35 | D8: 2866.99 | E8: 2875.6 | F8: -8.61 | G8: -0.0030031496 | I8: 4070.33 | K8: 0.29563696 | L8: -0.0021153076 | M8: 0.29352166
A9: AMAZON | C9: 48 | D9: 7265.58 | E9: 7264.38 | F9: 1.2 | G9: 0.00016516231 | I9: 11164.48 | K9: 0.34922361 | L9: 0.00010748373 | M9: 0.34933109
A10: ANNEMASSE | C10: 1 | D10: 2532 | E10: 2532 | F10: 0 | G10: 0 | I10: 2816.68 | K10: 0.10106934 | L10: 0 | M10: 0.10106934 | N10: My shop
A11: APPLE | C11: 242 | D11: 124031.33 | E11: 124031.33 | F11: 0 | G11: 0 | I11: 145662.64 | K11: 0.1485028 | L11: 0 | M11: 0.1485028
A12: APPLE | C12: 108 | D12: 53054.83 | E12: 53054.83 | F12: 0 | G12: 0 | I12: 60947.93 | K12: 0.12950563 | L12: 0 | M12: 0.12950563
A13: APPLE | C13: 96 | D13: 43397.5 | E13: 43397.5 | F13: 0 | G13: 0 | I13: 49347.18 | K13: 0.12056778 | L13: 0 | M13: 0.12056778
A14: APPLEWOOD | C14: 18 | D14: 1025.45 | E14: 1039.55 | F14: -14.1 | G14: -0.013750061 | I14: 1595 | K14: 0.35708464 | L14: -0.0088401254 | M14: 0.34824451
A15: APPLEWOOD | C15: 7 | D15: 337.1 | E15: 337.1 | F15: 0 | G15: 0 | I15: 414.91 | K15: 0.18753465 | L15: 0 | M15: 0.18753465 | N15: Cde FR329692 et FR329693 non facturées, Op Big Jump 2019
A16: APPLEWOOD | C16: 14 | D16: 1405.89 | E16: 1405.89 | F16: 0 | G16: 0 | I16: 2317.31 | K16: 0.39330948 | L16: 0 | M16: 0.39330948
A17: AVESTA | C17: 8 | D17: 2601.08 | E17: 2617.08 | F17: -16 | G17: -0.006151291 | I17: 3424.99 | K17: 0.24055837 | L17: -0.0046715465 | M17: 0.23588682 | N17: 2€ fdp en supp
A18: AVESTA | C18: 3 | D18: 889.94 | E18: 894.94 | F18: -5 | G18: -0.0056183563 | I18: 1263.2 | K18: 0.29548765 | L18: -0.0039582014 | M18: 0.29152945
A19: AVESTA | C19: 6 | D19: 2339.81 | E19: 2348.81 | F19: -9 | G19: -0.0038464662 | I19: 3198.37 | K19: 0.26843673 | L19: -0.0028139333 | M19: 0.2656228
A20: AVP | C20: 7 | D20: 261.75 | E20: 261.75 | F20: 5.6843419e-14 | G20: 2.1716683e-16 | I20: 438.47 | K20: 0.40303784 | L20: 1.2964038e-16 | M20: 0.40303784
A21: AVP | C21: 1 | D21: 56.41 | E21: 56.41 | F21: 0 | G21: 0 | I21: 100 | K21: 0.4359 | L21: 0 | M21: 0.4359
A22: BIENMANGER | C22: 96 | D22: 2761.82 | E22: 2888.66 | F22: -126.84 | G22: -0.045926237 | I22: 4300.18 | K22: 0.35774316 | L22: -0.02949644 | M22: 0.32824672
A23: BIENMANGER | C23: 44 | D23: 1119.13 | E23: 1137.88 | F23: -18.75 | G23: -0.016754086 | I23: 1715.31 | K23: 0.347564 | L23: -0.010930969 | M23: 0.33663303
A24: Bijourama | C24: 33 | D24: 1314.82 | E24: 1315.49 | F24: -0.67 | G24: -0.00050957546 | I24: 2407.27 | K24: 0.45381283 | L24: -0.00027832358 | M24: 0.4535345
A25: Bijourama | C25: 24 | D25: 1136.91 | E25: 1137.39 | F25: -0.48 | G25: -0.00042219701 | I25: 2193.38 | K25: 0.481663 | L25: -0.00021884033 | M25: 0.48144416
A26: BOCONCEPT | C26: 1 | D26: 640.83 | E26: 640.84 | F26: -0.01 | G26: -1.5604763e-05 | I26: 712.1 | K26: 0.10008426 | L26: -1.4042971e-05 | M26: 0.10007021 | N26: My shop
A27: BOOMERANG | C27: 5 | D27: 220.6 | E27: 215.62 | F27: 4.98 | G27: 0.022574796 | I27: 355.06 | K27: 0.37869656 | L27: 0.014025798 | M27: 0.39272236
A28: Boomerang | C28: 4 | D28: 114.15 | E28: 124.57 | F28: -10.42 | G28: -0.091283399 | I28: 202.31 | K28: 0.43576689 | L28: -0.051505116 | M28: 0.38426178
A29: BOWERS | C29: 3 | D29: 688.36 | E29: 725.78 | F29: -37.42 | G29: -0.05436109 | I29: 1024.96 | K29: 0.32840306 | L29: -0.036508742 | M29: 0.29189432 | N29: Opération fidelité sur FR315535A, ecart prix sur commande FR306471
A30: BOWERS | C30: 1 | D30: 185.07 | E30: 185.07 | F30: 0 | G30: 0 | I30: 250 | K30: 0.25972 | L30: 0 | M30: 0.25972
A31: BPLUS | C31: 1 | D31: 28.15 | E31: 28.16 | F31: -0.01 | G31: -0.00035523979 | I31: 45 | K31: 0.37444444 | L31: -0.00022222222 | M31: 0.37422222
A32: BPLUS | C32: 3 | D32: 232.9 | E32: 233.3 | F32: -0.4 | G32: -0.0017174753 | I32: 416.66 | K32: 0.44103106 | L32: -0.00096001536 | M32: 0.44007104
A33: CAMBUSIER | C33: 3 | D33: 62.5 | E33: 65.5 | F33: -3 | G33: -0.048 | I33: 97.93 | K33: 0.36178903 | L33: -0.030634126 | M33: 0.33115491
A34: CAVIARDENEUVIC | C34: 1 | D34: 26.2 | E34: 32.2 | F34: -6 | G34: -0.22900763 | I34: 50 | K34: 0.476 | L34: -0.12 | M34: 0.356 | N34: EP validé par Laurine
A35: CDISCOUNT | C35: 909 | D35: 75834.73 | E35: 77201.53 | F35: -1366.8 | G35: -0.018023404 | I35: 121376 | K35: 0.3752082 | L35: -0.011260875 | M35: 0.36394732
A36: CDISCOUNT | C36: 542 | D36: 55644.78 | E36: 56151.47 | F36: -506.69 | G36: -0.0091057957 | I36: 84918.1 | K36: 0.34472415 | L36: -0.005966808 | M36: 0.33875734
A37: CDISCOUNT | C37: 607 | D37: 53998.45 | E37: 54043.13 | F37: -44.68 | G37: -0.00082743116 | I37: 85315.66 | K37: 0.36707458 | L37: -0.00052370221 | M37: 0.36655088
A38: CHARLOTTEBOUTIK | C38: 1 | D38: 28.4 | E38: 20.03 | F38: 8.37 | G38: 0.29471831 | I38: 50 | K38: 0.432 | L38: 0.1674 | M38: 0.5994
A39: CLAUDE | C39: 1 | D39: 45.92 | E39: 34 | F39: 11.92 | G39: 0.25958188 | I39: 75 | K39: 0.38773333 | L39: 0.15893333 | M39: 0.54666667
A40: CLAUDE | C40: 6 | D40: 501.02 | E40: 429.5 | F40: 71.52 | G40: 0.14274879 | I40: 934.17 | K40: 0.46367364 | L40: 0.076559941 | M40: 0.54023358 | N40: En attente de validation
...

Sheet Feuil5
A1: FOURNISSEUR | B1: % /total | C1: Nombre d'OA | D1: HT MO | E1: HT FACTURES | F1: ECART (€) | G1: ECART (%) | H1: Column8 | I1: Column9 | J1: CA HT | K1: ecart qte | L1: MB th | M1: ecart px | N1: MN HA | O1: Column15
A2: ADLP | C2: 13 | D2: 407.55 | E2: 407.55 | F2: 0 | G2: 0 | J2: 597.2 | L2: 0.3175653 | M2: 0 | N2: 0.3175653
A3: Alice's Garden | C3: 114 | D3: 16252.5 | E3: 16252.69 | F3: -0.19 | G3: -1.1690509e-05 | J3: 25907.88 | L3: 0.37268121 | M3: -7.3336761e-06 | N3: 0.37267387
A4: AMAZON | C4: 25 | D4: 2219.95 | E4: 2174.52 | F4: 45.43 | G4: 0.020464425 | J4: 3531.82 | L4: 0.37144305 | M4: 0.012863056 | N4: 0.38430611
A5: APPLE | C5: 63 | D5: 28374.74 | E5: 28374.69 | F5: 0.05 | G5: 1.7621307e-06 | J5: 34057.12 | L5: 0.16684852 | M5: 1.4681218e-06 | N5: 0.16684999
A6: Bien Manger.com | C6: 12 | D6: 231.69 | E6: 231.69 | F6: 0 | G6: 0 | J6: 364.95 | L6: 0.36514591 | M6: 0 | N6: 0.36514591
A7: BOOMERANG | C7: 3 | D7: 149.43 | E7: 133.05 | F7: 16.38 | G7: 0.10961654 | J7: 232.48 | L7: 0.35723503 | M7: 0.070457674 | N7: 0.4276927
A8: BPLUS | C8: 4 | D8: 202.5 | E8: 202.9 | F8: -0.4 | G8: -0.0019753086 | J8: 271.51 | L8: 0.25417112 | M8: -0.0014732422 | N8: 0.25269787
A9: CDISCOUNT | C9: 431 | D9: 40750.58 | E9: 40828.49 | F9: -77.91 | G9: -0.0019118746 | J9: 59940.11 | L9: 0.32014506 | M9: -0.0012997974 | N9: 0.31884526
A10: Claude DEZORME | C10: 2 | D10: 162 | E10: 159 | F10: 3 | G10: 0.018518519 | J10: 270 | L10: 0.4 | M10: 0.011111111 | N10: 0.41111111
A11: CORNILLEAU | C11: 5 | D11: 993.3 | E11: 974.76 | F11: 18.54 | G11: 0.018665056 | J11: 1431.7 | L11: 0.3062094 | M11: 0.01294964 | N11: 0.31915904
A12: CUVELIER | C12: 9 | D12: 278.1 | E12: 278.1 | F12: 0 | G12: 0 | J12: 434.91 | L12: 0.36055736 | M12: 0 | N12: 0.36055736
A13: Cycle Europe | C13: 3 | D13: 1186 | E13: 1092 | F13: 94 | G13: 0.07925801 | J13: 1610.23 | L13: 0.26345926 | M13: 0.058376754 | N13: 0.32183601
... A23: FINDIS | C23: 39 | D23: 12739.18 | E23: 12188.19 | F23: 550.99 | G23: 0.043251606 | J23: 16792.16 | L23: 0.24136144 | M23: 0.032812336 | N23: 0.27417378
A24: Fnac | C24: 92 | D24: 11770.41 | E24: 11806.41 | F24: -36 | G24: -0.0030585171 | J24: 14412.39 | L24: 0.18331311 | M24: -0.0024978508 | N24: 0.18081526 | O24: Cde sopartex marge théo à16%, ecart prix sur cette commande marge réelle à -7%. Cde particulier, idem
A25: G pas Plus | C25: 25 | D25: 1604.94 | E25: 1613.28 | F25: -8.34 | G25: -0.0051964559 | J25: 2556.5 | L25: 0.37221201 | M25: -0.0032622726 | N25: 0.36894974
A26: Garden Max | C26: 2 | D26: 365.34 | E26: 365.34 | F26: 0 | G26: 0 | J26: 575 | L26: 0.36462609 | M26: 0 | N26: 0.36462609
A27: Guyot Gourmet | C27: 3 | D27: 148.09 | E27: 148.09 | F27: 0 | G27: 0 | J27: 225.01 | L27: 0.34185147 | M27: 0 | N27: 0.34185147
A28: ICON | C28: 5 | D28: 1386.68 | E28: 1386.68 | F28: 0 | G28: 0 | J28: 2551.56 | L28: 0.45653639 | M28: 0 | N28: 0.45653639
A29: INTEX | C29: 1 | D29: 3126.29 | E29: 3130.89 | F29: -4.6 | G29: -0.0014713926 | J29: 4910.34 | L29: 0.36332515 | M29: -0.00093679867 | N29: 0.36238835
A30: Jobek | C30: 3 | D30: 210.08 | E30: 204.74 | F30: 5.34 | G30: 0.025418888 | J30: 406.25 | L30: 0.48288 | M30: 0.013144615 | N30: 0.49602462
A31: La Ptite Grenouille | C31: 7 | D31: 174.62 | E31: 174.61 | F31: 0.01 | G31: 5.7267209e-05 | J31: 271.41 | L31: 0.35661914 | M31: 3.6844626e-05 | N31: 0.35665598
A32: Laboratoire Messegue | C32: 2 | D32: 19 | E32: 14 | F32: 5 | G32: 0.26315789 | J32: 33.34 | L32: 0.43011398 | M32: 0.14997001 | N32: 0.58008398
A33: Logeek Design | C33: 4 | D33: 74.12 | E33: 74.13 | F33: -0.01 | G33: -0.00013491635 | J33: 119.14 | L33: 0.37787477 | M33: -8.3934867e-05 | N33: 0.37779083
A34: Lunar Import | C34: 39 | D34: 469.6 | E34: 469.6 | F34: 0 | G34: 0 | J34: 757.04 | L34: 0.37968932 | M34: 0 | N34: 0.37968932
A35: Marques & Prestige | C35: 17 | D35: 1462.2 | E35: 1465.08 | F35: -2.88 | G35: -0.0019696348 | J35: 2414.29 | L35: 0.3943561 | M35: -0.0011928973 | N35: 0.39316321
A36: MATHON | C36: 33 | D36: 1478.8 | E36: 1478.8 | F36: 0 | G36: 0 | J36: 2774.08 | L36: 0.46692237 | M36: 0 | N36: 0.46692237
... A58: WEBER | C58: 5 | D58: 2876.22 | E58: 2768.41 | F58: 107.81 | G58: 0.037483225 | J58: 3724.62 | L58: 0.22778163 | M58: 0.028945235 | N58: 0.25672686

Sheet Feuil4
A1: fournisseur | B1: Column2 | C1: Nombre de numero_oa | D1: HT MO | E1: HT Facturé | F1: Somme de total_prix_fournisseur_ht | G1: Somme de Ecart prix | H1: Column8 | I1: CA HT | J1: ecart qte | K1: MB th | L1: ecart px | M1: MN HA | N1: Column14
A2: ABSOLUMENTDESIGN | C2: 8 | D2: 238 | E2: 239.01 | F2: -1.01 | G2: -0.0042436975 | I2: 405.11 | K2: 0.41250525 | L2: -0.00249315 | M2: 0.4100121
A3: ADLPFOURN | C3: 20 | D3: 431.47 | E3: 431.47 | F3: 0 | G3: 0 | I3: 747.99 | K3: 0.42316074 | L3: 0 | M3: 0.42316074
A4: AMAZON | C4: 48 | D4: 7265.58 | E4: 7264.38 | F4: 1.2 | G4: 0.00016516231 | I4: 11164.48 | K4: 0.34922361 | L4: 0.00010748373 | M4: 0.34933109
A5: APPLE | C5: 96 | D5: 43397.5 | E5: 43397.5 | F5: 0 | G5: 0 | I5: 49347.18 | K5: 0.12056778 | L5: 0 | M5: 0.12056778
A6: APPLEWOOD | C6: 14 | D6: 1405.89 | E6: 1405.89 | F6: 0 | G6: 0 | I6: 2317.31 | K6: 0.39330948 | L6: 0 | M6: 0.39330948
A7: AVESTA | C7: 6 | D7: 2339.81 | E7: 2348.81 | F7: -9 | G7: -0.0038464662 | I7: 3198.37 | K7: 0.26843673 | L7: -0.0028139333 | M7: 0.2656228
A8: AVP | C8: 1 | D8: 56.41 | E8: 56.41 | F8: 0 | G8: 0 | I8: 100 | K8: 0.4359 | L8: 0 | M8: 0.4359
A9: Bijourama | C9: 24 | D9: 1136.91 | E9: 1137.39 | F9: -0.48 | G9: -0.00042219701 | I9: 2193.38 | K9: 0.481663 | L9: -0.00021884033 | M9: 0.48144416
A10: Boomerang | C10: 4 | D10: 114.15 | E10: 124.57 | F10: -10.42 | G10: -0.091283399 | I10: 202.31 | K10: 0.43576689 | L10: -0.051505116 | M10: 0.38426178
A11: BOCONCEPT | C11: 1 | D11: 640.83 | E11: 640.84 | F11: -0.01 | G11: -1.5604763e-05 | I11: 712.1 | K11: 0.10008426 | L11: -1.4042971e-05 | M11: 0.10007021 | N11: My shop
A12: CAVIARDENEUVIC | C12: 1 | D12: 26.2 | E12: 32.2 | F12: -6 | G12: -0.22900763 | I12: 50 | K12: 0.476 | L12: -0.12 | M12: 0.356 | N12: EP validé par Laurine
A13: CDISCOUNT | C13: 607 | D13: 53998.45 | E13: 54043.13 | F13: -44.68 | G13: -0.00082743116 | I13: 85315.66 | K13: 0.36707458 | L13: -0.00052370221 | M13: 0.36655088
A14: CLAUDE | C14: 6 | D14: 501.02 | E14: 429.5 | F14: 71.52 | G14: 0.14274879 | I14: 934.17 | K14: 0.46367364 | L14: 0.076559941 | M14: 0.54023358 | N14: En attente de validation
A15: CORNILLEAU | C15: 3 | D15: 2417.3 | E15: 2387.11 | F15: 30.19 | G15: 0.012489141 | I15: 3411.24 | K15: 0.29137205 | L15: 0.0088501542 | M15: 0.30022221 | N15: En attente de validation
A16: CUVELIER | C16: 11 | D16: 514.89 | E16: 514.9 | F16: -0.01 | G16: -1.9421624e-05 | I16: 831.86 | K16: 0.38103767 | L16: -1.2021254e-05 | M16: 0.38102565
A17: CYCLE | C17: 3 | D17: 1742 | E17: 1822 | F17: -80 | G17: -0.045924225 | I17: 2500.19 | K17: 0.30325295 | L17: -0.031997568 | M17: 0.27125538 | N17: En attente de validation
A18: DECATHLON | C18: 61 | D18: 1552.13 | E18: 1876.56 | F18: -324.43 | G18: -0.20902244 | I18: 2449.68 | K18: 0.36639479 | L18: -0.13243771 | M18: 0.23395709 | N18: En attente de validation
A19: Déclikdéco | C19: 4 | D19: 195.74 | E19: 238.24 | F19: -42.5 | G19: -0.21712476 | I19: 345.18 | K19: 0.43293354 | L19: -0.12312417 | M19: 0.30980937
A20: DELSAY | C20: 25 | D20: 1995.56 | E20: 2008.4 | F20: -12.84 | G20: -0.0064342841 | I20: 3773.9 | K20: 0.47122075 | L20: -0.0034023159 | M20: 0.46781844 | N20: En attente de validation
A21: DELTA | C21: 224 | D21: 5453.85 | E21: 5440.15 | F21: 13.7 | G21: 0.0025119869 | I21: 9112.29 | K21: 0.40148415 | L21: 0.001503464 | M21: 0.40298761
A22: DIAG | C22: 11 | D22: 992.95 | E22: 999.19 | F22: -6.24 | G22: -0.0062843043 | I22: 1628.24 | K22: 0.39016975 | L22: -0.0038323589 | M22: 0.38633739
A23: DOVIRIS | C23: 4 | D23: 351.59 | E23: 351.59 | F23: 0 | G23: 0 | I23: 508.39 | K23: 0.30842463 | L23: 0 | M23: 0.30842463
A24: DUCLOT | C24: 16 | D24: 2336.1 | E24: 2336.1 | F24: 0 | G24: 0 | I24: 3072.8 | K24: 0.23974876 | L24: 0 | M24: 0.23974876
A25: DUCSDEGASCOGNE | C25: 14 | D25: 307.99 | E25: 307.98 | F25: 0.01 | G25: 3.2468587e-05 | I25: 467.43 | K25: 0.3410992 | L25: 2.1393578e-05 | M25: 0.3411206
A26: DURANTI | C26: 1 | D26: 1250 | E26: 1250 | F26: 0 | G26: 0 | I26: 1376.67 | K26: 0.092011884 | L26: 0 | M26: 0.092011884 | N26: My shop
A27: ELIPSON | C27: 2 | D27: 340.43 | E27: 340.43 | F27: 0 | G27: 0 | I27: 554.59 | K27: 0.38615914 | L27: 0 | M27: 0.38615914
A28: Emile Henry | C28: 9 | D28: 543.47 | E28: 551.18 | F28: -7.71 | G28: -0.014186616 | I28: 1014.17 | K28: 0.46412337 | L28: -0.0076022758 | M28: 0.4565211
A29: ENGEL | C29: 42 | D29: 1345.84 | E29: 1352.04 | F29: -6.2 | G29: -0.0046067883 | I29: 2405.37 | K29: 0.44048525 | L29: -0.002577566 | M29: 0.43790768
A30: EROAD | C30: 3 | D30: 1209 | E30: 1224.01 | F30: -15.01 | G30: -0.012415219 | I30: 1772.48 | K30: 0.31790486 | L30: -0.0084683607 | M30: 0.3094365 | N30: En attente de validation
A31: ESTEBANFOURN | C31: 5 | D31: 103.87 | E31: 103.87 | F31: 0 | G31: 0 | I31: 184.93 | K31: 0.43832802 | L31: 0 | M31: 0.43832802
A32: ETC | C32: 1 | D32: 38.95 | E32: 38.95 | F32: 0 | G32: 0 | I32: 73.33 | K32: 0.46883949 | L32: 0 | M32: 0.46883949
A33: EVRARD | C33: 6 | D33: 178.82 | E33: 176.11 | F33: 2.71 | G33: 0.015154904 | I33: 287.5 | K33: 0.37801739 | L33: 0.009426087 | M33: 0.38744348
A34: FINDIS | C34: 62 | D34: 11967.21 | E34: 11871.97 | F34: 95.24 | G34: 0.007958413 | I34: 18670.52 | K34: 0.35903178 | L34: 0.0051010898 | M34: 0.36413287 | N34: FDP non facturé
A35: FNACPRO | C35: 137 | D35: 14238.37 | E35: 14232.48 | F35: 5.89 | G35: 0.00041367095 | I35: 18102.64 | K35: 0.21346444 | L35: 0.00032536691 | M35: 0.21378981
A36: FRENCH | C36: 92 | D36: 2582.71 | E36: 2584.16 | F36: -1.45 | G36: -0.00056142579 | I36: 5380.52 | K36: 0.51998877 | L36: -0.00026949068 | M36: 0.51971928
A37: Garden max | C37: 1 | D37: 31.6 | E37: 28.54 | F37: 3.06 | G37: 0.096835443 | I37: 45 | K37: 0.29777778 | L37: 0.068 | M37: 0.36577778
A38: GMT | C38: 1 | D38: 64.6 | E38: 64.71 | F38: -0.11 | G38: -0.0017027864 | I38: 83.33 | K38: 0.22476899 | L38: -0.0013200528 | M38: 0.22344894
A39: GUYDEGRENNE | C39: 1 | D39: 227.6 | E39: 250.8 | F39: -23.2 | G39: -0.10193322 | I39: 383.3 | K39: 0.40620924 | L39: -0.060527002 | M39: 0.34568223 | N39: En attente de validation
A40: GUYOT | C40: 1 | D40: 83.39 | E40: 83.39 | F40: 0 | G40: 0 | I40: 150 | K40: 0.44406667 | L40: 0 | M40: 0.44406667
...

Sheet Feuil3
A1: fournisseur | B1: Column2 | C1: Nombre de numero_oa | D1: HT MO | E1: HT Facturé | F1: Somme de total_prix_fournisseur_ht | G1: Somme de Ecart prix | H1: Column8 | I1: CA HT | J1: ecart qte | K1: MB th | L1: ecart px | M1: MN HA | N1: Column14
A2: AMAZON | C2: 35 | D2: 2866.99 | E2: 2875.6 | F2: -8.61 | G2: -0.0030031496 | I2: 4070.33 | K2: 0.29563696 | L2: -0.0021153076 | M2: 0.29352166
A3: APPLE | C3: 108 | D3: 53054.83 | E3: 53054.83 | F3: 0 | G3: 0 | I3: 60947.93 | K3: 0.12950563 | L3: 0 | M3: 0.12950563
A4: APPLEWOOD | C4: 7 | D4: 337.1 | E4: 337.1 | F4: 0 | G4: 0 | I4: 414.91 | K4: 0.18753465 | L4: 0 | M4: 0.18753465 | N4: Cde FR329692 et FR329693 non facturées, Op Big Jump 2019
A5: AVESTA | C5: 3 | D5: 889.94 | E5: 894.94 | F5: -5 | G5: -0.0056183563 | I5: 1263.2 | K5: 0.29548765 | L5: -0.0039582014 | M5: 0.29152945
A6: BIENMANGER | C6: 44 | D6: 1119.13 | E6: 1137.88 | F6: -18.75 | G6: -0.016754086 | I6: 1715.31 | K6: 0.347564 | L6: -0.010930969 | M6: 0.33663303
A7: BOWERS | C7: 1 | D7: 185.07 | E7: 185.07 | F7: 0 | G7: 0 | I7: 250 | K7: 0.25972 | L7: 0 | M7: 0.25972
A8: BPLUS | C8: 3 | D8: 232.9 | E8: 233.3 | F8: -0.4 | G8: -0.0017174753 | I8: 416.66 | K8: 0.44103106 | L8: -0.00096001536 | M8: 0.44007104
A9: CDISCOUNT | C9: 542 | D9: 55644.78 | E9: 56151.47 | F9: -506.69 | G9: -0.0091057957 | I9: 84918.1 | K9: 0.34472415 | L9: -0.005966808 | M9: 0.33875734
A10: CORNILLEAU | C10: 3 | D10: 1057 | E10: 1044.86 | F10: 12.14 | G10: 0.011485336 | I10: 1601.49 | K10: 0.33998963 | L10: 0.0075804407 | M10: 0.34757008
A11: CUVELIER | C11: 9 | D11: 761.1 | E11: 752.85 | F11: 8.25 | G11: 0.010839574 | I11: 1159.78 | K11: 0.34375485 | L11: 0.0071134181 | M11: 0.35086827
A12: DECATHLON | C12: 11 | D12: 217.41 | E12: 238.7 | F12: -21.29 | G12: -0.097925578 | I12: 309.82 | K12: 0.29826996 | L12: -0.06871732 | M12: 0.22955264
A13: DELSAY | C13: 4 | D13: 239.27 | E13: 86.3 | F13: 152.97 | G13: 0.6393196 | I13: 409.7 | K13: 0.41598731 | L13: 0.37337076 | M13: 0.78935807 | N13: Avoir sur EP reçu
A14: DELTA | C14: 127 | D14: 3305.7 | E14: 3294.92 | F14: 10.78 | G14: 0.003261034 | I14: 5309.32 | K14: 0.37737789 | L14: 0.0020303918 | M14: 0.37940829
A15: DIAG | C15: 8 | D15: 665.47 | E15: 692.8 | F15: -27.33 | G15: -0.041068718 | I15: 1135.63 | K15: 0.41400808 | L15: -0.024065937 | M15: 0.38994215
A16: DOVIRIS | C16: 8 | D16: 537.46 | E16: 537.46 | F16: 0 | G16: 0 | I16: 944.66 | K16: 0.43105456 | L16: 0 | M16: 0.43105456
A17: DUCLOT | C17: 4 | D17: 296.73 | E17: 296.73 | F17: 0 | G17: 0 | I17: 370.38 | K17: 0.19884983 | L17: 0 | M17: 0.19884983
A18: DUCSDEGASCOGNE | C18: 19 | D18: 370.28 | E18: 370.28 | F18: 0 | G18: 0 | I18: 579.08 | K18: 0.36057194 | L18: 0 | M18: 0.36057194
A19: ELIPSON | C19: 3 | D19: 266.06 | E19: 266.07 | F19: -0.01 | G19: -3.7585507e-05 | I19: 399.9 | K19: 0.33468367 | L19: -2.5006252e-05 | M19: 0.33465866
A20: EMILE | C20: 8 | D20: 461.71 | E20: 461.71 | F20: 5.6843419e-14 | G20: 1.2311498e-16 | I20: 815.01 | K20: 0.43349161 | L20: 6.974567e-17 | M20: 0.43349161
A21: ENGEL | C21: 15 | D21: 370.04 | E21: 370.04 | F21: 0 | G21: 0 | I21: 611.38 | K21: 0.39474631 | L21: 0 | M21: 0.39474631
A22: EROAD | C22: 2 | D22: 66.66 | E22: 60 | F22: 6.66 | G22: 0.099909991 | I22: 91 | K22: 0.26747253 | L22: 0.073186813 | M22: 0.34065934
A23: ETC | C23: 5 | D23: 402 | E23: 402 | F23: 0 | G23: 0 | I23: 639.7 | K23: 0.37158043 | L23: 0 | M23: 0.37158043
A24: FAUCHON | C24: 2 | D24: 51.96 | E24: 51.96 | F24: 0 | G24: 0 | I24: 73 | K24: 0.28821918 | L24: 0 | M24: 0.28821918
A25: FINDIS | C25: 63 | D25: 16828.31 | E25: 16034.48 | F25: 793.83 | G25: 0.047172295 | I25: 23415.44 | K25: 0.28131566 | L25: 0.033901989 | M25: 0.31521765
... A33: HELFRICHKDO | C33: 61 | D33: 1148.62 | E33: 1149.27 | F33: -0.65 | G33: -0.00056589647 | I33: 1995.34 | K33: 0.42434873 | L33: -0.00032575902 | M33: 0.42402297
A34: HENRIJULIEN | C34: 1 | D34: 25.78 | E34: 25.78 | F34: 0 | G34: 0 | I34: 0 | N34: Cde FR331902 facturée 0€ sur l'opération Récupération de points PCS chez ANBM
A35: ICON | C35: 3 | D35: 1105.34 | E35: 1105.34 | F35: 0 | G35: 0 | I35: 1700 | K35: 0.3498 | L35: 0 | M35: 0.3498
A36: Intex | C36: 1 | D36: 302.39 | E36: 203.69 | F36: 98.7 | G36: 0.32639968 | I36: 500 | K36: 0.39522 | L36: 0.1974 | M36: 0.59262 | N36: Avoir sur EP reçu
A37: JOBEK | C37: 9 | D37: 889.22 | E37: 890.11 | F37: -0.89 | G37: -0.0010008772 | I37: 1667.35 | K37: 0.46668666 | L37: -0.00053378115 | M37: 0.46615288
A38: JOLIPA | C38: 1 | D38: 235.3 | E38: 108.3 | F38: 127 | G38: 0.53973651 | I38: 500 | K38: 0.5294 | L38: 0.254 | M38: 0.7834
A39: LABOMAURICEMESSEG | C39: 7 | D39: 107.9 | E39: 107.9 | F39: 0 | G39: 0 | I39: 173.72 | K39: 0.37888556 | L39: 0 | M39: 0.37888556
A40: LAMEREPOULARD | C40: 3 | D40: 34.86 | E40: 24.51 | F40: 10.35 | G40: 0.29690189 | I40: 52.5 | K40: 0.336 | L40: 0.19714286 | M40: 0.53314286 | N40: Avoir sur EP reçu
A41: LAVINIAFOURN | C41: 2 | D41: 77.25 | E41: 77.25 | F41: 0 | G41: 0 | I41: 120 | K41: 0.35625 | L41: 0 | M41: 0.35625
A42: LMDW | C42: 3 | D42: 134.43 | E42: 134.42 | F42: 0.01 | G42: 7.4388157e-05 | I42: 194.9 | K42: 0.31026167 | L42: 5.1308363e-05 | M42: 0.31031298
A43: LOGEEKD | C43: 4 | D43: 74.76 | E43: 82.93 | F43: -8.17 | G43: -0.10928304 | I43: 125.85 | K43: 0.40595948 | L43: -0.064918554 | M43: 0.34104092
A44: LUNAR | C44: 7 | D44: 78.4 | E44: 78.4 | F44: 0 | G44: 0 | I44: 120.84 | K44: 0.35120821 | L44: 0 | M44: 0.35120821
A45: Mabylone | C45: 44 | D45: 2624.45 | E45: 2639.83 | F45: -15.38 | G45: -0.0058602755 | I45: 4019.56 | K45: 0.34708028 | L45: -0.0038262894 | M45: 0.34325399
A46: MATHON | C46: 51 | D46: 2108.29 | E46: 2062.73 | F46: 45.56 | G46: 0.02160993 | I46: 3398.49 | K46: 0.37963919 | L46: 0.013405954 | M46: 0.39304515 | N46: Plusierus commandes on été envoyées groupées
A47: OXYBUL | C47: 13 | D47: 219.62 | E47: 220.37 | F47: -0.75 | G47: -0.0034149895 | I47: 371.38 | K47: 0.40863805 | L47: -0.0020194949 | M47: 0.40661856
...

Sheet Feuil2
A1: fournisseur | B1: Column2 | C1: Nombre de numero_oa | D1: HT MO | E1: HT Facturé | F1: Somme de total_prix_fournisseur_ht | G1: Somme de Ecart prix | H1: Column8 | I1: CA HT | J1: ecart qte | K1: MB th | L1: ecart px | M1: MN HA | N1: Column14
A2: ABSOLUMENTDESIGN | C2: 4 | D2: 61 | E2: 61 | F2: 0 | G2: 0 | I2: 98.34 | K2: 0.37970307 | L2: 0 | M2: 0.37970307
A3: ADLPFOURN | C3: 53 | D3: 1075.9 | E3: 1075.9 | F3: 0 | G3: 0 | I3: 1416.34 | K3: 0.24036601 | L3: 0 | M3: 0.24036601
A4: ALESSI | C4: 2 | D4: 99.5 | E4: 99.47 | F4: 0.03 | G4: 0.00030150754 | I4: 167.33 | K4: 0.40536664 | L4: 0.00017928644 | M4: 0.40554593
A5: AMAZON | C5: 124 | D5: 7023.42 | E5: 7072.34 | F5: -48.92 | G5: -0.0069652676 | I5: 10938.13 | K5: 0.35789573 | L5: -0.0044724281 | M5: 0.3534233
A6: ANNEMASSE | C6: 1 | D6: 2532 | E6: 2532 | F6: 0 | G6: 0 | I6: 2816.68 | K6: 0.10106934 | L6: 0 | M6: 0.10106934 | N6: My shop
A7: APPLE | C7: 242 | D7: 124031.33 | E7: 124031.33 | F7: 0 | G7: 0 | I7: 145662.64 | K7: 0.1485028 | L7: 0 | M7: 0.1485028
A8: APPLEWOOD | C8: 18 | D8: 1025.45 | E8: 1039.55 | F8: -14.1 | G8: -0.013750061 | I8: 1595 | K8: 0.35708464 | L8: -0.0088401254 | M8: 0.34824451
A9: AVESTA | C9: 8 | D9: 2601.08 | E9: 2617.08 | F9: -16 | G9: -0.006151291 | I9: 3424.99 | K9: 0.24055837 | L9: -0.0046715465 | M9: 0.23588682 | N9: 2€ fdp en supp
A10: AVP | C10: 7 | D10: 261.75 | E10: 261.75 | F10: 5.6843419e-14 | G10: 2.1716683e-16 | I10: 438.47 | K10: 0.40303784 | L10: 1.2964038e-16 | M10: 0.40303784
A11: BIENMANGER | C11: 96 | D11: 2761.82 | E11: 2888.66 | F11: -126.84 | G11: -0.045926237 | I11: 4300.18 | K11: 0.35774316 | L11: -0.02949644 | M11: 0.32824672
A12: Bijourama | C12: 33 | D12: 1314.82 | E12: 1315.49 | F12: -0.67 | G12: -0.00050957546 | I12: 2407.27 | K12: 0.45381283 | L12: -0.00027832358 | M12: 0.4535345
A13: BOOMERANG | C13: 5 | D13: 220.6 | E13: 215.62 | F13: 4.98 | G13: 0.022574796 | I13: 355.06 | K13: 0.37869656 | L13: 0.014025798 | M13: 0.39272236
A14: BOWERS | C14: 3 | D14: 688.36 | E14: 725.78 | F14: -37.42 | G14: -0.05436109 | I14: 1024.96 | K14: 0.32840306 | L14: -0.036508742 | M14: 0.29189432 | N14: Opération fidelité sur FR315535A, ecart prix sur commande FR306471
A15: BPLUS | C15: 1 | D15: 28.15 | E15: 28.16 | F15: -0.01 | G15: -0.00035523979 | I15: 45 | K15: 0.37444444 | L15: -0.00022222222 | M15: 0.37422222
A16: CAMBUSIER | C16: 3 | D16: 62.5 | E16: 65.5 | F16: -3 | G16: -0.048 | I16: 97.93 | K16: 0.36178903 | L16: -0.030634126 | M16: 0.33115491
A17: CDISCOUNT | C17: 909 | D17: 75834.73 | E17: 77201.53 | F17: -1366.8 | G17: -0.018023404 | I17: 121376 | K17: 0.3752082 | L17: -0.011260875 | M17: 0.36394732
A18: CHARLOTTEBOUTIK | C18: 1 | D18: 28.4 | E18: 20.03 | F18: 8.37 | G18: 0.29471831 | I18: 50 | K18: 0.432 | L18: 0.1674 | M18: 0.5994
A19: CLAUDE | C19: 1 | D19: 45.92 | E19: 34 | F19: 11.92 | G19: 0.25958188 | I19: 75 | K19: 0.38773333 | L19: 0.15893333 | M19: 0.54666667
A20: COMTESSEDUBARRY | C20: 1 | D20: 18.17 | E20: 18.17 | F20: 0 | G20: 0 | I20: 29.18 | K20: 0.37731323 | L20: 0 | M20: 0.37731323
A21: CORNILLEAU | C21: 6 | D21: 1477.95 | E21: 1452.71 | F21: 25.24 | G21: 0.017077709 | I21: 2304.48 | K21: 0.35866226 | L21: 0.010952579 | M21: 0.36961484
A22: CUVELIER | C22: 26 | D22: 1369.54 | E22: 1347.22 | F22: 22.32 | G22: 0.016297443 | I22: 1986.66 | K22: 0.31063191 | L22: 0.011234937 | M22: 0.32186685
A23: CYCLE | C23: 4 | D23: 3884 | E23: 3940 | F23: -56 | G23: -0.014418126 | I23: 6078.47 | K23: 0.36102342 | L23: -0.0092128447 | M23: 0.35181057
A24: DECATHLON | C24: 3 | D24: 202.3 | E24: 200.01 | F24: 2.29 | G24: 0.011319822 | I24: 262.51 | K24: 0.22936269 | L24: 0.0087234772 | M24: 0.23808617
A25: Déclikdéco | C25: 10 | D25: 419.82 | E25: 503.32 | F25: -83.5 | G25: -0.19889476 | I25: 769.21 | K25: 0.45421926 | L25: -0.10855293 | M25: 0.34566633
A26: DELSAY | C26: 23 | D26: 1780.01 | E26: 1778.1 | F26: 1.91 | G26: 0.0010730277 | I26: 2491.01 | K26: 0.28542639 | L26: 0.00076675726 | M26: 0.28619315
... A43: GARDENMAX | C43: 5 | D43: 865.19 | E43: 855.07 | F43: 10.12 | G43: 0.011696853 | I43: 1249.52 | K43: 0.30758211 | L43: 0.0080991101 | M43: 0.31568122
A44: GMT | C44: 4 | D44: 353.5 | E44: 449.64 | F44: -96.14 | G44: -0.27196605 | I44: 605.18 | K44: 0.41587627 | L44: -0.15886183 | M44: 0.25701444 | N44: Demande d'avoir en cours
A45: GUYDEGRENNE | C45: 3 | D45: 651.6 | E45: 672.2 | F45: -20.6 | G45: -0.031614487 | I45: 1009.67 | K45: 0.35464063 | L45: -0.020402706 | M45: 0.33423792 | N45: Prix pas maj.
A46: GUYOT | C46: 6 | D46: 122.97 | E46: 111.37 | F46: 11.6 | G46: 0.094331951 | I46: 192.67 | K46: 0.36175845 | L46: 0.060206571 | M46: 0.42196502
A47: Helfrich Kdo | C47: 406 | D47: 8253.1 | E47: 8240.2 | F47: 12.9 | G47: 0.001563049 | I47: 13809.71 | K47: 0.40236978 | L47: 0.00093412534 | M47: 0.40330391
A48: ICON | C48: 13 | D48: 3909.76 | E48: 3889.64 | F48: 20.12 | G48: 0.0051460959 | I48: 7452.33 | K48: 0.47536408 | L48: 0.0026998268 | M48: 0.47806391
A49: INTEX | C49: 8 | D49: 2169.25 | E49: 2206.24 | F49: -36.99 | G49: -0.017051976 | I49: 3359.01 | K49: 0.3541996 | L49: -0.011012173 | M49: 0.34318743 | N49: EP validés par Laurine
A50: JOLIPA | C50: 3 | D50: 312.9 | E50: 285.6 | F50: 27.3 | G50: 0.087248322 | I50: 516.67 | K50: 0.394391 | L50: 0.052838369 | M50: 0.44722937
A51: La Halte Gourmande | C51: 28 | D51: 1087.11 | E51: 1087.12 | F51: -0.01 | G51: -9.1987011e-06 | I51: 1801.78 | K51: 0.39664665 | L51: -5.5500672e-06 | M51: 0.3966411
A52: LABOMAURICEMESSEG | C52: 25 | D52: 299.9 | E52: 264.9 | F52: 35 | G52: 0.11670557 | I52: 529.16 | K52: 0.4332527 | L52: 0.066142566 | M52: 0.49939527
A53: LAMEREPOULARD | C53: 20 | D53: 229.02 | E53: 242.03 | F53: -13.01 | G53: -0.056807266 | I53: 335.06 | K53: 0.31648063 | L53: -0.038828866 | M53: 0.27765176
A54: LAVINIAFOURN | C54: 7 | D54: 918.84 | E54: 918.84 | F54: 0 | G54: 0 | I54: 505.37 | K54: -0.81815304 | L54: 0 | M54: -0.81815304 | N54: Op offre de remboursement montant 22396 pts (Fidcged) FR319837
A55: LEMARQUIER | C55: 3 | D55: 1921.24 | E55: 1773.59 | F55: 147.65 | G55: 0.076851408 | I55: 2806.47 | K55: 0.31542472 | L55: 0.052610575 | M55: 0.36803529
A56: LOGEEKD | C56: 30 | D56: 563.16 | E56: 573.26 | F56: -10.1 | G56: -0.017934512 | I56: 911.17 | K56: 0.38193751 | L56: -0.011084649 | M56: 0.37085286 | N56: Epvalidés par Camille
...

Sheet Feuil1
A1: =Feuil5!A1 -> FOURNISSEUR | B1: =Feuil5!B1 -> % /total | C1: =Feuil5!C1 -> Nombre d'OA | D1: =Feuil5!D1 -> HT MO | E1: =Feuil5!E1 -> HT FACTURES | F1: =Feuil5!F1 -> ECART (€) | G1: =Feuil5!G1 -> ECART (%) | H1: =Feuil5!H1 -> Column8 | ... O1: =Feuil5!O1 -> Column15
A2: =Feuil4!A1 -> fournisseur | B2: =Feuil4!B1 -> Column2 | C2: =Feuil4!C1 -> Nombre de numero_oa | D2: =Feuil4!D1 -> HT MO | E2: =Feuil4!E1 -> HT Facturé | F2: =Feuil4!F1 -> Somme de total_prix_fournisseur_ht | G2: =Feuil4!G1 -> Somme de Ecart prix | H2: =Feuil4!H1 -> Column8 | ... O2: =Feuil4!O1 -> 0
A3: =Feuil3!A1 -> fournisseur | B3: =Feuil3!B1 -> Column2 | C3: =Feuil3!C1 -> Nombre de numero_oa | D3: =Feuil3!D1 -> HT MO | E3: =Feuil3!E1 -> HT Facturé | F3: =Feuil3!F1 -> Somme de total_prix_fournisseur_ht | G3: =Feuil3!G1 -> Somme de Ecart prix | H3: =Feuil3!H1 -> Column8 | ... O3: =Feuil3!O1 -> 0
A4: =Feuil2!A1 -> fournisseur | B4: =Feuil2!B1 -> Column2 | C4: =Feuil2!C1 -> Nombre de numero_oa | D4: =Feuil2!D1 -> HT MO | E4: =Feuil2!E1 -> HT Facturé | F4: =Feuil2!F1 -> Somme de total_prix_fournisseur_ht | G4: =Feuil2!G1 -> Somme de Ecart prix | H4: =Feuil2!H1 -> Column8 | ... O4: =Feuil2!O1 -> 0
A6: =A1=A2=A3=A4 -> FALSE | B6: =B1=B2=B3=B4 -> FALSE | C6: =C1=C2=C3=C4 -> FALSE | D6: =D1=D2=D3=D4 -> FALSE | E6: =E1=E2=E3=E4 -> FALSE | F6: =F1=F2=F3=F4 -> FALSE | G6: =G1=G2=G3=G4 -> FALSE | H6: =H1=H2=H3=H4 -> FALSE | ... O6: =O1=O2=O3=O4 -> FALSE
