Workbook

Sheet Feuil6
A1: fournisseur | B1: Column2 | C1: Nombre de numero_oa | D1: HT MO | E1: HT Facturé | F1: Somme de total_prix_fournisseur_ht | G1: Somme de Ecart prix | H1: Column8 | I1: CA HT | J1: ecart qte | K1: MB th | L1: ecart px | M1: MN HA | N1: Column14 | O1: FOURNISSEUR2 | P1: % /total | Q1: Nombre d'OA | R1: HT FACTURES | S1: ECART (€) | T1: ECART (%) | U1: Column9 | V1: Column15
A2: ABSOLUMENTDESIGN | C2: 4 | D2: 61 | E2: 61 | F2: 0 | G2: 0 | I2: 98.34 | K2: 0.37970307 | L2: 0 | M2: 0.37970307
A3: ABSOLUMENTDESIGN | C3: 8 | D3: 238 | E3: 239.01 | F3: -1.01 | G3: -0.0042436975 | I3: 405.11 | K3: 0.41250525 | L3: -0.00249315 | M3: 0.4100121
A4: ADLPFOURN | C4: 53 | D4: 1075.9 | E4: 1075.9 | F4: 0 | G4: 0 | I4: 1416.34 | K4: 0.24036601 | L4: 0 | M4: 0.24036601
A5: ADLPFOURN | C5: 20 | D5: 431.47 | E5: 431.47 | F5: 0 | G5: 0 | I5: 747.99 | K5: 0.42316074 | L5: 0 | M5: 0.42316074
A6: ALESSI | C6: 2 | D6: 99.5 | E6: 99.47 | F6: 0.03 | G6: 0.00030150754 | I6: 167.33 | K6: 0.40536664 | L6: 0.00017928644 | M6: 0.40554593
A7: AMAZON | C7: 124 | D7: 7023.42 | E7: 7072.34 | F7: -48.92 | G7: -0.0069652676 | I7: 10938.13 | K7: 0.35789573 | L7: -0.0044724281 | M7: 0.3534233
A8: AMAZON | C8: 35 | D8: 2866.99 | E8: 2875.6 | F8: -8.61 | G8: -0.0030031496 | I8: 4070.33 | K8: 0.29563696 | L8: -0.0021153076 | M8: 0.29352166
A9: AMAZON | C9: 48 | D9: 7265.58 | E9: 7264.38 | F9: 1.2 | G9: 0.00016516231 | I9: 11164.48 | K9: 0.34922361 | L9: 0.00010748373 | M9: 0.34933109
A10: ANNEMASSE | C10: 1 | D10: 2532 | E10: 2532 | F10: 0 | G10: 0 | I10: 2816.68 | K10: 0.10106934 | L10: 0 | M10: 0.10106934 | N10: My shop
A11: APPLE | C11: 242 | D11: 124031.33 | E11: 124031.33 | F11: 0 | G11: 0 | I11: 145662.64 | K11: 0.1485028 | L11: 0 | M11: 0.1485028
A12: APPLE | C12: 108 | D12: 53054.83 | E12: 53054.83 | F12: 0 | G12: 0 | I12: 60947.93 | K12: 0.12950563 | L12: 0 | M12: 0.12950563
A13: APPLE | C13: 96 | D13: 43397.5 | E13: 43397.5 | F13: 0 | G13: 0 | I13: 49347.18 | K13: 0.12056778 | L13: 0 | M13: 0.12056778
A14: APPLEWOOD | C14: 18 | D14: 1025.45 | E14: 1039.55 | F14: -14.1 | G14: -0.013750061 | I14: 1595 | K14: 0.35708464 | L14: -0.0088401254 | M14: 0.34824451
A15: APPLEWOOD | C15: 7 | D15: 337.1 | E15: 337.1 | F15: 0 | G15: 0 | I15: 414.91 | K15: 0.18753465 | L15: 0 | M15: 0.18753465 | N15: Cde FR329692 et FR329693 non facturées, Op Big Jump 2019
A16: APPLEWOOD | C16: 14 | D16: 1405.89 | E16: 1405.89 | F16: 0 | G16: 0 | I16: 2317.31 | K16: 0.39330948 | L16: 0 | M16: 0.39330948
A17: AVESTA | C17: 8 | D17: 2601.08 | E17: 2617.08 | F17: -16 | G17: -0.006151291 | I17: 3424.99 | K17: 0.24055837 | L17: -0.0046715465 | M17: 0.23588682 | N17: 2€ fdp en supp
A18: AVESTA | C18: 3 | D18: 889.94 | E18: 894.94 | F18: -5 | G18: -0.0056183563 | I18: 1263.2 | K18: 0.29548765 | L18: -0.0039582014 | M18: 0.29152945
A19: AVESTA | C19: 6 | D19: 2339.81 | E19: 2348.81 | F19: -9 | G19: -0.0038464662 | I19: 3198.37 | K19: 0.26843673 | L19: -0.0028139333 | M19: 0.2656228
A20: AVP | C20: 7 | D20: 261.75 | E20: 261.75 | F20: 5.6843419e-14 | G20: 2.1716683e-16 | I20: 438.47 | K20: 0.40303784 | L20: 1.2964038e-16 | M20: 0.40303784
A21: AVP | C21: 1 | D21: 56.41 | E21: 56.41 | F21: 0 | G21: 0 | I21: 100 | K21: 0.4359 | L21: 0 | M21: 0.4359
A22: BIENMANGER | C22: 96 | D22: 2761.82 | E22: 2888.66 | F22: -126.84 | G22: -0.045926237 | I22: 4300.18 | K22: 0.35774316 | L22: -0.02949644 | M22: 0.32824672
A23: BIENMANGER | C23: 44 | D23: 1119.13 | E23: 1137.88 | F23: -18.75 | G23: -0.016754086 | I23: 1715.31 | K23: 0.347564 | L23: -0.010930969 | M23: 0.33663303
A24: Bijourama | C24: 33 | D24: 1314.82 | E24: 1315.49 | F24: -0.67 | G24: -0.00050957546 | I24: 2407.27 | K24: 0.45381283 | L24: -0.00027832358 | M24: 0.4535345
A25: Bijourama | C25: 24 | D25: 1136.91 | E25: 1137.39 | F25: -0.48 | G25: -0.00042219701 | I25: 2193.38 | K25: 0.481663 | L25: -0.00021884033 | M25: 0.48144416
A26: BOCONCEPT | C26: 1 | D26: 640.83 | E26: 640.84 | F26: -0.01 | G26: -1.5604763e-05 | I26: 712.1 | K26: 0.10008426 | L26: -1.4042971e-05 | M26: 0.10007021 | N26: My shop
A27: BOOMERANG | C27: 5 | D27: 220.6 | E27: 215.62 | F27: 4.98 | G27: 0.022574796 | I27: 355.06 | K27: 0.37869656 | L27: 0.014025798 | M27: 0.39272236
A28: Boomerang | C28: 4 | D28: 114.15 | E28: 124.57 | F28: -10.42 | G28: -0.091283399 | I28: 202.31 | K28: 0.43576689 | L28: -0.051505116 | M28: 0.38426178
A29: BOWERS | C29: 3 | D29: 688.36 | E29: 725.78 | F29: -37.42 | G29: -0.05436109 | I29: 1024.96 | K29: 0.32840306 | L29: -0.036508742 | M29: 0.29189432 | N29: Opération fidelité sur FR315535A, ecart prix sur commande FR306471
A30: BOWERS | C30: 1 | D30: 185.07 | E30: 185.07 | F30: 0 | G30: 0 | I30: 250 | K30: 0.25972 | L30: 0 | M30: 0.25972
A31: BPLUS | C31: 1 | D31: 28.15 | E31: 28.16 | F31: -0.01 | G31: -0.00035523979 | I31: 45 | K31: 0.37444444 | L31: -0.00022222222 | M31: 0.37422222
A32: BPLUS | C32: 3 | D32: 232.9 | E32: 233.3 | F32: -0.4 | G32: -0.0017174753 | I32: 416.66 | K32: 0.44103106 | L32: -0.00096001536 | M32: 0.44007104
A33: CAMBUSIER | C33: 3 | D33: 62.5 | E33: 65.5 | F33: -3 | G33: -0.048 | I33: 97.93 | K33: 0.36178903 | L33: -0.030634126 | M33: 0.33115491
A34: CAVIARDENEUVIC | C34: 1 | D34: 26.2 | E34: 32.2 | F34: -6 | G34: -0.22900763 | I34: 50 | K34: 0.476 | L34: -0.12 | M34: 0.356 | N34: EP validé par Laurine
A35: CDISCOUNT | C35: 909 | D35: 75834.73 | E35: 77201.53 | F35: -1366.8 | G35: -0.018023404 | I35: 121376 | K35: 0.3752082 | L35: -0.011260875 | M35: 0.36394732
A36: CDISCOUNT | C36: 542 | D36: 55644.78 | E36: 56151.47 | F36: -506.69 | G36: -0.0091057957 | I36: 84918.1 | K36: 0.34472415 | L36: -0.005966808 | M36: 0.33875734
A37: CDISCOUNT | C37: 607 | D37: 53998.45 | E37: 54043.13 | F37: -44.68 | G37: -0.00082743116 | I37: 85315.66 | K37: 0.36707458 | L37: -0.00052370221 | M37: 0.36655088
A38: CHARLOTTEBOUTIK | C38: 1 | D38: 28.4 | E38: 20.03 | F38: 8.37 | G38: 0.29471831 | I38: 50 | K38: 0.432 | L38: 0.1674 | M38: 0.5994
A39: CLAUDE | C39: 1 | D39: 45.92 | E39: 34 | F39: 11.92 | G39: 0.25958188 | I39: 75 | K39: 0.38773333 | L39: 0.15893333 | M39: 0.54666667
A40: CLAUDE | C40: 6 | D40: 501.02 | E40: 429.5 | F40: 71.52 | G40: 0.14274879 | I40: 934.17 | K40: 0.46367364 | L40: 0.076559941 | M40: 0.54023358 | N40: En attente de validation
A41: COMTESSEDUBARRY | C41: 1 | D41: 18.17 | E41: 18.17 | F41: 0 | G41: 0 | I41: 29.18 | K41: 0.37731323 | L41: 0 | M41: 0.37731323
A42: CORNILLEAU | C42: 6 | D42: 1477.95 | E42: 1452.71 | F42: 25.24 | G42: 0.017077709 | I42: 2304.48 | K42: 0.35866226 | L42: 0.010952579 | M42: 0.36961484
A43: CORNILLEAU | C43: 3 | D43: 1057 | E43: 1044.86 | F43: 12.14 | G43: 0.011485336 | I43: 1601.49 | K43: 0.33998963 | L43: 0.0075804407 | M43: 0.34757008
A44: CORNILLEAU | C44: 3 | D44: 2417.3 | E44: 2387.11 | F44: 30.19 | G44: 0.012489141 | I44: 3411.24 | K44: 0.29137205 | L44: 0.0088501542 | M44: 0.30022221 | N44: En attente de validation
A45: CUVELIER | C45: 26 | D45: 1369.54 | E45: 1347.22 | F45: 22.32 | G45: 0.016297443 | I45: 1986.66 | K45: 0.31063191 | L45: 0.011234937 | M45: 0.32186685
A46: CUVELIER | C46: 9 | D46: 761.1 | E46: 752.85 | F46: 8.25 | G46: 0.010839574 | I46: 1159.78 | K46: 0.34375485 | L46: 0.0071134181 | M46: 0.35086827
A47: CUVELIER | C47: 11 | D47: 514.89 | E47: 514.9 | F47: -0.01 | G47: -1.9421624e-05 | I47: 831.86 | K47: 0.38103767 | L47: -1.2021254e-05 | M47: 0.38102565
A48: CYCLE | C48: 4 | D48: 3884 | E48: 3940 | F48: -56 | G48: -0.014418126 | I48: 6078.47 | K48: 0.36102342 | L48: -0.0092128447 | M48: 0.35181057
A49: CYCLE | C49: 3 | D49: 1742 | E49: 1822 | F49: -80 | G49: -0.045924225 | I49: 2500.19 | K49: 0.30325295 | L49: -0.031997568 | M49: 0.27125538 | N49: En attente de validation
A50: DECATHLON | C50: 3 | D50: 202.3 | E50: 200.01 | F50: 2.29 | G50: 0.011319822 | I50: 262.51 | K50: 0.22936269 | L50: 0.0087234772 | M50: 0.23808617
A51: DECATHLON | C51: 11 | D51: 217.41 | E51: 238.7 | F51: -21.29 | G51: -0.097925578 | I51: 309.82 | K51: 0.29826996 | L51: -0.06871732 | M51: 0.22955264
A52: DECATHLON | C52: 61 | D52: 1552.13 | E52: 1876.56 | F52: -324.43 | G52: -0.20902244 | I52: 2449.68 | K52: 0.36639479 | L52: -0.13243771 | M52: 0.23395709 | N52: En attente de validation
A53: Déclikdéco | C53: 10 | D53: 419.82 | E53: 503.32 | F53: -83.5 | G53: -0.19889476 | I53: 769.21 | K53: 0.45421926 | L53: -0.10855293 | M53: 0.34566633
A54: Déclikdéco | C54: 4 | D54: 195.74 | E54: 238.24 | F54: -42.5 | G54: -0.21712476 | I54: 345.18 | K54: 0.43293354 | L54: -0.12312417 | M54: 0.30980937
A55: DELSAY | C55: 23 | D55: 1780.01 | E55: 1778.1 | F55: 1.91 | G55: 0.0010730277 | I55: 2491.01 | K55: 0.28542639 | L55: 0.00076675726 | M55: 0.28619315
A56: DELSAY | C56: 4 | D56: 239.27 | E56: 86.3 | F56: 152.97 | G56: 0.6393196 | I56: 409.7 | K56: 0.41598731 | L56: 0.37337076 | M56: 0.78935807 | N56: Avoir sur EP reçu
A57: DELSAY | C57: 25 | D57: 1995.56 | E57: 2008.4 | F57: -12.84 | G57: -0.0064342841 | I57: 3773.9 | K57: 0.47122075 | L57: -0.0034023159 | M57: 0.46781844 | N57: En attente de validation
A58: DELTA | C58: 367 | D58: 8323.37 | E58: 8322.55 | F58: 0.82 | G58: 9.8517788e-05 | I58: 14092.16 | K58: 0.40936166 | L58: 5.8188383e-05 | M58: 0.40941985
A59: DELTA | C59: 127 | D59: 3305.7 | E59: 3294.92 | F59: 10.78 | G59: 0.003261034 | I59: 5309.32 | K59: 0.37737789 | L59: 0.0020303918 | M59: 0.37940829
A60: DELTA | C60: 224 | D60: 5453.85 | E60: 5440.15 | F60: 13.7 | G60: 0.0025119869 | I60: 9112.29 | K60: 0.40148415 | L60: 0.001503464 | M60: 0.40298761
A61: DIAG | C61: 27 | D61: 3180.68 | E61: 3261.39 | F61: -80.71 | G61: -0.025375077 | I61: 5002.63 | K61: 0.36419843 | L61: -0.016133514 | M61: 0.34806492
A62: DIAG | C62: 8 | D62: 665.47 | E62: 692.8 | F62: -27.33 | G62: -0.041068718 | I62: 1135.63 | K62: 0.41400808 | L62: -0.024065937 | M62: 0.38994215
A63: DIAG | C63: 11 | D63: 992.95 | E63: 999.19 | F63: -6.24 | G63: -0.0062843043 | I63: 1628.24 | K63: 0.39016975 | L63: -0.0038323589 | M63: 0.38633739
A64: DOVIRIS | C64: 11 | D64: 178.83 | E64: 178.83 | F64: 0 | G64: 0 | I64: 340.05 | K64: 0.47410675 | L64: 0 | M64: 0.47410675
A65: DOVIRIS | C65: 8 | D65: 537.46 | E65: 537.46 | F65: 0 | G65: 0 | I65: 944.66 | K65: 0.43105456 | L65: 0 | M65: 0.43105456
A66: DOVIRIS | C66: 4 | D66: 351.59 | E66: 351.59 | F66: 0 | G66: 0 | I66: 508.39 | K66: 0.30842463 | L66: 0 | M66: 0.30842463
A67: DUCLOT | C67: 33 | D67: 2442.16 | E67: 2442.16 | F67: -4.5474735e-13 | G67: -1.8620703e-16 | I67: 3582.24 | K67: 0.31825897 | L67: -1.2694497e-16 | M67: 0.31825897
A68: DUCLOT | C68: 4 | D68: 296.73 | E68: 296.73 | F68: 0 | G68: 0 | I68: 370.38 | K68: 0.19884983 | L68: 0 | M68: 0.19884983
A69: DUCLOT | C69: 16 | D69: 2336.1 | E69: 2336.1 | F69: 0 | G69: 0 | I69: 3072.8 | K69: 0.23974876 | L69: 0 | M69: 0.23974876
... A72: DUCSDEGASCOGNE | C72: 14 | D72: 307.99 | E72: 307.98 | F72: 0.01 | G72: 3.2468587e-05 | I72: 467.43 | K72: 0.3410992 | L72: 2.1393578e-05 | M72: 0.3411206
A73: DURANTI | C73: 1 | D73: 1250 | E73: 1250 | F73: 0 | G73: 0 | I73: 1376.67 | K73: 0.092011884 | L73: 0 | M73: 0.092011884 | N73: My shop
A74: ELIPSON | C74: 7 | D74: 1223.9 | E74: 1223.9 | F74: 0 | G74: 0 | I74: 2014.99 | K74: 0.39260244 | L74: 0 | M74: 0.39260244
A75: ELIPSON | C75: 3 | D75: 266.06 | E75: 266.07 | F75: -0.01 | G75: -3.7585507e-05 | I75: 399.9 | K75: 0.33468367 | L75: -2.5006252e-05 | M75: 0.33465866
A76: ELIPSON | C76: 2 | D76: 340.43 | E76: 340.43 | F76: 0 | G76: 0 | I76: 554.59 | K76: 0.38615914 | L76: 0 | M76: 0.38615914
A77: EMILE | C77: 10 | D77: 510.95 | E77: 510.95 | F77: -5.6843419e-14 | G77: -1.1125045e-16 | I77: 878.87 | K77: 0.41862847 | L77: -6.4677846e-17 | M77: 0.41862847
A78: EMILE | C78: 8 | D78: 461.71 | E78: 461.71 | F78: 5.6843419e-14 | G78: 1.2311498e-16 | I78: 815.01 | K78: 0.43349161 | L78: 6.974567e-17 | M78: 0.43349161
A79: Emile Henry | C79: 9 | D79: 543.47 | E79: 551.18 | F79: -7.71 | G79: -0.014186616 | I79: 1014.17 | K79: 0.46412337 | L79: -0.0076022758 | M79: 0.4565211
A80: ENGEL | C80: 28 | D80: 1114.38 | E80: 1114.38 | F80: 0 | G80: 0 | I80: 2029.27 | K80: 0.45084686 | L80: 0 | M80: 0.45084686
A81: ENGEL | C81: 15 | D81: 370.04 | E81: 370.04 | F81: 0 | G81: 0 | I81: 611.38 | K81: 0.39474631 | L81: 0 | M81: 0.39474631
A82: ENGEL | C82: 42 | D82: 1345.84 | E82: 1352.04 | F82: -6.2 | G82: -0.0046067883 | I82: 2405.37 | K82: 0.44048525 | L82: -0.002577566 | M82: 0.43790768
A83: EROAD | C83: 1 | D83: 901.67 | E83: 903.34 | F83: -1.67 | G83: -0.0018521188 | I83: 1333.33 | K83: 0.32374581 | L83: -0.0012525031 | M83: 0.32249331
A84: EROAD | C84: 2 | D84: 66.66 | E84: 60 | F84: 6.66 | G84: 0.099909991 | I84: 91 | K84: 0.26747253 | L84: 0.073186813 | M84: 0.34065934
A85: EROAD | C85: 3 | D85: 1209 | E85: 1224.01 | F85: -15.01 | G85: -0.012415219 | I85: 1772.48 | K85: 0.31790486 | L85: -0.0084683607 | M85: 0.3094365 | N85: En attente de validation
A86: ESTEBANFOURN | C86: 2 | D86: 56.46 | E86: 56.45 | F86: 0.01 | G86: 0.00017711654 | I86: 90.83 | K86: 0.37839921 | L86: 0.00011009578 | M86: 0.3785093
A87: ESTEBANFOURN | C87: 5 | D87: 103.87 | E87: 103.87 | F87: 0 | G87: 0 | I87: 184.93 | K87: 0.43832802 | L87: 0 | M87: 0.43832802
A88: ETC | C88: 2 | D88: 86 | E88: 86 | F88: 0 | G88: 0 | I88: 150 | K88: 0.42666667 | L88: 0 | M88: 0.42666667
A89: ETC | C89: 5 | D89: 402 | E89: 402 | F89: 0 | G89: 0 | I89: 639.7 | K89: 0.37158043 | L89: 0 | M89: 0.37158043
A90: ETC | C90: 1 | D90: 38.95 | E90: 38.95 | F90: 0 | G90: 0 | I90: 73.33 | K90: 0.46883949 | L90: 0 | M90: 0.46883949
A91: EVRARD | C91: 7 | D91: 284.13 | E91: 279.34 | F91: 4.79 | G91: 0.01685848 | I91: 533.34 | K91: 0.46726291 | L91: 0.0089811377 | M91: 0.47624405
A92: EVRARD | C92: 6 | D92: 178.82 | E92: 176.11 | F92: 2.71 | G92: 0.015154904 | I92: 287.5 | K92: 0.37801739 | L92: 0.009426087 | M92: 0.38744348
A93: FAUCHON | C93: 4 | D93: 95.36 | E93: 95.36 | F93: 0 | G93: 0 | I93: 153.34 | K93: 0.378114 | L93: 0 | M93: 0.378114
A94: FAUCHON | C94: 2 | D94: 51.96 | E94: 51.96 | F94: 0 | G94: 0 | I94: 73 | K94: 0.28821918 | L94: 0 | M94: 0.28821918
A95: FINDIS | C95: 123 | D95: 31448.61 | E95: 29084.26 | F95: 2364.35 | G95: 0.075181383 | I95: 46285.46 | K95: 0.32055099 | L95: 0.051081916 | M95: 0.37163291
A96: FINDIS | C96: 63 | D96: 16828.31 | E96: 16034.48 | F96: 793.83 | G96: 0.047172295 | I96: 23415.44 | K96: 0.28131566 | L96: 0.033901989 | M96: 0.31521765
A97: FINDIS | C97: 62 | D97: 11967.21 | E97: 11871.97 | F97: 95.24 | G97: 0.007958413 | I97: 18670.52 | K97: 0.35903178 | L97: 0.0051010898 | M97: 0.36413287 | N97: FDP non facturé
A98: FNACPRO | C98: 202 | D98: 17554.26 | E98: 17458.58 | F98: 95.68 | G98: 0.0054505288 | I98: 22329.47 | K98: 0.21385237 | L98: 0.0042849203 | M98: 0.21813729
A99: FNACPRO | C99: 83 | D99: 10181.89 | E99: 10177.06 | F99: 4.83 | G99: 0.00047437165 | I99: 13570.79 | K99: 0.24972017 | L99: 0.00035591148 | M99: 0.25007608
A100: FNACPRO | C100: 137 | D100: 14238.37 | E100: 14232.48 | F100: 5.89 | G100: 0.00041367095 | I100: 18102.64 | K100: 0.21346444 | L100: 0.00032536691 | M100: 0.21378981
A101: FRENCH | C101: 258 | D101: 8346.25 | E101: 8233.35 | F101: 112.9 | G101: 0.013527033 | I101: 15404.72 | K101: 0.45820177 | L101: 0.0073289226 | M101: 0.46553069
A102: FRENCH | C102: 79 | D102: 2015.7 | E102: 2012.55 | F102: 3.15 | G102: 0.0015627325 | I102: 3898.28 | K102: 0.4829258 | L102: 0.00080804868 | M102: 0.48373385
...

Sheet Feuil5
A1: FOURNISSEUR | B1: % /total | C1: Nombre d'OA | D1: HT MO | E1: HT FACTURES | F1: ECART (€) | G1: ECART (%) | H1: Column8 | I1: Column9 | J1: CA HT | K1: ecart qte | L1: MB th | M1: ecart px | N1: MN HA | O1: Column15
A2: ADLP | C2: 13 | D2: 407.55 | E2: 407.55 | F2: 0 | G2: 0 | J2: 597.2 | L2: 0.3175653 | M2: 0 | N2: 0.3175653
A3: Alice's Garden | C3: 114 | D3: 16252.5 | E3: 16252.69 | F3: -0.19 | G3: -1.1690509e-05 | J3: 25907.88 | L3: 0.37268121 | M3: -7.3336761e-06 | N3: 0.37267387
A4: AMAZON | C4: 25 | D4: 2219.95 | E4: 2174.52 | F4: 45.43 | G4: 0.020464425 | J4: 3531.82 | L4: 0.37144305 | M4: 0.012863056 | N4: 0.38430611
A5: APPLE | C5: 63 | D5: 28374.74 | E5: 28374.69 | F5: 0.05 | G5: 1.7621307e-06 | J5: 34057.12 | L5: 0.16684852 | M5: 1.4681218e-06 | N5: 0.16684999
A6: Bien Manger.com | C6: 12 | D6: 231.69 | E6: 231.69 | F6: 0 | G6: 0 | J6: 364.95 | L6: 0.36514591 | M6: 0 | N6: 0.36514591
A7: BOOMERANG | C7: 3 | D7: 149.43 | E7: 133.05 | F7: 16.38 | G7: 0.10961654 | J7: 232.48 | L7: 0.35723503 | M7: 0.070457674 | N7: 0.4276927
A8: BPLUS | C8: 4 | D8: 202.5 | E8: 202.9 | F8: -0.4 | G8: -0.0019753086 | J8: 271.51 | L8: 0.25417112 | M8: -0.0014732422 | N8: 0.25269787
A9: CDISCOUNT | C9: 431 | D9: 40750.58 | E9: 40828.49 | F9: -77.91 | G9: -0.0019118746 | J9: 59940.11 | L9: 0.32014506 | M9: -0.0012997974 | N9: 0.31884526
A10: Claude DEZORME | C10: 2 | D10: 162 | E10: 159 | F10: 3 | G10: 0.018518519 | J10: 270 | L10: 0.4 | M10: 0.011111111 | N10: 0.41111111
A11: CORNILLEAU | C11: 5 | D11: 993.3 | E11: 974.76 | F11: 18.54 | G11: 0.018665056 | J11: 1431.7 | L11: 0.3062094 | M11: 0.01294964 | N11: 0.31915904
A12: CUVELIER | C12: 9 | D12: 278.1 | E12: 278.1 | F12: 0 | G12: 0 | J12: 434.91 | L12: 0.36055736 | M12: 0 | N12: 0.36055736
A13: Cycle Europe | C13: 3 | D13: 1186 | E13: 1092 | F13: 94 | G13: 0.07925801 | J13: 1610.23 | L13: 0.26345926 | M13: 0.058376754 | N13: 0.32183601
... A23: FINDIS | C23: 39 | D23: 12739.18 | E23: 12188.19 | F23: 550.99 | G23: 0.043251606 | J23: 16792.16 | L23: 0.24136144 | M23: 0.032812336 | N23: 0.27417378
A24: Fnac | C24: 92 | D24: 11770.41 | E24: 11806.41 | F24: -36 | G24: -0.0030585171 | J24: 14412.39 | L24: 0.18331311 | M24: -0.0024978508 | N24: 0.18081526 | O24: Cde sopartex marge théo à16%, ecart prix sur cette commande marge réelle à -7%. Cde particulier, idem
A25: G pas Plus | C25: 25 | D25: 1604.94 | E25: 1613.28 | F25: -8.34 | G25: -0.0051964559 | J25: 2556.5 | L25: 0.37221201 | M25: -0.0032622726 | N25: 0.36894974
A26: Garden Max | C26: 2 | D26: 365.34 | E26: 365.34 | F26: 0 | G26: 0 | J26: 575 | L26: 0.36462609 | M26: 0 | N26: 0.36462609
A27: Guyot Gourmet | C27: 3 | D27: 148.09 | E27: 148.09 | F27: 0 | G27: 0 | J27: 225.01 | L27: 0.34185147 | M27: 0 | N27: 0.34185147
A28: ICON | C28: 5 | D28: 1386.68 | E28: 1386.68 | F28: 0 | G28: 0 | J28: 2551.56 | L28: 0.45653639 | M28: 0 | N28: 0.45653639
A29: INTEX | C29: 1 | D29: 3126.29 | E29: 3130.89 | F29: -4.6 | G29: -0.0014713926 | J29: 4910.34 | L29: 0.36332515 | M29: -0.00093679867 | N29: 0.36238835
A30: Jobek | C30: 3 | D30: 210.08 | E30: 204.74 | F30: 5.34 | G30: 0.025418888 | J30: 406.25 | L30: 0.48288 | M30: 0.013144615 | N30: 0.49602462
A31: La Ptite Grenouille | C31: 7 | D31: 174.62 | E31: 174.61 | F31: 0.01 | G31: 5.7267209e-05 | J31: 271.41 | L31: 0.35661914 | M31: 3.6844626e-05 | N31: 0.35665598
A32: Laboratoire Messegue | C32: 2 | D32: 19 | E32: 14 | F32: 5 | G32: 0.26315789 | J32: 33.34 | L32: 0.43011398 | M32: 0.14997001 | N32: 0.58008398
A33: Logeek Design | C33: 4 | D33: 74.12 | E33: 74.13 | F33: -0.01 | G33: -0.00013491635 | J33: 119.14 | L33: 0.37787477 | M33: -8.3934867e-05 | N33: 0.37779083
A34: Lunar Import | C34: 39 | D34: 469.6 | E34: 469.6 | F34: 0 | G34: 0 | J34: 757.04 | L34: 0.37968932 | M34: 0 | N34: 0.37968932
A35: Marques & Prestige | C35: 17 | D35: 1462.2 | E35: 1465.08 | F35: -2.88 | G35: -0.0019696348 | J35: 2414.29 | L35: 0.3943561 | M35: -0.0011928973 | N35: 0.39316321
A36: MATHON | C36: 33 | D36: 1478.8 | E36: 1478.8 | F36: 0 | G36: 0 | J36: 2774.08 | L36: 0.46692237 | M36: 0 | N36: 0.46692237
... A58: WEBER | C58: 5 | D58: 2876.22 | E58: 2768.41 | F58: 107.81 | G58: 0.037483225 | J58: 3724.62 | L58: 0.22778163 | M58: 0.028945235 | N58: 0.25672686

Sheet Feuil4
A1: fournisseur | B1: Column2 | C1: Nombre de numero_oa | D1: HT MO | E1: HT Facturé | F1: Somme de total_prix_fournisseur_ht | G1: Somme de Ecart prix | H1: Column8 | I1: CA HT | J1: ecart qte | K1: MB th | L1: ecart px | M1: MN HA | N1: Column14
A2: ABSOLUMENTDESIGN | C2: 8 | D2: 238 | E2: 239.01 | F2: -1.01 | G2: -0.0042436975 | I2: 405.11 | K2: 0.41250525 | L2: -0.00249315 | M2: 0.4100121
A3: ADLPFOURN | C3: 20 | D3: 431.47 | E3: 431.47 | F3: 0 | G3: 0 | I3: 747.99 | K3: 0.42316074 | L3: 0 | M3: 0.42316074
A4: AMAZON | C4: 48 | D4: 7265.58 | E4: 7264.38 | F4: 1.2 | G4: 0.00016516231 | I4: 11164.48 | K4: 0.34922361 | L4: 0.00010748373 | M4: 0.34933109
A5: APPLE | C5: 96 | D5: 43397.5 | E5: 43397.5 | F5: 0 | G5: 0 | I5: 49347.18 | K5: 0.12056778 | L5: 0 | M5: 0.12056778
A6: APPLEWOOD | C6: 14 | D6: 1405.89 | E6: 1405.89 | F6: 0 | G6: 0 | I6: 2317.31 | K6: 0.39330948 | L6: 0 | M6: 0.39330948
A7: AVESTA | C7: 6 | D7: 2339.81 | E7: 2348.81 | F7: -9 | G7: -0.0038464662 | I7: 3198.37 | K7: 0.26843673 | L7: -0.0028139333 | M7: 0.2656228
A8: AVP | C8: 1 | D8: 56.41 | E8: 56.41 | F8: 0 | G8: 0 | I8: 100 | K8: 0.4359 | L8: 0 | M8: 0.4359
A9: Bijourama | C9: 24 | D9: 1136.91 | E9: 1137.39 | F9: -0.48 | G9: -0.00042219701 | I9: 2193.38 | K9: 0.481663 | L9: -0.00021884033 | M9: 0.48144416
A10: Boomerang | C10: 4 | D10: 114.15 | E10: 124.57 | F10: -10.42 | G10: -0.091283399 | I10: 202.31 | K10: 0.43576689 | L10: -0.051505116 | M10: 0.38426178
A11: BOCONCEPT | C11: 1 | D11: 640.83 | E11: 640.84 | F11: -0.01 | G11: -1.5604763e-05 | I11: 712.1 | K11: 0.10008426 | L11: -1.4042971e-05 | M11: 0.10007021 | N11: My shop
A12: CAVIARDENEUVIC | C12: 1 | D12: 26.2 | E12: 32.2 | F12: -6 | G12: -0.22900763 | I12: 50 | K12: 0.476 | L12: -0.12 | M12: 0.356 | N12: EP validé par Laurine
A13: CDISCOUNT | C13: 607 | D13: 53998.45 | E13: 54043.13 | F13: -44.68 | G13: -0.00082743116 | I13: 85315.66 | K13: 0.36707458 | L13: -0.00052370221 | M13: 0.36655088
A14: CLAUDE | C14: 6 | D14: 501.02 | E14: 429.5 | F14: 71.52 | G14: 0.14274879 | I14: 934.17 | K14: 0.46367364 | L14: 0.076559941 | M14: 0.54023358 | N14: En attente de validation
A15: CORNILLEAU | C15: 3 | D15: 2417.3 | E15: 2387.11 | F15: 30.19 | G15: 0.012489141 | I15: 3411.24 | K15: 0.29137205 | L15: 0.0088501542 | M15: 0.30022221 | N15: En attente de validation
A16: CUVELIER | C16: 11 | D16: 514.89 | E16: 514.9 | F16: -0.01 | G16: -1.9421624e-05 | I16: 831.86 | K16: 0.38103767 | L16: -1.2021254e-05 | M16: 0.38102565
A17: CYCLE | C17: 3 | D17: 1742 | E17: 1822 | F17: -80 | G17: -0.045924225 | I17: 2500.19 | K17: 0.30325295 | L17: -0.031997568 | M17: 0.27125538 | N17: En attente de validation
A18: DECATHLON | C18: 61 | D18: 1552.13 | E18: 1876.56 | F18: -324.43 | G18: -0.20902244 | I18: 2449.68 | K18: 0.36639479 | L18: -0.13243771 | M18: 0.23395709 | N18: En attente de validation
A19: Déclikdéco | C19: 4 | D19: 195.74 | E19: 238.24 | F19: -42.5 | G19: -0.21712476 | I19: 345.18 | K19: 0.43293354 | L19: -0.12312417 | M19: 0.30980937
A20: DELSAY | C20: 25 | D20: 1995.56 | E20: 2008.4 | F20: -12.84 | G20: -0.0064342841 | I20: 3773.9 | K20: 0.47122075 | L20: -0.0034023159 | M20: 0.46781844 | N20: En attente de validation
A21: DELTA | C21: 224 | D21: 5453.85 | E21: 5440.15 | F21: 13.7 | G21: 0.0025119869 | I21: 9112.29 | K21: 0.40148415 | L21: 0.001503464 | M21: 0.40298761
A22: DIAG | C22: 11 | D22: 992.95 | E22: 999.19 | F22: -6.24 | G22: -0.0062843043 | I22: 1628.24 | K22: 0.39016975 | L22: -0.0038323589 | M22: 0.38633739
A23: DOVIRIS | C23: 4 | D23: 351.59 | E23: 351.59 | F23: 0 | G23: 0 | I23: 508.39 | K23: 0.30842463 | L23: 0 | M23: 0.30842463
A24: DUCLOT | C24: 16 | D24: 2336.1 | E24: 2336.1 | F24: 0 | G24: 0 | I24: 3072.8 | K24: 0.23974876 | L24: 0 | M24: 0.23974876
A25: DUCSDEGASCOGNE | C25: 14 | D25: 307.99 | E25: 307.98 | F25: 0.01 | G25: 3.2468587e-05 | I25: 467.43 | K25: 0.3410992 | L25: 2.1393578e-05 | M25: 0.3411206
A26: DURANTI | C26: 1 | D26: 1250 | E26: 1250 | F26: 0 | G26: 0 | I26: 1376.67 | K26: 0.092011884 | L26: 0 | M26: 0.092011884 | N26: My shop
A27: ELIPSON | C27: 2 | D27: 340.43 | E27: 340.43 | F27: 0 | G27: 0 | I27: 554.59 | K27: 0.38615914 | L27: 0 | M27: 0.38615914
A28: Emile Henry | C28: 9 | D28: 543.47 | E28: 551.18 | F28: -7.71 | G28: -0.014186616 | I28: 1014.17 | K28: 0.46412337 | L28: -0.0076022758 | M28: 0.4565211
A29: ENGEL | C29: 42 | D29: 1345.84 | E29: 1352.04 | F29: -6.2 | G29: -0.0046067883 | I29: 2405.37 | K29: 0.44048525 | L29: -0.002577566 | M29: 0.43790768
A30: EROAD | C30: 3 | D30: 1209 | E30: 1224.01 | F30: -15.01 | G30: -0.012415219 | I30: 1772.48 | K30: 0.31790486 | L30: -0.0084683607 | M30: 0.3094365 | N30: En attente de validation
A31: ESTEBANFOURN | C31: 5 | D31: 103.87 | E31: 103.87 | F31: 0 | G31: 0 | I31: 184.93 | K31: 0.43832802 | L31: 0 | M31: 0.43832802
A32: ETC | C32: 1 | D32: 38.95 | E32: 38.95 | F32: 0 | G32: 0 | I32: 73.33 | K32: 0.46883949 | L32: 0 | M32: 0.46883949
A33: EVRARD | C33: 6 | D33: 178.82 | E33: 176.11 | F33: 2.71 | G33: 0.015154904 | I33: 287.5 | K33: 0.37801739 | L33: 0.009426087 | M33: 0.38744348
A34: FINDIS | C34: 62 | D34: 11967.21 | E34: 11871.97 | F34: 95.24 | G34: 0.007958413 | I34: 18670.52 | K34: 0.35903178 | L34: 0.0051010898 | M34: 0.36413287 | N34: FDP non facturé
A35: FNACPRO | C35: 137 | D35: 14238.37 | E35: 14232.48 | F35: 5.89 | G35: 0.00041367095 | I35: 18102.64 | K35: 0.21346444 | L35: 0.00032536691 | M35: 0.21378981
A36: FRENCH | C36: 92 | D36: 2582.71 | E36: 2584.16 | F36: -1.45 | G36: -0.00056142579 | I36: 5380.52 | K36: 0.51998877 | L36: -0.00026949068 | M36: 0.51971928
A37: Garden max | C37: 1 | D37: 31.6 | E37: 28.54 | F37: 3.06 | G37: 0.096835443 | I37: 45 | K37: 0.29777778 | L37: 0.068 | M37: 0.36577778
A38: GMT | C38: 1 | D38: 64.6 | E38: 64.71 | F38: -0.11 | G38: -0.0017027864 | I38: 83.33 | K38: 0.22476899 | L38: -0.0013200528 | M38: 0.22344894
A39: GUYDEGRENNE | C39: 1 | D39: 227.6 | E39: 250.8 | F39: -23.2 | G39: -0.10193322 | I39: 383.3 | K39: 0.40620924 | L39: -0.060527002 | M39: 0.34568223 | N39: En attente de validation
A40: GUYOT | C40: 1 | D40: 83.39 | E40: 83.39 | F40: 0 | G40: 0 | I40: 150 | K40: 0.44406667 | L40: 0 | M40: 0.44406667
A41: Helfrich Kdo | C41: 45 | D41: 1069.14 | E41: 1069.06 | F41: 0.08 | G41: 7.4826496e-05 | I41: 1740.92 | K41: 0.38587643 | L41: 4.5952715e-05 | M41: 0.38592239
A42: HALTEGOURMANDE | C42: 1 | D42: 24.45 | E42: 24.44 | F42: 0.01 | G42: 0.00040899796 | I42: 32.5 | K42: 0.24769231 | L42: 0.00030769231 | M42: 0.248
A43: HENRIJULIEN | C43: 3 | D43: 173.4 | E43: 161.6 | F43: 11.8 | G43: 0.06805075 | I43: 275 | K43: 0.36945455 | L43: 0.042909091 | M43: 0.41236364 | N43: FDP non facturé, regroupement de cdes
A44: ICON | C44: 6 | D44: 2033.41 | E44: 2033.43 | F44: -0.02 | G44: -9.8356947e-06 | I44: 3820.85 | K44: 0.46781214 | L44: -5.2344374e-06 | M44: 0.4678069
A45: INTEX | C45: 5 | D45: 2301.39 | E45: 2171.77 | F45: 129.62 | G45: 0.056322483 | I45: 3782.08 | K45: 0.3915015 | L45: 0.034272147 | M45: 0.42577365 | N45: Avoir reçu
A46: JOBEK | C46: 5 | D46: 462 | E46: 462.14 | F46: -0.14 | G46: -0.0003030303 | I46: 804.18 | K46: 0.42550175 | L46: -0.00017409038 | M46: 0.42532766
A47: JOLIPA | C47: 2 | D47: 756.3 | E47: 772.22 | F47: -15.92 | G47: -0.021049848 | I47: 1407.29 | K47: 0.46258412 | L47: -0.011312523 | M47: 0.45127159
A48: LABOMAURICEMESSEG | C48: 12 | D48: 159.35 | E48: 144.35 | F48: 15 | G48: 0.094132413 | I48: 295.29 | K48: 0.460361 | L48: 0.050797521 | M48: 0.51115852
A49: LAMEREPOULARD | C49: 16 | D49: 223.69 | E49: 195.31 | F49: 28.38 | G49: 0.12687201 | I49: 292.53 | K49: 0.23532629 | L49: 0.097015691 | M49: 0.33234198
A50: LAVINIAFOURN | C50: 9 | D50: 320.56 | E50: 320.56 | F50: 0 | G50: 0 | I50: 513.14 | K50: 0.37529719 | L50: 0 | M50: 0.37529719
A51: LEMARQUIER | C51: 4 | D51: 2842.72 | E51: 2842.72 | F51: 0 | G51: 0 | I51: 4533.33 | K51: 0.37292895 | L51: 0 | M51: 0.37292895
A52: LIMPIANTU | C52: 1 | D52: 657.14 | E52: 657.14 | F52: 0 | G52: 0 | I52: 747 | K52: 0.12029451 | L52: 0 | M52: 0.12029451 | N52: My shop
A53: LMDW | C53: 30 | D53: 1104.8 | E53: 1138.68 | F53: -33.88 | G53: -0.030666184 | I53: 1577.2 | K53: 0.29951813 | L53: -0.021481106 | M53: 0.27803703 | N53: Avoir en attente
A54: LOGEEKD | C54: 3 | D54: 51.99 | E54: 43.83 | F54: 8.16 | G54: 0.15695326 | I54: 83.34 | K54: 0.37616991 | L54: 0.097912167 | M54: 0.47408207 | N54: Cde regroupée
A55: LUNAR | C55: 20 | D55: 252.2 | E55: 252.2 | F55: 0 | G55: 0 | I55: 481.32 | K55: 0.47602427 | L55: 0 | M55: 0.47602427
A56: MABYLONE | C56: 54 | D56: 3202.54 | E56: 3202.56 | F56: -0.02 | G56: -6.245043e-06 | I56: 5282.71 | K56: 0.39376949 | L56: -3.7859356e-06 | M56: 0.3937657
A57: Maison & Style | C57: 117 | D57: 21170.52 | E57: 21214.08 | F57: -43.56 | G57: -0.0020575782 | I57: 35811.61 | K57: 0.40883641 | L57: -0.0012163653 | M57: 0.40762004
A58: MATHON | C58: 47 | D58: 2129.46 | E58: 2090.52 | F58: 38.94 | G58: 0.018286326 | I58: 3675.75 | K58: 0.42067333 | L58: 0.010593756 | M58: 0.43126709 | N58: FDP non facturés, regroupement de cdes
A59: MAUVIEL | C59: 1 | D59: 244.94 | E59: 244.94 | F59: 0 | G59: 0 | I59: 383.3 | K59: 0.36097052 | L59: 0 | M59: 0.36097052
A60: MENCORNER | C60: 6 | D60: 330.88 | E60: 331 | F60: -0.12 | G60: -0.00036266925 | I60: 363.25 | K60: 0.089112182 | L60: -0.000330351 | M60: 0.088781831 | N60: cde FR329694 passée sur op big jump 2019
A61: Nexecom | C61: 129 | D61: 11562.52 | E61: 11562.25 | F61: 0.27 | G61: 2.3351311e-05 | I61: 17628.67 | K61: 0.34410707 | L61: 1.531596e-05 | M61: 0.34412239
A62: OXYBUL | C62: 18 | D62: 433.02 | E62: 433.02 | F62: 0 | G62: 0 | I62: 691.63 | K62: 0.3739138 | L62: 0 | M62: 0.3739138
A63: PETITPOUCE | C63: 4 | D63: 89.76 | E63: 89.76 | F63: 0 | G63: 0 | I63: 149.92 | K63: 0.40128068 | L63: 0 | M63: 0.40128068
A64: PEUGEOTSCOOTERS | C64: 2 | D64: 3260 | E64: 3260 | F64: 0 | G64: 0 | I64: 3843.31 | K64: 0.15177282 | L64: 0 | M64: 0.15177282 | N64: Marge à 18 et 13% sur 2 produits
A65: PLASRORIA | C65: 41 | D65: 2087.44 | E65: 2087.44 | F65: 0 | G65: 0 | I65: 3709.63 | K65: 0.43729159 | L65: 0 | M65: 0.43729159
A66: PROLOISIRS | C66: 3 | D66: 441.54 | E66: 379.88 | F66: 61.66 | G66: 0.1396476 | I66: 724.97 | K66: 0.39095411 | L66: 0.085051795 | M66: 0.4760059 | N66: EP validé par Laurine
A67: PROVENANCE | C67: 9 | D67: 467.66 | E67: 467.66 | F67: -5.6843419e-14 | G67: -1.215486e-16 | I67: 724.14 | K67: 0.35418565 | L67: -7.849783e-17 | M67: 0.35418565
A68: RADIS | C68: 2 | D68: 17.8 | E68: 17.78 | F68: 0.02 | G68: 0.0011235955 | I68: 33.34 | K68: 0.46610678 | L68: 0.00059988002 | M68: 0.46670666
A69: Rene PIERRE | C69: 9 | D69: 3846 | E69: 3814 | F69: 32 | G69: 0.0083203328 | I69: 5718.18 | K69: 0.32740837 | L69: 0.0055961862 | M69: 0.33300456 | N69: En attente de validation
A70: Ricard | C70: 13 | D70: 551.09 | E70: 567.79 | F70: -16.7 | G70: -0.03030358 | I70: 842.19 | K70: 0.34564647 | L70: -0.019829255 | M70: 0.32581721
A71: SBF | C71: 1 | D71: 287 | E71: 287 | F71: 0 | G71: 0 | I71: 458 | K71: 0.37336245 | L71: 0 | M71: 0.37336245
A72: SENOSEN | C72: 1 | D72: 245 | E72: 245 | F72: 0 | G72: 0 | I72: 383.3 | K72: 0.36081398 | L72: 0 | M72: 0.36081398
A73: SMARTBOX | C73: 36 | D73: 3717.12 | E73: 3685.2 | F73: 31.92 | G73: 0.0085872934 | I73: 5503.05 | K73: 0.32453458 | L73: 0.0058004198 | M73: 0.330335
A74: SMS | C74: 368 | D74: 70794.41 | E74: 70770.08 | F74: 24.33 | G74: 0.0003436712 | I74: 97737.66 | K74: 0.27566907 | L74: 0.00024893168 | M74: 0.275918
A75: SOLUTIOND | C75: 2 | D75: 170.57 | E75: 171.78 | F75: -1.21 | G75: -0.0070938618 | I75: 300.01 | K75: 0.43145228 | L75: -0.0040331989 | M75: 0.42741909
A76: SOMAGIC | C76: 6 | D76: 749.5 | E76: 752.13 | F76: -2.63 | G76: -0.003509006 | I76: 1173.39 | K76: 0.36125244 | L76: -0.002241369 | M76: 0.35901107
A77: SPORTPOSITION | C77: 33 | D77: 1121.01 | E77: 1120.99 | F77: 0.02 | G77: 1.7841054e-05 | I77: 2180.69 | K77: 0.48593794 | L77: 9.171409e-06 | M77: 0.48594711
A78: SWAROVSKI | C78: 12 | D78: 609.68 | E78: 801.54 | F78: -191.86 | G78: -0.31468967 | I78: 1079.14 | K78: 0.4350316 | L78: -0.17778972 | M78: 0.25724188 | N78: En attente de validation
A79: TECH | C79: 1 | D79: 95.71 | E79: 95.79 | F79: -0.08 | G79: -0.00083585832 | I79: 150.01 | K79: 0.36197587 | L79: -0.00053329778 | M79: 0.36144257
A80: THERMOMIX | C80: 20 | D80: 21762.4 | E80: 21762.4 | F80: 0 | G80: 0 | I80: 26323.42 | K80: 0.17326852 | L80: 0 | M80: 0.17326852
A81: THOMAS | C81: 3 | D81: 467.6 | E81: 467.6 | F81: 0 | G81: 0 | I81: 775 | K81: 0.39664516 | L81: 0 | M81: 0.39664516
A82: Tikamoon | C82: 1 | D82: 24.25 | E82: 24.25 | F82: 0 | G82: 0 | I82: 50 | K82: 0.515 | L82: 0 | M82: 0.515
A83: UNIVERSALBEAUTY | C83: 7 | D83: 102.37 | E83: 102.37 | F83: 0 | G83: 0 | I83: 181.26 | K83: 0.43523116 | L83: 0 | M83: 0.43523116
A84: VIAPRESSE | C84: 1 | D84: 66.57 | E84: 66.6 | F84: -0.03 | G84: -0.00045065345 | I84: 100.01 | K84: 0.33436656 | L84: -0.00029997 | M84: 0.33406659
A85: VILLEROYETBOCH | C85: 4 | D85: 320.1 | E85: 316.54 | F85: 3.56 | G85: 0.011121525 | I85: 700.84 | K85: 0.54326237 | L85: 0.0050796187 | M85: 0.54834199
A86: VINSPLUSVINS | C86: 1 | D86: 283 | E86: 283 | F86: 0 | G86: 0 | I86: 360 | K86: 0.21388889 | L86: 0 | M86: 0.21388889
A87: VRANKENPOMMERY | C87: 3 | D87: 352.59 | E87: 349.02 | F87: 3.57 | G87: 0.010125074 | I87: 550 | K87: 0.35892727 | L87: 0.0064909091 | M87: 0.36541818
A88: WEBER | C88: 4 | D88: 1516.48 | E88: 1516.44 | F88: 0.04 | G88: 2.6376873e-05 | I88: 1899.9 | K88: 0.20181062 | L88: 2.105374e-05 | M88: 0.20183168
A89: WEEBOT | C89: 4 | D89: 1566 | E89: 1566 | F89: 0 | G89: 0 | I89: 2495.57 | K89: 0.37248805 | L89: 0 | M89: 0.37248805

Sheet Feuil3
A1: fournisseur | B1: Column2 | C1: Nombre de numero_oa | D1: HT MO | E1: HT Facturé | F1: Somme de total_prix_fournisseur_ht | G1: Somme de Ecart prix | H1: Column8 | I1: CA HT | J1: ecart qte | K1: MB th | L1: ecart px | M1: MN HA | N1: Column14
A2: AMAZON | C2: 35 | D2: 2866.99 | E2: 2875.6 | F2: -8.61 | G2: -0.0030031496 | I2: 4070.33 | K2: 0.29563696 | L2: -0.0021153076 | M2: 0.29352166
A3: APPLE | C3: 108 | D3: 53054.83 | E3: 53054.83 | F3: 0 | G3: 0 | I3: 60947.93 | K3: 0.12950563 | L3: 0 | M3: 0.12950563
A4: APPLEWOOD | C4: 7 | D4: 337.1 | E4: 337.1 | F4: 0 | G4: 0 | I4: 414.91 | K4: 0.18753465 | L4: 0 | M4: 0.18753465 | N4: Cde FR329692 et FR329693 non facturées, Op Big Jump 2019
A5: AVESTA | C5: 3 | D5: 889.94 | E5: 894.94 | F5: -5 | G5: -0.0056183563 | I5: 1263.2 | K5: 0.29548765 | L5: -0.0039582014 | M5: 0.29152945
A6: BIENMANGER | C6: 44 | D6: 1119.13 | E6: 1137.88 | F6: -18.75 | G6: -0.016754086 | I6: 1715.31 | K6: 0.347564 | L6: -0.010930969 | M6: 0.33663303
A7: BOWERS | C7: 1 | D7: 185.07 | E7: 185.07 | F7: 0 | G7: 0 | I7: 250 | K7: 0.25972 | L7: 0 | M7: 0.25972
A8: BPLUS | C8: 3 | D8: 232.9 | E8: 233.3 | F8: -0.4 | G8: -0.0017174753 | I8: 416.66 | K8: 0.44103106 | L8: -0.00096001536 | M8: 0.44007104
A9: CDISCOUNT | C9: 542 | D9: 55644.78 | E9: 56151.47 | F9: -506.69 | G9: -0.0091057957 | I9: 84918.1 | K9: 0.34472415 | L9: -0.005966808 | M9: 0.33875734
A10: CORNILLEAU | C10: 3 | D10: 1057 | E10: 1044.86 | F10: 12.14 | G10: 0.011485336 | I10: 1601.49 | K10: 0.33998963 | L10: 0.0075804407 | M10: 0.34757008
A11: CUVELIER | C11: 9 | D11: 761.1 | E11: 752.85 | F11: 8.25 | G11: 0.010839574 | I11: 1159.78 | K11: 0.34375485 | L11: 0.0071134181 | M11: 0.35086827
A12: DECATHLON | C12: 11 | D12: 217.41 | E12: 238.7 | F12: -21.29 | G12: -0.097925578 | I12: 309.82 | K12: 0.29826996 | L12: -0.06871732 | M12: 0.22955264
A13: DELSAY | C13: 4 | D13: 239.27 | E13: 86.3 | F13: 152.97 | G13: 0.6393196 | I13: 409.7 | K13: 0.41598731 | L13: 0.37337076 | M13: 0.78935807 | N13: Avoir sur EP reçu
A14: DELTA | C14: 127 | D14: 3305.7 | E14: 3294.92 | F14: 10.78 | G14: 0.003261034 | I14: 5309.32 | K14: 0.37737789 | L14: 0.0020303918 | M14: 0.37940829
A15: DIAG | C15: 8 | D15: 665.47 | E15: 692.8 | F15: -27.33 | G15: -0.041068718 | I15: 1135.63 | K15: 0.41400808 | L15: -0.024065937 | M15: 0.38994215
A16: DOVIRIS | C16: 8 | D16: 537.46 | E16: 537.46 | F16: 0 | G16: 0 | I16: 944.66 | K16: 0.43105456 | L16: 0 | M16: 0.43105456
A17: DUCLOT | C17: 4 | D17: 296.73 | E17: 296.73 | F17: 0 | G17: 0 | I17: 370.38 | K17: 0.19884983 | L17: 0 | M17: 0.19884983
A18: DUCSDEGASCOGNE | C18: 19 | D18: 370.28 | E18: 370.28 | F18: 0 | G18: 0 | I18: 579.08 | K18: 0.36057194 | L18: 0 | M18: 0.36057194
A19: ELIPSON | C19: 3 | D19: 266.06 | E19: 266.07 | F19: -0.01 | G19: -3.7585507e-05 | I19: 399.9 | K19: 0.33468367 | L19: -2.5006252e-05 | M19: 0.33465866
A20: EMILE | C20: 8 | D20: 461.71 | E20: 461.71 | F20: 5.6843419e-14 | G20: 1.2311498e-16 | I20: 815.01 | K20: 0.43349161 | L20: 6.974567e-17 | M20: 0.43349161
A21: ENGEL | C21: 15 | D21: 370.04 | E21: 370.04 | F21: 0 | G21: 0 | I21: 611.38 | K21: 0.39474631 | L21: 0 | M21: 0.39474631
A22: EROAD | C22: 2 | D22: 66.66 | E22: 60 | F22: 6.66 | G22: 0.099909991 | I22: 91 | K22: 0.26747253 | L22: 0.073186813 | M22: 0.34065934
A23: ETC | C23: 5 | D23: 402 | E23: 402 | F23: 0 | G23: 0 | I23: 639.7 | K23: 0.37158043 | L23: 0 | M23: 0.37158043
A24: FAUCHON | C24: 2 | D24: 51.96 | E24: 51.96 | F24: 0 | G24: 0 | I24: 73 | K24: 0.28821918 | L24: 0 | M24: 0.28821918
A25: FINDIS | C25: 63 | D25: 16828.31 | E25: 16034.48 | F25: 793.83 | G25: 0.047172295 | I25: 23415.44 | K25: 0.28131566 | L25: 0.033901989 | M25: 0.31521765
... A33: HELFRICHKDO | C33: 61 | D33: 1148.62 | E33: 1149.27 | F33: -0.65 | G33: -0.00056589647 | I33: 1995.34 | K33: 0.42434873 | L33: -0.00032575902 | M33: 0.42402297
A34: HENRIJULIEN | C34: 1 | D34: 25.78 | E34: 25.78 | F34: 0 | G34: 0 | I34: 0 | N34: Cde FR331902 facturée 0€ sur l'opération Récupération de points PCS chez ANBM
A35: ICON | C35: 3 | D35: 1105.34 | E35: 1105.34 | F35: 0 | G35: 0 | I35: 1700 | K35: 0.3498 | L35: 0 | M35: 0.3498
A36: Intex | C36: 1 | D36: 302.39 | E36: 203.69 | F36: 98.7 | G36: 0.32639968 | I36: 500 | K36: 0.39522 | L36: 0.1974 | M36: 0.59262 | N36: Avoir sur EP reçu
A37: JOBEK | C37: 9 | D37: 889.22 | E37: 890.11 | F37: -0.89 | G37: -0.0010008772 | I37: 1667.35 | K37: 0.46668666 | L37: -0.00053378115 | M37: 0.46615288
A38: JOLIPA | C38: 1 | D38: 235.3 | E38: 108.3 | F38: 127 | G38: 0.53973651 | I38: 500 | K38: 0.5294 | L38: 0.254 | M38: 0.7834
A39: LABOMAURICEMESSEG | C39: 7 | D39: 107.9 | E39: 107.9 | F39: 0 | G39: 0 | I39: 173.72 | K39: 0.37888556 | L39: 0 | M39: 0.37888556
A40: LAMEREPOULARD | C40: 3 | D40: 34.86 | E40: 24.51 | F40: 10.35 | G40: 0.29690189 | I40: 52.5 | K40: 0.336 | L40: 0.19714286 | M40: 0.53314286 | N40: Avoir sur EP reçu
A41: LAVINIAFOURN | C41: 2 | D41: 77.25 | E41: 77.25 | F41: 0 | G41: 0 | I41: 120 | K41: 0.35625 | L41: 0 | M41: 0.35625
A42: LMDW | C42: 3 | D42: 134.43 | E42: 134.42 | F42: 0.01 | G42: 7.4388157e-05 | I42: 194.9 | K42: 0.31026167 | L42: 5.1308363e-05 | M42: 0.31031298
A43: LOGEEKD | C43: 4 | D43: 74.76 | E43: 82.93 | F43: -8.17 | G43: -0.10928304 | I43: 125.85 | K43: 0.40595948 | L43: -0.064918554 | M43: 0.34104092
A44: LUNAR | C44: 7 | D44: 78.4 | E44: 78.4 | F44: 0 | G44: 0 | I44: 120.84 | K44: 0.35120821 | L44: 0 | M44: 0.35120821
A45: Mabylone | C45: 44 | D45: 2624.45 | E45: 2639.83 | F45: -15.38 | G45: -0.0058602755 | I45: 4019.56 | K45: 0.34708028 | L45: -0.0038262894 | M45: 0.34325399
A46: MATHON | C46: 51 | D46: 2108.29 | E46: 2062.73 | F46: 45.56 | G46: 0.02160993 | I46: 3398.49 | K46: 0.37963919 | L46: 0.013405954 | M46: 0.39304515 | N46: Plusierus commandes on été envoyées groupées
A47: OXYBUL | C47: 13 | D47: 219.62 | E47: 220.37 | F47: -0.75 | G47: -0.0034149895 | I47: 371.38 | K47: 0.40863805 | L47: -0.0020194949 | M47: 0.40661856
A48: PLANETOUTDOOR | C48: 12 | D48: 3033.96 | E48: 3033.86 | F48: 0.1 | G48: 3.2960224e-05 | I48: 4773.75 | K48: 0.36444933 | L48: 2.0947892e-05 | M48: 0.36447028
A49: PLASTORIA | C49: 24 | D49: 1051.07 | E49: 1114.89 | F49: -63.82 | G49: -0.060719077 | I49: 1915.98 | K49: 0.45141912 | L49: -0.033309325 | M49: 0.41810979
A50: PROLOISIRS | C50: 1 | D50: 221.84 | E50: 220.92 | F50: 0.92 | G50: 0.0041471331 | I50: 400 | K50: 0.4454 | L50: 0.0023 | M50: 0.4477
A51: PROVENANCE | C51: 4 | D51: 225.65 | E51: 225.65 | F51: 0 | G51: 0 | I51: 354.09 | K51: 0.36273264 | L51: 0 | M51: 0.36273264
A52: REPEPIERRE | C52: 4 | D52: 1586 | E52: 1580 | F52: 6 | G52: 0.0037831021 | I52: 2339.9 | K52: 0.32219326 | L52: 0.0025642121 | M52: 0.32475747
A53: RICARD | C53: 1 | D53: 93.57 | E53: 94.65 | F53: -1.08 | G53: -0.011542161 | I53: 150 | K53: 0.3762 | L53: -0.0072 | M53: 0.369
A54: SMARTBOX | C54: 20 | D54: 2509.36 | E54: 2877.2 | F54: -367.84 | G54: -0.14658718 | I54: 3447.97 | K54: 0.27222105 | L54: -0.10668306 | M54: 0.16553798 | N54: Coffrets expédiés deux fois, en attente de desactivation des coffrets pour avoir
A55: SMS | C55: 194 | D55: 40732.98 | E55: 40756.61 | F55: -23.63 | G55: -0.0005801196 | I55: 56288.69 | K55: 0.27635587 | L55: -0.00041980014 | M55: 0.27593607
A56: SOLUTIOND | C56: 3 | D56: 282.86 | E56: 282.86 | F56: 0 | G56: 0 | I56: 424.97 | K56: 0.33440008 | L56: 0 | M56: 0.33440008
A57: SOMAGIC | C57: 6 | D57: 1091.95 | E57: 1093.62 | F57: -1.67 | G57: -0.0015293741 | I57: 1703.33 | K57: 0.35893221 | L57: -0.00098043245 | M57: 0.35795178
A58: SPORTPOSITION | C58: 26 | D58: 717.58 | E58: 717.56 | F58: 0.02 | G58: 2.7871457e-05 | I58: 1444.24 | K58: 0.50314352 | L58: 1.3848114e-05 | M58: 0.50315737
A59: SWAROVSKI | C59: 3 | D59: 107.49 | E59: 124.27 | F59: -16.78 | G59: -0.15610754 | I59: 187.5 | K59: 0.42672 | L59: -0.089493333 | M59: 0.33722667
A60: TECH | C60: 1 | D60: 30.78 | E60: 30.86 | F60: -0.08 | G60: -0.0025990903 | I60: 44.9 | K60: 0.31447661 | L60: -0.0017817372 | M60: 0.31269488
A61: THEKASE | C61: 53 | D61: 1259.05 | E61: 1259.05 | F61: 0 | G61: 0 | I61: 2118.28 | K61: 0.40562626 | L61: 0 | M61: 0.40562626
A62: TIKAMOON | C62: 1 | D62: 153.42 | E62: 153.42 | F62: 0 | G62: 0 | I62: 291.67 | K62: 0.47399458 | L62: 0 | M62: 0.47399458
A63: TRAVEL | C63: 47 | D63: 5452.18 | E63: 5263.54 | F63: 188.64 | G63: 0.034599004 | I63: 6324.07 | K63: 0.13786849 | L63: 0.029828892 | M63: 0.16769738
A64: VERRECANAILLE | C64: 1 | D64: 37.42 | E64: 41.12 | F64: -3.7 | G64: -0.098877606 | I64: 70 | K64: 0.46542857 | L64: -0.052857143 | M64: 0.41257143
A65: VIAPRESSE | C65: 2 | D65: 54.82 | E65: 54.85 | F65: -0.03 | G65: -0.00054724553 | I65: 79.17 | K65: 0.307566 | L65: -0.00037893141 | M65: 0.30718707
A66: VILLEROYETBOCH | C66: 9 | D66: 320.92 | E66: 327.42 | F66: -6.5 | G66: -0.020254269 | I66: 516.21 | K66: 0.37831503 | L66: -0.012591775 | M66: 0.36572325
... A72: WILSA | C72: 4 | D72: 296.63 | E72: 296.63 | F72: 0 | G72: 0 | I72: 509.8 | K72: 0.41814437 | L72: 0 | M72: 0.41814437

Sheet Feuil2
A1: fournisseur | B1: Column2 | C1: Nombre de numero_oa | D1: HT MO | E1: HT Facturé | F1: Somme de total_prix_fournisseur_ht | G1: Somme de Ecart prix | H1: Column8 | I1: CA HT | J1: ecart qte | K1: MB th | L1: ecart px | M1: MN HA | N1: Column14
A2: ABSOLUMENTDESIGN | C2: 4 | D2: 61 | E2: 61 | F2: 0 | G2: 0 | I2: 98.34 | K2: 0.37970307 | L2: 0 | M2: 0.37970307
A3: ADLPFOURN | C3: 53 | D3: 1075.9 | E3: 1075.9 | F3: 0 | G3: 0 | I3: 1416.34 | K3: 0.24036601 | L3: 0 | M3: 0.24036601
A4: ALESSI | C4: 2 | D4: 99.5 | E4: 99.47 | F4: 0.03 | G4: 0.00030150754 | I4: 167.33 | K4: 0.40536664 | L4: 0.00017928644 | M4: 0.40554593
A5: AMAZON | C5: 124 | D5: 7023.42 | E5: 7072.34 | F5: -48.92 | G5: -0.0069652676 | I5: 10938.13 | K5: 0.35789573 | L5: -0.0044724281 | M5: 0.3534233
A6: ANNEMASSE | C6: 1 | D6: 2532 | E6: 2532 | F6: 0 | G6: 0 | I6: 2816.68 | K6: 0.10106934 | L6: 0 | M6: 0.10106934 | N6: My shop
A7: APPLE | C7: 242 | D7: 124031.33 | E7: 124031.33 | F7: 0 | G7: 0 | I7: 145662.64 | K7: 0.1485028 | L7: 0 | M7: 0.1485028
A8: APPLEWOOD | C8: 18 | D8: 1025.45 | E8: 1039.55 | F8: -14.1 | G8: -0.013750061 | I8: 1595 | K8: 0.35708464 | L8: -0.0088401254 | M8: 0.34824451
A9: AVESTA | C9: 8 | D9: 2601.08 | E9: 2617.08 | F9: -16 | G9: -0.006151291 | I9: 3424.99 | K9: 0.24055837 | L9: -0.0046715465 | M9: 0.23588682 | N9: 2€ fdp en supp
A10: AVP | C10: 7 | D10: 261.75 | E10: 261.75 | F10: 5.6843419e-14 | G10: 2.1716683e-16 | I10: 438.47 | K10: 0.40303784 | L10: 1.2964038e-16 | M10: 0.40303784
A11: BIENMANGER | C11: 96 | D11: 2761.82 | E11: 2888.66 | F11: -126.84 | G11: -0.045926237 | I11: 4300.18 | K11: 0.35774316 | L11: -0.02949644 | M11: 0.32824672
A12: Bijourama | C12: 33 | D12: 1314.82 | E12: 1315.49 | F12: -0.67 | G12: -0.00050957546 | I12: 2407.27 | K12: 0.45381283 | L12: -0.00027832358 | M12: 0.4535345
A13: BOOMERANG | C13: 5 | D13: 220.6 | E13: 215.62 | F13: 4.98 | G13: 0.022574796 | I13: 355.06 | K13: 0.37869656 | L13: 0.014025798 | M13: 0.39272236
A14: BOWERS | C14: 3 | D14: 688.36 | E14: 725.78 | F14: -37.42 | G14: -0.05436109 | I14: 1024.96 | K14: 0.32840306 | L14: -0.036508742 | M14: 0.29189432 | N14: Opération fidelité sur FR315535A, ecart prix sur commande FR306471
A15: BPLUS | C15: 1 | D15: 28.15 | E15: 28.16 | F15: -0.01 | G15: -0.00035523979 | I15: 45 | K15: 0.37444444 | L15: -0.00022222222 | M15: 0.37422222
A16: CAMBUSIER | C16: 3 | D16: 62.5 | E16: 65.5 | F16: -3 | G16: -0.048 | I16: 97.93 | K16: 0.36178903 | L16: -0.030634126 | M16: 0.33115491
A17: CDISCOUNT | C17: 909 | D17: 75834.73 | E17: 77201.53 | F17: -1366.8 | G17: -0.018023404 | I17: 121376 | K17: 0.3752082 | L17: -0.011260875 | M17: 0.36394732
A18: CHARLOTTEBOUTIK | C18: 1 | D18: 28.4 | E18: 20.03 | F18: 8.37 | G18: 0.29471831 | I18: 50 | K18: 0.432 | L18: 0.1674 | M18: 0.5994
A19: CLAUDE | C19: 1 | D19: 45.92 | E19: 34 | F19: 11.92 | G19: 0.25958188 | I19: 75 | K19: 0.38773333 | L19: 0.15893333 | M19: 0.54666667
A20: COMTESSEDUBARRY | C20: 1 | D20: 18.17 | E20: 18.17 | F20: 0 | G20: 0 | I20: 29.18 | K20: 0.37731323 | L20: 0 | M20: 0.37731323
A21: CORNILLEAU | C21: 6 | D21: 1477.95 | E21: 1452.71 | F21: 25.24 | G21: 0.017077709 | I21: 2304.48 | K21: 0.35866226 | L21: 0.010952579 | M21: 0.36961484
A22: CUVELIER | C22: 26 | D22: 1369.54 | E22: 1347.22 | F22: 22.32 | G22: 0.016297443 | I22: 1986.66 | K22: 0.31063191 | L22: 0.011234937 | M22: 0.32186685
A23: CYCLE | C23: 4 | D23: 3884 | E23: 3940 | F23: -56 | G23: -0.014418126 | I23: 6078.47 | K23: 0.36102342 | L23: -0.0092128447 | M23: 0.35181057
A24: DECATHLON | C24: 3 | D24: 202.3 | E24: 200.01 | F24: 2.29 | G24: 0.011319822 | I24: 262.51 | K24: 0.22936269 | L24: 0.0087234772 | M24: 0.23808617
A25: Déclikdéco | C25: 10 | D25: 419.82 | E25: 503.32 | F25: -83.5 | G25: -0.19889476 | I25: 769.21 | K25: 0.45421926 | L25: -0.10855293 | M25: 0.34566633
A26: DELSAY | C26: 23 | D26: 1780.01 | E26: 1778.1 | F26: 1.91 | G26: 0.0010730277 | I26: 2491.01 | K26: 0.28542639 | L26: 0.00076675726 | M26: 0.28619315
... A43: GARDENMAX | C43: 5 | D43: 865.19 | E43: 855.07 | F43: 10.12 | G43: 0.011696853 | I43: 1249.52 | K43: 0.30758211 | L43: 0.0080991101 | M43: 0.31568122
A44: GMT | C44: 4 | D44: 353.5 | E44: 449.64 | F44: -96.14 | G44: -0.27196605 | I44: 605.18 | K44: 0.41587627 | L44: -0.15886183 | M44: 0.25701444 | N44: Demande d'avoir en cours
A45: GUYDEGRENNE | C45: 3 | D45: 651.6 | E45: 672.2 | F45: -20.6 | G45: -0.031614487 | I45: 1009.67 | K45: 0.35464063 | L45: -0.020402706 | M45: 0.33423792 | N45: Prix pas maj.
A46: GUYOT | C46: 6 | D46: 122.97 | E46: 111.37 | F46: 11.6 | G46: 0.094331951 | I46: 192.67 | K46: 0.36175845 | L46: 0.060206571 | M46: 0.42196502
A47: Helfrich Kdo | C47: 406 | D47: 8253.1 | E47: 8240.2 | F47: 12.9 | G47: 0.001563049 | I47: 13809.71 | K47: 0.40236978 | L47: 0.00093412534 | M47: 0.40330391
A48: ICON | C48: 13 | D48: 3909.76 | E48: 3889.64 | F48: 20.12 | G48: 0.0051460959 | I48: 7452.33 | K48: 0.47536408 | L48: 0.0026998268 | M48: 0.47806391
A49: INTEX | C49: 8 | D49: 2169.25 | E49: 2206.24 | F49: -36.99 | G49: -0.017051976 | I49: 3359.01 | K49: 0.3541996 | L49: -0.011012173 | M49: 0.34318743 | N49: EP validés par Laurine
A50: JOLIPA | C50: 3 | D50: 312.9 | E50: 285.6 | F50: 27.3 | G50: 0.087248322 | I50: 516.67 | K50: 0.394391 | L50: 0.052838369 | M50: 0.44722937
A51: La Halte Gourmande | C51: 28 | D51: 1087.11 | E51: 1087.12 | F51: -0.01 | G51: -9.1987011e-06 | I51: 1801.78 | K51: 0.39664665 | L51: -5.5500672e-06 | M51: 0.3966411
A52: LABOMAURICEMESSEG | C52: 25 | D52: 299.9 | E52: 264.9 | F52: 35 | G52: 0.11670557 | I52: 529.16 | K52: 0.4332527 | L52: 0.066142566 | M52: 0.49939527
A53: LAMEREPOULARD | C53: 20 | D53: 229.02 | E53: 242.03 | F53: -13.01 | G53: -0.056807266 | I53: 335.06 | K53: 0.31648063 | L53: -0.038828866 | M53: 0.27765176
A54: LAVINIAFOURN | C54: 7 | D54: 918.84 | E54: 918.84 | F54: 0 | G54: 0 | I54: 505.37 | K54: -0.81815304 | L54: 0 | M54: -0.81815304 | N54: Op offre de remboursement montant 22396 pts (Fidcged) FR319837
A55: LEMARQUIER | C55: 3 | D55: 1921.24 | E55: 1773.59 | F55: 147.65 | G55: 0.076851408 | I55: 2806.47 | K55: 0.31542472 | L55: 0.052610575 | M55: 0.36803529
A56: LOGEEKD | C56: 30 | D56: 563.16 | E56: 573.26 | F56: -10.1 | G56: -0.017934512 | I56: 911.17 | K56: 0.38193751 | L56: -0.011084649 | M56: 0.37085286 | N56: Epvalidés par Camille
A57: LUNAR | C57: 24 | D57: 400 | E57: 400 | F57: 0 | G57: 0 | I57: 639.09 | K57: 0.37411006 | L57: 0 | M57: 0.37411006
A58: MABYLONE | C58: 75 | D58: 4455.94 | E58: 4455.96 | F58: -0.02 | G58: -4.4883908e-06 | I58: 7311.54 | K58: 0.39056068 | L58: -2.7354018e-06 | M58: 0.39055794
A59: MAISONLITERIE | C59: 1 | D59: 666.67 | E59: 666.67 | F59: 0 | G59: 0 | I59: 741.67 | K59: 0.10112314 | L59: 0 | M59: 0.10112314 | N59: My shop
A60: MATHON | C60: 86 | D60: 3829.81 | E60: 3823.41 | F60: 6.4 | G60: 0.0016711012 | I60: 6434.04 | K60: 0.40475813 | L60: 0.00099470939 | M60: 0.40575284
A61: MAUVIEL | C61: 2 | D61: 98.48 | E61: 98.48 | F61: -1.4210855e-14 | G61: -1.4430194e-16 | I61: 200 | K61: 0.5076 | L61: -7.1054274e-17 | M61: 0.5076
A62: NEXECOM | C62: 78 | D62: 13103.01 | E62: 13102.72 | F62: 0.29 | G62: 2.2132319e-05 | I62: 21754.78 | K62: 0.39769513 | L62: 1.3330404e-05 | M62: 0.39770846
A63: OXYBUL | C63: 32 | D63: 639.7 | E63: 640.54 | F63: -0.84 | G63: -0.0013131155 | I63: 1061.05 | K63: 0.39710664 | L63: -0.00079166863 | M63: 0.39631497
A64: PETITPOUCE | C64: 6 | D64: 202.9 | E64: 202.9 | F64: 0 | G64: 0 | I64: 331.9 | K64: 0.38867129 | L64: 0 | M64: 0.38867129
A65: PROLOISIRS | C65: 2 | D65: 74.4 | E65: 74.4 | F65: 0 | G65: 0 | I65: 116.25 | K65: 0.36 | L65: 0 | M65: 0.36
A66: PROVENANCE | C66: 5 | D66: 291.28 | E66: 291.28 | F66: 0 | G66: 0 | I66: 422.8 | K66: 0.31106906 | L66: 0 | M66: 0.31106906
A67: REPEPIERRE | C67: 7 | D67: 1786 | E67: 1786 | F67: 0 | G67: 0 | I67: 2879.38 | K67: 0.37972758 | L67: 0 | M67: 0.37972758
A68: RICARD | C68: 11 | D68: 479.41 | E68: 481.73 | F68: -2.32 | G68: -0.0048392816 | I68: 742.24 | K68: 0.35410379 | L68: -0.0031256736 | M68: 0.35097812
A69: SBF | C69: 1 | D69: 42 | E69: 42 | F69: 0 | G69: 0 | I69: 66.67 | K69: 0.3700315 | L69: 0 | M69: 0.3700315
A70: SENOSEN | C70: 6 | D70: 1475 | E70: 1475 | F70: 0 | G70: 0 | I70: 2067.86 | K70: 0.28670219 | L70: 0 | M70: 0.28670219
A71: SMARTBOX | C71: 45 | D71: 5068.16 | E71: 5012.32 | F71: 55.84 | G71: 0.011017805 | I71: 7550.85 | K71: 0.3287961 | L71: 0.0073951939 | M71: 0.33619129
... A76: SPORTPOSITION | C76: 70 | D76: 2458.09 | E76: 2457.99 | F76: 0.1 | G76: 4.0681993e-05 | I76: 4860.9 | K76: 0.49431381 | L76: 2.0572322e-05 | M76: 0.49433438
A77: SWAL | C77: 1 | D77: 416.75 | E77: 416.76 | F77: -0.01 | G77: -2.3995201e-05 | I77: 471.98 | K77: 0.11701767 | L77: -2.1187338e-05 | M77: 0.11699648 | N77: My shop
A78: SWAROVSKI | C78: 16 | D78: 598.83 | E78: 654.05 | F78: -55.22 | G78: -0.092213149 | I78: 1099.14 | K78: 0.45518314 | L78: -0.050239278 | M78: 0.40494387 | N78: Ecart Prix validé ou en cours
A79: TECH | C79: 8 | D79: 791.26 | E79: 798.55 | F79: -7.29 | G79: -0.0092131537 | I79: 1136.16 | K79: 0.3035664 | L79: -0.0064163498 | M79: 0.29715005
A80: THOMAS | C80: 2 | D80: 205 | E80: 205 | F80: 0 | G80: 0 | I80: 259.07 | K80: 0.20870807 | L80: 0 | M80: 0.20870807
A81: TIKAMOON | C81: 1 | D81: 224.25 | E81: 199.33 | F81: 24.92 | G81: 0.11112598 | I81: 335.41 | K81: 0.33141528 | L81: 0.074297129 | M81: 0.40571241
A82: UNIVERSALBEAUTY | C82: 74 | D82: 1214.38 | E82: 1119.6 | F82: 94.78 | G82: 0.078048057 | I82: 1953.55 | K82: 0.37837271 | L82: 0.048516803 | M82: 0.42688951
A83: VIAPRESSE | C83: 4 | D83: 118.57 | E83: 118.63 | F83: -0.06 | G83: -0.00050603019 | I83: 163.57 | K83: 0.27511157 | L83: -0.00036681543 | M83: 0.27474476
A84: VILLEROYETBOCH | C84: 4 | D84: 190.15 | E84: 180.63 | F84: 9.52 | G84: 0.050065738 | I84: 355 | K84: 0.4643662 | L84: 0.026816901 | M84: 0.4911831
A85: VINOCADO | C85: 51 | D85: 8178.73 | E85: 8178.73 | F85: 0 | G85: 0 | I85: 12066.1 | K85: 0.32217286 | L85: 0 | M85: 0.32217286
A86: VINSPLUSVINS | C86: 18 | D86: 1548 | E86: 1566 | F86: -18 | G86: -0.011627907 | I86: 2174.09 | K86: 0.28797796 | L86: -0.0082793261 | M86: 0.27969863 | N86: Ecart de 18€ suite refacturation FDP SAV
A87: VRANKENPOMMERY | C87: 9 | D87: 4359.56 | E87: 4192.72 | F87: 166.84 | G87: 0.038269917 | I87: 6133.76 | K87: 0.28925162 | L87: 0.027200282 | M87: 0.3164519
A88: WALIBUY | C88: 41 | D88: 4985.91 | E88: 4985.98 | F88: -0.07 | G88: -1.4039563e-05 | I88: 7524.14 | K88: 0.33734487 | L88: -9.3033888e-06 | M88: 0.33733556
A89: WEBER | C89: 12 | D89: 3573.74 | E89: 3604.46 | F89: -30.72 | G89: -0.0085960366 | I89: 4679.56 | K89: 0.23630854 | L89: -0.0065647198 | M89: 0.22974382 | N89: Ecart Prix validés
A90: Weebot | C90: 1 | D90: 885 | E90: 885 | F90: 0 | G90: 0 | I90: 1333.33 | K90: 0.33624834 | L90: 0 | M90: 0.33624834

Sheet Feuil1
A1: =Feuil5!A1 -> FOURNISSEUR | B1: =Feuil5!B1 -> % /total | C1: =Feuil5!C1 -> Nombre d'OA | D1: =Feuil5!D1 -> HT MO | E1: =Feuil5!E1 -> HT FACTURES | F1: =Feuil5!F1 -> ECART (€) | G1: =Feuil5!G1 -> ECART (%) | H1: =Feuil5!H1 -> Column8 | ... O1: =Feuil5!O1 -> Column15
A2: =Feuil4!A1 -> fournisseur | B2: =Feuil4!B1 -> Column2 | C2: =Feuil4!C1 -> Nombre de numero_oa | D2: =Feuil4!D1 -> HT MO | E2: =Feuil4!E1 -> HT Facturé | F2: =Feuil4!F1 -> Somme de total_prix_fournisseur_ht | G2: =Feuil4!G1 -> Somme de Ecart prix | H2: =Feuil4!H1 -> Column8 | ... O2: =Feuil4!O1 -> 0
A3: =Feuil3!A1 -> fournisseur | B3: =Feuil3!B1 -> Column2 | C3: =Feuil3!C1 -> Nombre de numero_oa | D3: =Feuil3!D1 -> HT MO | E3: =Feuil3!E1 -> HT Facturé | F3: =Feuil3!F1 -> Somme de total_prix_fournisseur_ht | G3: =Feuil3!G1 -> Somme de Ecart prix | H3: =Feuil3!H1 -> Column8 | ... O3: =Feuil3!O1 -> 0
A4: =Feuil2!A1 -> fournisseur | B4: =Feuil2!B1 -> Column2 | C4: =Feuil2!C1 -> Nombre de numero_oa | D4: =Feuil2!D1 -> HT MO | E4: =Feuil2!E1 -> HT Facturé | F4: =Feuil2!F1 -> Somme de total_prix_fournisseur_ht | G4: =Feuil2!G1 -> Somme de Ecart prix | H4: =Feuil2!H1 -> Column8 | ... O4: =Feuil2!O1 -> 0
A6: =A1=A2=A3=A4 -> FALSE | B6: =B1=B2=B3=B4 -> FALSE | C6: =C1=C2=C3=C4 -> FALSE | D6: =D1=D2=D3=D4 -> FALSE | E6: =E1=E2=E3=E4 -> FALSE | F6: =F1=F2=F3=F4 -> FALSE | G6: =G1=G2=G3=G4 -> FALSE | H6: =H1=H2=H3=H4 -> FALSE | ... O6: =O1=O2=O3=O4 -> FALSE
