Workbook
Name dl_c: MATCH(9^9,Calculs!$C:$C)
Name img_1: OFFSET(Calculs!$G$2,0,0,2+dl_c,9)
Name ZoneFiltre: 'Etat des coupures 2013'!$A$1:$F$28

Sheet Calculs
A1: Mois | B1: Novembre | G1: img_1
A2: Nature du défaut | B2: TRS | G2: =A1 -> Mois | H2: =B1 -> Novembre
G3: =A2 -> Nature du défaut | H3: =B2 -> TRS
A4: Sites | B4: Nb arrêts | C4: Durée totale | G4: =C4 -> Durée totale | H4: =SUM(L:L) -> 0.022222222
A5: SHS | B5: 1 | C5: 0.022222222
G6: Sites | H6: Trs | K6: Nbr de coupures | L6: Durée totale | M6: Indicateur visuel | N6: Secours (GE) | O6: OBS
H7: Type | I7: Eqm | J7: Suprt
E8: 1 | G8: =IF(A5="","",A5) -> SHS | H8: =IFERROR(IF($H$3="TRS",VLOOKUP($G8,TRS!$B$4:$C$20,2,FALSE),0),0) -> FH | K8: =IF(B5="","",B5) -> 1 | L8: =IF(C5="","",C5) -> 0.022222222 | M8: =L8 -> 0.022222222 | N8: =IFERROR(IF($H$3="EVR",VLOOKUP($G8,GE!$B$4:$H$18,6,FALSE),0),0) -> 0 | O8: =IFERROR(IF($H$3="EVR",VLOOKUP($G8,GE!$B$4:$H$18,7,FALSE),0),0) -> 0
E9: 2 | G9: =IF(A6="","",A6) | H9: =IFERROR(IF($H$3="TRS",VLOOKUP($G9,TRS!$B$4:$C$20,2,FALSE),0),0) -> 0 | K9: =IF(B6="","",B6) | L9: =IF(C6="","",C6) | M9: =L9 | N9: =IFERROR(IF($H$3="EVR",VLOOKUP(G9,GE!$B$4:$H$18,6,FALSE),0),0) -> 0 | O9: =IFERROR(IF($H$3="EVR",VLOOKUP($G9,GE!$B$4:$H$18,7,FALSE),0),0) -> 0
E10: 3 | G10: =IF(A7="","",A7) | H10: =IFERROR(IF($H$3="TRS",VLOOKUP($G10,TRS!$B$4:$C$20,2,FALSE),0),0) -> 0 | K10: =IF(B7="","",B7) | L10: =IF(C7="","",C7) | M10: =L10 | N10: =IFERROR(IF($H$3="EVR",VLOOKUP(G10,GE!$B$4:$H$18,6,FALSE),0),0) -> 0 | O10: =IFERROR(IF($H$3="EVR",VLOOKUP($G10,GE!$B$4:$H$18,7,FALSE),0),0) -> 0
E11: 4 | G11: =IF(A8="","",A8) | H11: =IFERROR(IF($H$3="TRS",VLOOKUP($G11,TRS!$B$4:$C$20,2,FALSE),0),0) -> 0 | K11: =IF(B8="","",B8) | L11: =IF(C8="","",C8) | M11: =L11 | N11: =IFERROR(IF($H$3="EVR",VLOOKUP(G11,GE!$B$4:$H$18,6,FALSE),0),0) -> 0 | O11: =IFERROR(IF($H$3="EVR",VLOOKUP($G11,GE!$B$4:$H$18,7,FALSE),0),0) -> 0
E12: 5 | G12: =IF(A9="","",A9) | H12: =IFERROR(IF($H$3="TRS",VLOOKUP($G12,TRS!$B$4:$C$20,2,FALSE),0),0) -> 0 | K12: =IF(B9="","",B9) | L12: =IF(C9="","",C9) | M12: =L12 | N12: =IFERROR(IF($H$3="EVR",VLOOKUP(G12,GE!$B$4:$H$18,6,FALSE),0),0) -> 0 | O12: =IFERROR(IF($H$3="EVR",VLOOKUP($G12,GE!$B$4:$H$18,7,FALSE),0),0) -> 0
E13: 6 | G13: =IF(A10="","",A10) | H13: =IFERROR(IF($H$3="TRS",VLOOKUP($G13,TRS!$B$4:$C$20,2,FALSE),0),0) -> 0 | K13: =IF(B10="","",B10) | L13: =IF(C10="","",C10) | M13: =L13 | N13: =IFERROR(IF($H$3="EVR",VLOOKUP(G13,GE!$B$4:$H$18,6,FALSE),0),0) -> 0 | O13: =IFERROR(IF($H$3="EVR",VLOOKUP($G13,GE!$B$4:$H$18,7,FALSE),0),0) -> 0
E14: 7 | G14: =IF(A11="","",A11) | H14: =IFERROR(IF($H$3="TRS",VLOOKUP($G14,TRS!$B$4:$C$20,2,FALSE),0),0) -> 0 | K14: =IF(B11="","",B11) | L14: =IF(C11="","",C11) | M14: =L14 | N14: =IFERROR(IF($H$3="EVR",VLOOKUP(G14,GE!$B$4:$H$18,6,FALSE),0),0) -> 0 | O14: =IFERROR(IF($H$3="EVR",VLOOKUP($G14,GE!$B$4:$H$18,7,FALSE),0),0) -> 0
E15: 8 | G15: =IF(A12="","",A12) | H15: =IFERROR(IF($H$3="TRS",VLOOKUP($G15,TRS!$B$4:$C$20,2,FALSE),0),0) -> 0 | K15: =IF(B12="","",B12) | L15: =IF(C12="","",C12) | M15: =L15 | N15: =IFERROR(IF($H$3="EVR",VLOOKUP(G15,GE!$B$4:$H$18,6,FALSE),0),0) -> 0 | O15: =IFERROR(IF($H$3="EVR",VLOOKUP($G15,GE!$B$4:$H$18,7,FALSE),0),0) -> 0
E16: 9 | G16: =IF(A13="","",A13) | H16: =IFERROR(IF($H$3="TRS",VLOOKUP($G16,TRS!$B$4:$C$20,2,FALSE),0),0) -> 0 | K16: =IF(B13="","",B13) | L16: =IF(C13="","",C13) | M16: =L16 | N16: =IFERROR(IF($H$3="EVR",VLOOKUP(G16,GE!$B$4:$H$18,6,FALSE),0),0) -> 0 | O16: =IFERROR(IF($H$3="EVR",VLOOKUP($G16,GE!$B$4:$H$18,7,FALSE),0),0) -> 0
E17: 10 | G17: =IF(A14="","",A14) | H17: =IFERROR(IF($H$3="TRS",VLOOKUP($G17,TRS!$B$4:$C$20,2,FALSE),0),0) -> 0 | K17: =IF(B14="","",B14) | L17: =IF(C14="","",C14) | M17: =L17 | N17: =IFERROR(IF($H$3="EVR",VLOOKUP(G17,GE!$B$4:$H$18,6,FALSE),0),0) -> 0 | O17: =IFERROR(IF($H$3="EVR",VLOOKUP($G17,GE!$B$4:$H$18,7,FALSE),0),0) -> 0
E18: 11 | G18: =IF(A15="","",A15) | H18: =IFERROR(IF($H$3="TRS",VLOOKUP($G18,TRS!$B$4:$C$20,2,FALSE),0),0) -> 0 | K18: =IF(B15="","",B15) | L18: =IF(C15="","",C15) | M18: =L18 | N18: =IFERROR(IF($H$3="EVR",VLOOKUP(G18,GE!$B$4:$H$18,6,FALSE),0),0) -> 0 | O18: =IFERROR(IF($H$3="EVR",VLOOKUP($G18,GE!$B$4:$H$18,7,FALSE),0),0) -> 0
E19: 12 | G19: =IF(A16="","",A16) | H19: =IFERROR(IF($H$3="TRS",VLOOKUP($G19,TRS!$B$4:$C$20,2,FALSE),0),0) -> 0 | K19: =IF(B16="","",B16) | L19: =IF(C16="","",C16) | M19: =L19 | N19: =IFERROR(IF($H$3="EVR",VLOOKUP(G19,GE!$B$4:$H$18,6,FALSE),0),0) -> 0 | O19: =IFERROR(IF($H$3="EVR",VLOOKUP($G19,GE!$B$4:$H$18,7,FALSE),0),0) -> 0
E20: 13 | G20: =IF(A17="","",A17) | H20: =IFERROR(IF($H$3="TRS",VLOOKUP($G20,TRS!$B$4:$C$20,2,FALSE),0),0) -> 0 | K20: =IF(B17="","",B17) | L20: =IF(C17="","",C17) | M20: =L20 | N20: =IFERROR(IF($H$3="EVR",VLOOKUP(G20,GE!$B$4:$H$18,6,FALSE),0),0) -> 0 | O20: =IFERROR(IF($H$3="EVR",VLOOKUP($G20,GE!$B$4:$H$18,7,FALSE),0),0) -> 0
... E32: 25 | G32: =IF(A29="","",A29) | H32: =IFERROR(IF($H$3="TRS",VLOOKUP($G32,TRS!$B$4:$C$20,2,FALSE),0),0) -> 0 | K32: =IF(B29="","",B29) | L32: =IF(C29="","",C29) | M32: =L32 | N32: =IFERROR(IF($H$3="EVR",VLOOKUP(G32,GE!$B$4:$H$18,6,FALSE),0),0) -> 0 | O32: =IFERROR(IF($H$3="EVR",VLOOKUP($G32,GE!$B$4:$H$18,7,FALSE),0),0) -> 0

Sheet Etat des coupures 2013
A1: SYSTEM | B1: Nature du défaut | C1: Date et heure de l’arrêt | D1: Mois | E1: Date et heure du rétablissement | F1: Durée
A2: SBK | B2: EVR | C2: 41563.663 | D2: Octobre | E2: 41563.699 | F2: 0.035416667
A3: SBN | B3: EVR | C3: 41564.408 | D3: Octobre | E3: 41564.852 | F3: 0.44444444
A4: SHS | B4: EVR | C4: 41564.447 | D4: Octobre | E4: 41564.469 | F4: 0.022222222
A5: MGL | B5: TRS | C5: 41565.143 | D5: Octobre | E5: 41565.451 | F5: 0.30763889
A6: DBA | B6: EVR | C6: 41566.417 | D6: Octobre | E6: 41566.464 | F6: 0.047222222
A7: MCS | B7: EVR | C7: 41566.417 | D7: Octobre | E7: 41566.464 | F7: 0.047222222
A8: SBK | B8: EVR | C8: 41566.417 | D8: Octobre | E8: 41566.464 | F8: 0.047222222
A9: TGD | B9: EVR | C9: 41566.417 | D9: Octobre | E9: 41566.464 | F9: 0.047222222
A10: MGL | B10: TRS | C10: 41567.742 | D10: Octobre | E10: 41567.788 | F10: 0.046527778
A11: MGL | B11: TRS | C11: 41568.131 | D11: Octobre | E11: 41569.556 | F11: 1.425
A12: CHM | B12: EVR | C12: 41568.875 | D12: Octobre | E12: 41569.334 | F12: 0.45902778
A13: CHM | B13: EVR | C13: 41569.342 | D13: Octobre | E13: 41569.406 | F13: 0.063888889
... A28: ZAA | B28: EVR | C28: 41589.519 | D28: Novembre | E28: 41589.639 | F28: 0.11944444

Sheet Synthèse mensuelle
B1: SITUATION MENSUELLE
B2: DES DUREES DE COUPURES

Sheet GE
A1: Situation des ge
A3: N° | B3: Centre | C3: Type | D3: Marque | E3: Puissance | F3: Date de M E S | G3: Etat | H3: O.B.S
A4: =ROW()-3 -> 1 | B4: SAG | C4: RDD | E4: 5 KVA | F4: 2006 | H4: Manque d’abri
A5: =ROW()-3 -> 2 | B5: CHM | C5: RDD | E5: 5 KVA | F5: 2007 | G5: M | H5: Défaut Carte commande et mécanique
A6: =ROW()-3 -> 3 | B6: TSN | C6: RDD | E6: 5 KVA | F6: 2008 | H6: Défaut moteur
A7: =ROW()-3 -> 4 | B7: SBK | C7: RDD | E7: 15 KVA | F7: 2007 | G7: B
A8: =ROW()-3 -> 5 | B8: DBA | C8: RDD | H8: Non doté
A9: =ROW()-3 -> 6 | B9: SHS | C9: RDD | E9: 15 KVA | F9: 2007 | G9: M | H9: Défaut contacteur secteur (Manuel)
A10: =ROW()-3 -> 7 | B10: SAM | C10: RDD | E10: 15 KVA | H10: Manque d’abri
A11: =ROW()-3 -> 8 | B11: MDN | C11: RDD | E11: 15 KVA | F11: 2007 | G11: B
A12: =ROW()-3 -> 9 | B12: TDD | C12: RDD | H12: Non doté
A13: =ROW()-3 -> 10 | B13: SBT | C13: RDD | H13: Non doté
A14: =ROW()-3 -> 11 | B14: MGL | C14: RDD | H14: Non doté
A15: =ROW()-3 -> 12 | B15: FIJ | C15: RDD | H15: Non doté
A16: =ROW()-3 -> 13 | B16: TGM | C16: RDD | H16: Non doté
A17: =ROW()-3 -> 14 | B17: SBA | C17: RDD | E17: 5 KVA | H17: Manque d'abri (Redéployé de GRTF)
A18: =ROW()-3 -> 15 | B18: NDR | C18: RDD | H18: Non doté

Sheet TRS
A1: Situation des supports
A3: N° | B3: Centre | C3: Type
A4: =ROW()-3 -> 1 | B4: SAG | C4: FH
A5: =ROW()-3 -> 2 | B5: CHM | C5: FH
A6: =ROW()-3 -> 3 | B6: TSN | C6: FH
A7: =ROW()-3 -> 4 | B7: SBK | C7: FH
A8: =ROW()-3 -> 5 | B8: DBA | C8: FH
A9: =ROW()-3 -> 6 | B9: SHS | C9: FH
A10: =ROW()-3 -> 7 | B10: SAM | C10: FH
A11: =ROW()-3 -> 8 | B11: MDN | C11: FH
A12: =ROW()-3 -> 9 | B12: TDD | C12: FH
A13: =ROW()-3 -> 10 | B13: SBT | C13: FH
A14: =ROW()-3 -> 11 | B14: MGL | C14: FH
A15: =ROW()-3 -> 12 | B15: FIJ | C15: FH
... A18: =ROW()-3 -> 15 | B18: NDR | C18: FH
A19: =ROW()-3 -> 16 | B19: ABK | C19: FH | D19: ajout jean-eric
A20: =ROW()-3 -> 17 | B20: MGL | C20: FH

Sheet COM
