Workbook
Name An: Feuil1!$A$2
Name ANNEES: Cycle!$H$2:$H$9
Name Cycle: Cycle!$B$2:$B$11
Name Deb: Feuil1!$A$3
Name MOIS: Cycle!$F$2:$F$3

Sheet Feuil1
A2: 2018 | D2: 43101 | L2: =EDATE(D2,1) -> 43132
A3: =VALUE("01/01/"&An) -> 43101
B4: =D2 -> 43101 | C4: =B4+1 -> 43102 | D4: =C4+1 -> 43103 | E4: =D4+1 -> 43104 | F4: =E4+1 -> 43105 | G4: =F4+1 -> 43106 | H4: =G4+1 -> 43107 | J4: =L2 -> 43132 | K4: =J4+1 -> 43133 | L4: =K4+1 -> 43134 | M4: =L4+1 -> 43135 | N4: =M4+1 -> 43136 | O4: =N4+1 -> 43137 | P4: =O4+1 -> 43138
A5: =B5 -> 43101 | B5: =B4 -> 43101 | C5: =IF(B5="","",IF(MONTH(B5+1)<>MONTH(B5),"",B5+1)) -> 43102 | D5: =IF(C5="","",IF(MONTH(C5+1)<>MONTH(C5),"",C5+1)) -> 43103 | E5: =IF(D5="","",IF(MONTH(D5+1)<>MONTH(D5),"",D5+1)) -> 43104 | F5: =IF(E5="","",IF(MONTH(E5+1)<>MONTH(E5),"",E5+1)) -> 43105 | G5: =IF(F5="","",IF(MONTH(F5+1)<>MONTH(F5),"",F5+1)) -> 43106 | H5: =IF(G5="","",IF(MONTH(G5+1)<>MONTH(G5),"",G5+1)) -> 43107 | J5: =J4 -> 43132 | K5: =IF(J5="","",IF(MONTH(J5+1)<>MONTH(J5),"",J5+1)) -> 43133 | L5: =IF(K5="","",IF(MONTH(K5+1)<>MONTH(K5),"",K5+1)) -> 43134 | M5: =IF(L5="","",IF(MONTH(L5+1)<>MONTH(L5),"",L5+1)) -> 43135 | N5: =IF(M5="","",IF(MONTH(M5+1)<>MONTH(M5),"",M5+1)) -> 43136 | O5: =IF(N5="","",IF(MONTH(N5+1)<>MONTH(N5),"",N5+1)) -> 43137 | P5: =IF(O5="","",IF(MONTH(O5+1)<>MONTH(O5),"",O5+1)) -> 43138
B6: =IF(B5="","",INDEX(Cycle,MOD(B5-Deb,Cycle!$C$11)+1)) -> AM | C6: =IF(C5="","",INDEX(Cycle,MOD(C5-Deb,Cycle!$C$11)+1)) -> PM | D6: =IF(D5="","",INDEX(Cycle,MOD(D5-Deb,Cycle!$C$11)+1)) -> PM | E6: =IF(E5="","",INDEX(Cycle,MOD(E5-Deb,Cycle!$C$11)+1)) -> N | F6: =IF(F5="","",INDEX(Cycle,MOD(F5-Deb,Cycle!$C$11)+1)) -> N | G6: =IF(G5="","",INDEX(Cycle,MOD(G5-Deb,Cycle!$C$11)+1)) -> R | H6: =IF(H5="","",INDEX(Cycle,MOD(H5-Deb,Cycle!$C$11)+1)) -> R | J6: =IF(J5="","",INDEX(Cycle,MOD(J5-Deb,Cycle!$C$11)+1)) -> PM | K6: =IF(K5="","",INDEX(Cycle,MOD(K5-Deb,Cycle!$C$11)+1)) -> PM | L6: =IF(L5="","",INDEX(Cycle,MOD(L5-Deb,Cycle!$C$11)+1)) -> N | M6: =IF(M5="","",INDEX(Cycle,MOD(M5-Deb,Cycle!$C$11)+1)) -> N | N6: =IF(N5="","",INDEX(Cycle,MOD(N5-Deb,Cycle!$C$11)+1)) -> R | O6: =IF(O5="","",INDEX(Cycle,MOD(O5-Deb,Cycle!$C$11)+1)) -> R | P6: =IF(P5="","",INDEX(Cycle,MOD(P5-Deb,Cycle!$C$11)+1)) -> R
A7: =B7 -> 43108 | B7: =IF($H5="","",IF(MONTH($H5+1)<>MONTH($H5),"",$H5+1)) -> 43108 | C7: =IF(B7="","",IF(MONTH(B7+1)<>MONTH(B7),"",B7+1)) -> 43109 | D7: =IF(C7="","",IF(MONTH(C7+1)<>MONTH(C7),"",C7+1)) -> 43110 | E7: =IF(D7="","",IF(MONTH(D7+1)<>MONTH(D7),"",D7+1)) -> 43111 | F7: =IF(E7="","",IF(MONTH(E7+1)<>MONTH(E7),"",E7+1)) -> 43112 | G7: =IF(F7="","",IF(MONTH(F7+1)<>MONTH(F7),"",F7+1)) -> 43113 | H7: =IF(G7="","",IF(MONTH(G7+1)<>MONTH(G7),"",G7+1)) -> 43114 | J7: =IF($P5="","",IF(MONTH($P5+1)<>MONTH($P5),"",$P5+1)) -> 43139 | K7: =IF(J7="","",IF(MONTH(J7+1)<>MONTH(J7),"",J7+1)) -> 43140 | L7: =IF(K7="","",IF(MONTH(K7+1)<>MONTH(K7),"",K7+1)) -> 43141 | M7: =IF(L7="","",IF(MONTH(L7+1)<>MONTH(L7),"",L7+1)) -> 43142 | N7: =IF(M7="","",IF(MONTH(M7+1)<>MONTH(M7),"",M7+1)) -> 43143 | O7: =IF(N7="","",IF(MONTH(N7+1)<>MONTH(N7),"",N7+1)) -> 43144 | P7: =IF(O7="","",IF(MONTH(O7+1)<>MONTH(O7),"",O7+1)) -> 43145
B8: =IF(B7="","",INDEX(Cycle,MOD(B7-Deb,Cycle!$C$11)+1)) -> R | C8: =IF(C7="","",INDEX(Cycle,MOD(C7-Deb,Cycle!$C$11)+1)) -> R | D8: =IF(D7="","",INDEX(Cycle,MOD(D7-Deb,Cycle!$C$11)+1)) -> AM | E8: =IF(E7="","",INDEX(Cycle,MOD(E7-Deb,Cycle!$C$11)+1)) -> AM | F8: =IF(F7="","",INDEX(Cycle,MOD(F7-Deb,Cycle!$C$11)+1)) -> PM | G8: =IF(G7="","",INDEX(Cycle,MOD(G7-Deb,Cycle!$C$11)+1)) -> PM | H8: =IF(H7="","",INDEX(Cycle,MOD(H7-Deb,Cycle!$C$11)+1)) -> N | J8: =IF(J7="","",INDEX(Cycle,MOD(J7-Deb,Cycle!$C$11)+1)) -> R | K8: =IF(K7="","",INDEX(Cycle,MOD(K7-Deb,Cycle!$C$11)+1)) -> AM | L8: =IF(L7="","",INDEX(Cycle,MOD(L7-Deb,Cycle!$C$11)+1)) -> AM | M8: =IF(M7="","",INDEX(Cycle,MOD(M7-Deb,Cycle!$C$11)+1)) -> PM | N8: =IF(N7="","",INDEX(Cycle,MOD(N7-Deb,Cycle!$C$11)+1)) -> PM | O8: =IF(O7="","",INDEX(Cycle,MOD(O7-Deb,Cycle!$C$11)+1)) -> N | P8: =IF(P7="","",INDEX(Cycle,MOD(P7-Deb,Cycle!$C$11)+1)) -> N
B9: =IF($H7="","",IF(MONTH($H7+1)<>MONTH($H7),"",$H7+1)) -> 43115 | C9: =IF(B9="","",IF(MONTH(B9+1)<>MONTH(B9),"",B9+1)) -> 43116 | D9: =IF(C9="","",IF(MONTH(C9+1)<>MONTH(C9),"",C9+1)) -> 43117 | E9: =IF(D9="","",IF(MONTH(D9+1)<>MONTH(D9),"",D9+1)) -> 43118 | F9: =IF(E9="","",IF(MONTH(E9+1)<>MONTH(E9),"",E9+1)) -> 43119 | G9: =IF(F9="","",IF(MONTH(F9+1)<>MONTH(F9),"",F9+1)) -> 43120 | H9: =IF(G9="","",IF(MONTH(G9+1)<>MONTH(G9),"",G9+1)) -> 43121 | J9: =IF($P7="","",IF(MONTH($P7+1)<>MONTH($P7),"",$P7+1)) -> 43146 | K9: =IF(J9="","",IF(MONTH(J9+1)<>MONTH(J9),"",J9+1)) -> 43147 | L9: =IF(K9="","",IF(MONTH(K9+1)<>MONTH(K9),"",K9+1)) -> 43148 | M9: =IF(L9="","",IF(MONTH(L9+1)<>MONTH(L9),"",L9+1)) -> 43149 | N9: =IF(M9="","",IF(MONTH(M9+1)<>MONTH(M9),"",M9+1)) -> 43150 | O9: =IF(N9="","",IF(MONTH(N9+1)<>MONTH(N9),"",N9+1)) -> 43151 | P9: =IF(O9="","",IF(MONTH(O9+1)<>MONTH(O9),"",O9+1)) -> 43152
B10: =IF(B9="","",INDEX(Cycle,MOD(B9-Deb,Cycle!$C$11)+1)) -> N | C10: =IF(C9="","",INDEX(Cycle,MOD(C9-Deb,Cycle!$C$11)+1)) -> R | D10: =IF(D9="","",INDEX(Cycle,MOD(D9-Deb,Cycle!$C$11)+1)) -> R | E10: =IF(E9="","",INDEX(Cycle,MOD(E9-Deb,Cycle!$C$11)+1)) -> R | F10: =IF(F9="","",INDEX(Cycle,MOD(F9-Deb,Cycle!$C$11)+1)) -> R | G10: =IF(G9="","",INDEX(Cycle,MOD(G9-Deb,Cycle!$C$11)+1)) -> AM | H10: =IF(H9="","",INDEX(Cycle,MOD(H9-Deb,Cycle!$C$11)+1)) -> AM | J10: =IF(J9="","",INDEX(Cycle,MOD(J9-Deb,Cycle!$C$11)+1)) -> R | K10: =IF(K9="","",INDEX(Cycle,MOD(K9-Deb,Cycle!$C$11)+1)) -> R | L10: =IF(L9="","",INDEX(Cycle,MOD(L9-Deb,Cycle!$C$11)+1)) -> R | M10: =IF(M9="","",INDEX(Cycle,MOD(M9-Deb,Cycle!$C$11)+1)) -> R | N10: =IF(N9="","",INDEX(Cycle,MOD(N9-Deb,Cycle!$C$11)+1)) -> AM | O10: =IF(O9="","",INDEX(Cycle,MOD(O9-Deb,Cycle!$C$11)+1)) -> AM | P10: =IF(P9="","",INDEX(Cycle,MOD(P9-Deb,Cycle!$C$11)+1)) -> PM
B11: =IF($H9="","",IF(MONTH($H9+1)<>MONTH($H9),"",$H9+1)) -> 43122 | C11: =IF(B11="","",IF(MONTH(B11+1)<>MONTH(B11),"",B11+1)) -> 43123 | D11: =IF(C11="","",IF(MONTH(C11+1)<>MONTH(C11),"",C11+1)) -> 43124 | E11: =IF(D11="","",IF(MONTH(D11+1)<>MONTH(D11),"",D11+1)) -> 43125 | F11: =IF(E11="","",IF(MONTH(E11+1)<>MONTH(E11),"",E11+1)) -> 43126 | G11: =IF(F11="","",IF(MONTH(F11+1)<>MONTH(F11),"",F11+1)) -> 43127 | H11: =IF(G11="","",IF(MONTH(G11+1)<>MONTH(G11),"",G11+1)) -> 43128 | J11: =IF($P9="","",IF(MONTH($P9+1)<>MONTH($P9),"",$P9+1)) -> 43153 | K11: =IF(J11="","",IF(MONTH(J11+1)<>MONTH(J11),"",J11+1)) -> 43154 | L11: =IF(K11="","",IF(MONTH(K11+1)<>MONTH(K11),"",K11+1)) -> 43155 | M11: =IF(L11="","",IF(MONTH(L11+1)<>MONTH(L11),"",L11+1)) -> 43156 | N11: =IF(M11="","",IF(MONTH(M11+1)<>MONTH(M11),"",M11+1)) -> 43157 | O11: =IF(N11="","",IF(MONTH(N11+1)<>MONTH(N11),"",N11+1)) -> 43158 | P11: =IF(O11="","",IF(MONTH(O11+1)<>MONTH(O11),"",O11+1)) -> 43159
B12: =IF(B11="","",INDEX(Cycle,MOD(B11-Deb,Cycle!$C$11)+1)) -> PM | C12: =IF(C11="","",INDEX(Cycle,MOD(C11-Deb,Cycle!$C$11)+1)) -> PM | D12: =IF(D11="","",INDEX(Cycle,MOD(D11-Deb,Cycle!$C$11)+1)) -> N | E12: =IF(E11="","",INDEX(Cycle,MOD(E11-Deb,Cycle!$C$11)+1)) -> N | F12: =IF(F11="","",INDEX(Cycle,MOD(F11-Deb,Cycle!$C$11)+1)) -> R | G12: =IF(G11="","",INDEX(Cycle,MOD(G11-Deb,Cycle!$C$11)+1)) -> R | H12: =IF(H11="","",INDEX(Cycle,MOD(H11-Deb,Cycle!$C$11)+1)) -> R | J12: =IF(J11="","",INDEX(Cycle,MOD(J11-Deb,Cycle!$C$11)+1)) -> PM | K12: =IF(K11="","",INDEX(Cycle,MOD(K11-Deb,Cycle!$C$11)+1)) -> N | L12: =IF(L11="","",INDEX(Cycle,MOD(L11-Deb,Cycle!$C$11)+1)) -> N | M12: =IF(M11="","",INDEX(Cycle,MOD(M11-Deb,Cycle!$C$11)+1)) -> R | N12: =IF(N11="","",INDEX(Cycle,MOD(N11-Deb,Cycle!$C$11)+1)) -> R | O12: =IF(O11="","",INDEX(Cycle,MOD(O11-Deb,Cycle!$C$11)+1)) -> R | P12: =IF(P11="","",INDEX(Cycle,MOD(P11-Deb,Cycle!$C$11)+1)) -> R
B13: =IF($H11="","",IF(MONTH($H11+1)<>MONTH($H11),"",$H11+1)) -> 43129 | C13: =IF(B13="","",IF(MONTH(B13+1)<>MONTH(B13),"",B13+1)) -> 43130 | D13: =IF(C13="","",IF(MONTH(C13+1)<>MONTH(C13),"",C13+1)) -> 43131 | E13: =IF(D13="","",IF(MONTH(D13+1)<>MONTH(D13),"",D13+1)) | F13: =IF(E13="","",IF(MONTH(E13+1)<>MONTH(E13),"",E13+1)) | G13: =IF(F13="","",IF(MONTH(F13+1)<>MONTH(F13),"",F13+1)) | H13: =IF(G13="","",IF(MONTH(G13+1)<>MONTH(G13),"",G13+1)) | J13: =IF($P11="","",IF(MONTH($P11+1)<>MONTH($P11),"",$P11+1)) | K13: =IF(J13="","",IF(MONTH(J13+1)<>MONTH(J13),"",J13+1)) | L13: =IF(K13="","",IF(MONTH(K13+1)<>MONTH(K13),"",K13+1)) | M13: =IF(L13="","",IF(MONTH(L13+1)<>MONTH(L13),"",L13+1)) | N13: =IF(M13="","",IF(MONTH(M13+1)<>MONTH(M13),"",M13+1)) | O13: =IF(N13="","",IF(MONTH(N13+1)<>MONTH(N13),"",N13+1)) | P13: =IF(O13="","",IF(MONTH(O13+1)<>MONTH(O13),"",O13+1))
B14: =IF(B13="","",INDEX(Cycle,MOD(B13-Deb,Cycle!$C$11)+1)) -> R | C14: =IF(C13="","",INDEX(Cycle,MOD(C13-Deb,Cycle!$C$11)+1)) -> AM | D14: =IF(D13="","",INDEX(Cycle,MOD(D13-Deb,Cycle!$C$11)+1)) -> AM | E14: =IF(E13="","",INDEX(Cycle,MOD(E13-Deb,Cycle!$C$11)+1)) | F14: =IF(F13="","",INDEX(Cycle,MOD(F13-Deb,Cycle!$C$11)+1)) | G14: =IF(G13="","",INDEX(Cycle,MOD(G13-Deb,Cycle!$C$11)+1)) | H14: =IF(H13="","",INDEX(Cycle,MOD(H13-Deb,Cycle!$C$11)+1)) | J14: =IF(J13="","",INDEX(Cycle,MOD(J13-Deb,Cycle!$C$11)+1)) | K14: =IF(K13="","",INDEX(Cycle,MOD(K13-Deb,Cycle!$C$11)+1)) | L14: =IF(L13="","",INDEX(Cycle,MOD(L13-Deb,Cycle!$C$11)+1)) | M14: =IF(M13="","",INDEX(Cycle,MOD(M13-Deb,Cycle!$C$11)+1)) | N14: =IF(N13="","",INDEX(Cycle,MOD(N13-Deb,Cycle!$C$11)+1)) | O14: =IF(O13="","",INDEX(Cycle,MOD(O13-Deb,Cycle!$C$11)+1)) | P14: =IF(P13="","",INDEX(Cycle,MOD(P13-Deb,Cycle!$C$11)+1))
D16: =EDATE(D2,2) -> 43160 | L16: =EDATE(D2,3) -> 43191
B18: =D16 -> 43160 | C18: =B18+1 -> 43161 | D18: =C18+1 -> 43162 | E18: =D18+1 -> 43163 | F18: =E18+1 -> 43164 | G18: =F18+1 -> 43165 | H18: =G18+1 -> 43166 | J18: =L16 -> 43191 | K18: =J18+1 -> 43192 | L18: =K18+1 -> 43193 | M18: =L18+1 -> 43194 | N18: =M18+1 -> 43195 | O18: =N18+1 -> 43196 | P18: =O18+1 -> 43197
A19: =B19 -> 43160 | B19: =B18 -> 43160 | C19: =IF(B19="","",IF(MONTH(B19+1)<>MONTH(B19),"",B19+1)) -> 43161 | D19: =IF(C19="","",IF(MONTH(C19+1)<>MONTH(C19),"",C19+1)) -> 43162 | E19: =IF(D19="","",IF(MONTH(D19+1)<>MONTH(D19),"",D19+1)) -> 43163 | F19: =IF(E19="","",IF(MONTH(E19+1)<>MONTH(E19),"",E19+1)) -> 43164 | G19: =IF(F19="","",IF(MONTH(F19+1)<>MONTH(F19),"",F19+1)) -> 43165 | H19: =IF(G19="","",IF(MONTH(G19+1)<>MONTH(G19),"",G19+1)) -> 43166 | J19: =J18 -> 43191 | K19: =IF(J19="","",IF(MONTH(J19+1)<>MONTH(J19),"",J19+1)) -> 43192 | L19: =IF(K19="","",IF(MONTH(K19+1)<>MONTH(K19),"",K19+1)) -> 43193 | M19: =IF(L19="","",IF(MONTH(L19+1)<>MONTH(L19),"",L19+1)) -> 43194 | N19: =IF(M19="","",IF(MONTH(M19+1)<>MONTH(M19),"",M19+1)) -> 43195 | O19: =IF(N19="","",IF(MONTH(N19+1)<>MONTH(N19),"",N19+1)) -> 43196 | P19: =IF(O19="","",IF(MONTH(O19+1)<>MONTH(O19),"",O19+1)) -> 43197
B20: =IF(B19="","",INDEX(Cycle,MOD(B19-Deb,Cycle!$C$11)+1)) -> AM | C20: =IF(C19="","",INDEX(Cycle,MOD(C19-Deb,Cycle!$C$11)+1)) -> AM | D20: =IF(D19="","",INDEX(Cycle,MOD(D19-Deb,Cycle!$C$11)+1)) -> PM | E20: =IF(E19="","",INDEX(Cycle,MOD(E19-Deb,Cycle!$C$11)+1)) -> PM | F20: =IF(F19="","",INDEX(Cycle,MOD(F19-Deb,Cycle!$C$11)+1)) -> N | G20: =IF(G19="","",INDEX(Cycle,MOD(G19-Deb,Cycle!$C$11)+1)) -> N | H20: =IF(H19="","",INDEX(Cycle,MOD(H19-Deb,Cycle!$C$11)+1)) -> R | J20: =IF(J19="","",INDEX(Cycle,MOD(J19-Deb,Cycle!$C$11)+1)) -> AM | K20: =IF(K19="","",INDEX(Cycle,MOD(K19-Deb,Cycle!$C$11)+1)) -> PM | L20: =IF(L19="","",INDEX(Cycle,MOD(L19-Deb,Cycle!$C$11)+1)) -> PM | M20: =IF(M19="","",INDEX(Cycle,MOD(M19-Deb,Cycle!$C$11)+1)) -> N | N20: =IF(N19="","",INDEX(Cycle,MOD(N19-Deb,Cycle!$C$11)+1)) -> N | O20: =IF(O19="","",INDEX(Cycle,MOD(O19-Deb,Cycle!$C$11)+1)) -> R | P20: =IF(P19="","",INDEX(Cycle,MOD(P19-Deb,Cycle!$C$11)+1)) -> R
A21: =B21 -> 43167 | B21: =IF($H19="","",IF(MONTH($H19+1)<>MONTH($H19),"",$H19+1)) -> 43167 | C21: =IF(B21="","",IF(MONTH(B21+1)<>MONTH(B21),"",B21+1)) -> 43168 | D21: =IF(C21="","",IF(MONTH(C21+1)<>MONTH(C21),"",C21+1)) -> 43169 | E21: =IF(D21="","",IF(MONTH(D21+1)<>MONTH(D21),"",D21+1)) -> 43170 | F21: =IF(E21="","",IF(MONTH(E21+1)<>MONTH(E21),"",E21+1)) -> 43171 | G21: =IF(F21="","",IF(MONTH(F21+1)<>MONTH(F21),"",F21+1)) -> 43172 | H21: =IF(G21="","",IF(MONTH(G21+1)<>MONTH(G21),"",G21+1)) -> 43173 | J21: =IF($P19="","",IF(MONTH($P19+1)<>MONTH($P19),"",$P19+1)) -> 43198 | K21: =IF(J21="","",IF(MONTH(J21+1)<>MONTH(J21),"",J21+1)) -> 43199 | L21: =IF(K21="","",IF(MONTH(K21+1)<>MONTH(K21),"",K21+1)) -> 43200 | M21: =IF(L21="","",IF(MONTH(L21+1)<>MONTH(L21),"",L21+1)) -> 43201 | N21: =IF(M21="","",IF(MONTH(M21+1)<>MONTH(M21),"",M21+1)) -> 43202 | O21: =IF(N21="","",IF(MONTH(N21+1)<>MONTH(N21),"",N21+1)) -> 43203 | P21: =IF(O21="","",IF(MONTH(O21+1)<>MONTH(O21),"",O21+1)) -> 43204
B22: =IF(B21="","",INDEX(Cycle,MOD(B21-Deb,Cycle!$C$11)+1)) -> R | C22: =IF(C21="","",INDEX(Cycle,MOD(C21-Deb,Cycle!$C$11)+1)) -> R | D22: =IF(D21="","",INDEX(Cycle,MOD(D21-Deb,Cycle!$C$11)+1)) -> R | E22: =IF(E21="","",INDEX(Cycle,MOD(E21-Deb,Cycle!$C$11)+1)) -> AM | F22: =IF(F21="","",INDEX(Cycle,MOD(F21-Deb,Cycle!$C$11)+1)) -> AM | G22: =IF(G21="","",INDEX(Cycle,MOD(G21-Deb,Cycle!$C$11)+1)) -> PM | H22: =IF(H21="","",INDEX(Cycle,MOD(H21-Deb,Cycle!$C$11)+1)) -> PM | J22: =IF(J21="","",INDEX(Cycle,MOD(J21-Deb,Cycle!$C$11)+1)) -> R | K22: =IF(K21="","",INDEX(Cycle,MOD(K21-Deb,Cycle!$C$11)+1)) -> R | L22: =IF(L21="","",INDEX(Cycle,MOD(L21-Deb,Cycle!$C$11)+1)) -> AM | M22: =IF(M21="","",INDEX(Cycle,MOD(M21-Deb,Cycle!$C$11)+1)) -> AM | N22: =IF(N21="","",INDEX(Cycle,MOD(N21-Deb,Cycle!$C$11)+1)) -> PM | O22: =IF(O21="","",INDEX(Cycle,MOD(O21-Deb,Cycle!$C$11)+1)) -> PM | P22: =IF(P21="","",INDEX(Cycle,MOD(P21-Deb,Cycle!$C$11)+1)) -> N
B23: =IF($H21="","",IF(MONTH($H21+1)<>MONTH($H21),"",$H21+1)) -> 43174 | C23: =IF(B23="","",IF(MONTH(B23+1)<>MONTH(B23),"",B23+1)) -> 43175 | D23: =IF(C23="","",IF(MONTH(C23+1)<>MONTH(C23),"",C23+1)) -> 43176 | E23: =IF(D23="","",IF(MONTH(D23+1)<>MONTH(D23),"",D23+1)) -> 43177 | F23: =IF(E23="","",IF(MONTH(E23+1)<>MONTH(E23),"",E23+1)) -> 43178 | G23: =IF(F23="","",IF(MONTH(F23+1)<>MONTH(F23),"",F23+1)) -> 43179 | H23: =IF(G23="","",IF(MONTH(G23+1)<>MONTH(G23),"",G23+1)) -> 43180 | J23: =IF($P21="","",IF(MONTH($P21+1)<>MONTH($P21),"",$P21+1)) -> 43205 | K23: =IF(J23="","",IF(MONTH(J23+1)<>MONTH(J23),"",J23+1)) -> 43206 | L23: =IF(K23="","",IF(MONTH(K23+1)<>MONTH(K23),"",K23+1)) -> 43207 | M23: =IF(L23="","",IF(MONTH(L23+1)<>MONTH(L23),"",L23+1)) -> 43208 | N23: =IF(M23="","",IF(MONTH(M23+1)<>MONTH(M23),"",M23+1)) -> 43209 | O23: =IF(N23="","",IF(MONTH(N23+1)<>MONTH(N23),"",N23+1)) -> 43210 | P23: =IF(O23="","",IF(MONTH(O23+1)<>MONTH(O23),"",O23+1)) -> 43211
B24: =IF(B23="","",INDEX(Cycle,MOD(B23-Deb,Cycle!$C$11)+1)) -> N | C24: =IF(C23="","",INDEX(Cycle,MOD(C23-Deb,Cycle!$C$11)+1)) -> N | D24: =IF(D23="","",INDEX(Cycle,MOD(D23-Deb,Cycle!$C$11)+1)) -> R | E24: =IF(E23="","",INDEX(Cycle,MOD(E23-Deb,Cycle!$C$11)+1)) -> R | F24: =IF(F23="","",INDEX(Cycle,MOD(F23-Deb,Cycle!$C$11)+1)) -> R | G24: =IF(G23="","",INDEX(Cycle,MOD(G23-Deb,Cycle!$C$11)+1)) -> R | H24: =IF(H23="","",INDEX(Cycle,MOD(H23-Deb,Cycle!$C$11)+1)) -> AM | J24: =IF(J23="","",INDEX(Cycle,MOD(J23-Deb,Cycle!$C$11)+1)) -> N | K24: =IF(K23="","",INDEX(Cycle,MOD(K23-Deb,Cycle!$C$11)+1)) -> R | L24: =IF(L23="","",INDEX(Cycle,MOD(L23-Deb,Cycle!$C$11)+1)) -> R | M24: =IF(M23="","",INDEX(Cycle,MOD(M23-Deb,Cycle!$C$11)+1)) -> R | N24: =IF(N23="","",INDEX(Cycle,MOD(N23-Deb,Cycle!$C$11)+1)) -> R | O24: =IF(O23="","",INDEX(Cycle,MOD(O23-Deb,Cycle!$C$11)+1)) -> AM | P24: =IF(P23="","",INDEX(Cycle,MOD(P23-Deb,Cycle!$C$11)+1)) -> AM
B25: =IF($H23="","",IF(MONTH($H23+1)<>MONTH($H23),"",$H23+1)) -> 43181 | C25: =IF(B25="","",IF(MONTH(B25+1)<>MONTH(B25),"",B25+1)) -> 43182 | D25: =IF(C25="","",IF(MONTH(C25+1)<>MONTH(C25),"",C25+1)) -> 43183 | E25: =IF(D25="","",IF(MONTH(D25+1)<>MONTH(D25),"",D25+1)) -> 43184 | F25: =IF(E25="","",IF(MONTH(E25+1)<>MONTH(E25),"",E25+1)) -> 43185 | G25: =IF(F25="","",IF(MONTH(F25+1)<>MONTH(F25),"",F25+1)) -> 43186 | H25: =IF(G25="","",IF(MONTH(G25+1)<>MONTH(G25),"",G25+1)) -> 43187 | J25: =IF($P23="","",IF(MONTH($P23+1)<>MONTH($P23),"",$P23+1)) -> 43212 | K25: =IF(J25="","",IF(MONTH(J25+1)<>MONTH(J25),"",J25+1)) -> 43213 | L25: =IF(K25="","",IF(MONTH(K25+1)<>MONTH(K25),"",K25+1)) -> 43214 | M25: =IF(L25="","",IF(MONTH(L25+1)<>MONTH(L25),"",L25+1)) -> 43215 | N25: =IF(M25="","",IF(MONTH(M25+1)<>MONTH(M25),"",M25+1)) -> 43216 | O25: =IF(N25="","",IF(MONTH(N25+1)<>MONTH(N25),"",N25+1)) -> 43217 | P25: =IF(O25="","",IF(MONTH(O25+1)<>MONTH(O25),"",O25+1)) -> 43218
B26: =IF(B25="","",INDEX(Cycle,MOD(B25-Deb,Cycle!$C$11)+1)) -> AM | C26: =IF(C25="","",INDEX(Cycle,MOD(C25-Deb,Cycle!$C$11)+1)) -> PM | D26: =IF(D25="","",INDEX(Cycle,MOD(D25-Deb,Cycle!$C$11)+1)) -> PM | E26: =IF(E25="","",INDEX(Cycle,MOD(E25-Deb,Cycle!$C$11)+1)) -> N | F26: =IF(F25="","",INDEX(Cycle,MOD(F25-Deb,Cycle!$C$11)+1)) -> N | G26: =IF(G25="","",INDEX(Cycle,MOD(G25-Deb,Cycle!$C$11)+1)) -> R | H26: =IF(H25="","",INDEX(Cycle,MOD(H25-Deb,Cycle!$C$11)+1)) -> R | J26: =IF(J25="","",INDEX(Cycle,MOD(J25-Deb,Cycle!$C$11)+1)) -> PM | K26: =IF(K25="","",INDEX(Cycle,MOD(K25-Deb,Cycle!$C$11)+1)) -> PM | L26: =IF(L25="","",INDEX(Cycle,MOD(L25-Deb,Cycle!$C$11)+1)) -> N | M26: =IF(M25="","",INDEX(Cycle,MOD(M25-Deb,Cycle!$C$11)+1)) -> N | N26: =IF(N25="","",INDEX(Cycle,MOD(N25-Deb,Cycle!$C$11)+1)) -> R | O26: =IF(O25="","",INDEX(Cycle,MOD(O25-Deb,Cycle!$C$11)+1)) -> R | P26: =IF(P25="","",INDEX(Cycle,MOD(P25-Deb,Cycle!$C$11)+1)) -> R
B27: =IF($H25="","",IF(MONTH($H25+1)<>MONTH($H25),"",$H25+1)) -> 43188 | C27: =IF(B27="","",IF(MONTH(B27+1)<>MONTH(B27),"",B27+1)) -> 43189 | D27: =IF(C27="","",IF(MONTH(C27+1)<>MONTH(C27),"",C27+1)) -> 43190 | E27: =IF(D27="","",IF(MONTH(D27+1)<>MONTH(D27),"",D27+1)) | F27: =IF(E27="","",IF(MONTH(E27+1)<>MONTH(E27),"",E27+1)) | G27: =IF(F27="","",IF(MONTH(F27+1)<>MONTH(F27),"",F27+1)) | H27: =IF(G27="","",IF(MONTH(G27+1)<>MONTH(G27),"",G27+1)) | J27: =IF($P25="","",IF(MONTH($P25+1)<>MONTH($P25),"",$P25+1)) -> 43219 | K27: =IF(J27="","",IF(MONTH(J27+1)<>MONTH(J27),"",J27+1)) -> 43220 | L27: =IF(K27="","",IF(MONTH(K27+1)<>MONTH(K27),"",K27+1)) | M27: =IF(L27="","",IF(MONTH(L27+1)<>MONTH(L27),"",L27+1)) | N27: =IF(M27="","",IF(MONTH(M27+1)<>MONTH(M27),"",M27+1)) | O27: =IF(N27="","",IF(MONTH(N27+1)<>MONTH(N27),"",N27+1)) | P27: =IF(O27="","",IF(MONTH(O27+1)<>MONTH(O27),"",O27+1))
B28: =IF(B27="","",INDEX(Cycle,MOD(B27-Deb,Cycle!$C$11)+1)) -> R | C28: =IF(C27="","",INDEX(Cycle,MOD(C27-Deb,Cycle!$C$11)+1)) -> R | D28: =IF(D27="","",INDEX(Cycle,MOD(D27-Deb,Cycle!$C$11)+1)) -> AM | E28: =IF(E27="","",INDEX(Cycle,MOD(E27-Deb,Cycle!$C$11)+1)) | F28: =IF(F27="","",INDEX(Cycle,MOD(F27-Deb,Cycle!$C$11)+1)) | G28: =IF(G27="","",INDEX(Cycle,MOD(G27-Deb,Cycle!$C$11)+1)) | H28: =IF(H27="","",INDEX(Cycle,MOD(H27-Deb,Cycle!$C$11)+1)) | J28: =IF(J27="","",INDEX(Cycle,MOD(J27-Deb,Cycle!$C$11)+1)) -> R | K28: =IF(K27="","",INDEX(Cycle,MOD(K27-Deb,Cycle!$C$11)+1)) -> AM | L28: =IF(L27="","",INDEX(Cycle,MOD(L27-Deb,Cycle!$C$11)+1)) | M28: =IF(M27="","",INDEX(Cycle,MOD(M27-Deb,Cycle!$C$11)+1)) | N28: =IF(N27="","",INDEX(Cycle,MOD(N27-Deb,Cycle!$C$11)+1)) | O28: =IF(O27="","",INDEX(Cycle,MOD(O27-Deb,Cycle!$C$11)+1)) | P28: =IF(P27="","",INDEX(Cycle,MOD(P27-Deb,Cycle!$C$11)+1))
D30: =EDATE(D2,4) -> 43221 | L30: =EDATE(D2,5) -> 43252
B32: =D30 -> 43221 | C32: =B32+1 -> 43222 | D32: =C32+1 -> 43223 | E32: =D32+1 -> 43224 | F32: =E32+1 -> 43225 | G32: =F32+1 -> 43226 | H32: =G32+1 -> 43227 | J32: =L30 -> 43252 | K32: =J32+1 -> 43253 | L32: =K32+1 -> 43254 | M32: =L32+1 -> 43255 | N32: =M32+1 -> 43256 | O32: =N32+1 -> 43257 | P32: =O32+1 -> 43258
A33: =B33 -> 43221 | B33: =B32 -> 43221 | C33: =IF(B33="","",IF(MONTH(B33+1)<>MONTH(B33),"",B33+1)) -> 43222 | D33: =IF(C33="","",IF(MONTH(C33+1)<>MONTH(C33),"",C33+1)) -> 43223 | E33: =IF(D33="","",IF(MONTH(D33+1)<>MONTH(D33),"",D33+1)) -> 43224 | F33: =IF(E33="","",IF(MONTH(E33+1)<>MONTH(E33),"",E33+1)) -> 43225 | G33: =IF(F33="","",IF(MONTH(F33+1)<>MONTH(F33),"",F33+1)) -> 43226 | H33: =IF(G33="","",IF(MONTH(G33+1)<>MONTH(G33),"",G33+1)) -> 43227 | J33: =J32 -> 43252 | K33: =IF(J33="","",IF(MONTH(J33+1)<>MONTH(J33),"",J33+1)) -> 43253 | L33: =IF(K33="","",IF(MONTH(K33+1)<>MONTH(K33),"",K33+1)) -> 43254 | M33: =IF(L33="","",IF(MONTH(L33+1)<>MONTH(L33),"",L33+1)) -> 43255 | N33: =IF(M33="","",IF(MONTH(M33+1)<>MONTH(M33),"",M33+1)) -> 43256 | O33: =IF(N33="","",IF(MONTH(N33+1)<>MONTH(N33),"",N33+1)) -> 43257 | P33: =IF(O33="","",IF(MONTH(O33+1)<>MONTH(O33),"",O33+1)) -> 43258
B34: =IF(B33="","",INDEX(Cycle,MOD(B33-Deb,Cycle!$C$11)+1)) -> AM | C34: =IF(C33="","",INDEX(Cycle,MOD(C33-Deb,Cycle!$C$11)+1)) -> PM | D34: =IF(D33="","",INDEX(Cycle,MOD(D33-Deb,Cycle!$C$11)+1)) -> PM | E34: =IF(E33="","",INDEX(Cycle,MOD(E33-Deb,Cycle!$C$11)+1)) -> N | F34: =IF(F33="","",INDEX(Cycle,MOD(F33-Deb,Cycle!$C$11)+1)) -> N | G34: =IF(G33="","",INDEX(Cycle,MOD(G33-Deb,Cycle!$C$11)+1)) -> R | H34: =IF(H33="","",INDEX(Cycle,MOD(H33-Deb,Cycle!$C$11)+1)) -> R | J34: =IF(J33="","",INDEX(Cycle,MOD(J33-Deb,Cycle!$C$11)+1)) -> PM | K34: =IF(K33="","",INDEX(Cycle,MOD(K33-Deb,Cycle!$C$11)+1)) -> PM | L34: =IF(L33="","",INDEX(Cycle,MOD(L33-Deb,Cycle!$C$11)+1)) -> N | M34: =IF(M33="","",INDEX(Cycle,MOD(M33-Deb,Cycle!$C$11)+1)) -> N | N34: =IF(N33="","",INDEX(Cycle,MOD(N33-Deb,Cycle!$C$11)+1)) -> R | O34: =IF(O33="","",INDEX(Cycle,MOD(O33-Deb,Cycle!$C$11)+1)) -> R | P34: =IF(P33="","",INDEX(Cycle,MOD(P33-Deb,Cycle!$C$11)+1)) -> R
A35: =B35 -> 43228 | B35: =IF($H33="","",IF(MONTH($H33+1)<>MONTH($H33),"",$H33+1)) -> 43228 | C35: =IF(B35="","",IF(MONTH(B35+1)<>MONTH(B35),"",B35+1)) -> 43229 | D35: =IF(C35="","",IF(MONTH(C35+1)<>MONTH(C35),"",C35+1)) -> 43230 | E35: =IF(D35="","",IF(MONTH(D35+1)<>MONTH(D35),"",D35+1)) -> 43231 | F35: =IF(E35="","",IF(MONTH(E35+1)<>MONTH(E35),"",E35+1)) -> 43232 | G35: =IF(F35="","",IF(MONTH(F35+1)<>MONTH(F35),"",F35+1)) -> 43233 | H35: =IF(G35="","",IF(MONTH(G35+1)<>MONTH(G35),"",G35+1)) -> 43234 | J35: =IF($P33="","",IF(MONTH($P33+1)<>MONTH($P33),"",$P33+1)) -> 43259 | K35: =IF(J35="","",IF(MONTH(J35+1)<>MONTH(J35),"",J35+1)) -> 43260 | L35: =IF(K35="","",IF(MONTH(K35+1)<>MONTH(K35),"",K35+1)) -> 43261 | M35: =IF(L35="","",IF(MONTH(L35+1)<>MONTH(L35),"",L35+1)) -> 43262 | N35: =IF(M35="","",IF(MONTH(M35+1)<>MONTH(M35),"",M35+1)) -> 43263 | O35: =IF(N35="","",IF(MONTH(N35+1)<>MONTH(N35),"",N35+1)) -> 43264 | P35: =IF(O35="","",IF(MONTH(O35+1)<>MONTH(O35),"",O35+1)) -> 43265
B36: =IF(B35="","",INDEX(Cycle,MOD(B35-Deb,Cycle!$C$11)+1)) -> R | C36: =IF(C35="","",INDEX(Cycle,MOD(C35-Deb,Cycle!$C$11)+1)) -> R | D36: =IF(D35="","",INDEX(Cycle,MOD(D35-Deb,Cycle!$C$11)+1)) -> AM | E36: =IF(E35="","",INDEX(Cycle,MOD(E35-Deb,Cycle!$C$11)+1)) -> AM | F36: =IF(F35="","",INDEX(Cycle,MOD(F35-Deb,Cycle!$C$11)+1)) -> PM | G36: =IF(G35="","",INDEX(Cycle,MOD(G35-Deb,Cycle!$C$11)+1)) -> PM | H36: =IF(H35="","",INDEX(Cycle,MOD(H35-Deb,Cycle!$C$11)+1)) -> N | J36: =IF(J35="","",INDEX(Cycle,MOD(J35-Deb,Cycle!$C$11)+1)) -> R | K36: =IF(K35="","",INDEX(Cycle,MOD(K35-Deb,Cycle!$C$11)+1)) -> AM | L36: =IF(L35="","",INDEX(Cycle,MOD(L35-Deb,Cycle!$C$11)+1)) -> AM | M36: =IF(M35="","",INDEX(Cycle,MOD(M35-Deb,Cycle!$C$11)+1)) -> PM | N36: =IF(N35="","",INDEX(Cycle,MOD(N35-Deb,Cycle!$C$11)+1)) -> PM | O36: =IF(O35="","",INDEX(Cycle,MOD(O35-Deb,Cycle!$C$11)+1)) -> N | P36: =IF(P35="","",INDEX(Cycle,MOD(P35-Deb,Cycle!$C$11)+1)) -> N
B37: =IF($H35="","",IF(MONTH($H35+1)<>MONTH($H35),"",$H35+1)) -> 43235 | C37: =IF(B37="","",IF(MONTH(B37+1)<>MONTH(B37),"",B37+1)) -> 43236 | D37: =IF(C37="","",IF(MONTH(C37+1)<>MONTH(C37),"",C37+1)) -> 43237 | E37: =IF(D37="","",IF(MONTH(D37+1)<>MONTH(D37),"",D37+1)) -> 43238 | F37: =IF(E37="","",IF(MONTH(E37+1)<>MONTH(E37),"",E37+1)) -> 43239 | G37: =IF(F37="","",IF(MONTH(F37+1)<>MONTH(F37),"",F37+1)) -> 43240 | H37: =IF(G37="","",IF(MONTH(G37+1)<>MONTH(G37),"",G37+1)) -> 43241 | J37: =IF($P35="","",IF(MONTH($P35+1)<>MONTH($P35),"",$P35+1)) -> 43266 | K37: =IF(J37="","",IF(MONTH(J37+1)<>MONTH(J37),"",J37+1)) -> 43267 | L37: =IF(K37="","",IF(MONTH(K37+1)<>MONTH(K37),"",K37+1)) -> 43268 | M37: =IF(L37="","",IF(MONTH(L37+1)<>MONTH(L37),"",L37+1)) -> 43269 | N37: =IF(M37="","",IF(MONTH(M37+1)<>MONTH(M37),"",M37+1)) -> 43270 | O37: =IF(N37="","",IF(MONTH(N37+1)<>MONTH(N37),"",N37+1)) -> 43271 | P37: =IF(O37="","",IF(MONTH(O37+1)<>MONTH(O37),"",O37+1)) -> 43272
B38: =IF(B37="","",INDEX(Cycle,MOD(B37-Deb,Cycle!$C$11)+1)) -> N | C38: =IF(C37="","",INDEX(Cycle,MOD(C37-Deb,Cycle!$C$11)+1)) -> R | D38: =IF(D37="","",INDEX(Cycle,MOD(D37-Deb,Cycle!$C$11)+1)) -> R | E38: =IF(E37="","",INDEX(Cycle,MOD(E37-Deb,Cycle!$C$11)+1)) -> R | F38: =IF(F37="","",INDEX(Cycle,MOD(F37-Deb,Cycle!$C$11)+1)) -> R | G38: =IF(G37="","",INDEX(Cycle,MOD(G37-Deb,Cycle!$C$11)+1)) -> AM | H38: =IF(H37="","",INDEX(Cycle,MOD(H37-Deb,Cycle!$C$11)+1)) -> AM | J38: =IF(J37="","",INDEX(Cycle,MOD(J37-Deb,Cycle!$C$11)+1)) -> R | K38: =IF(K37="","",INDEX(Cycle,MOD(K37-Deb,Cycle!$C$11)+1)) -> R | L38: =IF(L37="","",INDEX(Cycle,MOD(L37-Deb,Cycle!$C$11)+1)) -> R | M38: =IF(M37="","",INDEX(Cycle,MOD(M37-Deb,Cycle!$C$11)+1)) -> R | N38: =IF(N37="","",INDEX(Cycle,MOD(N37-Deb,Cycle!$C$11)+1)) -> AM | O38: =IF(O37="","",INDEX(Cycle,MOD(O37-Deb,Cycle!$C$11)+1)) -> AM | P38: =IF(P37="","",INDEX(Cycle,MOD(P37-Deb,Cycle!$C$11)+1)) -> PM
B39: =IF($H37="","",IF(MONTH($H37+1)<>MONTH($H37),"",$H37+1)) -> 43242 | C39: =IF(B39="","",IF(MONTH(B39+1)<>MONTH(B39),"",B39+1)) -> 43243 | D39: =IF(C39="","",IF(MONTH(C39+1)<>MONTH(C39),"",C39+1)) -> 43244 | E39: =IF(D39="","",IF(MONTH(D39+1)<>MONTH(D39),"",D39+1)) -> 43245 | F39: =IF(E39="","",IF(MONTH(E39+1)<>MONTH(E39),"",E39+1)) -> 43246 | G39: =IF(F39="","",IF(MONTH(F39+1)<>MONTH(F39),"",F39+1)) -> 43247 | H39: =IF(G39="","",IF(MONTH(G39+1)<>MONTH(G39),"",G39+1)) -> 43248 | J39: =IF($P37="","",IF(MONTH($P37+1)<>MONTH($P37),"",$P37+1)) -> 43273 | K39: =IF(J39="","",IF(MONTH(J39+1)<>MONTH(J39),"",J39+1)) -> 43274 | L39: =IF(K39="","",IF(MONTH(K39+1)<>MONTH(K39),"",K39+1)) -> 43275 | M39: =IF(L39="","",IF(MONTH(L39+1)<>MONTH(L39),"",L39+1)) -> 43276 | N39: =IF(M39="","",IF(MONTH(M39+1)<>MONTH(M39),"",M39+1)) -> 43277 | O39: =IF(N39="","",IF(MONTH(N39+1)<>MONTH(N39),"",N39+1)) -> 43278 | P39: =IF(O39="","",IF(MONTH(O39+1)<>MONTH(O39),"",O39+1)) -> 43279
B40: =IF(B39="","",INDEX(Cycle,MOD(B39-Deb,Cycle!$C$11)+1)) -> PM | C40: =IF(C39="","",INDEX(Cycle,MOD(C39-Deb,Cycle!$C$11)+1)) -> PM | D40: =IF(D39="","",INDEX(Cycle,MOD(D39-Deb,Cycle!$C$11)+1)) -> N | E40: =IF(E39="","",INDEX(Cycle,MOD(E39-Deb,Cycle!$C$11)+1)) -> N | F40: =IF(F39="","",INDEX(Cycle,MOD(F39-Deb,Cycle!$C$11)+1)) -> R | G40: =IF(G39="","",INDEX(Cycle,MOD(G39-Deb,Cycle!$C$11)+1)) -> R | H40: =IF(H39="","",INDEX(Cycle,MOD(H39-Deb,Cycle!$C$11)+1)) -> R | J40: =IF(J39="","",INDEX(Cycle,MOD(J39-Deb,Cycle!$C$11)+1)) -> PM | K40: =IF(K39="","",INDEX(Cycle,MOD(K39-Deb,Cycle!$C$11)+1)) -> N | L40: =IF(L39="","",INDEX(Cycle,MOD(L39-Deb,Cycle!$C$11)+1)) -> N | M40: =IF(M39="","",INDEX(Cycle,MOD(M39-Deb,Cycle!$C$11)+1)) -> R | N40: =IF(N39="","",INDEX(Cycle,MOD(N39-Deb,Cycle!$C$11)+1)) -> R | O40: =IF(O39="","",INDEX(Cycle,MOD(O39-Deb,Cycle!$C$11)+1)) -> R | P40: =IF(P39="","",INDEX(Cycle,MOD(P39-Deb,Cycle!$C$11)+1)) -> R
B41: =IF($H39="","",IF(MONTH($H39+1)<>MONTH($H39),"",$H39+1)) -> 43249 | C41: =IF(B41="","",IF(MONTH(B41+1)<>MONTH(B41),"",B41+1)) -> 43250 | D41: =IF(C41="","",IF(MONTH(C41+1)<>MONTH(C41),"",C41+1)) -> 43251 | E41: =IF(D41="","",IF(MONTH(D41+1)<>MONTH(D41),"",D41+1)) | F41: =IF(E41="","",IF(MONTH(E41+1)<>MONTH(E41),"",E41+1)) | G41: =IF(F41="","",IF(MONTH(F41+1)<>MONTH(F41),"",F41+1)) | H41: =IF(G41="","",IF(MONTH(G41+1)<>MONTH(G41),"",G41+1)) | J41: =IF($P39="","",IF(MONTH($P39+1)<>MONTH($P39),"",$P39+1)) -> 43280 | K41: =IF(J41="","",IF(MONTH(J41+1)<>MONTH(J41),"",J41+1)) -> 43281 | L41: =IF(K41="","",IF(MONTH(K41+1)<>MONTH(K41),"",K41+1)) | M41: =IF(L41="","",IF(MONTH(L41+1)<>MONTH(L41),"",L41+1)) | N41: =IF(M41="","",IF(MONTH(M41+1)<>MONTH(M41),"",M41+1)) | O41: =IF(N41="","",IF(MONTH(N41+1)<>MONTH(N41),"",N41+1)) | P41: =IF(O41="","",IF(MONTH(O41+1)<>MONTH(O41),"",O41+1))
B42: =IF(B41="","",INDEX(Cycle,MOD(B41-Deb,Cycle!$C$11)+1)) -> R | C42: =IF(C41="","",INDEX(Cycle,MOD(C41-Deb,Cycle!$C$11)+1)) -> AM | D42: =IF(D41="","",INDEX(Cycle,MOD(D41-Deb,Cycle!$C$11)+1)) -> AM | E42: =IF(E41="","",INDEX(Cycle,MOD(E41-Deb,Cycle!$C$11)+1)) | F42: =IF(F41="","",INDEX(Cycle,MOD(F41-Deb,Cycle!$C$11)+1)) | G42: =IF(G41="","",INDEX(Cycle,MOD(G41-Deb,Cycle!$C$11)+1)) | H42: =IF(H41="","",INDEX(Cycle,MOD(H41-Deb,Cycle!$C$11)+1)) | J42: =IF(J41="","",INDEX(Cycle,MOD(J41-Deb,Cycle!$C$11)+1)) -> AM | K42: =IF(K41="","",INDEX(Cycle,MOD(K41-Deb,Cycle!$C$11)+1)) -> AM | L42: =IF(L41="","",INDEX(Cycle,MOD(L41-Deb,Cycle!$C$11)+1)) | M42: =IF(M41="","",INDEX(Cycle,MOD(M41-Deb,Cycle!$C$11)+1)) | N42: =IF(N41="","",INDEX(Cycle,MOD(N41-Deb,Cycle!$C$11)+1)) | O42: =IF(O41="","",INDEX(Cycle,MOD(O41-Deb,Cycle!$C$11)+1)) | P42: =IF(P41="","",INDEX(Cycle,MOD(P41-Deb,Cycle!$C$11)+1))
D44: =EDATE(D2,6) -> 43282 | L44: =EDATE(D44,1) -> 43313
B46: =D44 -> 43282 | C46: =B46+1 -> 43283 | D46: =C46+1 -> 43284 | E46: =D46+1 -> 43285 | F46: =E46+1 -> 43286 | G46: =F46+1 -> 43287 | H46: =G46+1 -> 43288 | J46: =L44 -> 43313 | K46: =J46+1 -> 43314 | L46: =K46+1 -> 43315 | M46: =L46+1 -> 43316 | N46: =M46+1 -> 43317 | O46: =N46+1 -> 43318 | P46: =O46+1 -> 43319
A47: =B47 -> 43282 | B47: =B46 -> 43282 | C47: =IF(B47="","",IF(MONTH(B47+1)<>MONTH(B47),"",B47+1)) -> 43283 | D47: =IF(C47="","",IF(MONTH(C47+1)<>MONTH(C47),"",C47+1)) -> 43284 | E47: =IF(D47="","",IF(MONTH(D47+1)<>MONTH(D47),"",D47+1)) -> 43285 | F47: =IF(E47="","",IF(MONTH(E47+1)<>MONTH(E47),"",E47+1)) -> 43286 | G47: =IF(F47="","",IF(MONTH(F47+1)<>MONTH(F47),"",F47+1)) -> 43287 | H47: =IF(G47="","",IF(MONTH(G47+1)<>MONTH(G47),"",G47+1)) -> 43288 | J47: =J46 -> 43313 | K47: =IF(J47="","",IF(MONTH(J47+1)<>MONTH(J47),"",J47+1)) -> 43314 | L47: =IF(K47="","",IF(MONTH(K47+1)<>MONTH(K47),"",K47+1)) -> 43315 | M47: =IF(L47="","",IF(MONTH(L47+1)<>MONTH(L47),"",L47+1)) -> 43316 | N47: =IF(M47="","",IF(MONTH(M47+1)<>MONTH(M47),"",M47+1)) -> 43317 | O47: =IF(N47="","",IF(MONTH(N47+1)<>MONTH(N47),"",N47+1)) -> 43318 | P47: =IF(O47="","",IF(MONTH(O47+1)<>MONTH(O47),"",O47+1)) -> 43319
B48: =IF(B47="","",INDEX(Cycle,MOD(B47-Deb,Cycle!$C$11)+1)) -> PM | C48: =IF(C47="","",INDEX(Cycle,MOD(C47-Deb,Cycle!$C$11)+1)) -> PM | D48: =IF(D47="","",INDEX(Cycle,MOD(D47-Deb,Cycle!$C$11)+1)) -> N | E48: =IF(E47="","",INDEX(Cycle,MOD(E47-Deb,Cycle!$C$11)+1)) -> N | F48: =IF(F47="","",INDEX(Cycle,MOD(F47-Deb,Cycle!$C$11)+1)) -> R | G48: =IF(G47="","",INDEX(Cycle,MOD(G47-Deb,Cycle!$C$11)+1)) -> R | H48: =IF(H47="","",INDEX(Cycle,MOD(H47-Deb,Cycle!$C$11)+1)) -> R | J48: =IF(J47="","",INDEX(Cycle,MOD(J47-Deb,Cycle!$C$11)+1)) -> PM | K48: =IF(K47="","",INDEX(Cycle,MOD(K47-Deb,Cycle!$C$11)+1)) -> N | L48: =IF(L47="","",INDEX(Cycle,MOD(L47-Deb,Cycle!$C$11)+1)) -> N | M48: =IF(M47="","",INDEX(Cycle,MOD(M47-Deb,Cycle!$C$11)+1)) -> R | N48: =IF(N47="","",INDEX(Cycle,MOD(N47-Deb,Cycle!$C$11)+1)) -> R | O48: =IF(O47="","",INDEX(Cycle,MOD(O47-Deb,Cycle!$C$11)+1)) -> R | P48: =IF(P47="","",INDEX(Cycle,MOD(P47-Deb,Cycle!$C$11)+1)) -> R
A49: =B49 -> 43289 | B49: =IF($H47="","",IF(MONTH($H47+1)<>MONTH($H47),"",$H47+1)) -> 43289 | C49: =IF(B49="","",IF(MONTH(B49+1)<>MONTH(B49),"",B49+1)) -> 43290 | D49: =IF(C49="","",IF(MONTH(C49+1)<>MONTH(C49),"",C49+1)) -> 43291 | E49: =IF(D49="","",IF(MONTH(D49+1)<>MONTH(D49),"",D49+1)) -> 43292 | F49: =IF(E49="","",IF(MONTH(E49+1)<>MONTH(E49),"",E49+1)) -> 43293 | G49: =IF(F49="","",IF(MONTH(F49+1)<>MONTH(F49),"",F49+1)) -> 43294 | H49: =IF(G49="","",IF(MONTH(G49+1)<>MONTH(G49),"",G49+1)) -> 43295 | J49: =IF($P47="","",IF(MONTH($P47+1)<>MONTH($P47),"",$P47+1)) -> 43320 | K49: =IF(J49="","",IF(MONTH(J49+1)<>MONTH(J49),"",J49+1)) -> 43321 | L49: =IF(K49="","",IF(MONTH(K49+1)<>MONTH(K49),"",K49+1)) -> 43322 | M49: =IF(L49="","",IF(MONTH(L49+1)<>MONTH(L49),"",L49+1)) -> 43323 | N49: =IF(M49="","",IF(MONTH(M49+1)<>MONTH(M49),"",M49+1)) -> 43324 | O49: =IF(N49="","",IF(MONTH(N49+1)<>MONTH(N49),"",N49+1)) -> 43325 | P49: =IF(O49="","",IF(MONTH(O49+1)<>MONTH(O49),"",O49+1)) -> 43326
B50: =IF(B49="","",INDEX(Cycle,MOD(B49-Deb,Cycle!$C$11)+1)) -> R | C50: =IF(C49="","",INDEX(Cycle,MOD(C49-Deb,Cycle!$C$11)+1)) -> AM | D50: =IF(D49="","",INDEX(Cycle,MOD(D49-Deb,Cycle!$C$11)+1)) -> AM | E50: =IF(E49="","",INDEX(Cycle,MOD(E49-Deb,Cycle!$C$11)+1)) -> PM | F50: =IF(F49="","",INDEX(Cycle,MOD(F49-Deb,Cycle!$C$11)+1)) -> PM | G50: =IF(G49="","",INDEX(Cycle,MOD(G49-Deb,Cycle!$C$11)+1)) -> N | H50: =IF(H49="","",INDEX(Cycle,MOD(H49-Deb,Cycle!$C$11)+1)) -> N | J50: =IF(J49="","",INDEX(Cycle,MOD(J49-Deb,Cycle!$C$11)+1)) -> AM | K50: =IF(K49="","",INDEX(Cycle,MOD(K49-Deb,Cycle!$C$11)+1)) -> AM | L50: =IF(L49="","",INDEX(Cycle,MOD(L49-Deb,Cycle!$C$11)+1)) -> PM | M50: =IF(M49="","",INDEX(Cycle,MOD(M49-Deb,Cycle!$C$11)+1)) -> PM | N50: =IF(N49="","",INDEX(Cycle,MOD(N49-Deb,Cycle!$C$11)+1)) -> N | O50: =IF(O49="","",INDEX(Cycle,MOD(O49-Deb,Cycle!$C$11)+1)) -> N | P50: =IF(P49="","",INDEX(Cycle,MOD(P49-Deb,Cycle!$C$11)+1)) -> R
A51: Voir formule précédente | B51: =IF($P49="","",IF(MONTH($P49+1)<>MONTH($P49),"",$P49+1)) -> 43327 | C51: =IF(B51="","",IF(MONTH(B51+1)<>MONTH(B51),"",B51+1)) -> 43328 | D51: =IF(C51="","",IF(MONTH(C51+1)<>MONTH(C51),"",C51+1)) -> 43329 | E51: =IF(D51="","",IF(MONTH(D51+1)<>MONTH(D51),"",D51+1)) -> 43330 | F51: =IF(E51="","",IF(MONTH(E51+1)<>MONTH(E51),"",E51+1)) -> 43331 | G51: =IF(F51="","",IF(MONTH(F51+1)<>MONTH(F51),"",F51+1)) -> 43332 | H51: =IF(G51="","",IF(MONTH(G51+1)<>MONTH(G51),"",G51+1)) -> 43333 | J51: =IF($P49="","",IF(MONTH($P49+1)<>MONTH($P49),"",$P49+1)) -> 43327 | K51: =IF(J51="","",IF(MONTH(J51+1)<>MONTH(J51),"",J51+1)) -> 43328 | L51: =IF(K51="","",IF(MONTH(K51+1)<>MONTH(K51),"",K51+1)) -> 43329 | M51: =IF(L51="","",IF(MONTH(L51+1)<>MONTH(L51),"",L51+1)) -> 43330 | N51: =IF(M51="","",IF(MONTH(M51+1)<>MONTH(M51),"",M51+1)) -> 43331 | O51: =IF(N51="","",IF(MONTH(N51+1)<>MONTH(N51),"",N51+1)) -> 43332 | P51: =IF(O51="","",IF(MONTH(O51+1)<>MONTH(O51),"",O51+1)) -> 43333
B52: =IF(B51="","",INDEX(Cycle,MOD(B51-Deb,Cycle!$C$11)+1)) -> R | C52: =IF(C51="","",INDEX(Cycle,MOD(C51-Deb,Cycle!$C$11)+1)) -> R | D52: =IF(D51="","",INDEX(Cycle,MOD(D51-Deb,Cycle!$C$11)+1)) -> R | E52: =IF(E51="","",INDEX(Cycle,MOD(E51-Deb,Cycle!$C$11)+1)) -> AM | F52: =IF(F51="","",INDEX(Cycle,MOD(F51-Deb,Cycle!$C$11)+1)) -> AM | G52: =IF(G51="","",INDEX(Cycle,MOD(G51-Deb,Cycle!$C$11)+1)) -> PM | H52: =IF(H51="","",INDEX(Cycle,MOD(H51-Deb,Cycle!$C$11)+1)) -> PM | J52: =IF(J51="","",INDEX(Cycle,MOD(J51-Deb,Cycle!$C$11)+1)) -> R | K52: =IF(K51="","",INDEX(Cycle,MOD(K51-Deb,Cycle!$C$11)+1)) -> R | L52: =IF(L51="","",INDEX(Cycle,MOD(L51-Deb,Cycle!$C$11)+1)) -> R | M52: =IF(M51="","",INDEX(Cycle,MOD(M51-Deb,Cycle!$C$11)+1)) -> AM | N52: =IF(N51="","",INDEX(Cycle,MOD(N51-Deb,Cycle!$C$11)+1)) -> AM | O52: =IF(O51="","",INDEX(Cycle,MOD(O51-Deb,Cycle!$C$11)+1)) -> PM | P52: =IF(P51="","",INDEX(Cycle,MOD(P51-Deb,Cycle!$C$11)+1)) -> PM
B53: =IF($P51="","",IF(MONTH($P51+1)<>MONTH($P51),"",$P51+1)) -> 43334 | C53: =IF(B53="","",IF(MONTH(B53+1)<>MONTH(B53),"",B53+1)) -> 43335 | D53: =IF(C53="","",IF(MONTH(C53+1)<>MONTH(C53),"",C53+1)) -> 43336 | E53: =IF(D53="","",IF(MONTH(D53+1)<>MONTH(D53),"",D53+1)) -> 43337 | F53: =IF(E53="","",IF(MONTH(E53+1)<>MONTH(E53),"",E53+1)) -> 43338 | G53: =IF(F53="","",IF(MONTH(F53+1)<>MONTH(F53),"",F53+1)) -> 43339 | H53: =IF(G53="","",IF(MONTH(G53+1)<>MONTH(G53),"",G53+1)) -> 43340 | J53: =IF($P51="","",IF(MONTH($P51+1)<>MONTH($P51),"",$P51+1)) -> 43334 | K53: =IF(J53="","",IF(MONTH(J53+1)<>MONTH(J53),"",J53+1)) -> 43335 | L53: =IF(K53="","",IF(MONTH(K53+1)<>MONTH(K53),"",K53+1)) -> 43336 | M53: =IF(L53="","",IF(MONTH(L53+1)<>MONTH(L53),"",L53+1)) -> 43337 | N53: =IF(M53="","",IF(MONTH(M53+1)<>MONTH(M53),"",M53+1)) -> 43338 | O53: =IF(N53="","",IF(MONTH(N53+1)<>MONTH(N53),"",N53+1)) -> 43339 | P53: =IF(O53="","",IF(MONTH(O53+1)<>MONTH(O53),"",O53+1)) -> 43340
B54: =IF(B53="","",INDEX(Cycle,MOD(B53-Deb,Cycle!$C$11)+1)) -> N | C54: =IF(C53="","",INDEX(Cycle,MOD(C53-Deb,Cycle!$C$11)+1)) -> N | D54: =IF(D53="","",INDEX(Cycle,MOD(D53-Deb,Cycle!$C$11)+1)) -> R | E54: =IF(E53="","",INDEX(Cycle,MOD(E53-Deb,Cycle!$C$11)+1)) -> R | F54: =IF(F53="","",INDEX(Cycle,MOD(F53-Deb,Cycle!$C$11)+1)) -> R | G54: =IF(G53="","",INDEX(Cycle,MOD(G53-Deb,Cycle!$C$11)+1)) -> R | H54: =IF(H53="","",INDEX(Cycle,MOD(H53-Deb,Cycle!$C$11)+1)) -> AM | J54: =IF(J53="","",INDEX(Cycle,MOD(J53-Deb,Cycle!$C$11)+1)) -> N | K54: =IF(K53="","",INDEX(Cycle,MOD(K53-Deb,Cycle!$C$11)+1)) -> N | L54: =IF(L53="","",INDEX(Cycle,MOD(L53-Deb,Cycle!$C$11)+1)) -> R | M54: =IF(M53="","",INDEX(Cycle,MOD(M53-Deb,Cycle!$C$11)+1)) -> R | N54: =IF(N53="","",INDEX(Cycle,MOD(N53-Deb,Cycle!$C$11)+1)) -> R | O54: =IF(O53="","",INDEX(Cycle,MOD(O53-Deb,Cycle!$C$11)+1)) -> R | P54: =IF(P53="","",INDEX(Cycle,MOD(P53-Deb,Cycle!$C$11)+1)) -> AM
B55: =IF($P53="","",IF(MONTH($P53+1)<>MONTH($P53),"",$P53+1)) -> 43341 | C55: =IF(B55="","",IF(MONTH(B55+1)<>MONTH(B55),"",B55+1)) -> 43342 | D55: =IF(C55="","",IF(MONTH(C55+1)<>MONTH(C55),"",C55+1)) -> 43343 | E55: =IF(D55="","",IF(MONTH(D55+1)<>MONTH(D55),"",D55+1)) | F55: =IF(E55="","",IF(MONTH(E55+1)<>MONTH(E55),"",E55+1)) | G55: =IF(F55="","",IF(MONTH(F55+1)<>MONTH(F55),"",F55+1)) | H55: =IF(G55="","",IF(MONTH(G55+1)<>MONTH(G55),"",G55+1)) | J55: =IF($P53="","",IF(MONTH($P53+1)<>MONTH($P53),"",$P53+1)) -> 43341 | K55: =IF(J55="","",IF(MONTH(J55+1)<>MONTH(J55),"",J55+1)) -> 43342 | L55: =IF(K55="","",IF(MONTH(K55+1)<>MONTH(K55),"",K55+1)) -> 43343 | M55: =IF(L55="","",IF(MONTH(L55+1)<>MONTH(L55),"",L55+1)) | N55: =IF(M55="","",IF(MONTH(M55+1)<>MONTH(M55),"",M55+1)) | O55: =IF(N55="","",IF(MONTH(N55+1)<>MONTH(N55),"",N55+1)) | P55: =IF(O55="","",IF(MONTH(O55+1)<>MONTH(O55),"",O55+1))
B56: =IF(B55="","",INDEX(Cycle,MOD(B55-Deb,Cycle!$C$11)+1)) -> AM | C56: =IF(C55="","",INDEX(Cycle,MOD(C55-Deb,Cycle!$C$11)+1)) -> PM | D56: =IF(D55="","",INDEX(Cycle,MOD(D55-Deb,Cycle!$C$11)+1)) -> PM | E56: =IF(E55="","",INDEX(Cycle,MOD(E55-Deb,Cycle!$C$11)+1)) | F56: =IF(F55="","",INDEX(Cycle,MOD(F55-Deb,Cycle!$C$11)+1)) | G56: =IF(G55="","",INDEX(Cycle,MOD(G55-Deb,Cycle!$C$11)+1)) | H56: =IF(H55="","",INDEX(Cycle,MOD(H55-Deb,Cycle!$C$11)+1)) | J56: =IF(J55="","",INDEX(Cycle,MOD(J55-Deb,Cycle!$C$11)+1)) -> AM | K56: =IF(K55="","",INDEX(Cycle,MOD(K55-Deb,Cycle!$C$11)+1)) -> PM | L56: =IF(L55="","",INDEX(Cycle,MOD(L55-Deb,Cycle!$C$11)+1)) -> PM | M56: =IF(M55="","",INDEX(Cycle,MOD(M55-Deb,Cycle!$C$11)+1)) | N56: =IF(N55="","",INDEX(Cycle,MOD(N55-Deb,Cycle!$C$11)+1)) | O56: =IF(O55="","",INDEX(Cycle,MOD(O55-Deb,Cycle!$C$11)+1)) | P56: =IF(P55="","",INDEX(Cycle,MOD(P55-Deb,Cycle!$C$11)+1))
D58: =EDATE(D44,2) -> 43344 | L58: =EDATE(D44,3) -> 43374
B60: =D58 -> 43344 | C60: =B60+1 -> 43345 | D60: =C60+1 -> 43346 | E60: =D60+1 -> 43347 | F60: =E60+1 -> 43348 | G60: =F60+1 -> 43349 | H60: =G60+1 -> 43350 | J60: =L58 -> 43374 | K60: =J60+1 -> 43375 | L60: =K60+1 -> 43376 | M60: =L60+1 -> 43377 | N60: =M60+1 -> 43378 | O60: =N60+1 -> 43379 | P60: =O60+1 -> 43380
A61: =B61 -> 43344 | B61: =B60 -> 43344 | C61: =IF(B61="","",IF(MONTH(B61+1)<>MONTH(B61),"",B61+1)) -> 43345 | D61: =IF(C61="","",IF(MONTH(C61+1)<>MONTH(C61),"",C61+1)) -> 43346 | E61: =IF(D61="","",IF(MONTH(D61+1)<>MONTH(D61),"",D61+1)) -> 43347 | F61: =IF(E61="","",IF(MONTH(E61+1)<>MONTH(E61),"",E61+1)) -> 43348 | G61: =IF(F61="","",IF(MONTH(F61+1)<>MONTH(F61),"",F61+1)) -> 43349 | H61: =IF(G61="","",IF(MONTH(G61+1)<>MONTH(G61),"",G61+1)) -> 43350 | J61: =J60 -> 43374 | K61: =IF(J61="","",IF(MONTH(J61+1)<>MONTH(J61),"",J61+1)) -> 43375 | L61: =IF(K61="","",IF(MONTH(K61+1)<>MONTH(K61),"",K61+1)) -> 43376 | M61: =IF(L61="","",IF(MONTH(L61+1)<>MONTH(L61),"",L61+1)) -> 43377 | N61: =IF(M61="","",IF(MONTH(M61+1)<>MONTH(M61),"",M61+1)) -> 43378 | O61: =IF(N61="","",IF(MONTH(N61+1)<>MONTH(N61),"",N61+1)) -> 43379 | P61: =IF(O61="","",IF(MONTH(O61+1)<>MONTH(O61),"",O61+1)) -> 43380
B62: =IF(B61="","",INDEX(Cycle,MOD(B61-Deb,Cycle!$C$11)+1)) -> N | C62: =IF(C61="","",INDEX(Cycle,MOD(C61-Deb,Cycle!$C$11)+1)) -> N | D62: =IF(D61="","",INDEX(Cycle,MOD(D61-Deb,Cycle!$C$11)+1)) -> R | E62: =IF(E61="","",INDEX(Cycle,MOD(E61-Deb,Cycle!$C$11)+1)) -> R | F62: =IF(F61="","",INDEX(Cycle,MOD(F61-Deb,Cycle!$C$11)+1)) -> R | G62: =IF(G61="","",INDEX(Cycle,MOD(G61-Deb,Cycle!$C$11)+1)) -> R | H62: =IF(H61="","",INDEX(Cycle,MOD(H61-Deb,Cycle!$C$11)+1)) -> AM | J62: =IF(J61="","",INDEX(Cycle,MOD(J61-Deb,Cycle!$C$11)+1)) -> N | K62: =IF(K61="","",INDEX(Cycle,MOD(K61-Deb,Cycle!$C$11)+1)) -> N | L62: =IF(L61="","",INDEX(Cycle,MOD(L61-Deb,Cycle!$C$11)+1)) -> R | M62: =IF(M61="","",INDEX(Cycle,MOD(M61-Deb,Cycle!$C$11)+1)) -> R | N62: =IF(N61="","",INDEX(Cycle,MOD(N61-Deb,Cycle!$C$11)+1)) -> R | O62: =IF(O61="","",INDEX(Cycle,MOD(O61-Deb,Cycle!$C$11)+1)) -> R | P62: =IF(P61="","",INDEX(Cycle,MOD(P61-Deb,Cycle!$C$11)+1)) -> AM
A63: =B63 -> 43351 | B63: =IF($H61="","",IF(MONTH($H61+1)<>MONTH($H61),"",$H61+1)) -> 43351 | C63: =IF(B63="","",IF(MONTH(B63+1)<>MONTH(B63),"",B63+1)) -> 43352 | D63: =IF(C63="","",IF(MONTH(C63+1)<>MONTH(C63),"",C63+1)) -> 43353 | E63: =IF(D63="","",IF(MONTH(D63+1)<>MONTH(D63),"",D63+1)) -> 43354 | F63: =IF(E63="","",IF(MONTH(E63+1)<>MONTH(E63),"",E63+1)) -> 43355 | G63: =IF(F63="","",IF(MONTH(F63+1)<>MONTH(F63),"",F63+1)) -> 43356 | H63: =IF(G63="","",IF(MONTH(G63+1)<>MONTH(G63),"",G63+1)) -> 43357 | J63: =IF($P61="","",IF(MONTH($P61+1)<>MONTH($P61),"",$P61+1)) -> 43381 | K63: =IF(J63="","",IF(MONTH(J63+1)<>MONTH(J63),"",J63+1)) -> 43382 | L63: =IF(K63="","",IF(MONTH(K63+1)<>MONTH(K63),"",K63+1)) -> 43383 | M63: =IF(L63="","",IF(MONTH(L63+1)<>MONTH(L63),"",L63+1)) -> 43384 | N63: =IF(M63="","",IF(MONTH(M63+1)<>MONTH(M63),"",M63+1)) -> 43385 | O63: =IF(N63="","",IF(MONTH(N63+1)<>MONTH(N63),"",N63+1)) -> 43386 | P63: =IF(O63="","",IF(MONTH(O63+1)<>MONTH(O63),"",O63+1)) -> 43387
B64: =IF(B63="","",INDEX(Cycle,MOD(B63-Deb,Cycle!$C$11)+1)) -> AM | C64: =IF(C63="","",INDEX(Cycle,MOD(C63-Deb,Cycle!$C$11)+1)) -> PM | D64: =IF(D63="","",INDEX(Cycle,MOD(D63-Deb,Cycle!$C$11)+1)) -> PM | E64: =IF(E63="","",INDEX(Cycle,MOD(E63-Deb,Cycle!$C$11)+1)) -> N | F64: =IF(F63="","",INDEX(Cycle,MOD(F63-Deb,Cycle!$C$11)+1)) -> N | G64: =IF(G63="","",INDEX(Cycle,MOD(G63-Deb,Cycle!$C$11)+1)) -> R | H64: =IF(H63="","",INDEX(Cycle,MOD(H63-Deb,Cycle!$C$11)+1)) -> R | J64: =IF(J63="","",INDEX(Cycle,MOD(J63-Deb,Cycle!$C$11)+1)) -> AM | K64: =IF(K63="","",INDEX(Cycle,MOD(K63-Deb,Cycle!$C$11)+1)) -> PM | L64: =IF(L63="","",INDEX(Cycle,MOD(L63-Deb,Cycle!$C$11)+1)) -> PM | M64: =IF(M63="","",INDEX(Cycle,MOD(M63-Deb,Cycle!$C$11)+1)) -> N | N64: =IF(N63="","",INDEX(Cycle,MOD(N63-Deb,Cycle!$C$11)+1)) -> N | O64: =IF(O63="","",INDEX(Cycle,MOD(O63-Deb,Cycle!$C$11)+1)) -> R | P64: =IF(P63="","",INDEX(Cycle,MOD(P63-Deb,Cycle!$C$11)+1)) -> R
B65: =IF($H63="","",IF(MONTH($H63+1)<>MONTH($H63),"",$H63+1)) -> 43358 | C65: =IF(B65="","",IF(MONTH(B65+1)<>MONTH(B65),"",B65+1)) -> 43359 | D65: =IF(C65="","",IF(MONTH(C65+1)<>MONTH(C65),"",C65+1)) -> 43360 | E65: =IF(D65="","",IF(MONTH(D65+1)<>MONTH(D65),"",D65+1)) -> 43361 | F65: =IF(E65="","",IF(MONTH(E65+1)<>MONTH(E65),"",E65+1)) -> 43362 | G65: =IF(F65="","",IF(MONTH(F65+1)<>MONTH(F65),"",F65+1)) -> 43363 | H65: =IF(G65="","",IF(MONTH(G65+1)<>MONTH(G65),"",G65+1)) -> 43364 | J65: =IF($P63="","",IF(MONTH($P63+1)<>MONTH($P63),"",$P63+1)) -> 43388 | K65: =IF(J65="","",IF(MONTH(J65+1)<>MONTH(J65),"",J65+1)) -> 43389 | L65: =IF(K65="","",IF(MONTH(K65+1)<>MONTH(K65),"",K65+1)) -> 43390 | M65: =IF(L65="","",IF(MONTH(L65+1)<>MONTH(L65),"",L65+1)) -> 43391 | N65: =IF(M65="","",IF(MONTH(M65+1)<>MONTH(M65),"",M65+1)) -> 43392 | O65: =IF(N65="","",IF(MONTH(N65+1)<>MONTH(N65),"",N65+1)) -> 43393 | P65: =IF(O65="","",IF(MONTH(O65+1)<>MONTH(O65),"",O65+1)) -> 43394
B66: =IF(B65="","",INDEX(Cycle,MOD(B65-Deb,Cycle!$C$11)+1)) -> R | C66: =IF(C65="","",INDEX(Cycle,MOD(C65-Deb,Cycle!$C$11)+1)) -> R | D66: =IF(D65="","",INDEX(Cycle,MOD(D65-Deb,Cycle!$C$11)+1)) -> AM | E66: =IF(E65="","",INDEX(Cycle,MOD(E65-Deb,Cycle!$C$11)+1)) -> AM | F66: =IF(F65="","",INDEX(Cycle,MOD(F65-Deb,Cycle!$C$11)+1)) -> PM | G66: =IF(G65="","",INDEX(Cycle,MOD(G65-Deb,Cycle!$C$11)+1)) -> PM | H66: =IF(H65="","",INDEX(Cycle,MOD(H65-Deb,Cycle!$C$11)+1)) -> N | J66: =IF(J65="","",INDEX(Cycle,MOD(J65-Deb,Cycle!$C$11)+1)) -> R | K66: =IF(K65="","",INDEX(Cycle,MOD(K65-Deb,Cycle!$C$11)+1)) -> R | L66: =IF(L65="","",INDEX(Cycle,MOD(L65-Deb,Cycle!$C$11)+1)) -> AM | M66: =IF(M65="","",INDEX(Cycle,MOD(M65-Deb,Cycle!$C$11)+1)) -> AM | N66: =IF(N65="","",INDEX(Cycle,MOD(N65-Deb,Cycle!$C$11)+1)) -> PM | O66: =IF(O65="","",INDEX(Cycle,MOD(O65-Deb,Cycle!$C$11)+1)) -> PM | P66: =IF(P65="","",INDEX(Cycle,MOD(P65-Deb,Cycle!$C$11)+1)) -> N
B67: =IF($H65="","",IF(MONTH($H65+1)<>MONTH($H65),"",$H65+1)) -> 43365 | C67: =IF(B67="","",IF(MONTH(B67+1)<>MONTH(B67),"",B67+1)) -> 43366 | D67: =IF(C67="","",IF(MONTH(C67+1)<>MONTH(C67),"",C67+1)) -> 43367 | E67: =IF(D67="","",IF(MONTH(D67+1)<>MONTH(D67),"",D67+1)) -> 43368 | F67: =IF(E67="","",IF(MONTH(E67+1)<>MONTH(E67),"",E67+1)) -> 43369 | G67: =IF(F67="","",IF(MONTH(F67+1)<>MONTH(F67),"",F67+1)) -> 43370 | H67: =IF(G67="","",IF(MONTH(G67+1)<>MONTH(G67),"",G67+1)) -> 43371 | J67: =IF($P65="","",IF(MONTH($P65+1)<>MONTH($P65),"",$P65+1)) -> 43395 | K67: =IF(J67="","",IF(MONTH(J67+1)<>MONTH(J67),"",J67+1)) -> 43396 | L67: =IF(K67="","",IF(MONTH(K67+1)<>MONTH(K67),"",K67+1)) -> 43397 | M67: =IF(L67="","",IF(MONTH(L67+1)<>MONTH(L67),"",L67+1)) -> 43398 | N67: =IF(M67="","",IF(MONTH(M67+1)<>MONTH(M67),"",M67+1)) -> 43399 | O67: =IF(N67="","",IF(MONTH(N67+1)<>MONTH(N67),"",N67+1)) -> 43400 | P67: =IF(O67="","",IF(MONTH(O67+1)<>MONTH(O67),"",O67+1)) -> 43401
B68: =IF(B67="","",INDEX(Cycle,MOD(B67-Deb,Cycle!$C$11)+1)) -> N | C68: =IF(C67="","",INDEX(Cycle,MOD(C67-Deb,Cycle!$C$11)+1)) -> R | D68: =IF(D67="","",INDEX(Cycle,MOD(D67-Deb,Cycle!$C$11)+1)) -> R | E68: =IF(E67="","",INDEX(Cycle,MOD(E67-Deb,Cycle!$C$11)+1)) -> R | F68: =IF(F67="","",INDEX(Cycle,MOD(F67-Deb,Cycle!$C$11)+1)) -> R | G68: =IF(G67="","",INDEX(Cycle,MOD(G67-Deb,Cycle!$C$11)+1)) -> AM | H68: =IF(H67="","",INDEX(Cycle,MOD(H67-Deb,Cycle!$C$11)+1)) -> AM | J68: =IF(J67="","",INDEX(Cycle,MOD(J67-Deb,Cycle!$C$11)+1)) -> N | K68: =IF(K67="","",INDEX(Cycle,MOD(K67-Deb,Cycle!$C$11)+1)) -> R | L68: =IF(L67="","",INDEX(Cycle,MOD(L67-Deb,Cycle!$C$11)+1)) -> R | M68: =IF(M67="","",INDEX(Cycle,MOD(M67-Deb,Cycle!$C$11)+1)) -> R | N68: =IF(N67="","",INDEX(Cycle,MOD(N67-Deb,Cycle!$C$11)+1)) -> R | O68: =IF(O67="","",INDEX(Cycle,MOD(O67-Deb,Cycle!$C$11)+1)) -> AM | P68: =IF(P67="","",INDEX(Cycle,MOD(P67-Deb,Cycle!$C$11)+1)) -> AM
B69: =IF($H67="","",IF(MONTH($H67+1)<>MONTH($H67),"",$H67+1)) -> 43372 | C69: =IF(B69="","",IF(MONTH(B69+1)<>MONTH(B69),"",B69+1)) -> 43373 | D69: =IF(C69="","",IF(MONTH(C69+1)<>MONTH(C69),"",C69+1)) | E69: =IF(D69="","",IF(MONTH(D69+1)<>MONTH(D69),"",D69+1)) | F69: =IF(E69="","",IF(MONTH(E69+1)<>MONTH(E69),"",E69+1)) | G69: =IF(F69="","",IF(MONTH(F69+1)<>MONTH(F69),"",F69+1)) | H69: =IF(G69="","",IF(MONTH(G69+1)<>MONTH(G69),"",G69+1)) | J69: =IF($P67="","",IF(MONTH($P67+1)<>MONTH($P67),"",$P67+1)) -> 43402 | K69: =IF(J69="","",IF(MONTH(J69+1)<>MONTH(J69),"",J69+1)) -> 43403 | L69: =IF(K69="","",IF(MONTH(K69+1)<>MONTH(K69),"",K69+1)) -> 43404 | M69: =IF(L69="","",IF(MONTH(L69+1)<>MONTH(L69),"",L69+1)) | N69: =IF(M69="","",IF(MONTH(M69+1)<>MONTH(M69),"",M69+1)) | O69: =IF(N69="","",IF(MONTH(N69+1)<>MONTH(N69),"",N69+1)) | P69: =IF(O69="","",IF(MONTH(O69+1)<>MONTH(O69),"",O69+1))
B70: =IF(B69="","",INDEX(Cycle,MOD(B69-Deb,Cycle!$C$11)+1)) -> PM | C70: =IF(C69="","",INDEX(Cycle,MOD(C69-Deb,Cycle!$C$11)+1)) -> PM | D70: =IF(D69="","",INDEX(Cycle,MOD(D69-Deb,Cycle!$C$11)+1)) | E70: =IF(E69="","",INDEX(Cycle,MOD(E69-Deb,Cycle!$C$11)+1)) | F70: =IF(F69="","",INDEX(Cycle,MOD(F69-Deb,Cycle!$C$11)+1)) | G70: =IF(G69="","",INDEX(Cycle,MOD(G69-Deb,Cycle!$C$11)+1)) | H70: =IF(H69="","",INDEX(Cycle,MOD(H69-Deb,Cycle!$C$11)+1)) | J70: =IF(J69="","",INDEX(Cycle,MOD(J69-Deb,Cycle!$C$11)+1)) -> PM | K70: =IF(K69="","",INDEX(Cycle,MOD(K69-Deb,Cycle!$C$11)+1)) -> PM | L70: =IF(L69="","",INDEX(Cycle,MOD(L69-Deb,Cycle!$C$11)+1)) -> N | M70: =IF(M69="","",INDEX(Cycle,MOD(M69-Deb,Cycle!$C$11)+1)) | N70: =IF(N69="","",INDEX(Cycle,MOD(N69-Deb,Cycle!$C$11)+1)) | O70: =IF(O69="","",INDEX(Cycle,MOD(O69-Deb,Cycle!$C$11)+1)) | P70: =IF(P69="","",INDEX(Cycle,MOD(P69-Deb,Cycle!$C$11)+1))
D72: =EDATE(D44,4) -> 43405 | L72: =EDATE(D44,5) -> 43435
B74: =D72 -> 43405 | C74: =B74+1 -> 43406 | D74: =C74+1 -> 43407 | E74: =D74+1 -> 43408 | F74: =E74+1 -> 43409 | G74: =F74+1 -> 43410 | H74: =G74+1 -> 43411 | J74: =L72 -> 43435 | K74: =J74+1 -> 43436 | L74: =K74+1 -> 43437 | M74: =L74+1 -> 43438 | N74: =M74+1 -> 43439 | O74: =N74+1 -> 43440 | P74: =O74+1 -> 43441
A75: =B75 -> 43405 | B75: =B74 -> 43405 | C75: =IF(B75="","",IF(MONTH(B75+1)<>MONTH(B75),"",B75+1)) -> 43406 | D75: =IF(C75="","",IF(MONTH(C75+1)<>MONTH(C75),"",C75+1)) -> 43407 | E75: =IF(D75="","",IF(MONTH(D75+1)<>MONTH(D75),"",D75+1)) -> 43408 | F75: =IF(E75="","",IF(MONTH(E75+1)<>MONTH(E75),"",E75+1)) -> 43409 | G75: =IF(F75="","",IF(MONTH(F75+1)<>MONTH(F75),"",F75+1)) -> 43410 | H75: =IF(G75="","",IF(MONTH(G75+1)<>MONTH(G75),"",G75+1)) -> 43411 | J75: =J74 -> 43435 | K75: =IF(J75="","",IF(MONTH(J75+1)<>MONTH(J75),"",J75+1)) -> 43436 | L75: =IF(K75="","",IF(MONTH(K75+1)<>MONTH(K75),"",K75+1)) -> 43437 | M75: =IF(L75="","",IF(MONTH(L75+1)<>MONTH(L75),"",L75+1)) -> 43438 | N75: =IF(M75="","",IF(MONTH(M75+1)<>MONTH(M75),"",M75+1)) -> 43439 | O75: =IF(N75="","",IF(MONTH(N75+1)<>MONTH(N75),"",N75+1)) -> 43440 | P75: =IF(O75="","",IF(MONTH(O75+1)<>MONTH(O75),"",O75+1)) -> 43441
B76: =IF(B75="","",INDEX(Cycle,MOD(B75-Deb,Cycle!$C$11)+1)) -> N | C76: =IF(C75="","",INDEX(Cycle,MOD(C75-Deb,Cycle!$C$11)+1)) -> R | D76: =IF(D75="","",INDEX(Cycle,MOD(D75-Deb,Cycle!$C$11)+1)) -> R | E76: =IF(E75="","",INDEX(Cycle,MOD(E75-Deb,Cycle!$C$11)+1)) -> R | F76: =IF(F75="","",INDEX(Cycle,MOD(F75-Deb,Cycle!$C$11)+1)) -> R | G76: =IF(G75="","",INDEX(Cycle,MOD(G75-Deb,Cycle!$C$11)+1)) -> AM | H76: =IF(H75="","",INDEX(Cycle,MOD(H75-Deb,Cycle!$C$11)+1)) -> AM | J76: =IF(J75="","",INDEX(Cycle,MOD(J75-Deb,Cycle!$C$11)+1)) -> N | K76: =IF(K75="","",INDEX(Cycle,MOD(K75-Deb,Cycle!$C$11)+1)) -> R | L76: =IF(L75="","",INDEX(Cycle,MOD(L75-Deb,Cycle!$C$11)+1)) -> R | M76: =IF(M75="","",INDEX(Cycle,MOD(M75-Deb,Cycle!$C$11)+1)) -> R | N76: =IF(N75="","",INDEX(Cycle,MOD(N75-Deb,Cycle!$C$11)+1)) -> R | O76: =IF(O75="","",INDEX(Cycle,MOD(O75-Deb,Cycle!$C$11)+1)) -> AM | P76: =IF(P75="","",INDEX(Cycle,MOD(P75-Deb,Cycle!$C$11)+1)) -> AM
A77: =B77 -> 43412 | B77: =IF($H75="","",IF(MONTH($H75+1)<>MONTH($H75),"",$H75+1)) -> 43412 | C77: =IF(B77="","",IF(MONTH(B77+1)<>MONTH(B77),"",B77+1)) -> 43413 | D77: =IF(C77="","",IF(MONTH(C77+1)<>MONTH(C77),"",C77+1)) -> 43414 | E77: =IF(D77="","",IF(MONTH(D77+1)<>MONTH(D77),"",D77+1)) -> 43415 | F77: =IF(E77="","",IF(MONTH(E77+1)<>MONTH(E77),"",E77+1)) -> 43416 | G77: =IF(F77="","",IF(MONTH(F77+1)<>MONTH(F77),"",F77+1)) -> 43417 | H77: =IF(G77="","",IF(MONTH(G77+1)<>MONTH(G77),"",G77+1)) -> 43418 | J77: =IF($P75="","",IF(MONTH($P75+1)<>MONTH($P75),"",$P75+1)) -> 43442 | K77: =IF(J77="","",IF(MONTH(J77+1)<>MONTH(J77),"",J77+1)) -> 43443 | L77: =IF(K77="","",IF(MONTH(K77+1)<>MONTH(K77),"",K77+1)) -> 43444 | M77: =IF(L77="","",IF(MONTH(L77+1)<>MONTH(L77),"",L77+1)) -> 43445 | N77: =IF(M77="","",IF(MONTH(M77+1)<>MONTH(M77),"",M77+1)) -> 43446 | O77: =IF(N77="","",IF(MONTH(N77+1)<>MONTH(N77),"",N77+1)) -> 43447 | P77: =IF(O77="","",IF(MONTH(O77+1)<>MONTH(O77),"",O77+1)) -> 43448
B78: =IF(B77="","",INDEX(Cycle,MOD(B77-Deb,Cycle!$C$11)+1)) -> PM | C78: =IF(C77="","",INDEX(Cycle,MOD(C77-Deb,Cycle!$C$11)+1)) -> PM | D78: =IF(D77="","",INDEX(Cycle,MOD(D77-Deb,Cycle!$C$11)+1)) -> N | E78: =IF(E77="","",INDEX(Cycle,MOD(E77-Deb,Cycle!$C$11)+1)) -> N | F78: =IF(F77="","",INDEX(Cycle,MOD(F77-Deb,Cycle!$C$11)+1)) -> R | G78: =IF(G77="","",INDEX(Cycle,MOD(G77-Deb,Cycle!$C$11)+1)) -> R | H78: =IF(H77="","",INDEX(Cycle,MOD(H77-Deb,Cycle!$C$11)+1)) -> R | J78: =IF(J77="","",INDEX(Cycle,MOD(J77-Deb,Cycle!$C$11)+1)) -> PM | K78: =IF(K77="","",INDEX(Cycle,MOD(K77-Deb,Cycle!$C$11)+1)) -> PM | L78: =IF(L77="","",INDEX(Cycle,MOD(L77-Deb,Cycle!$C$11)+1)) -> N | M78: =IF(M77="","",INDEX(Cycle,MOD(M77-Deb,Cycle!$C$11)+1)) -> N | N78: =IF(N77="","",INDEX(Cycle,MOD(N77-Deb,Cycle!$C$11)+1)) -> R | O78: =IF(O77="","",INDEX(Cycle,MOD(O77-Deb,Cycle!$C$11)+1)) -> R | P78: =IF(P77="","",INDEX(Cycle,MOD(P77-Deb,Cycle!$C$11)+1)) -> R
B79: =IF($H77="","",IF(MONTH($H77+1)<>MONTH($H77),"",$H77+1)) -> 43419 | C79: =IF(B79="","",IF(MONTH(B79+1)<>MONTH(B79),"",B79+1)) -> 43420 | D79: =IF(C79="","",IF(MONTH(C79+1)<>MONTH(C79),"",C79+1)) -> 43421 | E79: =IF(D79="","",IF(MONTH(D79+1)<>MONTH(D79),"",D79+1)) -> 43422 | F79: =IF(E79="","",IF(MONTH(E79+1)<>MONTH(E79),"",E79+1)) -> 43423 | G79: =IF(F79="","",IF(MONTH(F79+1)<>MONTH(F79),"",F79+1)) -> 43424 | H79: =IF(G79="","",IF(MONTH(G79+1)<>MONTH(G79),"",G79+1)) -> 43425 | J79: =IF($P77="","",IF(MONTH($P77+1)<>MONTH($P77),"",$P77+1)) -> 43449 | K79: =IF(J79="","",IF(MONTH(J79+1)<>MONTH(J79),"",J79+1)) -> 43450 | L79: =IF(K79="","",IF(MONTH(K79+1)<>MONTH(K79),"",K79+1)) -> 43451 | M79: =IF(L79="","",IF(MONTH(L79+1)<>MONTH(L79),"",L79+1)) -> 43452 | N79: =IF(M79="","",IF(MONTH(M79+1)<>MONTH(M79),"",M79+1)) -> 43453 | O79: =IF(N79="","",IF(MONTH(N79+1)<>MONTH(N79),"",N79+1)) -> 43454 | P79: =IF(O79="","",IF(MONTH(O79+1)<>MONTH(O79),"",O79+1)) -> 43455
B80: =IF(B79="","",INDEX(Cycle,MOD(B79-Deb,Cycle!$C$11)+1)) -> R | C80: =IF(C79="","",INDEX(Cycle,MOD(C79-Deb,Cycle!$C$11)+1)) -> AM | D80: =IF(D79="","",INDEX(Cycle,MOD(D79-Deb,Cycle!$C$11)+1)) -> AM | E80: =IF(E79="","",INDEX(Cycle,MOD(E79-Deb,Cycle!$C$11)+1)) -> PM | F80: =IF(F79="","",INDEX(Cycle,MOD(F79-Deb,Cycle!$C$11)+1)) -> PM | G80: =IF(G79="","",INDEX(Cycle,MOD(G79-Deb,Cycle!$C$11)+1)) -> N | H80: =IF(H79="","",INDEX(Cycle,MOD(H79-Deb,Cycle!$C$11)+1)) -> N | J80: =IF(J79="","",INDEX(Cycle,MOD(J79-Deb,Cycle!$C$11)+1)) -> R | K80: =IF(K79="","",INDEX(Cycle,MOD(K79-Deb,Cycle!$C$11)+1)) -> AM | L80: =IF(L79="","",INDEX(Cycle,MOD(L79-Deb,Cycle!$C$11)+1)) -> AM | M80: =IF(M79="","",INDEX(Cycle,MOD(M79-Deb,Cycle!$C$11)+1)) -> PM | N80: =IF(N79="","",INDEX(Cycle,MOD(N79-Deb,Cycle!$C$11)+1)) -> PM | O80: =IF(O79="","",INDEX(Cycle,MOD(O79-Deb,Cycle!$C$11)+1)) -> N | P80: =IF(P79="","",INDEX(Cycle,MOD(P79-Deb,Cycle!$C$11)+1)) -> N
B81: =IF($H79="","",IF(MONTH($H79+1)<>MONTH($H79),"",$H79+1)) -> 43426 | C81: =IF(B81="","",IF(MONTH(B81+1)<>MONTH(B81),"",B81+1)) -> 43427 | D81: =IF(C81="","",IF(MONTH(C81+1)<>MONTH(C81),"",C81+1)) -> 43428 | E81: =IF(D81="","",IF(MONTH(D81+1)<>MONTH(D81),"",D81+1)) -> 43429 | F81: =IF(E81="","",IF(MONTH(E81+1)<>MONTH(E81),"",E81+1)) -> 43430 | G81: =IF(F81="","",IF(MONTH(F81+1)<>MONTH(F81),"",F81+1)) -> 43431 | H81: =IF(G81="","",IF(MONTH(G81+1)<>MONTH(G81),"",G81+1)) -> 43432 | J81: =IF($P79="","",IF(MONTH($P79+1)<>MONTH($P79),"",$P79+1)) -> 43456 | K81: =IF(J81="","",IF(MONTH(J81+1)<>MONTH(J81),"",J81+1)) -> 43457 | L81: =IF(K81="","",IF(MONTH(K81+1)<>MONTH(K81),"",K81+1)) -> 43458 | M81: =IF(L81="","",IF(MONTH(L81+1)<>MONTH(L81),"",L81+1)) -> 43459 | N81: =IF(M81="","",IF(MONTH(M81+1)<>MONTH(M81),"",M81+1)) -> 43460 | O81: =IF(N81="","",IF(MONTH(N81+1)<>MONTH(N81),"",N81+1)) -> 43461 | P81: =IF(O81="","",IF(MONTH(O81+1)<>MONTH(O81),"",O81+1)) -> 43462
B82: =IF(B81="","",INDEX(Cycle,MOD(B81-Deb,Cycle!$C$11)+1)) -> R | C82: =IF(C81="","",INDEX(Cycle,MOD(C81-Deb,Cycle!$C$11)+1)) -> R | D82: =IF(D81="","",INDEX(Cycle,MOD(D81-Deb,Cycle!$C$11)+1)) -> R | E82: =IF(E81="","",INDEX(Cycle,MOD(E81-Deb,Cycle!$C$11)+1)) -> R | F82: =IF(F81="","",INDEX(Cycle,MOD(F81-Deb,Cycle!$C$11)+1)) -> AM | G82: =IF(G81="","",INDEX(Cycle,MOD(G81-Deb,Cycle!$C$11)+1)) -> AM | H82: =IF(H81="","",INDEX(Cycle,MOD(H81-Deb,Cycle!$C$11)+1)) -> PM | J82: =IF(J81="","",INDEX(Cycle,MOD(J81-Deb,Cycle!$C$11)+1)) -> R | K82: =IF(K81="","",INDEX(Cycle,MOD(K81-Deb,Cycle!$C$11)+1)) -> R | L82: =IF(L81="","",INDEX(Cycle,MOD(L81-Deb,Cycle!$C$11)+1)) -> R | M82: =IF(M81="","",INDEX(Cycle,MOD(M81-Deb,Cycle!$C$11)+1)) -> R | N82: =IF(N81="","",INDEX(Cycle,MOD(N81-Deb,Cycle!$C$11)+1)) -> AM | O82: =IF(O81="","",INDEX(Cycle,MOD(O81-Deb,Cycle!$C$11)+1)) -> AM | P82: =IF(P81="","",INDEX(Cycle,MOD(P81-Deb,Cycle!$C$11)+1)) -> PM
B83: =IF($H81="","",IF(MONTH($H81+1)<>MONTH($H81),"",$H81+1)) -> 43433 | C83: =IF(B83="","",IF(MONTH(B83+1)<>MONTH(B83),"",B83+1)) -> 43434 | D83: =IF(C83="","",IF(MONTH(C83+1)<>MONTH(C83),"",C83+1)) | E83: =IF(D83="","",IF(MONTH(D83+1)<>MONTH(D83),"",D83+1)) | F83: =IF(E83="","",IF(MONTH(E83+1)<>MONTH(E83),"",E83+1)) | G83: =IF(F83="","",IF(MONTH(F83+1)<>MONTH(F83),"",F83+1)) | H83: =IF(G83="","",IF(MONTH(G83+1)<>MONTH(G83),"",G83+1)) | J83: =IF($P81="","",IF(MONTH($P81+1)<>MONTH($P81),"",$P81+1)) -> 43463 | K83: =IF(J83="","",IF(MONTH(J83+1)<>MONTH(J83),"",J83+1)) -> 43464 | L83: =IF(K83="","",IF(MONTH(K83+1)<>MONTH(K83),"",K83+1)) -> 43465 | M83: =IF(L83="","",IF(MONTH(L83+1)<>MONTH(L83),"",L83+1)) | N83: =IF(M83="","",IF(MONTH(M83+1)<>MONTH(M83),"",M83+1)) | O83: =IF(N83="","",IF(MONTH(N83+1)<>MONTH(N83),"",N83+1)) | P83: =IF(O83="","",IF(MONTH(O83+1)<>MONTH(O83),"",O83+1))
B84: =IF(B83="","",INDEX(Cycle,MOD(B83-Deb,Cycle!$C$11)+1)) -> PM | C84: =IF(C83="","",INDEX(Cycle,MOD(C83-Deb,Cycle!$C$11)+1)) -> N | D84: =IF(D83="","",INDEX(Cycle,MOD(D83-Deb,Cycle!$C$11)+1)) | E84: =IF(E83="","",INDEX(Cycle,MOD(E83-Deb,Cycle!$C$11)+1)) | F84: =IF(F83="","",INDEX(Cycle,MOD(F83-Deb,Cycle!$C$11)+1)) | G84: =IF(G83="","",INDEX(Cycle,MOD(G83-Deb,Cycle!$C$11)+1)) | H84: =IF(H83="","",INDEX(Cycle,MOD(H83-Deb,Cycle!$C$11)+1)) | J84: =IF(J83="","",INDEX(Cycle,MOD(J83-Deb,Cycle!$C$11)+1)) -> PM | K84: =IF(K83="","",INDEX(Cycle,MOD(K83-Deb,Cycle!$C$11)+1)) -> N | L84: =IF(L83="","",INDEX(Cycle,MOD(L83-Deb,Cycle!$C$11)+1)) -> N | M84: =IF(M83="","",INDEX(Cycle,MOD(M83-Deb,Cycle!$C$11)+1)) | N84: =IF(N83="","",INDEX(Cycle,MOD(N83-Deb,Cycle!$C$11)+1)) | O84: =IF(O83="","",INDEX(Cycle,MOD(O83-Deb,Cycle!$C$11)+1)) | P84: =IF(P83="","",INDEX(Cycle,MOD(P83-Deb,Cycle!$C$11)+1))

Sheet Cycle
B1: Cycle | F1: MOIS | H1: ANNEES | K1: NOMS DEFINIS
B2: AM | C2: 1 | F2: =DATE(An,1,1) -> 43101 | H2: 2017 | K2: An | L2: =Feuil1!$A$1
B3: PM | C3: 2 | F3: fevrier | H3: 2018 | K3: ANNEES | L3: =Cycle!$H$2:$H$9
B4: PM | C4: 3 | F4: mars | H4: 2019 | K4: Cycle | L4: =Cycle!B2:B11 -> PM
B5: N | C5: 4 | F5: avril | H5: 2020 | K5: Deb | L5: =Feuil1!$A$2
B6: N | C6: 5 | F6: mai | H6: 2021 | K6: MOIS | L6: =Cycle!$F$2:$F$13 -> mai
B7: R | C7: 6 | F7: juin | H7: 2022
B8: R | C8: 7 | F8: juillet | H8: 2023
B9: R | C9: 8 | F9: aout | H9: 2024
B10: R | C10: 9 | F10: septembre
B11: AM | C11: 10 | F11: octobre
F12: novembre
F13: decembre
