Workbook

Sheet Feuil3
A3: Nombre de NOM | B3: sexe
A4: AGE | B4: femme | C4: homme | D4: Total général
A5: 22-26 | B5: 1 | D5: 1
A6: 27-31 | C6: 2 | D6: 2
A7: 32-36 | B7: 1 | D7: 1
A8: 37-41 | B8: 1 | C8: 2 | D8: 3
A9: 42-46 | B9: 3 | D9: 3
A10: 47-51 | B10: 2 | C10: 3 | D10: 5
A11: 52-56 | B11: 1 | C11: 4 | D11: 5
A12: Total général | B12: 9 | C12: 11 | D12: 20

Sheet Feuil2
A3: Nombre de NOM | B3: Étiquettes de colonnes
A4: Étiquettes de lignes | B4: femme | C4: homme | D4: Total général
A5: 22-26 | B5: 1 | D5: 1
A6: 27-31 | C6: 2 | D6: 2
A7: 32-36 | B7: 1 | D7: 1
A8: 37-41 | B8: 1 | C8: 2 | D8: 3
A9: 42-46 | B9: 3 | D9: 3
A10: 47-51 | B10: 2 | C10: 3 | D10: 5
A11: 52-56 | B11: 1 | C11: 4 | D11: 5
A12: Total général | B12: 9 | C12: 11 | D12: 20

Sheet Feuil4
A3: Nombre de NOM | B3: Étiquettes de colonnes
A4: Age par groupe | B4: femme | C4: homme | D4: Total
A5: GA | B5: 4 | C5: 6 | D5: 10
A6: 28 | C6: 1 | D6: 1
A7: 34 | B7: 1 | D7: 1
A8: 44 | B8: 1 | D8: 1
A9: 50 | C9: 2 | D9: 2
A10: 55 | C10: 1 | D10: 1
A11: 39 | C11: 2 | D11: 2
A12: 37 | B12: 1 | D12: 1
A13: 22 | B13: 1 | D13: 1
A14: GB | B14: 5 | C14: 5 | D14: 10
A15: 28 | C15: 1 | D15: 1
A16: 44 | B16: 2 | D16: 2
A17: 48 | B17: 1 | C17: 1 | D17: 2
A18: 50 | B18: 1 | D18: 1
A19: 52 | C19: 2 | D19: 2
A20: 53 | B20: 1 | D20: 1
A21: 54 | C21: 1 | D21: 1
A22: Total | B22: 9 | C22: 11 | D22: 20

Sheet base de données
A1: NOM | B1: sexe | C1: date de naisssance | D1: AGE | E1: Groupes
A2: nom1 | B2: femme | C2: 29299 | D2: =DATEDIF(C2,"31/08/2014","y") -> 34 | E2: GA
A3: nom2 | B3: femme | C3: 25496 | D3: =DATEDIF(C3,"31/08/2014","y") -> 44 | E3: GA
A4: nom3 | B4: homme | C4: 23555 | D4: =DATEDIF(C4,"31/08/2014","y") -> 50 | E4: GA
A5: nom4 | B5: homme | C5: 31650 | D5: =DATEDIF(C5,"31/08/2014","y") -> 28 | E5: GA
A6: nom5 | B6: homme | C6: 27314 | D6: =DATEDIF(C6,"31/08/2014","y") -> 39 | E6: GA
A7: nom6 | B7: homme | C7: 27344 | D7: =DATEDIF(C7,"31/08/2014","y") -> 39 | E7: GA
A8: nom7 | B8: femme | C8: 33641 | D8: =DATEDIF(C8,"31/08/2014","y") -> 22 | E8: GA
A9: nom8 | B9: femme | C9: 28188 | D9: =DATEDIF(C9,"31/08/2014","y") -> 37 | E9: GA
A10: nom9 | B10: homme | C10: 23444 | D10: =DATEDIF(C10,"31/08/2014","y") -> 50 | E10: GA
A11: nom10 | B11: homme | C11: 21716 | D11: =DATEDIF(C11,"31/08/2014","y") -> 55 | E11: GA
A12: nom11 | B12: femme | C12: 25551 | D12: =DATEDIF(C12,"31/08/2014","y") -> 44 | E12: GB
A13: nom12 | B13: femme | C13: 23376 | D13: =DATEDIF(C13,"31/08/2014","y") -> 50 | E13: GB
... A21: nom20 | B21: homme | C21: 24055 | D21: =DATEDIF(C21,"31/08/2014","y") -> 48 | E21: GB
D22: =AVERAGE(D2:D21) -> 43.55

Sheet TCD pyramide
A3: Nombre de NOM | B3: sexe
A4: AGE | B4: femme | C4: homme
A5: 22-26 | B5: 1
A6: 27-31 | C6: 2
A7: 32-36 | B7: 1
A8: 37-41 | B8: 1 | C8: 2
A9: 42-46 | B9: 3
A10: 47-51 | B10: 2 | C10: 3
A11: 52-56 | B11: 1 | C11: 4
A12: Total général | B12: 9 | C12: 11

Sheet pyramide
B2: ='TCD pyramide'!A4 -> AGE | C2: ='TCD pyramide'!B4 -> femme | D2: ='TCD pyramide'!C4 -> homme
B3: ='TCD pyramide'!A5&" ans" -> 22-26 ans | C3: =-'TCD pyramide'!B5 -> -1 | D3: ='TCD pyramide'!C5 -> 0
B4: ='TCD pyramide'!A6&" ans" -> 27-31 ans | C4: =-'TCD pyramide'!B6 -> 0 | D4: ='TCD pyramide'!C6 -> 2
B5: ='TCD pyramide'!A7&" ans" -> 32-36 ans | C5: =-'TCD pyramide'!B7 -> -1 | D5: ='TCD pyramide'!C7 -> 0
B6: ='TCD pyramide'!A8&" ans" -> 37-41 ans | C6: =-'TCD pyramide'!B8 -> -1 | D6: ='TCD pyramide'!C8 -> 2
B7: ='TCD pyramide'!A9&" ans" -> 42-46 ans | C7: =-'TCD pyramide'!B9 -> -3 | D7: ='TCD pyramide'!C9 -> 0
B8: ='TCD pyramide'!A10&" ans" -> 47-51 ans | C8: =-'TCD pyramide'!B10 -> -2 | D8: ='TCD pyramide'!C10 -> 3
B9: ='TCD pyramide'!A11&" ans" -> 52-56 ans | C9: =-'TCD pyramide'!B11 -> -1 | D9: ='TCD pyramide'!C11 -> 4

Sheet Feuil1
