Workbook

Sheet Feuil1
B1: Demandeurs d'emplois
B2: Par âge | E2: Par formation
B3: Age | C3: Total | D3: Invalides | E3: Niveau | F3: Total | G3: Invalides
B4: < à 25 ans | C4: 714812 | D4: 12676 | E4: < CAP/BEP | F4: 834739 | G4: 101604
B5: 25 à 29 ans | C5: 622270 | D5: 19622 | E5: CAP/BEP | F5: 1458681 | G5: 128027
B6: 30 à 39 ans | C6: 1126983 | D6: 68790 | E6: BAC | F6: 726203 | G6: 30783
B7: 40 à 49 ans | C7: 885019 | D7: 97316 | E7: > BAC | F7: 887379 | G7: 18891
B8: > à 50 ans | C8: 598742 | D8: 81351 | E8: non précisé | F8: 40824 | G8: 450
B9: Total | C9: =SUM(C4:C8) -> 3947826 | D9: =SUM(D4:D8) -> 279755 | E9: Total | F9: =SUM(F4:F8) -> 3947826 | G9: =SUM(G4:G8) -> 279755
B11: Demandeurs d'emplois invalides par tranches d'âge
B12: =B4 -> < à 25 ans | C12: =D4/$D$9 -> 0.045311076 | D12: =C12 -> 0.045311076 | G12: % cumulé
B13: =B5 -> 25 à 29 ans | C13: =D5/$D$9 -> 0.070139944 | D13: =D12+C13 -> 0.11545102 | G13: Total Invalides
B14: =B6 -> 30 à 39 ans | C14: =D6/$D$9 -> 0.24589373 | D14: =D13+C14 -> 0.36134475
B15: =B7 -> 40 à 49 ans | C15: =D7/$D$9 -> 0.34786152 | D15: =D14+C15 -> 0.70920627
B16: =B8 -> > à 50 ans | C16: =D8/$D$9 -> 0.29079373 | D16: =D15+C16 -> 1
B17: =B9 -> Total | C17: =SUM(C12:C16) -> 1
B18: Demandeurs d'emplois invalides par formation
B19: =E4 -> < CAP/BEP | C19: =G4/$G$9 -> 0.36318922 | D19: =C19 -> 0.36318922
B20: =E5 -> CAP/BEP | C20: =G5/$G$9 -> 0.45763972 | D20: =D19+C20 -> 0.82082894
B21: =E6 -> BAC | C21: =G6/$G$9 -> 0.11003557 | D21: =D20+C21 -> 0.93086451
B22: =E7 -> > BAC | C22: =G7/$G$9 -> 0.067526943 | D22: =D21+C22 -> 0.99839145
B23: =E8 -> non précisé | C23: =G8/$G$9 -> 0.0016085503 | D23: =D22+C23 -> 1
B24: =E9 -> Total | C24: =SUM(C19:C23) -> 1

Sheet Feuil2
G4: =Feuil1!B3 -> Age | H4: =Feuil1!C3 -> Total | I4: =Feuil1!D3 -> Invalides | K4: =Feuil1!E3 -> Niveau | L4: =Feuil1!F3 -> Total | M4: =Feuil1!G3 -> Invalides
G5: =Feuil1!B4 -> < à 25 ans | H5: =Feuil1!C4 -> 714812 | I5: =Feuil1!D4 -> 12676 | K5: =Feuil1!E4 -> < CAP/BEP | L5: =Feuil1!F4 -> 834739 | M5: =Feuil1!G4 -> 101604
G6: =Feuil1!B5 -> 25 à 29 ans | H6: =Feuil1!C5 -> 622270 | I6: =Feuil1!D5 -> 19622 | K6: =Feuil1!E5 -> CAP/BEP | L6: =Feuil1!F5 -> 1458681 | M6: =Feuil1!G5 -> 128027
G7: =Feuil1!B6 -> 30 à 39 ans | H7: =Feuil1!C6 -> 1126983 | I7: =Feuil1!D6 -> 68790 | K7: =Feuil1!E6 -> BAC | L7: =Feuil1!F6 -> 726203 | M7: =Feuil1!G6 -> 30783
G8: =Feuil1!B7 -> 40 à 49 ans | H8: =Feuil1!C7 -> 885019 | I8: =Feuil1!D7 -> 97316 | K8: =Feuil1!E7 -> > BAC | L8: =Feuil1!F7 -> 887379 | M8: =Feuil1!G7 -> 18891
G9: =Feuil1!B8 -> > à 50 ans | H9: =Feuil1!C8 -> 598742 | I9: =Feuil1!D8 -> 81351 | K9: =Feuil1!E8 -> non précisé | L9: =Feuil1!F8 -> 40824 | M9: =Feuil1!G8 -> 450

Sheet Feuil3
