Workbook

Sheet commandes
A1: Référence mission | B1: Référence article | C1: Désignation | D1: Quantité | E1: Ordre caisse
A2: 289297 | B2: 0013000008HA00000 | C2: ECROU FREIN M8 | D2: 4 | E2: =INDEX('ordre des caisses'!$A$1:$A$52,MATCH(commandes!B2,'ordre des caisses'!$B$1:$B$52,0)) -> 20 | F2: =INDEX('ordre des caisses'!$A$1:$A$52;EQUIV(commandes!B2;'ordre des caisses'!$B$1:$B$52;0))
A3: 289297 | B3: 0013000010DA00000 | C3: RONDELLE M10 | D3: 4 | E3: =INDEX('ordre des caisses'!$A$1:$A$52,MATCH(commandes!B3,'ordre des caisses'!$B$1:$B$52,0)) -> 7
A4: 289297 | B4: 0013000816AB00000 | C4: VIS CHC 8X16 ZN | D4: 4 | E4: =INDEX('ordre des caisses'!$A$1:$A$52,MATCH(commandes!B4,'ordre des caisses'!$B$1:$B$52,0)) -> 31
A5: 289297 | B5: 0013006322FG00000 | C5: VIS AUTOFOREUSE 6.3X22 TETE BOMBEE | D5: 8 | E5: =INDEX('ordre des caisses'!$A$1:$A$52,MATCH(commandes!B5,'ordre des caisses'!$B$1:$B$52,0)) -> 19
A6: 289525 | B6: 0004000000J000000 | C6: GOUPILLE DE SECURITE | D6: 448 | E6: =INDEX('ordre des caisses'!$A$1:$A$52,MATCH(commandes!B6,'ordre des caisses'!$B$1:$B$52,0)) -> 30
A7: 289525 | B7: 0004000000J000000 | C7: GOUPILLE DE SECURITE | D7: 96 | E7: =INDEX('ordre des caisses'!$A$1:$A$52,MATCH(commandes!B7,'ordre des caisses'!$B$1:$B$52,0)) -> 30
A8: 289525 | B8: 0004000000J000000 | C8: GOUPILLE DE SECURITE | D8: 1000 | E8: =INDEX('ordre des caisses'!$A$1:$A$52,MATCH(commandes!B8,'ordre des caisses'!$B$1:$B$52,0)) -> 30
A9: 289525 | B9: 0004000000J000000 | C9: GOUPILLE DE SECURITE | D9: 96 | E9: =INDEX('ordre des caisses'!$A$1:$A$52,MATCH(commandes!B9,'ordre des caisses'!$B$1:$B$52,0)) -> 30
A10: 289525 | B10: 0004000000J000000 | C10: GOUPILLE DE SECURITE | D10: 720 | E10: =INDEX('ordre des caisses'!$A$1:$A$52,MATCH(commandes!B10,'ordre des caisses'!$B$1:$B$52,0)) -> 30
A11: 289525 | B11: 0004000000J000000 | C11: GOUPILLE DE SECURITE | D11: 676 | E11: =INDEX('ordre des caisses'!$A$1:$A$52,MATCH(commandes!B11,'ordre des caisses'!$B$1:$B$52,0)) -> 30
A12: 289525 | B12: 0013000006GA00000 | C12: ECROU M6 | D12: 189 | E12: =INDEX('ordre des caisses'!$A$1:$A$52,MATCH(commandes!B12,'ordre des caisses'!$B$1:$B$52,0)) -> 10
A13: 289525 | B13: 0013000006GA00000 | C13: ECROU M6 | D13: 81 | E13: =INDEX('ordre des caisses'!$A$1:$A$52,MATCH(commandes!B13,'ordre des caisses'!$B$1:$B$52,0)) -> 10
A14: 289525 | B14: 0013000006GA00000 | C14: ECROU M6 | D14: 522 | E14: =INDEX('ordre des caisses'!$A$1:$A$52,MATCH(commandes!B14,'ordre des caisses'!$B$1:$B$52,0)) -> 10
... A136: 292530 | B136: 0013000006GA00000 | C136: ECROU M6 | D136: 27 | E136: =INDEX('ordre des caisses'!$A$1:$A$52,MATCH(commandes!B136,'ordre des caisses'!$B$1:$B$52,0)) -> 10

Sheet ordre des caisses
A1: 1 | B1: 0013000410AC00000 | C1: VIS TF 4X10
A2: 2 | B2: 0013000516AC00000 | C2: VIS TF 5X16
A3: 3 | B3: 0013000413FA00000 | C3: VIS AUTO TH EMB PLATE 4.2X13
A4: 4 | B4: 0013004219FG00000 | C4: VIS AUTO 4.2X19 TETE BOMBEE ZN
A5: 5 | B5: 0013000620AD00000 | C5: VIS TRCC 6X20
A6: 6 | B6: 0013004860BG00000 | C6: VIS AUTO TH EMB PLATE 4.8X60
A7: 7 | B7: 0013000010DA00000 | C7: RONDELLE M10
A8: 8 | B8: AY28000000G000099 | C8: BRIDE GALVA
A9: 9 | B9: 0013000616AA00000 | C9: VIS HM 6X16
A10: 10 | B10: 0013000006GA00000 | C10: ECROU M6
A11: 11 | B11: 0013000645AD00000 | C11: VIS TRCC 6X45
A12: 12 | B12: 0013000006JA00000 | C12: ECROU BORGNE M6
... A52: 52 | B52: 0013000012HA00000 | C52: ECROU FREIN M12
